BEGIN:VCALENDAR
PRODID:brasil.gov.agenda
VERSION:1.0
BEGIN:VEVENT
DTSTART:20210330T200000Z
DTEND:20210330T204500Z
DCREATED:20210330T112739Z
UID:Compromisso-c117670797f84a74b569aca21f2b0259
SEQUENCE:0
LAST-MODIFIED:20210330T112739Z
SUMMARY:Atendimento à Veiculo de Imprensa
LOCATION:Videoconferencia
PRIORITY:3
TRANSP:0
END:VEVENT
END:VCALENDAR
