BEGIN:VCALENDAR
PRODID:brasil.gov.agenda
VERSION:1.0
BEGIN:VEVENT
DTSTART:20210222T180000Z
DTEND:20210222T030000Z
DCREATED:20210219T222527Z
UID:Compromisso-4d2aba3dce7743da9ba5a6dcffdffef9
SEQUENCE:0
LAST-MODIFIED:20210219T222527Z
SUMMARY:Despachos Internos
LOCATION:MInfra - 6º andar - Gabinete do Ministro
PRIORITY:3
TRANSP:0
END:VEVENT
END:VCALENDAR
