BEGIN:VCALENDAR
PRODID:brasil.gov.agenda
VERSION:1.0
BEGIN:VEVENT
DTSTART:20201005T130000Z
DTEND:20201005T140000Z
DCREATED:20201015T125232Z
UID:Compromisso-0fc84e0beea34dd19108be10f38f2509
SEQUENCE:0
LAST-MODIFIED:20201015T125232Z
SUMMARY:Reunião Balanço-Radar | Assessoria
LOCATION:Ministério da Infraestrutura. Brasília/DF
PRIORITY:3
TRANSP:0
END:VEVENT
END:VCALENDAR
