BEGIN:VCALENDAR
PRODID:brasil.gov.agenda
VERSION:1.0
BEGIN:VEVENT
DTSTART:20220711T130000Z
DTEND:20220711T140000Z
DCREATED:20220712T134627Z
UID:Compromisso-243b8bffeb884f8d81ee8de101ddca6b
SEQUENCE:0
LAST-MODIFIED:20220712T134628Z
SUMMARY:REUNIÃO COM CIAMA
LOCATION:MANAUS
PRIORITY:3
TRANSP:0
END:VEVENT
END:VCALENDAR
