BEGIN:VCALENDAR
PRODID:brasil.gov.agenda
VERSION:1.0
BEGIN:VEVENT
DTSTART:20220706T170000Z
DTEND:20220706T180000Z
DCREATED:20220704T133845Z
UID:Compromisso-448c90048d1d48b7915486d6e79721a3
SEQUENCE:0
LAST-MODIFIED:20220706T171429Z
SUMMARY:REUNIÃO - PROPOSTAS PARA INVESTIMENTO NA AMAZÔNIA (BID E SUFRAMA)
LOCATION:MANAUS
PRIORITY:3
TRANSP:0
END:VEVENT
END:VCALENDAR
