BEGIN:VCALENDAR
PRODID:brasil.gov.agenda
VERSION:1.0
BEGIN:VEVENT
DTSTART:20260414T130000Z
DTEND:20260414T030000Z
DCREATED:20260415T122820Z
UID:Compromisso-e004f0c42a1c46cf9390cf178661550f
SEQUENCE:0
LAST-MODIFIED:20260415T122820Z
SUMMARY:DICOL Sudam
LOCATION:Sala de Reunião Superintendente
PRIORITY:3
TRANSP:0
END:VEVENT
END:VCALENDAR
