BEGIN:VCALENDAR
PRODID:brasil.gov.agenda
VERSION:1.0
BEGIN:VEVENT
DTSTART:20220805T170000Z
DTEND:20220805T180000Z
DCREATED:20220808T203902Z
UID:Compromisso-b573b619eee7439e9eba8fe4647e62c5
SEQUENCE:0
LAST-MODIFIED:20220808T203938Z
SUMMARY:Reunião com SPRF-RO
LOCATION:PRF - Gabinete do Diretor-Geral
PRIORITY:3
TRANSP:0
END:VEVENT
END:VCALENDAR
