BEGIN:VCALENDAR
PRODID:brasil.gov.agenda
VERSION:1.0
BEGIN:VEVENT
DTSTART:20220517T143000Z
DTEND:20220517T150000Z
DCREATED:20220523T192537Z
UID:Compromisso-cad243fa4c414cf7ae154ee97752fb52
SEQUENCE:0
LAST-MODIFIED:20220523T192537Z
SUMMARY:Reunião Interna
LOCATION:PRF – Gabinete do Diretor-Geral
PRIORITY:3
TRANSP:0
END:VEVENT
END:VCALENDAR
