BEGIN:VCALENDAR
PRODID:brasil.gov.agenda
VERSION:1.0
BEGIN:VEVENT
DTSTART:20220517T200000Z
DTEND:20220517T210000Z
DCREATED:20220523T192843Z
UID:Compromisso-b17662f3fbf24d01af1217816817b8b8
SEQUENCE:0
LAST-MODIFIED:20220523T192843Z
SUMMARY:Reunião com Diretores
LOCATION:PRF – Gabinete do Diretor-Geral
PRIORITY:3
TRANSP:0
END:VEVENT
END:VCALENDAR
