BEGIN:VCALENDAR
PRODID:brasil.gov.agenda
VERSION:1.0
BEGIN:VEVENT
DTSTART:20260408T170000Z
DTEND:20260408T210000Z
DCREATED:20260408T173053Z
UID:Compromisso-610c5fefe69f4bea983700bdf420e06f
SEQUENCE:0
LAST-MODIFIED:20260408T173053Z
SUMMARY:Despacho Interno
LOCATION:Ministério da Fazenda
PRIORITY:3
TRANSP:0
END:VEVENT
END:VCALENDAR
