BEGIN:VCALENDAR
PRODID:brasil.gov.agenda
VERSION:1.0
BEGIN:VEVENT
DTSTART:20260407T110000Z
DTEND:20260407T150000Z
DCREATED:20260408T172903Z
UID:Compromisso-f5d7d7ecccf241a2969641c0172740dd
SEQUENCE:0
LAST-MODIFIED:20260408T172903Z
SUMMARY:Despacho Interno
LOCATION:Ministério da Fazenda
PRIORITY:3
TRANSP:0
END:VEVENT
END:VCALENDAR
