BEGIN:VCALENDAR
PRODID:brasil.gov.agenda
VERSION:1.0
BEGIN:VEVENT
DTSTART:20260211T140000Z
DTEND:20260211T150000Z
DCREATED:20260211T190802Z
UID:Compromisso-bb93b7d52a7d46a1aa60bc51c5129f22
SEQUENCE:0
LAST-MODIFIED:20260213T224625Z
SUMMARY:Reunião com João Prisco
LOCATION:Ministério da Fazenda
PRIORITY:3
TRANSP:0
END:VEVENT
END:VCALENDAR
