BEGIN:VCALENDAR
PRODID:brasil.gov.agenda
VERSION:1.0
BEGIN:VEVENT
DTSTART:20260220T110000Z
DTEND:20260220T150000Z
DCREATED:20260219T153033Z
UID:Compromisso-9481b63e83d3431da28c76b2c6a37191
SEQUENCE:0
LAST-MODIFIED:20260219T153033Z
SUMMARY:Despacho Interno
LOCATION:Ministério da Fazenda
PRIORITY:3
TRANSP:0
END:VEVENT
END:VCALENDAR
