BEGIN:VCALENDAR
PRODID:brasil.gov.agenda
VERSION:1.0
BEGIN:VEVENT
DTSTART:20250728T110000Z
DTEND:20250728T150000Z
DCREATED:20250729T195613Z
UID:Compromisso-00035093f9764d768730d2fd6396795b
SEQUENCE:0
LAST-MODIFIED:20250729T195613Z
SUMMARY:Despacho Interno
LOCATION:Ministério da Fazenda
PRIORITY:3
TRANSP:0
END:VEVENT
END:VCALENDAR
