BEGIN:VCALENDAR
PRODID:brasil.gov.agenda
VERSION:1.0
BEGIN:VEVENT
DTSTART:20260413T110000Z
DTEND:20260413T150000Z
DCREATED:20260413T215655Z
UID:Compromisso-ef0b607d53f540a4b564cda970240f36
SEQUENCE:0
LAST-MODIFIED:20260413T215655Z
SUMMARY:Despacho Interno
LOCATION:Ministério da Fazenda
PRIORITY:3
TRANSP:0
END:VEVENT
END:VCALENDAR
