BEGIN:VCALENDAR
PRODID:brasil.gov.agenda
VERSION:1.0
BEGIN:VEVENT
DTSTART:20260318T170000Z
DTEND:20260318T180000Z
DCREATED:20260317T220001Z
UID:Compromisso-a9ca2eb543a64725bdbec9db94ae6e7f
SEQUENCE:0
LAST-MODIFIED:20260318T144526Z
SUMMARY:Audiência  com Deputado Lucio Mosquini
LOCATION:Ministério da Fazenda
PRIORITY:3
TRANSP:0
END:VEVENT
END:VCALENDAR
