BEGIN:VCALENDAR
PRODID:brasil.gov.agenda
VERSION:1.0
BEGIN:VEVENT
DTSTART:20220223T183000Z
DTEND:20220223T190000Z
DCREATED:20220224T115751Z
UID:Compromisso-b5be7616599d41cda4cd002a4e2ee3d4
SEQUENCE:0
LAST-MODIFIED:20220224T115751Z
SUMMARY:Lançamento da Carteira de Identidade Nacional
LOCATION:Salão Nobre do Palácio do Planalto
PRIORITY:3
TRANSP:0
END:VEVENT
END:VCALENDAR
