BEGIN:VCALENDAR
PRODID:brasil.gov.agenda
VERSION:1.0
BEGIN:VEVENT
DTSTART:20211210T120000Z
DTEND:20211210T030000Z
DCREATED:20211210T195758Z
UID:Compromisso-e5b66d15a76a4d58bae43778ccc100c0
SEQUENCE:0
LAST-MODIFIED:20211210T195758Z
SUMMARY:Despachos Internos
LOCATION:Superintendência Regional da Polícia Federal em São Paulo
PRIORITY:3
TRANSP:0
END:VEVENT
END:VCALENDAR
