BEGIN:VCALENDAR
PRODID:brasil.gov.agenda
VERSION:1.0
BEGIN:VEVENT
DTSTART:20211209T120000Z
DTEND:20211209T030000Z
DCREATED:20211209T183732Z
UID:Compromisso-92292e1f964a4bc7b0ae702fe5c6a587
SEQUENCE:0
LAST-MODIFIED:20211209T183732Z
SUMMARY:Despachos Internos
LOCATION:Edifício Sede da Polícia Federal
PRIORITY:3
TRANSP:0
END:VEVENT
END:VCALENDAR
