BEGIN:VCALENDAR
PRODID:brasil.gov.agenda
VERSION:1.0
BEGIN:VEVENT
DTSTART:20211208T170000Z
DTEND:20211208T030000Z
DCREATED:20211209T183149Z
UID:Compromisso-08a3a65ffd2e47f2a92c8b6c36f88b11
SEQUENCE:0
LAST-MODIFIED:20211209T183149Z
SUMMARY:Despachos Internos
LOCATION:Edifício Sede da Polícia Federal
PRIORITY:3
TRANSP:0
END:VEVENT
END:VCALENDAR
