BEGIN:VCALENDAR
PRODID:brasil.gov.agenda
VERSION:1.0
BEGIN:VEVENT
DTSTART:20220429T120000Z
DTEND:20220429T210000Z
DCREATED:20220428T211834Z
UID:Compromisso-f1148e8db9084ac8a4cf14bc568689cd
SEQUENCE:0
LAST-MODIFIED:20220428T211834Z
SUMMARY:Despacho Interno
DESCRIPTION:Despachos Internos para tratar de Assuntos Administrativos
  do Ibram
PRIORITY:3
TRANSP:0
END:VEVENT
END:VCALENDAR
