BEGIN:VCALENDAR
PRODID:brasil.gov.agenda
VERSION:1.0
BEGIN:VEVENT
DTSTART:20220413T120000Z
DTEND:20220413T150000Z
DCREATED:20220413T124136Z
UID:Compromisso-bc57e926428742a6bd33dac6894d5129
SEQUENCE:0
LAST-MODIFIED:20220413T124136Z
SUMMARY:Evento Público
DESCRIPTION:Solenidade de transmissão da Direção do Patrimonio Hist
 órico e Cultural do Exército\, do General de Brigada\, Sr. Carlos Au
 gusto Ramires Teixeira para o General de Brigada\, Sr. Luciano Antonio
  Sibinel.
LOCATION:Palácio Duque de Caxias\, 9° andar – salão de honra\, Rio de Janeiro
PRIORITY:3
TRANSP:0
END:VEVENT
END:VCALENDAR
