{"text_format":"3","workbook":"xlsx","n_sheets":42,"sheets":["PGERAL (2)","PGERAL (3)","PQPEXMME","PQPSERVIDORES","DETALHEIDADE","PQPEXMMEDET","PQDEXMMEGRAF","PQESTAGIO","PEVOLUÇÃO","PEVGLOBAL","PEVSIT","PCOMISSÃO","NOMEADOSFUNÇÃO","PCOMID","PCOMUNIDADES","PCOMVUNITARIO","PCOMCUSTOS","PINDICADOR","PINDESCRI","PCO","PCOICO","PCOVD","PCOVCO","VDCATEGORIAFUNCIONAL","VDTEMPOSERVIÇO","VDGENERO","VDIDADE","VDESCOLARIDADE","VDNIVELCARGO","VDLOTAÇÃO","VDDESLIGAMENTO","VCOPLANEJAMENTOESTRATEGICO","VCOMOTIVAÇÃO","VCOLIDERANÇA","VCOEQUIPE","VCOSALARIO","VCORELACIONAMENTO","VCOQUALIDADEVIDA","VCOSOCIOAMBIENTAL","VCOCOMINICAÇÃO","VCOESTRUTURAFISICA","VCOPANDEMIA"],"not_rendered":{"charts":193,"images":24,"macros":1,"external_links":4,"defined_names":8},"read":"whole","date_system":"1900"}

{"sheet":"PGERAL (2)","index":0,"n_rows":21,"n_cols":10,"rows_kept":21,"merged":[[11,8,15,9],[13,10,15,12],[29,5,30,9],[29,10,30,12],[34,5,35,9],[34,10,35,12],[39,5,40,12],[43,5,44,9],[43,10,44,12]]}
{"$rows_empty":20}
[{"$nulls":9},""]

{"sheet":"PGERAL (3)","index":1,"n_rows":21,"n_cols":10,"rows_kept":21,"merged":[[11,8,15,9],[13,10,15,12],[29,5,30,9],[29,10,30,12],[34,5,35,9],[34,10,35,12],[39,5,40,12],[43,5,44,9],[43,10,44,12]]}
{"$rows_empty":20}
[{"$nulls":9},""]

{"sheet":"PQPEXMME","index":2,"n_rows":44,"n_cols":16,"rows_kept":44,"merged":[[11,12,15,13],[29,9,30,13],[29,14,30,16],[34,9,35,13],[34,14,35,16],[39,9,40,16],[43,9,44,13],[43,14,44,16]]}
{"$rows_empty":11}
[{"$nulls":12},"       CGRH/MME"]
{"$rows_empty":17}
[{"$nulls":9},"QUADRO DE PESSOAL EM EXERCÍCIO NO MME:",{"$nulls":4},{"$f":"[1]ATIVO!K16&\" servidores/empregados\"","v":"490 servidores/empregados"}]
[]
[]
[{"$nulls":11},"+"]
[]
[{"$nulls":9},"AGUARDANDO EXERCÍCIO",{"$nulls":4},{"$f":"[1]ATIVO!K17&\" servidores/empregados\"","v":"27 servidores/empregados"}]
[]
[]
[{"$nulls":11},"="]
[]
[{"$nulls":9},{"$f":"[1]ATIVO!K16+[1]ATIVO!K17&\" servidores/empregados em exercício no MME\"","v":"517 servidores/empregados em exercício no MME"},null,{"$f":"[2]ATIVO!C54+[2]ATIVO!C55&\" servidores/empregados\"","v":"0 servidores/empregados"},null,{"$f":"[2]ATIVO!E54+[2]ATIVO!E55&\" servidores/empregados\"","v":"0 servidores/empregados"},null,{"$f":"[2]ATIVO!G54+[2]ATIVO!G55&\" servidores/empregados\"","v":"8 servidores/empregados"}]
[]
[]
[]
[{"$nulls":9},"QUADRO DE PESSOAL GERAL DO MME:",{"$nulls":4},{"$f":"([1]GLOBAL!D17+[1]GLOBAL!F17+[1]GLOBAL!H17+[1]GLOBAL!J17+[1]GLOBAL!L17+[1]GLOBAL!N17+[1]GLOBAL!P17+[1]GLOBAL!R17)&\" servidores/empregados\"","v":"954 servidores/empregados"}]

{"sheet":"PQPSERVIDORES","index":3,"n_rows":532,"n_cols":9,"rows_kept":532,"merged":[[0,0,0,8]]}
["RELAÇÃO DE SERVIDORES/EMPREGADOS - EXERCÍCIO MME"]
[{"$f":"NOW()","v":"2020-11-05T17:54:43.780"}]
[{"$f":"[1]BASE!A6","v":"SERVIDOR/EMPREGADO"},{"$f":"[1]BASE!B6","v":"MATRÍCULA SIAPE"},{"$f":"[1]BASE!C6","v":"CARGO/EMPREGO"},{"$f":"[1]BASE!D6","v":"SITUAÇÃO FUNCIONAL"},{"$f":"[1]BASE!E6","v":"ORGÃO DE ORIGEM"},{"$f":"[1]BASE!F6","v":"FUNÇÃO"},{"$f":"[1]BASE!G6","v":"GRATIFICAÇÃO"},{"$f":"[1]BASE!H6","v":" UNIDADE DE EXERCÍCIO"},{"$f":"[1]BASE!I6","v":"CÓDIGO UNIDADE"}]
[{"$f":"[1]BASE!A7","v":"ABADIA RODRIGUES DA SILVA"},{"$f":"[1]BASE!B7","v":451653},{"$f":"[1]BASE!C7","v":"Datilógrafo"},{"$f":"[1]BASE!D7","v":"Ativo Permanente"},{"$f":"[1]BASE!E7","v":"MME - Ministério de Minas e Energia"},{"$f":"[1]BASE!F7","v":"FGR 1"},{"$f":"[1]BASE!G7","v":" "},{"$f":"[1]BASE!H7","v":"SPE / CHEFIA DE GABINETE SPE"},{"$f":"[1]BASE!I7","v":"10.100.000"}]
[{"$f":"[1]BASE!A8","v":"ABDON TAVARES REIS"},{"$f":"[1]BASE!B8","v":7129830},{"$f":"[1]BASE!C8","v":"Técnico de Orçamento"},{"$f":"[1]BASE!D8","v":"Exercício Descentralizado"},{"$f":"[1]BASE!E8","v":"ME - Ministério da Economia"},{"$f":"[1]BASE!F8","v":"FCPE 102.1"},{"$f":"[1]BASE!G8","v":" "},{"$f":"[1]BASE!H8","v":"SE / SPOA / CGOF / COORDENAÇÃO DE ADMINISTRAÇÃO FINANCEIRA -COAF"},{"$f":"[1]BASE!I8","v":"8.105.510"}]
[{"$f":"[1]BASE!A9","v":"ADAO MARTINS TEIXEIRA JUNIOR"},{"$f":"[1]BASE!B9","v":2280944},{"$f":"[1]BASE!C9","v":"Auxiliar Administrativo"},{"$f":"[1]BASE!D9","v":"Anistiado MME"},{"$f":"[1]BASE!E9","v":"MME - Ministério de Minas e Energia"},{"$f":"[1]BASE!F9","v":" "},{"$f":"[1]BASE!G9","v":" "},{"$f":"[1]BASE!H9","v":"SPE / DEPARTAMENTO DE PLANEJAMENTO ENERGÉTICO - DPE"},{"$f":"[1]BASE!I9","v":"10.101.000"}]
[{"$f":"[1]BASE!A10","v":"ADÍLIA EVANGELISTA DE SOUSA"},{"$f":"[1]BASE!B10","v":451457},{"$f":"[1]BASE!C10","v":"Agente Administrativo"},{"$f":"[1]BASE!D10","v":"Ativo Permanente"},{"$f":"[1]BASE!E10","v":"MME - Ministério de Minas e Energia"},{"$f":"[1]BASE!F10","v":"FCT 11"},{"$f":"[1]BASE!G10","v":" "},{"$f":"[1]BASE!H10","v":"SE / SPOA / CGRL / COORDENAÇÃO DE ADMINISTRAÇÃO DE MATERIAL E EXECUÇÃO FINANCEIRA - COMEF"},{"$f":"[1]BASE!I10","v":"8.105.110"}]
[{"$f":"[1]BASE!A11","v":"ADILSON DE MELO RAMOS"},{"$f":"[1]BASE!B11","v":451568},{"$f":"[1]BASE!C11","v":"Agente Administrativo"},{"$f":"[1]BASE!D11","v":"Ativo Permanente"},{"$f":"[1]BASE!E11","v":"MME - Ministério de Minas e Energia"},{"$f":"[1]BASE!F11","v":" "},{"$f":"[1]BASE!G11","v":"GSISTE Intermediário"},{"$f":"[1]BASE!H11","v":"SE / SPOA / COORDENAÇÃO GERAL DE RECURSOS LOGÍSTICOS - CGRL"},{"$f":"[1]BASE!I11","v":"8.105.100"}]
[{"$f":"[1]BASE!A12","v":"ADRIMAR VENANCIO DO NASCIMENTO"},{"$f":"[1]BASE!B12","v":5692188},{"$f":"[1]BASE!C12","v":"Analista de Infraestrutura"},{"$f":"[1]BASE!D12","v":"Exercício Descentralizado"},{"$f":"[1]BASE!E12","v":"ME - Ministério da Economia"},{"$f":"[1]BASE!F12","v":"DAS 101.4"},{"$f":"[1]BASE!G12","v":" "},{"$f":"[1]BASE!H12","v":"SEE / DGSE / COORDENAÇÃO GERAL DE GESTÃO DE PROGRAMAS E REGULAMENTAÇÃO"},{"$f":"[1]BASE!I12","v":"12.101.200"}]
[{"$f":"[1]BASE!A13","v":"AGDA LELES ZEDES"},{"$f":"[1]BASE!B13","v":1974215},{"$f":"[1]BASE!C13","v":"Analista de Infraestrutura"},{"$f":"[1]BASE!D13","v":"Exercício Descentralizado"},{"$f":"[1]BASE!E13","v":"ME - Ministério da Economia"},{"$f":"[1]BASE!F13","v":" "},{"$f":"[1]BASE!G13","v":" "},{"$f":"[1]BASE!H13","v":"SGM / DEPARTAMENTO DE GEOLOGIA E PRODUÇÃO MINERAL - DGPM"},{"$f":"[1]BASE!I13","v":"9.102.000"}]
[{"$f":"[1]BASE!A14","v":"AGNES MARIA DE ARAGAO DA COSTA"},{"$f":"[1]BASE!B14","v":3482731},{"$f":"[1]BASE!C14","v":"Especialista em Política Pública e Gestão Governamental"},{"$f":"[1]BASE!D14","v":"Exercício Descentralizado"},{"$f":"[1]BASE!E14","v":"ME - Ministério da Economia"},{"$f":"[1]BASE!F14","v":"DAS 101.5"},{"$f":"[1]BASE!G14","v":" "},{"$f":"[1]BASE!H14","v":"SE / ASSESSORIA ESPECIAL EM ASSUNTOS REGULATÓRIOS - AEREG"},{"$f":"[1]BASE!I14","v":"8.102.000"}]
[{"$f":"[1]BASE!A15","v":"AIDA MARIA RODRIGUES CORDEIRO"},{"$f":"[1]BASE!B15","v":2172526},{"$f":"[1]BASE!C15","v":"Escriturário III"},{"$f":"[1]BASE!D15","v":"Anistiado MME"},{"$f":"[1]BASE!E15","v":"MME - Ministério de Minas e Energia"},{"$f":"[1]BASE!F15","v":" "},{"$f":"[1]BASE!G15","v":" "},{"$f":"[1]BASE!H15","v":"Aguardando Lotação/Exercício"},{"$f":"[1]BASE!I15","v":"88.000.000"}]
[{"$f":"[1]BASE!A16","v":"AIRTON OLIVEIRA LIMA"},{"$f":"[1]BASE!B16","v":1466129},{"$f":"[1]BASE!C16","v":"Sem Cargo/Emprego"},{"$f":"[1]BASE!D16","v":"Sem Vínculo"},{"$f":"[1]BASE!E16","v":"Sem Vínculo"},{"$f":"[1]BASE!F16","v":"DAS 102.1"},{"$f":"[1]BASE!G16","v":" "},{"$f":"[1]BASE!H16","v":"SE / SPOA / CGRL / COORDENAÇÃO DE ATIVIDADES GERAIS - COAGE"},{"$f":"[1]BASE!I16","v":"8.105.120"}]
[{"$f":"[1]BASE!A17","v":"ALAN SAMPAIO SANTOS"},{"$f":"[1]BASE!B17","v":1310848},{"$f":"[1]BASE!C17","v":"Sem Cargo/Emprego"},{"$f":"[1]BASE!D17","v":"Sem Vínculo"},{"$f":"[1]BASE!E17","v":"Sem Vínculo"},{"$f":"[1]BASE!F17","v":"DAS 102.5"},{"$f":"[1]BASE!G17","v":" "},{"$f":"[1]BASE!H17","v":"ASSESSORIA ESPECIAL DE ACOMPANHAMENTO DE POLÍTICAS, ESTRATÉGIAS E DESEMPENHO SETORIAL - AEPED"},{"$f":"[1]BASE!I17","v":"4.000.000"}]
[{"$f":"[1]BASE!A18","v":"ALCIDEMES LIMA FRANCO"},{"$f":"[1]BASE!B18","v":454362},{"$f":"[1]BASE!C18","v":"Agente Administrativo"},{"$f":"[1]BASE!D18","v":"Ativo Permanente"},{"$f":"[1]BASE!E18","v":"MME - Ministério de Minas e Energia"},{"$f":"[1]BASE!F18","v":"FCPE 102.1"},{"$f":"[1]BASE!G18","v":"GSISTE Intermediário"},{"$f":"[1]BASE!H18","v":"GM / ASTAD / COORDENAÇÃO DE ATIVIDADES ADMINISTRATIVAS"},{"$f":"[1]BASE!I18","v":"2.100.101"}]
[{"$f":"[1]BASE!A19","v":"ALDAIDES CAVALCANTE MAGALHAES"},{"$f":"[1]BASE!B19","v":14800666},{"$f":"[1]BASE!C19","v":"Sem Cargo/Emprego"},{"$f":"[1]BASE!D19","v":"Sem Vínculo"},{"$f":"[1]BASE!E19","v":"Sem Vínculo"},{"$f":"[1]BASE!F19","v":"DAS 102.2"},{"$f":"[1]BASE!G19","v":" "},{"$f":"[1]BASE!H19","v":"SEE / CHEFIA DE GABINETE SEE"},{"$f":"[1]BASE!I19","v":"12.100.000"}]
[{"$f":"[1]BASE!A20","v":"ALDINEA DO CARMO CORDEIRO NOGUEIRA"},{"$f":"[1]BASE!B20","v":1771716},{"$f":"[1]BASE!C20","v":"Sem Cargo/Emprego"},{"$f":"[1]BASE!D20","v":"Sem Vínculo"},{"$f":"[1]BASE!E20","v":"Sem Vínculo"},{"$f":"[1]BASE!F20","v":"DAS 102.2"},{"$f":"[1]BASE!G20","v":" "},{"$f":"[1]BASE!H20","v":"SE / CHEFIA DE GABINETE SE"},{"$f":"[1]BASE!I20","v":"8.100.000"}]
[{"$f":"[1]BASE!A21","v":"ALDO BARROSO CORES JUNIOR"},{"$f":"[1]BASE!B21","v":2660765},{"$f":"[1]BASE!C21","v":"Analista de Infraestrutura"},{"$f":"[1]BASE!D21","v":"Exercício Descentralizado"},{"$f":"[1]BASE!E21","v":"ME - Ministério da Economia"},{"$f":"[1]BASE!F21","v":"DAS 101.4"},{"$f":"[1]BASE!G21","v":" "},{"$f":"[1]BASE!H21","v":"SPG / DGN / COORDENAÇÃO GERAL DE PROCESSAMENTO DE INFRAESTRUTURA E LOGÍSTICA"},{"$f":"[1]BASE!I21","v":"11.102.200"}]
[{"$f":"[1]BASE!A22","v":"ALEXANDRA ALBUQUERQUE MACIEL"},{"$f":"[1]BASE!B22","v":1651345},{"$f":"[1]BASE!C22","v":"Analista de Infraestrutura"},{"$f":"[1]BASE!D22","v":"Exercício Descentralizado"},{"$f":"[1]BASE!E22","v":"ME - Ministério da Economia"},{"$f":"[1]BASE!F22","v":" "},{"$f":"[1]BASE!G22","v":" "},{"$f":"[1]BASE!H22","v":"SPE / DEPARTAMENTO DE DESENVOLVIMENTO ENERGÉTICO - DDE"},{"$f":"[1]BASE!I22","v":"10.102.000"}]
[{"$f":"[1]BASE!A23","v":"ALEXANDRE BRAZ DA SILVA"},{"$f":"[1]BASE!B23","v":2061035},{"$f":"[1]BASE!C23","v":"Sem Cargo/Emprego"},{"$f":"[1]BASE!D23","v":"Sem Vínculo"},{"$f":"[1]BASE!E23","v":"Sem Vínculo"},{"$f":"[1]BASE!F23","v":"DAS 102.2"},{"$f":"[1]BASE!G23","v":" "},{"$f":"[1]BASE!H23","v":"CONJUR / CGAA / COORDENAÇÃO DE APOIO ADMINISTRATIVO"},{"$f":"[1]BASE!I23","v":"7.100.310"}]
[{"$f":"[1]BASE!A24","v":"ALEXANDRE LAURI HENRIKSEN"},{"$f":"[1]BASE!B24","v":2535472},{"$f":"[1]BASE!C24","v":"Especialista em Política Pública e Gestão Governamental"},{"$f":"[1]BASE!D24","v":"Requisitado de Órgãos"},{"$f":"[1]BASE!E24","v":"ME - Ministério da Economia"},{"$f":"[1]BASE!F24","v":"DAS 102.4"},{"$f":"[1]BASE!G24","v":" "},{"$f":"[1]BASE!H24","v":"ASSESSORIA ESPECIAL DE ASSUNTOS ECONÔMICOS - ASSEC"},{"$f":"[1]BASE!I24","v":"6.000.000"}]
[{"$f":"[1]BASE!A25","v":"ALEXANDRE LEME FRANCO"},{"$f":"[1]BASE!B25","v":1356383},{"$f":"[1]BASE!C25","v":"Advogado da União"},{"$f":"[1]BASE!D25","v":"Exercício Descentralizado"},{"$f":"[1]BASE!E25","v":"AGU - Advocacia Geral da União"},{"$f":"[1]BASE!F25","v":" "},{"$f":"[1]BASE!G25","v":" "},{"$f":"[1]BASE!H25","v":"CONJUR / COORDENAÇÃO GERAL DE ASSUNTOS DE PETRÓLEO E MINERAÇÃO"},{"$f":"[1]BASE!I25","v":"7.100.200"}]
[{"$f":"[1]BASE!A26","v":"ALEXANDRE VIDIGAL DE OLIVEIRA"},{"$f":"[1]BASE!B26","v":3085737},{"$f":"[1]BASE!C26","v":"Sem Cargo/Emprego"},{"$f":"[1]BASE!D26","v":"Sem Vínculo"},{"$f":"[1]BASE!E26","v":"Sem Vínculo"},{"$f":"[1]BASE!F26","v":"DAS 101.6"},{"$f":"[1]BASE!G26","v":" "},{"$f":"[1]BASE!H26","v":"SECRETARIA DE GEOLOGIA, MINERAÇÃO E TRANSFORMAÇÃO MINERAL - SGM"},{"$f":"[1]BASE!I26","v":"9.000.000"}]
[{"$f":"[1]BASE!A27","v":"ALEXANDRE XISTO DE ASSIS"},{"$f":"[1]BASE!B27","v":1092745},{"$f":"[1]BASE!C27","v":"Agente Administrativo"},{"$f":"[1]BASE!D27","v":"Ativo Permanente"},{"$f":"[1]BASE!E27","v":"MME - Ministério de Minas e Energia"},{"$f":"[1]BASE!F27","v":"FCT 7"},{"$f":"[1]BASE!G27","v":"GSISTE Intermediário"},{"$f":"[1]BASE!H27","v":"SE / SPOA / CGRH / COORDENAÇÃO DE ADMINISTRAÇÃO DE PESSOAL - CAPES"},{"$f":"[1]BASE!I27","v":"8.105.210"}]
[{"$f":"[1]BASE!A28","v":"ALINE DA COSTA PINHEIRO"},{"$f":"[1]BASE!B28","v":1753322},{"$f":"[1]BASE!C28","v":"Sem Cargo/Emprego"},{"$f":"[1]BASE!D28","v":"Sem Vínculo"},{"$f":"[1]BASE!E28","v":"Sem Vínculo"},{"$f":"[1]BASE!F28","v":"DAS 101.2"},{"$f":"[1]BASE!G28","v":" "},{"$f":"[1]BASE!H28","v":"SE / SPOA / CGRL / COORDENAÇÃO DE ADMINISTRAÇÃO DE MATERIAL E EXECUÇÃO FINANCEIRA - COMEF"},{"$f":"[1]BASE!I28","v":"8.105.110"}]
[{"$f":"[1]BASE!A29","v":"ALLAN CARLO LOPES DE MENEZES"},{"$f":"[1]BASE!B29","v":54498},{"$f":"[1]BASE!C29","v":"Sem Cargo/Emprego"},{"$f":"[1]BASE!D29","v":"Sem Vínculo"},{"$f":"[1]BASE!E29","v":"Sem Vínculo"},{"$f":"[1]BASE!F29","v":"DAS 102.2"},{"$f":"[1]BASE!G29","v":" "},{"$f":"[1]BASE!H29","v":"SE / AEGE / CGPE / COORDENAÇÃO DE SUPERVISÃO E AVALIAÇÃO DA GESTÃO"},{"$f":"[1]BASE!I29","v":"8.101.120"}]
[{"$f":"[1]BASE!A30","v":"ALMIR DE SOUZA FIGUEIREDO"},{"$f":"[1]BASE!B30","v":1093237},{"$f":"[1]BASE!C30","v":"Motorista Oficial"},{"$f":"[1]BASE!D30","v":"Ativo Permanente"},{"$f":"[1]BASE!E30","v":"MME - Ministério de Minas e Energia"},{"$f":"[1]BASE!F30","v":"FCPE 102.1"},{"$f":"[1]BASE!G30","v":" "},{"$f":"[1]BASE!H30","v":"GM / ASTAD / COORDENAÇÃO DE ATIVIDADES ADMINISTRATIVAS"},{"$f":"[1]BASE!I30","v":"2.100.101"}]
[{"$f":"[1]BASE!A31","v":"ALTAMIRO MOREIRA CALDEIRA"},{"$f":"[1]BASE!B31","v":1094291},{"$f":"[1]BASE!C31","v":"Agente Administrativo"},{"$f":"[1]BASE!D31","v":"Ativo Permanente"},{"$f":"[1]BASE!E31","v":"MME - Ministério de Minas e Energia"},{"$f":"[1]BASE!F31","v":"FCPE 102.2"},{"$f":"[1]BASE!G31","v":" "},{"$f":"[1]BASE!H31","v":"GM / ASTAD / COORDENAÇÃO DE ATIVIDADES ADMINISTRATIVAS"},{"$f":"[1]BASE!I31","v":"2.100.101"}]
[{"$f":"[1]BASE!A32","v":"ALVANIR DA SILVA CARVALHO"},{"$f":"[1]BASE!B32","v":6053314},{"$f":"[1]BASE!C32","v":"Sem Cargo/Emprego"},{"$f":"[1]BASE!D32","v":"Sem Vínculo"},{"$f":"[1]BASE!E32","v":"Sem Vínculo"},{"$f":"[1]BASE!F32","v":"DAS 101.3"},{"$f":"[1]BASE!G32","v":" "},{"$f":"[1]BASE!H32","v":"SE / SPOA / CGRL / COORDENAÇÃO DE ATIVIDADES GERAIS - COAGE"},{"$f":"[1]BASE!I32","v":"8.105.120"}]
[{"$f":"[1]BASE!A33","v":"ALYNE SOUSA CARVALHO LIBERAL FERREIRA"},{"$f":"[1]BASE!B33","v":2745994},{"$f":"[1]BASE!C33","v":"Sem Cargo/Emprego"},{"$f":"[1]BASE!D33","v":"Sem Vínculo"},{"$f":"[1]BASE!E33","v":"Sem Vínculo"},{"$f":"[1]BASE!F33","v":"DAS 102.2"},{"$f":"[1]BASE!G33","v":" "},{"$f":"[1]BASE!H33","v":"SE / CHEFIA DE GABINETE SE"},{"$f":"[1]BASE!I33","v":"8.100.000"}]
[{"$f":"[1]BASE!A34","v":"AMANTINO SOARES DE OLIVEIRA"},{"$f":"[1]BASE!B34","v":7129831},{"$f":"[1]BASE!C34","v":"Técnico de Orçamento"},{"$f":"[1]BASE!D34","v":"Exercício Descentralizado"},{"$f":"[1]BASE!E34","v":"ME - Ministério da Economia"},{"$f":"[1]BASE!F34","v":"DAS 101.3"},{"$f":"[1]BASE!G34","v":" "},{"$f":"[1]BASE!H34","v":"SE / SPOA / CGOF / COORDENAÇÃO DE ADMINISTRAÇÃO FINANCEIRA -COAF"},{"$f":"[1]BASE!I34","v":"8.105.510"}]
[{"$f":"[1]BASE!A35","v":"ANA CARLOTA OLIVEIRA VIEIRA"},{"$f":"[1]BASE!B35","v":1686942},{"$f":"[1]BASE!C35","v":"Telefonista"},{"$f":"[1]BASE!D35","v":"Anistiado MME"},{"$f":"[1]BASE!E35","v":"MME - Ministério de Minas e Energia"},{"$f":"[1]BASE!F35","v":" "},{"$f":"[1]BASE!G35","v":" "},{"$f":"[1]BASE!H35","v":"Aguardando Lotação/Exercício"},{"$f":"[1]BASE!I35","v":"88.000.000"}]
[{"$f":"[1]BASE!A36","v":"ANA CAROLINA CARVALHO RODRIGUES"},{"$f":"[1]BASE!B36","v":1483473},{"$f":"[1]BASE!C36","v":"Sem Cargo/Emprego"},{"$f":"[1]BASE!D36","v":"Sem Vínculo"},{"$f":"[1]BASE!E36","v":"Sem Vínculo"},{"$f":"[1]BASE!F36","v":"DAS 102.1"},{"$f":"[1]BASE!G36","v":" "},{"$f":"[1]BASE!H36","v":"CONJUR / CGAA / COORDENAÇÃO DE APOIO ADMINISTRATIVO"},{"$f":"[1]BASE!I36","v":"7.100.310"}]
[{"$f":"[1]BASE!A37","v":"ANA CRISTINA NOGUEIRA GONCALVES"},{"$f":"[1]BASE!B37","v":1586250},{"$f":"[1]BASE!C37","v":"Codificador de Dados I"},{"$f":"[1]BASE!D37","v":"Anistiado MME"},{"$f":"[1]BASE!E37","v":"MME - Ministério de Minas e Energia"},{"$f":"[1]BASE!F37","v":" "},{"$f":"[1]BASE!G37","v":" "},{"$f":"[1]BASE!H37","v":"SE / SPOA / CGRH / COORDENAÇÃO DE DESENVOLVIMENTO E SEGURIDADE SOCIAL - CODES"},{"$f":"[1]BASE!I37","v":"8.105.220"}]
[{"$f":"[1]BASE!A38","v":"ANA LUCIA ALVARES ALVES"},{"$f":"[1]BASE!B38","v":1165470},{"$f":"[1]BASE!C38","v":"Analista de Infraestrutura"},{"$f":"[1]BASE!D38","v":"Requisitado de Órgãos"},{"$f":"[1]BASE!E38","v":"ME - Ministério da Economia"},{"$f":"[1]BASE!F38","v":"DAS 102.3"},{"$f":"[1]BASE!G38","v":" "},{"$f":"[1]BASE!H38","v":"SEE / DMSE / COORDENAÇÃO GERAL DE MONITORAMENTO DO DESEMPENHO DO SISTEMA ELÉTRICO"},{"$f":"[1]BASE!I38","v":"12.102.400"}]
[{"$f":"[1]BASE!A39","v":"ANA MARIA DIAS DE OLIVEIRA DINIZ"},{"$f":"[1]BASE!B39","v":451529},{"$f":"[1]BASE!C39","v":"Agente Administrativo"},{"$f":"[1]BASE!D39","v":"Ativo Permanente"},{"$f":"[1]BASE!E39","v":"MME - Ministério de Minas e Energia"},{"$f":"[1]BASE!F39","v":"FGR 1"},{"$f":"[1]BASE!G39","v":" "},{"$f":"[1]BASE!H39","v":"SE / SPOA / CGRH / COORDENAÇÃO DE DESENVOLVIMENTO E SEGURIDADE SOCIAL - CODES"},{"$f":"[1]BASE!I39","v":"8.105.220"}]
[{"$f":"[1]BASE!A40","v":"ANA MARIA FIGUEIREDO AGUIAR"},{"$f":"[1]BASE!B40","v":452229},{"$f":"[1]BASE!C40","v":"Agente Administrativo"},{"$f":"[1]BASE!D40","v":"Ativo Permanente"},{"$f":"[1]BASE!E40","v":"MME - Ministério de Minas e Energia"},{"$f":"[1]BASE!F40","v":" "},{"$f":"[1]BASE!G40","v":"GSISTE Intermediário"},{"$f":"[1]BASE!H40","v":"SE / SPOA / CGRL / COORDENAÇÃO DE ATIVIDADES GERAIS - COAGE"},{"$f":"[1]BASE!I40","v":"8.105.120"}]
[{"$f":"[1]BASE!A41","v":"ANA PAULA ALVES DE SOUZA"},{"$f":"[1]BASE!B41","v":2603376},{"$f":"[1]BASE!C41","v":"Marinha"},{"$f":"[1]BASE!D41","v":"Requisitado Militar"},{"$f":"[1]BASE!E41","v":"Marinha"},{"$f":"[1]BASE!F41","v":"DAS 102.5"},{"$f":"[1]BASE!G41","v":" "},{"$f":"[1]BASE!H41","v":"GABINETE DO MINISTRO - GM"},{"$f":"[1]BASE!I41","v":"2.000.000"}]
[{"$f":"[1]BASE!A42","v":"ANA PAULA DE CASTRO"},{"$f":"[1]BASE!B42","v":1100246},{"$f":"[1]BASE!C42","v":"Técnico de Arquivo"},{"$f":"[1]BASE!D42","v":"Ativo Permanente"},{"$f":"[1]BASE!E42","v":"MME - Ministério de Minas e Energia"},{"$f":"[1]BASE!F42","v":"FGR 1"},{"$f":"[1]BASE!G42","v":" "},{"$f":"[1]BASE!H42","v":"SE / SPOA / CGRH / COORDENAÇÃO DE ADMINISTRAÇÃO DE PESSOAL - CAPES"},{"$f":"[1]BASE!I42","v":"8.105.210"}]
[{"$f":"[1]BASE!A43","v":"ANA PAULA NOGUEIRA RIGAUD"},{"$f":"[1]BASE!B43","v":1670483},{"$f":"[1]BASE!C43","v":"Codificador de Dados I"},{"$f":"[1]BASE!D43","v":"Anistiado MME"},{"$f":"[1]BASE!E43","v":"MME - Ministério de Minas e Energia"},{"$f":"[1]BASE!F43","v":" "},{"$f":"[1]BASE!G43","v":" "},{"$f":"[1]BASE!H43","v":"SE / SPOA / CGRH / COORDENAÇÃO DE DESENVOLVIMENTO E SEGURIDADE SOCIAL - CODES"},{"$f":"[1]BASE!I43","v":"8.105.220"}]
[{"$f":"[1]BASE!A44","v":"ANADERGI ROSA DE FREITAS"},{"$f":"[1]BASE!B44","v":2666801},{"$f":"[1]BASE!C44","v":"Sem Cargo/Emprego"},{"$f":"[1]BASE!D44","v":"Sem Vínculo"},{"$f":"[1]BASE!E44","v":"Sem Vínculo"},{"$f":"[1]BASE!F44","v":"DAS 102.2"},{"$f":"[1]BASE!G44","v":" "},{"$f":"[1]BASE!H44","v":"SE / SPOA / CGRL / COORDENAÇÃO DE ATIVIDADES GERAIS - COAGE"},{"$f":"[1]BASE!I44","v":"8.105.120"}]
[{"$f":"[1]BASE!A45","v":"ANAHIDES SANTOS BUCAR"},{"$f":"[1]BASE!B45","v":6225035},{"$f":"[1]BASE!C45","v":"Sem Cargo/Emprego"},{"$f":"[1]BASE!D45","v":"Sem Vínculo"},{"$f":"[1]BASE!E45","v":"Sem Vínculo"},{"$f":"[1]BASE!F45","v":"DAS 102.2"},{"$f":"[1]BASE!G45","v":" "},{"$f":"[1]BASE!H45","v":"SGM / DEPARTAMENTO DE GESTÃO DAS POLÍTICAS DE GEOLOGIA, MINERAÇÃOE TRANSFORMAÇÃO - DPGM"},{"$f":"[1]BASE!I45","v":"9.101.000"}]
[{"$f":"[1]BASE!A46","v":"ANDERSON DA CRUZ NEVES"},{"$f":"[1]BASE!B46","v":1729574},{"$f":"[1]BASE!C46","v":"Analista Técnico Administrativo"},{"$f":"[1]BASE!D46","v":"Requisitado de Órgãos"},{"$f":"[1]BASE!E46","v":"MDR - Ministério do Desenvolvimento Regional"},{"$f":"[1]BASE!F46","v":" "},{"$f":"[1]BASE!G46","v":"GSISTE Superior (MPEOF)"},{"$f":"[1]BASE!H46","v":"SE / SPOA / CGOF / COORDENAÇÃO DE ADMINISTRAÇÃO FINANCEIRA -COAF"},{"$f":"[1]BASE!I46","v":"8.105.510"}]
[{"$f":"[1]BASE!A47","v":"ANDERSON MARCIO DE OLIVEIRA"},{"$f":"[1]BASE!B47","v":1793429},{"$f":"[1]BASE!C47","v":"Advogado"},{"$f":"[1]BASE!D47","v":"Requisitado de Empresa"},{"$f":"[1]BASE!E47","v":"BNDES - Banco Nacional de Desenvolvimento Econômico e Social"},{"$f":"[1]BASE!F47","v":"DAS 101.5"},{"$f":"[1]BASE!G47","v":" "},{"$f":"[1]BASE!H47","v":"SE / CHEFIA DE GABINETE SE"},{"$f":"[1]BASE!I47","v":"8.100.000"}]
[{"$f":"[1]BASE!A48","v":"ANDRÉ GROBÉRIO LOPES PERIM"},{"$f":"[1]BASE!B48","v":2974323},{"$f":"[1]BASE!C48","v":"Analista de Infraestrutura"},{"$f":"[1]BASE!D48","v":"Exercício Descentralizado"},{"$f":"[1]BASE!E48","v":"ME - Ministério da Economia"},{"$f":"[1]BASE!F48","v":"FCPE 101.4"},{"$f":"[1]BASE!G48","v":" "},{"$f":"[1]BASE!H48","v":"SEE / DMSE / COORDENAÇÃO GERAL DE MONITORAMENTO DA EXPANSÃO DA TRANSMISSÃO"},{"$f":"[1]BASE!I48","v":"12.102.200"}]
[{"$f":"[1]BASE!A49","v":"ANDRE KRAUSS QUEIROZ"},{"$f":"[1]BASE!B49","v":2660202},{"$f":"[1]BASE!C49","v":"Analista de Infraestrutura"},{"$f":"[1]BASE!D49","v":"Exercício Descentralizado"},{"$f":"[1]BASE!E49","v":"ME - Ministério da Economia"},{"$f":"[1]BASE!F49","v":"DAS 101.5"},{"$f":"[1]BASE!G49","v":" "},{"$f":"[1]BASE!H49","v":"SPE / DEPARTAMENTO DE OUTORGAS DE CONCESSÕES, PERMISSÕES E AUTORIZAÇÕES - DOC"},{"$f":"[1]BASE!I49","v":"10.103.000"}]
[{"$f":"[1]BASE!A50","v":"ANDRÉ LUIS GONÇALVES DE OLIVEIRA"},{"$f":"[1]BASE!B50","v":3660584},{"$f":"[1]BASE!C50","v":"Analista de Infraestrutura"},{"$f":"[1]BASE!D50","v":"Exercício Descentralizado"},{"$f":"[1]BASE!E50","v":"ME - Ministério da Economia"},{"$f":"[1]BASE!F50","v":"FCPE 102.3"},{"$f":"[1]BASE!G50","v":" "},{"$f":"[1]BASE!H50","v":"SEE / CHEFIA DE GABINETE SEE"},{"$f":"[1]BASE!I50","v":"12.100.000"}]
[{"$f":"[1]BASE!A51","v":"ANDRÉ LUIZ DIAS DE OLIVEIRA"},{"$f":"[1]BASE!B51","v":2425941},{"$f":"[1]BASE!C51","v":"Especialista em Política Pública e Gestão Governamental"},{"$f":"[1]BASE!D51","v":"Exercício Descentralizado"},{"$f":"[1]BASE!E51","v":"ME - Ministério da Economia"},{"$f":"[1]BASE!F51","v":"FCPE 102.3"},{"$f":"[1]BASE!G51","v":" "},{"$f":"[1]BASE!H51","v":"SEE / DGSE / COORDENAÇÃO GERAL DE GESTÃO DE PROGRAMAS E REGULAMENTAÇÃO"},{"$f":"[1]BASE!I51","v":"12.101.200"}]
[{"$f":"[1]BASE!A52","v":"ANDRE LUIZ RODRIGUES OSORIO"},{"$f":"[1]BASE!B52","v":1677889},{"$f":"[1]BASE!C52","v":"Analista de Pesquisa Energética"},{"$f":"[1]BASE!D52","v":"Requisitado de Órgãos"},{"$f":"[1]BASE!E52","v":"EPE - Empresa de Pesquisa Energética"},{"$f":"[1]BASE!F52","v":"DAS 101.5"},{"$f":"[1]BASE!G52","v":" "},{"$f":"[1]BASE!H52","v":"SPE / DEPARTAMENTO DE INFORMAÇÕES E ESTUDOS ENERGÉTICOS - DIEE"},{"$f":"[1]BASE!I52","v":"10.104.000"}]
[{"$f":"[1]BASE!A53","v":"ANDRE ROBERTO CORTEZ"},{"$f":"[1]BASE!B53","v":455219},{"$f":"[1]BASE!C53","v":"Agente Administrativo"},{"$f":"[1]BASE!D53","v":"Ativo Permanente"},{"$f":"[1]BASE!E53","v":"MME - Ministério de Minas e Energia"},{"$f":"[1]BASE!F53","v":"FCPE 102.1"},{"$f":"[1]BASE!G53","v":" "},{"$f":"[1]BASE!H53","v":"SE / AEGE / COORDENAÇÃO GERAL DE PLANEJAMENTO ESTRATÉGICO, SUPERVISÃO E AVALIAÇÃO - CGPE"},{"$f":"[1]BASE!I53","v":"8.101.100"}]
[{"$f":"[1]BASE!A54","v":"ANDREA CRISTINA ANDRADE SANTOS CARVALHO"},{"$f":"[1]BASE!B54","v":1095477},{"$f":"[1]BASE!C54","v":"Administrador"},{"$f":"[1]BASE!D54","v":"Ativo Permanente"},{"$f":"[1]BASE!E54","v":"MME - Ministério de Minas e Energia"},{"$f":"[1]BASE!F54","v":"DAS 101.4"},{"$f":"[1]BASE!G54","v":"GSISTE Superior"},{"$f":"[1]BASE!H54","v":"SE / SPOA / COORDENAÇÃO GERAL DE RECURSOS LOGÍSTICOS - CGRL"},{"$f":"[1]BASE!I54","v":"8.105.100"}]
[{"$f":"[1]BASE!A55","v":"ANDREA CRISTINA GOMES PEREIRA"},{"$f":"[1]BASE!B55","v":2637600},{"$f":"[1]BASE!C55","v":"Sem Cargo/Emprego"},{"$f":"[1]BASE!D55","v":"Sem Vínculo"},{"$f":"[1]BASE!E55","v":"Sem Vínculo"},{"$f":"[1]BASE!F55","v":"DAS 102.4"},{"$f":"[1]BASE!G55","v":" "},{"$f":"[1]BASE!H55","v":"SPE / CHEFIA DE GABINETE SPE"},{"$f":"[1]BASE!I55","v":"10.100.000"}]
[{"$f":"[1]BASE!A56","v":"ANDREIA ALVES NASCIMENTO FRAGA"},{"$f":"[1]BASE!B56","v":3373715},{"$f":"[1]BASE!C56","v":"Sem Cargo/Emprego"},{"$f":"[1]BASE!D56","v":"Sem Vínculo"},{"$f":"[1]BASE!E56","v":"Sem Vínculo"},{"$f":"[1]BASE!F56","v":"DAS 102.4"},{"$f":"[1]BASE!G56","v":" "},{"$f":"[1]BASE!H56","v":"GABINETE DO MINISTRO - GM"},{"$f":"[1]BASE!I56","v":"2.000.000"}]
[{"$f":"[1]BASE!A57","v":"ANGELITA SIQUEIRA FAUSTINO"},{"$f":"[1]BASE!B57","v":451563},{"$f":"[1]BASE!C57","v":"Agente Administrativo"},{"$f":"[1]BASE!D57","v":"Ativo Permanente"},{"$f":"[1]BASE!E57","v":"MME - Ministério de Minas e Energia"},{"$f":"[1]BASE!F57","v":" "},{"$f":"[1]BASE!G57","v":" "},{"$f":"[1]BASE!H57","v":"SE / SPOA / CGRL / COORDENAÇÃO DE ATIVIDADES GERAIS - COAGE"},{"$f":"[1]BASE!I57","v":"8.105.120"}]
[{"$f":"[1]BASE!A58","v":"ANTONIA GONCALVES FILHA PEREIRA"},{"$f":"[1]BASE!B58","v":455918},{"$f":"[1]BASE!C58","v":"Agente Administrativo"},{"$f":"[1]BASE!D58","v":"Ativo Permanente"},{"$f":"[1]BASE!E58","v":"MME - Ministério de Minas e Energia"},{"$f":"[1]BASE!F58","v":"FCT 10"},{"$f":"[1]BASE!G58","v":"GSISTE Intermediário"},{"$f":"[1]BASE!H58","v":"SE / SUBSECRETARIA DE PLANEJAMENTO, ORÇAMENTO E ADMINISTRAÇÃO - SPOA"},{"$f":"[1]BASE!I58","v":"8.105.000"}]
[{"$f":"[1]BASE!A59","v":"ANTONIA TRIPODI"},{"$f":"[1]BASE!B59","v":1669595},{"$f":"[1]BASE!C59","v":"Escriturário III"},{"$f":"[1]BASE!D59","v":"Anistiado MME"},{"$f":"[1]BASE!E59","v":"MME - Ministério de Minas e Energia"},{"$f":"[1]BASE!F59","v":" "},{"$f":"[1]BASE!G59","v":" "},{"$f":"[1]BASE!H59","v":"SE / SPOA / CGRH / COORDENAÇÃO DE DESENVOLVIMENTO E SEGURIDADE SOCIAL - CODES"},{"$f":"[1]BASE!I59","v":"8.105.220"}]
[{"$f":"[1]BASE!A60","v":"ANTONIELA BRAGGIO STAMM"},{"$f":"[1]BASE!B60","v":1836721},{"$f":"[1]BASE!C60","v":"Agente Administrativo"},{"$f":"[1]BASE!D60","v":"Requisitado de Órgãos"},{"$f":"[1]BASE!E60","v":"ME - Ministério da Economia"},{"$f":"[1]BASE!F60","v":"FCPE 102.1"},{"$f":"[1]BASE!G60","v":"GSISTE Intermediário"},{"$f":"[1]BASE!H60","v":"SE / SPOA / CGRL / COORDENAÇÃO DE ATIVIDADES GERAIS - COAGE"},{"$f":"[1]BASE!I60","v":"8.105.120"}]
[{"$f":"[1]BASE!A61","v":"ANTONIO BENEDITO CAMARGOS"},{"$f":"[1]BASE!B61","v":1670894},{"$f":"[1]BASE!C61","v":"Desenhista"},{"$f":"[1]BASE!D61","v":"Anistiado MME"},{"$f":"[1]BASE!E61","v":"MME - Ministério de Minas e Energia"},{"$f":"[1]BASE!F61","v":" "},{"$f":"[1]BASE!G61","v":" "},{"$f":"[1]BASE!H61","v":"SE / SPOA / CGRL / COORDENAÇÃO DE ADMINISTRAÇÃO DE MATERIAL E EXECUÇÃO FINANCEIRA - COMEF"},{"$f":"[1]BASE!I61","v":"8.105.110"}]
[{"$f":"[1]BASE!A62","v":"ANTONIO CARLOS ACIOLY FILHO"},{"$f":"[1]BASE!B62","v":2378913},{"$f":"[1]BASE!C62","v":"Analista de Licitação"},{"$f":"[1]BASE!D62","v":"Contrato Temporário"},{"$f":"[1]BASE!E62","v":"MME - Ministério de Minas e Energia"},{"$f":"[1]BASE!F62","v":" "},{"$f":"[1]BASE!G62","v":" "},{"$f":"[1]BASE!H62","v":"SE / AEGP / CGGP / COORDENAÇÃO DE LICITAÇÃO"},{"$f":"[1]BASE!I62","v":"8.103.210"}]
[{"$f":"[1]BASE!A63","v":"ANTONIO CARLOS DA SILVA LIMA"},{"$f":"[1]BASE!B63","v":1586232},{"$f":"[1]BASE!C63","v":"Agente Administrativo"},{"$f":"[1]BASE!D63","v":"Anistiado MME"},{"$f":"[1]BASE!E63","v":"MME - Ministério de Minas e Energia"},{"$f":"[1]BASE!F63","v":" "},{"$f":"[1]BASE!G63","v":" "},{"$f":"[1]BASE!H63","v":"Aguardando Lotação/Exercício"},{"$f":"[1]BASE!I63","v":"88.000.000"}]
[{"$f":"[1]BASE!A64","v":"ANTONIO CARLOS DE ANDRADE REZENDE"},{"$f":"[1]BASE!B64","v":778828},{"$f":"[1]BASE!C64","v":"Sem Cargo/Emprego"},{"$f":"[1]BASE!D64","v":"Sem Vínculo"},{"$f":"[1]BASE!E64","v":"Sem Vínculo"},{"$f":"[1]BASE!F64","v":"DAS 102.2"},{"$f":"[1]BASE!G64","v":" "},{"$f":"[1]BASE!H64","v":"SGM / DDM / COORDENAÇÃO GERAL DE DESENVOLVIMENTO SOCIOAMBIENTAL NA MINERAÇÃO"},{"$f":"[1]BASE!I64","v":"9.104.100"}]
[{"$f":"[1]BASE!A65","v":"ANTONIO CARLOS RAMOS DE BARROS MELLO"},{"$f":"[1]BASE!B65","v":7455789},{"$f":"[1]BASE!C65","v":"Sem Cargo/Emprego"},{"$f":"[1]BASE!D65","v":"Sem Vínculo"},{"$f":"[1]BASE!E65","v":"Sem Vínculo"},{"$f":"[1]BASE!F65","v":"DAS 102.5"},{"$f":"[1]BASE!G65","v":" "},{"$f":"[1]BASE!H65","v":"GABINETE DO MINISTRO - GM"},{"$f":"[1]BASE!I65","v":"2.000.000"}]
[{"$f":"[1]BASE!A66","v":"ANTONIO DANTAS DE ALENCAR"},{"$f":"[1]BASE!B66","v":1439176},{"$f":"[1]BASE!C66","v":"Analista de Infraestrutura"},{"$f":"[1]BASE!D66","v":"Exercício Descentralizado"},{"$f":"[1]BASE!E66","v":"ME - Ministério da Economia"},{"$f":"[1]BASE!F66","v":" "},{"$f":"[1]BASE!G66","v":" "},{"$f":"[1]BASE!H66","v":"SPE / DOC / COORDENAÇÃO GERAL DE OUTORGAS DE GERAÇÃO DE ENERGIA ELÉTRICA"},{"$f":"[1]BASE!I66","v":"10.103.100"}]
[{"$f":"[1]BASE!A67","v":"ANTONIO HENRIQUE GODOY RAMOS"},{"$f":"[1]BASE!B67","v":3364613},{"$f":"[1]BASE!C67","v":"Especialista em Política Pública e Gestão Governamental"},{"$f":"[1]BASE!D67","v":"Exercício Descentralizado"},{"$f":"[1]BASE!E67","v":"ME - Ministério da Economia"},{"$f":"[1]BASE!F67","v":" "},{"$f":"[1]BASE!G67","v":" "},{"$f":"[1]BASE!H67","v":"SPG / DEPARTAMENTO DE POLÍTICA DE EXPLORAÇÃO E PRODUÇÃO DE PETRÓLEO E GÁS NATURAL - DPGN"},{"$f":"[1]BASE!I67","v":"11.101.000"}]
[{"$f":"[1]BASE!A68","v":"ANTONIO JOSE GADELHA ALVES"},{"$f":"[1]BASE!B68","v":1076077},{"$f":"[1]BASE!C68","v":"Engenheiro IV"},{"$f":"[1]BASE!D68","v":"Anistiado MME"},{"$f":"[1]BASE!E68","v":"MME - Ministério de Minas e Energia"},{"$f":"[1]BASE!F68","v":" "},{"$f":"[1]BASE!G68","v":" "},{"$f":"[1]BASE!H68","v":"SGM / DEPARTAMENTO DE TRANSFORMAÇÃO E TECNOLOGIA MINERAL - DTTM"},{"$f":"[1]BASE!I68","v":"9.103.000"}]
[{"$f":"[1]BASE!A69","v":"ANTONIO JOSE IRMAO"},{"$f":"[1]BASE!B69","v":1314171},{"$f":"[1]BASE!C69","v":"Agente de Portaria"},{"$f":"[1]BASE!D69","v":"Ativo Permanente"},{"$f":"[1]BASE!E69","v":"MME - Ministério de Minas e Energia"},{"$f":"[1]BASE!F69","v":"FGR 1"},{"$f":"[1]BASE!G69","v":" "},{"$f":"[1]BASE!H69","v":"GM / ASTAD / COORDENAÇÃO DE ATIVIDADES ADMINISTRATIVAS"},{"$f":"[1]BASE!I69","v":"2.100.101"}]
[{"$f":"[1]BASE!A70","v":"ANTONIO LISBOA DE OLIVEIRA"},{"$f":"[1]BASE!B70","v":451592},{"$f":"[1]BASE!C70","v":"Agente Administrativo"},{"$f":"[1]BASE!D70","v":"Ativo Permanente"},{"$f":"[1]BASE!E70","v":"MME - Ministério de Minas e Energia"},{"$f":"[1]BASE!F70","v":" "},{"$f":"[1]BASE!G70","v":" "},{"$f":"[1]BASE!H70","v":"Aguardando Lotação/Exercício"},{"$f":"[1]BASE!I70","v":"88.000.000"}]
[{"$f":"[1]BASE!A71","v":"ANTONIO ROBERTO COIMBRA"},{"$f":"[1]BASE!B71","v":2393047},{"$f":"[1]BASE!C71","v":"Sem Cargo/Emprego"},{"$f":"[1]BASE!D71","v":"Sem Vínculo"},{"$f":"[1]BASE!E71","v":"Sem Vínculo"},{"$f":"[1]BASE!F71","v":"DAS 101.4"},{"$f":"[1]BASE!G71","v":" "},{"$f":"[1]BASE!H71","v":"SPE / DPE / COORDENAÇÃO GERAL DE PLANEJAMENTO DA TRANSMISSÃO"},{"$f":"[1]BASE!I71","v":"10.101.100"}]
[{"$f":"[1]BASE!A72","v":"ANTONIO RODRIGUES MONTEIRO"},{"$f":"[1]BASE!B72","v":1096296},{"$f":"[1]BASE!C72","v":"Agente de Vigilância"},{"$f":"[1]BASE!D72","v":"Ativo Permanente"},{"$f":"[1]BASE!E72","v":"MME - Ministério de Minas e Energia"},{"$f":"[1]BASE!F72","v":"FGR 1"},{"$f":"[1]BASE!G72","v":" "},{"$f":"[1]BASE!H72","v":"SE / SPOA / CGRL / COORDENAÇÃO DE ATIVIDADES GERAIS - COAGE"},{"$f":"[1]BASE!I72","v":"8.105.120"}]
[{"$f":"[1]BASE!A73","v":"AZENIO GONCALVES DOS SANTOS"},{"$f":"[1]BASE!B73","v":452190},{"$f":"[1]BASE!C73","v":"Agente de Vigilância"},{"$f":"[1]BASE!D73","v":"Ativo Permanente"},{"$f":"[1]BASE!E73","v":"MME - Ministério de Minas e Energia"},{"$f":"[1]BASE!F73","v":"FGR 1"},{"$f":"[1]BASE!G73","v":" "},{"$f":"[1]BASE!H73","v":"SE / SPOA / CGRL / COORDENAÇÃO DE ATIVIDADES GERAIS - COAGE"},{"$f":"[1]BASE!I73","v":"8.105.120"}]
[{"$f":"[1]BASE!A74","v":"BÁRBARA BÉLKIOR DE SOUZA E SILVA"},{"$f":"[1]BASE!B74","v":1338161},{"$f":"[1]BASE!C74","v":"Conselheiro"},{"$f":"[1]BASE!D74","v":"Requisitado de Órgãos"},{"$f":"[1]BASE!E74","v":"MRE - Ministério das Relações Exteriores"},{"$f":"[1]BASE!F74","v":"DAS 101.4"},{"$f":"[1]BASE!G74","v":" "},{"$f":"[1]BASE!H74","v":"GM / ASSESSORIA DE APOIO AO MINISTRO - AAM"},{"$f":"[1]BASE!I74","v":"2.100.400"}]
[{"$f":"[1]BASE!A75","v":"BEATRIZ BARBOSA DE MELO"},{"$f":"[1]BASE!B75","v":1658236},{"$f":"[1]BASE!C75","v":"Sem Cargo/Emprego"},{"$f":"[1]BASE!D75","v":"Sem Vínculo"},{"$f":"[1]BASE!E75","v":"Sem Vínculo"},{"$f":"[1]BASE!F75","v":"DAS 102.2"},{"$f":"[1]BASE!G75","v":" "},{"$f":"[1]BASE!H75","v":"SEE / DEPARTAMENTO DE MONITORAMENTO DO SISTEMA ELÉTRICO - DMSE"},{"$f":"[1]BASE!I75","v":"12.102.000"}]
[{"$f":"[1]BASE!A76","v":"BENILDE DOS SANTOS GONCALVES"},{"$f":"[1]BASE!B76","v":451845},{"$f":"[1]BASE!C76","v":"Agente Administrativo"},{"$f":"[1]BASE!D76","v":"Ativo Permanente"},{"$f":"[1]BASE!E76","v":"MME - Ministério de Minas e Energia"},{"$f":"[1]BASE!F76","v":"FGR 1"},{"$f":"[1]BASE!G76","v":" "},{"$f":"[1]BASE!H76","v":"Aguardando Lotação/Exercício"},{"$f":"[1]BASE!I76","v":"88.000.000"}]
[{"$f":"[1]BASE!A77","v":"BENTO COSTA LIMA LEITE DE ALBUQUERQUE JUNIOR"},{"$f":"[1]BASE!B77","v":1315936},{"$f":"[1]BASE!C77","v":"Ministro de Estado"},{"$f":"[1]BASE!D77","v":"Sem Vínculo"},{"$f":"[1]BASE!E77","v":"Marinha"},{"$f":"[1]BASE!F77","v":"NES NES"},{"$f":"[1]BASE!G77","v":" "},{"$f":"[1]BASE!H77","v":"MINISTRO"},{"$f":"[1]BASE!I77","v":"1.000.000"}]
[{"$f":"[1]BASE!A78","v":"BIANCA MAGALHAES"},{"$f":"[1]BASE!B78","v":1467247},{"$f":"[1]BASE!C78","v":"Sem Cargo/Emprego"},{"$f":"[1]BASE!D78","v":"Sem Vínculo"},{"$f":"[1]BASE!E78","v":"Sem Vínculo"},{"$f":"[1]BASE!F78","v":"DAS 102.2"},{"$f":"[1]BASE!G78","v":" "},{"$f":"[1]BASE!H78","v":"CONJUR / CHEFIA DE GABINETE CONJUR"},{"$f":"[1]BASE!I78","v":"7.100.000"}]
[{"$f":"[1]BASE!A79","v":"BIANCA MARIA MATOS DE ALENCAR BRAGA"},{"$f":"[1]BASE!B79","v":4974375},{"$f":"[1]BASE!C79","v":"Analista de Infraestrutura"},{"$f":"[1]BASE!D79","v":"Exercício Descentralizado"},{"$f":"[1]BASE!E79","v":"ME - Ministério da Economia"},{"$f":"[1]BASE!F79","v":"DAS 101.4"},{"$f":"[1]BASE!G79","v":" "},{"$f":"[1]BASE!H79","v":"SEE / DMSE / COORDENAÇÃO GERAL DE MONITORAMENTO DO DESEMPENHO DO SISTEMA ELÉTRICO"},{"$f":"[1]BASE!I79","v":"12.102.400"}]
[{"$f":"[1]BASE!A80","v":"BRENNA KAREN DE OLIVEIRA"},{"$f":"[1]BASE!B80","v":2617601},{"$f":"[1]BASE!C80","v":"Analista Técnico Administrativo"},{"$f":"[1]BASE!D80","v":"Requisitado de Órgãos"},{"$f":"[1]BASE!E80","v":"MDR - Ministério do Desenvolvimento Regional"},{"$f":"[1]BASE!F80","v":"FGR 1"},{"$f":"[1]BASE!G80","v":"GSISTE Superior"},{"$f":"[1]BASE!H80","v":"SE / SPOA / CGRH / COORDENAÇÃO DE ADMINISTRAÇÃO DE PESSOAL - CAPES"},{"$f":"[1]BASE!I80","v":"8.105.210"}]
[{"$f":"[1]BASE!A81","v":"BRENNO LEOPOLDO CAVALCANTE DE PAULA"},{"$f":"[1]BASE!B81","v":1821871},{"$f":"[1]BASE!C81","v":"Sem Cargo/Emprego"},{"$f":"[1]BASE!D81","v":"Sem Vínculo"},{"$f":"[1]BASE!E81","v":"Sem Vínculo"},{"$f":"[1]BASE!F81","v":"DAS 101.4"},{"$f":"[1]BASE!G81","v":" "},{"$f":"[1]BASE!H81","v":"GM / ASSESSORIA TÉCNICA E ADMINISTRATIVA - ASTAD"},{"$f":"[1]BASE!I81","v":"2.100.100"}]
[{"$f":"[1]BASE!A82","v":"BRUNA RODRIGUES DE OLIVEIRA"},{"$f":"[1]BASE!B82","v":2839362},{"$f":"[1]BASE!C82","v":"Sem Cargo/Emprego"},{"$f":"[1]BASE!D82","v":"Sem Vínculo"},{"$f":"[1]BASE!E82","v":"Sem Vínculo"},{"$f":"[1]BASE!F82","v":"DAS 102.2"},{"$f":"[1]BASE!G82","v":" "},{"$f":"[1]BASE!H82","v":"SPE / CHEFIA DE GABINETE SPE"},{"$f":"[1]BASE!I82","v":"10.100.000"}]
[{"$f":"[1]BASE!A83","v":"BRUNO CESAR SPADA"},{"$f":"[1]BASE!B83","v":3117873},{"$f":"[1]BASE!C83","v":"Sem Cargo/Emprego"},{"$f":"[1]BASE!D83","v":"Sem Vínculo"},{"$f":"[1]BASE!E83","v":"Sem Vínculo"},{"$f":"[1]BASE!F83","v":"DAS 102.3"},{"$f":"[1]BASE!G83","v":" "},{"$f":"[1]BASE!H83","v":"GM / ASSESSORIA DE COMUNICAÇÃO SOCIAL - ASCOM"},{"$f":"[1]BASE!I83","v":"2.100.300"}]
[{"$f":"[1]BASE!A84","v":"BRUNO EUSTÁQUIO FERREIRA CASTRO DE CARVALHO"},{"$f":"[1]BASE!B84","v":1671760},{"$f":"[1]BASE!C84","v":"Analista de Infraestrutura"},{"$f":"[1]BASE!D84","v":"Requisitado de Órgãos"},{"$f":"[1]BASE!E84","v":"ME - Ministério da Economia"},{"$f":"[1]BASE!F84","v":"DAS 101.6"},{"$f":"[1]BASE!G84","v":" "},{"$f":"[1]BASE!H84","v":"SE / CHEFIA DE GABINETE SE"},{"$f":"[1]BASE!I84","v":"8.100.000"}]
[{"$f":"[1]BASE!A85","v":"CAMILLA DE ANDRADE GONÇALVES FERNANDES"},{"$f":"[1]BASE!B85","v":1559017},{"$f":"[1]BASE!C85","v":"Especialista em Regulamentação em Energia Elétrica"},{"$f":"[1]BASE!D85","v":"Requisitado de Órgãos"},{"$f":"[1]BASE!E85","v":"ANEEL - Agência Nacional de Energia Elétrica"},{"$f":"[1]BASE!F85","v":"DAS 101.5"},{"$f":"[1]BASE!G85","v":" "},{"$f":"[1]BASE!H85","v":"SE / CHEFIA DE GABINETE SE"},{"$f":"[1]BASE!I85","v":"8.100.000"}]
[{"$f":"[1]BASE!A86","v":"CANDICE SOUSA COSTA"},{"$f":"[1]BASE!B86","v":1553178},{"$f":"[1]BASE!C86","v":"Procuradora Federal"},{"$f":"[1]BASE!D86","v":"Exercício Descentralizado"},{"$f":"[1]BASE!E86","v":"AGU - Advocacia Geral da União"},{"$f":"[1]BASE!F86","v":"FCPE 101.4"},{"$f":"[1]BASE!G86","v":" "},{"$f":"[1]BASE!H86","v":"CONJUR / COORDENAÇÃO GERAL DE ASSUNTOS DE ENERGIA"},{"$f":"[1]BASE!I86","v":"7.100.100"}]
[{"$f":"[1]BASE!A87","v":"CARLOS AGENOR ONOFRE CABRAL"},{"$f":"[1]BASE!B87","v":1650109},{"$f":"[1]BASE!C87","v":"Especialista em Regulamentação de Petróleo e Der Alc Com e Gás Natural"},{"$f":"[1]BASE!D87","v":"Requisitado de Órgãos"},{"$f":"[1]BASE!E87","v":"ANP - Agência Nacional do Petróleo, Gás Natural e Biocombustíveis"},{"$f":"[1]BASE!F87","v":"DAS 101.4"},{"$f":"[1]BASE!G87","v":" "},{"$f":"[1]BASE!H87","v":"SPG / DEPARTAMENTO DE POLÍTICA DE EXPLORAÇÃO E PRODUÇÃO DE PETRÓLEO E GÁS NATURAL - DPGN"},{"$f":"[1]BASE!I87","v":"11.101.000"}]
[{"$f":"[1]BASE!A88","v":"CARLOS ALBERTO DE OLIVEIRA"},{"$f":"[1]BASE!B88","v":6451596},{"$f":"[1]BASE!C88","v":"Arquivista"},{"$f":"[1]BASE!D88","v":"Ativo Permanente"},{"$f":"[1]BASE!E88","v":"MME - Ministério de Minas e Energia"},{"$f":"[1]BASE!F88","v":"FGR 1"},{"$f":"[1]BASE!G88","v":" "},{"$f":"[1]BASE!H88","v":"SE / AEGP / COORDENAÇÃO GERAL DE GESTÃO DE PROJETOS - CGGP"},{"$f":"[1]BASE!I88","v":"8.103.200"}]
[{"$f":"[1]BASE!A89","v":"CARLOS ALEXANDRE PRINCIPE PIRES"},{"$f":"[1]BASE!B89","v":2438064},{"$f":"[1]BASE!C89","v":"Especialista em Política Pública e Gestão Governamental"},{"$f":"[1]BASE!D89","v":"Requisitado de Órgãos"},{"$f":"[1]BASE!E89","v":"ME - Ministério da Economia"},{"$f":"[1]BASE!F89","v":"DAS 101.5"},{"$f":"[1]BASE!G89","v":" "},{"$f":"[1]BASE!H89","v":"SPE / DEPARTAMENTO DE DESENVOLVIMENTO ENERGÉTICO - DDE"},{"$f":"[1]BASE!I89","v":"10.102.000"}]
[{"$f":"[1]BASE!A90","v":"CARLOS ANTONIO DE ABREU"},{"$f":"[1]BASE!B90","v":161427},{"$f":"[1]BASE!C90","v":"Agente de Vigilância"},{"$f":"[1]BASE!D90","v":"Ativo Permanente"},{"$f":"[1]BASE!E90","v":"MME - Ministério de Minas e Energia"},{"$f":"[1]BASE!F90","v":" "},{"$f":"[1]BASE!G90","v":" "},{"$f":"[1]BASE!H90","v":"SE / SPOA / CGRL / COORDENAÇÃO DE ATIVIDADES GERAIS - COAGE"},{"$f":"[1]BASE!I90","v":"8.105.120"}]
[{"$f":"[1]BASE!A91","v":"CARLOS AUGUSTO FURTADO DE OLIVEIRA NOVAES"},{"$f":"[1]BASE!B91","v":1547827},{"$f":"[1]BASE!C91","v":"Analista de Infraestrutura"},{"$f":"[1]BASE!D91","v":"Exercício Descentralizado"},{"$f":"[1]BASE!E91","v":"ME - Ministério da Economia"},{"$f":"[1]BASE!F91","v":" "},{"$f":"[1]BASE!G91","v":" "},{"$f":"[1]BASE!H91","v":"SEE / DMSE / COORDENAÇÃO GERAL DE MONITORAMENTO DO DESEMPENHO DO SISTEMA ELÉTRICO"},{"$f":"[1]BASE!I91","v":"12.102.400"}]
[{"$f":"[1]BASE!A92","v":"CARLOS EDUARDO MENDES GALVAO"},{"$f":"[1]BASE!B92","v":454695},{"$f":"[1]BASE!C92","v":"Agente Administrativo"},{"$f":"[1]BASE!D92","v":"Ativo Permanente"},{"$f":"[1]BASE!E92","v":"MME - Ministério de Minas e Energia"},{"$f":"[1]BASE!F92","v":"DAS 101.4"},{"$f":"[1]BASE!G92","v":"GSISTE Intermediário"},{"$f":"[1]BASE!H92","v":"SE / SPOA / COORDENAÇÃO GERAL DE RECURSOS HUMANOS - CGRH"},{"$f":"[1]BASE!I92","v":"8.105.200"}]
[{"$f":"[1]BASE!A93","v":"CARLOS GERARDO DE MESQUITA"},{"$f":"[1]BASE!B93","v":454390},{"$f":"[1]BASE!C93","v":"Agente de Portaria"},{"$f":"[1]BASE!D93","v":"Ativo Permanente"},{"$f":"[1]BASE!E93","v":"MME - Ministério de Minas e Energia"},{"$f":"[1]BASE!F93","v":"FGR 1"},{"$f":"[1]BASE!G93","v":" "},{"$f":"[1]BASE!H93","v":"CONJUR / CGAA / COORDENAÇÃO DE APOIO ADMINISTRATIVO"},{"$f":"[1]BASE!I93","v":"7.100.310"}]
[{"$f":"[1]BASE!A94","v":"CARLOS JORGE PAVAO DIAS"},{"$f":"[1]BASE!B94","v":1482723},{"$f":"[1]BASE!C94","v":"Sem Cargo/Emprego"},{"$f":"[1]BASE!D94","v":"Sem Vínculo"},{"$f":"[1]BASE!E94","v":"Sem Vínculo"},{"$f":"[1]BASE!F94","v":"DAS 102.3"},{"$f":"[1]BASE!G94","v":" "},{"$f":"[1]BASE!H94","v":"SPG / CHEFIA DE GABINETE SPG"},{"$f":"[1]BASE!I94","v":"11.100.000"}]
[{"$f":"[1]BASE!A95","v":"CARLOS MODESTO DE ARAUJO"},{"$f":"[1]BASE!B95","v":1092793},{"$f":"[1]BASE!C95","v":"Agente Administrativo"},{"$f":"[1]BASE!D95","v":"Ativo Permanente"},{"$f":"[1]BASE!E95","v":"MME - Ministério de Minas e Energia"},{"$f":"[1]BASE!F95","v":" "},{"$f":"[1]BASE!G95","v":" "},{"$f":"[1]BASE!H95","v":"Aguardando Lotação/Exercício"},{"$f":"[1]BASE!I95","v":"88.000.000"}]
[{"$f":"[1]BASE!A96","v":"CARLOS ROBERTO NOVAIS DE ALMEIDA"},{"$f":"[1]BASE!B96","v":455044},{"$f":"[1]BASE!C96","v":"Agente Administrativo"},{"$f":"[1]BASE!D96","v":"Ativo Permanente"},{"$f":"[1]BASE!E96","v":"MME - Ministério de Minas e Energia"},{"$f":"[1]BASE!F96","v":"FCPE 101.3"},{"$f":"[1]BASE!G96","v":" "},{"$f":"[1]BASE!H96","v":"GM / ASTAD / COORDENAÇÃO DE ATIVIDADES ADMINISTRATIVAS"},{"$f":"[1]BASE!I96","v":"2.100.101"}]
[{"$f":"[1]BASE!A97","v":"CASSIO GIULIANI CARVALHO"},{"$f":"[1]BASE!B97","v":5660896},{"$f":"[1]BASE!C97","v":"Especialista em Regulamentação de Aviação Civil"},{"$f":"[1]BASE!D97","v":"Requisitado de Órgãos"},{"$f":"[1]BASE!E97","v":"ANAC - Agência Nacional de Aviação Civil"},{"$f":"[1]BASE!F97","v":"DAS 101.4"},{"$f":"[1]BASE!G97","v":" "},{"$f":"[1]BASE!H97","v":"SPE / DPE / COORDENAÇÃO GERAL DA EXPANSÃO ELETROENERGÉTICA"},{"$f":"[1]BASE!I97","v":"10.101.300"}]
[{"$f":"[1]BASE!A98","v":"CELIA MARIA BOMTEMPO"},{"$f":"[1]BASE!B98","v":454348},{"$f":"[1]BASE!C98","v":"Agente Administrativo"},{"$f":"[1]BASE!D98","v":"Ativo Permanente"},{"$f":"[1]BASE!E98","v":"MME - Ministério de Minas e Energia"},{"$f":"[1]BASE!F98","v":"FCT 5"},{"$f":"[1]BASE!G98","v":"GSISTE Intermediário (MPPFS)"},{"$f":"[1]BASE!H98","v":"SE / SPOA / CGOF / COORDENAÇÃO DE CONTABILIDADE - CONT"},{"$f":"[1]BASE!I98","v":"8.105.520"}]
[{"$f":"[1]BASE!A99","v":"CESAR FERREIRA BORGES"},{"$f":"[1]BASE!B99","v":1281488},{"$f":"[1]BASE!C99","v":"Sem Cargo/Emprego"},{"$f":"[1]BASE!D99","v":"Sem Vínculo"},{"$f":"[1]BASE!E99","v":"Sem Vínculo"},{"$f":"[1]BASE!F99","v":"DAS 102.5"},{"$f":"[1]BASE!G99","v":" "},{"$f":"[1]BASE!H99","v":"GM / ASSESSORIA DE COMUNICAÇÃO SOCIAL - ASCOM"},{"$f":"[1]BASE!I99","v":"2.100.300"}]
[{"$f":"[1]BASE!A100","v":"CHRISTIAN DE OLIVEIRA E FERNANDES"},{"$f":"[1]BASE!B100","v":3355829},{"$f":"[1]BASE!C100","v":"Advogado da União"},{"$f":"[1]BASE!D100","v":"Exercício Descentralizado"},{"$f":"[1]BASE!E100","v":"AGU - Advocacia Geral da União"},{"$f":"[1]BASE!F100","v":" "},{"$f":"[1]BASE!G100","v":" "},{"$f":"[1]BASE!H100","v":"CONJUR / COORDENAÇÃO GERAL DE ASSUNTOS DE ENERGIA"},{"$f":"[1]BASE!I100","v":"7.100.100"}]
[{"$f":"[1]BASE!A101","v":"CHRISTIAN VARGAS"},{"$f":"[1]BASE!B101","v":0},{"$f":"[1]BASE!C101","v":"Ministro de Segunda Classe"},{"$f":"[1]BASE!D101","v":"Requisitado de Órgãos"},{"$f":"[1]BASE!E101","v":"MRE - Ministério das Relações Exteriores"},{"$f":"[1]BASE!F101","v":"DAS 101.5"},{"$f":"[1]BASE!G101","v":" "},{"$f":"[1]BASE!H101","v":"ASSESSORIA ESPECIAL DE RELAÇÕES INTERNACIONAIS - ASSINT"},{"$f":"[1]BASE!I101","v":"3.000.000"}]
[{"$f":"[1]BASE!A102","v":"CHRISTIANY SALGADO FARIA"},{"$f":"[1]BASE!B102","v":1453978},{"$f":"[1]BASE!C102","v":"Analista de Infraestrutura"},{"$f":"[1]BASE!D102","v":"Requisitado de Órgãos"},{"$f":"[1]BASE!E102","v":"ME - Ministério da Economia"},{"$f":"[1]BASE!F102","v":"DAS 102.4"},{"$f":"[1]BASE!G102","v":" "},{"$f":"[1]BASE!H102","v":"ASSESSORIA ESPECIAL DE ASSUNTOS ECONÔMICOS - ASSEC"},{"$f":"[1]BASE!I102","v":"6.000.000"}]
[{"$f":"[1]BASE!A103","v":"CICERO DA ROSA ROCHA"},{"$f":"[1]BASE!B103","v":1669516},{"$f":"[1]BASE!C103","v":"Escriturário II"},{"$f":"[1]BASE!D103","v":"Anistiado MME"},{"$f":"[1]BASE!E103","v":"MME - Ministério de Minas e Energia"},{"$f":"[1]BASE!F103","v":" "},{"$f":"[1]BASE!G103","v":" "},{"$f":"[1]BASE!H103","v":"SE / SPOA / CGRH / COORDENAÇÃO DE DESENVOLVIMENTO E SEGURIDADE SOCIAL - CODES"},{"$f":"[1]BASE!I103","v":"8.105.220"}]
[{"$f":"[1]BASE!A104","v":"CICERO RONALDO VIEIRA DA SILVA"},{"$f":"[1]BASE!B104","v":451627},{"$f":"[1]BASE!C104","v":"Agente de Portaria"},{"$f":"[1]BASE!D104","v":"Ativo Permanente"},{"$f":"[1]BASE!E104","v":"MME - Ministério de Minas e Energia"},{"$f":"[1]BASE!F104","v":"FCT 7"},{"$f":"[1]BASE!G104","v":" "},{"$f":"[1]BASE!H104","v":"SE / SPOA / CGRL / COORDENAÇÃO DE ATIVIDADES GERAIS - COAGE"},{"$f":"[1]BASE!I104","v":"8.105.120"}]
[{"$f":"[1]BASE!A105","v":"CLARA DE JESUS SILVA"},{"$f":"[1]BASE!B105","v":1772834},{"$f":"[1]BASE!C105","v":"Auxiliar Administrativo"},{"$f":"[1]BASE!D105","v":"Anistiado MME"},{"$f":"[1]BASE!E105","v":"MME - Ministério de Minas e Energia"},{"$f":"[1]BASE!F105","v":" "},{"$f":"[1]BASE!G105","v":" "},{"$f":"[1]BASE!H105","v":"Aguardando Lotação/Exercício"},{"$f":"[1]BASE!I105","v":"88.000.000"}]
[{"$f":"[1]BASE!A106","v":"CLAREN MARCIA DE AZEVEDO"},{"$f":"[1]BASE!B106","v":1340463},{"$f":"[1]BASE!C106","v":"Sem Cargo/Emprego"},{"$f":"[1]BASE!D106","v":"Sem Vínculo"},{"$f":"[1]BASE!E106","v":"Sem Vínculo"},{"$f":"[1]BASE!F106","v":"DAS 102.2"},{"$f":"[1]BASE!G106","v":" "},{"$f":"[1]BASE!H106","v":"SE / CHEFIA DE GABINETE SE"},{"$f":"[1]BASE!I106","v":"8.100.000"}]
[{"$f":"[1]BASE!A107","v":"CLARICE GOMES DA SILVA"},{"$f":"[1]BASE!B107","v":1696906},{"$f":"[1]BASE!C107","v":"Escriturário I"},{"$f":"[1]BASE!D107","v":"Anistiado MME"},{"$f":"[1]BASE!E107","v":"MME - Ministério de Minas e Energia"},{"$f":"[1]BASE!F107","v":"DAS 102.2"},{"$f":"[1]BASE!G107","v":" "},{"$f":"[1]BASE!H107","v":"SE / SPOA / CGRL / COORDENAÇÃO DE ATIVIDADES GERAIS - COAGE"},{"$f":"[1]BASE!I107","v":"8.105.120"}]
[{"$f":"[1]BASE!A108","v":"CLAUDIA CRISTINA DE OLIVEIRA F SILVA"},{"$f":"[1]BASE!B108","v":455479},{"$f":"[1]BASE!C108","v":"Telefonista"},{"$f":"[1]BASE!D108","v":"Ativo Permanente"},{"$f":"[1]BASE!E108","v":"MME - Ministério de Minas e Energia"},{"$f":"[1]BASE!F108","v":"FGR 1"},{"$f":"[1]BASE!G108","v":" "},{"$f":"[1]BASE!H108","v":"SE / SPOA / CGRH / COORDENAÇÃO DE DESENVOLVIMENTO E SEGURIDADE SOCIAL - CODES"},{"$f":"[1]BASE!I108","v":"8.105.220"}]
[{"$f":"[1]BASE!A109","v":"CLAUDIA MARIA DA SILVA MEIRA"},{"$f":"[1]BASE!B109","v":1783636},{"$f":"[1]BASE!C109","v":"Sem Cargo/Emprego"},{"$f":"[1]BASE!D109","v":"Sem Vínculo"},{"$f":"[1]BASE!E109","v":"Sem Vínculo"},{"$f":"[1]BASE!F109","v":"DAS 102.2"},{"$f":"[1]BASE!G109","v":" "},{"$f":"[1]BASE!H109","v":"SE / ASSESSORIA ESPECIAL DE GESTÃO ESTRATÉGICA - AEGE"},{"$f":"[1]BASE!I109","v":"8.101.000"}]
[{"$f":"[1]BASE!A110","v":"CLÁUDIA MOTA MONTEIRO"},{"$f":"[1]BASE!B110","v":454709},{"$f":"[1]BASE!C110","v":"Agente Administrativo"},{"$f":"[1]BASE!D110","v":"Ativo Permanente"},{"$f":"[1]BASE!E110","v":"MME - Ministério de Minas e Energia"},{"$f":"[1]BASE!F110","v":"DAS 101.3"},{"$f":"[1]BASE!G110","v":"GSISTE Intermediário"},{"$f":"[1]BASE!H110","v":"SE / SPOA / CGCC / COORDENAÇÃO DE ADMINISTRAÇÃO DE CONTRATOS - CAC"},{"$f":"[1]BASE!I110","v":"8.105.410"}]
[{"$f":"[1]BASE!A111","v":"CLAUDIO OLIMAR INATOMI"},{"$f":"[1]BASE!B111","v":455322},{"$f":"[1]BASE!C111","v":"Agente Administrativo"},{"$f":"[1]BASE!D111","v":"Ativo Permanente"},{"$f":"[1]BASE!E111","v":"MME - Ministério de Minas e Energia"},{"$f":"[1]BASE!F111","v":"FCPE 102.2"},{"$f":"[1]BASE!G111","v":" "},{"$f":"[1]BASE!H111","v":"ASSESSORIA ESPECIAL DE RELAÇÕES INTERNACIONAIS - ASSINT"},{"$f":"[1]BASE!I111","v":"3.000.000"}]
[{"$f":"[1]BASE!A112","v":"CLAUDIO XAVIER PEREIRA"},{"$f":"[1]BASE!B112","v":1202804},{"$f":"[1]BASE!C112","v":"Analista de Planejamento e Orçamento"},{"$f":"[1]BASE!D112","v":"Exercício Descentralizado"},{"$f":"[1]BASE!E112","v":"ME - Ministério da Economia"},{"$f":"[1]BASE!F112","v":"DAS 101.4"},{"$f":"[1]BASE!G112","v":" "},{"$f":"[1]BASE!H112","v":"SE / SPOA / COORDENAÇÃO GERAL DE ORÇAMENTO E FINANÇAS - CGOF"},{"$f":"[1]BASE!I112","v":"8.105.500"}]
[{"$f":"[1]BASE!A113","v":"CLAYTON DE SOUZA PONTES"},{"$f":"[1]BASE!B113","v":3482082},{"$f":"[1]BASE!C113","v":"Sem Cargo/Emprego"},{"$f":"[1]BASE!D113","v":"Sem Vínculo"},{"$f":"[1]BASE!E113","v":"Sem Vínculo"},{"$f":"[1]BASE!F113","v":"DAS 101.4"},{"$f":"[1]BASE!G113","v":" "},{"$f":"[1]BASE!H113","v":"SPG / DPGN / COORDENAÇÃO GERAL DE POLÍTICA DE CONCESSÃO DE BLOCOS EXPLORATÓRIOS"},{"$f":"[1]BASE!I113","v":"11.101.200"}]
[{"$f":"[1]BASE!A114","v":"CLEONICE DE FREITAS DE ALMEIDA"},{"$f":"[1]BASE!B114","v":2586386},{"$f":"[1]BASE!C114","v":"Escriturário II"},{"$f":"[1]BASE!D114","v":"Anistiado MME"},{"$f":"[1]BASE!E114","v":"MME - Ministério de Minas e Energia"},{"$f":"[1]BASE!F114","v":" "},{"$f":"[1]BASE!G114","v":" "},{"$f":"[1]BASE!H114","v":"SE / SPOA / CGRH / COORDENAÇÃO DE DESENVOLVIMENTO E SEGURIDADE SOCIAL - CODES"},{"$f":"[1]BASE!I114","v":"8.105.220"}]
[{"$f":"[1]BASE!A115","v":"CLEUSA COSTA DE JESUS"},{"$f":"[1]BASE!B115","v":454729},{"$f":"[1]BASE!C115","v":"Agente Administrativo"},{"$f":"[1]BASE!D115","v":"Ativo Permanente"},{"$f":"[1]BASE!E115","v":"MME - Ministério de Minas e Energia"},{"$f":"[1]BASE!F115","v":"FGR 1"},{"$f":"[1]BASE!G115","v":"GSISTE Intermediário"},{"$f":"[1]BASE!H115","v":"SE / SPOA / CGCC / COORDENAÇÃO DE ADMINISTRAÇÃO DE CONTRATOS - CAC"},{"$f":"[1]BASE!I115","v":"8.105.410"}]
[{"$f":"[1]BASE!A116","v":"CONCEICAO CRISTINA ARAUJO LIMA"},{"$f":"[1]BASE!B116","v":5300147},{"$f":"[1]BASE!C116","v":"Sem Cargo/Emprego"},{"$f":"[1]BASE!D116","v":"Sem Vínculo"},{"$f":"[1]BASE!E116","v":"Sem Vínculo"},{"$f":"[1]BASE!F116","v":"DAS 101.4"},{"$f":"[1]BASE!G116","v":" "},{"$f":"[1]BASE!H116","v":"SEE / DPUE / COORDENAÇÃO GERAL DE UNIVERSALIZAÇÃO DO ACESSO À ENERGIA"},{"$f":"[1]BASE!I116","v":"12.103.200"}]
[{"$f":"[1]BASE!A117","v":"CONCEICAO DE MARIA OLIVEIRA COSTA"},{"$f":"[1]BASE!B117","v":1094208},{"$f":"[1]BASE!C117","v":"Administrador"},{"$f":"[1]BASE!D117","v":"Ativo Permanente"},{"$f":"[1]BASE!E117","v":"MME - Ministério de Minas e Energia"},{"$f":"[1]BASE!F117","v":"FCPE 102.1"},{"$f":"[1]BASE!G117","v":"GSISTE Superior"},{"$f":"[1]BASE!H117","v":"SE / SPOA / COORDENAÇÃO DE MODERNIZAÇÃO ADMINISTRATIVA - CMA"},{"$f":"[1]BASE!I117","v":"8.105.010"}]
[{"$f":"[1]BASE!A118","v":"CORACY NOGUEIRA LOSSO"},{"$f":"[1]BASE!B118","v":1681461},{"$f":"[1]BASE!C118","v":"Programador de Sistema III"},{"$f":"[1]BASE!D118","v":"Anistiado MME"},{"$f":"[1]BASE!E118","v":"MME - Ministério de Minas e Energia"},{"$f":"[1]BASE!F118","v":" "},{"$f":"[1]BASE!G118","v":" "},{"$f":"[1]BASE!H118","v":"Aguardando Lotação/Exercício"},{"$f":"[1]BASE!I118","v":"88.000.000"}]
[{"$f":"[1]BASE!A119","v":"CRISTIANO MASAYOSHI MENEZES FURUHASHI"},{"$f":"[1]BASE!B119","v":2661367},{"$f":"[1]BASE!C119","v":"Analista de Infraestrutura"},{"$f":"[1]BASE!D119","v":"Exercício Descentralizado"},{"$f":"[1]BASE!E119","v":"ME - Ministério da Economia"},{"$f":"[1]BASE!F119","v":" "},{"$f":"[1]BASE!G119","v":" "},{"$f":"[1]BASE!H119","v":"SGM / DEPARTAMENTO DE DESENVOLVIMENTO SUSTENTÁVEL NA MINERAÇÃO - DDM"},{"$f":"[1]BASE!I119","v":"9.104.000"}]
[{"$f":"[1]BASE!A120","v":"CRISTOVAO EPAMINONDAS DE LIMA"},{"$f":"[1]BASE!B120","v":2798687},{"$f":"[1]BASE!C120","v":"Agente Administrativo"},{"$f":"[1]BASE!D120","v":"Requisitado de Órgãos"},{"$f":"[1]BASE!E120","v":"MAPA - Ministério da Agricultura, Pecuário e Abastecimento"},{"$f":"[1]BASE!F120","v":"FCT 10"},{"$f":"[1]BASE!G120","v":"GSISTE Intermediário"},{"$f":"[1]BASE!H120","v":"SE / SPOA / CGRL / COORDENAÇÃO DE ATIVIDADES GERAIS - COAGE"},{"$f":"[1]BASE!I120","v":"8.105.120"}]
[{"$f":"[1]BASE!A121","v":"CUSTÓDIA OLIVEIRA PEREIRA"},{"$f":"[1]BASE!B121","v":2344185},{"$f":"[1]BASE!C121","v":"Sem Cargo/Emprego"},{"$f":"[1]BASE!D121","v":"Sem Vínculo"},{"$f":"[1]BASE!E121","v":"Sem Vínculo"},{"$f":"[1]BASE!F121","v":"DAS 101.2"},{"$f":"[1]BASE!G121","v":" "},{"$f":"[1]BASE!H121","v":"SE / SPOA / CGRL / COORDENAÇÃO DE ADMINISTRAÇÃO DE MATERIAL E EXECUÇÃO FINANCEIRA - COMEF"},{"$f":"[1]BASE!I121","v":"8.105.110"}]
[{"$f":"[1]BASE!A122","v":"DALTON JOSE DE OLIVEIRA"},{"$f":"[1]BASE!B122","v":452266},{"$f":"[1]BASE!C122","v":"Administrador"},{"$f":"[1]BASE!D122","v":"Ativo Permanente"},{"$f":"[1]BASE!E122","v":"MME - Ministério de Minas e Energia"},{"$f":"[1]BASE!F122","v":"DAS 102.3"},{"$f":"[1]BASE!G122","v":" "},{"$f":"[1]BASE!H122","v":"ASSESSORIA ESPECIAL DE ACOMPANHAMENTO DE POLÍTICAS, ESTRATÉGIAS E DESEMPENHO SETORIAL - AEPED"},{"$f":"[1]BASE!I122","v":"4.000.000"}]
[{"$f":"[1]BASE!A123","v":"DANIEL ALVES LIMA"},{"$f":"[1]BASE!B123","v":3561759},{"$f":"[1]BASE!C123","v":"Analista de Infraestrutura"},{"$f":"[1]BASE!D123","v":"Requisitado de Órgãos"},{"$f":"[1]BASE!E123","v":"ME - Ministério da Economia"},{"$f":"[1]BASE!F123","v":"FCPE 101.4"},{"$f":"[1]BASE!G123","v":" "},{"$f":"[1]BASE!H123","v":"SGM / DPGM / COORDENAÇÃO GERAL DE POLÍTICA E PROGRAMAS PARA MINERAÇÃO"},{"$f":"[1]BASE!I123","v":"9.101.100"}]
[{"$f":"[1]BASE!A124","v":"DANIEL LOPES PÊGO"},{"$f":"[1]BASE!B124","v":1048617},{"$f":"[1]BASE!C124","v":"Analista de Infraestrutura"},{"$f":"[1]BASE!D124","v":"Exercício Descentralizado"},{"$f":"[1]BASE!E124","v":"ME - Ministério da Economia"},{"$f":"[1]BASE!F124","v":"FCPE 102.2"},{"$f":"[1]BASE!G124","v":" "},{"$f":"[1]BASE!H124","v":"SPG / DEPARTAMENTO DE GÁS NATURAL - DGN"},{"$f":"[1]BASE!I124","v":"11.102.000"}]
[{"$f":"[1]BASE!A125","v":"DANIELE DE OLIVEIRA BANDEIRA"},{"$f":"[1]BASE!B125","v":1433965},{"$f":"[1]BASE!C125","v":"Sem Cargo/Emprego"},{"$f":"[1]BASE!D125","v":"Sem Vínculo"},{"$f":"[1]BASE!E125","v":"Sem Vínculo"},{"$f":"[1]BASE!F125","v":"DAS 102.3"},{"$f":"[1]BASE!G125","v":" "},{"$f":"[1]BASE!H125","v":"SPE / DIEE / COORDENAÇÃO GERAL DE INFORMAÇÕES ENERGÉTICAS"},{"$f":"[1]BASE!I125","v":"10.104.100"}]
[{"$f":"[1]BASE!A126","v":"DANIELLE GONCALVES BRITTO"},{"$f":"[1]BASE!B126","v":3133022},{"$f":"[1]BASE!C126","v":"Marinha"},{"$f":"[1]BASE!D126","v":"Requisitado Militar"},{"$f":"[1]BASE!E126","v":"Marinha"},{"$f":"[1]BASE!F126","v":"DAS 102.3"},{"$f":"[1]BASE!G126","v":" "},{"$f":"[1]BASE!H126","v":"Escritório Rio de Janeiro/RJ"},{"$f":"[1]BASE!I126","v":"99.000.000"}]
[{"$f":"[1]BASE!A127","v":"DANIELLE LANCHARES ORNELAS"},{"$f":"[1]BASE!B127","v":1650027},{"$f":"[1]BASE!C127","v":"Especialista em Regulamentação de Petróleo e Der Alc Com e Gás Natural"},{"$f":"[1]BASE!D127","v":"Requisitado de Órgãos"},{"$f":"[1]BASE!E127","v":"ANP - Agência Nacional do Petróleo, Gás Natural e Biocombustíveis"},{"$f":"[1]BASE!F127","v":"DAS 101.4"},{"$f":"[1]BASE!G127","v":" "},{"$f":"[1]BASE!H127","v":"SPG / DCDP / COORDENAÇÃO GERAL DE REFINO, ABASTECIMENTO ......"},{"$f":"[1]BASE!I127","v":"11.103.200"}]
[{"$f":"[1]BASE!A128","v":"DANIELLE SIMOES GUIMARAES"},{"$f":"[1]BASE!B128","v":2444145},{"$f":"[1]BASE!C128","v":"Sem Cargo/Emprego"},{"$f":"[1]BASE!D128","v":"Sem Vínculo"},{"$f":"[1]BASE!E128","v":"Sem Vínculo"},{"$f":"[1]BASE!F128","v":"DAS 102.4"},{"$f":"[1]BASE!G128","v":" "},{"$f":"[1]BASE!H128","v":"ASSESSORIA ESPECIAL DE RELAÇÕES INTERNACIONAIS - ASSINT"},{"$f":"[1]BASE!I128","v":"3.000.000"}]
[{"$f":"[1]BASE!A129","v":"DARIO SPEGIORIN SILVEIRA"},{"$f":"[1]BASE!B129","v":2499671},{"$f":"[1]BASE!C129","v":"Advogado da União"},{"$f":"[1]BASE!D129","v":"Exercício Descentralizado"},{"$f":"[1]BASE!E129","v":"AGU - Advocacia Geral da União"},{"$f":"[1]BASE!F129","v":"FCPE 102.3"},{"$f":"[1]BASE!G129","v":" "},{"$f":"[1]BASE!H129","v":"CONJUR / CHEFIA DE GABINETE CONJUR"},{"$f":"[1]BASE!I129","v":"7.100.000"}]
[{"$f":"[1]BASE!A130","v":"DEIVSON MATOS TIMBÓ"},{"$f":"[1]BASE!B130","v":2661231},{"$f":"[1]BASE!C130","v":"Analista de Infraestrutura"},{"$f":"[1]BASE!D130","v":"Exercício Descentralizado"},{"$f":"[1]BASE!E130","v":"ME - Ministério da Economia"},{"$f":"[1]BASE!F130","v":"DAS 101.4"},{"$f":"[1]BASE!G130","v":" "},{"$f":"[1]BASE!H130","v":"SPG / DCDP / COORDENAÇÃO GERAL DE ACOMPANHAMENTO DO MERCADO"},{"$f":"[1]BASE!I130","v":"11.103.100"}]
[{"$f":"[1]BASE!A131","v":"DENIS DE MOURA SOARES"},{"$f":"[1]BASE!B131","v":1334799},{"$f":"[1]BASE!C131","v":"Analista de Planejamento e Orçamento"},{"$f":"[1]BASE!D131","v":"Requisitado de Órgãos"},{"$f":"[1]BASE!E131","v":"ME - Ministério da Economia"},{"$f":"[1]BASE!F131","v":"DAS 101.5"},{"$f":"[1]BASE!G131","v":" "},{"$f":"[1]BASE!H131","v":"SE / ASSESSORIA ESPECIAL DE GESTÃO DE PROJETOS - AEGP"},{"$f":"[1]BASE!I131","v":"8.103.000"}]
[{"$f":"[1]BASE!A132","v":"DENIZE VALENTIM"},{"$f":"[1]BASE!B132","v":1678550},{"$f":"[1]BASE!C132","v":"Auxiliar Codificação e Conferência"},{"$f":"[1]BASE!D132","v":"Anistiado MME"},{"$f":"[1]BASE!E132","v":"MME - Ministério de Minas e Energia"},{"$f":"[1]BASE!F132","v":" "},{"$f":"[1]BASE!G132","v":" "},{"$f":"[1]BASE!H132","v":"SE / SPOA / COORDENAÇÃO GERAL DE RECURSOS HUMANOS - CGRH"},{"$f":"[1]BASE!I132","v":"8.105.200"}]
[{"$f":"[1]BASE!A133","v":"DENNIS OTTO CHAMORRO ZELAYA"},{"$f":"[1]BASE!B133","v":1669878},{"$f":"[1]BASE!C133","v":"Analista de Sistema"},{"$f":"[1]BASE!D133","v":"Anistiado MME"},{"$f":"[1]BASE!E133","v":"MME - Ministério de Minas e Energia"},{"$f":"[1]BASE!F133","v":" "},{"$f":"[1]BASE!G133","v":" "},{"$f":"[1]BASE!H133","v":"Aguardando Lotação/Exercício"},{"$f":"[1]BASE!I133","v":"88.000.000"}]
[{"$f":"[1]BASE!A134","v":"DIANA BISPO DE JESUS"},{"$f":"[1]BASE!B134","v":0},{"$f":"[1]BASE!C134","v":"Sem Cargo/Emprego"},{"$f":"[1]BASE!D134","v":"Sem Vínculo"},{"$f":"[1]BASE!E134","v":"Sem Vínculo"},{"$f":"[1]BASE!F134","v":"DAS 102.2"},{"$f":"[1]BASE!G134","v":" "},{"$f":"[1]BASE!H134","v":"GM / ASSESSORIA DE COMUNICAÇÃO SOCIAL - ASCOM"},{"$f":"[1]BASE!I134","v":"2.100.300"}]
[{"$f":"[1]BASE!A135","v":"DIMAS FIGUEIREDO NOBREGA"},{"$f":"[1]BASE!B135","v":2230294},{"$f":"[1]BASE!C135","v":"Codificador de Dados I"},{"$f":"[1]BASE!D135","v":"Anistiado MME"},{"$f":"[1]BASE!E135","v":"MME - Ministério de Minas e Energia"},{"$f":"[1]BASE!F135","v":" "},{"$f":"[1]BASE!G135","v":" "},{"$f":"[1]BASE!H135","v":"SE / SPOA / CGRL / COORDENAÇÃO DE ATIVIDADES GERAIS - COAGE"},{"$f":"[1]BASE!I135","v":"8.105.120"}]
[{"$f":"[1]BASE!A136","v":"DINALVA FEIJO DE MELO MENDES"},{"$f":"[1]BASE!B136","v":2083513},{"$f":"[1]BASE!C136","v":"Advogado"},{"$f":"[1]BASE!D136","v":"Anistiado MME"},{"$f":"[1]BASE!E136","v":"MME - Ministério de Minas e Energia"},{"$f":"[1]BASE!F136","v":" "},{"$f":"[1]BASE!G136","v":" "},{"$f":"[1]BASE!H136","v":"Aguardando Lotação/Exercício"},{"$f":"[1]BASE!I136","v":"88.000.000"}]
[{"$f":"[1]BASE!A137","v":"DIOGO SANTOS BALEEIRO"},{"$f":"[1]BASE!B137","v":2659082},{"$f":"[1]BASE!C137","v":"Analista de Infraestrutura"},{"$f":"[1]BASE!D137","v":"Exercício Descentralizado"},{"$f":"[1]BASE!E137","v":"ME - Ministério da Economia"},{"$f":"[1]BASE!F137","v":"FCPE 102.2"},{"$f":"[1]BASE!G137","v":" "},{"$f":"[1]BASE!H137","v":"SPG / DEPARTAMENTO DE POLÍTICA DE EXPLORAÇÃO E PRODUÇÃO DE PETRÓLEO E GÁS NATURAL - DPGN"},{"$f":"[1]BASE!I137","v":"11.101.000"}]
[{"$f":"[1]BASE!A138","v":"DIONE MACEDO"},{"$f":"[1]BASE!B138","v":1583128},{"$f":"[1]BASE!C138","v":"Sem Cargo/Emprego"},{"$f":"[1]BASE!D138","v":"Sem Vínculo"},{"$f":"[1]BASE!E138","v":"Sem Vínculo"},{"$f":"[1]BASE!F138","v":"DAS 101.4"},{"$f":"[1]BASE!G138","v":" "},{"$f":"[1]BASE!H138","v":"SGM / DDM / COORDENAÇÃO GERAL DE DESENVOLVIMENTO SOCIOAMBIENTAL NA MINERAÇÃO"},{"$f":"[1]BASE!I138","v":"9.104.100"}]
[{"$f":"[1]BASE!A139","v":"DOMINGOS ROMEU ANDREATTA"},{"$f":"[1]BASE!B139","v":1495892},{"$f":"[1]BASE!C139","v":"Engenheiro"},{"$f":"[1]BASE!D139","v":"Requisitado de Empresa"},{"$f":"[1]BASE!E139","v":"ELETROSUL - Companhia de Geração e Transmissão de Energia Elétrica do Sul do Brasil"},{"$f":"[1]BASE!F139","v":"DAS 101.5"},{"$f":"[1]BASE!G139","v":" "},{"$f":"[1]BASE!H139","v":"SEE / CHEFIA DE GABINETE SEE"},{"$f":"[1]BASE!I139","v":"12.100.000"}]
[{"$f":"[1]BASE!A140","v":"EDNA PATRICIA DE SENA"},{"$f":"[1]BASE!B140","v":1669537},{"$f":"[1]BASE!C140","v":"Escriturário III"},{"$f":"[1]BASE!D140","v":"Anistiado MME"},{"$f":"[1]BASE!E140","v":"MME - Ministério de Minas e Energia"},{"$f":"[1]BASE!F140","v":" "},{"$f":"[1]BASE!G140","v":" "},{"$f":"[1]BASE!H140","v":"SE / SPOA / CGRH / COORDENAÇÃO DE DESENVOLVIMENTO E SEGURIDADE SOCIAL - CODES"},{"$f":"[1]BASE!I140","v":"8.105.220"}]
[{"$f":"[1]BASE!A141","v":"EDUARDO JOSÉ FERNANDES PRATA"},{"$f":"[1]BASE!B141","v":455167},{"$f":"[1]BASE!C141","v":"Administrador"},{"$f":"[1]BASE!D141","v":"Ativo Permanente"},{"$f":"[1]BASE!E141","v":"MME - Ministério de Minas e Energia"},{"$f":"[1]BASE!F141","v":"FCPE 102.1"},{"$f":"[1]BASE!G141","v":"GSISTE Superior"},{"$f":"[1]BASE!H141","v":"SE / SPOA / COORDENAÇÃO DE MODERNIZAÇÃO ADMINISTRATIVA - CMA"},{"$f":"[1]BASE!I141","v":"8.105.010"}]
[{"$f":"[1]BASE!A142","v":"EDUARDO SOUZA GRIVOT DE GRAND COURT"},{"$f":"[1]BASE!B142","v":3204382},{"$f":"[1]BASE!C142","v":"Sem Cargo/Emprego"},{"$f":"[1]BASE!D142","v":"Sem Vínculo"},{"$f":"[1]BASE!E142","v":"S/VÍNCULO"},{"$f":"[1]BASE!F142","v":"DAS 102.4"},{"$f":"[1]BASE!G142","v":" "},{"$f":"[1]BASE!H142","v":"SE / ASSESSORIA ESPECIAL DE GESTÃO ESTRATÉGICA - AEGE"},{"$f":"[1]BASE!I142","v":"8.101.000"}]
[{"$f":"[1]BASE!A143","v":"EDVANDA BARBOSA DA SILVA MELO"},{"$f":"[1]BASE!B143","v":451530},{"$f":"[1]BASE!C143","v":"Datilógrafo"},{"$f":"[1]BASE!D143","v":"Ativo Permanente"},{"$f":"[1]BASE!E143","v":"MME - Ministério de Minas e Energia"},{"$f":"[1]BASE!F143","v":" "},{"$f":"[1]BASE!G143","v":"GSISTE Intermediário"},{"$f":"[1]BASE!H143","v":"SE / SPOA / CGRL / COORDENAÇÃO DE ATIVIDADES GERAIS - COAGE"},{"$f":"[1]BASE!I143","v":"8.105.120"}]
[{"$f":"[1]BASE!A144","v":"ELEAZAR HEPNER"},{"$f":"[1]BASE!B144","v":1800748},{"$f":"[1]BASE!C144","v":"Analista de Infraestrutura"},{"$f":"[1]BASE!D144","v":"Exercício Descentralizado"},{"$f":"[1]BASE!E144","v":"ME - Ministério da Economia"},{"$f":"[1]BASE!F144","v":" "},{"$f":"[1]BASE!G144","v":" "},{"$f":"[1]BASE!H144","v":"SPG / DEPARTAMENTO DE GÁS NATURAL - DGN"},{"$f":"[1]BASE!I144","v":"11.102.000"}]
[{"$f":"[1]BASE!A145","v":"ELIAS PEREIRA"},{"$f":"[1]BASE!B145","v":455294},{"$f":"[1]BASE!C145","v":"Agente de Portaria"},{"$f":"[1]BASE!D145","v":"Ativo Permanente"},{"$f":"[1]BASE!E145","v":"MME - Ministério de Minas e Energia"},{"$f":"[1]BASE!F145","v":"FCT 2"},{"$f":"[1]BASE!G145","v":" "},{"$f":"[1]BASE!H145","v":"SE / SPOA / CGRH / COORDENAÇÃO DE DESENVOLVIMENTO E SEGURIDADE SOCIAL - CODES"},{"$f":"[1]BASE!I145","v":"8.105.220"}]
[{"$f":"[1]BASE!A146","v":"ELIS REGINA PIRES GARCIA"},{"$f":"[1]BASE!B146","v":455221},{"$f":"[1]BASE!C146","v":"Agente Administrativo"},{"$f":"[1]BASE!D146","v":"Ativo Permanente"},{"$f":"[1]BASE!E146","v":"MME - Ministério de Minas e Energia"},{"$f":"[1]BASE!F146","v":"FCPE 102.2"},{"$f":"[1]BASE!G146","v":" "},{"$f":"[1]BASE!H146","v":"GM / ASTAD / COORDENAÇÃO DE ATIVIDADES ADMINISTRATIVAS"},{"$f":"[1]BASE!I146","v":"2.100.101"}]
[{"$f":"[1]BASE!A147","v":"ELISANGELA APARECIDA FERNANDES"},{"$f":"[1]BASE!B147","v":1331098},{"$f":"[1]BASE!C147","v":"Sem Cargo/Emprego"},{"$f":"[1]BASE!D147","v":"Sem Vínculo"},{"$f":"[1]BASE!E147","v":"Sem Vínculo"},{"$f":"[1]BASE!F147","v":"DAS 102.1"},{"$f":"[1]BASE!G147","v":" "},{"$f":"[1]BASE!H147","v":"GM / ASSESSORIA PARLAMENTAR - ASPAR"},{"$f":"[1]BASE!I147","v":"2.100.200"}]
[{"$f":"[1]BASE!A148","v":"ELIZABETE TEIXEIRA SA FREIRE DE ABREU"},{"$f":"[1]BASE!B148","v":266924},{"$f":"[1]BASE!C148","v":"Enfermeiro"},{"$f":"[1]BASE!D148","v":"Ativo Permanente"},{"$f":"[1]BASE!E148","v":"MME - Ministério de Minas e Energia"},{"$f":"[1]BASE!F148","v":"FCT 3"},{"$f":"[1]BASE!G148","v":"GSISTE Superior"},{"$f":"[1]BASE!H148","v":"SE / SPOA / CGRH / COORDENAÇÃO DE DESENVOLVIMENTO E SEGURIDADE SOCIAL - CODES"},{"$f":"[1]BASE!I148","v":"8.105.220"}]
[{"$f":"[1]BASE!A149","v":"ELIZABETH NOGUEIRA"},{"$f":"[1]BASE!B149","v":1587079},{"$f":"[1]BASE!C149","v":"Escriturário IV"},{"$f":"[1]BASE!D149","v":"Anistiado MME"},{"$f":"[1]BASE!E149","v":"MME - Ministério de Minas e Energia"},{"$f":"[1]BASE!F149","v":" "},{"$f":"[1]BASE!G149","v":" "},{"$f":"[1]BASE!H149","v":"SE / SPOA / CGRH / COORDENAÇÃO DE ADMINISTRAÇÃO DE PESSOAL - CAPES"},{"$f":"[1]BASE!I149","v":"8.105.210"}]
[{"$f":"[1]BASE!A150","v":"ELIZABETH TAYLOR SOUSA MENESES DE AGUIAR"},{"$f":"[1]BASE!B150","v":1494863},{"$f":"[1]BASE!C150","v":"Sem Cargo/Emprego"},{"$f":"[1]BASE!D150","v":"Sem Vínculo"},{"$f":"[1]BASE!E150","v":"Sem Vínculo"},{"$f":"[1]BASE!F150","v":"DAS 102.2"},{"$f":"[1]BASE!G150","v":" "},{"$f":"[1]BASE!H150","v":"CONJUR / CGAA / COORDENAÇÃO DE APOIO ADMINISTRATIVO"},{"$f":"[1]BASE!I150","v":"7.100.310"}]
[{"$f":"[1]BASE!A151","v":"ELIZANE VELOZO COSTA GUEDES"},{"$f":"[1]BASE!B151","v":1095447},{"$f":"[1]BASE!C151","v":"Agente Administrativo"},{"$f":"[1]BASE!D151","v":"Ativo Permanente"},{"$f":"[1]BASE!E151","v":"MME - Ministério de Minas e Energia"},{"$f":"[1]BASE!F151","v":"DAS 101.3"},{"$f":"[1]BASE!G151","v":"GSISTE Intermediário (MPAAC)"},{"$f":"[1]BASE!H151","v":"SE / SPOA / CGOF / COORDENAÇÃO DE CONTABILIDADE - CONT"},{"$f":"[1]BASE!I151","v":"8.105.520"}]
[{"$f":"[1]BASE!A152","v":"ELZA MARIA DA ROCHA"},{"$f":"[1]BASE!B152","v":1669651},{"$f":"[1]BASE!C152","v":"Auxiliar de Biblioteca"},{"$f":"[1]BASE!D152","v":"Anistiado MME"},{"$f":"[1]BASE!E152","v":"MME - Ministério de Minas e Energia"},{"$f":"[1]BASE!F152","v":" "},{"$f":"[1]BASE!G152","v":" "},{"$f":"[1]BASE!H152","v":"SE / SPOA / CGRH / COORDENAÇÃO DE DESENVOLVIMENTO E SEGURIDADE SOCIAL - CODES"},{"$f":"[1]BASE!I152","v":"8.105.220"}]
[{"$f":"[1]BASE!A153","v":"EMANOELLE DE OLIVEIRA LIMA"},{"$f":"[1]BASE!B153","v":1461010},{"$f":"[1]BASE!C153","v":"Sem Cargo/Emprego"},{"$f":"[1]BASE!D153","v":"Sem Vínculo"},{"$f":"[1]BASE!E153","v":"Sem Vínculo"},{"$f":"[1]BASE!F153","v":"DAS 102.3"},{"$f":"[1]BASE!G153","v":" "},{"$f":"[1]BASE!H153","v":"SEE / DMSE / COORDENAÇÃO GERAL DE MONITORAMENTO DA EXPANSÃO DA TRANSMISSÃO"},{"$f":"[1]BASE!I153","v":"12.102.200"}]
[{"$f":"[1]BASE!A154","v":"EMIDIO JOSE DA SILVA NETO"},{"$f":"[1]BASE!B154","v":1280722},{"$f":"[1]BASE!C154","v":"Escriturário"},{"$f":"[1]BASE!D154","v":"Anistiado MME"},{"$f":"[1]BASE!E154","v":"MME - Ministério de Minas e Energia"},{"$f":"[1]BASE!F154","v":" "},{"$f":"[1]BASE!G154","v":" "},{"$f":"[1]BASE!H154","v":"SEE / DGSE / COORDENAÇÃO GERAL DE GESTÃO DA COMERCIALIZAÇÃO DE ENERGIA"},{"$f":"[1]BASE!I154","v":"12.101.100"}]
[{"$f":"[1]BASE!A155","v":"ENIR SEBASTIAO MENDES"},{"$f":"[1]BASE!B155","v":2663548},{"$f":"[1]BASE!C155","v":"Analista de Infraestrutura"},{"$f":"[1]BASE!D155","v":"Exercício Descentralizado"},{"$f":"[1]BASE!E155","v":"ME - Ministério da Economia"},{"$f":"[1]BASE!F155","v":"DAS 101.5"},{"$f":"[1]BASE!G155","v":" "},{"$f":"[1]BASE!H155","v":"SGM / DEPARTAMENTO DE TRANSFORMAÇÃO E TECNOLOGIA MINERAL - DTTM"},{"$f":"[1]BASE!I155","v":"9.103.000"}]
[{"$f":"[1]BASE!A156","v":"ERIKA FLAVIA PFEILSTICKER RIBAS"},{"$f":"[1]BASE!B156","v":1095148},{"$f":"[1]BASE!C156","v":"Agente Administrativo"},{"$f":"[1]BASE!D156","v":"Ativo Permanente"},{"$f":"[1]BASE!E156","v":"MME - Ministério de Minas e Energia"},{"$f":"[1]BASE!F156","v":"FCT 2"},{"$f":"[1]BASE!G156","v":"GSISTE Intermediário"},{"$f":"[1]BASE!H156","v":"SE / SPOA / COORDENAÇÃO GERAL DE RECURSOS HUMANOS - CGRH"},{"$f":"[1]BASE!I156","v":"8.105.200"}]
[{"$f":"[1]BASE!A157","v":"ERIKA TAVARES AGUIRRES"},{"$f":"[1]BASE!B157","v":1586382},{"$f":"[1]BASE!C157","v":"Sem Cargo/Emprego"},{"$f":"[1]BASE!D157","v":"Sem Vínculo"},{"$f":"[1]BASE!E157","v":"Sem Vínculo"},{"$f":"[1]BASE!F157","v":"DAS 102.2"},{"$f":"[1]BASE!G157","v":" "},{"$f":"[1]BASE!H157","v":"SE / SPOA / CGCC / COORDENAÇÃO DE ADMINISTRAÇÃO DE CONTRATOS - CAC"},{"$f":"[1]BASE!I157","v":"8.105.410"}]
[{"$f":"[1]BASE!A158","v":"ERIVELTO FURTADO NEVES"},{"$f":"[1]BASE!B158","v":452971},{"$f":"[1]BASE!C158","v":"Técnico de Contabilidade"},{"$f":"[1]BASE!D158","v":"Ativo Permanente"},{"$f":"[1]BASE!E158","v":"MME - Ministério de Minas e Energia"},{"$f":"[1]BASE!F158","v":"FCPE 102.1"},{"$f":"[1]BASE!G158","v":" "},{"$f":"[1]BASE!H158","v":"GM / ASTAD / COORDENAÇÃO DE ATIVIDADES ADMINISTRATIVAS"},{"$f":"[1]BASE!I158","v":"2.100.101"}]
[{"$f":"[1]BASE!A159","v":"ERLENE MARIA LIMA"},{"$f":"[1]BASE!B159","v":3089519},{"$f":"[1]BASE!C159","v":"Sem Cargo/Emprego"},{"$f":"[1]BASE!D159","v":"Sem Vínculo"},{"$f":"[1]BASE!E159","v":"Sem Vínculo"},{"$f":"[1]BASE!F159","v":"DAS 101.4"},{"$f":"[1]BASE!G159","v":" "},{"$f":"[1]BASE!H159","v":"SGM / DPGM / COORDENAÇÃO GERAL DE MONITORAMENTO E CONTROLE DA GESTÃO DE PROGRAMA"},{"$f":"[1]BASE!I159","v":"9.101.200"}]
[{"$f":"[1]BASE!A160","v":"ESDRAS GODINHO RAMOS"},{"$f":"[1]BASE!B160","v":1901880},{"$f":"[1]BASE!C160","v":"Analista de Infraestrutura"},{"$f":"[1]BASE!D160","v":"Requisitado de Órgãos"},{"$f":"[1]BASE!E160","v":"ME - Ministério da Economia"},{"$f":"[1]BASE!F160","v":"DAS 102.2"},{"$f":"[1]BASE!G160","v":" "},{"$f":"[1]BASE!H160","v":"SPG / CHEFIA DE GABINETE SPG"},{"$f":"[1]BASE!I160","v":"11.100.000"}]
[{"$f":"[1]BASE!A161","v":"EUCIMAR KWIATKOWSKI AUGUSTINHAK"},{"$f":"[1]BASE!B161","v":4878036},{"$f":"[1]BASE!C161","v":"Analista de Infraestrutura"},{"$f":"[1]BASE!D161","v":"Exercício Descentralizado"},{"$f":"[1]BASE!E161","v":"ME - Ministério da Economia"},{"$f":"[1]BASE!F161","v":"FGR 1"},{"$f":"[1]BASE!G161","v":" "},{"$f":"[1]BASE!H161","v":"SEE / DMSE / COORDENAÇÃO GERAL DE MONITORAMENTO DA EXPANSÃO DA TRANSMISSÃO"},{"$f":"[1]BASE!I161","v":"12.102.200"}]
[{"$f":"[1]BASE!A162","v":"EVERALDO FERNANDES DE MEDEIROS"},{"$f":"[1]BASE!B162","v":451511},{"$f":"[1]BASE!C162","v":"Agente de Portaria"},{"$f":"[1]BASE!D162","v":"Ativo Permanente"},{"$f":"[1]BASE!E162","v":"MME - Ministério de Minas e Energia"},{"$f":"[1]BASE!F162","v":"FCT 11"},{"$f":"[1]BASE!G162","v":" "},{"$f":"[1]BASE!H162","v":"SE / SPOA / COORDENAÇÃO GERAL DE RECURSOS LOGÍSTICOS - CGRL"},{"$f":"[1]BASE!I162","v":"8.105.100"}]
[{"$f":"[1]BASE!A163","v":"FABIAN DIE MENEZES CARVALHO"},{"$f":"[1]BASE!B163","v":2209139},{"$f":"[1]BASE!C163","v":"Sem Cargo/Emprego"},{"$f":"[1]BASE!D163","v":"Sem Vínculo"},{"$f":"[1]BASE!E163","v":"Sem Vínculo"},{"$f":"[1]BASE!F163","v":"DAS 102.2"},{"$f":"[1]BASE!G163","v":" "},{"$f":"[1]BASE!H163","v":"ASSESSORIA ESPECIAL DE RELAÇÕES INTERNACIONAIS - ASSINT"},{"$f":"[1]BASE!I163","v":"3.000.000"}]
[{"$f":"[1]BASE!A164","v":"FABIANA ANGELICA AIRES"},{"$f":"[1]BASE!B164","v":1339230},{"$f":"[1]BASE!C164","v":"Sem Cargo/Emprego"},{"$f":"[1]BASE!D164","v":"Sem Vínculo"},{"$f":"[1]BASE!E164","v":"Sem Vínculo"},{"$f":"[1]BASE!F164","v":"DAS 102.2"},{"$f":"[1]BASE!G164","v":" "},{"$f":"[1]BASE!H164","v":"SEE / DEPARTAMENTO DE MONITORAMENTO DO SISTEMA ELÉTRICO - DMSE"},{"$f":"[1]BASE!I164","v":"12.102.000"}]
[{"$f":"[1]BASE!A165","v":"FABIANA GAZZONI CEPEDA"},{"$f":"[1]BASE!B165","v":3090896},{"$f":"[1]BASE!C165","v":"Especialista em Política Pública e Gestão Governamental"},{"$f":"[1]BASE!D165","v":"Exercício Descentralizado"},{"$f":"[1]BASE!E165","v":"ME - Ministério da Economia"},{"$f":"[1]BASE!F165","v":"DAS 101.5"},{"$f":"[1]BASE!G165","v":" "},{"$f":"[1]BASE!H165","v":"SEE / DEPARTAMENTO DE GESTÃO DO SETOR ELÉTRICO - DGSE"},{"$f":"[1]BASE!I165","v":"12.101.000"}]
[{"$f":"[1]BASE!A166","v":"FABIO SKAF NACFUR"},{"$f":"[1]BASE!B166","v":1047866},{"$f":"[1]BASE!C166","v":"Sem Cargo/Emprego"},{"$f":"[1]BASE!D166","v":"Sem Vínculo"},{"$f":"[1]BASE!E166","v":"Sem Vínculo"},{"$f":"[1]BASE!F166","v":"DAS 102.2"},{"$f":"[1]BASE!G166","v":" "},{"$f":"[1]BASE!H166","v":"GM / OUVIDORIA GERAL - OUVIR"},{"$f":"[1]BASE!I166","v":"2.100.500"}]
[{"$f":"[1]BASE!A167","v":"FÁBIO SOUSA DO VALE"},{"$f":"[1]BASE!B167","v":1126019},{"$f":"[1]BASE!C167","v":"Assistente em Administração"},{"$f":"[1]BASE!D167","v":"Requisitado de Órgãos"},{"$f":"[1]BASE!E167","v":"FUB - Fundação Universidade de Brasília"},{"$f":"[1]BASE!F167","v":"DAS 101.2"},{"$f":"[1]BASE!G167","v":" "},{"$f":"[1]BASE!H167","v":"SE / SPOA / CGRH / COORDENAÇÃO DE ADMINISTRAÇÃO DE PESSOAL - CAPES"},{"$f":"[1]BASE!I167","v":"8.105.210"}]
[{"$f":"[1]BASE!A168","v":"FABRICCIO QUIXADA STEINDORFER PROENCA"},{"$f":"[1]BASE!B168","v":1200330},{"$f":"[1]BASE!C168","v":"Advogado da União"},{"$f":"[1]BASE!D168","v":"Exercício Descentralizado"},{"$f":"[1]BASE!E168","v":"AGU - Advocacia Geral da União"},{"$f":"[1]BASE!F168","v":" "},{"$f":"[1]BASE!G168","v":" "},{"$f":"[1]BASE!H168","v":"CONJUR / COORDENAÇÃO GERAL DE ASSSUNTOS ADMINISTRATIVOS - CGAA"},{"$f":"[1]BASE!I168","v":"7.100.300"}]
[{"$f":"[1]BASE!A169","v":"FABRÍCIO DAIREL DE CAMPOS LACERDA"},{"$f":"[1]BASE!B169","v":3708809},{"$f":"[1]BASE!C169","v":"Analista de Infraestrutura"},{"$f":"[1]BASE!D169","v":"Exercício Descentralizado"},{"$f":"[1]BASE!E169","v":"ME - Ministério da Economia"},{"$f":"[1]BASE!F169","v":"DAS 101.4"},{"$f":"[1]BASE!G169","v":" "},{"$f":"[1]BASE!H169","v":"SEE / DGSE / COORDENAÇÃO GERAL DE GESTÃO DA COMERCIALIZAÇÃO DE ENERGIA"},{"$f":"[1]BASE!I169","v":"12.101.100"}]
[{"$f":"[1]BASE!A170","v":"FATIMA ROSA TEIXEIRA"},{"$f":"[1]BASE!B170","v":1867203},{"$f":"[1]BASE!C170","v":"Técnico Industrial Especializado"},{"$f":"[1]BASE!D170","v":"Anistiado outros Órgãos"},{"$f":"[1]BASE!E170","v":"IMBEL - Indústria de Material Bélico do Brasil"},{"$f":"[1]BASE!F170","v":" "},{"$f":"[1]BASE!G170","v":" "},{"$f":"[1]BASE!H170","v":"SE / SPOA / COORDENAÇÃO GERAL DE RECURSOS HUMANOS - CGRH"},{"$f":"[1]BASE!I170","v":"8.105.200"}]
[{"$f":"[1]BASE!A171","v":"FERNANDA DE ANDRADE NOVAES"},{"$f":"[1]BASE!B171","v":1568546},{"$f":"[1]BASE!C171","v":"Técnico Comunicação Social"},{"$f":"[1]BASE!D171","v":"Requisitado de Órgãos"},{"$f":"[1]BASE!E171","v":"MDR - Ministério do Desenvolvimento Regional"},{"$f":"[1]BASE!F171","v":" "},{"$f":"[1]BASE!G171","v":"GSISTE Superior"},{"$f":"[1]BASE!H171","v":"SE / SPOA / CGRH / COORDENAÇÃO DE ADMINISTRAÇÃO DE PESSOAL - CAPES"},{"$f":"[1]BASE!I171","v":"8.105.210"}]
[{"$f":"[1]BASE!A172","v":"FERNANDA MARIA DE MELO SILVA MARRA"},{"$f":"[1]BASE!B172","v":6184178},{"$f":"[1]BASE!C172","v":"Administrador"},{"$f":"[1]BASE!D172","v":"Ativo Permanente"},{"$f":"[1]BASE!E172","v":"MME - Ministério de Minas e Energia"},{"$f":"[1]BASE!F172","v":"FCPE 102.1"},{"$f":"[1]BASE!G172","v":"GSISTE Superior"},{"$f":"[1]BASE!H172","v":"SE / SPOA / COORDENAÇÃO DE MODERNIZAÇÃO ADMINISTRATIVA - CMA"},{"$f":"[1]BASE!I172","v":"8.105.010"}]
[{"$f":"[1]BASE!A173","v":"FERNANDO ANTONIO GIFFONI NORONHA LUZ"},{"$f":"[1]BASE!B173","v":3333896},{"$f":"[1]BASE!C173","v":"Sem Cargo/Emprego"},{"$f":"[1]BASE!D173","v":"Sem Vínculo"},{"$f":"[1]BASE!E173","v":"Sem Vínculo"},{"$f":"[1]BASE!F173","v":"DAS 101.4"},{"$f":"[1]BASE!G173","v":" "},{"$f":"[1]BASE!H173","v":"SEE / DMSE / COORDENAÇÃO GERAL DE MONITORAMENTO DA EXPANSÃO DA GERAÇÃO"},{"$f":"[1]BASE!I173","v":"12.102.100"}]
[{"$f":"[1]BASE!A174","v":"FERNANDO MASSAHARU MATSUMOTO"},{"$f":"[1]BASE!B174","v":3799409},{"$f":"[1]BASE!C174","v":"Auditor Federal de Finanças e Controle"},{"$f":"[1]BASE!D174","v":"Requisitado de Órgãos"},{"$f":"[1]BASE!E174","v":"ME - Ministério da Economia"},{"$f":"[1]BASE!F174","v":"DAS 101.4"},{"$f":"[1]BASE!G174","v":" "},{"$f":"[1]BASE!H174","v":"SPG / DEPARTAMENTO DE GÁS NATURAL - DGN"},{"$f":"[1]BASE!I174","v":"11.102.000"}]
[{"$f":"[1]BASE!A175","v":"FERNANDO PORTELLA ROSA"},{"$f":"[1]BASE!B175","v":2393116},{"$f":"[1]BASE!C175","v":"Gerente de Projeto"},{"$f":"[1]BASE!D175","v":"Contrato Temporário"},{"$f":"[1]BASE!E175","v":"MME - Ministério de Minas e Energia"},{"$f":"[1]BASE!F175","v":" "},{"$f":"[1]BASE!G175","v":" "},{"$f":"[1]BASE!H175","v":"SE / AEGP / COORDENAÇÃO GERAL DE GESTÃO DE PROJETOS - CGGP"},{"$f":"[1]BASE!I175","v":"8.103.200"}]
[{"$f":"[1]BASE!A176","v":"FERNANDO YAMASHITA"},{"$f":"[1]BASE!B176","v":2085644},{"$f":"[1]BASE!C176","v":"Assistente Técnico Administrativo"},{"$f":"[1]BASE!D176","v":"Requisitado de Órgãos"},{"$f":"[1]BASE!E176","v":"MDR - Ministério do Desenvolvimento Regional"},{"$f":"[1]BASE!F176","v":"DAS 101.3"},{"$f":"[1]BASE!G176","v":"GSISTE Intermediário"},{"$f":"[1]BASE!H176","v":"SE / SPOA / CGRL / COORDENAÇÃO DE ADMINISTRAÇÃO DE MATERIAL E EXECUÇÃO FINANCEIRA - COMEF"},{"$f":"[1]BASE!I176","v":"8.105.110"}]
[{"$f":"[1]BASE!A177","v":"FLAMARION SOUZA MATOS"},{"$f":"[1]BASE!B177","v":6028993},{"$f":"[1]BASE!C177","v":"Sem Cargo/Emprego"},{"$f":"[1]BASE!D177","v":"Sem Vínculo"},{"$f":"[1]BASE!E177","v":"Sem Vínculo"},{"$f":"[1]BASE!F177","v":"DAS 101.5"},{"$f":"[1]BASE!G177","v":" "},{"$f":"[1]BASE!H177","v":"SEE / DEPARTAMENTO DE POLÍTICAS SOCIAIS E UNIVERSALIZAÇÃO DO ACESSO À ENERGIA ELÉTRICA - DPUE"},{"$f":"[1]BASE!I177","v":"12.103.000"}]
[{"$f":"[1]BASE!A178","v":"FLAVIO ALVES CARDOSO"},{"$f":"[1]BASE!B178","v":2280405},{"$f":"[1]BASE!C178","v":"Advogado"},{"$f":"[1]BASE!D178","v":"Anistiado MME"},{"$f":"[1]BASE!E178","v":"MME - Ministério de Minas e Energia"},{"$f":"[1]BASE!F178","v":" "},{"$f":"[1]BASE!G178","v":" "},{"$f":"[1]BASE!H178","v":"SPE / DEPARTAMENTO DE OUTORGAS DE CONCESSÕES, PERMISSÕES E AUTORIZAÇÕES - DOC"},{"$f":"[1]BASE!I178","v":"10.103.000"}]
[{"$f":"[1]BASE!A179","v":"FRANCIMAR SOUSA DE LIMA SAKAMOTO"},{"$f":"[1]BASE!B179","v":2069736},{"$f":"[1]BASE!C179","v":"Sem Cargo/Emprego"},{"$f":"[1]BASE!D179","v":"Sem Vínculo"},{"$f":"[1]BASE!E179","v":"Sem Vínculo"},{"$f":"[1]BASE!F179","v":"DAS 102.1"},{"$f":"[1]BASE!G179","v":" "},{"$f":"[1]BASE!H179","v":"SGM / CHEFIA DE GABINETE SGM"},{"$f":"[1]BASE!I179","v":"9.100.000"}]
[{"$f":"[1]BASE!A180","v":"FRANCISCA DE FATIMA SOARES DE SOUZA"},{"$f":"[1]BASE!B180","v":451566},{"$f":"[1]BASE!C180","v":"Agente Administrativo"},{"$f":"[1]BASE!D180","v":"Ativo Permanente"},{"$f":"[1]BASE!E180","v":"MME - Ministério de Minas e Energia"},{"$f":"[1]BASE!F180","v":"FCT 11"},{"$f":"[1]BASE!G180","v":" "},{"$f":"[1]BASE!H180","v":"SE / SPOA / CGRL / COORDENAÇÃO DE ATIVIDADES GERAIS - COAGE"},{"$f":"[1]BASE!I180","v":"8.105.120"}]
[{"$f":"[1]BASE!A181","v":"FRANCISCO ALEXANDRE STECHER DE OLIVEIRA"},{"$f":"[1]BASE!B181","v":1586720},{"$f":"[1]BASE!C181","v":"Programador de Sistemas"},{"$f":"[1]BASE!D181","v":"Anistiado MME"},{"$f":"[1]BASE!E181","v":"MME - Ministério de Minas e Energia"},{"$f":"[1]BASE!F181","v":"DAS 102.2"},{"$f":"[1]BASE!G181","v":" "},{"$f":"[1]BASE!H181","v":"SE / SPOA / CGTI / COORDENAÇÃO DE INFRAESTRUTURA TECNOLÓGICA - "},{"$f":"[1]BASE!I181","v":"8.105.310"}]
[{"$f":"[1]BASE!A182","v":"FRANCISCO AUGUSTO NOGUEIRA DA SILVA"},{"$f":"[1]BASE!B182","v":1669854},{"$f":"[1]BASE!C182","v":"Auxiliar Codificação e Conferência"},{"$f":"[1]BASE!D182","v":"Anistiado MME"},{"$f":"[1]BASE!E182","v":"MME - Ministério de Minas e Energia"},{"$f":"[1]BASE!F182","v":" "},{"$f":"[1]BASE!G182","v":" "},{"$f":"[1]BASE!H182","v":"GM / ASTAD / COORDENAÇÃO DE ATIVIDADES ADMINISTRATIVAS"},{"$f":"[1]BASE!I182","v":"2.100.101"}]
[{"$f":"[1]BASE!A183","v":"FRANCISCO BARBOSA DE MORAIS"},{"$f":"[1]BASE!B183","v":1669557},{"$f":"[1]BASE!C183","v":"Advogado"},{"$f":"[1]BASE!D183","v":"Anistiado MME"},{"$f":"[1]BASE!E183","v":"MME - Ministério de Minas e Energia"},{"$f":"[1]BASE!F183","v":" "},{"$f":"[1]BASE!G183","v":" "},{"$f":"[1]BASE!H183","v":"Aguardando Lotação/Exercício"},{"$f":"[1]BASE!I183","v":"88.000.000"}]
[{"$f":"[1]BASE!A184","v":"FRANCISCO CARLOS FERREIRA RIBEIRO"},{"$f":"[1]BASE!B184","v":451646},{"$f":"[1]BASE!C184","v":"Agente Administrativo"},{"$f":"[1]BASE!D184","v":"Ativo Permanente"},{"$f":"[1]BASE!E184","v":"MME - Ministério de Minas e Energia"},{"$f":"[1]BASE!F184","v":"FCT 7"},{"$f":"[1]BASE!G184","v":"GSISTE Intermediário"},{"$f":"[1]BASE!H184","v":"SE / SPOA / CGRL / COORDENAÇÃO DE ATIVIDADES GERAIS - COAGE"},{"$f":"[1]BASE!I184","v":"8.105.120"}]
[{"$f":"[1]BASE!A185","v":"FRANCISCO DAS CHAGAS FONTELE"},{"$f":"[1]BASE!B185","v":6001438},{"$f":"[1]BASE!C185","v":"Agente de Portaria"},{"$f":"[1]BASE!D185","v":"Ativo Permanente"},{"$f":"[1]BASE!E185","v":"MME - Ministério de Minas e Energia"},{"$f":"[1]BASE!F185","v":"FGR 1"},{"$f":"[1]BASE!G185","v":" "},{"$f":"[1]BASE!H185","v":"SE / SPOA / CGRL / COORDENAÇÃO DE ATIVIDADES GERAIS - COAGE"},{"$f":"[1]BASE!I185","v":"8.105.120"}]
[{"$f":"[1]BASE!A186","v":"FRANCISCO DAS CHAGAS GOMES DE BRITO"},{"$f":"[1]BASE!B186","v":452175},{"$f":"[1]BASE!C186","v":"Agente de Portaria"},{"$f":"[1]BASE!D186","v":"Ativo Permanente"},{"$f":"[1]BASE!E186","v":"MME - Ministério de Minas e Energia"},{"$f":"[1]BASE!F186","v":"FGR 1"},{"$f":"[1]BASE!G186","v":" "},{"$f":"[1]BASE!H186","v":"SE / SPOA / CGRL / COORDENAÇÃO DE ATIVIDADES GERAIS - COAGE"},{"$f":"[1]BASE!I186","v":"8.105.120"}]
[{"$f":"[1]BASE!A187","v":"FRANCISCO GOMES DE MATOS"},{"$f":"[1]BASE!B187","v":454825},{"$f":"[1]BASE!C187","v":"Motorista Oficial"},{"$f":"[1]BASE!D187","v":"Ativo Permanente"},{"$f":"[1]BASE!E187","v":"MME - Ministério de Minas e Energia"},{"$f":"[1]BASE!F187","v":"FCPE 102.1"},{"$f":"[1]BASE!G187","v":" "},{"$f":"[1]BASE!H187","v":"SE / SPOA / CGRL / COORDENAÇÃO DE ATIVIDADES GERAIS - COAGE"},{"$f":"[1]BASE!I187","v":"8.105.120"}]
[{"$f":"[1]BASE!A188","v":"FRANCISCO PAULO RUBINO"},{"$f":"[1]BASE!B188","v":2839155},{"$f":"[1]BASE!C188","v":"Analista de Programação Controle Obras"},{"$f":"[1]BASE!D188","v":"Anistiado outros Órgãos"},{"$f":"[1]BASE!E188","v":"ANM - Agência Nacional de Mineração"},{"$f":"[1]BASE!F188","v":" "},{"$f":"[1]BASE!G188","v":" "},{"$f":"[1]BASE!H188","v":"SGM / DPGM / COORDENAÇÃO GERAL DE ECONOMIA MINERAL"},{"$f":"[1]BASE!I188","v":"9.101.300"}]
[{"$f":"[1]BASE!A189","v":"FRANCISCO SALES DA SILVA"},{"$f":"[1]BASE!B189","v":455378},{"$f":"[1]BASE!C189","v":"Auxiliar Operacional de Serviços Diversos"},{"$f":"[1]BASE!D189","v":"Ativo Permanente"},{"$f":"[1]BASE!E189","v":"MME - Ministério de Minas e Energia"},{"$f":"[1]BASE!F189","v":"FCT 10"},{"$f":"[1]BASE!G189","v":" "},{"$f":"[1]BASE!H189","v":"SPG / CHEFIA DE GABINETE SPG"},{"$f":"[1]BASE!I189","v":"11.100.000"}]
[{"$f":"[1]BASE!A190","v":"FRANCISCO SANTANA PEREIRA"},{"$f":"[1]BASE!B190","v":452270},{"$f":"[1]BASE!C190","v":"Agente Administrativo"},{"$f":"[1]BASE!D190","v":"Ativo Permanente"},{"$f":"[1]BASE!E190","v":"MME - Ministério de Minas e Energia"},{"$f":"[1]BASE!F190","v":"DAS 102.1"},{"$f":"[1]BASE!G190","v":" "},{"$f":"[1]BASE!H190","v":"GM / ASSESSORIA DE COMUNICAÇÃO SOCIAL - ASCOM"},{"$f":"[1]BASE!I190","v":"2.100.300"}]
[{"$f":"[1]BASE!A191","v":"FREDERICO BEDRAN OLIVEIRA"},{"$f":"[1]BASE!B191","v":2530526},{"$f":"[1]BASE!C191","v":"Analista de Infraestrutura"},{"$f":"[1]BASE!D191","v":"Exercício Descentralizado"},{"$f":"[1]BASE!E191","v":"ME - Ministério da Economia"},{"$f":"[1]BASE!F191","v":"DAS 101.5"},{"$f":"[1]BASE!G191","v":" "},{"$f":"[1]BASE!H191","v":"SGM / DEPARTAMENTO DE GEOLOGIA E PRODUÇÃO MINERAL - DGPM"},{"$f":"[1]BASE!I191","v":"9.102.000"}]
[{"$f":"[1]BASE!A192","v":"FREDERICO DE ARAUJO TELES"},{"$f":"[1]BASE!B192","v":1558450},{"$f":"[1]BASE!C192","v":"Especialista em Regulação de Serv Púb de Energia"},{"$f":"[1]BASE!D192","v":"Requisitado de Órgãos"},{"$f":"[1]BASE!E192","v":"ANEEL - Agência Nacional de Energia Elétrica"},{"$f":"[1]BASE!F192","v":"FCPE 102.4"},{"$f":"[1]BASE!G192","v":" "},{"$f":"[1]BASE!H192","v":"ASSESSORIA ESPECIAL DE ASSUNTOS ECONÔMICOS - ASSEC"},{"$f":"[1]BASE!I192","v":"6.000.000"}]
[{"$f":"[1]BASE!A193","v":"FRUTUOSO DA SILVA LOREGA NETO"},{"$f":"[1]BASE!B193","v":3085966},{"$f":"[1]BASE!C193","v":"Marinha"},{"$f":"[1]BASE!D193","v":"Requisitado Militar"},{"$f":"[1]BASE!E193","v":"Marinha"},{"$f":"[1]BASE!F193","v":"DAS 102.2"},{"$f":"[1]BASE!G193","v":" "},{"$f":"[1]BASE!H193","v":"GABINETE DO MINISTRO - GM"},{"$f":"[1]BASE!I193","v":"2.000.000"}]
[{"$f":"[1]BASE!A194","v":"GABRIEL MOTA MALDONADO"},{"$f":"[1]BASE!B194","v":3090889},{"$f":"[1]BASE!C194","v":"Sem Cargo/Emprego"},{"$f":"[1]BASE!D194","v":"Sem Vínculo"},{"$f":"[1]BASE!E194","v":"Sem Vínculo"},{"$f":"[1]BASE!F194","v":"DAS 101.5"},{"$f":"[1]BASE!G194","v":" "},{"$f":"[1]BASE!H194","v":"SGM / DEPARTAMENTO DE DESENVOLVIMENTO SUSTENTÁVEL NA MINERAÇÃO - DDM"},{"$f":"[1]BASE!I194","v":"9.104.000"}]
[{"$f":"[1]BASE!A195","v":"GABRIELA PEREIRA GONCALVES"},{"$f":"[1]BASE!B195","v":1844328},{"$f":"[1]BASE!C195","v":"Sem Cargo/Emprego"},{"$f":"[1]BASE!D195","v":"Sem Vínculo"},{"$f":"[1]BASE!E195","v":"Sem Vínculo"},{"$f":"[1]BASE!F195","v":"DAS 102.3"},{"$f":"[1]BASE!G195","v":" "},{"$f":"[1]BASE!H195","v":"GM / ASSESSORIA PARLAMENTAR - ASPAR"},{"$f":"[1]BASE!I195","v":"2.100.200"}]
[{"$f":"[1]BASE!A196","v":"GENESIO SOARES DE OLIVEIRA"},{"$f":"[1]BASE!B196","v":6460451},{"$f":"[1]BASE!C196","v":"Sem Cargo/Emprego"},{"$f":"[1]BASE!D196","v":"Sem Vínculo"},{"$f":"[1]BASE!E196","v":"Sem Vínculo"},{"$f":"[1]BASE!F196","v":"DAS 102.1"},{"$f":"[1]BASE!G196","v":" "},{"$f":"[1]BASE!H196","v":"GM / ASTAD / COORDENAÇÃO DE ATIVIDADES ADMINISTRATIVAS"},{"$f":"[1]BASE!I196","v":"2.100.101"}]
[{"$f":"[1]BASE!A197","v":"GERALDO DEOCLECIANO DE AZEVEDO"},{"$f":"[1]BASE!B197","v":455338},{"$f":"[1]BASE!C197","v":"Agente de Portaria"},{"$f":"[1]BASE!D197","v":"Ativo Permanente"},{"$f":"[1]BASE!E197","v":"MME - Ministério de Minas e Energia"},{"$f":"[1]BASE!F197","v":"FGR 1"},{"$f":"[1]BASE!G197","v":" "},{"$f":"[1]BASE!H197","v":"SE / SPOA / CGRL / COORDENAÇÃO DE ATIVIDADES GERAIS - COAGE"},{"$f":"[1]BASE!I197","v":"8.105.120"}]
[{"$f":"[1]BASE!A198","v":"GERALDO RIBEIRO DOS SANTOS"},{"$f":"[1]BASE!B198","v":451522},{"$f":"[1]BASE!C198","v":"Datilógrafo"},{"$f":"[1]BASE!D198","v":"Ativo Permanente"},{"$f":"[1]BASE!E198","v":"MME - Ministério de Minas e Energia"},{"$f":"[1]BASE!F198","v":"FCT 7"},{"$f":"[1]BASE!G198","v":" "},{"$f":"[1]BASE!H198","v":"SE / SPOA / CGRL / COORDENAÇÃO DE ATIVIDADES GERAIS - COAGE"},{"$f":"[1]BASE!I198","v":"8.105.120"}]
[{"$f":"[1]BASE!A199","v":"GEVALTER DE FREITAS NEVES"},{"$f":"[1]BASE!B199","v":451635},{"$f":"[1]BASE!C199","v":"Agente Administrativo"},{"$f":"[1]BASE!D199","v":"Ativo Permanente"},{"$f":"[1]BASE!E199","v":"MME - Ministério de Minas e Energia"},{"$f":"[1]BASE!F199","v":"FCPE 102.3"},{"$f":"[1]BASE!G199","v":" "},{"$f":"[1]BASE!H199","v":"SPE / CHEFIA DE GABINETE SPE"},{"$f":"[1]BASE!I199","v":"10.100.000"}]
[{"$f":"[1]BASE!A200","v":"GIACOMO PERROTTA"},{"$f":"[1]BASE!B200","v":2662515},{"$f":"[1]BASE!C200","v":"Analista de Infraestrutura"},{"$f":"[1]BASE!D200","v":"Exercício Descentralizado"},{"$f":"[1]BASE!E200","v":"ME - Ministério da Economia"},{"$f":"[1]BASE!F200","v":" "},{"$f":"[1]BASE!G200","v":" "},{"$f":"[1]BASE!H200","v":"SPE / DPE / COORDENAÇÃO GERAL DE PLANEJAMENTO DA TRANSMISSÃO"},{"$f":"[1]BASE!I200","v":"10.101.100"}]
[{"$f":"[1]BASE!A201","v":"GILBERTO KWITKO RIBEIRO"},{"$f":"[1]BASE!B201","v":3310644},{"$f":"[1]BASE!C201","v":"Especialista em Política Pública e Gestão Governamental"},{"$f":"[1]BASE!D201","v":"Exercício Descentralizado"},{"$f":"[1]BASE!E201","v":"ME - Ministério da Economia"},{"$f":"[1]BASE!F201","v":" "},{"$f":"[1]BASE!G201","v":" "},{"$f":"[1]BASE!H201","v":"SPE / DIEE / COORDENAÇÃO GERAL DE INFORMAÇÕES ENERGÉTICAS"},{"$f":"[1]BASE!I201","v":"10.104.100"}]
[{"$f":"[1]BASE!A202","v":"GILDA MARIA LEITE DA FONSECA"},{"$f":"[1]BASE!B202","v":452261},{"$f":"[1]BASE!C202","v":"Datilógrafo"},{"$f":"[1]BASE!D202","v":"Ativo Permanente"},{"$f":"[1]BASE!E202","v":"MME - Ministério de Minas e Energia"},{"$f":"[1]BASE!F202","v":"FCPE 102.2"},{"$f":"[1]BASE!G202","v":" "},{"$f":"[1]BASE!H202","v":"SPE / DEPARTAMENTO DE PLANEJAMENTO ENERGÉTICO - DPE"},{"$f":"[1]BASE!I202","v":"10.101.000"}]
[{"$f":"[1]BASE!A203","v":"GILVAN DE BARROS COELHO"},{"$f":"[1]BASE!B203","v":1680740},{"$f":"[1]BASE!C203","v":"Administrador"},{"$f":"[1]BASE!D203","v":"Anistiado MME"},{"$f":"[1]BASE!E203","v":"MME - Ministério de Minas e Energia"},{"$f":"[1]BASE!F203","v":" "},{"$f":"[1]BASE!G203","v":" "},{"$f":"[1]BASE!H203","v":"Aguardando Lotação/Exercício"},{"$f":"[1]BASE!I203","v":"88.000.000"}]
[{"$f":"[1]BASE!A204","v":"GILVAN DE CASTRO ARARUNA"},{"$f":"[1]BASE!B204","v":452342},{"$f":"[1]BASE!C204","v":"Datilógrafo"},{"$f":"[1]BASE!D204","v":"Ativo Permanente"},{"$f":"[1]BASE!E204","v":"MME - Ministério de Minas e Energia"},{"$f":"[1]BASE!F204","v":"FCT 10"},{"$f":"[1]BASE!G204","v":" "},{"$f":"[1]BASE!H204","v":"GM / ASTAD / COORDENAÇÃO DE ATIVIDADES ADMINISTRATIVAS"},{"$f":"[1]BASE!I204","v":"2.100.101"}]
[{"$f":"[1]BASE!A205","v":"GILVAN MARQUES TEODORO"},{"$f":"[1]BASE!B205","v":1105547},{"$f":"[1]BASE!C205","v":"Médico"},{"$f":"[1]BASE!D205","v":"Ativo Permanente"},{"$f":"[1]BASE!E205","v":"MME - Ministério de Minas e Energia"},{"$f":"[1]BASE!F205","v":" "},{"$f":"[1]BASE!G205","v":"GSISTE Superior"},{"$f":"[1]BASE!H205","v":"SE / SPOA / CGRH / COORDENAÇÃO DE DESENVOLVIMENTO E SEGURIDADE SOCIAL - CODES"},{"$f":"[1]BASE!I205","v":"8.105.220"}]
[{"$f":"[1]BASE!A206","v":"GISELIA MARQUES DE SOUZA"},{"$f":"[1]BASE!B206","v":451712},{"$f":"[1]BASE!C206","v":"Agente Administrativo"},{"$f":"[1]BASE!D206","v":"Ativo Permanente"},{"$f":"[1]BASE!E206","v":"MME - Ministério de Minas e Energia"},{"$f":"[1]BASE!F206","v":"FCT 9"},{"$f":"[1]BASE!G206","v":"GSISP Intermediário"},{"$f":"[1]BASE!H206","v":"SE / SPOA / CGTI / COORDENAÇÃO DE INFRAESTRUTURA TECNOLÓGICA - "},{"$f":"[1]BASE!I206","v":"8.105.310"}]
[{"$f":"[1]BASE!A207","v":"GLAUCIA MARIA DE MEIRELES"},{"$f":"[1]BASE!B207","v":1479945},{"$f":"[1]BASE!C207","v":"Sem Cargo/Emprego"},{"$f":"[1]BASE!D207","v":"Sem Vínculo"},{"$f":"[1]BASE!E207","v":"Sem Vínculo"},{"$f":"[1]BASE!F207","v":"DAS 102.3"},{"$f":"[1]BASE!G207","v":" "},{"$f":"[1]BASE!H207","v":"SE / CHEFIA DE GABINETE SE"},{"$f":"[1]BASE!I207","v":"8.100.000"}]
[{"$f":"[1]BASE!A208","v":"GLEYSIELEN CARDOSO NEVES"},{"$f":"[1]BASE!B208","v":2675984},{"$f":"[1]BASE!C208","v":"Sem Cargo/Emprego"},{"$f":"[1]BASE!D208","v":"Sem Vínculo"},{"$f":"[1]BASE!E208","v":"Sem Vínculo"},{"$f":"[1]BASE!F208","v":"DAS 101.2"},{"$f":"[1]BASE!G208","v":" "},{"$f":"[1]BASE!H208","v":"SE / SPOA / CGRL / COORDENAÇÃO DE ATIVIDADES GERAIS - COAGE"},{"$f":"[1]BASE!I208","v":"8.105.120"}]
[{"$f":"[1]BASE!A209","v":"GRAYCE MARTINS DA SILVA GONCALVES"},{"$f":"[1]BASE!B209","v":1804230},{"$f":"[1]BASE!C209","v":"Analista Técnico Administrativo"},{"$f":"[1]BASE!D209","v":"Requisitado de Órgãos"},{"$f":"[1]BASE!E209","v":"MDR - Ministério do Desenvolvimento Regional"},{"$f":"[1]BASE!F209","v":"FCPE 101.4"},{"$f":"[1]BASE!G209","v":" "},{"$f":"[1]BASE!H209","v":"GM / OUVIDORIA GERAL - OUVIR"},{"$f":"[1]BASE!I209","v":"2.100.500"}]
[{"$f":"[1]BASE!A210","v":"GUALTER DE CARVALHO MENDES"},{"$f":"[1]BASE!B210","v":5293689},{"$f":"[1]BASE!C210","v":"Sem Cargo/Emprego"},{"$f":"[1]BASE!D210","v":"Sem Vínculo"},{"$f":"[1]BASE!E210","v":"Sem Vínculo"},{"$f":"[1]BASE!F210","v":"DAS 102.4"},{"$f":"[1]BASE!G210","v":" "},{"$f":"[1]BASE!H210","v":"SEE / CHEFIA DE GABINETE SEE"},{"$f":"[1]BASE!I210","v":"12.100.000"}]
[{"$f":"[1]BASE!A211","v":"GUILHERME BRUM DE ALMEIDA"},{"$f":"[1]BASE!B211","v":1507340},{"$f":"[1]BASE!C211","v":"Advogado da União"},{"$f":"[1]BASE!D211","v":"Exercício Descentralizado"},{"$f":"[1]BASE!E211","v":"AGU - Advocacia Geral da União"},{"$f":"[1]BASE!F211","v":"FCPE 101.4"},{"$f":"[1]BASE!G211","v":" "},{"$f":"[1]BASE!H211","v":"CONJUR / COORDENAÇÃO GERAL DE ASSSUNTOS ADMINISTRATIVOS - CGAA"},{"$f":"[1]BASE!I211","v":"7.100.300"}]
[{"$f":"[1]BASE!A212","v":"GUILHERME SILVA DE GODOI"},{"$f":"[1]BASE!B212","v":3688550},{"$f":"[1]BASE!C212","v":"Analista de Infraestrutura"},{"$f":"[1]BASE!D212","v":"Exercício Descentralizado"},{"$f":"[1]BASE!E212","v":"ME - Ministério da Economia"},{"$f":"[1]BASE!F212","v":"DAS 101.5"},{"$f":"[1]BASE!G212","v":" "},{"$f":"[1]BASE!H212","v":"SEE / DEPARTAMENTO DE MONITORAMENTO DO SISTEMA ELÉTRICO - DMSE"},{"$f":"[1]BASE!I212","v":"12.102.000"}]
[{"$f":"[1]BASE!A213","v":"GUILHERME ZANETTI ROSA"},{"$f":"[1]BASE!B213","v":2799234},{"$f":"[1]BASE!C213","v":"Analista de Infraestrutura"},{"$f":"[1]BASE!D213","v":"Exercício Descentralizado"},{"$f":"[1]BASE!E213","v":"ME - Ministério da Economia"},{"$f":"[1]BASE!F213","v":"DAS 102.3"},{"$f":"[1]BASE!G213","v":" "},{"$f":"[1]BASE!H213","v":"SPE / DPE / COORDENAÇÃO GERAL DE PLANEJAMENTO DA TRANSMISSÃO"},{"$f":"[1]BASE!I213","v":"10.101.100"}]
[{"$f":"[1]BASE!A214","v":"GUSTAVO CERQUEIRA ATAIDE"},{"$f":"[1]BASE!B214","v":1653173},{"$f":"[1]BASE!C214","v":"Analista de Infraestrutura"},{"$f":"[1]BASE!D214","v":"Requisitado de Órgãos"},{"$f":"[1]BASE!E214","v":"ME - Ministério da Economia"},{"$f":"[1]BASE!F214","v":"DAS 102.4"},{"$f":"[1]BASE!G214","v":" "},{"$f":"[1]BASE!H214","v":"SPE / DEPARTAMENTO DE PLANEJAMENTO ENERGÉTICO - DPE"},{"$f":"[1]BASE!I214","v":"10.101.000"}]
[{"$f":"[1]BASE!A215","v":"GUSTAVO LUIS DE SOUZA MOTTA"},{"$f":"[1]BASE!B215","v":2983503},{"$f":"[1]BASE!C215","v":"Especialista em Política Pública e Gestão Governamental"},{"$f":"[1]BASE!D215","v":"Exercício Descentralizado"},{"$f":"[1]BASE!E215","v":"ME - Ministério da Economia"},{"$f":"[1]BASE!F215","v":"FCPE 102.2"},{"$f":"[1]BASE!G215","v":" "},{"$f":"[1]BASE!H215","v":"SPG / DBIO / COORDENAÇÃO GERAL DE BIODIESEL E OUTROS BIOCOMBUSTÍVEIS"},{"$f":"[1]BASE!I215","v":"11.104.100"}]
[{"$f":"[1]BASE!A216","v":"GUSTAVO SANTOS MASILI"},{"$f":"[1]BASE!B216","v":3663022},{"$f":"[1]BASE!C216","v":"Auditor Federal de Finanças e Controle"},{"$f":"[1]BASE!D216","v":"Requisitado de Órgãos"},{"$f":"[1]BASE!E216","v":"ME - Ministério da Economia"},{"$f":"[1]BASE!F216","v":"FCPE 101.4"},{"$f":"[1]BASE!G216","v":" "},{"$f":"[1]BASE!H216","v":"SE / AEGP / COORDENAÇÃO GERAL DE PLANEJAMENTO, FINANÇAS E CONTROLE - CGPF"},{"$f":"[1]BASE!I216","v":"8.103.100"}]
[{"$f":"[1]BASE!A217","v":"HAILTON MADUREIRA DE ALMEIDA"},{"$f":"[1]BASE!B217","v":1370766},{"$f":"[1]BASE!C217","v":"Auditor Federal de Finanças e Controle"},{"$f":"[1]BASE!D217","v":"Requisitado de Órgãos"},{"$f":"[1]BASE!E217","v":"ME - Ministério da Economia"},{"$f":"[1]BASE!F217","v":"DAS 101.5"},{"$f":"[1]BASE!G217","v":" "},{"$f":"[1]BASE!H217","v":"ASSESSORIA ESPECIAL DE ASSUNTOS ECONÔMICOS - ASSEC"},{"$f":"[1]BASE!I217","v":"6.000.000"}]
[{"$f":"[1]BASE!A218","v":"HAMILTON CHIARINI DE ALCÂNTARA"},{"$f":"[1]BASE!B218","v":4499226},{"$f":"[1]BASE!C218","v":"Analista de Infraestrutura"},{"$f":"[1]BASE!D218","v":"Exercício Descentralizado"},{"$f":"[1]BASE!E218","v":"ME - Ministério da Economia"},{"$f":"[1]BASE!F218","v":"FGR 1"},{"$f":"[1]BASE!G218","v":" "},{"$f":"[1]BASE!H218","v":"SEE / DPUE / COORDENAÇÃO GERAL DE DESENVOLVIMENTO DE POLÍTICAS SOCIAIS"},{"$f":"[1]BASE!I218","v":"12.103.100"}]
[{"$f":"[1]BASE!A219","v":"HELIO MAURO FRANCA"},{"$f":"[1]BASE!B219","v":6439807},{"$f":"[1]BASE!C219","v":"Advogado I"},{"$f":"[1]BASE!D219","v":"Anistiado MME"},{"$f":"[1]BASE!E219","v":"MME - Ministério de Minas e Energia"},{"$f":"[1]BASE!F219","v":" "},{"$f":"[1]BASE!G219","v":" "},{"$f":"[1]BASE!H219","v":"SGM / DEPARTAMENTO DE GESTÃO DAS POLÍTICAS DE GEOLOGIA, MINERAÇÃOE TRANSFORMAÇÃO - DPGM"},{"$f":"[1]BASE!I219","v":"9.101.000"}]
[{"$f":"[1]BASE!A220","v":"HELIO MOURINHO GARCIA JUNIOR"},{"$f":"[1]BASE!B220","v":1243343},{"$f":"[1]BASE!C220","v":"Sem Cargo/Emprego"},{"$f":"[1]BASE!D220","v":"Sem Vínculo"},{"$f":"[1]BASE!E220","v":"Sem Vínculo"},{"$f":"[1]BASE!F220","v":"DAS 101.5"},{"$f":"[1]BASE!G220","v":" "},{"$f":"[1]BASE!H220","v":"SE / SUBSECRETARIA DE PLANEJAMENTO, ORÇAMENTO E ADMINISTRAÇÃO - SPOA"},{"$f":"[1]BASE!I220","v":"8.105.000"}]
[{"$f":"[1]BASE!A221","v":"HELITON SABINO BRIGLIA FERREIRA"},{"$f":"[1]BASE!B221","v":3139070},{"$f":"[1]BASE!C221","v":"Marinha"},{"$f":"[1]BASE!D221","v":"Requisitado Militar"},{"$f":"[1]BASE!E221","v":"Marinha"},{"$f":"[1]BASE!F221","v":"DAS 101.4"},{"$f":"[1]BASE!G221","v":" "},{"$f":"[1]BASE!H221","v":"SE / SPOA / COORDENAÇÃO GERAL DE TECNOLOGIA E INFORMAÇÃO - CGTI"},{"$f":"[1]BASE!I221","v":"8.105.300"}]
[{"$f":"[1]BASE!A222","v":"HÉLVIO NEVES GUERRA"},{"$f":"[1]BASE!B222","v":399946},{"$f":"[1]BASE!C222","v":"Sem Cargo/Emprego"},{"$f":"[1]BASE!D222","v":"Sem Vínculo"},{"$f":"[1]BASE!E222","v":"Sem Vínculo"},{"$f":"[1]BASE!F222","v":"DAS 101.5"},{"$f":"[1]BASE!G222","v":" "},{"$f":"[1]BASE!H222","v":"SPE / CHEFIA DE GABINETE SPE"},{"$f":"[1]BASE!I222","v":"10.100.000"}]
[{"$f":"[1]BASE!A223","v":"HENRIQUE LIBANIO PINHEIRO ROCHA"},{"$f":"[1]BASE!B223","v":1995580},{"$f":"[1]BASE!C223","v":"Sem Cargo/Emprego"},{"$f":"[1]BASE!D223","v":"Sem Vínculo"},{"$f":"[1]BASE!E223","v":"Sem Vínculo"},{"$f":"[1]BASE!F223","v":"DAS 102.2"},{"$f":"[1]BASE!G223","v":" "},{"$f":"[1]BASE!H223","v":"SGM / DEPARTAMENTO DE DESENVOLVIMENTO SUSTENTÁVEL NA MINERAÇÃO - DDM"},{"$f":"[1]BASE!I223","v":"9.104.000"}]
[{"$f":"[1]BASE!A224","v":"HENRYETTE PATRICE CRUZ"},{"$f":"[1]BASE!B224","v":1280619},{"$f":"[1]BASE!C224","v":"Analista de Infraestrutura"},{"$f":"[1]BASE!D224","v":"Exercício Descentralizado"},{"$f":"[1]BASE!E224","v":"ME - Ministério da Economia"},{"$f":"[1]BASE!F224","v":" "},{"$f":"[1]BASE!G224","v":" "},{"$f":"[1]BASE!H224","v":"SE / AESA / COORDENAÇÃO GERAL DE ARTICULAÇÃO INSTITUCIONAL EM MEIO AMBIENTE - "},{"$f":"[1]BASE!I224","v":"8.104.200"}]
[{"$f":"[1]BASE!A225","v":"HILDETE DE NAZARE CORREA KUBOTA"},{"$f":"[1]BASE!B225","v":1670470},{"$f":"[1]BASE!C225","v":"Datilógrafo"},{"$f":"[1]BASE!D225","v":"Anistiado MME"},{"$f":"[1]BASE!E225","v":"MME - Ministério de Minas e Energia"},{"$f":"[1]BASE!F225","v":" "},{"$f":"[1]BASE!G225","v":" "},{"$f":"[1]BASE!H225","v":"SE / SPOA / CGRH / COORDENAÇÃO DE DESENVOLVIMENTO E SEGURIDADE SOCIAL - CODES"},{"$f":"[1]BASE!I225","v":"8.105.220"}]
[{"$f":"[1]BASE!A226","v":"HIRAM COSTA BOTELHO"},{"$f":"[1]BASE!B226","v":451570},{"$f":"[1]BASE!C226","v":"Agente Administrativo"},{"$f":"[1]BASE!D226","v":"Ativo Permanente"},{"$f":"[1]BASE!E226","v":"MME - Ministério de Minas e Energia"},{"$f":"[1]BASE!F226","v":"FCT 10"},{"$f":"[1]BASE!G226","v":"GSISTE Intermediário"},{"$f":"[1]BASE!H226","v":"SE / SPOA / CGTI / COORDENAÇÃO DE INFRAESTRUTURA TECNOLÓGICA - "},{"$f":"[1]BASE!I226","v":"8.105.310"}]
[{"$f":"[1]BASE!A227","v":"HISAO FUJIMOTO"},{"$f":"[1]BASE!B227","v":1314219},{"$f":"[1]BASE!C227","v":"Analista de Sistema"},{"$f":"[1]BASE!D227","v":"Ativo Permanente"},{"$f":"[1]BASE!E227","v":"MME - Ministério de Minas e Energia"},{"$f":"[1]BASE!F227","v":"FGR 1"},{"$f":"[1]BASE!G227","v":"GSISTE Superior"},{"$f":"[1]BASE!H227","v":"SE / SPOA / CGTI / COORDENAÇÃO DE INFRAESTRUTURA TECNOLÓGICA - "},{"$f":"[1]BASE!I227","v":"8.105.310"}]
[{"$f":"[1]BASE!A228","v":"IARA LEMOS GIANI"},{"$f":"[1]BASE!B228","v":3610351},{"$f":"[1]BASE!C228","v":"Sem Cargo/Emprego"},{"$f":"[1]BASE!D228","v":"Sem Vínculo"},{"$f":"[1]BASE!E228","v":"Sem Vínculo"},{"$f":"[1]BASE!F228","v":"DAS 101.4"},{"$f":"[1]BASE!G228","v":" "},{"$f":"[1]BASE!H228","v":"SE / SPOA / COORDENAÇÃO GERAL DE COMPRAS E CONTRATOS - CGCC"},{"$f":"[1]BASE!I228","v":"8.105.400"}]
[{"$f":"[1]BASE!A229","v":"IDALBA MARIA MENEZES DA COSTA"},{"$f":"[1]BASE!B229","v":1589336},{"$f":"[1]BASE!C229","v":"Escriturário"},{"$f":"[1]BASE!D229","v":"Anistiado MME"},{"$f":"[1]BASE!E229","v":"MME - Ministério de Minas e Energia"},{"$f":"[1]BASE!F229","v":" "},{"$f":"[1]BASE!G229","v":" "},{"$f":"[1]BASE!H229","v":"SE / SPOA / COORDENAÇÃO GERAL DE RECURSOS HUMANOS - CGRH"},{"$f":"[1]BASE!I229","v":"8.105.200"}]
[{"$f":"[1]BASE!A230","v":"IELAYNE MARIA DA SILVA"},{"$f":"[1]BASE!B230","v":2412287},{"$f":"[1]BASE!C230","v":"Sem Cargo/Emprego"},{"$f":"[1]BASE!D230","v":"Sem Vínculo"},{"$f":"[1]BASE!E230","v":"Sem Vínculo"},{"$f":"[1]BASE!F230","v":"DAS 102.1"},{"$f":"[1]BASE!G230","v":" "},{"$f":"[1]BASE!H230","v":"SE / SPOA / CGRL / COORDENAÇÃO DE ATIVIDADES GERAIS - COAGE"},{"$f":"[1]BASE!I230","v":"8.105.120"}]
[{"$f":"[1]BASE!A231","v":"IGOR SOUZA RIBEIRO"},{"$f":"[1]BASE!B231","v":2974574},{"$f":"[1]BASE!C231","v":"Analista de Infraestrutura"},{"$f":"[1]BASE!D231","v":"Exercício Descentralizado"},{"$f":"[1]BASE!E231","v":"ME - Ministério da Economia"},{"$f":"[1]BASE!F231","v":"FCPE 101.4"},{"$f":"[1]BASE!G231","v":" "},{"$f":"[1]BASE!H231","v":"SEE / DMSE / COORDENAÇÃO GERAL DE MONITORAMENTO DO DESEMPENHO DO SISTEMA ELÉTRICO"},{"$f":"[1]BASE!I231","v":"12.102.400"}]
[{"$f":"[1]BASE!A232","v":"INA LUCIA CIPRIANO DE OLIVEIRA"},{"$f":"[1]BASE!B232","v":1526188},{"$f":"[1]BASE!C232","v":"Marinha"},{"$f":"[1]BASE!D232","v":"Requisitado Militar"},{"$f":"[1]BASE!E232","v":"Marinha"},{"$f":"[1]BASE!F232","v":"DAS 102.4"},{"$f":"[1]BASE!G232","v":" "},{"$f":"[1]BASE!H232","v":"GABINETE DO MINISTRO - GM"},{"$f":"[1]BASE!I232","v":"2.000.000"}]
[{"$f":"[1]BASE!A233","v":"INGRID PALMA ARAUJO"},{"$f":"[1]BASE!B233","v":1636863},{"$f":"[1]BASE!C233","v":"Analista em Tecnologia da Informação"},{"$f":"[1]BASE!D233","v":"Requisitado de Órgãos"},{"$f":"[1]BASE!E233","v":"ME - Ministério da Economia"},{"$f":"[1]BASE!F233","v":"FCPE 102.4"},{"$f":"[1]BASE!G233","v":" "},{"$f":"[1]BASE!H233","v":"ASSESSORIA ESPECIAL DE CONTROLE INTERNO - AECI"},{"$f":"[1]BASE!I233","v":"5.000.000"}]
[{"$f":"[1]BASE!A234","v":"IRACI BATISTA AGUIAR"},{"$f":"[1]BASE!B234","v":7450943},{"$f":"[1]BASE!C234","v":"Secretária Executiva A"},{"$f":"[1]BASE!D234","v":"Anistiado MME"},{"$f":"[1]BASE!E234","v":"MME - Ministério de Minas e Energia"},{"$f":"[1]BASE!F234","v":" "},{"$f":"[1]BASE!G234","v":" "},{"$f":"[1]BASE!H234","v":"SE / SPOA / COORDENAÇÃO GERAL DE RECURSOS HUMANOS - CGRH"},{"$f":"[1]BASE!I234","v":"8.105.200"}]
[{"$f":"[1]BASE!A235","v":"ISAAC PINTO AVERBUCH"},{"$f":"[1]BASE!B235","v":4207140},{"$f":"[1]BASE!C235","v":"Especialista em Política Pública e Gestão Governamental"},{"$f":"[1]BASE!D235","v":"Exercício Descentralizado"},{"$f":"[1]BASE!E235","v":"ME - Ministério da Economia"},{"$f":"[1]BASE!F235","v":"DAS 101.4"},{"$f":"[1]BASE!G235","v":" "},{"$f":"[1]BASE!H235","v":"SEE / DMSE / COORDENAÇÃO GERAL DE MONITORAMENTO DO DESEMPENHO DO SISTEMA ELÉTRICO"},{"$f":"[1]BASE!I235","v":"12.102.400"}]
[{"$f":"[1]BASE!A236","v":"IVAN VITORIO FORESTI"},{"$f":"[1]BASE!B236","v":1886597},{"$f":"[1]BASE!C236","v":"Contador"},{"$f":"[1]BASE!D236","v":"Anistiado MME"},{"$f":"[1]BASE!E236","v":"MME - Ministério de Minas e Energia"},{"$f":"[1]BASE!F236","v":" "},{"$f":"[1]BASE!G236","v":" "},{"$f":"[1]BASE!H236","v":"Aguardando Lotação/Exercício"},{"$f":"[1]BASE!I236","v":"88.000.000"}]
[{"$f":"[1]BASE!A237","v":"IVONETE FIGUEIREDO PINTO"},{"$f":"[1]BASE!B237","v":452085},{"$f":"[1]BASE!C237","v":"Agente de Portaria"},{"$f":"[1]BASE!D237","v":"Ativo Permanente"},{"$f":"[1]BASE!E237","v":"MME - Ministério de Minas e Energia"},{"$f":"[1]BASE!F237","v":"FCT 10"},{"$f":"[1]BASE!G237","v":" "},{"$f":"[1]BASE!H237","v":"GM / ASTAD / COORDENAÇÃO DE ATIVIDADES ADMINISTRATIVAS"},{"$f":"[1]BASE!I237","v":"2.100.101"}]
[{"$f":"[1]BASE!A238","v":"IZILDINHA SOUSA SALES"},{"$f":"[1]BASE!B238","v":1337151},{"$f":"[1]BASE!C238","v":"Sem Cargo/Emprego"},{"$f":"[1]BASE!D238","v":"Sem Vínculo"},{"$f":"[1]BASE!E238","v":"Sem Vínculo"},{"$f":"[1]BASE!F238","v":"DAS 102.2"},{"$f":"[1]BASE!G238","v":" "},{"$f":"[1]BASE!H238","v":"SPG / CHEFIA DE GABINETE SPG"},{"$f":"[1]BASE!I238","v":"11.100.000"}]
[{"$f":"[1]BASE!A239","v":"JACQUELINE QUINTAS"},{"$f":"[1]BASE!B239","v":2902131},{"$f":"[1]BASE!C239","v":"Sem Cargo/Emprego"},{"$f":"[1]BASE!D239","v":"Sem Vínculo"},{"$f":"[1]BASE!E239","v":"Sem Vínculo"},{"$f":"[1]BASE!F239","v":"DAS 102.2"},{"$f":"[1]BASE!G239","v":" "},{"$f":"[1]BASE!H239","v":"SGM / DPGM / COORDENAÇÃO GERAL DE MONITORAMENTO E CONTROLE DA GESTÃO DE PROGRAMA"},{"$f":"[1]BASE!I239","v":"9.101.200"}]
[{"$f":"[1]BASE!A240","v":"JAIR RODRIGUES DOS ANJOS"},{"$f":"[1]BASE!B240","v":1437154},{"$f":"[1]BASE!C240","v":"Auditor Federal de Finanças e Controle"},{"$f":"[1]BASE!D240","v":"Requisitado de Órgãos"},{"$f":"[1]BASE!E240","v":"ME - Ministério da Economia"},{"$f":"[1]BASE!F240","v":"DAS 101.4"},{"$f":"[1]BASE!G240","v":" "},{"$f":"[1]BASE!H240","v":"SPG / DPGN / COORDENAÇÃO GERAL DE RESERVA, EXPLORAÇÃO E PRODUÇÃO DE PETRÓLEO E GÁS NATURAL"},{"$f":"[1]BASE!I240","v":"11.101.100"}]
[{"$f":"[1]BASE!A241","v":"JAIREZ ELÓI DE SOUSA PAULISTA"},{"$f":"[1]BASE!B241","v":6455061},{"$f":"[1]BASE!C241","v":"Sem Cargo/Emprego"},{"$f":"[1]BASE!D241","v":"Sem Vínculo"},{"$f":"[1]BASE!E241","v":"Sem Vínculo"},{"$f":"[1]BASE!F241","v":"DAS 101.4"},{"$f":"[1]BASE!G241","v":" "},{"$f":"[1]BASE!H241","v":"SE / AEGE / COORDENAÇÃO GERAL DE PLANEJAMENTO ESTRATÉGICO, SUPERVISÃO E AVALIAÇÃO - CGPE"},{"$f":"[1]BASE!I241","v":"8.101.100"}]
[{"$f":"[1]BASE!A242","v":"JALMO GABRIEL DE ALMEIDA"},{"$f":"[1]BASE!B242","v":1586617},{"$f":"[1]BASE!C242","v":"Auxiliar de Operação"},{"$f":"[1]BASE!D242","v":"Anistiado MME"},{"$f":"[1]BASE!E242","v":"MME - Ministério de Minas e Energia"},{"$f":"[1]BASE!F242","v":" "},{"$f":"[1]BASE!G242","v":" "},{"$f":"[1]BASE!H242","v":"SE / SPOA / CGRL / COORDENAÇÃO DE ATIVIDADES GERAIS - COAGE"},{"$f":"[1]BASE!I242","v":"8.105.120"}]
[{"$f":"[1]BASE!A243","v":"JANAINA DO VALE LIMA"},{"$f":"[1]BASE!B243","v":1485654},{"$f":"[1]BASE!C243","v":"Sem Cargo/Emprego"},{"$f":"[1]BASE!D243","v":"Sem Vínculo"},{"$f":"[1]BASE!E243","v":"Sem Vínculo"},{"$f":"[1]BASE!F243","v":"DAS 102.2"},{"$f":"[1]BASE!G243","v":" "},{"$f":"[1]BASE!H243","v":"SEE / CHEFIA DE GABINETE SEE"},{"$f":"[1]BASE!I243","v":"12.100.000"}]
[{"$f":"[1]BASE!A244","v":"JAQUELINE MENEGHEL RODRIGUES"},{"$f":"[1]BASE!B244","v":2051460},{"$f":"[1]BASE!C244","v":"Analista de Infraestrutura"},{"$f":"[1]BASE!D244","v":"Exercício Descentralizado"},{"$f":"[1]BASE!E244","v":"ME - Ministério da Economia"},{"$f":"[1]BASE!F244","v":"DAS 101.4"},{"$f":"[1]BASE!G244","v":" "},{"$f":"[1]BASE!H244","v":"SPG / DGN / COORDENAÇÃO GERAL DE ACOMPANHAMENTO, DESENVOLVIMENTO DE MERCADO E PRODUÇÃO"},{"$f":"[1]BASE!I244","v":"11.102.100"}]
[{"$f":"[1]BASE!A245","v":"JARBAS DELANI PEREIRA LEITE"},{"$f":"[1]BASE!B245","v":1732354},{"$f":"[1]BASE!C245","v":"Desenhista"},{"$f":"[1]BASE!D245","v":"Anistiado MME"},{"$f":"[1]BASE!E245","v":"MME - Ministério de Minas e Energia"},{"$f":"[1]BASE!F245","v":" "},{"$f":"[1]BASE!G245","v":" "},{"$f":"[1]BASE!H245","v":"SE / SPOA / CGRL / COORDENAÇÃO DE ATIVIDADES GERAIS - COAGE"},{"$f":"[1]BASE!I245","v":"8.105.120"}]
[{"$f":"[1]BASE!A246","v":"JEFFERSON DE SOUZA OLIVEIRA"},{"$f":"[1]BASE!B246","v":3093557},{"$f":"[1]BASE!C246","v":"Sem Cargo/Emprego"},{"$f":"[1]BASE!D246","v":"Sem Vínculo"},{"$f":"[1]BASE!E246","v":"Sem Vínculo"},{"$f":"[1]BASE!F246","v":"DAS 102.4"},{"$f":"[1]BASE!G246","v":" "},{"$f":"[1]BASE!H246","v":"ASSESSORIA ESPECIAL DE ACOMPANHAMENTO DE POLÍTICAS, ESTRATÉGIAS E DESEMPENHO SETORIAL - AEPED"},{"$f":"[1]BASE!I246","v":"4.000.000"}]
[{"$f":"[1]BASE!A247","v":"JOANNE LUNA SANTANA DE CARVALHO"},{"$f":"[1]BASE!B247","v":1005095},{"$f":"[1]BASE!C247","v":"Sem Cargo/Emprego"},{"$f":"[1]BASE!D247","v":"Sem Vínculo"},{"$f":"[1]BASE!E247","v":"Sem Vínculo"},{"$f":"[1]BASE!F247","v":"DAS 102.3"},{"$f":"[1]BASE!G247","v":" "},{"$f":"[1]BASE!H247","v":"GM / ASSESSORIA DE APOIO AO MINISTRO - AAM"},{"$f":"[1]BASE!I247","v":"2.100.400"}]
[{"$f":"[1]BASE!A248","v":"JOAO ALBERTO CHAVES ALMEIDA"},{"$f":"[1]BASE!B248","v":450012},{"$f":"[1]BASE!C248","v":"Agente Administrativo"},{"$f":"[1]BASE!D248","v":"Ativo Permanente"},{"$f":"[1]BASE!E248","v":"MME - Ministério de Minas e Energia"},{"$f":"[1]BASE!F248","v":"FCPE 102.3"},{"$f":"[1]BASE!G248","v":" "},{"$f":"[1]BASE!H248","v":"SGM / CHEFIA DE GABINETE SGM"},{"$f":"[1]BASE!I248","v":"9.100.000"}]
[{"$f":"[1]BASE!A249","v":"JOÃO ALOÍSIO VIEIRA"},{"$f":"[1]BASE!B249","v":2745380},{"$f":"[1]BASE!C249","v":"Analista de Infraestrutura"},{"$f":"[1]BASE!D249","v":"Exercício Descentralizado"},{"$f":"[1]BASE!E249","v":"ME - Ministério da Economia"},{"$f":"[1]BASE!F249","v":"FGR 1"},{"$f":"[1]BASE!G249","v":" "},{"$f":"[1]BASE!H249","v":"SEE / DMSE / COORDENAÇÃO GERAL DE MONITORAMENTO DA EXPANSÃO DA GERAÇÃO"},{"$f":"[1]BASE!I249","v":"12.102.100"}]
[{"$f":"[1]BASE!A250","v":"JOAO ALVES DA SILVA"},{"$f":"[1]BASE!B250","v":455953},{"$f":"[1]BASE!C250","v":"Auxiliar de Artífice"},{"$f":"[1]BASE!D250","v":"Ativo Permanente"},{"$f":"[1]BASE!E250","v":"MME - Ministério de Minas e Energia"},{"$f":"[1]BASE!F250","v":"FGR 1"},{"$f":"[1]BASE!G250","v":" "},{"$f":"[1]BASE!H250","v":"SE / SPOA / CGRL / COORDENAÇÃO DE ATIVIDADES GERAIS - COAGE"},{"$f":"[1]BASE!I250","v":"8.105.120"}]
[{"$f":"[1]BASE!A251","v":"JOAO BATISTA LEITAO"},{"$f":"[1]BASE!B251","v":1738490},{"$f":"[1]BASE!C251","v":"Garçom"},{"$f":"[1]BASE!D251","v":"Anistiado outros Órgãos"},{"$f":"[1]BASE!E251","v":"IMBEL - Indústria de Material Bélico do Brasil"},{"$f":"[1]BASE!F251","v":" "},{"$f":"[1]BASE!G251","v":" "},{"$f":"[1]BASE!H251","v":"SE / SPOA / CGTI / COORDENAÇÃO DE INFRAESTRUTURA TECNOLÓGICA - "},{"$f":"[1]BASE!I251","v":"8.105.310"}]
[{"$f":"[1]BASE!A252","v":"JOÃO CLAUDIO LIMA DE FRANCO"},{"$f":"[1]BASE!B252","v":6128263},{"$f":"[1]BASE!C252","v":"Sem Cargo/Emprego"},{"$f":"[1]BASE!D252","v":"Sem Vínculo"},{"$f":"[1]BASE!E252","v":"Sem Vínculo"},{"$f":"[1]BASE!F252","v":"DAS 102.3"},{"$f":"[1]BASE!G252","v":" "},{"$f":"[1]BASE!H252","v":"SE / ASSESSORIA ESPECIAL DE GESTÃO ESTRATÉGICA - AEGE"},{"$f":"[1]BASE!I252","v":"8.101.000"}]
[{"$f":"[1]BASE!A253","v":"JOÃO DE AMORIM LITAIFF JUNIOR"},{"$f":"[1]BASE!B253","v":1505912},{"$f":"[1]BASE!C253","v":"Sem Cargo/Emprego"},{"$f":"[1]BASE!D253","v":"Sem Vínculo"},{"$f":"[1]BASE!E253","v":"Sem Vínculo"},{"$f":"[1]BASE!F253","v":"DAS 102.4"},{"$f":"[1]BASE!G253","v":" "},{"$f":"[1]BASE!H253","v":"ASSESSORIA ESPECIAL DE ACOMPANHAMENTO DE POLÍTICAS, ESTRATÉGIAS E DESEMPENHO SETORIAL - AEPED"},{"$f":"[1]BASE!I253","v":"4.000.000"}]
[{"$f":"[1]BASE!A254","v":"JOÃO JOSÉ DE NORA SOUTO"},{"$f":"[1]BASE!B254","v":3188663},{"$f":"[1]BASE!C254","v":"Sem Cargo/Emprego"},{"$f":"[1]BASE!D254","v":"Sem Vínculo"},{"$f":"[1]BASE!E254","v":"Sem Vínculo"},{"$f":"[1]BASE!F254","v":"DAS 101.5"},{"$f":"[1]BASE!G254","v":" "},{"$f":"[1]BASE!H254","v":"SPG / CHEFIA DE GABINETE SPG"},{"$f":"[1]BASE!I254","v":"11.100.000"}]
[{"$f":"[1]BASE!A255","v":"JOAO MARCONDE SOARES"},{"$f":"[1]BASE!B255","v":451610},{"$f":"[1]BASE!C255","v":"Motorista Oficial"},{"$f":"[1]BASE!D255","v":"Ativo Permanente"},{"$f":"[1]BASE!E255","v":"MME - Ministério de Minas e Energia"},{"$f":"[1]BASE!F255","v":"FGR 1"},{"$f":"[1]BASE!G255","v":" "},{"$f":"[1]BASE!H255","v":"SE / SPOA / CGRL / COORDENAÇÃO DE ATIVIDADES GERAIS - COAGE"},{"$f":"[1]BASE!I255","v":"8.105.120"}]
[{"$f":"[1]BASE!A256","v":"JOAO QUIRINO JUNIOR"},{"$f":"[1]BASE!B256","v":1741277},{"$f":"[1]BASE!C256","v":"Administrador"},{"$f":"[1]BASE!D256","v":"Anistiado MME"},{"$f":"[1]BASE!E256","v":"MME - Ministério de Minas e Energia"},{"$f":"[1]BASE!F256","v":" "},{"$f":"[1]BASE!G256","v":" "},{"$f":"[1]BASE!H256","v":"SE / SPOA / CGRH / COORDENAÇÃO DE DESENVOLVIMENTO E SEGURIDADE SOCIAL - CODES"},{"$f":"[1]BASE!I256","v":"8.105.220"}]
[{"$f":"[1]BASE!A257","v":"JOAQUIM DOS SANTOS BRAGA NETO"},{"$f":"[1]BASE!B257","v":1822951},{"$f":"[1]BASE!C257","v":"Profissional de Nível Superior IV"},{"$f":"[1]BASE!D257","v":"Anistiado outros Órgãos"},{"$f":"[1]BASE!E257","v":"ELETRONORTE - Centrais Elétricas do Norte do Brasil S/A"},{"$f":"[1]BASE!F257","v":" "},{"$f":"[1]BASE!G257","v":" "},{"$f":"[1]BASE!H257","v":"SEE / DPUE / COORDENAÇÃO GERAL DE DESENVOLVIMENTO DE POLÍTICAS SOCIAIS"},{"$f":"[1]BASE!I257","v":"12.103.100"}]
[{"$f":"[1]BASE!A258","v":"JOAQUIM LUIZ DOS SANTOS"},{"$f":"[1]BASE!B258","v":1314257},{"$f":"[1]BASE!C258","v":"Agente de Portaria"},{"$f":"[1]BASE!D258","v":"Ativo Permanente"},{"$f":"[1]BASE!E258","v":"MME - Ministério de Minas e Energia"},{"$f":"[1]BASE!F258","v":"FCT 10"},{"$f":"[1]BASE!G258","v":" "},{"$f":"[1]BASE!H258","v":"GM / ASTAD / COORDENAÇÃO DE ATIVIDADES ADMINISTRATIVAS"},{"$f":"[1]BASE!I258","v":"2.100.101"}]
[{"$f":"[1]BASE!A259","v":"JOAQUIM SOUSA NETO"},{"$f":"[1]BASE!B259","v":2092772},{"$f":"[1]BASE!C259","v":"Motorista Oficial"},{"$f":"[1]BASE!D259","v":"Ativo Permanente"},{"$f":"[1]BASE!E259","v":"MME - Ministério de Minas e Energia"},{"$f":"[1]BASE!F259","v":"FCPE 102.2"},{"$f":"[1]BASE!G259","v":" "},{"$f":"[1]BASE!H259","v":"SE / SPOA / CGRL / COORDENAÇÃO DE ATIVIDADES GERAIS - COAGE"},{"$f":"[1]BASE!I259","v":"8.105.120"}]
[{"$f":"[1]BASE!A260","v":"JOCELIO COELHO MATIAS"},{"$f":"[1]BASE!B260","v":1093495},{"$f":"[1]BASE!C260","v":"Motorista Oficial"},{"$f":"[1]BASE!D260","v":"Ativo Permanente"},{"$f":"[1]BASE!E260","v":"MME - Ministério de Minas e Energia"},{"$f":"[1]BASE!F260","v":"FGR 1"},{"$f":"[1]BASE!G260","v":" "},{"$f":"[1]BASE!H260","v":"SE / SPOA / CGRL / COORDENAÇÃO DE ATIVIDADES GERAIS - COAGE"},{"$f":"[1]BASE!I260","v":"8.105.120"}]
[{"$f":"[1]BASE!A261","v":"JOEL JOSE FERREIRA"},{"$f":"[1]BASE!B261","v":455936},{"$f":"[1]BASE!C261","v":"Motorista Oficial"},{"$f":"[1]BASE!D261","v":"Ativo Permanente"},{"$f":"[1]BASE!E261","v":"MME - Ministério de Minas e Energia"},{"$f":"[1]BASE!F261","v":"FGR 1"},{"$f":"[1]BASE!G261","v":" "},{"$f":"[1]BASE!H261","v":"SE / SPOA / CGRL / COORDENAÇÃO DE ATIVIDADES GERAIS - COAGE"},{"$f":"[1]BASE!I261","v":"8.105.120"}]
[{"$f":"[1]BASE!A262","v":"JOELMA MENDES DE MELLO"},{"$f":"[1]BASE!B262","v":455436},{"$f":"[1]BASE!C262","v":"Agente Administrativo"},{"$f":"[1]BASE!D262","v":"Ativo Permanente"},{"$f":"[1]BASE!E262","v":"MME - Ministério de Minas e Energia"},{"$f":"[1]BASE!F262","v":"FCPE 102.1"},{"$f":"[1]BASE!G262","v":" "},{"$f":"[1]BASE!H262","v":"SE / SPOA / CGCC / COORDENAÇÃO DE ADMINISTRAÇÃO DE CONTRATOS - CAC"},{"$f":"[1]BASE!I262","v":"8.105.410"}]
[{"$f":"[1]BASE!A263","v":"JORDANA SANTOS CORDEIRO"},{"$f":"[1]BASE!B263","v":2483457},{"$f":"[1]BASE!C263","v":"Sem Cargo/Emprego"},{"$f":"[1]BASE!D263","v":"Sem Vínculo"},{"$f":"[1]BASE!E263","v":"Sem Vínculo"},{"$f":"[1]BASE!F263","v":"DAS 102.3"},{"$f":"[1]BASE!G263","v":" "},{"$f":"[1]BASE!H263","v":"SEE / CHEFIA DE GABINETE SEE"},{"$f":"[1]BASE!I263","v":"12.100.000"}]
[{"$f":"[1]BASE!A264","v":"JORGE ARTHUR BERGAMO DE ALMEIDA"},{"$f":"[1]BASE!B264","v":451944},{"$f":"[1]BASE!C264","v":"Datilógrafo"},{"$f":"[1]BASE!D264","v":"Ativo Permanente"},{"$f":"[1]BASE!E264","v":"MME - Ministério de Minas e Energia"},{"$f":"[1]BASE!F264","v":"FGR 1"},{"$f":"[1]BASE!G264","v":" "},{"$f":"[1]BASE!H264","v":"Aguardando Lotação/Exercício"},{"$f":"[1]BASE!I264","v":"88.000.000"}]
[{"$f":"[1]BASE!A265","v":"JORGE GABRIEL MOISÉS FILHO"},{"$f":"[1]BASE!B265","v":2480927},{"$f":"[1]BASE!C265","v":"Analista de Planejamento e Orçamento"},{"$f":"[1]BASE!D265","v":"Exercício Descentralizado"},{"$f":"[1]BASE!E265","v":"ME - Ministério da Economia"},{"$f":"[1]BASE!F265","v":"FCPE 102.2"},{"$f":"[1]BASE!G265","v":" "},{"$f":"[1]BASE!H265","v":"SE / SPOA / CGOF / COORDENAÇÃO DE ORÇAMENTO - CORC"},{"$f":"[1]BASE!I265","v":"8.105.530"}]
[{"$f":"[1]BASE!A266","v":"JORGE LUIZ BARBOSA DOS SANTOS"},{"$f":"[1]BASE!B266","v":0},{"$f":"[1]BASE!C266","v":"Marinha"},{"$f":"[1]BASE!D266","v":"Requisitado Militar"},{"$f":"[1]BASE!E266","v":"Marinha"},{"$f":"[1]BASE!F266","v":"DAS 102.4"},{"$f":"[1]BASE!G266","v":" "},{"$f":"[1]BASE!H266","v":"GM / ASSESSORIA DE COMUNICAÇÃO SOCIAL - ASCOM"},{"$f":"[1]BASE!I266","v":"2.100.300"}]
[{"$f":"[1]BASE!A267","v":"JORGE PORTELLA DUARTE"},{"$f":"[1]BASE!B267","v":2660564},{"$f":"[1]BASE!C267","v":"Analista de Infraestrutura"},{"$f":"[1]BASE!D267","v":"Exercício Descentralizado"},{"$f":"[1]BASE!E267","v":"ME - Ministério da Economia"},{"$f":"[1]BASE!F267","v":" "},{"$f":"[1]BASE!G267","v":" "},{"$f":"[1]BASE!H267","v":"SEE / DMSE / COORDENAÇÃO GERAL DE MONITORAMENTO DO DESEMPENHO DO SISTEMA ELÉTRICO"},{"$f":"[1]BASE!I267","v":"12.102.400"}]
[{"$f":"[1]BASE!A268","v":"JORGE RICARDO KAUTSCHER BENTO"},{"$f":"[1]BASE!B268","v":3106776},{"$f":"[1]BASE!C268","v":"Marinha"},{"$f":"[1]BASE!D268","v":"Requisitado Militar"},{"$f":"[1]BASE!E268","v":"Marinha"},{"$f":"[1]BASE!F268","v":"DAS 102.3"},{"$f":"[1]BASE!G268","v":" "},{"$f":"[1]BASE!H268","v":"GABINETE DO MINISTRO - GM"},{"$f":"[1]BASE!I268","v":"2.000.000"}]
[{"$f":"[1]BASE!A269","v":"JOSAFA FERREIRA DOS SANTOS"},{"$f":"[1]BASE!B269","v":455481},{"$f":"[1]BASE!C269","v":"Agente Administrativo"},{"$f":"[1]BASE!D269","v":"Ativo Permanente"},{"$f":"[1]BASE!E269","v":"MME - Ministério de Minas e Energia"},{"$f":"[1]BASE!F269","v":"FCT 11"},{"$f":"[1]BASE!G269","v":"GSISP Intermediário"},{"$f":"[1]BASE!H269","v":"SE / SPOA / CGTI / COORDENAÇÃO DE TECNOLOGIA DE SISTEMAS DE INFORMAÇÃO - CTSI"},{"$f":"[1]BASE!I269","v":"8.105.320"}]
[{"$f":"[1]BASE!A270","v":"JOSE ANTONIO MARIA GONÇALVES"},{"$f":"[1]BASE!B270","v":1708418},{"$f":"[1]BASE!C270","v":"Auxiliar Codificação e Conferência"},{"$f":"[1]BASE!D270","v":"Anistiado MME"},{"$f":"[1]BASE!E270","v":"MME - Ministério de Minas e Energia"},{"$f":"[1]BASE!F270","v":" "},{"$f":"[1]BASE!G270","v":" "},{"$f":"[1]BASE!H270","v":"Aguardando Lotação/Exercício"},{"$f":"[1]BASE!I270","v":"88.000.000"}]
[{"$f":"[1]BASE!A271","v":"JOSE ARMANDO RIBEIRO VASCONCELOS"},{"$f":"[1]BASE!B271","v":1100983},{"$f":"[1]BASE!C271","v":"Agente de Portaria"},{"$f":"[1]BASE!D271","v":"Ativo Permanente"},{"$f":"[1]BASE!E271","v":"MME - Ministério de Minas e Energia"},{"$f":"[1]BASE!F271","v":"FGR 1"},{"$f":"[1]BASE!G271","v":" "},{"$f":"[1]BASE!H271","v":"CONJUR / CGAA / COORDENAÇÃO DE APOIO ADMINISTRATIVO"},{"$f":"[1]BASE!I271","v":"7.100.310"}]
[{"$f":"[1]BASE!A272","v":"JOSE DA ABADIA SOARES DE JESUS"},{"$f":"[1]BASE!B272","v":452171},{"$f":"[1]BASE!C272","v":"Agente de Vigilância"},{"$f":"[1]BASE!D272","v":"Ativo Permanente"},{"$f":"[1]BASE!E272","v":"MME - Ministério de Minas e Energia"},{"$f":"[1]BASE!F272","v":"FGR 1"},{"$f":"[1]BASE!G272","v":" "},{"$f":"[1]BASE!H272","v":"SE / SPOA / CGRL / COORDENAÇÃO DE ATIVIDADES GERAIS - COAGE"},{"$f":"[1]BASE!I272","v":"8.105.120"}]
[{"$f":"[1]BASE!A273","v":"JOSE DOS SANTOS"},{"$f":"[1]BASE!B273","v":455958},{"$f":"[1]BASE!C273","v":"Agente de Portaria"},{"$f":"[1]BASE!D273","v":"Ativo Permanente"},{"$f":"[1]BASE!E273","v":"MME - Ministério de Minas e Energia"},{"$f":"[1]BASE!F273","v":"FCT 11"},{"$f":"[1]BASE!G273","v":" "},{"$f":"[1]BASE!H273","v":"GM / ASTAD / COORDENAÇÃO DE ATIVIDADES ADMINISTRATIVAS"},{"$f":"[1]BASE!I273","v":"2.100.101"}]
[{"$f":"[1]BASE!A274","v":"JOSE EUSTAQUIO PORTES"},{"$f":"[1]BASE!B274","v":454714},{"$f":"[1]BASE!C274","v":"Datilógrafo"},{"$f":"[1]BASE!D274","v":"Ativo Permanente"},{"$f":"[1]BASE!E274","v":"MME - Ministério de Minas e Energia"},{"$f":"[1]BASE!F274","v":"FCT 4"},{"$f":"[1]BASE!G274","v":" "},{"$f":"[1]BASE!H274","v":"SEE / DPUE / COORDENAÇÃO GERAL DE UNIVERSALIZAÇÃO DO ACESSO À ENERGIA"},{"$f":"[1]BASE!I274","v":"12.103.200"}]
[{"$f":"[1]BASE!A275","v":"JOSÉ EVANDRO NASCIMENTO CARVALHO"},{"$f":"[1]BASE!B275","v":454707},{"$f":"[1]BASE!C275","v":"Agente Administrativo"},{"$f":"[1]BASE!D275","v":"Ativo Permanente"},{"$f":"[1]BASE!E275","v":"MME - Ministério de Minas e Energia"},{"$f":"[1]BASE!F275","v":"DAS 101.3"},{"$f":"[1]BASE!G275","v":"GSISTE Intermediário"},{"$f":"[1]BASE!H275","v":"SE / SPOA / CGRH / COORDENAÇÃO DE ADMINISTRAÇÃO DE PESSOAL - CAPES"},{"$f":"[1]BASE!I275","v":"8.105.210"}]
[{"$f":"[1]BASE!A276","v":"JOSE EVARISTO DA SILVA"},{"$f":"[1]BASE!B276","v":453005},{"$f":"[1]BASE!C276","v":"Datilógrafo"},{"$f":"[1]BASE!D276","v":"Ativo Permanente"},{"$f":"[1]BASE!E276","v":"MME - Ministério de Minas e Energia"},{"$f":"[1]BASE!F276","v":"DAS 102.2"},{"$f":"[1]BASE!G276","v":" "},{"$f":"[1]BASE!H276","v":"GM / ASTAD / COORDENAÇÃO DE ATIVIDADES ADMINISTRATIVAS"},{"$f":"[1]BASE!I276","v":"2.100.101"}]
[{"$f":"[1]BASE!A277","v":"JOSE LUIZ UBALDINO DE LIMA"},{"$f":"[1]BASE!B277","v":2663818},{"$f":"[1]BASE!C277","v":"Analista de Infraestrutura"},{"$f":"[1]BASE!D277","v":"Exercício Descentralizado"},{"$f":"[1]BASE!E277","v":"ME - Ministério da Economia"},{"$f":"[1]BASE!F277","v":"FCPE 101.4"},{"$f":"[1]BASE!G277","v":" "},{"$f":"[1]BASE!H277","v":"SGM / DGPM / COORDENAÇÃO GERAL DE GEOLOGIA E RECURSOS MINERAIS"},{"$f":"[1]BASE!I277","v":"9.102.100"}]
[{"$f":"[1]BASE!A278","v":"JOSE MANOEL DE SOUZA NETO"},{"$f":"[1]BASE!B278","v":451458},{"$f":"[1]BASE!C278","v":"Agente Administrativo"},{"$f":"[1]BASE!D278","v":"Ativo Permanente"},{"$f":"[1]BASE!E278","v":"MME - Ministério de Minas e Energia"},{"$f":"[1]BASE!F278","v":" "},{"$f":"[1]BASE!G278","v":"GSISTE Intermediário"},{"$f":"[1]BASE!H278","v":"GM / ASTAD / COORDENAÇÃO DE ATIVIDADES ADMINISTRATIVAS"},{"$f":"[1]BASE!I278","v":"2.100.101"}]
[{"$f":"[1]BASE!A279","v":"JOSE MAURO FERREIRA COELHO"},{"$f":"[1]BASE!B279","v":0},{"$f":"[1]BASE!C279","v":"Analista de Pesquisa Energética"},{"$f":"[1]BASE!D279","v":"Requisitado de Órgãos"},{"$f":"[1]BASE!E279","v":"EPE - Empresa de Pesquisa Energética"},{"$f":"[1]BASE!F279","v":"DAS 101.6"},{"$f":"[1]BASE!G279","v":" "},{"$f":"[1]BASE!H279","v":"SECRETARIA DE PETRÓLEO, GÁS NATURAL E BIOCOMBUSTÍVEIS - SPG"},{"$f":"[1]BASE!I279","v":"11.000.000"}]
[{"$f":"[1]BASE!A280","v":"JOSE REINALDO DA SILVA"},{"$f":"[1]BASE!B280","v":1678890},{"$f":"[1]BASE!C280","v":"Bombeiro Hidraulico"},{"$f":"[1]BASE!D280","v":"Anistiado MME"},{"$f":"[1]BASE!E280","v":"MME - Ministério de Minas e Energia"},{"$f":"[1]BASE!F280","v":" "},{"$f":"[1]BASE!G280","v":" "},{"$f":"[1]BASE!H280","v":"SE / SPOA / CGRL / COORDENAÇÃO DE ATIVIDADES GERAIS - COAGE"},{"$f":"[1]BASE!I280","v":"8.105.120"}]
[{"$f":"[1]BASE!A281","v":"JOSE ROBERTO BUENO JUNIOR"},{"$f":"[1]BASE!B281","v":1530778},{"$f":"[1]BASE!C281","v":"Sem Cargo/Emprego"},{"$f":"[1]BASE!D281","v":"Sem Vínculo"},{"$f":"[1]BASE!E281","v":"Sem Vínculo"},{"$f":"[1]BASE!F281","v":"DAS 101.5"},{"$f":"[1]BASE!G281","v":" "},{"$f":"[1]BASE!H281","v":"GM/ CHEFIA DE GABINETE GM"},{"$f":"[1]BASE!I281","v":"2.100.000"}]
[{"$f":"[1]BASE!A282","v":"JOSE VITOR ALVES DA COSTA"},{"$f":"[1]BASE!B282","v":1670851},{"$f":"[1]BASE!C282","v":"Motorista"},{"$f":"[1]BASE!D282","v":"Anistiado MME"},{"$f":"[1]BASE!E282","v":"MME - Ministério de Minas e Energia"},{"$f":"[1]BASE!F282","v":" "},{"$f":"[1]BASE!G282","v":" "},{"$f":"[1]BASE!H282","v":"SE / SPOA / CGRL / COORDENAÇÃO DE ATIVIDADES GERAIS - COAGE"},{"$f":"[1]BASE!I282","v":"8.105.120"}]
[{"$f":"[1]BASE!A283","v":"JOSEIZA ATAIDE DE CASTRO"},{"$f":"[1]BASE!B283","v":1670504},{"$f":"[1]BASE!C283","v":"Codificador de Dados I"},{"$f":"[1]BASE!D283","v":"Anistiado MME"},{"$f":"[1]BASE!E283","v":"MME - Ministério de Minas e Energia"},{"$f":"[1]BASE!F283","v":" "},{"$f":"[1]BASE!G283","v":" "},{"$f":"[1]BASE!H283","v":"SE / SPOA / COORDENAÇÃO GERAL DE RECURSOS HUMANOS - CGRH"},{"$f":"[1]BASE!I283","v":"8.105.200"}]
[{"$f":"[1]BASE!A284","v":"JOSELITA RODRIGUES DINIZ AZEVEDO"},{"$f":"[1]BASE!B284","v":1669504},{"$f":"[1]BASE!C284","v":"Escriturário III"},{"$f":"[1]BASE!D284","v":"Anistiado MME"},{"$f":"[1]BASE!E284","v":"MME - Ministério de Minas e Energia"},{"$f":"[1]BASE!F284","v":" "},{"$f":"[1]BASE!G284","v":" "},{"$f":"[1]BASE!H284","v":"SE / SPOA / CGRL / COORDENAÇÃO DE ATIVIDADES GERAIS - COAGE"},{"$f":"[1]BASE!I284","v":"8.105.120"}]
[{"$f":"[1]BASE!A285","v":"JOSIAS DO CANTO FERNANDES"},{"$f":"[1]BASE!B285","v":6456060},{"$f":"[1]BASE!C285","v":"Analista de Informações"},{"$f":"[1]BASE!D285","v":"Ativo Permanente"},{"$f":"[1]BASE!E285","v":"MME - Ministério de Minas e Energia"},{"$f":"[1]BASE!F285","v":" "},{"$f":"[1]BASE!G285","v":"GSISTE Superior"},{"$f":"[1]BASE!H285","v":"SE / SPOA / COORDENAÇÃO GERAL DE RECURSOS HUMANOS - CGRH"},{"$f":"[1]BASE!I285","v":"8.105.200"}]
[{"$f":"[1]BASE!A286","v":"JOSUE DE ARAUJO"},{"$f":"[1]BASE!B286","v":1439997},{"$f":"[1]BASE!C286","v":"Analista em Tecnologia da Informação"},{"$f":"[1]BASE!D286","v":"Exercício Descentralizado"},{"$f":"[1]BASE!E286","v":"ME - Ministério da Economia"},{"$f":"[1]BASE!F286","v":" "},{"$f":"[1]BASE!G286","v":" "},{"$f":"[1]BASE!H286","v":"SE / SPOA / CGTI / COORDENAÇÃO DE TECNOLOGIA DE SISTEMAS DE INFORMAÇÃO - CTSI"},{"$f":"[1]BASE!I286","v":"8.105.320"}]
[{"$f":"[1]BASE!A287","v":"JUAN LUIS DANILO CATALAN ZAMUDIO"},{"$f":"[1]BASE!B287","v":1373497},{"$f":"[1]BASE!C287","v":"Analista de Tecnologia da Informação"},{"$f":"[1]BASE!D287","v":"Requisitado de Empresa"},{"$f":"[1]BASE!E287","v":"DATAPREV - Empresa de Tecnologia e Informações da Previdência"},{"$f":"[1]BASE!F287","v":"DAS 102.4"},{"$f":"[1]BASE!G287","v":" "},{"$f":"[1]BASE!H287","v":"SEE / CHEFIA DE GABINETE SEE"},{"$f":"[1]BASE!I287","v":"12.100.000"}]
[{"$f":"[1]BASE!A288","v":"JUAREZ DUARTE FRANCO"},{"$f":"[1]BASE!B288","v":451667},{"$f":"[1]BASE!C288","v":"Agente Administrativo"},{"$f":"[1]BASE!D288","v":"Ativo Permanente"},{"$f":"[1]BASE!E288","v":"MME - Ministério de Minas e Energia"},{"$f":"[1]BASE!F288","v":"FCPE 101.3"},{"$f":"[1]BASE!G288","v":" "},{"$f":"[1]BASE!H288","v":"CONJUR / CGAA / COORDENAÇÃO DE APOIO ADMINISTRATIVO"},{"$f":"[1]BASE!I288","v":"7.100.310"}]
[{"$f":"[1]BASE!A289","v":"JULIA MELO MENESES"},{"$f":"[1]BASE!B289","v":1669136},{"$f":"[1]BASE!C289","v":"Auxiliar Codificação e Conferência"},{"$f":"[1]BASE!D289","v":"Anistiado MME"},{"$f":"[1]BASE!E289","v":"MME - Ministério de Minas e Energia"},{"$f":"[1]BASE!F289","v":" "},{"$f":"[1]BASE!G289","v":" "},{"$f":"[1]BASE!H289","v":"SE / SPOA / CGRH / COORDENAÇÃO DE DESENVOLVIMENTO E SEGURIDADE SOCIAL - CODES"},{"$f":"[1]BASE!I289","v":"8.105.220"}]
[{"$f":"[1]BASE!A290","v":"JULIANA PEREIRA DA SILVA"},{"$f":"[1]BASE!B290","v":1717625},{"$f":"[1]BASE!C290","v":"Sem Cargo/Emprego"},{"$f":"[1]BASE!D290","v":"Sem Vínculo"},{"$f":"[1]BASE!E290","v":"Sem Vínculo"},{"$f":"[1]BASE!F290","v":"DAS 102.2"},{"$f":"[1]BASE!G290","v":" "},{"$f":"[1]BASE!H290","v":"SPE / DEPARTAMENTO DE OUTORGAS DE CONCESSÕES, PERMISSÕES E AUTORIZAÇÕES - DOC"},{"$f":"[1]BASE!I290","v":"10.103.000"}]
[{"$f":"[1]BASE!A291","v":"JULIANA SOBREIRA PEREIRA DAVEY"},{"$f":"[1]BASE!B291","v":1131440},{"$f":"[1]BASE!C291","v":"Analista de Infraestrutura"},{"$f":"[1]BASE!D291","v":"Exercício Descentralizado"},{"$f":"[1]BASE!E291","v":"ME - Ministério da Economia"},{"$f":"[1]BASE!F291","v":" "},{"$f":"[1]BASE!G291","v":" "},{"$f":"[1]BASE!H291","v":"SGM / DEPARTAMENTO DE GESTÃO DAS POLÍTICAS DE GEOLOGIA, MINERAÇÃOE TRANSFORMAÇÃO - DPGM"},{"$f":"[1]BASE!I291","v":"9.101.000"}]
[{"$f":"[1]BASE!A292","v":"JULIETTE QUEIROZ MONSA"},{"$f":"[1]BASE!B292","v":2353624},{"$f":"[1]BASE!C292","v":"Sem Cargo/Emprego"},{"$f":"[1]BASE!D292","v":"Sem Vínculo"},{"$f":"[1]BASE!E292","v":"Sem Vínculo"},{"$f":"[1]BASE!F292","v":"DAS 101.4"},{"$f":"[1]BASE!G292","v":" "},{"$f":"[1]BASE!H292","v":"SE / CHEFIA DE GABINETE SE"},{"$f":"[1]BASE!I292","v":"8.100.000"}]
[{"$f":"[1]BASE!A293","v":"JULIO CESAR MELLO RODRIGUES"},{"$f":"[1]BASE!B293","v":1423510},{"$f":"[1]BASE!C293","v":"Especialista em Política Pública e Gestão Governamental"},{"$f":"[1]BASE!D293","v":"Requisitado de Órgãos"},{"$f":"[1]BASE!E293","v":"ANM - Agência Nacional de Mineração"},{"$f":"[1]BASE!F293","v":" "},{"$f":"[1]BASE!G293","v":"GSISP Superior"},{"$f":"[1]BASE!H293","v":"SE / ASSESSORIA ESPECIAL DE GESTÃO ESTRATÉGICA - AEGE"},{"$f":"[1]BASE!I293","v":"8.101.000"}]
[{"$f":"[1]BASE!A294","v":"JUSCELINO DE SOUSA SANTOS"},{"$f":"[1]BASE!B294","v":758361},{"$f":"[1]BASE!C294","v":"Motorista Oficial"},{"$f":"[1]BASE!D294","v":"Ativo Permanente"},{"$f":"[1]BASE!E294","v":"MME - Ministério de Minas e Energia"},{"$f":"[1]BASE!F294","v":"FGR 1"},{"$f":"[1]BASE!G294","v":" "},{"$f":"[1]BASE!H294","v":"SE / SPOA / CGRL / COORDENAÇÃO DE ATIVIDADES GERAIS - COAGE"},{"$f":"[1]BASE!I294","v":"8.105.120"}]
[{"$f":"[1]BASE!A295","v":"KATIA HOLANDA DE CARVALHO"},{"$f":"[1]BASE!B295","v":451665},{"$f":"[1]BASE!C295","v":"Agente Administrativo"},{"$f":"[1]BASE!D295","v":"Ativo Permanente"},{"$f":"[1]BASE!E295","v":"MME - Ministério de Minas e Energia"},{"$f":"[1]BASE!F295","v":"FCT 3"},{"$f":"[1]BASE!G295","v":"GSISTE Intermediário"},{"$f":"[1]BASE!H295","v":"SE / SPOA / CGRL / COORDENAÇÃO DE ATIVIDADES GERAIS - COAGE"},{"$f":"[1]BASE!I295","v":"8.105.120"}]
[{"$f":"[1]BASE!A296","v":"KAZIMIERZ JOSEF CUDO"},{"$f":"[1]BASE!B296","v":1776063},{"$f":"[1]BASE!C296","v":"Engenheiro Químico"},{"$f":"[1]BASE!D296","v":"Anistiado MME"},{"$f":"[1]BASE!E296","v":"MME - Ministério de Minas e Energia"},{"$f":"[1]BASE!F296","v":" "},{"$f":"[1]BASE!G296","v":" "},{"$f":"[1]BASE!H296","v":"SEE / DPUE / COORDENAÇÃO GERAL DE DESENVOLVIMENTO DE POLÍTICAS SOCIAIS"},{"$f":"[1]BASE!I296","v":"12.103.100"}]
[{"$f":"[1]BASE!A297","v":"KISNEY VIEIRA DOS SANTOS"},{"$f":"[1]BASE!B297","v":1953997},{"$f":"[1]BASE!C297","v":"Sem Cargo/Emprego"},{"$f":"[1]BASE!D297","v":"Sem Vínculo"},{"$f":"[1]BASE!E297","v":"Sem Vínculo"},{"$f":"[1]BASE!F297","v":"DAS 102.2"},{"$f":"[1]BASE!G297","v":" "},{"$f":"[1]BASE!H297","v":"SEE / DPUE / COORDENAÇÃO GERAL DE DESENVOLVIMENTO DE POLÍTICAS SOCIAIS"},{"$f":"[1]BASE!I297","v":"12.103.100"}]
[{"$f":"[1]BASE!A298","v":"LÁZARA GOMES DOS SANTOS"},{"$f":"[1]BASE!B298","v":6454710},{"$f":"[1]BASE!C298","v":"Agente Administrativo"},{"$f":"[1]BASE!D298","v":"Exercício Descentralizado"},{"$f":"[1]BASE!E298","v":"AGU - Advocacia Geral da União"},{"$f":"[1]BASE!F298","v":"FCPE 102.2"},{"$f":"[1]BASE!G298","v":" "},{"$f":"[1]BASE!H298","v":"CONJUR / CGAA / COORDENAÇÃO DE APOIO ADMINISTRATIVO"},{"$f":"[1]BASE!I298","v":"7.100.310"}]
[{"$f":"[1]BASE!A299","v":"LEA DE FREITAS"},{"$f":"[1]BASE!B299","v":1779396},{"$f":"[1]BASE!C299","v":"Digitador II"},{"$f":"[1]BASE!D299","v":"Anistiado MME"},{"$f":"[1]BASE!E299","v":"MME - Ministério de Minas e Energia"},{"$f":"[1]BASE!F299","v":" "},{"$f":"[1]BASE!G299","v":" "},{"$f":"[1]BASE!H299","v":"SE / SPOA / CGRH / COORDENAÇÃO DE DESENVOLVIMENTO E SEGURIDADE SOCIAL - CODES"},{"$f":"[1]BASE!I299","v":"8.105.220"}]
[{"$f":"[1]BASE!A300","v":"LEILA MARIA BASTOS PERES DOS SANTOS"},{"$f":"[1]BASE!B300","v":2724516},{"$f":"[1]BASE!C300","v":"Sem Cargo/Emprego"},{"$f":"[1]BASE!D300","v":"Sem Vínculo"},{"$f":"[1]BASE!E300","v":"Sem Vínculo"},{"$f":"[1]BASE!F300","v":"DAS 102.2"},{"$f":"[1]BASE!G300","v":" "},{"$f":"[1]BASE!H300","v":"GM / ASSESSORIA DE APOIO AO MINISTRO - AAM"},{"$f":"[1]BASE!I300","v":"2.100.400"}]
[{"$f":"[1]BASE!A301","v":"LEILA PRZYTYK"},{"$f":"[1]BASE!B301","v":2437158},{"$f":"[1]BASE!C301","v":"Auditor Federal de Finanças e Controle"},{"$f":"[1]BASE!D301","v":"Requisitado de Órgãos"},{"$f":"[1]BASE!E301","v":"ME - Ministério da Economia"},{"$f":"[1]BASE!F301","v":"DAS 102.4"},{"$f":"[1]BASE!G301","v":" "},{"$f":"[1]BASE!H301","v":"ASSESSORIA ESPECIAL DE ASSUNTOS ECONÔMICOS - ASSEC"},{"$f":"[1]BASE!I301","v":"6.000.000"}]
[{"$f":"[1]BASE!A302","v":"LEOBINA CARDIAL DA SILVA SOARES"},{"$f":"[1]BASE!B302","v":1692146},{"$f":"[1]BASE!C302","v":"Servente"},{"$f":"[1]BASE!D302","v":"Anistiado MME"},{"$f":"[1]BASE!E302","v":"MME - Ministério de Minas e Energia"},{"$f":"[1]BASE!F302","v":" "},{"$f":"[1]BASE!G302","v":" "},{"$f":"[1]BASE!H302","v":"SE / AEGP / CGPF / COORDENAÇÃO ADMINISTRATIVA"},{"$f":"[1]BASE!I302","v":"8.103.110"}]
[{"$f":"[1]BASE!A303","v":"LEONARDO BATISTA XAVIER"},{"$f":"[1]BASE!B303","v":456020},{"$f":"[1]BASE!C303","v":"Agente de Portaria"},{"$f":"[1]BASE!D303","v":"Ativo Permanente"},{"$f":"[1]BASE!E303","v":"MME - Ministério de Minas e Energia"},{"$f":"[1]BASE!F303","v":"FGR 1"},{"$f":"[1]BASE!G303","v":" "},{"$f":"[1]BASE!H303","v":"SE / SPOA / CGRL / COORDENAÇÃO DE ATIVIDADES GERAIS - COAGE"},{"$f":"[1]BASE!I303","v":"8.105.120"}]
[{"$f":"[1]BASE!A304","v":"LEONARDO FREIRE DE OLIVEIRA GARCIA"},{"$f":"[1]BASE!B304","v":1258785},{"$f":"[1]BASE!C304","v":"Analista Técnico Administrativo"},{"$f":"[1]BASE!D304","v":"Requisitado de Órgãos"},{"$f":"[1]BASE!E304","v":"MJSP - Ministério da Justiça e Segurança Pública"},{"$f":"[1]BASE!F304","v":" "},{"$f":"[1]BASE!G304","v":"GSISTE Superior"},{"$f":"[1]BASE!H304","v":"SE / SPOA / CGRL / COORDENAÇÃO DE ATIVIDADES GERAIS - COAGE"},{"$f":"[1]BASE!I304","v":"8.105.120"}]
[{"$f":"[1]BASE!A305","v":"LEVI MOSQUEIRA"},{"$f":"[1]BASE!B305","v":1718781},{"$f":"[1]BASE!C305","v":"Programador de Sistema II"},{"$f":"[1]BASE!D305","v":"Anistiado MME"},{"$f":"[1]BASE!E305","v":"MME - Ministério de Minas e Energia"},{"$f":"[1]BASE!F305","v":" "},{"$f":"[1]BASE!G305","v":" "},{"$f":"[1]BASE!H305","v":"SE / SPOA / CGRH / COORDENAÇÃO DE DESENVOLVIMENTO E SEGURIDADE SOCIAL - CODES"},{"$f":"[1]BASE!I305","v":"8.105.220"}]
[{"$f":"[1]BASE!A306","v":"LIDINEIA MACEDO VILAR"},{"$f":"[1]BASE!B306","v":1094887},{"$f":"[1]BASE!C306","v":"Técnico de Arquivo"},{"$f":"[1]BASE!D306","v":"Ativo Permanente"},{"$f":"[1]BASE!E306","v":"MME - Ministério de Minas e Energia"},{"$f":"[1]BASE!F306","v":"FGR 1"},{"$f":"[1]BASE!G306","v":" "},{"$f":"[1]BASE!H306","v":"SPE / CHEFIA DE GABINETE SPE"},{"$f":"[1]BASE!I306","v":"10.100.000"}]
[{"$f":"[1]BASE!A307","v":"LILIA MASCARENHAS SANT'AGOSTINO"},{"$f":"[1]BASE!B307","v":2332375},{"$f":"[1]BASE!C307","v":"Sem Cargo/Emprego"},{"$f":"[1]BASE!D307","v":"Sem Vínculo"},{"$f":"[1]BASE!E307","v":"Sem Vínculo"},{"$f":"[1]BASE!F307","v":"DAS 101.5"},{"$f":"[1]BASE!G307","v":" "},{"$f":"[1]BASE!H307","v":"SGM / CHEFIA DE GABINETE SGM"},{"$f":"[1]BASE!I307","v":"9.100.000"}]
[{"$f":"[1]BASE!A308","v":"LISANDRA PEREIRA DA FONSECA"},{"$f":"[1]BASE!B308","v":2210836},{"$f":"[1]BASE!C308","v":"Sem Cargo/Emprego"},{"$f":"[1]BASE!D308","v":"Sem Vínculo"},{"$f":"[1]BASE!E308","v":"Sem Vínculo"},{"$f":"[1]BASE!F308","v":"DAS 102.2"},{"$f":"[1]BASE!G308","v":" "},{"$f":"[1]BASE!H308","v":"GM / ASSESSORIA DE COMUNICAÇÃO SOCIAL - ASCOM"},{"$f":"[1]BASE!I308","v":"2.100.300"}]
[{"$f":"[1]BASE!A309","v":"LIVIO TEIXEIRA DE ANDRADE FILHO"},{"$f":"[1]BASE!B309","v":3458938},{"$f":"[1]BASE!C309","v":"Analista de Infraestrutura"},{"$f":"[1]BASE!D309","v":"Exercício Descentralizado"},{"$f":"[1]BASE!E309","v":"ME - Ministério da Economia"},{"$f":"[1]BASE!F309","v":"DAS 101.4"},{"$f":"[1]BASE!G309","v":" "},{"$f":"[1]BASE!H309","v":"SPE / DDE / COORDENAÇÃO GERAL DE FONTES ALTERNATIVAS"},{"$f":"[1]BASE!I309","v":"10.102.300"}]
[{"$f":"[1]BASE!A310","v":"LORENA LOPES DE MORAES"},{"$f":"[1]BASE!B310","v":1456830},{"$f":"[1]BASE!C310","v":"Sem Cargo/Emprego"},{"$f":"[1]BASE!D310","v":"Sem Vínculo"},{"$f":"[1]BASE!E310","v":"Sem Vínculo"},{"$f":"[1]BASE!F310","v":"DAS 102.2"},{"$f":"[1]BASE!G310","v":" "},{"$f":"[1]BASE!H310","v":"SGM / DDM / COORDENAÇÃO GERAL DE DESENVOLVIMENTO SOCIOAMBIENTAL NA MINERAÇÃO"},{"$f":"[1]BASE!I310","v":"9.104.100"}]
[{"$f":"[1]BASE!A311","v":"LORENA MELO SILVA"},{"$f":"[1]BASE!B311","v":3974664},{"$f":"[1]BASE!C311","v":"Analista de Infraestrutura"},{"$f":"[1]BASE!D311","v":"Exercício Descentralizado"},{"$f":"[1]BASE!E311","v":"ME - Ministério da Economia"},{"$f":"[1]BASE!F311","v":"DAS 102.4"},{"$f":"[1]BASE!G311","v":" "},{"$f":"[1]BASE!H311","v":"SPE / DEPARTAMENTO DE PLANEJAMENTO ENERGÉTICO - DPE"},{"$f":"[1]BASE!I311","v":"10.101.000"}]
[{"$f":"[1]BASE!A312","v":"LOURDES CAETANO PEREIRA"},{"$f":"[1]BASE!B312","v":1339851},{"$f":"[1]BASE!C312","v":"Auxiliar de Controle"},{"$f":"[1]BASE!D312","v":"Anistiado MME"},{"$f":"[1]BASE!E312","v":"MME - Ministério de Minas e Energia"},{"$f":"[1]BASE!F312","v":" "},{"$f":"[1]BASE!G312","v":" "},{"$f":"[1]BASE!H312","v":"SE / SPOA / COORDENAÇÃO GERAL DE RECURSOS HUMANOS - CGRH"},{"$f":"[1]BASE!I312","v":"8.105.200"}]
[{"$f":"[1]BASE!A313","v":"LUCAS GOMES AMORIM"},{"$f":"[1]BASE!B313","v":1413502},{"$f":"[1]BASE!C313","v":"Sem Cargo/Emprego"},{"$f":"[1]BASE!D313","v":"Sem Vínculo"},{"$f":"[1]BASE!E313","v":"Sem Vínculo"},{"$f":"[1]BASE!F313","v":"DAS 102.1"},{"$f":"[1]BASE!G313","v":" "},{"$f":"[1]BASE!H313","v":"GM / ASSESSORIA TÉCNICA E ADMINISTRATIVA - ASTAD"},{"$f":"[1]BASE!I313","v":"2.100.100"}]
[{"$f":"[1]BASE!A314","v":"LUCIA MARIA DE ALMEIDA MOYSÉS"},{"$f":"[1]BASE!B314","v":451578},{"$f":"[1]BASE!C314","v":"Administrador"},{"$f":"[1]BASE!D314","v":"Ativo Permanente"},{"$f":"[1]BASE!E314","v":"MME - Ministério de Minas e Energia"},{"$f":"[1]BASE!F314","v":"FGR 1"},{"$f":"[1]BASE!G314","v":"GSISTE Superior"},{"$f":"[1]BASE!H314","v":"SE / SPOA / CGRH / COORDENAÇÃO DE ADMINISTRAÇÃO DE PESSOAL - CAPES"},{"$f":"[1]BASE!I314","v":"8.105.210"}]
[{"$f":"[1]BASE!A315","v":"LUCIA MARIA PRACIANO MINERVINO"},{"$f":"[1]BASE!B315","v":1673954},{"$f":"[1]BASE!C315","v":"Assistente Técnico"},{"$f":"[1]BASE!D315","v":"Anistiado MME"},{"$f":"[1]BASE!E315","v":"MME - Ministério de Minas e Energia"},{"$f":"[1]BASE!F315","v":" "},{"$f":"[1]BASE!G315","v":" "},{"$f":"[1]BASE!H315","v":"SPE / DEPARTAMENTO DE PLANEJAMENTO ENERGÉTICO - DPE"},{"$f":"[1]BASE!I315","v":"10.101.000"}]
[{"$f":"[1]BASE!A316","v":"LUCIANA RODRIGUES DUTRA"},{"$f":"[1]BASE!B316","v":1185583},{"$f":"[1]BASE!C316","v":"Documentação"},{"$f":"[1]BASE!D316","v":"Requisitado de Órgãos"},{"$f":"[1]BASE!E316","v":"FCP - Fundação Cultural Palmares"},{"$f":"[1]BASE!F316","v":" "},{"$f":"[1]BASE!G316","v":"GSISTE Superior"},{"$f":"[1]BASE!H316","v":"SE / SPOA / CGRL / COORDENAÇÃO DE ATIVIDADES GERAIS - COAGE"},{"$f":"[1]BASE!I316","v":"8.105.120"}]
[{"$f":"[1]BASE!A317","v":"LUCIANO DA SILVA TEIXEIRA"},{"$f":"[1]BASE!B317","v":4686676},{"$f":"[1]BASE!C317","v":"Analista de Infraestrutura"},{"$f":"[1]BASE!D317","v":"Exercício Descentralizado"},{"$f":"[1]BASE!E317","v":"ME - Ministério da Economia"},{"$f":"[1]BASE!F317","v":"FCPE 101.3"},{"$f":"[1]BASE!G317","v":" "},{"$f":"[1]BASE!H317","v":"SE / AEGP / CGGP / COORDENAÇÃO DE LICITAÇÃO"},{"$f":"[1]BASE!I317","v":"8.103.210"}]
[{"$f":"[1]BASE!A318","v":"LUCIANO DE MENDONCA FONSECA"},{"$f":"[1]BASE!B318","v":1335003},{"$f":"[1]BASE!C318","v":"Analista de Planejamento e Orçamento"},{"$f":"[1]BASE!D318","v":"Exercício Descentralizado"},{"$f":"[1]BASE!E318","v":"ME - Ministério da Economia"},{"$f":"[1]BASE!F318","v":"FCPE 102.1"},{"$f":"[1]BASE!G318","v":" "},{"$f":"[1]BASE!H318","v":"SE / SPOA / COORDENAÇÃO GERAL DE ORÇAMENTO E FINANÇAS - CGOF"},{"$f":"[1]BASE!I318","v":"8.105.500"}]
[{"$f":"[1]BASE!A319","v":"LUCIMAR SOUZA ASSIS"},{"$f":"[1]BASE!B319","v":1669294},{"$f":"[1]BASE!C319","v":"Auxiliar Codificação e Conferência"},{"$f":"[1]BASE!D319","v":"Anistiado MME"},{"$f":"[1]BASE!E319","v":"MME - Ministério de Minas e Energia"},{"$f":"[1]BASE!F319","v":" "},{"$f":"[1]BASE!G319","v":" "},{"$f":"[1]BASE!H319","v":"SE / SPOA / CGRH / COORDENAÇÃO DE DESENVOLVIMENTO E SEGURIDADE SOCIAL - CODES"},{"$f":"[1]BASE!I319","v":"8.105.220"}]
[{"$f":"[1]BASE!A320","v":"LUIS FELIPE MONTEIRO SERRAO"},{"$f":"[1]BASE!B320","v":1081712},{"$f":"[1]BASE!C320","v":"Sem Cargo/Emprego"},{"$f":"[1]BASE!D320","v":"Sem Vínculo"},{"$f":"[1]BASE!E320","v":"Sem Vínculo"},{"$f":"[1]BASE!F320","v":"DAS 102.4"},{"$f":"[1]BASE!G320","v":" "},{"$f":"[1]BASE!H320","v":"GM / ASSESSORIA PARLAMENTAR - ASPAR"},{"$f":"[1]BASE!I320","v":"2.100.200"}]
[{"$f":"[1]BASE!A321","v":"LUIS FERNANDO BADANHAN"},{"$f":"[1]BASE!B321","v":3444256},{"$f":"[1]BASE!C321","v":"Analista de Infraestrutura"},{"$f":"[1]BASE!D321","v":"Exercício Descentralizado"},{"$f":"[1]BASE!E321","v":"ME - Ministério da Economia"},{"$f":"[1]BASE!F321","v":"FCPE 101.4"},{"$f":"[1]BASE!G321","v":" "},{"$f":"[1]BASE!H321","v":"SPE / DDE / COORDENAÇÃO GERAL DE SUSTENTABILIDADE AMBIENTAL DO SETOR ENERGÉTICO"},{"$f":"[1]BASE!I321","v":"10.102.200"}]
[{"$f":"[1]BASE!A322","v":"LUIS FERREIRA DE OLIVEIRA"},{"$f":"[1]BASE!B322","v":449949},{"$f":"[1]BASE!C322","v":"Agente de Portaria"},{"$f":"[1]BASE!D322","v":"Ativo Permanente"},{"$f":"[1]BASE!E322","v":"MME - Ministério de Minas e Energia"},{"$f":"[1]BASE!F322","v":" "},{"$f":"[1]BASE!G322","v":" "},{"$f":"[1]BASE!H322","v":"SGM / DTTM / COORDENAÇÃO GERAL DE CAPACITAÇÃO E DESENVOLVIMENTO TECNOLÓGICO"},{"$f":"[1]BASE!I322","v":"9.103.100"}]
[{"$f":"[1]BASE!A323","v":"LUIZ ANTONIO NETTO SA FORTES"},{"$f":"[1]BASE!B323","v":1669188},{"$f":"[1]BASE!C323","v":"Programador de Aplicação I"},{"$f":"[1]BASE!D323","v":"Anistiado MME"},{"$f":"[1]BASE!E323","v":"MME - Ministério de Minas e Energia"},{"$f":"[1]BASE!F323","v":" "},{"$f":"[1]BASE!G323","v":" "},{"$f":"[1]BASE!H323","v":"Aguardando Lotação/Exercício"},{"$f":"[1]BASE!I323","v":"88.000.000"}]
[{"$f":"[1]BASE!A324","v":"LUIZ AUGUSTO GOMES DE OLIVEIRA"},{"$f":"[1]BASE!B324","v":1361802},{"$f":"[1]BASE!C324","v":"Sem Cargo/Emprego"},{"$f":"[1]BASE!D324","v":"Sem Vínculo"},{"$f":"[1]BASE!E324","v":"Sem Vínculo"},{"$f":"[1]BASE!F324","v":"DAS 102.2"},{"$f":"[1]BASE!G324","v":" "},{"$f":"[1]BASE!H324","v":"SEE / DMSE / COORDENAÇÃO GERAL DE MONITORAMENTO DA EXPANSÃO DA GERAÇÃO"},{"$f":"[1]BASE!I324","v":"12.102.100"}]
[{"$f":"[1]BASE!A325","v":"LUIZ CARAZZA FILHO"},{"$f":"[1]BASE!B325","v":1670176},{"$f":"[1]BASE!C325","v":"Programador"},{"$f":"[1]BASE!D325","v":"Anistiado MME"},{"$f":"[1]BASE!E325","v":"MME - Ministério de Minas e Energia"},{"$f":"[1]BASE!F325","v":" "},{"$f":"[1]BASE!G325","v":" "},{"$f":"[1]BASE!H325","v":"SE / SPOA / CGRL / COORDENAÇÃO DE ADMINISTRAÇÃO DE MATERIAL E EXECUÇÃO FINANCEIRA - COMEF"},{"$f":"[1]BASE!I325","v":"8.105.110"}]
[{"$f":"[1]BASE!A326","v":"LUIZ CARLOS BRUNEL ALVES"},{"$f":"[1]BASE!B326","v":2169970},{"$f":"[1]BASE!C326","v":"Auxiliar Administrativo II"},{"$f":"[1]BASE!D326","v":"Anistiado MME"},{"$f":"[1]BASE!E326","v":"MME - Ministério de Minas e Energia"},{"$f":"[1]BASE!F326","v":" "},{"$f":"[1]BASE!G326","v":" "},{"$f":"[1]BASE!H326","v":"Aguardando Lotação/Exercício"},{"$f":"[1]BASE!I326","v":"88.000.000"}]
[{"$f":"[1]BASE!A327","v":"LUIZ CARLOS DE MOURA ADAMI"},{"$f":"[1]BASE!B327","v":1992618},{"$f":"[1]BASE!C327","v":"Sem Cargo/Emprego"},{"$f":"[1]BASE!D327","v":"Sem Vínculo"},{"$f":"[1]BASE!E327","v":"Sem Vínculo"},{"$f":"[1]BASE!F327","v":"DAS 101.4"},{"$f":"[1]BASE!G327","v":" "},{"$f":"[1]BASE!H327","v":"SGM / DGPM / COORDENAÇÃO GERAL DE MONITORAMENTO E CONTROLE DE CONCESSÕES MINERAIS"},{"$f":"[1]BASE!I327","v":"9.102.200"}]
[{"$f":"[1]BASE!A328","v":"LUIZ CARLOS DIAS DA SILVA"},{"$f":"[1]BASE!B328","v":1310698},{"$f":"[1]BASE!C328","v":"Analista de Planejamento e Orçamento"},{"$f":"[1]BASE!D328","v":"Exercício Descentralizado"},{"$f":"[1]BASE!E328","v":"ME - Ministério da Economia"},{"$f":"[1]BASE!F328","v":"DAS 101.3"},{"$f":"[1]BASE!G328","v":" "},{"$f":"[1]BASE!H328","v":"SE / SPOA / CGOF / COORDENAÇÃO DE ORÇAMENTO - CORC"},{"$f":"[1]BASE!I328","v":"8.105.530"}]
[{"$f":"[1]BASE!A329","v":"LUIZ CARLOS SAMPAIO"},{"$f":"[1]BASE!B329","v":220105},{"$f":"[1]BASE!C329","v":"Agente de Portaria"},{"$f":"[1]BASE!D329","v":"Ativo Permanente"},{"$f":"[1]BASE!E329","v":"MME - Ministério de Minas e Energia"},{"$f":"[1]BASE!F329","v":"FGR 1"},{"$f":"[1]BASE!G329","v":" "},{"$f":"[1]BASE!H329","v":"SE / SPOA / CGRL / COORDENAÇÃO DE ATIVIDADES GERAIS - COAGE"},{"$f":"[1]BASE!I329","v":"8.105.120"}]
[{"$f":"[1]BASE!A330","v":"LUIZ CLAUDIO FONTENELE GONCALVES"},{"$f":"[1]BASE!B330","v":452215},{"$f":"[1]BASE!C330","v":"Médico"},{"$f":"[1]BASE!D330","v":"Ativo Permanente"},{"$f":"[1]BASE!E330","v":"MME - Ministério de Minas e Energia"},{"$f":"[1]BASE!F330","v":"FCPE 102.3"},{"$f":"[1]BASE!G330","v":"GSISTE Superior"},{"$f":"[1]BASE!H330","v":"SE / SPOA / CGRH / COORDENAÇÃO DE DESENVOLVIMENTO E SEGURIDADE SOCIAL - CODES"},{"$f":"[1]BASE!I330","v":"8.105.220"}]
[{"$f":"[1]BASE!A331","v":"LUIZ CLAUDIO SOARES DE CARVALHO"},{"$f":"[1]BASE!B331","v":2310684},{"$f":"[1]BASE!C331","v":"Analista de Planejamento e Orçamento"},{"$f":"[1]BASE!D331","v":"Exercício Descentralizado"},{"$f":"[1]BASE!E331","v":"ME - Ministério da Economia"},{"$f":"[1]BASE!F331","v":" "},{"$f":"[1]BASE!G331","v":" "},{"$f":"[1]BASE!H331","v":"SE / AEGE / COORDENAÇÃO GERAL DE PLANEJAMENTO ESTRATÉGICO, SUPERVISÃO E AVALIAÇÃO - CGPE"},{"$f":"[1]BASE!I331","v":"8.101.100"}]
[{"$f":"[1]BASE!A332","v":"LUIZ GONZAGA DE ARAUJO FILHO"},{"$f":"[1]BASE!B332","v":1593563},{"$f":"[1]BASE!C332","v":"Contínuo"},{"$f":"[1]BASE!D332","v":"Anistiado MME"},{"$f":"[1]BASE!E332","v":"MME - Ministério de Minas e Energia"},{"$f":"[1]BASE!F332","v":" "},{"$f":"[1]BASE!G332","v":" "},{"$f":"[1]BASE!H332","v":"SEE / CHEFIA DE GABINETE SEE"},{"$f":"[1]BASE!I332","v":"12.100.000"}]
[{"$f":"[1]BASE!A333","v":"LUIZ PEREIRA DOS SANTOS"},{"$f":"[1]BASE!B333","v":2403600},{"$f":"[1]BASE!C333","v":"Assistente Controle Financeiro"},{"$f":"[1]BASE!D333","v":"Contrato Temporário"},{"$f":"[1]BASE!E333","v":"MME - Ministério de Minas e Energia"},{"$f":"[1]BASE!F333","v":" "},{"$f":"[1]BASE!G333","v":" "},{"$f":"[1]BASE!H333","v":"SE / AEGP / COORDENAÇÃO GERAL DE PLANEJAMENTO, FINANÇAS E CONTROLE - CGPF"},{"$f":"[1]BASE!I333","v":"8.103.100"}]
[{"$f":"[1]BASE!A334","v":"MANOEL ALVES MAIA"},{"$f":"[1]BASE!B334","v":452192},{"$f":"[1]BASE!C334","v":"Agente de Vigilância"},{"$f":"[1]BASE!D334","v":"Ativo Permanente"},{"$f":"[1]BASE!E334","v":"MME - Ministério de Minas e Energia"},{"$f":"[1]BASE!F334","v":"FGR 1"},{"$f":"[1]BASE!G334","v":" "},{"$f":"[1]BASE!H334","v":"SE / SPOA / CGRL / COORDENAÇÃO DE ATIVIDADES GERAIS - COAGE"},{"$f":"[1]BASE!I334","v":"8.105.120"}]
[{"$f":"[1]BASE!A335","v":"MANOEL DA PAIXAO NETO"},{"$f":"[1]BASE!B335","v":1586318},{"$f":"[1]BASE!C335","v":"Digitador"},{"$f":"[1]BASE!D335","v":"Anistiado MME"},{"$f":"[1]BASE!E335","v":"MME - Ministério de Minas e Energia"},{"$f":"[1]BASE!F335","v":" "},{"$f":"[1]BASE!G335","v":" "},{"$f":"[1]BASE!H335","v":"SPE / CHEFIA DE GABINETE SPE"},{"$f":"[1]BASE!I335","v":"10.100.000"}]
[{"$f":"[1]BASE!A336","v":"MANOEL HUMBERTO LEMOS DA SILVA"},{"$f":"[1]BASE!B336","v":1963508},{"$f":"[1]BASE!C336","v":"Sem Cargo/Emprego"},{"$f":"[1]BASE!D336","v":"Sem Vínculo"},{"$f":"[1]BASE!E336","v":"Sem Vínculo"},{"$f":"[1]BASE!F336","v":"DAS 102.4"},{"$f":"[1]BASE!G336","v":" "},{"$f":"[1]BASE!H336","v":"SE / SUBSECRETARIA DE PLANEJAMENTO, ORÇAMENTO E ADMINISTRAÇÃO - SPOA"},{"$f":"[1]BASE!I336","v":"8.105.000"}]
[{"$f":"[1]BASE!A337","v":"MARA BETANIA BALTAR GARCIA DA CONCEICAO"},{"$f":"[1]BASE!B337","v":1677235},{"$f":"[1]BASE!C337","v":"Codificador de Dados I"},{"$f":"[1]BASE!D337","v":"Anistiado MME"},{"$f":"[1]BASE!E337","v":"MME - Ministério de Minas e Energia"},{"$f":"[1]BASE!F337","v":"DAS 101.2"},{"$f":"[1]BASE!G337","v":" "},{"$f":"[1]BASE!H337","v":"SE / SPOA / CGRH / COORDENAÇÃO DE DESENVOLVIMENTO E SEGURIDADE SOCIAL - CODES"},{"$f":"[1]BASE!I337","v":"8.105.220"}]
[{"$f":"[1]BASE!A338","v":"MARCELO BARBOSA COELHO"},{"$f":"[1]BASE!B338","v":1677225},{"$f":"[1]BASE!C338","v":"Advogado"},{"$f":"[1]BASE!D338","v":"Anistiado MME"},{"$f":"[1]BASE!E338","v":"MME - Ministério de Minas e Energia"},{"$f":"[1]BASE!F338","v":" "},{"$f":"[1]BASE!G338","v":" "},{"$f":"[1]BASE!H338","v":"Aguardando Lotação/Exercício"},{"$f":"[1]BASE!I338","v":"88.000.000"}]
[{"$f":"[1]BASE!A339","v":"MARCIA ALVES DE FIGUEIREDO"},{"$f":"[1]BASE!B339","v":1670151},{"$f":"[1]BASE!C339","v":"Escriturário III"},{"$f":"[1]BASE!D339","v":"Anistiado MME"},{"$f":"[1]BASE!E339","v":"MME - Ministério de Minas e Energia"},{"$f":"[1]BASE!F339","v":"DAS 101.2"},{"$f":"[1]BASE!G339","v":" "},{"$f":"[1]BASE!H339","v":"SE / SPOA / CGRL / COORDENAÇÃO DE ATIVIDADES GERAIS - COAGE"},{"$f":"[1]BASE!I339","v":"8.105.120"}]
[{"$f":"[1]BASE!A340","v":"MARCIA CRISTINA DA SILVA DO NASCIMENTO"},{"$f":"[1]BASE!B340","v":1374653},{"$f":"[1]BASE!C340","v":"Sem Cargo/Emprego"},{"$f":"[1]BASE!D340","v":"Sem Vínculo"},{"$f":"[1]BASE!E340","v":"Sem Vínculo"},{"$f":"[1]BASE!F340","v":"DAS 102.1"},{"$f":"[1]BASE!G340","v":" "},{"$f":"[1]BASE!H340","v":"GM / ASSESSORIA PARLAMENTAR - ASPAR"},{"$f":"[1]BASE!I340","v":"2.100.200"}]
[{"$f":"[1]BASE!A341","v":"MARCIA ELISABETE CUNHA DE SOUSA"},{"$f":"[1]BASE!B341","v":452366},{"$f":"[1]BASE!C341","v":"Agente Administrativo"},{"$f":"[1]BASE!D341","v":"Ativo Permanente"},{"$f":"[1]BASE!E341","v":"MME - Ministério de Minas e Energia"},{"$f":"[1]BASE!F341","v":"FCT 1"},{"$f":"[1]BASE!G341","v":" "},{"$f":"[1]BASE!H341","v":"GM / ASTAD / COORDENAÇÃO DE ATIVIDADES ADMINISTRATIVAS"},{"$f":"[1]BASE!I341","v":"2.100.101"}]
[{"$f":"[1]BASE!A342","v":"MARCIA PERES"},{"$f":"[1]BASE!B342","v":1670518},{"$f":"[1]BASE!C342","v":"Codificador de Dados I"},{"$f":"[1]BASE!D342","v":"Anistiado MME"},{"$f":"[1]BASE!E342","v":"MME - Ministério de Minas e Energia"},{"$f":"[1]BASE!F342","v":" "},{"$f":"[1]BASE!G342","v":" "},{"$f":"[1]BASE!H342","v":"SE / SPOA / CGRH / COORDENAÇÃO DE DESENVOLVIMENTO E SEGURIDADE SOCIAL - CODES"},{"$f":"[1]BASE!I342","v":"8.105.220"}]
[{"$f":"[1]BASE!A343","v":"MARCIA REGINA DE JESUS FIUZA"},{"$f":"[1]BASE!B343","v":1095444},{"$f":"[1]BASE!C343","v":"Agente de Portaria"},{"$f":"[1]BASE!D343","v":"Ativo Permanente"},{"$f":"[1]BASE!E343","v":"MME - Ministério de Minas e Energia"},{"$f":"[1]BASE!F343","v":"FCPE 102.2"},{"$f":"[1]BASE!G343","v":" "},{"$f":"[1]BASE!H343","v":"ASSESSORIA ESPECIAL DE CONTROLE INTERNO - AECI"},{"$f":"[1]BASE!I343","v":"5.000.000"}]
[{"$f":"[1]BASE!A344","v":"MARCILIO RODRIGUES PENHA"},{"$f":"[1]BASE!B344","v":7601425},{"$f":"[1]BASE!C344","v":"Auxiliar Codificação e Conferência"},{"$f":"[1]BASE!D344","v":"Anistiado MME"},{"$f":"[1]BASE!E344","v":"MME - Ministério de Minas e Energia"},{"$f":"[1]BASE!F344","v":" "},{"$f":"[1]BASE!G344","v":" "},{"$f":"[1]BASE!H344","v":"Aguardando Lotação/Exercício"},{"$f":"[1]BASE!I344","v":"88.000.000"}]
[{"$f":"[1]BASE!A345","v":"MARCIO MITLETON"},{"$f":"[1]BASE!B345","v":2311090},{"$f":"[1]BASE!C345","v":"Analista de Planejamento e Orçamento"},{"$f":"[1]BASE!D345","v":"Exercício Descentralizado"},{"$f":"[1]BASE!E345","v":"ME - Ministério da Economia"},{"$f":"[1]BASE!F345","v":"DAS 102.2"},{"$f":"[1]BASE!G345","v":" "},{"$f":"[1]BASE!H345","v":"SE / SPOA / CGOF / COORDENAÇÃO DE CONTABILIDADE - CONT"},{"$f":"[1]BASE!I345","v":"8.105.520"}]
[{"$f":"[1]BASE!A346","v":"MARCOS ANDRE DOS SANTOS SOEIRO"},{"$f":"[1]BASE!B346","v":3132854},{"$f":"[1]BASE!C346","v":"Marinha"},{"$f":"[1]BASE!D346","v":"Requisitado Militar"},{"$f":"[1]BASE!E346","v":"Marinha"},{"$f":"[1]BASE!F346","v":"DAS 101.4"},{"$f":"[1]BASE!G346","v":" "},{"$f":"[1]BASE!H346","v":"Escritório Rio de Janeiro/RJ"},{"$f":"[1]BASE!I346","v":"99.000.000"}]
[{"$f":"[1]BASE!A347","v":"MARCOS CARVALHO DE SANT'ANA"},{"$f":"[1]BASE!B347","v":1459922},{"$f":"[1]BASE!C347","v":"Especialista em Política Pública e Gestão Governamental"},{"$f":"[1]BASE!D347","v":"Exercício Descentralizado"},{"$f":"[1]BASE!E347","v":"ME - Ministério da Economia"},{"$f":"[1]BASE!F347","v":" "},{"$f":"[1]BASE!G347","v":" "},{"$f":"[1]BASE!H347","v":"SPG / DEPARTAMENTO DE BIOCOMBUSTÍVEIS - DBIO"},{"$f":"[1]BASE!I347","v":"11.104.000"}]
[{"$f":"[1]BASE!A348","v":"MARCOS JOSE ANTONIO PINHEIRO"},{"$f":"[1]BASE!B348","v":1331372},{"$f":"[1]BASE!C348","v":"Sem Cargo/Emprego"},{"$f":"[1]BASE!D348","v":"Sem Vínculo"},{"$f":"[1]BASE!E348","v":"Sem Vínculo"},{"$f":"[1]BASE!F348","v":"DAS 102.2"},{"$f":"[1]BASE!G348","v":" "},{"$f":"[1]BASE!H348","v":"SEE / CHEFIA DE GABINETE SEE"},{"$f":"[1]BASE!I348","v":"12.100.000"}]
[{"$f":"[1]BASE!A349","v":"MARCUS VINICIUS DINIZ ARAUJO"},{"$f":"[1]BASE!B349","v":1314231},{"$f":"[1]BASE!C349","v":"Programador"},{"$f":"[1]BASE!D349","v":"Ativo Permanente"},{"$f":"[1]BASE!E349","v":"MME - Ministério de Minas e Energia"},{"$f":"[1]BASE!F349","v":"FGR 1"},{"$f":"[1]BASE!G349","v":" "},{"$f":"[1]BASE!H349","v":"SE / SPOA / COORDENAÇÃO GERAL DE RECURSOS HUMANOS - CGRH"},{"$f":"[1]BASE!I349","v":"8.105.200"}]
[{"$f":"[1]BASE!A350","v":"MARGARETE MAGALHAES"},{"$f":"[1]BASE!B350","v":2094478},{"$f":"[1]BASE!C350","v":"Técnico em Assuntos Educacionais"},{"$f":"[1]BASE!D350","v":"Requisitado de Órgãos"},{"$f":"[1]BASE!E350","v":"MEC - Ministério da Educação"},{"$f":"[1]BASE!F350","v":" "},{"$f":"[1]BASE!G350","v":"GSISTE Superior"},{"$f":"[1]BASE!H350","v":"SE / SPOA / CGRH / COORDENAÇÃO DE DESENVOLVIMENTO E SEGURIDADE SOCIAL - CODES"},{"$f":"[1]BASE!I350","v":"8.105.220"}]
[{"$f":"[1]BASE!A351","v":"MARGARIDA SILVA OLIVEIRA DE FIGUEREDO"},{"$f":"[1]BASE!B351","v":455332},{"$f":"[1]BASE!C351","v":"Agente Administrativo"},{"$f":"[1]BASE!D351","v":"Ativo Permanente"},{"$f":"[1]BASE!E351","v":"MME - Ministério de Minas e Energia"},{"$f":"[1]BASE!F351","v":"FGR 1"},{"$f":"[1]BASE!G351","v":" "},{"$f":"[1]BASE!H351","v":"SE / SPOA / CGRH / COORDENAÇÃO DE ADMINISTRAÇÃO DE PESSOAL - CAPES"},{"$f":"[1]BASE!I351","v":"8.105.210"}]
[{"$f":"[1]BASE!A352","v":"MARIA ALDAIR VITORIANO PINHEIRO"},{"$f":"[1]BASE!B352","v":455364},{"$f":"[1]BASE!C352","v":"Agente de Portaria"},{"$f":"[1]BASE!D352","v":"Ativo Permanente"},{"$f":"[1]BASE!E352","v":"MME - Ministério de Minas e Energia"},{"$f":"[1]BASE!F352","v":"FCT 10"},{"$f":"[1]BASE!G352","v":" "},{"$f":"[1]BASE!H352","v":"SPE / CHEFIA DE GABINETE SPE"},{"$f":"[1]BASE!I352","v":"10.100.000"}]
[{"$f":"[1]BASE!A353","v":"MARIA BARBARA BERNARDES CABRAL"},{"$f":"[1]BASE!B353","v":1163587},{"$f":"[1]BASE!C353","v":"Datilógrafo"},{"$f":"[1]BASE!D353","v":"Ativo Permanente"},{"$f":"[1]BASE!E353","v":"MME - Ministério de Minas e Energia"},{"$f":"[1]BASE!F353","v":"FGR 1"},{"$f":"[1]BASE!G353","v":" "},{"$f":"[1]BASE!H353","v":"SE / SPOA / CGRL / COORDENAÇÃO DE ATIVIDADES GERAIS - COAGE"},{"$f":"[1]BASE!I353","v":"8.105.120"}]
[{"$f":"[1]BASE!A354","v":"MARIA CEICILENE ARAGAO MARTINS"},{"$f":"[1]BASE!B354","v":1439058},{"$f":"[1]BASE!C354","v":"Analista de Infraestrutura"},{"$f":"[1]BASE!D354","v":"Requisitado de Órgãos"},{"$f":"[1]BASE!E354","v":"ME - Ministério da Economia"},{"$f":"[1]BASE!F354","v":"DAS 101.5"},{"$f":"[1]BASE!G354","v":" "},{"$f":"[1]BASE!H354","v":"SE / ASSESSORIA ESPECIAL DE MEIO AMBIENTE - AESA"},{"$f":"[1]BASE!I354","v":"8.104.000"}]
[{"$f":"[1]BASE!A355","v":"MARIA DE FATIMA FERREIRA DOS SANTOS"},{"$f":"[1]BASE!B355","v":745313},{"$f":"[1]BASE!C355","v":"Auxiliar de Enfermagem"},{"$f":"[1]BASE!D355","v":"Ativo Permanente"},{"$f":"[1]BASE!E355","v":"MME - Ministério de Minas e Energia"},{"$f":"[1]BASE!F355","v":"FGR 1"},{"$f":"[1]BASE!G355","v":" "},{"$f":"[1]BASE!H355","v":"SE / SPOA / CGRH / COORDENAÇÃO DE DESENVOLVIMENTO E SEGURIDADE SOCIAL - CODES"},{"$f":"[1]BASE!I355","v":"8.105.220"}]
[{"$f":"[1]BASE!A356","v":"MARIA DE FATIMA GOMES DE MELO FREITAS"},{"$f":"[1]BASE!B356","v":1677270},{"$f":"[1]BASE!C356","v":"Auxiliar de Biblioteca"},{"$f":"[1]BASE!D356","v":"Anistiado MME"},{"$f":"[1]BASE!E356","v":"MME - Ministério de Minas e Energia"},{"$f":"[1]BASE!F356","v":" "},{"$f":"[1]BASE!G356","v":" "},{"$f":"[1]BASE!H356","v":"Aguardando Lotação/Exercício"},{"$f":"[1]BASE!I356","v":"88.000.000"}]
[{"$f":"[1]BASE!A357","v":"MARIA DE FATIMA SILVA FRANCO"},{"$f":"[1]BASE!B357","v":2190334},{"$f":"[1]BASE!C357","v":"Sem Cargo/Emprego"},{"$f":"[1]BASE!D357","v":"Sem Vínculo"},{"$f":"[1]BASE!E357","v":"Sem Vínculo"},{"$f":"[1]BASE!F357","v":"DAS 102.1"},{"$f":"[1]BASE!G357","v":" "},{"$f":"[1]BASE!H357","v":"GM / ASSESSORIA PARLAMENTAR - ASPAR"},{"$f":"[1]BASE!I357","v":"2.100.200"}]
[{"$f":"[1]BASE!A358","v":"MARIA DO SOCORRO DE SOUZA"},{"$f":"[1]BASE!B358","v":452028},{"$f":"[1]BASE!C358","v":"Agente Administrativo"},{"$f":"[1]BASE!D358","v":"Ativo Permanente"},{"$f":"[1]BASE!E358","v":"MME - Ministério de Minas e Energia"},{"$f":"[1]BASE!F358","v":"FGR 1"},{"$f":"[1]BASE!G358","v":" "},{"$f":"[1]BASE!H358","v":"SE / SPOA / CGRH / COORDENAÇÃO DE DESENVOLVIMENTO E SEGURIDADE SOCIAL - CODES"},{"$f":"[1]BASE!I358","v":"8.105.220"}]
[{"$f":"[1]BASE!A359","v":"MARIA DOMETILIA DE SOUZA"},{"$f":"[1]BASE!B359","v":451633},{"$f":"[1]BASE!C359","v":"Agente Administrativo"},{"$f":"[1]BASE!D359","v":"Ativo Permanente"},{"$f":"[1]BASE!E359","v":"MME - Ministério de Minas e Energia"},{"$f":"[1]BASE!F359","v":"FGR 1"},{"$f":"[1]BASE!G359","v":" "},{"$f":"[1]BASE!H359","v":"SGM / DEPARTAMENTO DE GEOLOGIA E PRODUÇÃO MINERAL - DGPM"},{"$f":"[1]BASE!I359","v":"9.102.000"}]
[{"$f":"[1]BASE!A360","v":"MARIA GRIGORIA DE MEDEIROS NETA"},{"$f":"[1]BASE!B360","v":7451480},{"$f":"[1]BASE!C360","v":"Sem Cargo/Emprego"},{"$f":"[1]BASE!D360","v":"Sem Vínculo"},{"$f":"[1]BASE!E360","v":"Sem Vínculo"},{"$f":"[1]BASE!F360","v":"DAS 101.1"},{"$f":"[1]BASE!G360","v":" "},{"$f":"[1]BASE!H360","v":"SE / SPOA / CGRL / COORDENAÇÃO DE ADMINISTRAÇÃO DE MATERIAL E EXECUÇÃO FINANCEIRA - COMEF"},{"$f":"[1]BASE!I360","v":"8.105.110"}]
[{"$f":"[1]BASE!A361","v":"MARIA JOSE COSTA OLIVEIRA"},{"$f":"[1]BASE!B361","v":1957235},{"$f":"[1]BASE!C361","v":"Sem Cargo/Emprego"},{"$f":"[1]BASE!D361","v":"Sem Vínculo"},{"$f":"[1]BASE!E361","v":"Sem Vínculo"},{"$f":"[1]BASE!F361","v":"DAS 102.1"},{"$f":"[1]BASE!G361","v":" "},{"$f":"[1]BASE!H361","v":"SE / ASSESSORIA ESPECIAL DE MEIO AMBIENTE - AESA"},{"$f":"[1]BASE!I361","v":"8.104.000"}]
[{"$f":"[1]BASE!A362","v":"MARIA JOSE SOARES MENON"},{"$f":"[1]BASE!B362","v":1719638},{"$f":"[1]BASE!C362","v":"Analista Técnico Administrativo"},{"$f":"[1]BASE!D362","v":"Requisitado de Órgãos"},{"$f":"[1]BASE!E362","v":"MDR - Ministério do Desenvolvimento Regional"},{"$f":"[1]BASE!F362","v":" "},{"$f":"[1]BASE!G362","v":"GSISTE Superior"},{"$f":"[1]BASE!H362","v":"SE / SPOA / CGCC / COORDENAÇÃO DE LICITAÇÕES E COMPRA - CLC"},{"$f":"[1]BASE!I362","v":"8.105.420"}]
[{"$f":"[1]BASE!A363","v":"MARIA LAURA ROCHA DOS SANTOS MACIEL"},{"$f":"[1]BASE!B363","v":161307},{"$f":"[1]BASE!C363","v":"Administrador"},{"$f":"[1]BASE!D363","v":"Ativo Permanente"},{"$f":"[1]BASE!E363","v":"MME - Ministério de Minas e Energia"},{"$f":"[1]BASE!F363","v":" "},{"$f":"[1]BASE!G363","v":" "},{"$f":"[1]BASE!H363","v":"SPG / CHEFIA DE GABINETE SPG"},{"$f":"[1]BASE!I363","v":"11.100.000"}]
[{"$f":"[1]BASE!A364","v":"MARIA LEILA FERREIRA BANDEIRA"},{"$f":"[1]BASE!B364","v":810063},{"$f":"[1]BASE!C364","v":"Agente de Portaria"},{"$f":"[1]BASE!D364","v":"Ativo Permanente"},{"$f":"[1]BASE!E364","v":"MME - Ministério de Minas e Energia"},{"$f":"[1]BASE!F364","v":"FGR 1"},{"$f":"[1]BASE!G364","v":" "},{"$f":"[1]BASE!H364","v":"SE / SPOA / CGRH / COORDENAÇÃO DE DESENVOLVIMENTO E SEGURIDADE SOCIAL - CODES"},{"$f":"[1]BASE!I364","v":"8.105.220"}]
[{"$f":"[1]BASE!A365","v":"MARIA RITA SILVA FONTES FARIA"},{"$f":"[1]BASE!B365","v":1204551},{"$f":"[1]BASE!C365","v":"Ministro de Segunda Classe"},{"$f":"[1]BASE!D365","v":"Requisitado de Órgãos"},{"$f":"[1]BASE!E365","v":"MRE - Ministério das Relações Exteriores"},{"$f":"[1]BASE!F365","v":"FCPE 101.4"},{"$f":"[1]BASE!G365","v":" "},{"$f":"[1]BASE!H365","v":"SGM / DDM / COORDENAÇÃO GERAL DE MINERAÇÃO EM ÁREAS DE CONSERVAÇÃO E CONFLITO"},{"$f":"[1]BASE!I365","v":"9.104.200"}]
[{"$f":"[1]BASE!A366","v":"MARIA SELMI ALVES DA SILVA"},{"$f":"[1]BASE!B366","v":2498510},{"$f":"[1]BASE!C366","v":"Digitador I"},{"$f":"[1]BASE!D366","v":"Anistiado MME"},{"$f":"[1]BASE!E366","v":"MME - Ministério de Minas e Energia"},{"$f":"[1]BASE!F366","v":"DAS 102.1"},{"$f":"[1]BASE!G366","v":" "},{"$f":"[1]BASE!H366","v":"SE / SPOA / CGRL / COORDENAÇÃO DE ATIVIDADES GERAIS - COAGE"},{"$f":"[1]BASE!I366","v":"8.105.120"}]
[{"$f":"[1]BASE!A367","v":"MARIANA CLARA DE FREITAS FONTINELI"},{"$f":"[1]BASE!B367","v":5663628},{"$f":"[1]BASE!C367","v":"Analista de Infraestrutura"},{"$f":"[1]BASE!D367","v":"Exercício Descentralizado"},{"$f":"[1]BASE!E367","v":"ME - Ministério da Economia"},{"$f":"[1]BASE!F367","v":"FCPE 102.2"},{"$f":"[1]BASE!G367","v":" "},{"$f":"[1]BASE!H367","v":"SGM / DEPARTAMENTO DE TRANSFORMAÇÃO E TECNOLOGIA MINERAL - DTTM"},{"$f":"[1]BASE!I367","v":"9.103.000"}]
[{"$f":"[1]BASE!A368","v":"MARIANO PINTO DE SOUSA FILHO"},{"$f":"[1]BASE!B368","v":451482},{"$f":"[1]BASE!C368","v":"Agente Administrativo"},{"$f":"[1]BASE!D368","v":"Ativo Permanente"},{"$f":"[1]BASE!E368","v":"MME - Ministério de Minas e Energia"},{"$f":"[1]BASE!F368","v":"FCT 11"},{"$f":"[1]BASE!G368","v":" "},{"$f":"[1]BASE!H368","v":"SPE / CHEFIA DE GABINETE SPE"},{"$f":"[1]BASE!I368","v":"10.100.000"}]
[{"$f":"[1]BASE!A369","v":"MARILUZIA RODRIGUES NOGUEIRA"},{"$f":"[1]BASE!B369","v":452071},{"$f":"[1]BASE!C369","v":"Agente Administrativo"},{"$f":"[1]BASE!D369","v":"Ativo Permanente"},{"$f":"[1]BASE!E369","v":"MME - Ministério de Minas e Energia"},{"$f":"[1]BASE!F369","v":"FCPE 102.2"},{"$f":"[1]BASE!G369","v":" "},{"$f":"[1]BASE!H369","v":"ASSESSORIA ESPECIAL DE ASSUNTOS ECONÔMICOS - ASSEC"},{"$f":"[1]BASE!I369","v":"6.000.000"}]
[{"$f":"[1]BASE!A370","v":"MARISA MAIA DE BARROS"},{"$f":"[1]BASE!B370","v":1678444},{"$f":"[1]BASE!C370","v":"Analista de Pesquisa Energética"},{"$f":"[1]BASE!D370","v":"Requisitado de Órgãos"},{"$f":"[1]BASE!E370","v":"EPE - Empresa de Pesquisa Energética"},{"$f":"[1]BASE!F370","v":"DAS 101.5"},{"$f":"[1]BASE!G370","v":" "},{"$f":"[1]BASE!H370","v":"SPG / DEPARTAMENTO DE COMBUSTÍVEIS DERIVADOS DE PETRÓLEOS - DCDP"},{"$f":"[1]BASE!I370","v":"11.103.000"}]
[{"$f":"[1]BASE!A371","v":"MARISETE FATIMA DADALD PEREIRA"},{"$f":"[1]BASE!B371","v":2506337},{"$f":"[1]BASE!C371","v":"Secretário Executivo"},{"$f":"[1]BASE!D371","v":"Sem Vínculo"},{"$f":"[1]BASE!E371","v":"Sem Vínculo"},{"$f":"[1]BASE!F371","v":"NES NES"},{"$f":"[1]BASE!G371","v":" "},{"$f":"[1]BASE!H371","v":"SECRETARIA EXECUTIVA - SE"},{"$f":"[1]BASE!I371","v":"8.000.000"}]
[{"$f":"[1]BASE!A372","v":"MARIZA FREIRE DE SOUZA"},{"$f":"[1]BASE!B372","v":2479973},{"$f":"[1]BASE!C372","v":"Sem Cargo/Emprego"},{"$f":"[1]BASE!D372","v":"Sem Vínculo"},{"$f":"[1]BASE!E372","v":"Sem Vínculo"},{"$f":"[1]BASE!F372","v":"DAS 102.3"},{"$f":"[1]BASE!G372","v":" "},{"$f":"[1]BASE!H372","v":"SPE / DEPARTAMENTO DE DESENVOLVIMENTO ENERGÉTICO - DDE"},{"$f":"[1]BASE!I372","v":"10.102.000"}]
[{"$f":"[1]BASE!A373","v":"MARLIAN LEAO DE OLIVEIRA"},{"$f":"[1]BASE!B373","v":2356963},{"$f":"[1]BASE!C373","v":"Analista de Infraestrutura"},{"$f":"[1]BASE!D373","v":"Exercício Descentralizado"},{"$f":"[1]BASE!E373","v":"ME - Ministério da Economia"},{"$f":"[1]BASE!F373","v":"FGR 1"},{"$f":"[1]BASE!G373","v":" "},{"$f":"[1]BASE!H373","v":"SEE / DMSE / COORDENAÇÃO GERAL DE MONITORAMENTO DO DESEMPENHO DO SISTEMA ELÉTRICO"},{"$f":"[1]BASE!I373","v":"12.102.400"}]
[{"$f":"[1]BASE!A374","v":"MARLON ARRAES JARDIM LEAL"},{"$f":"[1]BASE!B374","v":2458981},{"$f":"[1]BASE!C374","v":"Especialista em Política Pública e Gestão Governamental"},{"$f":"[1]BASE!D374","v":"Exercício Descentralizado"},{"$f":"[1]BASE!E374","v":"ME - Ministério da Economia"},{"$f":"[1]BASE!F374","v":"DAS 101.4"},{"$f":"[1]BASE!G374","v":" "},{"$f":"[1]BASE!H374","v":"SPG / DBIO / COORDENAÇÃO GERAL DE ETANOL"},{"$f":"[1]BASE!I374","v":"11.104.200"}]
[{"$f":"[1]BASE!A375","v":"MARQUES DOS SANTOS"},{"$f":"[1]BASE!B375","v":451554},{"$f":"[1]BASE!C375","v":"Administrador"},{"$f":"[1]BASE!D375","v":"Ativo Permanente"},{"$f":"[1]BASE!E375","v":"MME - Ministério de Minas e Energia"},{"$f":"[1]BASE!F375","v":"FGR 1"},{"$f":"[1]BASE!G375","v":"GSISTE Superior"},{"$f":"[1]BASE!H375","v":"SE / SPOA / COORDENAÇÃO GERAL DE RECURSOS LOGÍSTICOS - CGRL"},{"$f":"[1]BASE!I375","v":"8.105.100"}]
[{"$f":"[1]BASE!A376","v":"MARY PACHECO DE SOUZA"},{"$f":"[1]BASE!B376","v":1094199},{"$f":"[1]BASE!C376","v":"Agente de Portaria"},{"$f":"[1]BASE!D376","v":"Ativo Permanente"},{"$f":"[1]BASE!E376","v":"MME - Ministério de Minas e Energia"},{"$f":"[1]BASE!F376","v":"FCPE 102.2"},{"$f":"[1]BASE!G376","v":" "},{"$f":"[1]BASE!H376","v":"SPE / CHEFIA DE GABINETE SPE"},{"$f":"[1]BASE!I376","v":"10.100.000"}]
[{"$f":"[1]BASE!A377","v":"MAURICIO DE OLIVEIRA ABI CHAIN"},{"$f":"[1]BASE!B377","v":1284089},{"$f":"[1]BASE!C377","v":"Especialista em Política Pública e Gestão Governamental"},{"$f":"[1]BASE!D377","v":"Exercício Descentralizado"},{"$f":"[1]BASE!E377","v":"ME - Ministério da Economia"},{"$f":"[1]BASE!F377","v":"DAS 101.4"},{"$f":"[1]BASE!G377","v":" "},{"$f":"[1]BASE!H377","v":"SPE / DOC / COORDENAÇÃO GERAL DE OUTORGAS DE SERVIÇOS DE TRANSMISSÃO E DISTRIBUIÇÃO DE ENERGIA"},{"$f":"[1]BASE!I377","v":"10.103.200"}]
[{"$f":"[1]BASE!A378","v":"MAURICIO PINHEIRO FLEURY CURADO"},{"$f":"[1]BASE!B378","v":1238949},{"$f":"[1]BASE!C378","v":"Especialista em Política Pública e Gestão Governamental"},{"$f":"[1]BASE!D378","v":"Requisitado de Órgãos"},{"$f":"[1]BASE!E378","v":"ME - Ministério da Economia"},{"$f":"[1]BASE!F378","v":"FCPE 101.4"},{"$f":"[1]BASE!G378","v":" "},{"$f":"[1]BASE!H378","v":"SE / AEGP / COORDENAÇÃO GERAL DE GESTÃO DE PROJETOS - CGGP"},{"$f":"[1]BASE!I378","v":"8.103.200"}]
[{"$f":"[1]BASE!A379","v":"MAURILIO SILVERIO DE OLIVEIRA"},{"$f":"[1]BASE!B379","v":1092785},{"$f":"[1]BASE!C379","v":"Agente de Vigilância"},{"$f":"[1]BASE!D379","v":"Ativo Permanente"},{"$f":"[1]BASE!E379","v":"MME - Ministério de Minas e Energia"},{"$f":"[1]BASE!F379","v":"FGR 1"},{"$f":"[1]BASE!G379","v":" "},{"$f":"[1]BASE!H379","v":"SE / SPOA / CGRL / COORDENAÇÃO DE ATIVIDADES GERAIS - COAGE"},{"$f":"[1]BASE!I379","v":"8.105.120"}]
[{"$f":"[1]BASE!A380","v":"MAURO HENRIQUE MOREIRA SOUSA"},{"$f":"[1]BASE!B380","v":2512573},{"$f":"[1]BASE!C380","v":"Advogado da União"},{"$f":"[1]BASE!D380","v":"Exercício Descentralizado"},{"$f":"[1]BASE!E380","v":"AGU - Advocacia Geral da União"},{"$f":"[1]BASE!F380","v":"DAS 102.4"},{"$f":"[1]BASE!G380","v":" "},{"$f":"[1]BASE!H380","v":"CONJUR / COORDENAÇÃO GERAL DE ASSSUNTOS ADMINISTRATIVOS - CGAA"},{"$f":"[1]BASE!I380","v":"7.100.300"}]
[{"$f":"[1]BASE!A381","v":"MAYARA CARDOSO"},{"$f":"[1]BASE!B381","v":4663250},{"$f":"[1]BASE!C381","v":"Analista de Infraestrutura"},{"$f":"[1]BASE!D381","v":"Exercício Descentralizado"},{"$f":"[1]BASE!E381","v":"ME - Ministério da Economia"},{"$f":"[1]BASE!F381","v":" "},{"$f":"[1]BASE!G381","v":" "},{"$f":"[1]BASE!H381","v":"SE / AEGP / COORDENAÇÃO GERAL DE GESTÃO DE PROJETOS - CGGP"},{"$f":"[1]BASE!I381","v":"8.103.200"}]
[{"$f":"[1]BASE!A382","v":"MAYARA DA SILVA CERQUEIRA"},{"$f":"[1]BASE!B382","v":1142990},{"$f":"[1]BASE!C382","v":"Sem Cargo/Emprego"},{"$f":"[1]BASE!D382","v":"Sem Vínculo"},{"$f":"[1]BASE!E382","v":"Sem Vínculo"},{"$f":"[1]BASE!F382","v":"DAS 102.2"},{"$f":"[1]BASE!G382","v":" "},{"$f":"[1]BASE!H382","v":"SPE / CHEFIA DE GABINETE SPE"},{"$f":"[1]BASE!I382","v":"10.100.000"}]
[{"$f":"[1]BASE!A383","v":"MESSIAS ROCHA DE LIRA"},{"$f":"[1]BASE!B383","v":451617},{"$f":"[1]BASE!C383","v":"Agente Administrativo"},{"$f":"[1]BASE!D383","v":"Ativo Permanente"},{"$f":"[1]BASE!E383","v":"MME - Ministério de Minas e Energia"},{"$f":"[1]BASE!F383","v":"FCT 5"},{"$f":"[1]BASE!G383","v":"GSISTE Intermediário"},{"$f":"[1]BASE!H383","v":"SE / SPOA / COORDENAÇÃO GERAL DE ORÇAMENTO E FINANÇAS - CGOF"},{"$f":"[1]BASE!I383","v":"8.105.500"}]
[{"$f":"[1]BASE!A384","v":"MIGUEL DOS SANTOS"},{"$f":"[1]BASE!B384","v":452186},{"$f":"[1]BASE!C384","v":"Agente de Vigilância"},{"$f":"[1]BASE!D384","v":"Ativo Permanente"},{"$f":"[1]BASE!E384","v":"MME - Ministério de Minas e Energia"},{"$f":"[1]BASE!F384","v":" "},{"$f":"[1]BASE!G384","v":"GSISTE Intermediário"},{"$f":"[1]BASE!H384","v":"SE / SPOA / CGRL / COORDENAÇÃO DE ATIVIDADES GERAIS - COAGE"},{"$f":"[1]BASE!I384","v":"8.105.120"}]
[{"$f":"[1]BASE!A385","v":"MIGUEL JOAQUIM DA SILVA"},{"$f":"[1]BASE!B385","v":452340},{"$f":"[1]BASE!C385","v":"Agente de Portaria"},{"$f":"[1]BASE!D385","v":"Ativo Permanente"},{"$f":"[1]BASE!E385","v":"MME - Ministério de Minas e Energia"},{"$f":"[1]BASE!F385","v":"FCPE 101.2"},{"$f":"[1]BASE!G385","v":" "},{"$f":"[1]BASE!H385","v":"SE / SPOA / CGRH / COORDENAÇÃO DE ADMINISTRAÇÃO DE PESSOAL - CAPES"},{"$f":"[1]BASE!I385","v":"8.105.210"}]
[{"$f":"[1]BASE!A386","v":"MILENA BARBOSA CARVALHEDO RIBEIRO"},{"$f":"[1]BASE!B386","v":2133351},{"$f":"[1]BASE!C386","v":"Sem Cargo/Emprego"},{"$f":"[1]BASE!D386","v":"Sem Vínculo"},{"$f":"[1]BASE!E386","v":"Sem Vínculo"},{"$f":"[1]BASE!F386","v":"DAS 102.1"},{"$f":"[1]BASE!G386","v":" "},{"$f":"[1]BASE!H386","v":"GM / ASSESSORIA DE APOIO AO MINISTRO - AAM"},{"$f":"[1]BASE!I386","v":"2.100.400"}]
[{"$f":"[1]BASE!A387","v":"MIRIA CRISTINA BERNARDES DE SOUSA"},{"$f":"[1]BASE!B387","v":1687676},{"$f":"[1]BASE!C387","v":"Secretária do Diretor"},{"$f":"[1]BASE!D387","v":"Anistiado MME"},{"$f":"[1]BASE!E387","v":"MME - Ministério de Minas e Energia"},{"$f":"[1]BASE!F387","v":"DAS 101.2"},{"$f":"[1]BASE!G387","v":" "},{"$f":"[1]BASE!H387","v":"SE / SPOA / CGRH / COORDENAÇÃO DE ADMINISTRAÇÃO DE PESSOAL - CAPES"},{"$f":"[1]BASE!I387","v":"8.105.210"}]
[{"$f":"[1]BASE!A388","v":"MONICA CAROLINE MANHAES DOS SANTOS"},{"$f":"[1]BASE!B388","v":1981731},{"$f":"[1]BASE!C388","v":"Sem Cargo/Emprego"},{"$f":"[1]BASE!D388","v":"Sem Vínculo"},{"$f":"[1]BASE!E388","v":"Sem Vínculo"},{"$f":"[1]BASE!F388","v":"DAS 102.2"},{"$f":"[1]BASE!G388","v":" "},{"$f":"[1]BASE!H388","v":"SPE / DEPARTAMENTO DE INFORMAÇÕES E ESTUDOS ENERGÉTICOS - DIEE"},{"$f":"[1]BASE!I388","v":"10.104.000"}]
[{"$f":"[1]BASE!A389","v":"MONICA DOS SANTOS COELHO BARBOSA"},{"$f":"[1]BASE!B389","v":2328205},{"$f":"[1]BASE!C389","v":"Sem Cargo/Emprego"},{"$f":"[1]BASE!D389","v":"Sem Vínculo"},{"$f":"[1]BASE!E389","v":"Sem Vínculo"},{"$f":"[1]BASE!F389","v":"DAS 102.3"},{"$f":"[1]BASE!G389","v":" "},{"$f":"[1]BASE!H389","v":"SGM / DEPARTAMENTO DE GESTÃO DAS POLÍTICAS DE GEOLOGIA, MINERAÇÃOE TRANSFORMAÇÃO - DPGM"},{"$f":"[1]BASE!I389","v":"9.101.000"}]
[{"$f":"[1]BASE!A390","v":"NEIDE DE FATIMA GOMES DE AZEVEDO LOPES"},{"$f":"[1]BASE!B390","v":455482},{"$f":"[1]BASE!C390","v":"Agente Administrativo"},{"$f":"[1]BASE!D390","v":"Ativo Permanente"},{"$f":"[1]BASE!E390","v":"MME - Ministério de Minas e Energia"},{"$f":"[1]BASE!F390","v":"DAS 101.2"},{"$f":"[1]BASE!G390","v":" "},{"$f":"[1]BASE!H390","v":"SE / SPOA / CGRH / COORDENAÇÃO DE ADMINISTRAÇÃO DE PESSOAL - CAPES"},{"$f":"[1]BASE!I390","v":"8.105.210"}]
[{"$f":"[1]BASE!A391","v":"NEIDE MARIA PIRES COSTA PINHEIRO"},{"$f":"[1]BASE!B391","v":1669318},{"$f":"[1]BASE!C391","v":"Auxiliar de Biblioteca"},{"$f":"[1]BASE!D391","v":"Anistiado MME"},{"$f":"[1]BASE!E391","v":"MME - Ministério de Minas e Energia"},{"$f":"[1]BASE!F391","v":" "},{"$f":"[1]BASE!G391","v":" "},{"$f":"[1]BASE!H391","v":"SEE / CHEFIA DE GABINETE SEE"},{"$f":"[1]BASE!I391","v":"12.100.000"}]
[{"$f":"[1]BASE!A392","v":"NELSON CARLOS DA SILVA"},{"$f":"[1]BASE!B392","v":1586402},{"$f":"[1]BASE!C392","v":"Auxiliar de Controle de Qualidade"},{"$f":"[1]BASE!D392","v":"Anistiado MME"},{"$f":"[1]BASE!E392","v":"MME - Ministério de Minas e Energia"},{"$f":"[1]BASE!F392","v":" "},{"$f":"[1]BASE!G392","v":" "},{"$f":"[1]BASE!H392","v":"SE / SPOA / CGRL / COORDENAÇÃO DE ADMINISTRAÇÃO DE MATERIAL E EXECUÇÃO FINANCEIRA - COMEF"},{"$f":"[1]BASE!I392","v":"8.105.110"}]
[{"$f":"[1]BASE!A393","v":"NEUZI DE OLIVEIRA LOPES DA SILVA"},{"$f":"[1]BASE!B393","v":219989},{"$f":"[1]BASE!C393","v":"Datilógrafo"},{"$f":"[1]BASE!D393","v":"Requisitado de Órgãos"},{"$f":"[1]BASE!E393","v":"ME - Ministério da Economia"},{"$f":"[1]BASE!F393","v":" "},{"$f":"[1]BASE!G393","v":"GSISTE Intermediário"},{"$f":"[1]BASE!H393","v":"SE / SPOA / CGRL / COORDENAÇÃO DE ATIVIDADES GERAIS - COAGE"},{"$f":"[1]BASE!I393","v":"8.105.120"}]
[{"$f":"[1]BASE!A394","v":"NEY ZANELLA DOS SANTOS"},{"$f":"[1]BASE!B394","v":1778206},{"$f":"[1]BASE!C394","v":"Sem Cargo/Emprego"},{"$f":"[1]BASE!D394","v":"Sem Vínculo"},{"$f":"[1]BASE!E394","v":"Sem Vínculo"},{"$f":"[1]BASE!F394","v":"DAS 101.5"},{"$f":"[1]BASE!G394","v":" "},{"$f":"[1]BASE!H394","v":"SE / ASSESSORIA ESPECIAL DE GESTÃO ESTRATÉGICA - AEGE"},{"$f":"[1]BASE!I394","v":"8.101.000"}]
[{"$f":"[1]BASE!A395","v":"NICOLE ANGEL OLIVEIRA BORGES"},{"$f":"[1]BASE!B395","v":1358735},{"$f":"[1]BASE!C395","v":"Sem Cargo/Emprego"},{"$f":"[1]BASE!D395","v":"Sem Vínculo"},{"$f":"[1]BASE!E395","v":"S/VÍNCULO"},{"$f":"[1]BASE!F395","v":"DAS 102.2"},{"$f":"[1]BASE!G395","v":" "},{"$f":"[1]BASE!H395","v":"GM / ASSESSORIA DE COMUNICAÇÃO SOCIAL - ASCOM"},{"$f":"[1]BASE!I395","v":"2.100.300"}]
[{"$f":"[1]BASE!A396","v":"NIRIA DE MOURA CHAGAS"},{"$f":"[1]BASE!B396","v":1104598},{"$f":"[1]BASE!C396","v":"Agente Administrativo"},{"$f":"[1]BASE!D396","v":"Requisitado de Órgãos"},{"$f":"[1]BASE!E396","v":"MD - Ministério da Defesa"},{"$f":"[1]BASE!F396","v":"FCPE 102.1"},{"$f":"[1]BASE!G396","v":" "},{"$f":"[1]BASE!H396","v":"GM / ASSESSORIA DE APOIO AO MINISTRO - AAM"},{"$f":"[1]BASE!I396","v":"2.100.400"}]
[{"$f":"[1]BASE!A397","v":"NISE MARIA STUDART QUINTAS"},{"$f":"[1]BASE!B397","v":1828184},{"$f":"[1]BASE!C397","v":"Analista-B"},{"$f":"[1]BASE!D397","v":"Anistiado outros Órgãos"},{"$f":"[1]BASE!E397","v":"EMBRAPA - Empresa Brasileira de Pesquisa Agropecuária"},{"$f":"[1]BASE!F397","v":" "},{"$f":"[1]BASE!G397","v":" "},{"$f":"[1]BASE!H397","v":"GM / ASSESSORIA DE COMUNICAÇÃO SOCIAL - ASCOM"},{"$f":"[1]BASE!I397","v":"2.100.300"}]
[{"$f":"[1]BASE!A398","v":"NUBIAN MENDONÇA AMORIM"},{"$f":"[1]BASE!B398","v":1779924},{"$f":"[1]BASE!C398","v":"Analista em Tecnologia da Informação"},{"$f":"[1]BASE!D398","v":"Exercício Descentralizado"},{"$f":"[1]BASE!E398","v":"ME - Ministério da Economia"},{"$f":"[1]BASE!F398","v":"DAS 101.3"},{"$f":"[1]BASE!G398","v":" "},{"$f":"[1]BASE!H398","v":"SE / SPOA / CGTI / COORDENAÇÃO DE INFRAESTRUTURA TECNOLÓGICA - "},{"$f":"[1]BASE!I398","v":"8.105.310"}]
[{"$f":"[1]BASE!A399","v":"ONILDE APARECIDA BATISTA"},{"$f":"[1]BASE!B399","v":1106181},{"$f":"[1]BASE!C399","v":"Agente de Portaria"},{"$f":"[1]BASE!D399","v":"Ativo Permanente"},{"$f":"[1]BASE!E399","v":"MME - Ministério de Minas e Energia"},{"$f":"[1]BASE!F399","v":"FGR 1"},{"$f":"[1]BASE!G399","v":"GSISTE Intermediário"},{"$f":"[1]BASE!H399","v":"SE / SPOA / CGCC / COORDENAÇÃO DE ADMINISTRAÇÃO DE CONTRATOS - CAC"},{"$f":"[1]BASE!I399","v":"8.105.410"}]
[{"$f":"[1]BASE!A400","v":"ONILDO DE CASTRO PASSOS"},{"$f":"[1]BASE!B400","v":2340584},{"$f":"[1]BASE!C400","v":"Escriturário II"},{"$f":"[1]BASE!D400","v":"Anistiado MME"},{"$f":"[1]BASE!E400","v":"MME - Ministério de Minas e Energia"},{"$f":"[1]BASE!F400","v":" "},{"$f":"[1]BASE!G400","v":" "},{"$f":"[1]BASE!H400","v":"SE / SPOA / CGRL / COORDENAÇÃO DE ATIVIDADES GERAIS - COAGE"},{"$f":"[1]BASE!I400","v":"8.105.120"}]
[{"$f":"[1]BASE!A401","v":"OSIMAR ALVES DE SOUZA"},{"$f":"[1]BASE!B401","v":1095449},{"$f":"[1]BASE!C401","v":"Motorista Oficial"},{"$f":"[1]BASE!D401","v":"Ativo Permanente"},{"$f":"[1]BASE!E401","v":"MME - Ministério de Minas e Energia"},{"$f":"[1]BASE!F401","v":"FCPE 102.2"},{"$f":"[1]BASE!G401","v":" "},{"$f":"[1]BASE!H401","v":"SE / SPOA / CGRL / COORDENAÇÃO DE ATIVIDADES GERAIS - COAGE"},{"$f":"[1]BASE!I401","v":"8.105.120"}]
[{"$f":"[1]BASE!A402","v":"PATRICIA DA SILVA PEGO"},{"$f":"[1]BASE!B402","v":2563137},{"$f":"[1]BASE!C402","v":"Auditor Federal de Finanças e Controle"},{"$f":"[1]BASE!D402","v":"Requisitado de Órgãos"},{"$f":"[1]BASE!E402","v":"ME - Ministério da Economia"},{"$f":"[1]BASE!F402","v":"FCPE 101.4"},{"$f":"[1]BASE!G402","v":" "},{"$f":"[1]BASE!H402","v":"SGM / DPGM / COORDENAÇÃO GERAL DE ECONOMIA MINERAL"},{"$f":"[1]BASE!I402","v":"9.101.300"}]
[{"$f":"[1]BASE!A403","v":"PATRÍCIA DE ALMEIDA MARTINS"},{"$f":"[1]BASE!B403","v":451584},{"$f":"[1]BASE!C403","v":"Agente Administrativo"},{"$f":"[1]BASE!D403","v":"Ativo Permanente"},{"$f":"[1]BASE!E403","v":"MME - Ministério de Minas e Energia"},{"$f":"[1]BASE!F403","v":"FGR 1"},{"$f":"[1]BASE!G403","v":" "},{"$f":"[1]BASE!H403","v":"SE / SPOA / CGRH / COORDENAÇÃO DE ADMINISTRAÇÃO DE PESSOAL - CAPES"},{"$f":"[1]BASE!I403","v":"8.105.210"}]
[{"$f":"[1]BASE!A404","v":"PATRICIA MARIA GOMES"},{"$f":"[1]BASE!B404","v":3294860},{"$f":"[1]BASE!C404","v":"Sem Cargo/Emprego"},{"$f":"[1]BASE!D404","v":"Sem Vínculo"},{"$f":"[1]BASE!E404","v":"Sem Vínculo"},{"$f":"[1]BASE!F404","v":"DAS 102.3"},{"$f":"[1]BASE!G404","v":" "},{"$f":"[1]BASE!H404","v":"ASSESSORIA ESPECIAL DE ASSUNTOS ECONÔMICOS - ASSEC"},{"$f":"[1]BASE!I404","v":"6.000.000"}]
[{"$f":"[1]BASE!A405","v":"PATRICIA NOLETO CRESTANI"},{"$f":"[1]BASE!B405","v":1489690},{"$f":"[1]BASE!C405","v":"Sem Cargo/Emprego"},{"$f":"[1]BASE!D405","v":"Sem Vínculo"},{"$f":"[1]BASE!E405","v":"Sem Vínculo"},{"$f":"[1]BASE!F405","v":"DAS 102.3"},{"$f":"[1]BASE!G405","v":" "},{"$f":"[1]BASE!H405","v":"SGM / CHEFIA DE GABINETE SGM"},{"$f":"[1]BASE!I405","v":"9.100.000"}]
[{"$f":"[1]BASE!A406","v":"PATRICIA SALLES MERGULHAO"},{"$f":"[1]BASE!B406","v":2298598},{"$f":"[1]BASE!C406","v":"Sem Cargo/Emprego"},{"$f":"[1]BASE!D406","v":"Sem Vínculo"},{"$f":"[1]BASE!E406","v":"Sem Vínculo"},{"$f":"[1]BASE!F406","v":"DAS 102.2"},{"$f":"[1]BASE!G406","v":" "},{"$f":"[1]BASE!H406","v":"SEE / DEPARTAMENTO DE POLÍTICAS SOCIAIS E UNIVERSALIZAÇÃO DO ACESSO À ENERGIA ELÉTRICA - DPUE"},{"$f":"[1]BASE!I406","v":"12.103.000"}]
[{"$f":"[1]BASE!A407","v":"PAULO COSTA DA SILVA"},{"$f":"[1]BASE!B407","v":7129838},{"$f":"[1]BASE!C407","v":"Técnico de Orçamento"},{"$f":"[1]BASE!D407","v":"Exercício Descentralizado"},{"$f":"[1]BASE!E407","v":"ME - Ministério da Economia"},{"$f":"[1]BASE!F407","v":" "},{"$f":"[1]BASE!G407","v":" "},{"$f":"[1]BASE!H407","v":"SE / SPOA / CGOF / COORDENAÇÃO DE ADMINISTRAÇÃO FINANCEIRA -COAF"},{"$f":"[1]BASE!I407","v":"8.105.510"}]
[{"$f":"[1]BASE!A408","v":"PAULO ÉRICO RAMOS DE OLIVEIRA"},{"$f":"[1]BASE!B408","v":1354321},{"$f":"[1]BASE!C408","v":"Analista de Infraestrutura"},{"$f":"[1]BASE!D408","v":"Exercício Descentralizado"},{"$f":"[1]BASE!E408","v":"ME - Ministério da Economia"},{"$f":"[1]BASE!F408","v":" "},{"$f":"[1]BASE!G408","v":" "},{"$f":"[1]BASE!H408","v":"SPE / DPE / COORDENAÇÃO GERAL DE PLANEJAMENTO DA TRANSMISSÃO"},{"$f":"[1]BASE!I408","v":"10.101.100"}]
[{"$f":"[1]BASE!A409","v":"PAULO GONÇALVES CERQUEIRA"},{"$f":"[1]BASE!B409","v":1808086},{"$f":"[1]BASE!C409","v":"Engenheiro"},{"$f":"[1]BASE!D409","v":"Requisitado de Empresa"},{"$f":"[1]BASE!E409","v":"FURNAS - Centrais Elétricas S/A"},{"$f":"[1]BASE!F409","v":"DAS 101.4"},{"$f":"[1]BASE!G409","v":" "},{"$f":"[1]BASE!H409","v":"SEE / DPUE / COORDENAÇÃO GERAL DE DESENVOLVIMENTO DE POLÍTICAS SOCIAIS"},{"$f":"[1]BASE!I409","v":"12.103.100"}]
[{"$f":"[1]BASE!A410","v":"PAULO MARCIO BARBOSA MENEZES DO NASCIMENTO"},{"$f":"[1]BASE!B410","v":2083816},{"$f":"[1]BASE!C410","v":"Analista em Tecnologia da Informação"},{"$f":"[1]BASE!D410","v":"Exercício Descentralizado"},{"$f":"[1]BASE!E410","v":"ME - Ministério da Economia"},{"$f":"[1]BASE!F410","v":" "},{"$f":"[1]BASE!G410","v":" "},{"$f":"[1]BASE!H410","v":"SE / SPOA / CGTI / COORDENAÇÃO DE TECNOLOGIA DE SISTEMAS DE INFORMAÇÃO - CTSI"},{"$f":"[1]BASE!I410","v":"8.105.320"}]
[{"$f":"[1]BASE!A411","v":"PAULO RAINERI"},{"$f":"[1]BASE!B411","v":1354355},{"$f":"[1]BASE!C411","v":"Auxiliar Administrativo"},{"$f":"[1]BASE!D411","v":"Anistiado MME"},{"$f":"[1]BASE!E411","v":"MME - Ministério de Minas e Energia"},{"$f":"[1]BASE!F411","v":" "},{"$f":"[1]BASE!G411","v":" "},{"$f":"[1]BASE!H411","v":"SE / SPOA / CGRL / COORDENAÇÃO DE ATIVIDADES GERAIS - COAGE"},{"$f":"[1]BASE!I411","v":"8.105.120"}]
[{"$f":"[1]BASE!A412","v":"PAULO ROBERTO MACHADO FERNANDES COSTA"},{"$f":"[1]BASE!B412","v":3542457},{"$f":"[1]BASE!C412","v":"Analista de Infraestrutura"},{"$f":"[1]BASE!D412","v":"Exercício Descentralizado"},{"$f":"[1]BASE!E412","v":"ME - Ministério da Economia"},{"$f":"[1]BASE!F412","v":"DAS 101.4"},{"$f":"[1]BASE!G412","v":" "},{"$f":"[1]BASE!H412","v":"SPG / DBIO / COORDENAÇÃO GERAL DE BIODIESEL E OUTROS BIOCOMBUSTÍVEIS"},{"$f":"[1]BASE!I412","v":"11.104.100"}]
[{"$f":"[1]BASE!A413","v":"PEDRO ELCIO DOS SANTOS"},{"$f":"[1]BASE!B413","v":450850},{"$f":"[1]BASE!C413","v":"Agente Administrativo"},{"$f":"[1]BASE!D413","v":"Ativo Permanente"},{"$f":"[1]BASE!E413","v":"MME - Ministério de Minas e Energia"},{"$f":"[1]BASE!F413","v":"FCPE 102.3"},{"$f":"[1]BASE!G413","v":" "},{"$f":"[1]BASE!H413","v":"SGM / CHEFIA DE GABINETE SGM"},{"$f":"[1]BASE!I413","v":"9.100.000"}]
[{"$f":"[1]BASE!A414","v":"PEDRO EVANGELISTA HONORATO"},{"$f":"[1]BASE!B414","v":1366699},{"$f":"[1]BASE!C414","v":"Auxiliar Codificação e Conferência"},{"$f":"[1]BASE!D414","v":"Anistiado MME"},{"$f":"[1]BASE!E414","v":"MME - Ministério de Minas e Energia"},{"$f":"[1]BASE!F414","v":"DAS 102.2"},{"$f":"[1]BASE!G414","v":" "},{"$f":"[1]BASE!H414","v":"SGM / DEPARTAMENTO DE GEOLOGIA E PRODUÇÃO MINERAL - DGPM"},{"$f":"[1]BASE!I414","v":"9.102.000"}]
[{"$f":"[1]BASE!A415","v":"PEDRO HELCIO AMANCIO"},{"$f":"[1]BASE!B415","v":455181},{"$f":"[1]BASE!C415","v":"Agente de Telecomunicações e Eletricidade"},{"$f":"[1]BASE!D415","v":"Ativo Permanente"},{"$f":"[1]BASE!E415","v":"MME - Ministério de Minas e Energia"},{"$f":"[1]BASE!F415","v":"FGR 1"},{"$f":"[1]BASE!G415","v":" "},{"$f":"[1]BASE!H415","v":"SE / SPOA / CGRL / COORDENAÇÃO DE ATIVIDADES GERAIS - COAGE"},{"$f":"[1]BASE!I415","v":"8.105.120"}]
[{"$f":"[1]BASE!A416","v":"PEDRO HENRIQUE MILHOMEM COUTINHO"},{"$f":"[1]BASE!B416","v":3686678},{"$f":"[1]BASE!C416","v":"Analista de Infraestrutura"},{"$f":"[1]BASE!D416","v":"Exercício Descentralizado"},{"$f":"[1]BASE!E416","v":"ME - Ministério da Economia"},{"$f":"[1]BASE!F416","v":"FCPE 102.2"},{"$f":"[1]BASE!G416","v":" "},{"$f":"[1]BASE!H416","v":"SPG / DEPARTAMENTO DE COMBUSTÍVEIS DERIVADOS DE PETRÓLEOS - DCDP"},{"$f":"[1]BASE!I416","v":"11.103.000"}]
[{"$f":"[1]BASE!A417","v":"PEDRO HUGO TEIXEIRA DE OLIVEIRA JUNIOR"},{"$f":"[1]BASE!B417","v":1221494},{"$f":"[1]BASE!C417","v":"Sem Cargo/Emprego"},{"$f":"[1]BASE!D417","v":"Sem Vínculo"},{"$f":"[1]BASE!E417","v":"Sem Vínculo"},{"$f":"[1]BASE!F417","v":"DAS 102.5"},{"$f":"[1]BASE!G417","v":" "},{"$f":"[1]BASE!H417","v":"GM / ASSESSORIA PARLAMENTAR - ASPAR"},{"$f":"[1]BASE!I417","v":"2.100.200"}]
[{"$f":"[1]BASE!A418","v":"PEDRO LOURENCO DE SOUSA"},{"$f":"[1]BASE!B418","v":451593},{"$f":"[1]BASE!C418","v":"Agente Administrativo"},{"$f":"[1]BASE!D418","v":"Ativo Permanente"},{"$f":"[1]BASE!E418","v":"MME - Ministério de Minas e Energia"},{"$f":"[1]BASE!F418","v":"FCT 10"},{"$f":"[1]BASE!G418","v":" "},{"$f":"[1]BASE!H418","v":"GM / ASTAD / COORDENAÇÃO DE ATIVIDADES ADMINISTRATIVAS"},{"$f":"[1]BASE!I418","v":"2.100.101"}]
[{"$f":"[1]BASE!A419","v":"PEDRO SANTANA DA SILVA"},{"$f":"[1]BASE!B419","v":1905845},{"$f":"[1]BASE!C419","v":"Analista de Laboratório II"},{"$f":"[1]BASE!D419","v":"Anistiado MME"},{"$f":"[1]BASE!E419","v":"MME - Ministério de Minas e Energia"},{"$f":"[1]BASE!F419","v":" "},{"$f":"[1]BASE!G419","v":" "},{"$f":"[1]BASE!H419","v":"Aguardando Lotação/Exercício"},{"$f":"[1]BASE!I419","v":"88.000.000"}]
[{"$f":"[1]BASE!A420","v":"RAFAEL BASTOS DA SILVA"},{"$f":"[1]BASE!B420","v":1514882},{"$f":"[1]BASE!C420","v":"Especialista em Geologia e Geof do Petr e Gás Natural"},{"$f":"[1]BASE!D420","v":"Requisitado de Órgãos"},{"$f":"[1]BASE!E420","v":"ANP - Agência Nacional do Petróleo, Gás Natural e Biocombustíveis"},{"$f":"[1]BASE!F420","v":"DAS 101.5"},{"$f":"[1]BASE!G420","v":" "},{"$f":"[1]BASE!H420","v":"SPG / DEPARTAMENTO DE POLÍTICA DE EXPLORAÇÃO E PRODUÇÃO DE PETRÓLEO E GÁS NATURAL - DPGN"},{"$f":"[1]BASE!I420","v":"11.101.000"}]
[{"$f":"[1]BASE!A421","v":"RAFAEL ESPERIDIAO DE MELO"},{"$f":"[1]BASE!B421","v":1356437},{"$f":"[1]BASE!C421","v":"Advogado da União"},{"$f":"[1]BASE!D421","v":"Exercício Descentralizado"},{"$f":"[1]BASE!E421","v":"ME - Ministério da Economia"},{"$f":"[1]BASE!F421","v":" "},{"$f":"[1]BASE!G421","v":" "},{"$f":"[1]BASE!H421","v":"CONJUR / COORDENAÇÃO GERAL DE ASSUNTOS DE ENERGIA"},{"$f":"[1]BASE!I421","v":"7.100.100"}]
[{"$f":"[1]BASE!A422","v":"RAIMUNDA ALVES DE SOUSA OLIVEIRA"},{"$f":"[1]BASE!B422","v":6002121},{"$f":"[1]BASE!C422","v":"Datilógrafo"},{"$f":"[1]BASE!D422","v":"Requisitado de Órgãos"},{"$f":"[1]BASE!E422","v":"MAPA - Ministério da Agricultura, Pecuário e Abastecimento"},{"$f":"[1]BASE!F422","v":"FCPE 102.2"},{"$f":"[1]BASE!G422","v":"GSISTE Intermediário"},{"$f":"[1]BASE!H422","v":"SE / SPOA / CGCC / COORDENAÇÃO DE LICITAÇÕES E COMPRA - CLC"},{"$f":"[1]BASE!I422","v":"8.105.420"}]
[{"$f":"[1]BASE!A423","v":"RAIMUNDO WANGLER VIANA SERRAO"},{"$f":"[1]BASE!B423","v":3133039},{"$f":"[1]BASE!C423","v":"Marinha"},{"$f":"[1]BASE!D423","v":"Requisitado Militar"},{"$f":"[1]BASE!E423","v":"Marinha"},{"$f":"[1]BASE!F423","v":"DAS 102.3"},{"$f":"[1]BASE!G423","v":" "},{"$f":"[1]BASE!H423","v":"Escritório Rio de Janeiro/RJ"},{"$f":"[1]BASE!I423","v":"99.000.000"}]
[{"$f":"[1]BASE!A424","v":"RANIELLE NOLETO PAZ ARAUJO"},{"$f":"[1]BASE!B424","v":2658275},{"$f":"[1]BASE!C424","v":"Analista de Infraestrutura"},{"$f":"[1]BASE!D424","v":"Exercício Descentralizado"},{"$f":"[1]BASE!E424","v":"ME - Ministério da Economia"},{"$f":"[1]BASE!F424","v":"FCPE 102.2"},{"$f":"[1]BASE!G424","v":" "},{"$f":"[1]BASE!H424","v":"SGM / DDM / COORDENAÇÃO GERAL DE MINERAÇÃO EM ÁREAS DE CONSERVAÇÃO E CONFLITO"},{"$f":"[1]BASE!I424","v":"9.104.200"}]
[{"$f":"[1]BASE!A425","v":"RAQUEL DA SILVA GUIRRA"},{"$f":"[1]BASE!B425","v":1094908},{"$f":"[1]BASE!C425","v":"Técnico de Contabilidade"},{"$f":"[1]BASE!D425","v":"Ativo Permanente"},{"$f":"[1]BASE!E425","v":"MME - Ministério de Minas e Energia"},{"$f":"[1]BASE!F425","v":"FCT 3"},{"$f":"[1]BASE!G425","v":"GSISTE Intermediário"},{"$f":"[1]BASE!H425","v":"SE / SPOA / CGRL / COORDENAÇÃO DE ADMINISTRAÇÃO DE MATERIAL E EXECUÇÃO FINANCEIRA - COMEF"},{"$f":"[1]BASE!I425","v":"8.105.110"}]
[{"$f":"[1]BASE!A426","v":"RAQUEL VILELA CORRÊA"},{"$f":"[1]BASE!B426","v":2362396},{"$f":"[1]BASE!C426","v":"Sem Cargo/Emprego"},{"$f":"[1]BASE!D426","v":"Sem Vínculo"},{"$f":"[1]BASE!E426","v":"Sem Vínculo"},{"$f":"[1]BASE!F426","v":"DAS 102.2"},{"$f":"[1]BASE!G426","v":" "},{"$f":"[1]BASE!H426","v":"SGM / DEPARTAMENTO DE TRANSFORMAÇÃO E TECNOLOGIA MINERAL - DTTM"},{"$f":"[1]BASE!I426","v":"9.103.000"}]
[{"$f":"[1]BASE!A427","v":"REGINA BASILIO BACARIAS"},{"$f":"[1]BASE!B427","v":454716},{"$f":"[1]BASE!C427","v":"Agente Administrativo"},{"$f":"[1]BASE!D427","v":"Ativo Permanente"},{"$f":"[1]BASE!E427","v":"MME - Ministério de Minas e Energia"},{"$f":"[1]BASE!F427","v":"FGR 1"},{"$f":"[1]BASE!G427","v":" "},{"$f":"[1]BASE!H427","v":"SEE / DMSE / COORDENAÇÃO GERAL DE MONITORAMENTO DA DISTRIBUIÇÃO"},{"$f":"[1]BASE!I427","v":"12.102.300"}]
[{"$f":"[1]BASE!A428","v":"REGINA COELIS ALVES PEREIRA"},{"$f":"[1]BASE!B428","v":1280771},{"$f":"[1]BASE!C428","v":"Técnico de Processamento"},{"$f":"[1]BASE!D428","v":"Anistiado MME"},{"$f":"[1]BASE!E428","v":"MME - Ministério de Minas e Energia"},{"$f":"[1]BASE!F428","v":" "},{"$f":"[1]BASE!G428","v":" "},{"$f":"[1]BASE!H428","v":"SEE / DGSE / COORDENAÇÃO GERAL DE GESTÃO DE PROGRAMAS E REGULAMENTAÇÃO"},{"$f":"[1]BASE!I428","v":"12.101.200"}]
[{"$f":"[1]BASE!A429","v":"REGINA DE ARAUJO CALIXTO"},{"$f":"[1]BASE!B429","v":1337906},{"$f":"[1]BASE!C429","v":"Sem Cargo/Emprego"},{"$f":"[1]BASE!D429","v":"Sem Vínculo"},{"$f":"[1]BASE!E429","v":"Sem Vínculo"},{"$f":"[1]BASE!F429","v":"DAS 102.2"},{"$f":"[1]BASE!G429","v":" "},{"$f":"[1]BASE!H429","v":"SPE / DEPARTAMENTO DE DESENVOLVIMENTO ENERGÉTICO - DDE"},{"$f":"[1]BASE!I429","v":"10.102.000"}]
[{"$f":"[1]BASE!A430","v":"REJANE INNECCO DA COSTA"},{"$f":"[1]BASE!B430","v":2078133},{"$f":"[1]BASE!C430","v":"Sem Cargo/Emprego"},{"$f":"[1]BASE!D430","v":"Sem Vínculo"},{"$f":"[1]BASE!E430","v":"Sem Vínculo"},{"$f":"[1]BASE!F430","v":"DAS 102.3"},{"$f":"[1]BASE!G430","v":" "},{"$f":"[1]BASE!H430","v":"ASSESSORIA ESPECIAL DE CONTROLE INTERNO - AECI"},{"$f":"[1]BASE!I430","v":"5.000.000"}]
[{"$f":"[1]BASE!A431","v":"RENATA BECKERT ISFER"},{"$f":"[1]BASE!B431","v":1585328},{"$f":"[1]BASE!C431","v":"Procuradora Federal"},{"$f":"[1]BASE!D431","v":"Exercício Descentralizado"},{"$f":"[1]BASE!E431","v":"AGU - Advocacia Geral da União"},{"$f":"[1]BASE!F431","v":"DAS 102.4"},{"$f":"[1]BASE!G431","v":" "},{"$f":"[1]BASE!H431","v":"SPG / CHEFIA DE GABINETE SPG"},{"$f":"[1]BASE!I431","v":"11.100.000"}]
[{"$f":"[1]BASE!A432","v":"RENATA ROSADA DA SILVA"},{"$f":"[1]BASE!B432","v":1522238},{"$f":"[1]BASE!C432","v":"Especialista em Regulação de Serv Púb de Energia"},{"$f":"[1]BASE!D432","v":"Requisitado de Órgãos"},{"$f":"[1]BASE!E432","v":"ANEEL - Agência Nacional de Energia Elétrica"},{"$f":"[1]BASE!F432","v":"DAS 101.5"},{"$f":"[1]BASE!G432","v":" "},{"$f":"[1]BASE!H432","v":"ASSESSORIA ESPECIAL DE ASSUNTOS ECONÔMICOS - ASSEC"},{"$f":"[1]BASE!I432","v":"6.000.000"}]
[{"$f":"[1]BASE!A433","v":"RENATA SANCHES DE OLIVEIRA MOURA"},{"$f":"[1]BASE!B433","v":2008083},{"$f":"[1]BASE!C433","v":"Assistente em Ciência e Tecnologia"},{"$f":"[1]BASE!D433","v":"Requisitado de Órgãos"},{"$f":"[1]BASE!E433","v":"MCTIC - Ministério da Ciência, Tecnologia, Inovações e Comunicações"},{"$f":"[1]BASE!F433","v":"FGR 1"},{"$f":"[1]BASE!G433","v":"GSISTE Intermediário"},{"$f":"[1]BASE!H433","v":"SE / SPOA / CGRH / COORDENAÇÃO DE DESENVOLVIMENTO E SEGURIDADE SOCIAL - CODES"},{"$f":"[1]BASE!I433","v":"8.105.220"}]
[{"$f":"[1]BASE!A434","v":"RENATO DE SOUSA ALVES"},{"$f":"[1]BASE!B434","v":452183},{"$f":"[1]BASE!C434","v":"Agente de Vigilância"},{"$f":"[1]BASE!D434","v":"Ativo Permanente"},{"$f":"[1]BASE!E434","v":"MME - Ministério de Minas e Energia"},{"$f":"[1]BASE!F434","v":" "},{"$f":"[1]BASE!G434","v":"GSISTE Intermediário"},{"$f":"[1]BASE!H434","v":"SE / SPOA / CGRL / COORDENAÇÃO DE ADMINISTRAÇÃO DE MATERIAL E EXECUÇÃO FINANCEIRA - COMEF"},{"$f":"[1]BASE!I434","v":"8.105.110"}]
[{"$f":"[1]BASE!A435","v":"RICARDO DA COSTA RIBEIRO"},{"$f":"[1]BASE!B435","v":2049106},{"$f":"[1]BASE!C435","v":"Analista de Infraestrutura"},{"$f":"[1]BASE!D435","v":"Exercício Descentralizado"},{"$f":"[1]BASE!E435","v":"ME - Ministério da Economia"},{"$f":"[1]BASE!F435","v":"FGR 1"},{"$f":"[1]BASE!G435","v":" "},{"$f":"[1]BASE!H435","v":"SE / ASSESSORIA ESPECIAL DE MEIO AMBIENTE - AESA"},{"$f":"[1]BASE!I435","v":"8.104.000"}]
[{"$f":"[1]BASE!A436","v":"RICARDO DE PAULA MONTEIRO"},{"$f":"[1]BASE!B436","v":2506322},{"$f":"[1]BASE!C436","v":"Sem Cargo/Emprego"},{"$f":"[1]BASE!D436","v":"Sem Vínculo"},{"$f":"[1]BASE!E436","v":"Sem Vínculo"},{"$f":"[1]BASE!F436","v":"DAS 101.5"},{"$f":"[1]BASE!G436","v":" "},{"$f":"[1]BASE!H436","v":"SGM / DEPARTAMENTO DE GESTÃO DAS POLÍTICAS DE GEOLOGIA, MINERAÇÃOE TRANSFORMAÇÃO - DPGM"},{"$f":"[1]BASE!I436","v":"9.101.000"}]
[{"$f":"[1]BASE!A437","v":"RICARDO JOSE SOUZA NASCIMENTO SILVA"},{"$f":"[1]BASE!B437","v":1668601},{"$f":"[1]BASE!C437","v":"Codificador de Dados I"},{"$f":"[1]BASE!D437","v":"Anistiado MME"},{"$f":"[1]BASE!E437","v":"MME - Ministério de Minas e Energia"},{"$f":"[1]BASE!F437","v":" "},{"$f":"[1]BASE!G437","v":" "},{"$f":"[1]BASE!H437","v":"Aguardando Lotação/Exercício"},{"$f":"[1]BASE!I437","v":"88.000.000"}]
[{"$f":"[1]BASE!A438","v":"RICARDO RIOS CARDOSO"},{"$f":"[1]BASE!B438","v":1243779},{"$f":"[1]BASE!C438","v":"Economista III"},{"$f":"[1]BASE!D438","v":"Anistiado MME"},{"$f":"[1]BASE!E438","v":"MME - Ministério de Minas e Energia"},{"$f":"[1]BASE!F438","v":" "},{"$f":"[1]BASE!G438","v":" "},{"$f":"[1]BASE!H438","v":"SE / AEGP / COORDENAÇÃO GERAL DE GESTÃO DE PROJETOS - CGGP"},{"$f":"[1]BASE!I438","v":"8.103.200"}]
[{"$f":"[1]BASE!A439","v":"RICARDO TAKEMITSU SIMABUKU"},{"$f":"[1]BASE!B439","v":3353174},{"$f":"[1]BASE!C439","v":"Especialista em Política Pública e Gestão Governamental"},{"$f":"[1]BASE!D439","v":"Requisitado de Órgãos"},{"$f":"[1]BASE!E439","v":"ME - Ministério da Economia"},{"$f":"[1]BASE!F439","v":"DAS 101.4"},{"$f":"[1]BASE!G439","v":" "},{"$f":"[1]BASE!H439","v":"SE / CHEFIA DE GABINETE SE"},{"$f":"[1]BASE!I439","v":"8.100.000"}]
[{"$f":"[1]BASE!A440","v":"RITA ALVES SILVA"},{"$f":"[1]BASE!B440","v":3441178},{"$f":"[1]BASE!C440","v":"Analista de Infraestrutura"},{"$f":"[1]BASE!D440","v":"Exercício Descentralizado"},{"$f":"[1]BASE!E440","v":"ME - Ministério da Economia"},{"$f":"[1]BASE!F440","v":"FCPE 101.4"},{"$f":"[1]BASE!G440","v":" "},{"$f":"[1]BASE!H440","v":"SE / AESA / COORDENAÇÃO GERAL DE ARTICULAÇÃO INSTITUCIONAL EM MEIO AMBIENTE - "},{"$f":"[1]BASE!I440","v":"8.104.200"}]
[{"$f":"[1]BASE!A441","v":"RITA MARIA DE OLIVEIRA CAMPOS"},{"$f":"[1]BASE!B441","v":1669890},{"$f":"[1]BASE!C441","v":"Auxiliar de Processamento"},{"$f":"[1]BASE!D441","v":"Anistiado MME"},{"$f":"[1]BASE!E441","v":"MME - Ministério de Minas e Energia"},{"$f":"[1]BASE!F441","v":" "},{"$f":"[1]BASE!G441","v":" "},{"$f":"[1]BASE!H441","v":"SE / SPOA / CGRH / COORDENAÇÃO DE DESENVOLVIMENTO E SEGURIDADE SOCIAL - CODES"},{"$f":"[1]BASE!I441","v":"8.105.220"}]
[{"$f":"[1]BASE!A442","v":"ROBERTO BENVINDO DE OLIVEIRA"},{"$f":"[1]BASE!B442","v":1795431},{"$f":"[1]BASE!C442","v":"Analista Técnico Administrativo"},{"$f":"[1]BASE!D442","v":"Requisitado de Órgãos"},{"$f":"[1]BASE!E442","v":"MDR - Ministério do Desenvolvimento Regional"},{"$f":"[1]BASE!F442","v":" "},{"$f":"[1]BASE!G442","v":"GSISTE Superior"},{"$f":"[1]BASE!H442","v":"SE / SPOA / CGTI / COORDENAÇÃO DE INFRAESTRUTURA TECNOLÓGICA - "},{"$f":"[1]BASE!I442","v":"8.105.310"}]
[{"$f":"[1]BASE!A443","v":"ROBERTO PINHEIRO KLEIN JUNIOR"},{"$f":"[1]BASE!B443","v":3084880},{"$f":"[1]BASE!C443","v":"Sem Cargo/Emprego"},{"$f":"[1]BASE!D443","v":"Sem Vínculo"},{"$f":"[1]BASE!E443","v":"Sem Vínculo"},{"$f":"[1]BASE!F443","v":"DAS 101.5"},{"$f":"[1]BASE!G443","v":" "},{"$f":"[1]BASE!H443","v":"ASSESSORIA ESPECIAL DE ACOMPANHAMENTO DE POLÍTICAS, ESTRATÉGIAS E DESEMPENHO SETORIAL - AEPED"},{"$f":"[1]BASE!I443","v":"4.000.000"}]
[{"$f":"[1]BASE!A444","v":"ROBSON REIS CANEDO"},{"$f":"[1]BASE!B444","v":453028},{"$f":"[1]BASE!C444","v":"Agente Administrativo"},{"$f":"[1]BASE!D444","v":"Ativo Permanente"},{"$f":"[1]BASE!E444","v":"MME - Ministério de Minas e Energia"},{"$f":"[1]BASE!F444","v":"FCPE 102.2"},{"$f":"[1]BASE!G444","v":" "},{"$f":"[1]BASE!H444","v":"SGM / DEPARTAMENTO DE TRANSFORMAÇÃO E TECNOLOGIA MINERAL - DTTM"},{"$f":"[1]BASE!I444","v":"9.103.000"}]
[{"$f":"[1]BASE!A445","v":"RODOLFO ZAMIAN DANILOW"},{"$f":"[1]BASE!B445","v":3132532},{"$f":"[1]BASE!C445","v":"Sem Cargo/Emprego"},{"$f":"[1]BASE!D445","v":"Sem Vínculo"},{"$f":"[1]BASE!E445","v":"Sem Vínculo"},{"$f":"[1]BASE!F445","v":"DAS 101.4"},{"$f":"[1]BASE!G445","v":" "},{"$f":"[1]BASE!H445","v":"SPE / DIEE / COORDENAÇÃO GERAL DE INFORMAÇÕES ENERGÉTICAS"},{"$f":"[1]BASE!I445","v":"10.104.100"}]
[{"$f":"[1]BASE!A446","v":"RODRIGO DANIEL MENDES FORNARI"},{"$f":"[1]BASE!B446","v":1938932},{"$f":"[1]BASE!C446","v":"Engenheiro"},{"$f":"[1]BASE!D446","v":"Requisitado de Empresa"},{"$f":"[1]BASE!E446","v":"ELETROSUL - Companhia de Geração e Transmissão de Energia Elétrica do Sul do Brasil"},{"$f":"[1]BASE!F446","v":"DAS 101.5"},{"$f":"[1]BASE!G446","v":" "},{"$f":"[1]BASE!H446","v":"SEE / CHEFIA DE GABINETE SEE"},{"$f":"[1]BASE!I446","v":"12.100.000"}]
[{"$f":"[1]BASE!A447","v":"RODRIGO DE CARVALHO MATOS"},{"$f":"[1]BASE!B447","v":1520561},{"$f":"[1]BASE!C447","v":"Sem Cargo/Emprego"},{"$f":"[1]BASE!D447","v":"Sem Vínculo"},{"$f":"[1]BASE!E447","v":"Sem Vínculo"},{"$f":"[1]BASE!F447","v":"DAS 101.3"},{"$f":"[1]BASE!G447","v":" "},{"$f":"[1]BASE!H447","v":"SE / AEGP / CGPF / COORDENAÇÃO ADMINISTRATIVA"},{"$f":"[1]BASE!I447","v":"8.103.110"}]
[{"$f":"[1]BASE!A448","v":"RODRIGO LIMP NASCIMENTO"},{"$f":"[1]BASE!B448","v":1559968},{"$f":"[1]BASE!C448","v":"Analista Legislativo"},{"$f":"[1]BASE!D448","v":"Requisitado de Órgãos"},{"$f":"[1]BASE!E448","v":"Câmara dos Deputados "},{"$f":"[1]BASE!F448","v":"DAS 101.6"},{"$f":"[1]BASE!G448","v":" "},{"$f":"[1]BASE!H448","v":"SECRETARIA DE ENERGIA ELÉTRICA - SEE"},{"$f":"[1]BASE!I448","v":"12.000.000"}]
[{"$f":"[1]BASE!A449","v":"RODRIGO SANTANA"},{"$f":"[1]BASE!B449","v":1510926},{"$f":"[1]BASE!C449","v":"Especialista em Regulação de Serv Púb de Energia"},{"$f":"[1]BASE!D449","v":"Requisitado de Órgãos"},{"$f":"[1]BASE!E449","v":"ANEEL - Agência Nacional de Energia Elétrica"},{"$f":"[1]BASE!F449","v":"DAS 101.5"},{"$f":"[1]BASE!G449","v":" "},{"$f":"[1]BASE!H449","v":"SEE / DEPARTAMENTO DE POLÍTICAS SOCIAIS E UNIVERSALIZAÇÃO DO ACESSO À ENERGIA ELÉTRICA - DPUE"},{"$f":"[1]BASE!I449","v":"12.103.000"}]
[{"$f":"[1]BASE!A450","v":"ROGÉRIO GUEDES DA SILVA"},{"$f":"[1]BASE!B450","v":3661905},{"$f":"[1]BASE!C450","v":"Analista de Infraestrutura"},{"$f":"[1]BASE!D450","v":"Exercício Descentralizado"},{"$f":"[1]BASE!E450","v":"ME - Ministério da Economia"},{"$f":"[1]BASE!F450","v":"FCPE 102.2"},{"$f":"[1]BASE!G450","v":" "},{"$f":"[1]BASE!H450","v":"SPE / DOC / COORDENAÇÃO GERAL DE OUTORGAS DE SERVIÇOS DE TRANSMISSÃO E DISTRIBUIÇÃO DE ENERGIA"},{"$f":"[1]BASE!I450","v":"10.103.200"}]
[{"$f":"[1]BASE!A451","v":"ROGERIO SOUZA TAVARES"},{"$f":"[1]BASE!B451","v":3658274},{"$f":"[1]BASE!C451","v":"Analista de Infraestrutura"},{"$f":"[1]BASE!D451","v":"Exercício Descentralizado"},{"$f":"[1]BASE!E451","v":"ME - Ministério da Economia"},{"$f":"[1]BASE!F451","v":"DAS 101.4"},{"$f":"[1]BASE!G451","v":" "},{"$f":"[1]BASE!H451","v":"SPE / DOC / COORDENAÇÃO GERAL DE OUTORGAS DE GERAÇÃO DE ENERGIA ELÉTRICA"},{"$f":"[1]BASE!I451","v":"10.103.100"}]
[{"$f":"[1]BASE!A452","v":"ROLIANA DE SOUSA ARAÚJO LEMOS"},{"$f":"[1]BASE!B452","v":1586366},{"$f":"[1]BASE!C452","v":"Escriturário"},{"$f":"[1]BASE!D452","v":"Anistiado MME"},{"$f":"[1]BASE!E452","v":"MME - Ministério de Minas e Energia"},{"$f":"[1]BASE!F452","v":"DAS 101.2"},{"$f":"[1]BASE!G452","v":" "},{"$f":"[1]BASE!H452","v":"SE / SPOA / CGRH / COORDENAÇÃO DE DESENVOLVIMENTO E SEGURIDADE SOCIAL - CODES"},{"$f":"[1]BASE!I452","v":"8.105.220"}]
[{"$f":"[1]BASE!A453","v":"ROMUALDO GOULART ARNOLDO"},{"$f":"[1]BASE!B453","v":454706},{"$f":"[1]BASE!C453","v":"Agente Administrativo"},{"$f":"[1]BASE!D453","v":"Ativo Permanente"},{"$f":"[1]BASE!E453","v":"MME - Ministério de Minas e Energia"},{"$f":"[1]BASE!F453","v":" "},{"$f":"[1]BASE!G453","v":" "},{"$f":"[1]BASE!H453","v":"SE / SPOA / COORDENAÇÃO GERAL DE RECURSOS HUMANOS - CGRH"},{"$f":"[1]BASE!I453","v":"8.105.200"}]
[{"$f":"[1]BASE!A454","v":"RONAN PINTO DE ARAUJO"},{"$f":"[1]BASE!B454","v":1670307},{"$f":"[1]BASE!C454","v":"Assistente Administrativo"},{"$f":"[1]BASE!D454","v":"Anistiado MME"},{"$f":"[1]BASE!E454","v":"MME - Ministério de Minas e Energia"},{"$f":"[1]BASE!F454","v":" "},{"$f":"[1]BASE!G454","v":" "},{"$f":"[1]BASE!H454","v":"SEE / DPUE / COORDENAÇÃO GERAL DE DESENVOLVIMENTO DE POLÍTICAS SOCIAIS"},{"$f":"[1]BASE!I454","v":"12.103.100"}]
[{"$f":"[1]BASE!A455","v":"RONNY JOSE PEIXOTO"},{"$f":"[1]BASE!B455","v":1314783},{"$f":"[1]BASE!C455","v":"Analista de Infraestrutura"},{"$f":"[1]BASE!D455","v":"Exercício Descentralizado"},{"$f":"[1]BASE!E455","v":"ME - Ministério da Economia"},{"$f":"[1]BASE!F455","v":" "},{"$f":"[1]BASE!G455","v":" "},{"$f":"[1]BASE!H455","v":"SPG / DEPARTAMENTO DE COMBUSTÍVEIS DERIVADOS DE PETRÓLEOS - DCDP"},{"$f":"[1]BASE!I455","v":"11.103.000"}]
[{"$f":"[1]BASE!A456","v":"ROSA MARIA PONTES DA CUNHA"},{"$f":"[1]BASE!B456","v":455957},{"$f":"[1]BASE!C456","v":"Odontólogo"},{"$f":"[1]BASE!D456","v":"Ativo Permanente"},{"$f":"[1]BASE!E456","v":"MME - Ministério de Minas e Energia"},{"$f":"[1]BASE!F456","v":"FGR 1"},{"$f":"[1]BASE!G456","v":"GSISTE Superior"},{"$f":"[1]BASE!H456","v":"SE / SPOA / CGRH / COORDENAÇÃO DE DESENVOLVIMENTO E SEGURIDADE SOCIAL - CODES"},{"$f":"[1]BASE!I456","v":"8.105.220"}]
[{"$f":"[1]BASE!A457","v":"ROSA MARIA SCHOOL MARQUES DE ANDRADE MARCET DE OLIVEIRA"},{"$f":"[1]BASE!B457","v":3090882},{"$f":"[1]BASE!C457","v":"Sem Cargo/Emprego"},{"$f":"[1]BASE!D457","v":"Sem Vínculo"},{"$f":"[1]BASE!E457","v":"Sem Vínculo"},{"$f":"[1]BASE!F457","v":"DAS 101.4"},{"$f":"[1]BASE!G457","v":" "},{"$f":"[1]BASE!H457","v":"GM / ASSESSORIA PARLAMENTAR - ASPAR"},{"$f":"[1]BASE!I457","v":"2.100.200"}]
[{"$f":"[1]BASE!A458","v":"ROSANGELA DE FREITAS BARBOSA CESAR"},{"$f":"[1]BASE!B458","v":2145181},{"$f":"[1]BASE!C458","v":"Sem Cargo/Emprego"},{"$f":"[1]BASE!D458","v":"Sem Vínculo"},{"$f":"[1]BASE!E458","v":"Sem Vínculo"},{"$f":"[1]BASE!F458","v":"DAS 102.2"},{"$f":"[1]BASE!G458","v":" "},{"$f":"[1]BASE!H458","v":"CONJUR / CGAA / COORDENAÇÃO DE APOIO ADMINISTRATIVO"},{"$f":"[1]BASE!I458","v":"7.100.310"}]
[{"$f":"[1]BASE!A459","v":"ROSANGELA MOURA DA FONSECA SILVA"},{"$f":"[1]BASE!B459","v":451634},{"$f":"[1]BASE!C459","v":"Agente Administrativo"},{"$f":"[1]BASE!D459","v":"Ativo Permanente"},{"$f":"[1]BASE!E459","v":"MME - Ministério de Minas e Energia"},{"$f":"[1]BASE!F459","v":"FCT 5"},{"$f":"[1]BASE!G459","v":"GSISTE Intermediário (MPEOF)"},{"$f":"[1]BASE!H459","v":"SE / SPOA / CGOF / COORDENAÇÃO DE CONTABILIDADE - CONT"},{"$f":"[1]BASE!I459","v":"8.105.520"}]
[{"$f":"[1]BASE!A460","v":"ROSE MARY DE CARVALHO RODRIGUES"},{"$f":"[1]BASE!B460","v":2257292},{"$f":"[1]BASE!C460","v":"Secretária"},{"$f":"[1]BASE!D460","v":"Anistiado MME"},{"$f":"[1]BASE!E460","v":"MME - Ministério de Minas e Energia"},{"$f":"[1]BASE!F460","v":" "},{"$f":"[1]BASE!G460","v":" "},{"$f":"[1]BASE!H460","v":"Aguardando Lotação/Exercício"},{"$f":"[1]BASE!I460","v":"88.000.000"}]
[{"$f":"[1]BASE!A461","v":"ROSIMEIRE BATISTA FERRO"},{"$f":"[1]BASE!B461","v":451848},{"$f":"[1]BASE!C461","v":"Agente Administrativo"},{"$f":"[1]BASE!D461","v":"Ativo Permanente"},{"$f":"[1]BASE!E461","v":"MME - Ministério de Minas e Energia"},{"$f":"[1]BASE!F461","v":"FCT 11"},{"$f":"[1]BASE!G461","v":" "},{"$f":"[1]BASE!H461","v":"SE / SPOA / CGCC / COORDENAÇÃO DE LICITAÇÕES E COMPRA - CLC"},{"$f":"[1]BASE!I461","v":"8.105.420"}]
[{"$f":"[1]BASE!A462","v":"ROSINETE RODRIGUES DE SOUZA"},{"$f":"[1]BASE!B462","v":1716015},{"$f":"[1]BASE!C462","v":"Copeiro"},{"$f":"[1]BASE!D462","v":"Anistiado MME"},{"$f":"[1]BASE!E462","v":"MME - Ministério de Minas e Energia"},{"$f":"[1]BASE!F462","v":" "},{"$f":"[1]BASE!G462","v":" "},{"$f":"[1]BASE!H462","v":"SE / SPOA / CGRH / COORDENAÇÃO DE DESENVOLVIMENTO E SEGURIDADE SOCIAL - CODES"},{"$f":"[1]BASE!I462","v":"8.105.220"}]
[{"$f":"[1]BASE!A463","v":"ROZANA SANTOS PEREIRA CAIXETA"},{"$f":"[1]BASE!B463","v":1454093},{"$f":"[1]BASE!C463","v":"Sem Cargo/Emprego"},{"$f":"[1]BASE!D463","v":"Sem Vínculo"},{"$f":"[1]BASE!E463","v":"Sem Vínculo"},{"$f":"[1]BASE!F463","v":"DAS 102.2"},{"$f":"[1]BASE!G463","v":" "},{"$f":"[1]BASE!H463","v":"SPG / CHEFIA DE GABINETE SPG"},{"$f":"[1]BASE!I463","v":"11.100.000"}]
[{"$f":"[1]BASE!A464","v":"RUBENS HORACIO FRANCISCO DE ARAUJO"},{"$f":"[1]BASE!B464","v":455297},{"$f":"[1]BASE!C464","v":"Agente de Vigilância"},{"$f":"[1]BASE!D464","v":"Ativo Permanente"},{"$f":"[1]BASE!E464","v":"MME - Ministério de Minas e Energia"},{"$f":"[1]BASE!F464","v":"FGR 1"},{"$f":"[1]BASE!G464","v":" "},{"$f":"[1]BASE!H464","v":"SE / SPOA / CGRL / COORDENAÇÃO DE ATIVIDADES GERAIS - COAGE"},{"$f":"[1]BASE!I464","v":"8.105.120"}]
[{"$f":"[1]BASE!A465","v":"RUBSON JOSE BOAVENTURA"},{"$f":"[1]BASE!B465","v":1758894},{"$f":"[1]BASE!C465","v":"Assistente Técnico"},{"$f":"[1]BASE!D465","v":"Anistiado MME"},{"$f":"[1]BASE!E465","v":"MME - Ministério de Minas e Energia"},{"$f":"[1]BASE!F465","v":" "},{"$f":"[1]BASE!G465","v":" "},{"$f":"[1]BASE!H465","v":"SE / SPOA / CGRL / COORDENAÇÃO DE ATIVIDADES GERAIS - COAGE"},{"$f":"[1]BASE!I465","v":"8.105.120"}]
[{"$f":"[1]BASE!A466","v":"RUTH BERNADETE ARAUJO DE PAULA"},{"$f":"[1]BASE!B466","v":1282065},{"$f":"[1]BASE!C466","v":"Auxiliar de Controle"},{"$f":"[1]BASE!D466","v":"Anistiado MME"},{"$f":"[1]BASE!E466","v":"MME - Ministério de Minas e Energia"},{"$f":"[1]BASE!F466","v":"DAS 102.3"},{"$f":"[1]BASE!G466","v":" "},{"$f":"[1]BASE!H466","v":"SEE / CHEFIA DE GABINETE SEE"},{"$f":"[1]BASE!I466","v":"12.100.000"}]
[{"$f":"[1]BASE!A467","v":"RUTH LEAO ARANTES SANTOS VASCONCELOS"},{"$f":"[1]BASE!B467","v":1259418},{"$f":"[1]BASE!C467","v":"Programador de Sistema III"},{"$f":"[1]BASE!D467","v":"Anistiado MME"},{"$f":"[1]BASE!E467","v":"MME - Ministério de Minas e Energia"},{"$f":"[1]BASE!F467","v":" "},{"$f":"[1]BASE!G467","v":" "},{"$f":"[1]BASE!H467","v":"SE / SPOA / CGCC / COORDENAÇÃO DE LICITAÇÕES E COMPRA - CLC"},{"$f":"[1]BASE!I467","v":"8.105.420"}]
[{"$f":"[1]BASE!A468","v":"SAMIR NAHASS"},{"$f":"[1]BASE!B468","v":1247097},{"$f":"[1]BASE!C468","v":"Sem Cargo/Emprego"},{"$f":"[1]BASE!D468","v":"Sem Vínculo"},{"$f":"[1]BASE!E468","v":"Sem Vínculo"},{"$f":"[1]BASE!F468","v":"DAS 101.4"},{"$f":"[1]BASE!G468","v":" "},{"$f":"[1]BASE!H468","v":"SGM / DTTM / COORDENAÇÃO GERAL DE CAPACITAÇÃO E DESENVOLVIMENTO TECNOLÓGICO"},{"$f":"[1]BASE!I468","v":"9.103.100"}]
[{"$f":"[1]BASE!A469","v":"SAMIRA SANA FERNANDES DE SOUSA CARMO"},{"$f":"[1]BASE!B469","v":3420721},{"$f":"[1]BASE!C469","v":"Especialista em Política Pública e Gestão Governamental"},{"$f":"[1]BASE!D469","v":"Requisitado de Órgãos"},{"$f":"[1]BASE!E469","v":"ME - Ministério da Economia"},{"$f":"[1]BASE!F469","v":"DAS 101.4"},{"$f":"[1]BASE!G469","v":" "},{"$f":"[1]BASE!H469","v":"SPE / DDE / COORDENAÇÃO GERAL DE EFICIÊNCIA ENERGÉTICA"},{"$f":"[1]BASE!I469","v":"10.102.100"}]
[{"$f":"[1]BASE!A470","v":"SANDRA MARIA MONTEIRO DE ALMEIDA ANGELO"},{"$f":"[1]BASE!B470","v":8673642},{"$f":"[1]BASE!C470","v":"Sem Cargo/Emprego"},{"$f":"[1]BASE!D470","v":"Sem Vínculo"},{"$f":"[1]BASE!E470","v":"Sem Vínculo"},{"$f":"[1]BASE!F470","v":"DAS 102.2"},{"$f":"[1]BASE!G470","v":" "},{"$f":"[1]BASE!H470","v":"SGM / DEPARTAMENTO DE GEOLOGIA E PRODUÇÃO MINERAL - DGPM"},{"$f":"[1]BASE!I470","v":"9.102.000"}]
[{"$f":"[1]BASE!A471","v":"SANDRA MONICA DE ALMEIDA PY"},{"$f":"[1]BASE!B471","v":1669868},{"$f":"[1]BASE!C471","v":"Auxiliar Codificação e Conferência"},{"$f":"[1]BASE!D471","v":"Anistiado MME"},{"$f":"[1]BASE!E471","v":"MME - Ministério de Minas e Energia"},{"$f":"[1]BASE!F471","v":"DAS 101.3"},{"$f":"[1]BASE!G471","v":" "},{"$f":"[1]BASE!H471","v":"SE / SPOA / CGRH / COORDENAÇÃO DE DESENVOLVIMENTO E SEGURIDADE SOCIAL - CODES"},{"$f":"[1]BASE!I471","v":"8.105.220"}]
[{"$f":"[1]BASE!A472","v":"SANDRA REGINA DE ANDRADE"},{"$f":"[1]BASE!B472","v":1567453},{"$f":"[1]BASE!C472","v":"Sem Cargo/Emprego"},{"$f":"[1]BASE!D472","v":"Sem Vínculo"},{"$f":"[1]BASE!E472","v":"Sem Vínculo"},{"$f":"[1]BASE!F472","v":"DAS 102.2"},{"$f":"[1]BASE!G472","v":" "},{"$f":"[1]BASE!H472","v":"SPE / CHEFIA DE GABINETE SPE"},{"$f":"[1]BASE!I472","v":"10.100.000"}]
[{"$f":"[1]BASE!A473","v":"SAULO ROBERTO DE VARGAS"},{"$f":"[1]BASE!B473","v":3196995},{"$f":"[1]BASE!C473","v":"Sem Cargo/Emprego"},{"$f":"[1]BASE!D473","v":"Sem Vínculo"},{"$f":"[1]BASE!E473","v":"S/VÍNCULO"},{"$f":"[1]BASE!F473","v":"DAS 101.4"},{"$f":"[1]BASE!G473","v":" "},{"$f":"[1]BASE!H473","v":"GM / ASSESSORIA DE COMUNICAÇÃO SOCIAL - ASCOM"},{"$f":"[1]BASE!I473","v":"2.100.300"}]
[{"$f":"[1]BASE!A474","v":"SEBASTIANA CARDOSO DE MORAES"},{"$f":"[1]BASE!B474","v":1314571},{"$f":"[1]BASE!C474","v":"Perfurador Digitador"},{"$f":"[1]BASE!D474","v":"Ativo Permanente"},{"$f":"[1]BASE!E474","v":"MME - Ministério de Minas e Energia"},{"$f":"[1]BASE!F474","v":" "},{"$f":"[1]BASE!G474","v":"GSISTE Intermediário"},{"$f":"[1]BASE!H474","v":"SE / SPOA / CGRL / COORDENAÇÃO DE ADMINISTRAÇÃO DE MATERIAL E EXECUÇÃO FINANCEIRA - COMEF"},{"$f":"[1]BASE!I474","v":"8.105.110"}]
[{"$f":"[1]BASE!A475","v":"SEBASTIANA LUIZA MARQUES"},{"$f":"[1]BASE!B475","v":1714856},{"$f":"[1]BASE!C475","v":"Telefonista"},{"$f":"[1]BASE!D475","v":"Anistiado MME"},{"$f":"[1]BASE!E475","v":"MME - Ministério de Minas e Energia"},{"$f":"[1]BASE!F475","v":" "},{"$f":"[1]BASE!G475","v":" "},{"$f":"[1]BASE!H475","v":"Aguardando Lotação/Exercício"},{"$f":"[1]BASE!I475","v":"88.000.000"}]
[{"$f":"[1]BASE!A476","v":"SERGIO FERREIRA CORTIZO"},{"$f":"[1]BASE!B476","v":1696265},{"$f":"[1]BASE!C476","v":"Especialista em Política Pública e Gestão Governamental"},{"$f":"[1]BASE!D476","v":"Exercício Descentralizado"},{"$f":"[1]BASE!E476","v":"ME - Ministério da Economia"},{"$f":"[1]BASE!F476","v":" "},{"$f":"[1]BASE!G476","v":" "},{"$f":"[1]BASE!H476","v":"SPE / DDE / COORDENAÇÃO GERAL DE SUSTENTABILIDADE AMBIENTAL DO SETOR ENERGÉTICO"},{"$f":"[1]BASE!I476","v":"10.102.200"}]
[{"$f":"[1]BASE!A477","v":"SERGIO HENRIQUE LOPES DE SOUSA"},{"$f":"[1]BASE!B477","v":3090789},{"$f":"[1]BASE!C477","v":"Sem Cargo/Emprego"},{"$f":"[1]BASE!D477","v":"Sem Vínculo"},{"$f":"[1]BASE!E477","v":"Sem Vínculo"},{"$f":"[1]BASE!F477","v":"DAS 101.5"},{"$f":"[1]BASE!G477","v":" "},{"$f":"[1]BASE!H477","v":"ASSESSORIA ESPECIAL DE CONTROLE INTERNO - AECI"},{"$f":"[1]BASE!I477","v":"5.000.000"}]
[{"$f":"[1]BASE!A478","v":"SEVERINO BARBOSA DOS SANTOS"},{"$f":"[1]BASE!B478","v":455490},{"$f":"[1]BASE!C478","v":"Agente Administrativo"},{"$f":"[1]BASE!D478","v":"Ativo Permanente"},{"$f":"[1]BASE!E478","v":"MME - Ministério de Minas e Energia"},{"$f":"[1]BASE!F478","v":"FCPE 101.2"},{"$f":"[1]BASE!G478","v":"GSISTE Intermediário"},{"$f":"[1]BASE!H478","v":"SE / SPOA / CGRH / COORDENAÇÃO DE ADMINISTRAÇÃO DE PESSOAL - CAPES"},{"$f":"[1]BASE!I478","v":"8.105.210"}]
[{"$f":"[1]BASE!A479","v":"SILVANA ALBUQUERQUE PEIXOTO"},{"$f":"[1]BASE!B479","v":1456277},{"$f":"[1]BASE!C479","v":"Sem Cargo/Emprego"},{"$f":"[1]BASE!D479","v":"Sem Vínculo"},{"$f":"[1]BASE!E479","v":"Sem Vínculo"},{"$f":"[1]BASE!F479","v":"DAS 102.2"},{"$f":"[1]BASE!G479","v":" "},{"$f":"[1]BASE!H479","v":"CONJUR / CHEFIA DE GABINETE CONJUR"},{"$f":"[1]BASE!I479","v":"7.100.000"}]
[{"$f":"[1]BASE!A480","v":"SILVANA SOARES DE GODOI E SOUSA"},{"$f":"[1]BASE!B480","v":1702338},{"$f":"[1]BASE!C480","v":"Analista Comercial Internacional"},{"$f":"[1]BASE!D480","v":"Anistiado MME"},{"$f":"[1]BASE!E480","v":"MME - Ministério de Minas e Energia"},{"$f":"[1]BASE!F480","v":"DAS 102.2"},{"$f":"[1]BASE!G480","v":" "},{"$f":"[1]BASE!H480","v":"SE / SPOA / COORDENAÇÃO GERAL DE RECURSOS HUMANOS - CGRH"},{"$f":"[1]BASE!I480","v":"8.105.200"}]
[{"$f":"[1]BASE!A481","v":"SILVIO CASTILHO DAS OLIVEIRAS"},{"$f":"[1]BASE!B481","v":1310555},{"$f":"[1]BASE!C481","v":"Analista de Planejamento e Orçamento"},{"$f":"[1]BASE!D481","v":"Exercício Descentralizado"},{"$f":"[1]BASE!E481","v":"ME - Ministério da Economia"},{"$f":"[1]BASE!F481","v":"DAS 101.3"},{"$f":"[1]BASE!G481","v":" "},{"$f":"[1]BASE!H481","v":"SE / AEGE / CGPE / COORDENAÇÃO DE PLANEJAMENTO ESTRATÉGICO E ORÇAMENTO"},{"$f":"[1]BASE!I481","v":"8.101.110"}]
[{"$f":"[1]BASE!A482","v":"SIMONE MARIA DA SILVA SALGADO"},{"$f":"[1]BASE!B482","v":172897},{"$f":"[1]BASE!C482","v":"Administrador"},{"$f":"[1]BASE!D482","v":"Requisitado de Órgãos"},{"$f":"[1]BASE!E482","v":"ME - Ministério da Economia"},{"$f":"[1]BASE!F482","v":" "},{"$f":"[1]BASE!G482","v":"GSISTE Superior"},{"$f":"[1]BASE!H482","v":"SE / SPOA / CGCC / COORDENAÇÃO DE LICITAÇÕES E COMPRA - CLC"},{"$f":"[1]BASE!I482","v":"8.105.420"}]
[{"$f":"[1]BASE!A483","v":"SYMONE CHRISTINE DE SANTANA ARAUJO"},{"$f":"[1]BASE!B483","v":3089587},{"$f":"[1]BASE!C483","v":"Especialista em Política Pública e Gestão Governamental"},{"$f":"[1]BASE!D483","v":"Exercício Descentralizado"},{"$f":"[1]BASE!E483","v":"ME - Ministério da Economia"},{"$f":"[1]BASE!F483","v":"DAS 101.5"},{"$f":"[1]BASE!G483","v":" "},{"$f":"[1]BASE!H483","v":"SPG / DEPARTAMENTO DE GÁS NATURAL - DGN"},{"$f":"[1]BASE!I483","v":"11.102.000"}]
[{"$f":"[1]BASE!A484","v":"TACIANA MARIA SABATO DE CASTRO"},{"$f":"[1]BASE!B484","v":1282663},{"$f":"[1]BASE!C484","v":"Escriturário"},{"$f":"[1]BASE!D484","v":"Anistiado MME"},{"$f":"[1]BASE!E484","v":"MME - Ministério de Minas e Energia"},{"$f":"[1]BASE!F484","v":" "},{"$f":"[1]BASE!G484","v":" "},{"$f":"[1]BASE!H484","v":"SE / SPOA / CGRH / COORDENAÇÃO DE DESENVOLVIMENTO E SEGURIDADE SOCIAL - CODES"},{"$f":"[1]BASE!I484","v":"8.105.220"}]
[{"$f":"[1]BASE!A485","v":"TANIA GOMES RIBEIRO DE MORAES"},{"$f":"[1]BASE!B485","v":1095438},{"$f":"[1]BASE!C485","v":"Contador"},{"$f":"[1]BASE!D485","v":"Ativo Permanente"},{"$f":"[1]BASE!E485","v":"MME - Ministério de Minas e Energia"},{"$f":"[1]BASE!F485","v":" "},{"$f":"[1]BASE!G485","v":"GSISTE Superior"},{"$f":"[1]BASE!H485","v":"GM / OUVIDORIA GERAL - OUVIR"},{"$f":"[1]BASE!I485","v":"2.100.500"}]
[{"$f":"[1]BASE!A486","v":"TARCISIO TADEU DE CASTRO"},{"$f":"[1]BASE!B486","v":2682087},{"$f":"[1]BASE!C486","v":"Analista de Infraestrutura"},{"$f":"[1]BASE!D486","v":"Exercício Descentralizado"},{"$f":"[1]BASE!E486","v":"ME - Ministério da Economia"},{"$f":"[1]BASE!F486","v":" "},{"$f":"[1]BASE!G486","v":" "},{"$f":"[1]BASE!H486","v":"SEE / DMSE / COORDENAÇÃO GERAL DE MONITORAMENTO DA DISTRIBUIÇÃO"},{"$f":"[1]BASE!I486","v":"12.102.300"}]
[{"$f":"[1]BASE!A487","v":"TARITA DA SILVA COSTA"},{"$f":"[1]BASE!B487","v":3707401},{"$f":"[1]BASE!C487","v":"Analista de Infraestrutura"},{"$f":"[1]BASE!D487","v":"Exercício Descentralizado"},{"$f":"[1]BASE!E487","v":"ME - Ministério da Economia"},{"$f":"[1]BASE!F487","v":"DAS 101.4"},{"$f":"[1]BASE!G487","v":" "},{"$f":"[1]BASE!H487","v":"SPE / DPE / COORDENAÇÃO GERAL DE PLANEJAMENTO DA GERAÇÃO"},{"$f":"[1]BASE!I487","v":"10.101.200"}]
[{"$f":"[1]BASE!A488","v":"TATIANNA GOMES BEZERRA PEREIRA"},{"$f":"[1]BASE!B488","v":1301430},{"$f":"[1]BASE!C488","v":"Sem Cargo/Emprego"},{"$f":"[1]BASE!D488","v":"Sem Vínculo"},{"$f":"[1]BASE!E488","v":"Sem Vínculo"},{"$f":"[1]BASE!F488","v":"DAS 102.2"},{"$f":"[1]BASE!G488","v":" "},{"$f":"[1]BASE!H488","v":"SEE / CHEFIA DE GABINETE SEE"},{"$f":"[1]BASE!I488","v":"12.100.000"}]
[{"$f":"[1]BASE!A489","v":"TATIELE LIMA GUIMARAES"},{"$f":"[1]BASE!B489","v":2192999},{"$f":"[1]BASE!C489","v":"Sem Cargo/Emprego"},{"$f":"[1]BASE!D489","v":"Sem Vínculo"},{"$f":"[1]BASE!E489","v":"Sem Vínculo"},{"$f":"[1]BASE!F489","v":"DAS 102.3"},{"$f":"[1]BASE!G489","v":" "},{"$f":"[1]BASE!H489","v":"GM / ASSESSORIA PARLAMENTAR - ASPAR"},{"$f":"[1]BASE!I489","v":"2.100.200"}]
[{"$f":"[1]BASE!A490","v":"TERENCIO TONHA BRANDAO JUNIOR"},{"$f":"[1]BASE!B490","v":2604383},{"$f":"[1]BASE!C490","v":"Sem Cargo/Emprego"},{"$f":"[1]BASE!D490","v":"Sem Vínculo"},{"$f":"[1]BASE!E490","v":"Sem Vínculo"},{"$f":"[1]BASE!F490","v":"DAS 101.2"},{"$f":"[1]BASE!G490","v":" "},{"$f":"[1]BASE!H490","v":"SE / SPOA / CGRL / COORDENAÇÃO DE ATIVIDADES GERAIS - COAGE"},{"$f":"[1]BASE!I490","v":"8.105.120"}]
[{"$f":"[1]BASE!A491","v":"TEREZA MARIA DA COSTA"},{"$f":"[1]BASE!B491","v":455999},{"$f":"[1]BASE!C491","v":"Telefonista"},{"$f":"[1]BASE!D491","v":"Ativo Permanente"},{"$f":"[1]BASE!E491","v":"MME - Ministério de Minas e Energia"},{"$f":"[1]BASE!F491","v":"FCT 10"},{"$f":"[1]BASE!G491","v":" "},{"$f":"[1]BASE!H491","v":"SE / AEGP / CGPF / COORDENAÇÃO ADMINISTRATIVA"},{"$f":"[1]BASE!I491","v":"8.103.110"}]
[{"$f":"[1]BASE!A492","v":"TEREZINHA AGUIAR ALMEIDA"},{"$f":"[1]BASE!B492","v":95496},{"$f":"[1]BASE!C492","v":"Administrador"},{"$f":"[1]BASE!D492","v":"Ativo Permanente"},{"$f":"[1]BASE!E492","v":"MME - Ministério de Minas e Energia"},{"$f":"[1]BASE!F492","v":"DAS 101.3"},{"$f":"[1]BASE!G492","v":"GSISTE Superior"},{"$f":"[1]BASE!H492","v":"SE / SPOA / COORDENAÇÃO DE MODERNIZAÇÃO ADMINISTRATIVA - CMA"},{"$f":"[1]BASE!I492","v":"8.105.010"}]
[{"$f":"[1]BASE!A493","v":"THAIS MARCIA FERNANDES MATANO LACERDA"},{"$f":"[1]BASE!B493","v":1997387},{"$f":"[1]BASE!C493","v":"Sem Cargo/Emprego"},{"$f":"[1]BASE!D493","v":"Sem Vínculo"},{"$f":"[1]BASE!E493","v":"Sem Vínculo"},{"$f":"[1]BASE!F493","v":"DAS 101.5"},{"$f":"[1]BASE!G493","v":" "},{"$f":"[1]BASE!H493","v":"CONSULTORIA JURÍDICA - CONJUR"},{"$f":"[1]BASE!I493","v":"7.000.000"}]
[{"$f":"[1]BASE!A494","v":"THANIA REGINA PEREIRA LOPES"},{"$f":"[1]BASE!B494","v":1093546},{"$f":"[1]BASE!C494","v":"Técnico de Contabilidade"},{"$f":"[1]BASE!D494","v":"Requisitado de Órgãos"},{"$f":"[1]BASE!E494","v":"MCTIC - Ministério da Ciência, Tecnologia, Inovações e Comunicações"},{"$f":"[1]BASE!F494","v":"FCT 5"},{"$f":"[1]BASE!G494","v":"GSISTE Intermediário (MPAAC)"},{"$f":"[1]BASE!H494","v":"SE / SPOA / CGOF / COORDENAÇÃO DE CONTABILIDADE - CONT"},{"$f":"[1]BASE!I494","v":"8.105.520"}]
[{"$f":"[1]BASE!A495","v":"THELMA DE OLIVEIRA FALCÃO"},{"$f":"[1]BASE!B495","v":451661},{"$f":"[1]BASE!C495","v":"Agente Administrativo"},{"$f":"[1]BASE!D495","v":"Ativo Permanente"},{"$f":"[1]BASE!E495","v":"MME - Ministério de Minas e Energia"},{"$f":"[1]BASE!F495","v":" "},{"$f":"[1]BASE!G495","v":" "},{"$f":"[1]BASE!H495","v":"Aguardando Lotação/Exercício"},{"$f":"[1]BASE!I495","v":"88.000.000"}]
[{"$f":"[1]BASE!A496","v":"THEREZA CHRISTINA DE ALMEIDA CASTRO"},{"$f":"[1]BASE!B496","v":4458996},{"$f":"[1]BASE!C496","v":"Especialista em Política Pública e Gestão Governamental"},{"$f":"[1]BASE!D496","v":"Requisitado de Órgãos"},{"$f":"[1]BASE!E496","v":"ME - Ministério da Economia"},{"$f":"[1]BASE!F496","v":"DAS 101.4"},{"$f":"[1]BASE!G496","v":" "},{"$f":"[1]BASE!H496","v":"SPG / CHEFIA DE GABINETE SPG"},{"$f":"[1]BASE!I496","v":"11.100.000"}]
[{"$f":"[1]BASE!A497","v":"THIAGO COSMO LUCENA"},{"$f":"[1]BASE!B497","v":3103299},{"$f":"[1]BASE!C497","v":"Administrador"},{"$f":"[1]BASE!D497","v":"Requisitado de Órgãos"},{"$f":"[1]BASE!E497","v":"MJSP - Ministério da Justiça e Segurança Pública"},{"$f":"[1]BASE!F497","v":" "},{"$f":"[1]BASE!G497","v":"GSISTE Superior"},{"$f":"[1]BASE!H497","v":"SE / SPOA / COORDENAÇÃO GERAL DE RECURSOS LOGÍSTICOS - CGRL"},{"$f":"[1]BASE!I497","v":"8.105.100"}]
[{"$f":"[1]BASE!A498","v":"THIAGO DE FREITAS BENEVENUTO"},{"$f":"[1]BASE!B498","v":3507933},{"$f":"[1]BASE!C498","v":"Advogado da União"},{"$f":"[1]BASE!D498","v":"Exercício Descentralizado"},{"$f":"[1]BASE!E498","v":"AGU - Advocacia Geral da União"},{"$f":"[1]BASE!F498","v":"FCPE 101.4"},{"$f":"[1]BASE!G498","v":" "},{"$f":"[1]BASE!H498","v":"CONJUR / COORDENAÇÃO GERAL DE ASSUNTOS DE PETRÓLEO E MINERAÇÃO"},{"$f":"[1]BASE!I498","v":"7.100.200"}]
[{"$f":"[1]BASE!A499","v":"THIAGO GUILHERME FERREIRA PRADO"},{"$f":"[1]BASE!B499","v":1435826},{"$f":"[1]BASE!C499","v":"Especialista em Regulação de Serv Púb de Energia"},{"$f":"[1]BASE!D499","v":"Requisitado de Órgãos"},{"$f":"[1]BASE!E499","v":"ANEEL - Agência Nacional de Energia Elétrica"},{"$f":"[1]BASE!F499","v":"DAS 101.5"},{"$f":"[1]BASE!G499","v":" "},{"$f":"[1]BASE!H499","v":"SPE / DEPARTAMENTO DE PLANEJAMENTO ENERGÉTICO - DPE"},{"$f":"[1]BASE!I499","v":"10.101.000"}]
[{"$f":"[1]BASE!A500","v":"UMBERTO MATTEI"},{"$f":"[1]BASE!B500","v":3460202},{"$f":"[1]BASE!C500","v":"Especialista em Política Pública e Gestão Governamental"},{"$f":"[1]BASE!D500","v":"Exercício Descentralizado"},{"$f":"[1]BASE!E500","v":"ME - Ministério da Economia"},{"$f":"[1]BASE!F500","v":" "},{"$f":"[1]BASE!G500","v":" "},{"$f":"[1]BASE!H500","v":"SPG / DEPARTAMENTO DE BIOCOMBUSTÍVEIS - DBIO"},{"$f":"[1]BASE!I500","v":"11.104.000"}]
[{"$f":"[1]BASE!A501","v":"VALDIR BORGES SOUZA JUNIOR"},{"$f":"[1]BASE!B501","v":3661467},{"$f":"[1]BASE!C501","v":"Analista de Infraestrutura"},{"$f":"[1]BASE!D501","v":"Requisitado de Órgãos"},{"$f":"[1]BASE!E501","v":"ME - Ministério da Economia"},{"$f":"[1]BASE!F501","v":"DAS 102.4"},{"$f":"[1]BASE!G501","v":" "},{"$f":"[1]BASE!H501","v":"SPE / CHEFIA DE GABINETE SPE"},{"$f":"[1]BASE!I501","v":"10.100.000"}]
[{"$f":"[1]BASE!A502","v":"VALDIVINO ANTONIO DE SOUZA"},{"$f":"[1]BASE!B502","v":1314309},{"$f":"[1]BASE!C502","v":"Artífice de Eletricidade e Comunicação"},{"$f":"[1]BASE!D502","v":"Ativo Permanente"},{"$f":"[1]BASE!E502","v":"MME - Ministério de Minas e Energia"},{"$f":"[1]BASE!F502","v":"FCT 9"},{"$f":"[1]BASE!G502","v":"GSISTE Intermediário"},{"$f":"[1]BASE!H502","v":"SE / SPOA / CGTI / COORDENAÇÃO DE INFRAESTRUTURA TECNOLÓGICA - "},{"$f":"[1]BASE!I502","v":"8.105.310"}]
[{"$f":"[1]BASE!A503","v":"VALERIA DE JESUS RODRIGUES SOUZA"},{"$f":"[1]BASE!B503","v":3086147},{"$f":"[1]BASE!C503","v":"Marinha"},{"$f":"[1]BASE!D503","v":"Requisitado Militar"},{"$f":"[1]BASE!E503","v":"Marinha"},{"$f":"[1]BASE!F503","v":"DAS 102.4"},{"$f":"[1]BASE!G503","v":" "},{"$f":"[1]BASE!H503","v":"GABINETE DO MINISTRO - GM"},{"$f":"[1]BASE!I503","v":"2.000.000"}]
[{"$f":"[1]BASE!A504","v":"VALTER PEREIRA DA SILVA"},{"$f":"[1]BASE!B504","v":2281146},{"$f":"[1]BASE!C504","v":"Contador"},{"$f":"[1]BASE!D504","v":"Anistiado MME"},{"$f":"[1]BASE!E504","v":"MME - Ministério de Minas e Energia"},{"$f":"[1]BASE!F504","v":" "},{"$f":"[1]BASE!G504","v":" "},{"$f":"[1]BASE!H504","v":"SEE / DPUE / COORDENAÇÃO GERAL DE DESENVOLVIMENTO DE POLÍTICAS SOCIAIS"},{"$f":"[1]BASE!I504","v":"12.103.100"}]
[{"$f":"[1]BASE!A505","v":"VANDERLINO AUGUSTO DA ROCHA"},{"$f":"[1]BASE!B505","v":452193},{"$f":"[1]BASE!C505","v":"Agente de Vigilância"},{"$f":"[1]BASE!D505","v":"Ativo Permanente"},{"$f":"[1]BASE!E505","v":"MME - Ministério de Minas e Energia"},{"$f":"[1]BASE!F505","v":"FGR 1"},{"$f":"[1]BASE!G505","v":" "},{"$f":"[1]BASE!H505","v":"SE / SPOA / CGRL / COORDENAÇÃO DE ATIVIDADES GERAIS - COAGE"},{"$f":"[1]BASE!I505","v":"8.105.120"}]
[{"$f":"[1]BASE!A506","v":"VANIALUCIA LINS SOUTO"},{"$f":"[1]BASE!B506","v":2207236},{"$f":"[1]BASE!C506","v":"Especialista em Política Pública e Gestão Governamental"},{"$f":"[1]BASE!D506","v":"Exercício Descentralizado"},{"$f":"[1]BASE!E506","v":"ME - Ministério da Economia"},{"$f":"[1]BASE!F506","v":"DAS 102.2"},{"$f":"[1]BASE!G506","v":" "},{"$f":"[1]BASE!H506","v":"SEE / DGSE / COORDENAÇÃO GERAL DE GESTÃO DA COMERCIALIZAÇÃO DE ENERGIA"},{"$f":"[1]BASE!I506","v":"12.101.100"}]
[{"$f":"[1]BASE!A507","v":"VANIUS ROBERTO SOARES DA CUNHA"},{"$f":"[1]BASE!B507","v":454701},{"$f":"[1]BASE!C507","v":"Agente Administrativo"},{"$f":"[1]BASE!D507","v":"Ativo Permanente"},{"$f":"[1]BASE!E507","v":"MME - Ministério de Minas e Energia"},{"$f":"[1]BASE!F507","v":"FCT 10"},{"$f":"[1]BASE!G507","v":" "},{"$f":"[1]BASE!H507","v":"GM / OUVIDORIA GERAL - OUVIR"},{"$f":"[1]BASE!I507","v":"2.100.500"}]
[{"$f":"[1]BASE!A508","v":"VERONICA E SILVA SOUSA"},{"$f":"[1]BASE!B508","v":1741317},{"$f":"[1]BASE!C508","v":"Sem Cargo/Emprego"},{"$f":"[1]BASE!D508","v":"Sem Vínculo"},{"$f":"[1]BASE!E508","v":"Sem Vínculo"},{"$f":"[1]BASE!F508","v":"DAS 101.4"},{"$f":"[1]BASE!G508","v":" "},{"$f":"[1]BASE!H508","v":"SE / AESA / COORDENAÇÃO GERAL DE AVALIAÇÃO AMBIENTAL E ACOMPANHAMENTO DE LICENCIAMENTO - "},{"$f":"[1]BASE!I508","v":"8.104.100"}]
[{"$f":"[1]BASE!A509","v":"VICTOR PROTAZIO DA SILVA"},{"$f":"[1]BASE!B509","v":2748300},{"$f":"[1]BASE!C509","v":"Analista de Infraestrutura"},{"$f":"[1]BASE!D509","v":"Exercício Descentralizado"},{"$f":"[1]BASE!E509","v":"ME - Ministério da Economia"},{"$f":"[1]BASE!F509","v":"DAS 101.4"},{"$f":"[1]BASE!G509","v":" "},{"$f":"[1]BASE!H509","v":"SEE / DMSE / COORDENAÇÃO GERAL DE MONITORAMENTO DA DISTRIBUIÇÃO"},{"$f":"[1]BASE!I509","v":"12.102.300"}]
[{"$f":"[1]BASE!A510","v":"VICTOR VALE CANTARINO"},{"$f":"[1]BASE!B510","v":1356378},{"$f":"[1]BASE!C510","v":"Advogado da União"},{"$f":"[1]BASE!D510","v":"Exercício Descentralizado"},{"$f":"[1]BASE!E510","v":"AGU - Advocacia Geral da União"},{"$f":"[1]BASE!F510","v":" "},{"$f":"[1]BASE!G510","v":" "},{"$f":"[1]BASE!H510","v":"CONJUR / COORDENAÇÃO GERAL DE ASSUNTOS DE PETRÓLEO E MINERAÇÃO"},{"$f":"[1]BASE!I510","v":"7.100.200"}]
[{"$f":"[1]BASE!A511","v":"VINICIUS SALES PEREIRA"},{"$f":"[1]BASE!B511","v":3133057},{"$f":"[1]BASE!C511","v":"Marinha"},{"$f":"[1]BASE!D511","v":"Requisitado Militar"},{"$f":"[1]BASE!E511","v":"Marinha"},{"$f":"[1]BASE!F511","v":"DAS 102.3"},{"$f":"[1]BASE!G511","v":" "},{"$f":"[1]BASE!H511","v":"Escritório Rio de Janeiro/RJ"},{"$f":"[1]BASE!I511","v":"99.000.000"}]
[{"$f":"[1]BASE!A512","v":"VIVALDO BELARMINO VALENCA"},{"$f":"[1]BASE!B512","v":452145},{"$f":"[1]BASE!C512","v":"Administrador"},{"$f":"[1]BASE!D512","v":"Ativo Permanente"},{"$f":"[1]BASE!E512","v":"MME - Ministério de Minas e Energia"},{"$f":"[1]BASE!F512","v":"DAS 101.3"},{"$f":"[1]BASE!G512","v":"GSISTE Superior"},{"$f":"[1]BASE!H512","v":"SE / AEGE / CGPE / COORDENAÇÃO DE SUPERVISÃO E AVALIAÇÃO DA GESTÃO"},{"$f":"[1]BASE!I512","v":"8.101.120"}]
[{"$f":"[1]BASE!A513","v":"VIVIANO ROCHA NEIVA"},{"$f":"[1]BASE!B513","v":1799889},{"$f":"[1]BASE!C513","v":"Analista de Relações Internacionais"},{"$f":"[1]BASE!D513","v":"Anistiado MME"},{"$f":"[1]BASE!E513","v":"MME - Ministério de Minas e Energia"},{"$f":"[1]BASE!F513","v":" "},{"$f":"[1]BASE!G513","v":" "},{"$f":"[1]BASE!H513","v":"Aguardando Lotação/Exercício"},{"$f":"[1]BASE!I513","v":"88.000.000"}]
[{"$f":"[1]BASE!A514","v":"WAGNER COELHO SABINO"},{"$f":"[1]BASE!B514","v":3182221},{"$f":"[1]BASE!C514","v":"Sem Cargo/Emprego"},{"$f":"[1]BASE!D514","v":"Sem Vínculo"},{"$f":"[1]BASE!E514","v":"S/VÍNCULO"},{"$f":"[1]BASE!F514","v":"DAS 101.3"},{"$f":"[1]BASE!G514","v":" "},{"$f":"[1]BASE!H514","v":"SE / SPOA / CGTI / COORDENAÇÃO DE TECNOLOGIA DE SISTEMAS DE INFORMAÇÃO - CTSI"},{"$f":"[1]BASE!I514","v":"8.105.320"}]
[{"$f":"[1]BASE!A515","v":"WALDIR ANTONIO GERVASIO"},{"$f":"[1]BASE!B515","v":451630},{"$f":"[1]BASE!C515","v":"Agente Administrativo"},{"$f":"[1]BASE!D515","v":"Ativo Permanente"},{"$f":"[1]BASE!E515","v":"MME - Ministério de Minas e Energia"},{"$f":"[1]BASE!F515","v":"DAS 102.3"},{"$f":"[1]BASE!G515","v":"GSISTE Intermediário"},{"$f":"[1]BASE!H515","v":"GM / ASTAD / COORDENAÇÃO DE ATIVIDADES ADMINISTRATIVAS"},{"$f":"[1]BASE!I515","v":"2.100.101"}]
[{"$f":"[1]BASE!A516","v":"WANDERLEY TEIXEIRA RIBEIRO"},{"$f":"[1]BASE!B516","v":1669730},{"$f":"[1]BASE!C516","v":"Programador de Aplicação II"},{"$f":"[1]BASE!D516","v":"Anistiado MME"},{"$f":"[1]BASE!E516","v":"MME - Ministério de Minas e Energia"},{"$f":"[1]BASE!F516","v":" "},{"$f":"[1]BASE!G516","v":" "},{"$f":"[1]BASE!H516","v":"Aguardando Lotação/Exercício"},{"$f":"[1]BASE!I516","v":"88.000.000"}]
[{"$f":"[1]BASE!A517","v":"WASHINGTON CAVALCANTE VERAS DINIZ"},{"$f":"[1]BASE!B517","v":6054932},{"$f":"[1]BASE!C517","v":"Agente Administrativo"},{"$f":"[1]BASE!D517","v":"Requisitado de Órgãos"},{"$f":"[1]BASE!E517","v":"ME - Ministério da Economia"},{"$f":"[1]BASE!F517","v":"FCT 10"},{"$f":"[1]BASE!G517","v":"GSISTE Intermediário"},{"$f":"[1]BASE!H517","v":"SE / SPOA / CGRL / COORDENAÇÃO DE ATIVIDADES GERAIS - COAGE"},{"$f":"[1]BASE!I517","v":"8.105.120"}]
[{"$f":"[1]BASE!A518","v":"WIDISMAR MARTINS DA SILVA"},{"$f":"[1]BASE!B518","v":2543882},{"$f":"[1]BASE!C518","v":"Sem Cargo/Emprego"},{"$f":"[1]BASE!D518","v":"Sem Vínculo"},{"$f":"[1]BASE!E518","v":"Sem Vínculo"},{"$f":"[1]BASE!F518","v":"DAS 102.4"},{"$f":"[1]BASE!G518","v":" "},{"$f":"[1]BASE!H518","v":"SE / CHEFIA DE GABINETE SE"},{"$f":"[1]BASE!I518","v":"8.100.000"}]
[{"$f":"[1]BASE!A519","v":"WILMA DO COUTO DOS SANTOS CRUZ"},{"$f":"[1]BASE!B519","v":6455860},{"$f":"[1]BASE!C519","v":"Administrador"},{"$f":"[1]BASE!D519","v":"Anistiado MME"},{"$f":"[1]BASE!E519","v":"MME - Ministério de Minas e Energia"},{"$f":"[1]BASE!F519","v":" "},{"$f":"[1]BASE!G519","v":" "},{"$f":"[1]BASE!H519","v":"SE / ASSESSORIA ESPECIAL DE MEIO AMBIENTE - AESA"},{"$f":"[1]BASE!I519","v":"8.104.000"}]
[{"$f":"[1]BASE!A520","v":"WILMA SALES FERREIRA NUNES ROSA"},{"$f":"[1]BASE!B520","v":2112},{"$f":"[1]BASE!C520","v":"Administrador"},{"$f":"[1]BASE!D520","v":"Ativo Permanente"},{"$f":"[1]BASE!E520","v":"MME - Ministério de Minas e Energia"},{"$f":"[1]BASE!F520","v":" "},{"$f":"[1]BASE!G520","v":"GSISTE Superior"},{"$f":"[1]BASE!H520","v":"SE / SPOA / CGRL / COORDENAÇÃO DE ATIVIDADES GERAIS - COAGE"},{"$f":"[1]BASE!I520","v":"8.105.120"}]
[{"$f":"[1]BASE!A521","v":"WILSON RODRIGUES PEREIRA"},{"$f":"[1]BASE!B521","v":2094507},{"$f":"[1]BASE!C521","v":"Engenheiro"},{"$f":"[1]BASE!D521","v":"Anistiado MME"},{"$f":"[1]BASE!E521","v":"MME - Ministério de Minas e Energia"},{"$f":"[1]BASE!F521","v":" "},{"$f":"[1]BASE!G521","v":" "},{"$f":"[1]BASE!H521","v":"SGM / DEPARTAMENTO DE TRANSFORMAÇÃO E TECNOLOGIA MINERAL - DTTM"},{"$f":"[1]BASE!I521","v":"9.103.000"}]
[{"$f":"[1]BASE!A522","v":"ZAIRA ROCHA DE NOVAIS LOBO"},{"$f":"[1]BASE!B522","v":1097783},{"$f":"[1]BASE!C522","v":"Agente Administrativo"},{"$f":"[1]BASE!D522","v":"Ativo Permanente"},{"$f":"[1]BASE!E522","v":"MME - Ministério de Minas e Energia"},{"$f":"[1]BASE!F522","v":"DAS 102.2"},{"$f":"[1]BASE!G522","v":"GSISP Intermediário"},{"$f":"[1]BASE!H522","v":"SE / SPOA / CGTI / COORDENAÇÃO DE INFRAESTRUTURA TECNOLÓGICA - "},{"$f":"[1]BASE!I522","v":"8.105.310"}]
[{"$f":"[1]BASE!A523","v":"ZULMIRA DA SILVA DE LIMA"},{"$f":"[1]BASE!B523","v":455333},{"$f":"[1]BASE!C523","v":"Agente de Portaria"},{"$f":"[1]BASE!D523","v":"Ativo Permanente"},{"$f":"[1]BASE!E523","v":"MME - Ministério de Minas e Energia"},{"$f":"[1]BASE!F523","v":"FCT 11"},{"$f":"[1]BASE!G523","v":"GSISTE Intermediário"},{"$f":"[1]BASE!H523","v":"SE / SPOA / CGRH / COORDENAÇÃO DE DESENVOLVIMENTO E SEGURIDADE SOCIAL - CODES"},{"$f":"[1]BASE!I523","v":"8.105.220"}]
[{"$f":"[1]BASE!A524","v":""},{"$f":"[1]BASE!B524","v":0},{"$f":"[1]BASE!C524","v":0},{"$f":"[1]BASE!D524","v":0},{"$f":"[1]BASE!E524","v":0},{"$f":"[1]BASE!F524","v":" "},{"$f":"[1]BASE!G524","v":" "},{"$f":"[1]BASE!H524","v":0},{"$f":"[1]BASE!I524","v":{"$error":"#N/A"}}]
[{"$f":"[1]BASE!A525","v":""},{"$f":"[1]BASE!B525","v":0},{"$f":"[1]BASE!C525","v":0},{"$f":"[1]BASE!D525","v":0},{"$f":"[1]BASE!E525","v":0},{"$f":"[1]BASE!F525","v":" "},{"$f":"[1]BASE!G525","v":" "},{"$f":"[1]BASE!H525","v":0},{"$f":"[1]BASE!I525","v":{"$error":"#N/A"}}]
[{"$f":"[1]BASE!A526","v":""},{"$f":"[1]BASE!B526","v":0},{"$f":"[1]BASE!C526","v":0},{"$f":"[1]BASE!D526","v":0},{"$f":"[1]BASE!E526","v":0},{"$f":"[1]BASE!F526","v":" "},{"$f":"[1]BASE!G526","v":" "},{"$f":"[1]BASE!H526","v":0},{"$f":"[1]BASE!I526","v":{"$error":"#N/A"}}]
[{"$f":"[1]BASE!A527","v":""},{"$f":"[1]BASE!B527","v":0},{"$f":"[1]BASE!C527","v":0},{"$f":"[1]BASE!D527","v":0},{"$f":"[1]BASE!E527","v":0},{"$f":"[1]BASE!F527","v":" "},{"$f":"[1]BASE!G527","v":" "},{"$f":"[1]BASE!H527","v":0},{"$f":"[1]BASE!I527","v":{"$error":"#N/A"}}]
[{"$f":"[1]BASE!A528","v":""},{"$f":"[1]BASE!B528","v":0},{"$f":"[1]BASE!C528","v":0},{"$f":"[1]BASE!D528","v":0},{"$f":"[1]BASE!E528","v":0},{"$f":"[1]BASE!F528","v":" "},{"$f":"[1]BASE!G528","v":" "},{"$f":"[1]BASE!H528","v":0},{"$f":"[1]BASE!I528","v":{"$error":"#N/A"}}]
[{"$f":"[1]BASE!A529","v":""},{"$f":"[1]BASE!B529","v":0},{"$f":"[1]BASE!C529","v":0},{"$f":"[1]BASE!D529","v":0},{"$f":"[1]BASE!E529","v":0},{"$f":"[1]BASE!F529","v":" "},{"$f":"[1]BASE!G529","v":" "},{"$f":"[1]BASE!H529","v":0},{"$f":"[1]BASE!I529","v":{"$error":"#N/A"}}]
[{"$f":"[1]BASE!A530","v":""},{"$f":"[1]BASE!B530","v":0},{"$f":"[1]BASE!C530","v":0},{"$f":"[1]BASE!D530","v":0},{"$f":"[1]BASE!E530","v":0},{"$f":"[1]BASE!F530","v":" "},{"$f":"[1]BASE!G530","v":" "},{"$f":"[1]BASE!H530","v":0},{"$f":"[1]BASE!I530","v":{"$error":"#N/A"}}]
[{"$f":"[1]BASE!A531","v":""},{"$f":"[1]BASE!B531","v":0},{"$f":"[1]BASE!C531","v":0},{"$f":"[1]BASE!D531","v":0},{"$f":"[1]BASE!E531","v":0},{"$f":"[1]BASE!F531","v":" "},{"$f":"[1]BASE!G531","v":" "},{"$f":"[1]BASE!H531","v":0},{"$f":"[1]BASE!I531","v":{"$error":"#N/A"}}]
[{"$f":"[1]BASE!A532","v":""},{"$f":"[1]BASE!B532","v":0},{"$f":"[1]BASE!C532","v":0},{"$f":"[1]BASE!D532","v":0},{"$f":"[1]BASE!E532","v":0},{"$f":"[1]BASE!F532","v":" "},{"$f":"[1]BASE!G532","v":" "},{"$f":"[1]BASE!H532","v":0},{"$f":"[1]BASE!I532","v":{"$error":"#N/A"}}]
[{"$f":"[1]BASE!A533","v":""},{"$f":"[1]BASE!B533","v":0},{"$f":"[1]BASE!C533","v":0},{"$f":"[1]BASE!D533","v":0},{"$f":"[1]BASE!E533","v":0},{"$f":"[1]BASE!F533","v":" "},{"$f":"[1]BASE!G533","v":" "},{"$f":"[1]BASE!H533","v":0},{"$f":"[1]BASE!I533","v":{"$error":"#N/A"}}]
[{"$f":"[1]BASE!A534","v":""},{"$f":"[1]BASE!B534","v":0},{"$f":"[1]BASE!C534","v":0},{"$f":"[1]BASE!D534","v":0},{"$f":"[1]BASE!E534","v":0},{"$f":"[1]BASE!F534","v":" "},{"$f":"[1]BASE!G534","v":" "},{"$f":"[1]BASE!H534","v":0},{"$f":"[1]BASE!I534","v":{"$error":"#N/A"}}]
[{"$f":"[1]BASE!A535","v":""},{"$f":"[1]BASE!B535","v":0},{"$f":"[1]BASE!C535","v":0},{"$f":"[1]BASE!D535","v":0},{"$f":"[1]BASE!E535","v":0},{"$f":"[1]BASE!F535","v":" "},{"$f":"[1]BASE!G535","v":" "},{"$f":"[1]BASE!H535","v":0},{"$f":"[1]BASE!I535","v":{"$error":"#N/A"}}]

{"sheet":"DETALHEIDADE","index":4,"n_rows":55,"n_cols":25,"rows_kept":55,"merged":[[1,3,3,24]]}
[]
[{"$nulls":3},"DETALHAMENTO IDADE - EXERCÍCIO MME"]
{"$rows_empty":45}
[{"$nulls":23},{"$f":"SUM(X24:X44)","v":0}]
[]
[]
[]
[]
[]
[]
[{"$nulls":24},{"$f":"X48/X45","v":{"$error":"#DIV/0!"}}]

{"sheet":"PQPEXMMEDET","index":5,"n_rows":176,"n_cols":16,"rows_kept":176,"merged":[[0,0,0,15],[3,0,9,0],[3,11,9,11],[3,15,9,15],[10,0,13,0],[10,11,13,11],[10,15,13,15],[18,0,23,0],[18,11,23,11],[18,15,23,15],[43,0,46,0],[43,11,46,11],[43,15,46,15],[50,0,75,0],[50,11,75,11],[50,15,75,15],[51,1,51,10],[51,12,51,14],[55,1,55,10],[55,12,55,14],[57,1,57,10],[57,12,57,14],[62,1,62,10],[62,12,62,14],[67,1,67,10],[67,12,67,14],[79,0,99,0],[79,11,99,11],[79,15,99,15],[80,1,80,10],[80,12,80,14],[86,1,86,10],[86,12,86,14],[91,1,91,10],[91,12,91,14],[95,1,95,10],[95,12,95,14],[103,0,121,0],[103,11,121,11],[103,15,121,15],[104,1,104,10],[104,12,104,14],[110,1,110,10],[110,12,110,14],[117,1,117,10],[117,12,117,14],[125,0,146,0],[125,11,146,11],[125,15,146,15],[126,1,126,10],[126,12,126,14],[132,1,132,10],[132,12,132,14],[138,1,138,10],[138,12,138,14],[143,1,143,10],[143,12,143,14],[150,0,170,0],[150,11,170,11],[150,15,170,15],[151,1,151,10],[151,12,151,14],[156,1,156,10],[156,12,156,14],[161,1,161,10],[161,12,161,14],[166,1,166,10],[166,12,166,14]]}
["QUADRO DETALHADO DE PESSOAL ATIVO EM EXERCÍCIO NO MME"]
[]
[{"$f":"[1]ATIVO!A4","v":"Área"},{"$f":"[1]ATIVO!B4","v":"MINISTÉRIO DE MINAS E ENERGIA"},{"$f":"[1]ATIVO!C4","v":"Natureza Especial"},{"$f":"[1]ATIVO!D4","v":"Ativo Permanente"},{"$f":"[1]ATIVO!E4","v":"Requisitado Órgãos"},{"$f":"[1]ATIVO!F4","v":"Requisitado Empresas"},{"$f":"[1]ATIVO!G4","v":"Sem Vínculo"},{"$f":"[1]ATIVO!H4","v":"Exercício Descentralizado"},{"$f":"[1]ATIVO!I4","v":"Contrato Temporário"},{"$f":"[1]ATIVO!J4","v":"Anistiado"},{"$f":"[1]ATIVO!K4","v":"Total"},{"$f":"[1]ATIVO!L4","v":"Total Área"},{"$f":"[1]ATIVO!M4","v":"Sexo Feminino"},{"$f":"[1]ATIVO!N4","v":"Sexo Masculino"},{"$f":"[1]ATIVO!O4","v":"Total"},{"$f":"[1]ATIVO!P4","v":"Total Área"}]
[{"$f":"[1]ATIVO!A5","v":"MEIO"},{"$f":"[1]ATIVO!B5","v":"Gabinete do Ministro"},{"$f":"[1]ATIVO!C5","v":1},{"$f":"[1]ATIVO!D5","v":19},{"$f":"[1]ATIVO!E5","v":13},{"$f":"[1]ATIVO!F5","v":0},{"$f":"[1]ATIVO!G5","v":24},{"$f":"[1]ATIVO!H5","v":0},{"$f":"[1]ATIVO!I5","v":0},{"$f":"[1]ATIVO!J5","v":2},{"$f":"[1]ATIVO!K5","v":59},{"$f":"[1]ATIVO!L5","v":322},{"$f":"[1]ATIVO!M5","v":25},{"$f":"[1]ATIVO!N5","v":34},{"$f":"[1]ATIVO!O5","v":59},{"$f":"[1]ATIVO!P5","v":322}]
[null,{"$f":"[1]ATIVO!B6","v":"Assessoria Econômica"},{"$f":"[1]ATIVO!C6","v":0},{"$f":"[1]ATIVO!D6","v":1},{"$f":"[1]ATIVO!E6","v":6},{"$f":"[1]ATIVO!F6","v":0},{"$f":"[1]ATIVO!G6","v":1},{"$f":"[1]ATIVO!H6","v":0},{"$f":"[1]ATIVO!I6","v":0},{"$f":"[1]ATIVO!J6","v":0},{"$f":"[1]ATIVO!K6","v":8},null,{"$f":"[1]ATIVO!M6","v":5},{"$f":"[1]ATIVO!N6","v":3},{"$f":"[1]ATIVO!O6","v":8}]
[null,{"$f":"[1]ATIVO!B7","v":"Assessoria Especial de Relações Internacionais"},{"$f":"[1]ATIVO!C7","v":0},{"$f":"[1]ATIVO!D7","v":1},{"$f":"[1]ATIVO!E7","v":1},{"$f":"[1]ATIVO!F7","v":0},{"$f":"[1]ATIVO!G7","v":2},{"$f":"[1]ATIVO!H7","v":0},{"$f":"[1]ATIVO!I7","v":0},{"$f":"[1]ATIVO!J7","v":0},{"$f":"[1]ATIVO!K7","v":4},null,{"$f":"[1]ATIVO!M7","v":1},{"$f":"[1]ATIVO!N7","v":3},{"$f":"[1]ATIVO!O7","v":4}]
[null,{"$f":"[1]ATIVO!B8","v":"Assessoria Especial de Controle Interno"},{"$f":"[1]ATIVO!C8","v":0},{"$f":"[1]ATIVO!D8","v":1},{"$f":"[1]ATIVO!E8","v":1},{"$f":"[1]ATIVO!F8","v":0},{"$f":"[1]ATIVO!G8","v":2},{"$f":"[1]ATIVO!H8","v":0},{"$f":"[1]ATIVO!I8","v":0},{"$f":"[1]ATIVO!J8","v":0},{"$f":"[1]ATIVO!K8","v":4},null,{"$f":"[1]ATIVO!M8","v":3},{"$f":"[1]ATIVO!N8","v":1},{"$f":"[1]ATIVO!O8","v":4}]
[null,{"$f":"[1]ATIVO!B9","v":"Assessoria Especial de Acompanhamento de Políticas, Estratégias e Desempenho Setoriais"},{"$f":"[1]ATIVO!C9","v":0},{"$f":"[1]ATIVO!D9","v":1},{"$f":"[1]ATIVO!E9","v":0},{"$f":"[1]ATIVO!F9","v":0},{"$f":"[1]ATIVO!G9","v":4},{"$f":"[1]ATIVO!H9","v":0},{"$f":"[1]ATIVO!I9","v":0},{"$f":"[1]ATIVO!J9","v":0},{"$f":"[1]ATIVO!K9","v":5},null,{"$f":"[1]ATIVO!M9","v":0},{"$f":"[1]ATIVO!N9","v":5},{"$f":"[1]ATIVO!O9","v":5}]
[null,{"$f":"[1]ATIVO!B10","v":"Consultoria Jurídica"},{"$f":"[1]ATIVO!C10","v":0},{"$f":"[1]ATIVO!D10","v":3},{"$f":"[1]ATIVO!E10","v":0},{"$f":"[1]ATIVO!F10","v":0},{"$f":"[1]ATIVO!G10","v":7},{"$f":"[1]ATIVO!H10","v":11},{"$f":"[1]ATIVO!I10","v":0},{"$f":"[1]ATIVO!J10","v":0},{"$f":"[1]ATIVO!K10","v":21},null,{"$f":"[1]ATIVO!M10","v":8},{"$f":"[1]ATIVO!N10","v":13},{"$f":"[1]ATIVO!O10","v":21}]
[null,{"$f":"[1]ATIVO!B11","v":"Secretaria Executiva"},{"$f":"[1]ATIVO!C11","v":1},{"$f":"[1]ATIVO!D11","v":90},{"$f":"[1]ATIVO!E11","v":28},{"$f":"[1]ATIVO!F11","v":1},{"$f":"[1]ATIVO!G11","v":29},{"$f":"[1]ATIVO!H11","v":19},{"$f":"[1]ATIVO!I11","v":3},{"$f":"[1]ATIVO!J11","v":50},{"$f":"[1]ATIVO!K11","v":221},null,{"$f":"[1]ATIVO!M11","v":107},{"$f":"[1]ATIVO!N11","v":114},{"$f":"[1]ATIVO!O11","v":221}]
[{"$f":"[1]ATIVO!A12","v":"FINALISTICA"},{"$f":"[1]ATIVO!B12","v":"Secretaria de Geologia, Mineração e Transformação Mineral"},{"$f":"[1]ATIVO!C12","v":0},{"$f":"[1]ATIVO!D12","v":5},{"$f":"[1]ATIVO!E12","v":3},{"$f":"[1]ATIVO!F12","v":0},{"$f":"[1]ATIVO!G12","v":18},{"$f":"[1]ATIVO!H12","v":8},{"$f":"[1]ATIVO!I12","v":0},{"$f":"[1]ATIVO!J12","v":5},{"$f":"[1]ATIVO!K12","v":39},{"$f":"[1]ATIVO!L12","v":168},{"$f":"[1]ATIVO!M12","v":19},{"$f":"[1]ATIVO!N12","v":20},{"$f":"[1]ATIVO!O12","v":39},{"$f":"[1]ATIVO!P12","v":168}]
[null,{"$f":"[1]ATIVO!B13","v":"Secretaria de Planejamento e Desenvolvimento Energético"},{"$f":"[1]ATIVO!C13","v":0},{"$f":"[1]ATIVO!D13","v":7},{"$f":"[1]ATIVO!E13","v":7},{"$f":"[1]ATIVO!F13","v":0},{"$f":"[1]ATIVO!G13","v":12},{"$f":"[1]ATIVO!H13","v":15},{"$f":"[1]ATIVO!I13","v":0},{"$f":"[1]ATIVO!J13","v":4},{"$f":"[1]ATIVO!K13","v":45},null,{"$f":"[1]ATIVO!M13","v":19},{"$f":"[1]ATIVO!N13","v":26},{"$f":"[1]ATIVO!O13","v":45}]
[null,{"$f":"[1]ATIVO!B14","v":"Secretaria de Petróleo, Gás Natural e Biocombustíveis"},{"$f":"[1]ATIVO!C14","v":0},{"$f":"[1]ATIVO!D14","v":2},{"$f":"[1]ATIVO!E14","v":9},{"$f":"[1]ATIVO!F14","v":0},{"$f":"[1]ATIVO!G14","v":5},{"$f":"[1]ATIVO!H14","v":16},{"$f":"[1]ATIVO!I14","v":0},{"$f":"[1]ATIVO!J14","v":0},{"$f":"[1]ATIVO!K14","v":32},null,{"$f":"[1]ATIVO!M14","v":9},{"$f":"[1]ATIVO!N14","v":23},{"$f":"[1]ATIVO!O14","v":32}]
[null,{"$f":"[1]ATIVO!B15","v":"Secretaria de Energia Elétrica"},{"$f":"[1]ATIVO!C15","v":0},{"$f":"[1]ATIVO!D15","v":2},{"$f":"[1]ATIVO!E15","v":3},{"$f":"[1]ATIVO!F15","v":4},{"$f":"[1]ATIVO!G15","v":15},{"$f":"[1]ATIVO!H15","v":19},{"$f":"[1]ATIVO!I15","v":0},{"$f":"[1]ATIVO!J15","v":9},{"$f":"[1]ATIVO!K15","v":52},null,{"$f":"[1]ATIVO!M15","v":18},{"$f":"[1]ATIVO!N15","v":34},{"$f":"[1]ATIVO!O15","v":52}]
[null,{"$f":"[1]ATIVO!B16","v":"TOTAL"},{"$f":"[1]ATIVO!C16","v":2},{"$f":"[1]ATIVO!D16","v":132},{"$f":"[1]ATIVO!E16","v":71},{"$f":"[1]ATIVO!F16","v":5},{"$f":"[1]ATIVO!G16","v":119},{"$f":"[1]ATIVO!H16","v":88},{"$f":"[1]ATIVO!I16","v":3},{"$f":"[1]ATIVO!J16","v":70},{"$f":"[1]ATIVO!K16","v":490},{"$f":"[1]ATIVO!L16","v":490},{"$f":"[1]ATIVO!M16","v":214},{"$f":"[1]ATIVO!N16","v":276},{"$f":"[1]ATIVO!O16","v":490},{"$f":"[1]ATIVO!P16","v":490}]
[null,{"$f":"[1]ATIVO!B17","v":"Aguardando Exercício"},{"$f":"[1]ATIVO!C17","v":0},{"$f":"[1]ATIVO!D17","v":5},{"$f":"[1]ATIVO!E17","v":0},{"$f":"[1]ATIVO!F17","v":0},{"$f":"[1]ATIVO!G17","v":0},{"$f":"[1]ATIVO!H17","v":0},{"$f":"[1]ATIVO!I17","v":0},{"$f":"[1]ATIVO!J17","v":22},{"$f":"[1]ATIVO!K17","v":27},{"$f":"[1]ATIVO!L17","v":517},{"$f":"[1]ATIVO!M17","v":10},{"$f":"[1]ATIVO!N17","v":17},{"$f":"[1]ATIVO!O17","v":27},{"$f":"[1]ATIVO!P17","v":517}]
[]
[{"$f":"[1]ATIVO!A19","v":"Área"},{"$f":"[1]ATIVO!B19","v":"GABINETE DO MINISTRO"},{"$f":"[1]ATIVO!C19","v":"Natureza Especial"},{"$f":"[1]ATIVO!D19","v":"Ativo Permanente"},{"$f":"[1]ATIVO!E19","v":"Requisitado Órgãos"},{"$f":"[1]ATIVO!F19","v":"Requisitado Empresas"},{"$f":"[1]ATIVO!G19","v":"Sem Vínculo"},{"$f":"[1]ATIVO!H19","v":"Exercício Descentralizado"},{"$f":"[1]ATIVO!I19","v":"Contrato Temporário"},{"$f":"[1]ATIVO!J19","v":"Anistiado"},{"$f":"[1]ATIVO!K19","v":"Total"},{"$f":"[1]ATIVO!L19","v":"Total Área"},{"$f":"[1]ATIVO!M19","v":"Sexo Feminino"},{"$f":"[1]ATIVO!N19","v":"Sexo Masculino"},{"$f":"[1]ATIVO!O19","v":"Total"},{"$f":"[1]ATIVO!P19","v":"Total Área"}]
[{"$f":"[1]ATIVO!A22","v":"MEIO"},{"$f":"[1]ATIVO!B20","v":"          Chefia de Gabinete"},{"$f":"[1]ATIVO!C20","v":1},{"$f":"[1]ATIVO!D20","v":0},{"$f":"[1]ATIVO!E20","v":9},{"$f":"[1]ATIVO!F20","v":0},{"$f":"[1]ATIVO!G20","v":3},{"$f":"[1]ATIVO!H20","v":0},{"$f":"[1]ATIVO!I20","v":0},{"$f":"[1]ATIVO!J20","v":0},{"$f":"[1]ATIVO!K20","v":13},{"$f":"[1]ATIVO!L20","v":59},{"$f":"[1]ATIVO!M20","v":5},{"$f":"[1]ATIVO!N20","v":8},{"$f":"[1]ATIVO!O20","v":13},{"$f":"[1]ATIVO!P20","v":59}]
[null,{"$f":"[1]ATIVO!B21","v":"          Assessoria Técnica Administrativa"},{"$f":"[1]ATIVO!C21","v":0},{"$f":"[1]ATIVO!D21","v":16},{"$f":"[1]ATIVO!E21","v":0},{"$f":"[1]ATIVO!F21","v":0},{"$f":"[1]ATIVO!G21","v":3},{"$f":"[1]ATIVO!H21","v":0},{"$f":"[1]ATIVO!I21","v":0},{"$f":"[1]ATIVO!J21","v":1},{"$f":"[1]ATIVO!K21","v":20},null,{"$f":"[1]ATIVO!M21","v":3},{"$f":"[1]ATIVO!N21","v":17},{"$f":"[1]ATIVO!O21","v":20}]
[null,{"$f":"[1]ATIVO!B22","v":"          Assessoria Parlamentar"},{"$f":"[1]ATIVO!C22","v":0},{"$f":"[1]ATIVO!D22","v":0},{"$f":"[1]ATIVO!E22","v":0},{"$f":"[1]ATIVO!F22","v":0},{"$f":"[1]ATIVO!G22","v":8},{"$f":"[1]ATIVO!H22","v":0},{"$f":"[1]ATIVO!I22","v":0},{"$f":"[1]ATIVO!J22","v":0},{"$f":"[1]ATIVO!K22","v":8},null,{"$f":"[1]ATIVO!M22","v":6},{"$f":"[1]ATIVO!N22","v":2},{"$f":"[1]ATIVO!O22","v":8}]
[null,{"$f":"[1]ATIVO!B23","v":"          Assessoria de Comunicação Social"},{"$f":"[1]ATIVO!C23","v":0},{"$f":"[1]ATIVO!D23","v":1},{"$f":"[1]ATIVO!E23","v":1},{"$f":"[1]ATIVO!F23","v":0},{"$f":"[1]ATIVO!G23","v":6},{"$f":"[1]ATIVO!H23","v":0},{"$f":"[1]ATIVO!I23","v":0},{"$f":"[1]ATIVO!J23","v":1},{"$f":"[1]ATIVO!K23","v":9},null,{"$f":"[1]ATIVO!M23","v":4},{"$f":"[1]ATIVO!N23","v":5},{"$f":"[1]ATIVO!O23","v":9}]
[null,{"$f":"[1]ATIVO!B24","v":"          Ouvidoria-Geral"},{"$f":"[1]ATIVO!C24","v":0},{"$f":"[1]ATIVO!D24","v":2},{"$f":"[1]ATIVO!E24","v":1},{"$f":"[1]ATIVO!F24","v":0},{"$f":"[1]ATIVO!G24","v":1},{"$f":"[1]ATIVO!H24","v":0},{"$f":"[1]ATIVO!I24","v":0},{"$f":"[1]ATIVO!J24","v":0},{"$f":"[1]ATIVO!K24","v":4},null,{"$f":"[1]ATIVO!M24","v":2},{"$f":"[1]ATIVO!N24","v":2},{"$f":"[1]ATIVO!O24","v":4}]
[null,{"$f":"[1]ATIVO!B25","v":"          Assessoria de Apoio ao Ministro"},{"$f":"[1]ATIVO!C25","v":0},{"$f":"[1]ATIVO!D25","v":0},{"$f":"[1]ATIVO!E25","v":2},{"$f":"[1]ATIVO!F25","v":0},{"$f":"[1]ATIVO!G25","v":3},{"$f":"[1]ATIVO!H25","v":0},{"$f":"[1]ATIVO!I25","v":0},{"$f":"[1]ATIVO!J25","v":0},{"$f":"[1]ATIVO!K25","v":5},null,{"$f":"[1]ATIVO!M25","v":5},{"$f":"[1]ATIVO!N25","v":0},{"$f":"[1]ATIVO!O25","v":5}]
[null,{"$f":"[1]ATIVO!B26","v":"TOTAL"},{"$f":"[1]ATIVO!C26","v":1},{"$f":"[1]ATIVO!D26","v":19},{"$f":"[1]ATIVO!E26","v":13},{"$f":"[1]ATIVO!F26","v":0},{"$f":"[1]ATIVO!G26","v":24},{"$f":"[1]ATIVO!H26","v":0},{"$f":"[1]ATIVO!I26","v":0},{"$f":"[1]ATIVO!J26","v":2},{"$f":"[1]ATIVO!K26","v":59},{"$f":"[1]ATIVO!L26","v":59},{"$f":"[1]ATIVO!M26","v":25},{"$f":"[1]ATIVO!N26","v":34},{"$f":"[1]ATIVO!O26","v":59},{"$f":"[1]ATIVO!P26","v":59}]
[]
[{"$f":"[1]ATIVO!A28","v":"Área"},{"$f":"[1]ATIVO!B28","v":"ASSESSORIA ESPECIAL DE RELAÇÕES INTERNACIONAIS"},{"$f":"[1]ATIVO!C28","v":"Natureza Especial"},{"$f":"[1]ATIVO!D28","v":"Ativo Permanente"},{"$f":"[1]ATIVO!E28","v":"Requisitado Órgãos"},{"$f":"[1]ATIVO!F28","v":"Requisitado Empresas"},{"$f":"[1]ATIVO!G28","v":"Sem Vínculo"},{"$f":"[1]ATIVO!H28","v":"Exercício Descentralizado"},{"$f":"[1]ATIVO!I28","v":"Contrato Temporário"},{"$f":"[1]ATIVO!J28","v":"Anistiado"},{"$f":"[1]ATIVO!K28","v":"Total"},{"$f":"[1]ATIVO!L28","v":"Total Área"},{"$f":"[1]ATIVO!M28","v":"Sexo Feminino"},{"$f":"[1]ATIVO!N28","v":"Sexo Masculino"},{"$f":"[1]ATIVO!O28","v":"Total"},{"$f":"[1]ATIVO!P28","v":"Total Área"}]
[{"$f":"[1]ATIVO!A29","v":"MEIO"},{"$f":"[1]ATIVO!B29","v":"          Assessoria Especial de Relações Internacionais"},{"$f":"[1]ATIVO!C29","v":0},{"$f":"[1]ATIVO!D29","v":1},{"$f":"[1]ATIVO!E29","v":1},{"$f":"[1]ATIVO!F29","v":0},{"$f":"[1]ATIVO!G29","v":2},{"$f":"[1]ATIVO!H29","v":0},{"$f":"[1]ATIVO!I29","v":0},{"$f":"[1]ATIVO!J29","v":0},{"$f":"[1]ATIVO!K29","v":4},{"$f":"[1]ATIVO!L29","v":4},{"$f":"[1]ATIVO!M29","v":1},{"$f":"[1]ATIVO!N29","v":3},{"$f":"[1]ATIVO!O29","v":4},{"$f":"[1]ATIVO!P29","v":4}]
[null,{"$f":"[1]ATIVO!B30","v":"TOTAL"},{"$f":"[1]ATIVO!C30","v":0},{"$f":"[1]ATIVO!D30","v":1},{"$f":"[1]ATIVO!E30","v":1},{"$f":"[1]ATIVO!F30","v":0},{"$f":"[1]ATIVO!G30","v":2},{"$f":"[1]ATIVO!H30","v":0},{"$f":"[1]ATIVO!I30","v":0},{"$f":"[1]ATIVO!J30","v":0},{"$f":"[1]ATIVO!K30","v":4},{"$f":"[1]ATIVO!L30","v":4},{"$f":"[1]ATIVO!M30","v":1},{"$f":"[1]ATIVO!N30","v":3},{"$f":"[1]ATIVO!O30","v":4},{"$f":"[1]ATIVO!P30","v":4}]
[]
[{"$f":"[1]ATIVO!A32","v":"Área"},{"$f":"[1]ATIVO!B32","v":"ASSESSORIA ESPECIAL DE ACOMPANHAMENTO DE POLÍTICAS, ESTRATÉGIAS E DESEMPENHO SETORIAIS"},{"$f":"[1]ATIVO!C32","v":"Natureza Especial"},{"$f":"[1]ATIVO!D32","v":"Ativo Permanente"},{"$f":"[1]ATIVO!E32","v":"Requisitado Órgãos"},{"$f":"[1]ATIVO!F32","v":"Requisitado Empresas"},{"$f":"[1]ATIVO!G32","v":"Sem Vínculo"},{"$f":"[1]ATIVO!H32","v":"Exercício Descentralizado"},{"$f":"[1]ATIVO!I32","v":"Contrato Temporário"},{"$f":"[1]ATIVO!J32","v":"Anistiado"},{"$f":"[1]ATIVO!K32","v":"Total"},{"$f":"[1]ATIVO!L32","v":"Total Área"},{"$f":"[1]ATIVO!M32","v":"Sexo Feminino"},{"$f":"[1]ATIVO!N32","v":"Sexo Masculino"},{"$f":"[1]ATIVO!O32","v":"Total"},{"$f":"[1]ATIVO!P32","v":"Total Área"}]
[{"$f":"[1]ATIVO!A33","v":"MEIO"},{"$f":"[1]ATIVO!B33","v":"Assessoria Especial de Acompanhamento de Políticas, Estratégias e Desempenho Setoriais"},{"$f":"[1]ATIVO!C33","v":0},{"$f":"[1]ATIVO!D33","v":1},{"$f":"[1]ATIVO!E33","v":0},{"$f":"[1]ATIVO!F33","v":0},{"$f":"[1]ATIVO!G33","v":4},{"$f":"[1]ATIVO!H33","v":0},{"$f":"[1]ATIVO!I33","v":0},{"$f":"[1]ATIVO!J33","v":0},{"$f":"[1]ATIVO!K33","v":5},{"$f":"[1]ATIVO!L33","v":5},{"$f":"[1]ATIVO!M33","v":0},{"$f":"[1]ATIVO!N33","v":5},{"$f":"[1]ATIVO!O33","v":5},{"$f":"[1]ATIVO!P33","v":5}]
[null,{"$f":"[1]ATIVO!B34","v":"TOTAL"},{"$f":"[1]ATIVO!C34","v":0},{"$f":"[1]ATIVO!D34","v":1},{"$f":"[1]ATIVO!E34","v":0},{"$f":"[1]ATIVO!F34","v":0},{"$f":"[1]ATIVO!G34","v":4},{"$f":"[1]ATIVO!H34","v":0},{"$f":"[1]ATIVO!I34","v":0},{"$f":"[1]ATIVO!J34","v":0},{"$f":"[1]ATIVO!K34","v":5},{"$f":"[1]ATIVO!L34","v":5},{"$f":"[1]ATIVO!M34","v":0},{"$f":"[1]ATIVO!N34","v":5},{"$f":"[1]ATIVO!O34","v":5},{"$f":"[1]ATIVO!P34","v":5}]
[]
[{"$f":"[1]ATIVO!A36","v":"Área"},{"$f":"[1]ATIVO!B36","v":"ASSESSORIA ESPECIAL DE CONTROLE INTERNO"},{"$f":"[1]ATIVO!C36","v":"Natureza Especial"},{"$f":"[1]ATIVO!D36","v":"Ativo Permanente"},{"$f":"[1]ATIVO!E36","v":"Requisitado Órgãos"},{"$f":"[1]ATIVO!F36","v":"Requisitado Empresas"},{"$f":"[1]ATIVO!G36","v":"Sem Vínculo"},{"$f":"[1]ATIVO!H36","v":"Exercício Descentralizado"},{"$f":"[1]ATIVO!I36","v":"Contrato Temporário"},{"$f":"[1]ATIVO!J36","v":"Anistiado"},{"$f":"[1]ATIVO!K36","v":"Total"},{"$f":"[1]ATIVO!L36","v":"Total Área"},{"$f":"[1]ATIVO!M36","v":"Sexo Feminino"},{"$f":"[1]ATIVO!N36","v":"Sexo Masculino"},{"$f":"[1]ATIVO!O36","v":"Total"},{"$f":"[1]ATIVO!P36","v":"Total Área"}]
[{"$f":"[1]ATIVO!A37","v":"MEIO"},{"$f":"[1]ATIVO!B37","v":"          Assessoria Especial de Controle Interno"},{"$f":"[1]ATIVO!C37","v":0},{"$f":"[1]ATIVO!D37","v":1},{"$f":"[1]ATIVO!E37","v":1},{"$f":"[1]ATIVO!F37","v":0},{"$f":"[1]ATIVO!G37","v":2},{"$f":"[1]ATIVO!H37","v":0},{"$f":"[1]ATIVO!I37","v":0},{"$f":"[1]ATIVO!J37","v":0},{"$f":"[1]ATIVO!K37","v":4},{"$f":"[1]ATIVO!L37","v":4},{"$f":"[1]ATIVO!M37","v":3},{"$f":"[1]ATIVO!N37","v":1},{"$f":"[1]ATIVO!O37","v":4},{"$f":"[1]ATIVO!P37","v":4}]
[null,{"$f":"[1]ATIVO!B38","v":"TOTAL"},{"$f":"[1]ATIVO!C38","v":0},{"$f":"[1]ATIVO!D38","v":1},{"$f":"[1]ATIVO!E38","v":1},{"$f":"[1]ATIVO!F38","v":0},{"$f":"[1]ATIVO!G38","v":2},{"$f":"[1]ATIVO!H38","v":0},{"$f":"[1]ATIVO!I38","v":0},{"$f":"[1]ATIVO!J38","v":0},{"$f":"[1]ATIVO!K38","v":4},{"$f":"[1]ATIVO!L38","v":4},{"$f":"[1]ATIVO!M38","v":3},{"$f":"[1]ATIVO!N38","v":1},{"$f":"[1]ATIVO!O38","v":4},{"$f":"[1]ATIVO!P38","v":4}]
[]
[{"$f":"[1]ATIVO!A40","v":"Área"},{"$f":"[1]ATIVO!B40","v":"ASSESSORIA ECONÔMICA"},{"$f":"[1]ATIVO!C40","v":"Natureza Especial"},{"$f":"[1]ATIVO!D40","v":"Ativo Permanente"},{"$f":"[1]ATIVO!E40","v":"Requisitado Órgãos"},{"$f":"[1]ATIVO!F40","v":"Requisitado Empresas"},{"$f":"[1]ATIVO!G40","v":"Sem Vínculo"},{"$f":"[1]ATIVO!H40","v":"Exercício Descentralizado"},{"$f":"[1]ATIVO!I40","v":"Contrato Temporário"},{"$f":"[1]ATIVO!J40","v":"Anistiado"},{"$f":"[1]ATIVO!K40","v":"Total"},{"$f":"[1]ATIVO!L40","v":"Total Área"},{"$f":"[1]ATIVO!M40","v":"Sexo Feminino"},{"$f":"[1]ATIVO!N40","v":"Sexo Masculino"},{"$f":"[1]ATIVO!O40","v":"Total"},{"$f":"[1]ATIVO!P40","v":"Total Área"}]
[{"$f":"[1]ATIVO!A41","v":"MEIO"},{"$f":"[1]ATIVO!B41","v":"          Assessoria Econômica"},{"$f":"[1]ATIVO!C41","v":0},{"$f":"[1]ATIVO!D41","v":1},{"$f":"[1]ATIVO!E41","v":6},{"$f":"[1]ATIVO!F41","v":0},{"$f":"[1]ATIVO!G41","v":1},{"$f":"[1]ATIVO!H41","v":0},{"$f":"[1]ATIVO!I41","v":0},{"$f":"[1]ATIVO!J41","v":0},{"$f":"[1]ATIVO!K41","v":8},{"$f":"[1]ATIVO!L41","v":8},{"$f":"[1]ATIVO!M41","v":5},{"$f":"[1]ATIVO!N41","v":3},{"$f":"[1]ATIVO!O41","v":8},{"$f":"[1]ATIVO!P41","v":8}]
[null,{"$f":"[1]ATIVO!B42","v":"TOTAL"},{"$f":"[1]ATIVO!C42","v":0},{"$f":"[1]ATIVO!D42","v":1},{"$f":"[1]ATIVO!E42","v":6},{"$f":"[1]ATIVO!F42","v":0},{"$f":"[1]ATIVO!G42","v":1},{"$f":"[1]ATIVO!H42","v":0},{"$f":"[1]ATIVO!I42","v":0},{"$f":"[1]ATIVO!J42","v":0},{"$f":"[1]ATIVO!K42","v":8},{"$f":"[1]ATIVO!L42","v":8},{"$f":"[1]ATIVO!M42","v":5},{"$f":"[1]ATIVO!N42","v":3},{"$f":"[1]ATIVO!O42","v":8},{"$f":"[1]ATIVO!P42","v":8}]
[]
[{"$f":"[1]ATIVO!A44","v":"Área"},{"$f":"[1]ATIVO!B44","v":"CONSULTORIA JURÍDICA"},{"$f":"[1]ATIVO!C44","v":"Natureza Especial"},{"$f":"[1]ATIVO!D44","v":"Ativo Permanente"},{"$f":"[1]ATIVO!E44","v":"Requisitado Órgãos"},{"$f":"[1]ATIVO!F44","v":"Requisitado Empresas"},{"$f":"[1]ATIVO!G44","v":"Sem Vínculo"},{"$f":"[1]ATIVO!H44","v":"Exercício Descentralizado"},{"$f":"[1]ATIVO!I44","v":"Contrato Temporário"},{"$f":"[1]ATIVO!J44","v":"Anistiado"},{"$f":"[1]ATIVO!K44","v":"Total"},{"$f":"[1]ATIVO!L44","v":"Total Área"},{"$f":"[1]ATIVO!M44","v":"Sexo Feminino"},{"$f":"[1]ATIVO!N44","v":"Sexo Masculino"},{"$f":"[1]ATIVO!O44","v":"Total"},{"$f":"[1]ATIVO!P44","v":"Total Área"}]
[{"$f":"[1]ATIVO!A45","v":"MEIO"},{"$f":"[1]ATIVO!B45","v":"          Gabinete da Consultoria Jurídica"},{"$f":"[1]ATIVO!C45","v":0},{"$f":"[1]ATIVO!D45","v":0},{"$f":"[1]ATIVO!E45","v":0},{"$f":"[1]ATIVO!F45","v":0},{"$f":"[1]ATIVO!G45","v":3},{"$f":"[1]ATIVO!H45","v":1},{"$f":"[1]ATIVO!I45","v":0},{"$f":"[1]ATIVO!J45","v":0},{"$f":"[1]ATIVO!K45","v":4},{"$f":"[1]ATIVO!L45","v":21},{"$f":"[1]ATIVO!M45","v":3},{"$f":"[1]ATIVO!N45","v":1},{"$f":"[1]ATIVO!O45","v":4},{"$f":"[1]ATIVO!P45","v":21}]
[null,{"$f":"[1]ATIVO!B46","v":"          Coordenação-Geral de Assuntos de Petróleo e Mineração"},{"$f":"[1]ATIVO!C46","v":0},{"$f":"[1]ATIVO!D46","v":0},{"$f":"[1]ATIVO!E46","v":0},{"$f":"[1]ATIVO!F46","v":0},{"$f":"[1]ATIVO!G46","v":0},{"$f":"[1]ATIVO!H46","v":3},{"$f":"[1]ATIVO!I46","v":0},{"$f":"[1]ATIVO!J46","v":0},{"$f":"[1]ATIVO!K46","v":3},null,{"$f":"[1]ATIVO!M46","v":0},{"$f":"[1]ATIVO!N46","v":3},{"$f":"[1]ATIVO!O46","v":3}]
[null,{"$f":"[1]ATIVO!B47","v":"          Coordenação-Geral de Assuntos de Energia"},{"$f":"[1]ATIVO!C47","v":0},{"$f":"[1]ATIVO!D47","v":0},{"$f":"[1]ATIVO!E47","v":0},{"$f":"[1]ATIVO!F47","v":0},{"$f":"[1]ATIVO!G47","v":0},{"$f":"[1]ATIVO!H47","v":3},{"$f":"[1]ATIVO!I47","v":0},{"$f":"[1]ATIVO!J47","v":0},{"$f":"[1]ATIVO!K47","v":3},null,{"$f":"[1]ATIVO!M47","v":1},{"$f":"[1]ATIVO!N47","v":2},{"$f":"[1]ATIVO!O47","v":3}]
[null,{"$f":"[1]ATIVO!B48","v":"          Coordenação-Geral de Assuntos Administrativos"},{"$f":"[1]ATIVO!C48","v":0},{"$f":"[1]ATIVO!D48","v":3},{"$f":"[1]ATIVO!E48","v":0},{"$f":"[1]ATIVO!F48","v":0},{"$f":"[1]ATIVO!G48","v":4},{"$f":"[1]ATIVO!H48","v":4},{"$f":"[1]ATIVO!I48","v":0},{"$f":"[1]ATIVO!J48","v":0},{"$f":"[1]ATIVO!K48","v":11},null,{"$f":"[1]ATIVO!M48","v":4},{"$f":"[1]ATIVO!N48","v":7},{"$f":"[1]ATIVO!O48","v":11}]
[null,{"$f":"[1]ATIVO!B49","v":"TOTAL"},{"$f":"[1]ATIVO!C49","v":0},{"$f":"[1]ATIVO!D49","v":3},{"$f":"[1]ATIVO!E49","v":0},{"$f":"[1]ATIVO!F49","v":0},{"$f":"[1]ATIVO!G49","v":7},{"$f":"[1]ATIVO!H49","v":11},{"$f":"[1]ATIVO!I49","v":0},{"$f":"[1]ATIVO!J49","v":0},{"$f":"[1]ATIVO!K49","v":21},{"$f":"[1]ATIVO!L49","v":21},{"$f":"[1]ATIVO!M49","v":8},{"$f":"[1]ATIVO!N49","v":13},{"$f":"[1]ATIVO!O49","v":21},{"$f":"[1]ATIVO!P49","v":21}]
[]
[{"$f":"[1]ATIVO!A51","v":"Área"},{"$f":"[1]ATIVO!B51","v":"SECRETARIA EXECUTIVA"},{"$f":"[1]ATIVO!C51","v":"Natureza Especial"},{"$f":"[1]ATIVO!D51","v":"Ativo Permanente"},{"$f":"[1]ATIVO!E51","v":"Requisitado Órgãos"},{"$f":"[1]ATIVO!F51","v":"Requisitado Empresas"},{"$f":"[1]ATIVO!G51","v":"Sem Vínculo"},{"$f":"[1]ATIVO!H51","v":"Exercício Descentralizado"},{"$f":"[1]ATIVO!I51","v":"Contrato Temporário"},{"$f":"[1]ATIVO!J51","v":"Anistiado"},{"$f":"[1]ATIVO!K51","v":"Total"},{"$f":"[1]ATIVO!L51","v":"Total Área"},{"$f":"[1]ATIVO!M51","v":"Sexo Feminino"},{"$f":"[1]ATIVO!N51","v":"Sexo Masculino"},{"$f":"[1]ATIVO!O51","v":"Total"},{"$f":"[1]ATIVO!P51","v":"Total Área"}]
[{"$f":"[1]ATIVO!A52","v":"MEIO"},{"$f":"[1]ATIVO!B52","v":"          Gabinete da Secretaria Executiva"},{"$f":"[1]ATIVO!C52","v":1},{"$f":"[1]ATIVO!D52","v":0},{"$f":"[1]ATIVO!E52","v":3},{"$f":"[1]ATIVO!F52","v":1},{"$f":"[1]ATIVO!G52","v":6},{"$f":"[1]ATIVO!H52","v":0},{"$f":"[1]ATIVO!I52","v":0},{"$f":"[1]ATIVO!J52","v":0},{"$f":"[1]ATIVO!K52","v":11},{"$f":"[1]ATIVO!L52","v":221},{"$f":"[1]ATIVO!M52","v":7},{"$f":"[1]ATIVO!N52","v":4},{"$f":"[1]ATIVO!O52","v":11},{"$f":"[1]ATIVO!P52","v":221}]
[]
[null,{"$f":"[1]ATIVO!B54","v":"          Assessoria Especial de Gestão Estratégica"},{"$f":"[1]ATIVO!C54","v":0},{"$f":"[1]ATIVO!D54","v":2},{"$f":"[1]ATIVO!E54","v":1},{"$f":"[1]ATIVO!F54","v":0},{"$f":"[1]ATIVO!G54","v":6},{"$f":"[1]ATIVO!H54","v":2},{"$f":"[1]ATIVO!I54","v":0},{"$f":"[1]ATIVO!J54","v":0},{"$f":"[1]ATIVO!K54","v":11},null,{"$f":"[1]ATIVO!M54","v":1},{"$f":"[1]ATIVO!N54","v":10},{"$f":"[1]ATIVO!O54","v":11}]
[null,{"$f":"[1]ATIVO!B55","v":"               Gabinete da Assessoria Especial de Gestão Estratégica"},{"$f":"[1]ATIVO!C55","v":0},{"$f":"[1]ATIVO!D55","v":0},{"$f":"[1]ATIVO!E55","v":1},{"$f":"[1]ATIVO!F55","v":0},{"$f":"[1]ATIVO!G55","v":4},{"$f":"[1]ATIVO!H55","v":0},{"$f":"[1]ATIVO!I55","v":0},{"$f":"[1]ATIVO!J55","v":0},{"$f":"[1]ATIVO!K55","v":5},null,{"$f":"[1]ATIVO!M55","v":1},{"$f":"[1]ATIVO!N55","v":4},{"$f":"[1]ATIVO!O55","v":5}]
[null,{"$f":"[1]ATIVO!B56","v":"               Coordenação-Geral de Planejamento Estratégico, Supervisão e Avaliação"},{"$f":"[1]ATIVO!C56","v":0},{"$f":"[1]ATIVO!D56","v":2},{"$f":"[1]ATIVO!E56","v":0},{"$f":"[1]ATIVO!F56","v":0},{"$f":"[1]ATIVO!G56","v":2},{"$f":"[1]ATIVO!H56","v":2},{"$f":"[1]ATIVO!I56","v":0},{"$f":"[1]ATIVO!J56","v":0},{"$f":"[1]ATIVO!K56","v":6},null,{"$f":"[1]ATIVO!M56","v":0},{"$f":"[1]ATIVO!N56","v":6},{"$f":"[1]ATIVO!O56","v":6}]
[]
[null,{"$f":"[1]ATIVO!B58","v":"          Assessoria Especial em Assuntos Regulatórios"},{"$f":"[1]ATIVO!C58","v":0},{"$f":"[1]ATIVO!D58","v":0},{"$f":"[1]ATIVO!E58","v":0},{"$f":"[1]ATIVO!F58","v":0},{"$f":"[1]ATIVO!G58","v":0},{"$f":"[1]ATIVO!H58","v":1},{"$f":"[1]ATIVO!I58","v":0},{"$f":"[1]ATIVO!J58","v":0},{"$f":"[1]ATIVO!K58","v":1},null,{"$f":"[1]ATIVO!M58","v":1},{"$f":"[1]ATIVO!N58","v":0},{"$f":"[1]ATIVO!O58","v":1}]
[]
[null,{"$f":"[1]ATIVO!B60","v":"          Assessoria Especial de Gestão de Projetos"},{"$f":"[1]ATIVO!C60","v":0},{"$f":"[1]ATIVO!D60","v":2},{"$f":"[1]ATIVO!E60","v":3},{"$f":"[1]ATIVO!F60","v":0},{"$f":"[1]ATIVO!G60","v":1},{"$f":"[1]ATIVO!H60","v":2},{"$f":"[1]ATIVO!I60","v":3},{"$f":"[1]ATIVO!J60","v":2},{"$f":"[1]ATIVO!K60","v":13},null,{"$f":"[1]ATIVO!M60","v":3},{"$f":"[1]ATIVO!N60","v":10},{"$f":"[1]ATIVO!O60","v":13}]
[null,{"$f":"[1]ATIVO!B61","v":"               Gabinete da Assessoria Especial de Gestão de Projetos"},{"$f":"[1]ATIVO!C61","v":0},{"$f":"[1]ATIVO!D61","v":0},{"$f":"[1]ATIVO!E61","v":1},{"$f":"[1]ATIVO!F61","v":0},{"$f":"[1]ATIVO!G61","v":0},{"$f":"[1]ATIVO!H61","v":0},{"$f":"[1]ATIVO!I61","v":0},{"$f":"[1]ATIVO!J61","v":0},{"$f":"[1]ATIVO!K61","v":1},null,{"$f":"[1]ATIVO!M61","v":0},{"$f":"[1]ATIVO!N61","v":1},{"$f":"[1]ATIVO!O61","v":1}]
[null,{"$f":"[1]ATIVO!B62","v":"               Coordenação-Geral de Planejamento, Finanças e Controle"},{"$f":"[1]ATIVO!C62","v":0},{"$f":"[1]ATIVO!D62","v":1},{"$f":"[1]ATIVO!E62","v":1},{"$f":"[1]ATIVO!F62","v":0},{"$f":"[1]ATIVO!G62","v":1},{"$f":"[1]ATIVO!H62","v":0},{"$f":"[1]ATIVO!I62","v":1},{"$f":"[1]ATIVO!J62","v":1},{"$f":"[1]ATIVO!K62","v":5},null,{"$f":"[1]ATIVO!M62","v":2},{"$f":"[1]ATIVO!N62","v":3},{"$f":"[1]ATIVO!O62","v":5}]
[null,{"$f":"[1]ATIVO!B63","v":"               Coordenação-Geral de Gestão de Projetos"},{"$f":"[1]ATIVO!C63","v":0},{"$f":"[1]ATIVO!D63","v":1},{"$f":"[1]ATIVO!E63","v":1},{"$f":"[1]ATIVO!F63","v":0},{"$f":"[1]ATIVO!G63","v":0},{"$f":"[1]ATIVO!H63","v":2},{"$f":"[1]ATIVO!I63","v":2},{"$f":"[1]ATIVO!J63","v":1},{"$f":"[1]ATIVO!K63","v":7},null,{"$f":"[1]ATIVO!M63","v":1},{"$f":"[1]ATIVO!N63","v":6},{"$f":"[1]ATIVO!O63","v":7}]
[]
[null,{"$f":"[1]ATIVO!B65","v":"          Assessoria Especial de Meio Ambiente"},{"$f":"[1]ATIVO!C65","v":0},{"$f":"[1]ATIVO!D65","v":0},{"$f":"[1]ATIVO!E65","v":1},{"$f":"[1]ATIVO!F65","v":0},{"$f":"[1]ATIVO!G65","v":2},{"$f":"[1]ATIVO!H65","v":3},{"$f":"[1]ATIVO!I65","v":0},{"$f":"[1]ATIVO!J65","v":1},{"$f":"[1]ATIVO!K65","v":7},null,{"$f":"[1]ATIVO!M65","v":5},{"$f":"[1]ATIVO!N65","v":2},{"$f":"[1]ATIVO!O65","v":7}]
[null,{"$f":"[1]ATIVO!B66","v":"               Gabinete da Assessoria Especial do Meio Ambiente"},{"$f":"[1]ATIVO!C66","v":0},{"$f":"[1]ATIVO!D66","v":0},{"$f":"[1]ATIVO!E66","v":1},{"$f":"[1]ATIVO!F66","v":0},{"$f":"[1]ATIVO!G66","v":1},{"$f":"[1]ATIVO!H66","v":1},{"$f":"[1]ATIVO!I66","v":0},{"$f":"[1]ATIVO!J66","v":1},{"$f":"[1]ATIVO!K66","v":4},null,{"$f":"[1]ATIVO!M66","v":2},{"$f":"[1]ATIVO!N66","v":2},{"$f":"[1]ATIVO!O66","v":4}]
[null,{"$f":"[1]ATIVO!B67","v":"               Coordenação-Geral de Avaliação Ambiental e Acompanhamento de Licenciamento"},{"$f":"[1]ATIVO!C67","v":0},{"$f":"[1]ATIVO!D67","v":0},{"$f":"[1]ATIVO!E67","v":0},{"$f":"[1]ATIVO!F67","v":0},{"$f":"[1]ATIVO!G67","v":1},{"$f":"[1]ATIVO!H67","v":0},{"$f":"[1]ATIVO!I67","v":0},{"$f":"[1]ATIVO!J67","v":0},{"$f":"[1]ATIVO!K67","v":1},null,{"$f":"[1]ATIVO!M67","v":1},{"$f":"[1]ATIVO!N67","v":0},{"$f":"[1]ATIVO!O67","v":1}]
[null,{"$f":"[1]ATIVO!B68","v":"               Coordenação-Geral de Articulação Institucional em Meio Ambiente"},{"$f":"[1]ATIVO!C68","v":0},{"$f":"[1]ATIVO!D68","v":0},{"$f":"[1]ATIVO!E68","v":0},{"$f":"[1]ATIVO!F68","v":0},{"$f":"[1]ATIVO!G68","v":0},{"$f":"[1]ATIVO!H68","v":2},{"$f":"[1]ATIVO!I68","v":0},{"$f":"[1]ATIVO!J68","v":0},{"$f":"[1]ATIVO!K68","v":2},null,{"$f":"[1]ATIVO!M68","v":2},{"$f":"[1]ATIVO!N68","v":0},{"$f":"[1]ATIVO!O68","v":2}]
[]
[null,{"$f":"[1]ATIVO!B70","v":"          Subsecretaria de Planejamento, Orçamento e Administração"},{"$f":"[1]ATIVO!C70","v":0},{"$f":"[1]ATIVO!D70","v":86},{"$f":"[1]ATIVO!E70","v":20},{"$f":"[1]ATIVO!F70","v":0},{"$f":"[1]ATIVO!G70","v":14},{"$f":"[1]ATIVO!H70","v":11},{"$f":"[1]ATIVO!I70","v":0},{"$f":"[1]ATIVO!J70","v":47},{"$f":"[1]ATIVO!K70","v":178},null,{"$f":"[1]ATIVO!M70","v":90},{"$f":"[1]ATIVO!N70","v":88},{"$f":"[1]ATIVO!O70","v":178}]
[null,{"$f":"[1]ATIVO!B71","v":"               Gabinete da Subsecretaria de Planejamento, Orçamento e Administração"},{"$f":"[1]ATIVO!C71","v":0},{"$f":"[1]ATIVO!D71","v":1},{"$f":"[1]ATIVO!E71","v":0},{"$f":"[1]ATIVO!F71","v":0},{"$f":"[1]ATIVO!G71","v":2},{"$f":"[1]ATIVO!H71","v":0},{"$f":"[1]ATIVO!I71","v":0},{"$f":"[1]ATIVO!J71","v":0},{"$f":"[1]ATIVO!K71","v":3},null,{"$f":"[1]ATIVO!M71","v":1},{"$f":"[1]ATIVO!N71","v":2},{"$f":"[1]ATIVO!O71","v":3}]
[null,{"$f":"[1]ATIVO!B72","v":"               Coordenação-Geral de Recursos Logísticos"},{"$f":"[1]ATIVO!C72","v":0},{"$f":"[1]ATIVO!D72","v":41},{"$f":"[1]ATIVO!E72","v":8},{"$f":"[1]ATIVO!F72","v":0},{"$f":"[1]ATIVO!G72","v":9},{"$f":"[1]ATIVO!H72","v":0},{"$f":"[1]ATIVO!I72","v":0},{"$f":"[1]ATIVO!J72","v":15},{"$f":"[1]ATIVO!K72","v":73},null,{"$f":"[1]ATIVO!M72","v":24},{"$f":"[1]ATIVO!N72","v":49},{"$f":"[1]ATIVO!O72","v":73}]
[null,{"$f":"[1]ATIVO!B73","v":"               Coordenação-Geral de Tecnologia da Informação"},{"$f":"[1]ATIVO!C73","v":0},{"$f":"[1]ATIVO!D73","v":6},{"$f":"[1]ATIVO!E73","v":2},{"$f":"[1]ATIVO!F73","v":0},{"$f":"[1]ATIVO!G73","v":1},{"$f":"[1]ATIVO!H73","v":3},{"$f":"[1]ATIVO!I73","v":0},{"$f":"[1]ATIVO!J73","v":2},{"$f":"[1]ATIVO!K73","v":14},null,{"$f":"[1]ATIVO!M73","v":3},{"$f":"[1]ATIVO!N73","v":11},{"$f":"[1]ATIVO!O73","v":14}]
[null,{"$f":"[1]ATIVO!B74","v":"               Coordenação-Geral de Compras e Contratos"},{"$f":"[1]ATIVO!C74","v":0},{"$f":"[1]ATIVO!D74","v":5},{"$f":"[1]ATIVO!E74","v":3},{"$f":"[1]ATIVO!F74","v":0},{"$f":"[1]ATIVO!G74","v":2},{"$f":"[1]ATIVO!H74","v":0},{"$f":"[1]ATIVO!I74","v":0},{"$f":"[1]ATIVO!J74","v":1},{"$f":"[1]ATIVO!K74","v":11},null,{"$f":"[1]ATIVO!M74","v":11},{"$f":"[1]ATIVO!N74","v":0},{"$f":"[1]ATIVO!O74","v":11}]
[null,{"$f":"[1]ATIVO!B75","v":"               Coordenação-Geral de Recursos Humanos"},{"$f":"[1]ATIVO!C75","v":0},{"$f":"[1]ATIVO!D75","v":25},{"$f":"[1]ATIVO!E75","v":5},{"$f":"[1]ATIVO!F75","v":0},{"$f":"[1]ATIVO!G75","v":0},{"$f":"[1]ATIVO!H75","v":0},{"$f":"[1]ATIVO!I75","v":0},{"$f":"[1]ATIVO!J75","v":29},{"$f":"[1]ATIVO!K75","v":59},null,{"$f":"[1]ATIVO!M75","v":44},{"$f":"[1]ATIVO!N75","v":15},{"$f":"[1]ATIVO!O75","v":59}]
[null,{"$f":"[1]ATIVO!B76","v":"               Coordenação-Geral de Orçamento e Finanças"},{"$f":"[1]ATIVO!C76","v":0},{"$f":"[1]ATIVO!D76","v":4},{"$f":"[1]ATIVO!E76","v":2},{"$f":"[1]ATIVO!F76","v":0},{"$f":"[1]ATIVO!G76","v":0},{"$f":"[1]ATIVO!H76","v":8},{"$f":"[1]ATIVO!I76","v":0},{"$f":"[1]ATIVO!J76","v":0},{"$f":"[1]ATIVO!K76","v":14},null,{"$f":"[1]ATIVO!M76","v":4},{"$f":"[1]ATIVO!N76","v":10},{"$f":"[1]ATIVO!O76","v":14}]
[null,{"$f":"[1]ATIVO!B77","v":"               Coordenação de Modernização Administrativa"},{"$f":"[1]ATIVO!C77","v":0},{"$f":"[1]ATIVO!D77","v":4},{"$f":"[1]ATIVO!E77","v":0},{"$f":"[1]ATIVO!F77","v":0},{"$f":"[1]ATIVO!G77","v":0},{"$f":"[1]ATIVO!H77","v":0},{"$f":"[1]ATIVO!I77","v":0},{"$f":"[1]ATIVO!J77","v":0},{"$f":"[1]ATIVO!K77","v":4},null,{"$f":"[1]ATIVO!M77","v":3},{"$f":"[1]ATIVO!N77","v":1},{"$f":"[1]ATIVO!O77","v":4}]
[null,{"$f":"[1]ATIVO!B78","v":"TOTAL"},{"$f":"[1]ATIVO!C78","v":1},{"$f":"[1]ATIVO!D78","v":90},{"$f":"[1]ATIVO!E78","v":28},{"$f":"[1]ATIVO!F78","v":1},{"$f":"[1]ATIVO!G78","v":29},{"$f":"[1]ATIVO!H78","v":19},{"$f":"[1]ATIVO!I78","v":3},{"$f":"[1]ATIVO!J78","v":50},{"$f":"[1]ATIVO!K78","v":221},{"$f":"[1]ATIVO!L78","v":221},{"$f":"[1]ATIVO!M78","v":107},{"$f":"[1]ATIVO!N78","v":114},{"$f":"[1]ATIVO!O78","v":221},{"$f":"[1]ATIVO!P78","v":221}]
[]
[{"$f":"[1]ATIVO!A80","v":"Área"},{"$f":"[1]ATIVO!B80","v":"SECRETARIA DE GEOLOGIA, MINERAÇÃO E TRANSFORMAÇÃO MINERAL"},{"$f":"[1]ATIVO!C80","v":"Natureza Especial"},{"$f":"[1]ATIVO!D80","v":"Ativo Permanente"},{"$f":"[1]ATIVO!E80","v":"Requisitado Órgãos"},{"$f":"[1]ATIVO!F80","v":"Requisitado Empresas"},{"$f":"[1]ATIVO!G80","v":"Sem Vínculo"},{"$f":"[1]ATIVO!H80","v":"Exercício Descentralizado"},{"$f":"[1]ATIVO!I80","v":"Contrato Temporário"},{"$f":"[1]ATIVO!J80","v":"Anistiado"},{"$f":"[1]ATIVO!K80","v":"Total"},{"$f":"[1]ATIVO!L80","v":"Total Área"},{"$f":"[1]ATIVO!M80","v":"Sexo Feminino"},{"$f":"[1]ATIVO!N80","v":"Sexo Masculino"},{"$f":"[1]ATIVO!O80","v":"Total"},{"$f":"[1]ATIVO!P80","v":"Total Área"}]
[{"$f":"[1]ATIVO!A81","v":"FINALÍSTICA"},{"$f":"[1]ATIVO!B81","v":"          Gabinete da Secretaria de Geologia, Mineração e Transformação Mineral"},{"$f":"[1]ATIVO!C81","v":0},{"$f":"[1]ATIVO!D81","v":2},{"$f":"[1]ATIVO!E81","v":0},{"$f":"[1]ATIVO!F81","v":0},{"$f":"[1]ATIVO!G81","v":4},{"$f":"[1]ATIVO!H81","v":0},{"$f":"[1]ATIVO!I81","v":0},{"$f":"[1]ATIVO!J81","v":0},{"$f":"[1]ATIVO!K81","v":6},{"$f":"[1]ATIVO!L81","v":39},{"$f":"[1]ATIVO!M81","v":3},{"$f":"[1]ATIVO!N81","v":3},{"$f":"[1]ATIVO!O81","v":6},{"$f":"[1]ATIVO!P81","v":39}]
[]
[null,{"$f":"[1]ATIVO!B83","v":"      Departamento de Gestão das Políticas de Geologia, Mineração e Transformação Mineral"},{"$f":"[1]ATIVO!C83","v":0},{"$f":"[1]ATIVO!D83","v":0},{"$f":"[1]ATIVO!E83","v":2},{"$f":"[1]ATIVO!F83","v":0},{"$f":"[1]ATIVO!G83","v":5},{"$f":"[1]ATIVO!H83","v":1},{"$f":"[1]ATIVO!I83","v":0},{"$f":"[1]ATIVO!J83","v":2},{"$f":"[1]ATIVO!K83","v":10},null,{"$f":"[1]ATIVO!M83","v":6},{"$f":"[1]ATIVO!N83","v":4},{"$f":"[1]ATIVO!O83","v":10}]
[null,{"$f":"[1]ATIVO!B84","v":"               Gabinete do Depto de Gestão das Políticas de Geologia, Mineração e Transf. Mineral"},{"$f":"[1]ATIVO!C84","v":0},{"$f":"[1]ATIVO!D84","v":0},{"$f":"[1]ATIVO!E84","v":0},{"$f":"[1]ATIVO!F84","v":0},{"$f":"[1]ATIVO!G84","v":3},{"$f":"[1]ATIVO!H84","v":1},{"$f":"[1]ATIVO!I84","v":0},{"$f":"[1]ATIVO!J84","v":1},{"$f":"[1]ATIVO!K84","v":5},null,{"$f":"[1]ATIVO!M84","v":3},{"$f":"[1]ATIVO!N84","v":2},{"$f":"[1]ATIVO!O84","v":5}]
[null,{"$f":"[1]ATIVO!B85","v":"               Coordenação-Geral de Política e Programas para Mineração"},{"$f":"[1]ATIVO!C85","v":0},{"$f":"[1]ATIVO!D85","v":0},{"$f":"[1]ATIVO!E85","v":1},{"$f":"[1]ATIVO!F85","v":0},{"$f":"[1]ATIVO!G85","v":0},{"$f":"[1]ATIVO!H85","v":0},{"$f":"[1]ATIVO!I85","v":0},{"$f":"[1]ATIVO!J85","v":0},{"$f":"[1]ATIVO!K85","v":1},null,{"$f":"[1]ATIVO!M85","v":0},{"$f":"[1]ATIVO!N85","v":1},{"$f":"[1]ATIVO!O85","v":1}]
[null,{"$f":"[1]ATIVO!B86","v":"               Coordenação-Geral de Monitoramento e Controle da Gestão de Programa"},{"$f":"[1]ATIVO!C86","v":0},{"$f":"[1]ATIVO!D86","v":0},{"$f":"[1]ATIVO!E86","v":0},{"$f":"[1]ATIVO!F86","v":0},{"$f":"[1]ATIVO!G86","v":2},{"$f":"[1]ATIVO!H86","v":0},{"$f":"[1]ATIVO!I86","v":0},{"$f":"[1]ATIVO!J86","v":0},{"$f":"[1]ATIVO!K86","v":2},null,{"$f":"[1]ATIVO!M86","v":2},{"$f":"[1]ATIVO!N86","v":0},{"$f":"[1]ATIVO!O86","v":2}]
[null,{"$f":"[1]ATIVO!B87","v":"               Coordenação-Geral de Economia Mineral"},{"$f":"[1]ATIVO!C87","v":0},{"$f":"[1]ATIVO!D87","v":0},{"$f":"[1]ATIVO!E87","v":1},{"$f":"[1]ATIVO!F87","v":0},{"$f":"[1]ATIVO!G87","v":0},{"$f":"[1]ATIVO!H87","v":0},{"$f":"[1]ATIVO!I87","v":0},{"$f":"[1]ATIVO!J87","v":1},{"$f":"[1]ATIVO!K87","v":2},null,{"$f":"[1]ATIVO!M87","v":1},{"$f":"[1]ATIVO!N87","v":1},{"$f":"[1]ATIVO!O87","v":2}]
[]
[null,{"$f":"[1]ATIVO!B89","v":"          Departamento de Geologia e Produção Mineral"},{"$f":"[1]ATIVO!C89","v":0},{"$f":"[1]ATIVO!D89","v":1},{"$f":"[1]ATIVO!E89","v":0},{"$f":"[1]ATIVO!F89","v":0},{"$f":"[1]ATIVO!G89","v":2},{"$f":"[1]ATIVO!H89","v":3},{"$f":"[1]ATIVO!I89","v":0},{"$f":"[1]ATIVO!J89","v":1},{"$f":"[1]ATIVO!K89","v":7},null,{"$f":"[1]ATIVO!M89","v":3},{"$f":"[1]ATIVO!N89","v":4},{"$f":"[1]ATIVO!O89","v":7}]
[null,{"$f":"[1]ATIVO!B90","v":"               Gabinete do Departamento de Geologia e Produção Mineral"},{"$f":"[1]ATIVO!C90","v":0},{"$f":"[1]ATIVO!D90","v":1},{"$f":"[1]ATIVO!E90","v":0},{"$f":"[1]ATIVO!F90","v":0},{"$f":"[1]ATIVO!G90","v":1},{"$f":"[1]ATIVO!H90","v":2},{"$f":"[1]ATIVO!I90","v":0},{"$f":"[1]ATIVO!J90","v":1},{"$f":"[1]ATIVO!K90","v":5},null,{"$f":"[1]ATIVO!M90","v":3},{"$f":"[1]ATIVO!N90","v":2},{"$f":"[1]ATIVO!O90","v":5}]
[null,{"$f":"[1]ATIVO!B91","v":"               Coordenação-Geral de Geologia e Recursos Minerais"},{"$f":"[1]ATIVO!C91","v":0},{"$f":"[1]ATIVO!D91","v":0},{"$f":"[1]ATIVO!E91","v":0},{"$f":"[1]ATIVO!F91","v":0},{"$f":"[1]ATIVO!G91","v":0},{"$f":"[1]ATIVO!H91","v":1},{"$f":"[1]ATIVO!I91","v":0},{"$f":"[1]ATIVO!J91","v":0},{"$f":"[1]ATIVO!K91","v":1},null,{"$f":"[1]ATIVO!M91","v":0},{"$f":"[1]ATIVO!N91","v":1},{"$f":"[1]ATIVO!O91","v":1}]
[null,{"$f":"[1]ATIVO!B92","v":"               Coordenação-Geral de Monitoramento e Controle de Concessões Minerais"},{"$f":"[1]ATIVO!C92","v":0},{"$f":"[1]ATIVO!D92","v":0},{"$f":"[1]ATIVO!E92","v":0},{"$f":"[1]ATIVO!F92","v":0},{"$f":"[1]ATIVO!G92","v":1},{"$f":"[1]ATIVO!H92","v":0},{"$f":"[1]ATIVO!I92","v":0},{"$f":"[1]ATIVO!J92","v":0},{"$f":"[1]ATIVO!K92","v":1},null,{"$f":"[1]ATIVO!M92","v":0},{"$f":"[1]ATIVO!N92","v":1},{"$f":"[1]ATIVO!O92","v":1}]
[]
[null,{"$f":"[1]ATIVO!B94","v":"          Departamento de Transformação e Tecnologia Mineral"},{"$f":"[1]ATIVO!C94","v":0},{"$f":"[1]ATIVO!D94","v":2},{"$f":"[1]ATIVO!E94","v":0},{"$f":"[1]ATIVO!F94","v":0},{"$f":"[1]ATIVO!G94","v":2},{"$f":"[1]ATIVO!H94","v":2},{"$f":"[1]ATIVO!I94","v":0},{"$f":"[1]ATIVO!J94","v":2},{"$f":"[1]ATIVO!K94","v":8},null,{"$f":"[1]ATIVO!M94","v":3},{"$f":"[1]ATIVO!N94","v":5},{"$f":"[1]ATIVO!O94","v":8}]
[null,{"$f":"[1]ATIVO!B95","v":"               Gabinete do Departamento de Transformação e Tecnologia Mineral"},{"$f":"[1]ATIVO!C95","v":0},{"$f":"[1]ATIVO!D95","v":1},{"$f":"[1]ATIVO!E95","v":0},{"$f":"[1]ATIVO!F95","v":0},{"$f":"[1]ATIVO!G95","v":1},{"$f":"[1]ATIVO!H95","v":2},{"$f":"[1]ATIVO!I95","v":0},{"$f":"[1]ATIVO!J95","v":2},{"$f":"[1]ATIVO!K95","v":6},null,{"$f":"[1]ATIVO!M95","v":3},{"$f":"[1]ATIVO!N95","v":3},{"$f":"[1]ATIVO!O95","v":6}]
[null,{"$f":"[1]ATIVO!B96","v":"               Coordenação-Geral de Capacitação e Desenvolvimento Tecnológico"},{"$f":"[1]ATIVO!C96","v":0},{"$f":"[1]ATIVO!D96","v":1},{"$f":"[1]ATIVO!E96","v":0},{"$f":"[1]ATIVO!F96","v":0},{"$f":"[1]ATIVO!G96","v":1},{"$f":"[1]ATIVO!H96","v":0},{"$f":"[1]ATIVO!I96","v":0},{"$f":"[1]ATIVO!J96","v":0},{"$f":"[1]ATIVO!K96","v":2},null,{"$f":"[1]ATIVO!M96","v":0},{"$f":"[1]ATIVO!N96","v":2},{"$f":"[1]ATIVO!O96","v":2}]
[]
[null,{"$f":"[1]ATIVO!B98","v":"          Departamento de Desenvolvimento Sustentável na Mineração"},{"$f":"[1]ATIVO!C98","v":0},{"$f":"[1]ATIVO!D98","v":0},{"$f":"[1]ATIVO!E98","v":1},{"$f":"[1]ATIVO!F98","v":0},{"$f":"[1]ATIVO!G98","v":5},{"$f":"[1]ATIVO!H98","v":2},{"$f":"[1]ATIVO!I98","v":0},{"$f":"[1]ATIVO!J98","v":0},{"$f":"[1]ATIVO!K98","v":8},null,{"$f":"[1]ATIVO!M98","v":4},{"$f":"[1]ATIVO!N98","v":4},{"$f":"[1]ATIVO!O98","v":8}]
[null,{"$f":"[1]ATIVO!B99","v":"               Gabinete do Departamento de Desenvolvimento Sustentável na Mineração"},{"$f":"[1]ATIVO!C99","v":0},{"$f":"[1]ATIVO!D99","v":0},{"$f":"[1]ATIVO!E99","v":0},{"$f":"[1]ATIVO!F99","v":0},{"$f":"[1]ATIVO!G99","v":2},{"$f":"[1]ATIVO!H99","v":1},{"$f":"[1]ATIVO!I99","v":0},{"$f":"[1]ATIVO!J99","v":0},{"$f":"[1]ATIVO!K99","v":3},null,{"$f":"[1]ATIVO!M99","v":0},{"$f":"[1]ATIVO!N99","v":3},{"$f":"[1]ATIVO!O99","v":3}]
[null,{"$f":"[1]ATIVO!B100","v":"               Coordenação-Geral de Desenvolvimento Socioambiental na Mineração"},{"$f":"[1]ATIVO!C100","v":0},{"$f":"[1]ATIVO!D100","v":0},{"$f":"[1]ATIVO!E100","v":0},{"$f":"[1]ATIVO!F100","v":0},{"$f":"[1]ATIVO!G100","v":3},{"$f":"[1]ATIVO!H100","v":0},{"$f":"[1]ATIVO!I100","v":0},{"$f":"[1]ATIVO!J100","v":0},{"$f":"[1]ATIVO!K100","v":3},null,{"$f":"[1]ATIVO!M100","v":2},{"$f":"[1]ATIVO!N100","v":1},{"$f":"[1]ATIVO!O100","v":3}]
[null,{"$f":"[1]ATIVO!B101","v":"               Coordenação-Geral de Mineração em Áreas de Conservação e Conflito"},{"$f":"[1]ATIVO!C101","v":0},{"$f":"[1]ATIVO!D101","v":0},{"$f":"[1]ATIVO!E101","v":1},{"$f":"[1]ATIVO!F101","v":0},{"$f":"[1]ATIVO!G101","v":0},{"$f":"[1]ATIVO!H101","v":1},{"$f":"[1]ATIVO!I101","v":0},{"$f":"[1]ATIVO!J101","v":0},{"$f":"[1]ATIVO!K101","v":2},null,{"$f":"[1]ATIVO!M101","v":2},{"$f":"[1]ATIVO!N101","v":0},{"$f":"[1]ATIVO!O101","v":2}]
[null,{"$f":"[1]ATIVO!B102","v":"TOTAL"},{"$f":"[1]ATIVO!C102","v":0},{"$f":"[1]ATIVO!D102","v":5},{"$f":"[1]ATIVO!E102","v":3},{"$f":"[1]ATIVO!F102","v":0},{"$f":"[1]ATIVO!G102","v":18},{"$f":"[1]ATIVO!H102","v":8},{"$f":"[1]ATIVO!I102","v":0},{"$f":"[1]ATIVO!J102","v":5},{"$f":"[1]ATIVO!K102","v":39},{"$f":"[1]ATIVO!L102","v":39},{"$f":"[1]ATIVO!M102","v":19},{"$f":"[1]ATIVO!N102","v":20},{"$f":"[1]ATIVO!O102","v":39},{"$f":"[1]ATIVO!P102","v":39}]
[]
[{"$f":"[1]ATIVO!A104","v":"Área"},{"$f":"[1]ATIVO!B104","v":"SECRETARIA DE ENERGIA ELÉTRICA"},{"$f":"[1]ATIVO!C104","v":"Natureza Especial"},{"$f":"[1]ATIVO!D104","v":"Ativo Permanente"},{"$f":"[1]ATIVO!E104","v":"Requisitado Órgãos"},{"$f":"[1]ATIVO!F104","v":"Requisitado Empresas"},{"$f":"[1]ATIVO!G104","v":"Sem Vínculo"},{"$f":"[1]ATIVO!H104","v":"Exercício Descentralizado"},{"$f":"[1]ATIVO!I104","v":"Contrato Temporário"},{"$f":"[1]ATIVO!J104","v":"Anistiado"},{"$f":"[1]ATIVO!K104","v":"Total"},{"$f":"[1]ATIVO!L104","v":"Total Área"},{"$f":"[1]ATIVO!M104","v":"Sexo Feminino"},{"$f":"[1]ATIVO!N104","v":"Sexo Masculino"},{"$f":"[1]ATIVO!O104","v":"Total"},{"$f":"[1]ATIVO!P104","v":"Total Área"}]
[{"$f":"[1]ATIVO!A105","v":"FINALÍSTICA"},{"$f":"[1]ATIVO!B105","v":"          Gabinete da Secretaria de Energia Elétrica"},{"$f":"[1]ATIVO!C105","v":0},{"$f":"[1]ATIVO!D105","v":0},{"$f":"[1]ATIVO!E105","v":1},{"$f":"[1]ATIVO!F105","v":3},{"$f":"[1]ATIVO!G105","v":6},{"$f":"[1]ATIVO!H105","v":1},{"$f":"[1]ATIVO!I105","v":0},{"$f":"[1]ATIVO!J105","v":3},{"$f":"[1]ATIVO!K105","v":14},{"$f":"[1]ATIVO!L105","v":52},{"$f":"[1]ATIVO!M105","v":6},{"$f":"[1]ATIVO!N105","v":8},{"$f":"[1]ATIVO!O105","v":14},{"$f":"[1]ATIVO!P105","v":52}]
[]
[null,{"$f":"[1]ATIVO!B107","v":"          Departamento de Gestão do Setor Elétrico"},{"$f":"[1]ATIVO!C107","v":0},{"$f":"[1]ATIVO!D107","v":0},{"$f":"[1]ATIVO!E107","v":0},{"$f":"[1]ATIVO!F107","v":0},{"$f":"[1]ATIVO!G107","v":0},{"$f":"[1]ATIVO!H107","v":5},{"$f":"[1]ATIVO!I107","v":0},{"$f":"[1]ATIVO!J107","v":2},{"$f":"[1]ATIVO!K107","v":7},null,{"$f":"[1]ATIVO!M107","v":3},{"$f":"[1]ATIVO!N107","v":4},{"$f":"[1]ATIVO!O107","v":7}]
[null,{"$f":"[1]ATIVO!B108","v":"               Gabinete do Departamento de Gestão do Setor Elétrico"},{"$f":"[1]ATIVO!C108","v":0},{"$f":"[1]ATIVO!D108","v":0},{"$f":"[1]ATIVO!E108","v":0},{"$f":"[1]ATIVO!F108","v":0},{"$f":"[1]ATIVO!G108","v":0},{"$f":"[1]ATIVO!H108","v":1},{"$f":"[1]ATIVO!I108","v":0},{"$f":"[1]ATIVO!J108","v":0},{"$f":"[1]ATIVO!K108","v":1},null,{"$f":"[1]ATIVO!M108","v":1},{"$f":"[1]ATIVO!N108","v":0},{"$f":"[1]ATIVO!O108","v":1}]
[null,{"$f":"[1]ATIVO!B109","v":"               Coordenação-Geral de Gestão da Comercialização de Energia"},{"$f":"[1]ATIVO!C109","v":0},{"$f":"[1]ATIVO!D109","v":0},{"$f":"[1]ATIVO!E109","v":0},{"$f":"[1]ATIVO!F109","v":0},{"$f":"[1]ATIVO!G109","v":0},{"$f":"[1]ATIVO!H109","v":2},{"$f":"[1]ATIVO!I109","v":0},{"$f":"[1]ATIVO!J109","v":1},{"$f":"[1]ATIVO!K109","v":3},null,{"$f":"[1]ATIVO!M109","v":1},{"$f":"[1]ATIVO!N109","v":2},{"$f":"[1]ATIVO!O109","v":3}]
[null,{"$f":"[1]ATIVO!B110","v":"               Coordenação-Geral de Gestão da Política Tarifária"},{"$f":"[1]ATIVO!C110","v":0},{"$f":"[1]ATIVO!D110","v":0},{"$f":"[1]ATIVO!E110","v":0},{"$f":"[1]ATIVO!F110","v":0},{"$f":"[1]ATIVO!G110","v":0},{"$f":"[1]ATIVO!H110","v":0},{"$f":"[1]ATIVO!I110","v":0},{"$f":"[1]ATIVO!J110","v":0},{"$f":"[1]ATIVO!K110","v":0},null,{"$f":"[1]ATIVO!M110","v":0},{"$f":"[1]ATIVO!N110","v":0},{"$f":"[1]ATIVO!O110","v":0}]
[null,{"$f":"[1]ATIVO!B111","v":"               Coordenação-Geral de Gestão de Programas e Regulamentação"},{"$f":"[1]ATIVO!C111","v":0},{"$f":"[1]ATIVO!D111","v":0},{"$f":"[1]ATIVO!E111","v":0},{"$f":"[1]ATIVO!F111","v":0},{"$f":"[1]ATIVO!G111","v":0},{"$f":"[1]ATIVO!H111","v":2},{"$f":"[1]ATIVO!I111","v":0},{"$f":"[1]ATIVO!J111","v":1},{"$f":"[1]ATIVO!K111","v":3},null,{"$f":"[1]ATIVO!M111","v":1},{"$f":"[1]ATIVO!N111","v":2},{"$f":"[1]ATIVO!O111","v":3}]
[]
[null,{"$f":"[1]ATIVO!B113","v":"          Departamento de Monitoramento do Sistema Elétrico"},{"$f":"[1]ATIVO!C113","v":0},{"$f":"[1]ATIVO!D113","v":1},{"$f":"[1]ATIVO!E113","v":1},{"$f":"[1]ATIVO!F113","v":0},{"$f":"[1]ATIVO!G113","v":5},{"$f":"[1]ATIVO!H113","v":12},{"$f":"[1]ATIVO!I113","v":0},{"$f":"[1]ATIVO!J113","v":0},{"$f":"[1]ATIVO!K113","v":19},null,{"$f":"[1]ATIVO!M113","v":7},{"$f":"[1]ATIVO!N113","v":12},{"$f":"[1]ATIVO!O113","v":19}]
[null,{"$f":"[1]ATIVO!B114","v":"               Gabinete do Departamento de Monitoramento do Sistema Elétrico"},{"$f":"[1]ATIVO!C114","v":0},{"$f":"[1]ATIVO!D114","v":0},{"$f":"[1]ATIVO!E114","v":0},{"$f":"[1]ATIVO!F114","v":0},{"$f":"[1]ATIVO!G114","v":2},{"$f":"[1]ATIVO!H114","v":1},{"$f":"[1]ATIVO!I114","v":0},{"$f":"[1]ATIVO!J114","v":0},{"$f":"[1]ATIVO!K114","v":3},null,{"$f":"[1]ATIVO!M114","v":2},{"$f":"[1]ATIVO!N114","v":1},{"$f":"[1]ATIVO!O114","v":3}]
[null,{"$f":"[1]ATIVO!B115","v":"               Coordenação-Geral de Monitoramento da Expansão da Geração"},{"$f":"[1]ATIVO!C115","v":0},{"$f":"[1]ATIVO!D115","v":0},{"$f":"[1]ATIVO!E115","v":0},{"$f":"[1]ATIVO!F115","v":0},{"$f":"[1]ATIVO!G115","v":2},{"$f":"[1]ATIVO!H115","v":1},{"$f":"[1]ATIVO!I115","v":0},{"$f":"[1]ATIVO!J115","v":0},{"$f":"[1]ATIVO!K115","v":3},null,{"$f":"[1]ATIVO!M115","v":0},{"$f":"[1]ATIVO!N115","v":3},{"$f":"[1]ATIVO!O115","v":3}]
[null,{"$f":"[1]ATIVO!B116","v":"               Coordenação-Geral de Monitoramento da Expansão da Transmissão"},{"$f":"[1]ATIVO!C116","v":0},{"$f":"[1]ATIVO!D116","v":0},{"$f":"[1]ATIVO!E116","v":0},{"$f":"[1]ATIVO!F116","v":0},{"$f":"[1]ATIVO!G116","v":1},{"$f":"[1]ATIVO!H116","v":2},{"$f":"[1]ATIVO!I116","v":0},{"$f":"[1]ATIVO!J116","v":0},{"$f":"[1]ATIVO!K116","v":3},null,{"$f":"[1]ATIVO!M116","v":1},{"$f":"[1]ATIVO!N116","v":2},{"$f":"[1]ATIVO!O116","v":3}]
[null,{"$f":"[1]ATIVO!B117","v":"               Coordenação-Geral de Monitoramento da Distribuição"},{"$f":"[1]ATIVO!C117","v":0},{"$f":"[1]ATIVO!D117","v":1},{"$f":"[1]ATIVO!E117","v":0},{"$f":"[1]ATIVO!F117","v":0},{"$f":"[1]ATIVO!G117","v":0},{"$f":"[1]ATIVO!H117","v":2},{"$f":"[1]ATIVO!I117","v":0},{"$f":"[1]ATIVO!J117","v":0},{"$f":"[1]ATIVO!K117","v":3},null,{"$f":"[1]ATIVO!M117","v":1},{"$f":"[1]ATIVO!N117","v":2},{"$f":"[1]ATIVO!O117","v":3}]
[null,{"$f":"[1]ATIVO!B118","v":"               Coordenação-Geral de Monitoramento do Desempenho do Sistema Elétrico"},{"$f":"[1]ATIVO!C118","v":0},{"$f":"[1]ATIVO!D118","v":0},{"$f":"[1]ATIVO!E118","v":1},{"$f":"[1]ATIVO!F118","v":0},{"$f":"[1]ATIVO!G118","v":0},{"$f":"[1]ATIVO!H118","v":6},{"$f":"[1]ATIVO!I118","v":0},{"$f":"[1]ATIVO!J118","v":0},{"$f":"[1]ATIVO!K118","v":7},null,{"$f":"[1]ATIVO!M118","v":3},{"$f":"[1]ATIVO!N118","v":4},{"$f":"[1]ATIVO!O118","v":7}]
[]
[null,{"$f":"[1]ATIVO!B120","v":"          Departamento de Políticas Sociais e Universalização do Acesso à Energia Elétrica"},{"$f":"[1]ATIVO!C120","v":0},{"$f":"[1]ATIVO!D120","v":1},{"$f":"[1]ATIVO!E120","v":1},{"$f":"[1]ATIVO!F120","v":1},{"$f":"[1]ATIVO!G120","v":4},{"$f":"[1]ATIVO!H120","v":1},{"$f":"[1]ATIVO!I120","v":0},{"$f":"[1]ATIVO!J120","v":4},{"$f":"[1]ATIVO!K120","v":12},null,{"$f":"[1]ATIVO!M120","v":2},{"$f":"[1]ATIVO!N120","v":10},{"$f":"[1]ATIVO!O120","v":12}]
[null,{"$f":"[1]ATIVO!B121","v":"               Gabinete do Depto de Políticas Sociais e Universalização do Acesso à Energia Elétrica"},{"$f":"[1]ATIVO!C121","v":0},{"$f":"[1]ATIVO!D121","v":0},{"$f":"[1]ATIVO!E121","v":1},{"$f":"[1]ATIVO!F121","v":0},{"$f":"[1]ATIVO!G121","v":2},{"$f":"[1]ATIVO!H121","v":0},{"$f":"[1]ATIVO!I121","v":0},{"$f":"[1]ATIVO!J121","v":0},{"$f":"[1]ATIVO!K121","v":3},null,{"$f":"[1]ATIVO!M121","v":1},{"$f":"[1]ATIVO!N121","v":2},{"$f":"[1]ATIVO!O121","v":3}]
[null,{"$f":"[1]ATIVO!B122","v":"               Coordenação-Geral de Desenvolvimento de Políticas Sociais"},{"$f":"[1]ATIVO!C122","v":0},{"$f":"[1]ATIVO!D122","v":0},{"$f":"[1]ATIVO!E122","v":0},{"$f":"[1]ATIVO!F122","v":1},{"$f":"[1]ATIVO!G122","v":1},{"$f":"[1]ATIVO!H122","v":1},{"$f":"[1]ATIVO!I122","v":0},{"$f":"[1]ATIVO!J122","v":4},{"$f":"[1]ATIVO!K122","v":7},null,{"$f":"[1]ATIVO!M122","v":0},{"$f":"[1]ATIVO!N122","v":7},{"$f":"[1]ATIVO!O122","v":7}]
[null,{"$f":"[1]ATIVO!B123","v":"               Coordenação-Geral de Universalização do Acesso à Energia"},{"$f":"[1]ATIVO!C123","v":0},{"$f":"[1]ATIVO!D123","v":1},{"$f":"[1]ATIVO!E123","v":0},{"$f":"[1]ATIVO!F123","v":0},{"$f":"[1]ATIVO!G123","v":1},{"$f":"[1]ATIVO!H123","v":0},{"$f":"[1]ATIVO!I123","v":0},{"$f":"[1]ATIVO!J123","v":0},{"$f":"[1]ATIVO!K123","v":2},null,{"$f":"[1]ATIVO!M123","v":1},{"$f":"[1]ATIVO!N123","v":1},{"$f":"[1]ATIVO!O123","v":2}]
[null,{"$f":"[1]ATIVO!B124","v":"TOTAL"},{"$f":"[1]ATIVO!C124","v":0},{"$f":"[1]ATIVO!D124","v":2},{"$f":"[1]ATIVO!E124","v":3},{"$f":"[1]ATIVO!F124","v":4},{"$f":"[1]ATIVO!G124","v":15},{"$f":"[1]ATIVO!H124","v":19},{"$f":"[1]ATIVO!I124","v":0},{"$f":"[1]ATIVO!J124","v":9},{"$f":"[1]ATIVO!K124","v":52},{"$f":"[1]ATIVO!L124","v":52},{"$f":"[1]ATIVO!M124","v":18},{"$f":"[1]ATIVO!N124","v":34},{"$f":"[1]ATIVO!O124","v":52},{"$f":"[1]ATIVO!P124","v":52}]
[]
[{"$f":"[1]ATIVO!A126","v":"Área"},{"$f":"[1]ATIVO!B126","v":"SECRETARIA DE PLANEJAMENTO E DESENVOLVIMENTO ENERGÉTICO"},{"$f":"[1]ATIVO!C126","v":"Natureza Especial"},{"$f":"[1]ATIVO!D126","v":"Ativo Permanente"},{"$f":"[1]ATIVO!E126","v":"Requisitado Órgãos"},{"$f":"[1]ATIVO!F126","v":"Requisitado Empresas"},{"$f":"[1]ATIVO!G126","v":"Sem Vínculo"},{"$f":"[1]ATIVO!H126","v":"Exercício Descentralizado"},{"$f":"[1]ATIVO!I126","v":"Contrato Temporário"},{"$f":"[1]ATIVO!J126","v":"Anistiado"},{"$f":"[1]ATIVO!K126","v":"Total"},{"$f":"[1]ATIVO!L126","v":"Total Área"},{"$f":"[1]ATIVO!M126","v":"Sexo Feminino"},{"$f":"[1]ATIVO!N126","v":"Sexo Masculino"},{"$f":"[1]ATIVO!O126","v":"Total"},{"$f":"[1]ATIVO!P126","v":"Total Área"}]
[{"$f":"[1]ATIVO!A127","v":"FINALÍSTICA"},{"$f":"[1]ATIVO!B127","v":"          Gabinete da Secretaria de Planejamento e Desenvolvimento Energético"},{"$f":"[1]ATIVO!C127","v":0},{"$f":"[1]ATIVO!D127","v":6},{"$f":"[1]ATIVO!E127","v":1},{"$f":"[1]ATIVO!F127","v":0},{"$f":"[1]ATIVO!G127","v":5},{"$f":"[1]ATIVO!H127","v":0},{"$f":"[1]ATIVO!I127","v":0},{"$f":"[1]ATIVO!J127","v":1},{"$f":"[1]ATIVO!K127","v":13},{"$f":"[1]ATIVO!L127","v":45},{"$f":"[1]ATIVO!M127","v":8},{"$f":"[1]ATIVO!N127","v":5},{"$f":"[1]ATIVO!O127","v":13},{"$f":"[1]ATIVO!P127","v":45}]
[]
[null,{"$f":"[1]ATIVO!B129","v":"          Departamento de Planejamento Energético"},{"$f":"[1]ATIVO!C129","v":0},{"$f":"[1]ATIVO!D129","v":1},{"$f":"[1]ATIVO!E129","v":3},{"$f":"[1]ATIVO!F129","v":0},{"$f":"[1]ATIVO!G129","v":1},{"$f":"[1]ATIVO!H129","v":5},{"$f":"[1]ATIVO!I129","v":0},{"$f":"[1]ATIVO!J129","v":2},{"$f":"[1]ATIVO!K129","v":12},null,{"$f":"[1]ATIVO!M129","v":4},{"$f":"[1]ATIVO!N129","v":8},{"$f":"[1]ATIVO!O129","v":12}]
[null,{"$f":"[1]ATIVO!B130","v":"               Gabinete Departamento de Planejamento Energético"},{"$f":"[1]ATIVO!C130","v":0},{"$f":"[1]ATIVO!D130","v":1},{"$f":"[1]ATIVO!E130","v":2},{"$f":"[1]ATIVO!F130","v":0},{"$f":"[1]ATIVO!G130","v":0},{"$f":"[1]ATIVO!H130","v":1},{"$f":"[1]ATIVO!I130","v":0},{"$f":"[1]ATIVO!J130","v":2},{"$f":"[1]ATIVO!K130","v":6},null,{"$f":"[1]ATIVO!M130","v":3},{"$f":"[1]ATIVO!N130","v":3},{"$f":"[1]ATIVO!O130","v":6}]
[null,{"$f":"[1]ATIVO!B131","v":"               Coordenação-Geral de Planejamento da Transmissão"},{"$f":"[1]ATIVO!C131","v":0},{"$f":"[1]ATIVO!D131","v":0},{"$f":"[1]ATIVO!E131","v":0},{"$f":"[1]ATIVO!F131","v":0},{"$f":"[1]ATIVO!G131","v":1},{"$f":"[1]ATIVO!H131","v":3},{"$f":"[1]ATIVO!I131","v":0},{"$f":"[1]ATIVO!J131","v":0},{"$f":"[1]ATIVO!K131","v":4},null,{"$f":"[1]ATIVO!M131","v":0},{"$f":"[1]ATIVO!N131","v":4},{"$f":"[1]ATIVO!O131","v":4}]
[null,{"$f":"[1]ATIVO!B132","v":"               Coordenação-Geral de Planejamento da Geração"},{"$f":"[1]ATIVO!C132","v":0},{"$f":"[1]ATIVO!D132","v":0},{"$f":"[1]ATIVO!E132","v":0},{"$f":"[1]ATIVO!F132","v":0},{"$f":"[1]ATIVO!G132","v":0},{"$f":"[1]ATIVO!H132","v":1},{"$f":"[1]ATIVO!I132","v":0},{"$f":"[1]ATIVO!J132","v":0},{"$f":"[1]ATIVO!K132","v":1},null,{"$f":"[1]ATIVO!M132","v":1},{"$f":"[1]ATIVO!N132","v":0},{"$f":"[1]ATIVO!O132","v":1}]
[null,{"$f":"[1]ATIVO!B133","v":"               Coordenação-Geral de Planejamento da Expansão Energética"},{"$f":"[1]ATIVO!C133","v":0},{"$f":"[1]ATIVO!D133","v":0},{"$f":"[1]ATIVO!E133","v":1},{"$f":"[1]ATIVO!F133","v":0},{"$f":"[1]ATIVO!G133","v":0},{"$f":"[1]ATIVO!H133","v":0},{"$f":"[1]ATIVO!I133","v":0},{"$f":"[1]ATIVO!J133","v":0},{"$f":"[1]ATIVO!K133","v":1},null,{"$f":"[1]ATIVO!M133","v":0},{"$f":"[1]ATIVO!N133","v":1},{"$f":"[1]ATIVO!O133","v":1}]
[]
[null,{"$f":"[1]ATIVO!B135","v":"          Departamento de Desenvolvimento Energético"},{"$f":"[1]ATIVO!C135","v":0},{"$f":"[1]ATIVO!D135","v":0},{"$f":"[1]ATIVO!E135","v":2},{"$f":"[1]ATIVO!F135","v":0},{"$f":"[1]ATIVO!G135","v":2},{"$f":"[1]ATIVO!H135","v":4},{"$f":"[1]ATIVO!I135","v":0},{"$f":"[1]ATIVO!J135","v":0},{"$f":"[1]ATIVO!K135","v":8},null,{"$f":"[1]ATIVO!M135","v":4},{"$f":"[1]ATIVO!N135","v":4},{"$f":"[1]ATIVO!O135","v":8}]
[null,{"$f":"[1]ATIVO!B136","v":"               Gabinete Departamento de Desenvolvimento Energético"},{"$f":"[1]ATIVO!C136","v":0},{"$f":"[1]ATIVO!D136","v":0},{"$f":"[1]ATIVO!E136","v":1},{"$f":"[1]ATIVO!F136","v":0},{"$f":"[1]ATIVO!G136","v":2},{"$f":"[1]ATIVO!H136","v":1},{"$f":"[1]ATIVO!I136","v":0},{"$f":"[1]ATIVO!J136","v":0},{"$f":"[1]ATIVO!K136","v":4},null,{"$f":"[1]ATIVO!M136","v":3},{"$f":"[1]ATIVO!N136","v":1},{"$f":"[1]ATIVO!O136","v":4}]
[null,{"$f":"[1]ATIVO!B137","v":"               Coordenação-Geral de Eficiência Energética"},{"$f":"[1]ATIVO!C137","v":0},{"$f":"[1]ATIVO!D137","v":0},{"$f":"[1]ATIVO!E137","v":1},{"$f":"[1]ATIVO!F137","v":0},{"$f":"[1]ATIVO!G137","v":0},{"$f":"[1]ATIVO!H137","v":0},{"$f":"[1]ATIVO!I137","v":0},{"$f":"[1]ATIVO!J137","v":0},{"$f":"[1]ATIVO!K137","v":1},null,{"$f":"[1]ATIVO!M137","v":1},{"$f":"[1]ATIVO!N137","v":0},{"$f":"[1]ATIVO!O137","v":1}]
[null,{"$f":"[1]ATIVO!B138","v":"               Coordenação-Geral de Sustentabilidade Ambiental do Setor Energético"},{"$f":"[1]ATIVO!C138","v":0},{"$f":"[1]ATIVO!D138","v":0},{"$f":"[1]ATIVO!E138","v":0},{"$f":"[1]ATIVO!F138","v":0},{"$f":"[1]ATIVO!G138","v":0},{"$f":"[1]ATIVO!H138","v":2},{"$f":"[1]ATIVO!I138","v":0},{"$f":"[1]ATIVO!J138","v":0},{"$f":"[1]ATIVO!K138","v":2},null,{"$f":"[1]ATIVO!M138","v":0},{"$f":"[1]ATIVO!N138","v":2},{"$f":"[1]ATIVO!O138","v":2}]
[null,{"$f":"[1]ATIVO!B139","v":"               Coordenação-Geral de Fontes Alternativas"},{"$f":"[1]ATIVO!C139","v":0},{"$f":"[1]ATIVO!D139","v":0},{"$f":"[1]ATIVO!E139","v":0},{"$f":"[1]ATIVO!F139","v":0},{"$f":"[1]ATIVO!G139","v":0},{"$f":"[1]ATIVO!H139","v":1},{"$f":"[1]ATIVO!I139","v":0},{"$f":"[1]ATIVO!J139","v":0},{"$f":"[1]ATIVO!K139","v":1},null,{"$f":"[1]ATIVO!M139","v":0},{"$f":"[1]ATIVO!N139","v":1},{"$f":"[1]ATIVO!O139","v":1}]
[]
[null,{"$f":"[1]ATIVO!B141","v":"          Departamento e Outorgas de Concessões, Permissões e Autorizações"},{"$f":"[1]ATIVO!C141","v":0},{"$f":"[1]ATIVO!D141","v":0},{"$f":"[1]ATIVO!E141","v":0},{"$f":"[1]ATIVO!F141","v":0},{"$f":"[1]ATIVO!G141","v":1},{"$f":"[1]ATIVO!H141","v":5},{"$f":"[1]ATIVO!I141","v":0},{"$f":"[1]ATIVO!J141","v":1},{"$f":"[1]ATIVO!K141","v":7},null,{"$f":"[1]ATIVO!M141","v":1},{"$f":"[1]ATIVO!N141","v":6},{"$f":"[1]ATIVO!O141","v":7}]
[null,{"$f":"[1]ATIVO!B142","v":"               Gabinete Departamento e Outorgas de Concessões, Permissões e Autorizações"},{"$f":"[1]ATIVO!C142","v":0},{"$f":"[1]ATIVO!D142","v":0},{"$f":"[1]ATIVO!E142","v":0},{"$f":"[1]ATIVO!F142","v":0},{"$f":"[1]ATIVO!G142","v":1},{"$f":"[1]ATIVO!H142","v":1},{"$f":"[1]ATIVO!I142","v":0},{"$f":"[1]ATIVO!J142","v":1},{"$f":"[1]ATIVO!K142","v":3},null,{"$f":"[1]ATIVO!M142","v":1},{"$f":"[1]ATIVO!N142","v":2},{"$f":"[1]ATIVO!O142","v":3}]
[null,{"$f":"[1]ATIVO!B143","v":"               Coordenação-Geral de Outorgas de Geração de Energia Elétrica"},{"$f":"[1]ATIVO!C143","v":0},{"$f":"[1]ATIVO!D143","v":0},{"$f":"[1]ATIVO!E143","v":0},{"$f":"[1]ATIVO!F143","v":0},{"$f":"[1]ATIVO!G143","v":0},{"$f":"[1]ATIVO!H143","v":2},{"$f":"[1]ATIVO!I143","v":0},{"$f":"[1]ATIVO!J143","v":0},{"$f":"[1]ATIVO!K143","v":2},null,{"$f":"[1]ATIVO!M143","v":0},{"$f":"[1]ATIVO!N143","v":2},{"$f":"[1]ATIVO!O143","v":2}]
[null,{"$f":"[1]ATIVO!B144","v":"               Coordenação-Geral de Outorgas de Serviços de Transmissão e Distribuição de Energia"},{"$f":"[1]ATIVO!C144","v":0},{"$f":"[1]ATIVO!D144","v":0},{"$f":"[1]ATIVO!E144","v":0},{"$f":"[1]ATIVO!F144","v":0},{"$f":"[1]ATIVO!G144","v":0},{"$f":"[1]ATIVO!H144","v":2},{"$f":"[1]ATIVO!I144","v":0},{"$f":"[1]ATIVO!J144","v":0},{"$f":"[1]ATIVO!K144","v":2},null,{"$f":"[1]ATIVO!M144","v":0},{"$f":"[1]ATIVO!N144","v":2},{"$f":"[1]ATIVO!O144","v":2}]
[]
[null,{"$f":"[1]ATIVO!B146","v":"          Departamento de Informações e Estudos Energéticos"},{"$f":"[1]ATIVO!C146","v":0},{"$f":"[1]ATIVO!D146","v":0},{"$f":"[1]ATIVO!E146","v":1},{"$f":"[1]ATIVO!F146","v":0},{"$f":"[1]ATIVO!G146","v":3},{"$f":"[1]ATIVO!H146","v":1},{"$f":"[1]ATIVO!I146","v":0},{"$f":"[1]ATIVO!J146","v":0},{"$f":"[1]ATIVO!K146","v":5},null,{"$f":"[1]ATIVO!M146","v":2},{"$f":"[1]ATIVO!N146","v":3},{"$f":"[1]ATIVO!O146","v":5}]
[null,{"$f":"[1]ATIVO!B147","v":"               Gabinete Departamento de Informações e Estudos Energéticos"},{"$f":"[1]ATIVO!C147","v":0},{"$f":"[1]ATIVO!D147","v":0},{"$f":"[1]ATIVO!E147","v":1},{"$f":"[1]ATIVO!F147","v":0},{"$f":"[1]ATIVO!G147","v":1},{"$f":"[1]ATIVO!H147","v":0},{"$f":"[1]ATIVO!I147","v":0},{"$f":"[1]ATIVO!J147","v":0},{"$f":"[1]ATIVO!K147","v":2},null,{"$f":"[1]ATIVO!M147","v":1},{"$f":"[1]ATIVO!N147","v":1},{"$f":"[1]ATIVO!O147","v":2}]
[null,{"$f":"[1]ATIVO!B148","v":"               Coordenação-Geral de Informações Energéticas"},{"$f":"[1]ATIVO!C148","v":0},{"$f":"[1]ATIVO!D148","v":0},{"$f":"[1]ATIVO!E148","v":0},{"$f":"[1]ATIVO!F148","v":0},{"$f":"[1]ATIVO!G148","v":2},{"$f":"[1]ATIVO!H148","v":1},{"$f":"[1]ATIVO!I148","v":0},{"$f":"[1]ATIVO!J148","v":0},{"$f":"[1]ATIVO!K148","v":3},null,{"$f":"[1]ATIVO!M148","v":1},{"$f":"[1]ATIVO!N148","v":2},{"$f":"[1]ATIVO!O148","v":3}]
[null,{"$f":"[1]ATIVO!B149","v":"TOTAL"},{"$f":"[1]ATIVO!C149","v":0},{"$f":"[1]ATIVO!D149","v":7},{"$f":"[1]ATIVO!E149","v":7},{"$f":"[1]ATIVO!F149","v":0},{"$f":"[1]ATIVO!G149","v":12},{"$f":"[1]ATIVO!H149","v":15},{"$f":"[1]ATIVO!I149","v":0},{"$f":"[1]ATIVO!J149","v":4},{"$f":"[1]ATIVO!K149","v":45},{"$f":"[1]ATIVO!L149","v":45},{"$f":"[1]ATIVO!M149","v":19},{"$f":"[1]ATIVO!N149","v":26},{"$f":"[1]ATIVO!O149","v":45},{"$f":"[1]ATIVO!P149","v":45}]
[]
[{"$f":"[1]ATIVO!A151","v":"Área"},{"$f":"[1]ATIVO!B151","v":"SECRETARIA DE PETRÓLEO, GÁS NATURAL E BIOCOMBUSTÍVEIS"},{"$f":"[1]ATIVO!C151","v":"Natureza Especial"},{"$f":"[1]ATIVO!D151","v":"Ativo Permanente"},{"$f":"[1]ATIVO!E151","v":"Requisitado Órgãos"},{"$f":"[1]ATIVO!F151","v":"Requisitado Empresas"},{"$f":"[1]ATIVO!G151","v":"Sem Vínculo"},{"$f":"[1]ATIVO!H151","v":"Exercício Descentralizado"},{"$f":"[1]ATIVO!I151","v":"Contrato Temporário"},{"$f":"[1]ATIVO!J151","v":"Anistiado"},{"$f":"[1]ATIVO!K151","v":"Total"},{"$f":"[1]ATIVO!L151","v":"Total Área"},{"$f":"[1]ATIVO!M151","v":"Sexo Feminino"},{"$f":"[1]ATIVO!N151","v":"Sexo Masculino"},{"$f":"[1]ATIVO!O151","v":"Total"},{"$f":"[1]ATIVO!P151","v":"Total Área"}]
[{"$f":"[1]ATIVO!A152","v":"FINALÍSTICA"},{"$f":"[1]ATIVO!B152","v":"          Gabinete da Secretaria de Petróleo, Gás Natural e Biocombustíveis"},{"$f":"[1]ATIVO!C152","v":0},{"$f":"[1]ATIVO!D152","v":2},{"$f":"[1]ATIVO!E152","v":3},{"$f":"[1]ATIVO!F152","v":0},{"$f":"[1]ATIVO!G152","v":4},{"$f":"[1]ATIVO!H152","v":1},{"$f":"[1]ATIVO!I152","v":0},{"$f":"[1]ATIVO!J152","v":0},{"$f":"[1]ATIVO!K152","v":10},{"$f":"[1]ATIVO!L152","v":32},{"$f":"[1]ATIVO!M152","v":5},{"$f":"[1]ATIVO!N152","v":5},{"$f":"[1]ATIVO!O152","v":10},{"$f":"[1]ATIVO!P152","v":32}]
[{"$nulls":12},{"$f":"[1]ATIVO!M153","v":0}]
[null,{"$f":"[1]ATIVO!B154","v":"          Departamento de Política de Exploração e Produção de Petróleo e Gás Natural"},{"$f":"[1]ATIVO!C154","v":0},{"$f":"[1]ATIVO!D154","v":0},{"$f":"[1]ATIVO!E154","v":3},{"$f":"[1]ATIVO!F154","v":0},{"$f":"[1]ATIVO!G154","v":1},{"$f":"[1]ATIVO!H154","v":2},{"$f":"[1]ATIVO!I154","v":0},{"$f":"[1]ATIVO!J154","v":0},{"$f":"[1]ATIVO!K154","v":6},null,{"$f":"[1]ATIVO!M154","v":0},{"$f":"[1]ATIVO!N154","v":6},{"$f":"[1]ATIVO!O154","v":6}]
[null,{"$f":"[1]ATIVO!B155","v":"               Gabinete Departamento de Política de Exploração e Produção de Petróleo e Gás Natural"},{"$f":"[1]ATIVO!C155","v":0},{"$f":"[1]ATIVO!D155","v":0},{"$f":"[1]ATIVO!E155","v":2},{"$f":"[1]ATIVO!F155","v":0},{"$f":"[1]ATIVO!G155","v":0},{"$f":"[1]ATIVO!H155","v":2},{"$f":"[1]ATIVO!I155","v":0},{"$f":"[1]ATIVO!J155","v":0},{"$f":"[1]ATIVO!K155","v":4},null,{"$f":"[1]ATIVO!M155","v":0},{"$f":"[1]ATIVO!N155","v":4},{"$f":"[1]ATIVO!O155","v":4}]
[null,{"$f":"[1]ATIVO!B156","v":"               Coordenação-Geral de Reserva, Exploração e Produção de Petróleo e Gás Natural"},{"$f":"[1]ATIVO!C156","v":0},{"$f":"[1]ATIVO!D156","v":0},{"$f":"[1]ATIVO!E156","v":1},{"$f":"[1]ATIVO!F156","v":0},{"$f":"[1]ATIVO!G156","v":0},{"$f":"[1]ATIVO!H156","v":0},{"$f":"[1]ATIVO!I156","v":0},{"$f":"[1]ATIVO!J156","v":0},{"$f":"[1]ATIVO!K156","v":1},null,{"$f":"[1]ATIVO!M156","v":0},{"$f":"[1]ATIVO!N156","v":1},{"$f":"[1]ATIVO!O156","v":1}]
[null,{"$f":"[1]ATIVO!B157","v":"               Coordenação-Geral de Política de Concessão de Blocos Exploratórios"},{"$f":"[1]ATIVO!C157","v":0},{"$f":"[1]ATIVO!D157","v":0},{"$f":"[1]ATIVO!E157","v":0},{"$f":"[1]ATIVO!F157","v":0},{"$f":"[1]ATIVO!G157","v":1},{"$f":"[1]ATIVO!H157","v":0},{"$f":"[1]ATIVO!I157","v":0},{"$f":"[1]ATIVO!J157","v":0},{"$f":"[1]ATIVO!K157","v":1},null,{"$f":"[1]ATIVO!M157","v":0},{"$f":"[1]ATIVO!N157","v":1},{"$f":"[1]ATIVO!O157","v":1}]
[]
[null,{"$f":"[1]ATIVO!B159","v":"          Departamento de Gás Natural"},{"$f":"[1]ATIVO!C159","v":0},{"$f":"[1]ATIVO!D159","v":0},{"$f":"[1]ATIVO!E159","v":1},{"$f":"[1]ATIVO!F159","v":0},{"$f":"[1]ATIVO!G159","v":0},{"$f":"[1]ATIVO!H159","v":5},{"$f":"[1]ATIVO!I159","v":0},{"$f":"[1]ATIVO!J159","v":0},{"$f":"[1]ATIVO!K159","v":6},null,{"$f":"[1]ATIVO!M159","v":2},{"$f":"[1]ATIVO!N159","v":4},{"$f":"[1]ATIVO!O159","v":6}]
[null,{"$f":"[1]ATIVO!B160","v":"               Gabinete Departamento de Gás Natural"},{"$f":"[1]ATIVO!C160","v":0},{"$f":"[1]ATIVO!D160","v":0},{"$f":"[1]ATIVO!E160","v":1},{"$f":"[1]ATIVO!F160","v":0},{"$f":"[1]ATIVO!G160","v":0},{"$f":"[1]ATIVO!H160","v":3},{"$f":"[1]ATIVO!I160","v":0},{"$f":"[1]ATIVO!J160","v":0},{"$f":"[1]ATIVO!K160","v":4},null,{"$f":"[1]ATIVO!M160","v":1},{"$f":"[1]ATIVO!N160","v":3},{"$f":"[1]ATIVO!O160","v":4}]
[null,{"$f":"[1]ATIVO!B161","v":"               Coordenação-Geral de Acompanhamento, Desenvolvimento de Mercado e Produção"},{"$f":"[1]ATIVO!C161","v":0},{"$f":"[1]ATIVO!D161","v":0},{"$f":"[1]ATIVO!E161","v":0},{"$f":"[1]ATIVO!F161","v":0},{"$f":"[1]ATIVO!G161","v":0},{"$f":"[1]ATIVO!H161","v":1},{"$f":"[1]ATIVO!I161","v":0},{"$f":"[1]ATIVO!J161","v":0},{"$f":"[1]ATIVO!K161","v":1},null,{"$f":"[1]ATIVO!M161","v":1},{"$f":"[1]ATIVO!N161","v":0},{"$f":"[1]ATIVO!O161","v":1}]
[null,{"$f":"[1]ATIVO!B162","v":"               Coordenação-Geral de Processamento de Infraestrutura e Logística"},{"$f":"[1]ATIVO!C162","v":0},{"$f":"[1]ATIVO!D162","v":0},{"$f":"[1]ATIVO!E162","v":0},{"$f":"[1]ATIVO!F162","v":0},{"$f":"[1]ATIVO!G162","v":0},{"$f":"[1]ATIVO!H162","v":1},{"$f":"[1]ATIVO!I162","v":0},{"$f":"[1]ATIVO!J162","v":0},{"$f":"[1]ATIVO!K162","v":1},null,{"$f":"[1]ATIVO!M162","v":0},{"$f":"[1]ATIVO!N162","v":1},{"$f":"[1]ATIVO!O162","v":1}]
[]
[null,{"$f":"[1]ATIVO!B164","v":"          Departamento de Combustíveis Derivados de Petróleo"},{"$f":"[1]ATIVO!C164","v":0},{"$f":"[1]ATIVO!D164","v":0},{"$f":"[1]ATIVO!E164","v":2},{"$f":"[1]ATIVO!F164","v":0},{"$f":"[1]ATIVO!G164","v":0},{"$f":"[1]ATIVO!H164","v":3},{"$f":"[1]ATIVO!I164","v":0},{"$f":"[1]ATIVO!J164","v":0},{"$f":"[1]ATIVO!K164","v":5},null,{"$f":"[1]ATIVO!M164","v":2},{"$f":"[1]ATIVO!N164","v":3},{"$f":"[1]ATIVO!O164","v":5}]
[null,{"$f":"[1]ATIVO!B165","v":"               Gabinete Departamento de Combustíveis Derivados de Petróleo"},{"$f":"[1]ATIVO!C165","v":0},{"$f":"[1]ATIVO!D165","v":0},{"$f":"[1]ATIVO!E165","v":1},{"$f":"[1]ATIVO!F165","v":0},{"$f":"[1]ATIVO!G165","v":0},{"$f":"[1]ATIVO!H165","v":2},{"$f":"[1]ATIVO!I165","v":0},{"$f":"[1]ATIVO!J165","v":0},{"$f":"[1]ATIVO!K165","v":3},null,{"$f":"[1]ATIVO!M165","v":1},{"$f":"[1]ATIVO!N165","v":2},{"$f":"[1]ATIVO!O165","v":3}]
[null,{"$f":"[1]ATIVO!B166","v":"               Coordenação-Geral de Acompanhamento do Mercado"},{"$f":"[1]ATIVO!C166","v":0},{"$f":"[1]ATIVO!D166","v":0},{"$f":"[1]ATIVO!E166","v":0},{"$f":"[1]ATIVO!F166","v":0},{"$f":"[1]ATIVO!G166","v":0},{"$f":"[1]ATIVO!H166","v":1},{"$f":"[1]ATIVO!I166","v":0},{"$f":"[1]ATIVO!J166","v":0},{"$f":"[1]ATIVO!K166","v":1},null,{"$f":"[1]ATIVO!M166","v":0},{"$f":"[1]ATIVO!N166","v":1},{"$f":"[1]ATIVO!O166","v":1}]
[null,{"$f":"[1]ATIVO!B167","v":"               Coordenação-Geral de Refino, Abastecimento e Infraestrutura"},{"$f":"[1]ATIVO!C167","v":0},{"$f":"[1]ATIVO!D167","v":0},{"$f":"[1]ATIVO!E167","v":1},{"$f":"[1]ATIVO!F167","v":0},{"$f":"[1]ATIVO!G167","v":0},{"$f":"[1]ATIVO!H167","v":0},{"$f":"[1]ATIVO!I167","v":0},{"$f":"[1]ATIVO!J167","v":0},{"$f":"[1]ATIVO!K167","v":1},null,{"$f":"[1]ATIVO!M167","v":1},{"$f":"[1]ATIVO!N167","v":0},{"$f":"[1]ATIVO!O167","v":1}]
[]
[null,{"$f":"[1]ATIVO!B169","v":"          Departamento de Biocombustíveis"},{"$f":"[1]ATIVO!C169","v":0},{"$f":"[1]ATIVO!D169","v":0},{"$f":"[1]ATIVO!E169","v":0},{"$f":"[1]ATIVO!F169","v":0},{"$f":"[1]ATIVO!G169","v":0},{"$f":"[1]ATIVO!H169","v":5},{"$f":"[1]ATIVO!I169","v":0},{"$f":"[1]ATIVO!J169","v":0},{"$f":"[1]ATIVO!K169","v":5},null,{"$f":"[1]ATIVO!M169","v":0},{"$f":"[1]ATIVO!N169","v":5},{"$f":"[1]ATIVO!O169","v":5}]
[null,{"$f":"[1]ATIVO!B170","v":"               Gabinete Departamento de Biocombustíveis"},{"$f":"[1]ATIVO!C170","v":0},{"$f":"[1]ATIVO!D170","v":0},{"$f":"[1]ATIVO!E170","v":0},{"$f":"[1]ATIVO!F170","v":0},{"$f":"[1]ATIVO!G170","v":0},{"$f":"[1]ATIVO!H170","v":2},{"$f":"[1]ATIVO!I170","v":0},{"$f":"[1]ATIVO!J170","v":0},{"$f":"[1]ATIVO!K170","v":2},null,{"$f":"[1]ATIVO!M170","v":0},{"$f":"[1]ATIVO!N170","v":2},{"$f":"[1]ATIVO!O170","v":2}]
[null,{"$f":"[1]ATIVO!B171","v":"               Coordenação-Geral de Biodiesel e Outros Biocombustíveis"},{"$f":"[1]ATIVO!C171","v":0},{"$f":"[1]ATIVO!D171","v":0},{"$f":"[1]ATIVO!E171","v":0},{"$f":"[1]ATIVO!F171","v":0},{"$f":"[1]ATIVO!G171","v":0},{"$f":"[1]ATIVO!H171","v":2},{"$f":"[1]ATIVO!I171","v":0},{"$f":"[1]ATIVO!J171","v":0},{"$f":"[1]ATIVO!K171","v":2},null,{"$f":"[1]ATIVO!M171","v":0},{"$f":"[1]ATIVO!N171","v":2},{"$f":"[1]ATIVO!O171","v":2}]
[null,{"$f":"[1]ATIVO!B172","v":"               Coordenação-Geral de Etanol"},{"$f":"[1]ATIVO!C172","v":0},{"$f":"[1]ATIVO!D172","v":0},{"$f":"[1]ATIVO!E172","v":0},{"$f":"[1]ATIVO!F172","v":0},{"$f":"[1]ATIVO!G172","v":0},{"$f":"[1]ATIVO!H172","v":1},{"$f":"[1]ATIVO!I172","v":0},{"$f":"[1]ATIVO!J172","v":0},{"$f":"[1]ATIVO!K172","v":1},null,{"$f":"[1]ATIVO!M172","v":0},{"$f":"[1]ATIVO!N172","v":1},{"$f":"[1]ATIVO!O172","v":1}]
[null,{"$f":"[1]ATIVO!B173","v":"TOTAL"},{"$f":"[1]ATIVO!C173","v":0},{"$f":"[1]ATIVO!D173","v":2},{"$f":"[1]ATIVO!E173","v":9},{"$f":"[1]ATIVO!F173","v":0},{"$f":"[1]ATIVO!G173","v":5},{"$f":"[1]ATIVO!H173","v":16},{"$f":"[1]ATIVO!I173","v":0},{"$f":"[1]ATIVO!J173","v":0},{"$f":"[1]ATIVO!K173","v":32},{"$f":"[1]ATIVO!L173","v":32},{"$f":"[1]ATIVO!M173","v":9},{"$f":"[1]ATIVO!N173","v":23},{"$f":"[1]ATIVO!O173","v":32},{"$f":"[1]ATIVO!P173","v":32}]
[]
[{"$f":"[1]ATIVO!A177","v":"Área"},{"$f":"[1]ATIVO!B177","v":"ESCRITÓRIO RIO DE JANEIRO/RJ"},{"$f":"[1]ATIVO!C177","v":"Natureza Especial"},{"$f":"[1]ATIVO!D177","v":"Ativo Permanente"},{"$f":"[1]ATIVO!E177","v":"Requisitado Órgãos"},{"$f":"[1]ATIVO!F177","v":"Requisitado Empresas"},{"$f":"[1]ATIVO!G177","v":"Sem Vínculo"},{"$f":"[1]ATIVO!H177","v":"Exercício Descentralizado"},{"$f":"[1]ATIVO!I177","v":"Contrato Temporário"},{"$f":"[1]ATIVO!J177","v":"Anistiado"},{"$f":"[1]ATIVO!K177","v":"Total"},{"$f":"[1]ATIVO!L177","v":"Total Área"},{"$f":"[1]ATIVO!M177","v":"Sexo Feminino"},{"$f":"[1]ATIVO!N177","v":"Sexo Masculino"},{"$f":"[1]ATIVO!O177","v":"Total"},{"$f":"[1]ATIVO!P177","v":"Total Área"}]
[{"$f":"[1]ATIVO!A178","v":"MEIO"},{"$f":"[1]ATIVO!B178","v":"ESCRITÓRIO RIO DE JANEIRO/RJ"},{"$f":"[1]ATIVO!C178","v":0},{"$f":"[1]ATIVO!D178","v":0},{"$f":"[1]ATIVO!E178","v":11},{"$f":"[1]ATIVO!F178","v":4},{"$f":"[1]ATIVO!G178","v":0},{"$f":"[1]ATIVO!H178","v":0},{"$f":"[1]ATIVO!I178","v":0},{"$f":"[1]ATIVO!J178","v":4},{"$f":"[1]ATIVO!K178","v":19},{"$f":"[1]ATIVO!L178","v":19},{"$f":"[1]ATIVO!M178","v":1},{"$f":"[1]ATIVO!N178","v":3},{"$f":"[1]ATIVO!O178","v":4},{"$f":"[1]ATIVO!P178","v":4}]
[null,{"$f":"[1]ATIVO!B179","v":"TOTAL"},{"$f":"[1]ATIVO!C179","v":0},{"$f":"[1]ATIVO!D179","v":0},{"$f":"[1]ATIVO!E179","v":11},{"$f":"[1]ATIVO!F179","v":4},{"$f":"[1]ATIVO!G179","v":0},{"$f":"[1]ATIVO!H179","v":0},{"$f":"[1]ATIVO!I179","v":0},{"$f":"[1]ATIVO!J179","v":4},{"$f":"[1]ATIVO!K179","v":19},{"$f":"[1]ATIVO!L179","v":19},{"$f":"[1]ATIVO!M179","v":1},{"$f":"[1]ATIVO!N179","v":3},{"$f":"[1]ATIVO!O179","v":4},{"$f":"[1]ATIVO!P179","v":4}]

{"sheet":"PQDEXMMEGRAF","index":6,"n_rows":1,"n_cols":1,"rows_kept":1,"merged":[[0,0,0,23]]}
["GRÁFICOS -QUADROS DETALHADOS DE PESSOAL ATIVO EM EXERCÍCIO NO MME"]

{"sheet":"PQESTAGIO","index":7,"n_rows":42,"n_cols":16,"rows_kept":42,"merged":[[3,0,3,1],[3,3,3,10],[3,12,3,15],[4,3,5,3],[4,4,5,4],[4,5,4,6],[4,7,4,8],[4,9,4,10],[4,12,5,12],[4,13,4,15],[9,12,11,12],[9,13,10,13],[9,14,10,14],[9,15,10,15],[13,12,14,12],[13,13,14,13],[14,0,15,0],[14,1,15,1],[19,12,20,12],[19,13,20,13],[31,3,31,9],[33,3,33,9],[41,3,43,9]]}
[]
[]
[]
[{"$f":"[1]CONTROLEVAGASEST!B15","v":"VAGAS VÁLIDAS"},null,null,{"$f":"[1]CONTROLEVAGASEST!E15","v":"DEFINIÇÃO DE VAGAS POR UNIDADE"},{"$nulls":8},{"$f":"[1]CONTROLEVAGASEST!N15","v":"QUANTITATIVO E OCUPAÇÃO DE VAGAS ATUAL"}]
[{"$f":"[1]CONTROLEVAGASEST!B17","v":"Descricao"},{"$f":"[1]CONTROLEVAGASEST!C17","v":"Quantidade"},null,{"$f":"[1]CONTROLEVAGASEST!E17","v":"Unidade"},{"$f":"[1]CONTROLEVAGASEST!F17","v":"Quantidade Definida"},{"$f":"[1]CONTROLEVAGASEST!G17","v":"Nível Médo"},null,{"$f":"[1]CONTROLEVAGASEST!I17","v":"Nível Superior"},null,{"$f":"[1]CONTROLEVAGASEST!K17","v":"Pós-Graduação"},null,null,{"$f":"[1]CONTROLEVAGASEST!N17","v":"Nível"},{"$f":"[1]CONTROLEVAGASEST!O17","v":"Quantitativo Vagas Válidas"}]
[{"$f":"[1]CONTROLEVAGASEST!B18","v":"ATIVO PERMANENTE"},{"$f":"[1]CONTROLEVAGASEST!C18","v":137},{"$nulls":3},{"$f":"[1]CONTROLEVAGASEST!G18","v":"Definição"},{"$f":"[1]CONTROLEVAGASEST!H18","v":"Ocupação"},{"$f":"[1]CONTROLEVAGASEST!I18","v":"Definição"},{"$f":"[1]CONTROLEVAGASEST!J18","v":"Ocupação"},{"$f":"[1]CONTROLEVAGASEST!K18","v":"Definição"},{"$f":"[1]CONTROLEVAGASEST!L18","v":"Ocupação"},null,null,{"$f":"[1]CONTROLEVAGASEST!O18","v":"Previsto"},{"$f":"[1]CONTROLEVAGASEST!P18","v":"Preenchido"},{"$f":"[1]CONTROLEVAGASEST!Q18","v":"Vago"}]
[{"$f":"[1]CONTROLEVAGASEST!B19","v":"REQUISITADO EMPRESAS"},{"$f":"[1]CONTROLEVAGASEST!C19","v":5},null,{"$f":"[1]CONTROLEVAGASEST!E19","v":"GM/GABINETE"},{"$f":"[1]CONTROLEVAGASEST!F19","v":3},{"$f":"[1]CONTROLEVAGASEST!G19","v":1},{"$f":"[1]CONTROLEVAGASEST!H19","v":0},{"$f":"[1]CONTROLEVAGASEST!I19","v":2},{"$f":"[1]CONTROLEVAGASEST!J19","v":3},{"$f":"[1]CONTROLEVAGASEST!K19","v":0},{"$f":"[1]CONTROLEVAGASEST!L19","v":0},null,{"$f":"[1]CONTROLEVAGASEST!N19","v":"Médio"},{"$f":"[1]CONTROLEVAGASEST!O19","v":8},{"$f":"[1]CONTROLEVAGASEST!P19","v":6},{"$f":"[1]CONTROLEVAGASEST!Q19","v":2}]
[{"$f":"[1]CONTROLEVAGASEST!B20","v":"NOMEADO CARGO COMISÃO"},{"$f":"[1]CONTROLEVAGASEST!C20","v":119},null,{"$f":"[1]CONTROLEVAGASEST!E20","v":"GM/ASCOM"},{"$f":"[1]CONTROLEVAGASEST!F20","v":4},{"$f":"[1]CONTROLEVAGASEST!G20","v":0},{"$f":"[1]CONTROLEVAGASEST!H20","v":0},{"$f":"[1]CONTROLEVAGASEST!I20","v":4},{"$f":"[1]CONTROLEVAGASEST!J20","v":4},{"$f":"[1]CONTROLEVAGASEST!K20","v":0},{"$f":"[1]CONTROLEVAGASEST!L20","v":0},null,{"$f":"[1]CONTROLEVAGASEST!N20","v":"Superior Graduação"},{"$f":"[1]CONTROLEVAGASEST!O20","v":60},{"$f":"[1]CONTROLEVAGASEST!P20","v":34},{"$f":"[1]CONTROLEVAGASEST!Q20","v":26}]
[{"$f":"[1]CONTROLEVAGASEST!B21","v":"NATUREZA ESPECIAL"},{"$f":"[1]CONTROLEVAGASEST!C21","v":1},null,{"$f":"[1]CONTROLEVAGASEST!E21","v":"GM/ASPAR"},{"$f":"[1]CONTROLEVAGASEST!F21","v":3},{"$f":"[1]CONTROLEVAGASEST!G21","v":1},{"$f":"[1]CONTROLEVAGASEST!H21","v":1},{"$f":"[1]CONTROLEVAGASEST!I21","v":2},{"$f":"[1]CONTROLEVAGASEST!J21","v":2},{"$f":"[1]CONTROLEVAGASEST!K21","v":0},{"$f":"[1]CONTROLEVAGASEST!L21","v":0},null,{"$f":"[1]CONTROLEVAGASEST!N21","v":"Superior Pós-Graduação"},{"$f":"[1]CONTROLEVAGASEST!O21","v":12},{"$f":"[1]CONTROLEVAGASEST!P21","v":2},{"$f":"[1]CONTROLEVAGASEST!Q21","v":10}]
[{"$f":"[1]CONTROLEVAGASEST!B22","v":"CEDIDO"},{"$f":"[1]CONTROLEVAGASEST!C22","v":32},null,{"$f":"[1]CONTROLEVAGASEST!E22","v":"CONJUR"},{"$f":"[1]CONTROLEVAGASEST!F22","v":3},{"$f":"[1]CONTROLEVAGASEST!G22","v":0},{"$f":"[1]CONTROLEVAGASEST!H22","v":0},{"$f":"[1]CONTROLEVAGASEST!I22","v":3},{"$f":"[1]CONTROLEVAGASEST!J22","v":2},{"$f":"[1]CONTROLEVAGASEST!K22","v":0},{"$f":"[1]CONTROLEVAGASEST!L22","v":0},null,{"$f":"[1]CONTROLEVAGASEST!N22","v":"Total"},{"$f":"[1]CONTROLEVAGASEST!O22","v":80},{"$f":"[1]CONTROLEVAGASEST!P22","v":42},{"$f":"[1]CONTROLEVAGASEST!Q22","v":38}]
[{"$f":"[1]CONTROLEVAGASEST!B23","v":"REQUISITADO DE OUTROS ORGAOS"},{"$f":"[1]CONTROLEVAGASEST!C23","v":71},null,{"$f":"[1]CONTROLEVAGASEST!E23","v":"ASSINT"},{"$f":"[1]CONTROLEVAGASEST!F23","v":1},{"$f":"[1]CONTROLEVAGASEST!G23","v":0},{"$f":"[1]CONTROLEVAGASEST!H23","v":0},{"$f":"[1]CONTROLEVAGASEST!I23","v":1},{"$f":"[1]CONTROLEVAGASEST!J23","v":0},{"$f":"[1]CONTROLEVAGASEST!K23","v":0},{"$f":"[1]CONTROLEVAGASEST!L23","v":0}]
[{"$f":"[1]CONTROLEVAGASEST!B24","v":"EXERCÍCIO DESCENTRALIZADO CARREIRA"},{"$f":"[1]CONTROLEVAGASEST!C24","v":88},null,{"$f":"[1]CONTROLEVAGASEST!E24","v":"ASSEC"},{"$f":"[1]CONTROLEVAGASEST!F24","v":1},{"$f":"[1]CONTROLEVAGASEST!G24","v":0},{"$f":"[1]CONTROLEVAGASEST!H24","v":0},{"$f":"[1]CONTROLEVAGASEST!I24","v":1},{"$f":"[1]CONTROLEVAGASEST!J24","v":0},{"$f":"[1]CONTROLEVAGASEST!K24","v":0},{"$f":"[1]CONTROLEVAGASEST!L24","v":0},null,null,{"$f":"[1]CONTROLEVAGASEST!O24","v":{"v":1,"d":"100.00%"}},{"$f":"[1]CONTROLEVAGASEST!P24","v":{"v":0.525,"d":"52.50%"}},{"$f":"[1]CONTROLEVAGASEST!Q24","v":{"v":0.475,"d":"47.50%"}}]
[{"$f":"[1]CONTROLEVAGASEST!B25","v":"ANISTIADO"},{"$f":"[1]CONTROLEVAGASEST!C25","v":499},null,{"$f":"[1]CONTROLEVAGASEST!E25","v":"AEPED"},{"$f":"[1]CONTROLEVAGASEST!F25","v":1},{"$f":"[1]CONTROLEVAGASEST!G25","v":0},{"$f":"[1]CONTROLEVAGASEST!H25","v":0},{"$f":"[1]CONTROLEVAGASEST!I25","v":1},{"$f":"[1]CONTROLEVAGASEST!J25","v":0},{"$f":"[1]CONTROLEVAGASEST!K25","v":0},{"$f":"[1]CONTROLEVAGASEST!L25","v":0}]
[{"$f":"[1]CONTROLEVAGASEST!B26","v":"TOTAL"},{"$f":"[1]CONTROLEVAGASEST!C26","v":952},null,{"$f":"[1]CONTROLEVAGASEST!E26","v":"AECI"},{"$f":"[1]CONTROLEVAGASEST!F26","v":1},{"$f":"[1]CONTROLEVAGASEST!G26","v":0},{"$f":"[1]CONTROLEVAGASEST!H26","v":0},{"$f":"[1]CONTROLEVAGASEST!I26","v":1},{"$f":"[1]CONTROLEVAGASEST!J26","v":0},{"$f":"[1]CONTROLEVAGASEST!K26","v":0},{"$f":"[1]CONTROLEVAGASEST!L26","v":0},null,{"$f":"[1]CONTROLEVAGASEST!N26","v":"Nível"},{"$f":"[1]CONTROLEVAGASEST!O26","v":"Preenchido"}]
[{"$f":"[1]CONTROLEVAGASEST!B27","v":"Limite de 8%  (nº de vagas válidas)"},{"$f":"ROUNDUP(B14*8%,0)","v":77},null,{"$f":"[1]CONTROLEVAGASEST!E27","v":"SE"},{"$f":"[1]CONTROLEVAGASEST!F27","v":4},{"$f":"[1]CONTROLEVAGASEST!G27","v":1},{"$f":"[1]CONTROLEVAGASEST!H27","v":1},{"$f":"[1]CONTROLEVAGASEST!I27","v":3},{"$f":"[1]CONTROLEVAGASEST!J27","v":0},{"$f":"[1]CONTROLEVAGASEST!K27","v":0},{"$f":"[1]CONTROLEVAGASEST!L27","v":0}]
[{"$nulls":3},{"$f":"[1]CONTROLEVAGASEST!E28","v":"AEGE"},{"$f":"[1]CONTROLEVAGASEST!F28","v":3},{"$f":"[1]CONTROLEVAGASEST!G28","v":0},{"$f":"[1]CONTROLEVAGASEST!H28","v":0},{"$f":"[1]CONTROLEVAGASEST!I28","v":3},{"$f":"[1]CONTROLEVAGASEST!J28","v":3},{"$f":"[1]CONTROLEVAGASEST!K28","v":0},{"$f":"[1]CONTROLEVAGASEST!L28","v":0},null,{"$f":"[1]CONTROLEVAGASEST!N28","v":"Médio"},{"$f":"[1]CONTROLEVAGASEST!O28","v":6}]
[{"$nulls":3},{"$f":"[1]CONTROLEVAGASEST!E29","v":"AESA"},{"$f":"[1]CONTROLEVAGASEST!F29","v":2},{"$f":"[1]CONTROLEVAGASEST!G29","v":0},{"$f":"[1]CONTROLEVAGASEST!H29","v":0},{"$f":"[1]CONTROLEVAGASEST!I29","v":2},{"$f":"[1]CONTROLEVAGASEST!J29","v":2},{"$f":"[1]CONTROLEVAGASEST!K29","v":0},{"$f":"[1]CONTROLEVAGASEST!L29","v":0},null,{"$f":"[1]CONTROLEVAGASEST!N29","v":"Superior Graduação"},{"$f":"[1]CONTROLEVAGASEST!O29","v":34}]
[{"$nulls":3},{"$f":"[1]CONTROLEVAGASEST!E30","v":"AEGP"},{"$f":"[1]CONTROLEVAGASEST!F30","v":2},{"$f":"[1]CONTROLEVAGASEST!G30","v":0},{"$f":"[1]CONTROLEVAGASEST!H30","v":0},{"$f":"[1]CONTROLEVAGASEST!I30","v":2},{"$f":"[1]CONTROLEVAGASEST!J30","v":1},{"$f":"[1]CONTROLEVAGASEST!K30","v":0},{"$f":"[1]CONTROLEVAGASEST!L30","v":0},null,{"$f":"[1]CONTROLEVAGASEST!N30","v":"Superior Pós-Graduação"},{"$f":"[1]CONTROLEVAGASEST!O30","v":2}]
[{"$nulls":3},{"$f":"[1]CONTROLEVAGASEST!E31","v":"CGRH"},{"$f":"[1]CONTROLEVAGASEST!F31","v":1},{"$f":"[1]CONTROLEVAGASEST!G31","v":0},{"$f":"[1]CONTROLEVAGASEST!H31","v":0},{"$f":"[1]CONTROLEVAGASEST!I31","v":0},{"$f":"[1]CONTROLEVAGASEST!J31","v":0},{"$f":"[1]CONTROLEVAGASEST!K31","v":1},{"$f":"[1]CONTROLEVAGASEST!L31","v":1},null,{"$f":"[1]CONTROLEVAGASEST!N31","v":"Total"},{"$f":"[1]CONTROLEVAGASEST!O31","v":42}]
[{"$nulls":3},{"$f":"[1]CONTROLEVAGASEST!E32","v":"CGRL"},{"$f":"[1]CONTROLEVAGASEST!F32","v":3},{"$f":"[1]CONTROLEVAGASEST!G32","v":2},{"$f":"[1]CONTROLEVAGASEST!H32","v":2},{"$f":"[1]CONTROLEVAGASEST!I32","v":1},{"$f":"[1]CONTROLEVAGASEST!J32","v":0},{"$f":"[1]CONTROLEVAGASEST!K32","v":0},{"$f":"[1]CONTROLEVAGASEST!L32","v":0},null,{"$f":"[1]CONTROLEVAGASEST!N32&\"  (\"&ROUNDUP(B15,0)&\" vagas)\"","v":"% de ocupação considerando o limite de 8%   (77 vagas)"},{"$f":"[1]CONTROLEVAGASEST!O32","v":{"v":0.5514705882352942,"d":"55.15%"}}]
[{"$nulls":3},{"$f":"[1]CONTROLEVAGASEST!E33","v":"CGTI"},{"$f":"[1]CONTROLEVAGASEST!F33","v":1},{"$f":"[1]CONTROLEVAGASEST!G33","v":0},{"$f":"[1]CONTROLEVAGASEST!H33","v":0},{"$f":"[1]CONTROLEVAGASEST!I33","v":1},{"$f":"[1]CONTROLEVAGASEST!J33","v":1},{"$f":"[1]CONTROLEVAGASEST!K33","v":0},{"$f":"[1]CONTROLEVAGASEST!L33","v":0}]
[{"$nulls":3},{"$f":"[1]CONTROLEVAGASEST!E34","v":"CGCC"},{"$f":"[1]CONTROLEVAGASEST!F34","v":1},{"$f":"[1]CONTROLEVAGASEST!G34","v":0},{"$f":"[1]CONTROLEVAGASEST!H34","v":0},{"$f":"[1]CONTROLEVAGASEST!I34","v":1},{"$f":"[1]CONTROLEVAGASEST!J34","v":0},{"$f":"[1]CONTROLEVAGASEST!K34","v":0},{"$f":"[1]CONTROLEVAGASEST!L34","v":0}]
[{"$nulls":3},{"$f":"[1]CONTROLEVAGASEST!E35","v":"SEE"},{"$f":"[1]CONTROLEVAGASEST!F35","v":12},{"$f":"[1]CONTROLEVAGASEST!G35","v":0},{"$f":"[1]CONTROLEVAGASEST!H35","v":0},{"$f":"[1]CONTROLEVAGASEST!I35","v":8},{"$f":"[1]CONTROLEVAGASEST!J35","v":5},{"$f":"[1]CONTROLEVAGASEST!K35","v":4},{"$f":"[1]CONTROLEVAGASEST!L35","v":1}]
[{"$nulls":3},{"$f":"[1]CONTROLEVAGASEST!E36","v":"SGM"},{"$f":"[1]CONTROLEVAGASEST!F36","v":10},{"$f":"[1]CONTROLEVAGASEST!G36","v":0},{"$f":"[1]CONTROLEVAGASEST!H36","v":0},{"$f":"[1]CONTROLEVAGASEST!I36","v":6},{"$f":"[1]CONTROLEVAGASEST!J36","v":2},{"$f":"[1]CONTROLEVAGASEST!K36","v":4},{"$f":"[1]CONTROLEVAGASEST!L36","v":0}]
[{"$nulls":3},{"$f":"[1]CONTROLEVAGASEST!E37","v":"SPE"},{"$f":"[1]CONTROLEVAGASEST!F37","v":12},{"$f":"[1]CONTROLEVAGASEST!G37","v":2},{"$f":"[1]CONTROLEVAGASEST!H37","v":2},{"$f":"[1]CONTROLEVAGASEST!I37","v":8},{"$f":"[1]CONTROLEVAGASEST!J37","v":7},{"$f":"[1]CONTROLEVAGASEST!K37","v":2},{"$f":"[1]CONTROLEVAGASEST!L37","v":0}]
[{"$nulls":3},{"$f":"[1]CONTROLEVAGASEST!E38","v":"SPG"},{"$f":"[1]CONTROLEVAGASEST!F38","v":12},{"$f":"[1]CONTROLEVAGASEST!G38","v":1},{"$f":"[1]CONTROLEVAGASEST!H38","v":0},{"$f":"[1]CONTROLEVAGASEST!I38","v":10},{"$f":"[1]CONTROLEVAGASEST!J38","v":2},{"$f":"[1]CONTROLEVAGASEST!K38","v":1},{"$f":"[1]CONTROLEVAGASEST!L38","v":0}]
[{"$nulls":3},{"$f":"[1]CONTROLEVAGASEST!E39","v":"Total"},{"$f":"[1]CONTROLEVAGASEST!F39","v":80},{"$f":"[1]CONTROLEVAGASEST!G39","v":8},{"$f":"[1]CONTROLEVAGASEST!H39","v":6},{"$f":"[1]CONTROLEVAGASEST!I39","v":60},{"$f":"[1]CONTROLEVAGASEST!J39","v":34},{"$f":"[1]CONTROLEVAGASEST!K39","v":12},{"$f":"[1]CONTROLEVAGASEST!L39","v":2}]
[]
[{"$nulls":3},"Observação:","Ocupação ultrapassou o nº de vagas definido",{"$nulls":3},{"$f":"80-ROUNDUP(B15,0)&\" vagas devem ser suspensas\"","v":"3 vagas devem ser suspensas"}]
[{"$nulls":4},"Ocupação atingiu o nº de vagas definido",{"$nulls":3},{"$f":"\"por ultrapassar o limite de 8%\"","v":"por ultrapassar o limite de 8%"}]
[]
[{"$nulls":3},{"$f":"'[1]CONTROLE%NEGROS'!B8","v":"Planilha de Acompanhamento do Decreto nº 9.427, de 28/06/2019"}]
[]
[{"$nulls":3},{"$f":"'[1]CONTROLE%NEGROS'!B11","v":"Nível x Cor/Raça"}]
[{"$nulls":3},{"$f":"'[1]CONTROLE%NEGROS'!B12","v":"NÍVEL"},{"$f":"'[1]CONTROLE%NEGROS'!C12","v":"PRETA"},{"$f":"'[1]CONTROLE%NEGROS'!D12","v":"PARDA"},{"$f":"'[1]CONTROLE%NEGROS'!E12","v":"BRANCA"},{"$f":"'[1]CONTROLE%NEGROS'!F12","v":"AMARELA"},{"$f":"'[1]CONTROLE%NEGROS'!G12","v":"INDÍGENA"},{"$f":"'[1]CONTROLE%NEGROS'!H12","v":"TOTAL"}]
[{"$nulls":3},{"$f":"'[1]CONTROLE%NEGROS'!B14","v":"Médio"},{"$f":"'[1]CONTROLE%NEGROS'!C14","v":0},{"$f":"'[1]CONTROLE%NEGROS'!D14","v":4},{"$f":"'[1]CONTROLE%NEGROS'!E14","v":2},{"$f":"'[1]CONTROLE%NEGROS'!F14","v":0},{"$f":"'[1]CONTROLE%NEGROS'!G14","v":0},{"$f":"'[1]CONTROLE%NEGROS'!H14","v":6}]
[{"$nulls":3},{"$f":"'[1]CONTROLE%NEGROS'!B15","v":"Superior Graduação"},{"$f":"'[1]CONTROLE%NEGROS'!C15","v":3},{"$f":"'[1]CONTROLE%NEGROS'!D15","v":16},{"$f":"'[1]CONTROLE%NEGROS'!E15","v":15},{"$f":"'[1]CONTROLE%NEGROS'!F15","v":0},{"$f":"'[1]CONTROLE%NEGROS'!G15","v":0},{"$f":"'[1]CONTROLE%NEGROS'!H15","v":34}]
[{"$nulls":3},{"$f":"'[1]CONTROLE%NEGROS'!B16","v":"Superior Pós-Graduação"},{"$f":"'[1]CONTROLE%NEGROS'!C16","v":0},{"$f":"'[1]CONTROLE%NEGROS'!D16","v":1},{"$f":"'[1]CONTROLE%NEGROS'!E16","v":1},{"$f":"'[1]CONTROLE%NEGROS'!F16","v":0},{"$f":"'[1]CONTROLE%NEGROS'!G16","v":0},{"$f":"'[1]CONTROLE%NEGROS'!H16","v":2}]
[{"$nulls":3},{"$f":"'[1]CONTROLE%NEGROS'!B17","v":"Total"},{"$f":"'[1]CONTROLE%NEGROS'!C17","v":3},{"$f":"'[1]CONTROLE%NEGROS'!D17","v":21},{"$f":"'[1]CONTROLE%NEGROS'!E17","v":18},{"$f":"'[1]CONTROLE%NEGROS'!F17","v":0},{"$f":"'[1]CONTROLE%NEGROS'!G17","v":0},{"$f":"'[1]CONTROLE%NEGROS'!H17","v":42}]
[{"$nulls":3},{"$f":"'[1]CONTROLE%NEGROS'!B18","v":"Total em %"},{"$f":"'[1]CONTROLE%NEGROS'!C18","v":{"v":0.07142857142857142,"d":"7.14%"}},{"$f":"'[1]CONTROLE%NEGROS'!D18","v":{"v":0.5,"d":"50.00%"}},{"$f":"'[1]CONTROLE%NEGROS'!E18","v":{"v":0.42857142857142855,"d":"42.86%"}},{"$f":"'[1]CONTROLE%NEGROS'!F18","v":"***"},{"$f":"'[1]CONTROLE%NEGROS'!G18","v":"***"},{"$f":"'[1]CONTROLE%NEGROS'!H18","v":{"v":1,"d":"100.00%"}}]
[{"$nulls":9},{"$f":"E40+F40","v":{"v":0.5714285714285714,"d":"57.14%"}}]
[{"$nulls":3},"Ficam reservadas aos negros (pretos ou pardos) 30% (trinta por cento) das vagas oferecidas nas seleções para estágio no âmbito da administração pública federal direta, autárquica e fundacional. "]

{"sheet":"PEVOLUÇÃO","index":8,"n_rows":12,"n_cols":13,"rows_kept":12,"merged":[[11,12,15,13],[29,9,30,13],[29,14,30,16],[34,9,35,13],[34,14,35,16],[39,9,40,16],[43,9,44,13],[43,14,44,16]]}
{"$rows_empty":11}
[{"$nulls":12},"       CGRH/MME"]

{"sheet":"PEVGLOBAL","index":9,"n_rows":16,"n_cols":19,"rows_kept":16,"merged":[[0,0,0,18],[2,0,3,0],[2,1,3,1],[2,2,3,2],[2,3,2,4],[2,5,2,6],[2,7,2,8],[2,9,2,10],[2,11,2,12],[2,13,2,14],[2,15,2,16],[2,17,2,18]]}
["QUADRO DE EVOLUÇÃO GLOBAL"]
[]
[{"$f":"[1]GLOBAL!A4","v":"Ano"},{"$f":"[1]GLOBAL!B4","v":"Quantitativo Geral de Servidores/Empregados Ativos"},{"$f":"[1]GLOBAL!C4","v":"% de aumento ou redução Quantitativo Geral"},{"$f":"[1]GLOBAL!D4","v":"Ativo Permanente"},null,{"$f":"[1]GLOBAL!F4","v":"Cedidos"},null,{"$f":"[1]GLOBAL!H4","v":"Anistiado"},null,{"$f":"[1]GLOBAL!J4","v":"Requisitado de Empresa"},null,{"$f":"[1]GLOBAL!L4","v":"Requisitado Órgãos"},null,{"$f":"[1]GLOBAL!N4","v":"Sem Vínculo"},null,{"$f":"[1]GLOBAL!P4","v":"Exercício Descentralizado"},null,{"$f":"[1]GLOBAL!R4","v":"Contrato Temporário"}]
[{"$nulls":3},{"$f":"[1]GLOBAL!D5","v":"Qtd"},{"$f":"[1]GLOBAL!E5","v":"% de aumento ou redução Ativo Permanente"},{"$f":"[1]GLOBAL!F5","v":"Qtd"},{"$f":"[1]GLOBAL!G5","v":"% de aumento ou redução Cedidos"},{"$f":"[1]GLOBAL!H5","v":"Qtd"},{"$f":"[1]GLOBAL!I5","v":"% de aumento ou redução Anistiado"},{"$f":"[1]GLOBAL!J5","v":"Qtd"},{"$f":"[1]GLOBAL!K5","v":"% de aumento ou redução Requisitado de Empresa"},{"$f":"[1]GLOBAL!L5","v":"Qtd"},{"$f":"[1]GLOBAL!M5","v":"% de aumento ou redução Requisitado Órgãos"},{"$f":"[1]GLOBAL!N5","v":"Qtd"},{"$f":"[1]GLOBAL!O5","v":"% de aumento ou redução Sem Vínculo"},{"$f":"[1]GLOBAL!P5","v":"Qtd"},{"$f":"[1]GLOBAL!Q5","v":"% de aumento ou redução Exercício Descentralizado"},{"$f":"[1]GLOBAL!R5","v":"Qtd"},{"$f":"[1]GLOBAL!S5","v":"% de aumento ou redução Contrato Temporário"}]
[{"$f":"[1]GLOBAL!A6","v":2009},{"$f":"[1]GLOBAL!B6","v":{"v":1105,"d":"1,105"}},{"$f":"[1]GLOBAL!C6","v":"**"},{"$f":"[1]GLOBAL!D6","v":307},{"$f":"[1]GLOBAL!E6","v":"**"},{"$f":"[1]GLOBAL!F6","v":100},{"$f":"[1]GLOBAL!G6","v":"**"},{"$f":"[1]GLOBAL!H6","v":419},{"$f":"[1]GLOBAL!I6","v":"**"},{"$f":"[1]GLOBAL!J6","v":47},{"$f":"[1]GLOBAL!K6","v":"**"},{"$f":"[1]GLOBAL!L6","v":34},{"$f":"[1]GLOBAL!M6","v":"**"},{"$f":"[1]GLOBAL!N6","v":161},{"$f":"[1]GLOBAL!O6","v":"**"},{"$f":"[1]GLOBAL!P6","v":37},{"$f":"[1]GLOBAL!Q6","v":"**"},{"$f":"[1]GLOBAL!R6","v":0},{"$f":"[1]GLOBAL!S6","v":"**"}]
[{"$f":"[1]GLOBAL!A7","v":2010},{"$f":"[1]GLOBAL!B7","v":{"v":1160,"d":"1,160"}},{"$f":"[1]GLOBAL!C7","v":{"v":4.977375565610856,"d":"4.9774"}},{"$f":"[1]GLOBAL!D7","v":305},{"$f":"[1]GLOBAL!E7","v":{"v":-0.6514657980456064,"d":"-0.6515"}},{"$f":"[1]GLOBAL!F7","v":100},{"$f":"[1]GLOBAL!G7","v":{"v":0,"d":"0.0000"}},{"$f":"[1]GLOBAL!H7","v":437},{"$f":"[1]GLOBAL!I7","v":{"v":4.295942720763719,"d":"4.2959"}},{"$f":"[1]GLOBAL!J7","v":45},{"$f":"[1]GLOBAL!K7","v":{"v":-4.255319148936167,"d":"-4.2553"}},{"$f":"[1]GLOBAL!L7","v":30},{"$f":"[1]GLOBAL!M7","v":{"v":-11.764705882352942,"d":"-11.7647"}},{"$f":"[1]GLOBAL!N7","v":158},{"$f":"[1]GLOBAL!O7","v":{"v":-1.8633540372670865,"d":"-1.8634"}},{"$f":"[1]GLOBAL!P7","v":85},{"$f":"[1]GLOBAL!Q7","v":{"v":129.72972972972974,"d":"129.7297"}},{"$f":"[1]GLOBAL!R7","v":0},{"$f":"[1]GLOBAL!S7","v":"**"}]
[{"$f":"[1]GLOBAL!A8","v":2011},{"$f":"[1]GLOBAL!B8","v":{"v":1122,"d":"1,122"}},{"$f":"[1]GLOBAL!C8","v":{"v":-3.275862068965523,"d":"-3.2759"}},{"$f":"[1]GLOBAL!D8","v":295},{"$f":"[1]GLOBAL!E8","v":{"v":-3.278688524590166,"d":"-3.2787"}},{"$f":"[1]GLOBAL!F8","v":94},{"$f":"[1]GLOBAL!G8","v":{"v":-6,"d":"-6.0000"}},{"$f":"[1]GLOBAL!H8","v":438},{"$f":"[1]GLOBAL!I8","v":{"v":0.2288329519450798,"d":"0.2288"}},{"$f":"[1]GLOBAL!J8","v":49},{"$f":"[1]GLOBAL!K8","v":{"v":8.888888888888886,"d":"8.8889"}},{"$f":"[1]GLOBAL!L8","v":32},{"$f":"[1]GLOBAL!M8","v":{"v":6.666666666666671,"d":"6.6667"}},{"$f":"[1]GLOBAL!N8","v":148},{"$f":"[1]GLOBAL!O8","v":{"v":-6.329113924050631,"d":"-6.3291"}},{"$f":"[1]GLOBAL!P8","v":66},{"$f":"[1]GLOBAL!Q8","v":{"v":-22.352941176470594,"d":"-22.3529"}},{"$f":"[1]GLOBAL!R8","v":0},{"$f":"[1]GLOBAL!S8","v":"**"}]
[{"$f":"[1]GLOBAL!A9","v":2012},{"$f":"[1]GLOBAL!B9","v":{"v":1204,"d":"1,204"}},{"$f":"[1]GLOBAL!C9","v":{"v":7.3083778966131945,"d":"7.3084"}},{"$f":"[1]GLOBAL!D9","v":218},{"$f":"[1]GLOBAL!E9","v":{"v":-26.101694915254242,"d":"-26.1017"}},{"$f":"[1]GLOBAL!F9","v":97},{"$f":"[1]GLOBAL!G9","v":{"v":3.191489361702125,"d":"3.1915"}},{"$f":"[1]GLOBAL!H9","v":519},{"$f":"[1]GLOBAL!I9","v":{"v":18.493150684931507,"d":"18.4932"}},{"$f":"[1]GLOBAL!J9","v":52},{"$f":"[1]GLOBAL!K9","v":{"v":6.122448979591837,"d":"6.1224"}},{"$f":"[1]GLOBAL!L9","v":30},{"$f":"[1]GLOBAL!M9","v":{"v":-6.25,"d":"-6.2500"}},{"$f":"[1]GLOBAL!N9","v":150},{"$f":"[1]GLOBAL!O9","v":{"v":1.3513513513513544,"d":"1.3514"}},{"$f":"[1]GLOBAL!P9","v":138},{"$f":"[1]GLOBAL!Q9","v":{"v":109.0909090909091,"d":"109.0909"}},{"$f":"[1]GLOBAL!R9","v":0},{"$f":"[1]GLOBAL!S9","v":"**"}]
[{"$f":"[1]GLOBAL!A10","v":2013},{"$f":"[1]GLOBAL!B10","v":{"v":1203,"d":"1,203"}},{"$f":"[1]GLOBAL!C10","v":{"v":-0.08305647840531094,"d":"-0.0831"}},{"$f":"[1]GLOBAL!D10","v":203},{"$f":"[1]GLOBAL!E10","v":{"v":-6.88073394495413,"d":"-6.8807"}},{"$f":"[1]GLOBAL!F10","v":95},{"$f":"[1]GLOBAL!G10","v":{"v":-2.0618556701030997,"d":"-2.0619"}},{"$f":"[1]GLOBAL!H10","v":538},{"$f":"[1]GLOBAL!I10","v":{"v":3.660886319845858,"d":"3.6609"}},{"$f":"[1]GLOBAL!J10","v":48},{"$f":"[1]GLOBAL!K10","v":{"v":-7.692307692307693,"d":"-7.6923"}},{"$f":"[1]GLOBAL!L10","v":32},{"$f":"[1]GLOBAL!M10","v":{"v":6.666666666666671,"d":"6.6667"}},{"$f":"[1]GLOBAL!N10","v":150},{"$f":"[1]GLOBAL!O10","v":{"v":0,"d":"0.0000"}},{"$f":"[1]GLOBAL!P10","v":133},{"$f":"[1]GLOBAL!Q10","v":{"v":-3.6231884057970944,"d":"-3.6232"}},{"$f":"[1]GLOBAL!R10","v":4},{"$f":"[1]GLOBAL!S10","v":"**"}]
[{"$f":"[1]GLOBAL!A11","v":2014},{"$f":"[1]GLOBAL!B11","v":{"v":1190,"d":"1,190"}},{"$f":"[1]GLOBAL!C11","v":{"v":-1.0806317539484667,"d":"-1.0806"}},{"$f":"[1]GLOBAL!D11","v":199},{"$f":"[1]GLOBAL!E11","v":{"v":-1.970443349753694,"d":"-1.9704"}},{"$f":"[1]GLOBAL!F11","v":86},{"$f":"[1]GLOBAL!G11","v":{"v":-9.473684210526315,"d":"-9.4737"}},{"$f":"[1]GLOBAL!H11","v":546},{"$f":"[1]GLOBAL!I11","v":{"v":1.4869888475836461,"d":"1.4870"}},{"$f":"[1]GLOBAL!J11","v":43},{"$f":"[1]GLOBAL!K11","v":{"v":-10.416666666666671,"d":"-10.4167"}},{"$f":"[1]GLOBAL!L11","v":37},{"$f":"[1]GLOBAL!M11","v":{"v":15.625,"d":"15.6250"}},{"$f":"[1]GLOBAL!N11","v":154},{"$f":"[1]GLOBAL!O11","v":{"v":2.6666666666666714,"d":"2.6667"}},{"$f":"[1]GLOBAL!P11","v":118},{"$f":"[1]GLOBAL!Q11","v":{"v":-11.278195488721806,"d":"-11.2782"}},{"$f":"[1]GLOBAL!R11","v":7},{"$f":"[1]GLOBAL!S11","v":{"v":75,"d":"75.0000"}}]
[{"$f":"[1]GLOBAL!A12","v":2015},{"$f":"[1]GLOBAL!B12","v":{"v":1167,"d":"1,167"}},{"$f":"[1]GLOBAL!C12","v":{"v":-1.9327731092436977,"d":"-1.9328"}},{"$f":"[1]GLOBAL!D12","v":194},{"$f":"[1]GLOBAL!E12","v":{"v":-2.5125628140703498,"d":"-2.5126"}},{"$f":"[1]GLOBAL!F12","v":76},{"$f":"[1]GLOBAL!G12","v":{"v":-11.627906976744185,"d":"-11.6279"}},{"$f":"[1]GLOBAL!H12","v":556},{"$f":"[1]GLOBAL!I12","v":{"v":1.831501831501825,"d":"1.8315"}},{"$f":"[1]GLOBAL!J12","v":41},{"$f":"[1]GLOBAL!K12","v":{"v":-4.6511627906976685,"d":"-4.6512"}},{"$f":"[1]GLOBAL!L12","v":32},{"$f":"[1]GLOBAL!M12","v":{"v":-13.513513513513516,"d":"-13.5135"}},{"$f":"[1]GLOBAL!N12","v":152},{"$f":"[1]GLOBAL!O12","v":{"v":-1.2987012987013031,"d":"-1.2987"}},{"$f":"[1]GLOBAL!P12","v":109},{"$f":"[1]GLOBAL!Q12","v":{"v":-7.627118644067792,"d":"-7.6271"}},{"$f":"[1]GLOBAL!R12","v":7},{"$f":"[1]GLOBAL!S12","v":{"v":0,"d":"0.0000"}}]
[{"$f":"[1]GLOBAL!A13","v":2016},{"$f":"[1]GLOBAL!B13","v":{"v":1116,"d":"1,116"}},{"$f":"[1]GLOBAL!C13","v":{"v":-4.370179948586113,"d":"-4.3702"}},{"$f":"[1]GLOBAL!D13","v":193},{"$f":"[1]GLOBAL!E13","v":{"v":-0.5154639175257785,"d":"-0.5155"}},{"$f":"[1]GLOBAL!F13","v":67},{"$f":"[1]GLOBAL!G13","v":{"v":-11.84210526315789,"d":"-11.8421"}},{"$f":"[1]GLOBAL!H13","v":561},{"$f":"[1]GLOBAL!I13","v":{"v":0.8992805755395636,"d":"0.8993"}},{"$f":"[1]GLOBAL!J13","v":26},{"$f":"[1]GLOBAL!K13","v":{"v":-36.58536585365854,"d":"-36.5854"}},{"$f":"[1]GLOBAL!L13","v":28},{"$f":"[1]GLOBAL!M13","v":{"v":-12.5,"d":"-12.5000"}},{"$f":"[1]GLOBAL!N13","v":129},{"$f":"[1]GLOBAL!O13","v":{"v":-15.131578947368425,"d":"-15.1316"}},{"$f":"[1]GLOBAL!P13","v":105},{"$f":"[1]GLOBAL!Q13","v":{"v":-3.6697247706422047,"d":"-3.6697"}},{"$f":"[1]GLOBAL!R13","v":7},{"$f":"[1]GLOBAL!S13","v":{"v":0,"d":"0.0000"}}]
[{"$f":"[1]GLOBAL!A14","v":2017},{"$f":"[1]GLOBAL!B14","v":{"v":1091,"d":"1,091"}},{"$f":"[1]GLOBAL!C14","v":{"v":-2.2401433691756267,"d":"-2.2401"}},{"$f":"[1]GLOBAL!D14","v":174},{"$f":"[1]GLOBAL!E14","v":{"v":-9.844559585492235,"d":"-9.8446"}},{"$f":"[1]GLOBAL!F14","v":62},{"$f":"[1]GLOBAL!G14","v":{"v":-7.462686567164184,"d":"-7.4627"}},{"$f":"[1]GLOBAL!H14","v":548},{"$f":"[1]GLOBAL!I14","v":{"v":-2.317290552584666,"d":"-2.3173"}},{"$f":"[1]GLOBAL!J14","v":20},{"$f":"[1]GLOBAL!K14","v":{"v":-23.07692307692308,"d":"-23.0769"}},{"$f":"[1]GLOBAL!L14","v":37},{"$f":"[1]GLOBAL!M14","v":{"v":32.14285714285714,"d":"32.1429"}},{"$f":"[1]GLOBAL!N14","v":137},{"$f":"[1]GLOBAL!O14","v":{"v":6.201550387596896,"d":"6.2016"}},{"$f":"[1]GLOBAL!P14","v":104},{"$f":"[1]GLOBAL!Q14","v":{"v":-0.952380952380949,"d":"-0.9524"}},{"$f":"[1]GLOBAL!R14","v":9},{"$f":"[1]GLOBAL!S14","v":{"v":28.571428571428584,"d":"28.5714"}}]
[{"$f":"[1]GLOBAL!A15","v":2018},{"$f":"[1]GLOBAL!B15","v":{"v":1046,"d":"1,046"}},{"$f":"[1]GLOBAL!C15","v":{"v":-4.124656278643442,"d":"-4.1247"}},{"$f":"[1]GLOBAL!D15","v":162},{"$f":"[1]GLOBAL!E15","v":{"v":-6.896551724137936,"d":"-6.8966"}},{"$f":"[1]GLOBAL!F15","v":58},{"$f":"[1]GLOBAL!G15","v":{"v":-6.451612903225808,"d":"-6.4516"}},{"$f":"[1]GLOBAL!H15","v":529},{"$f":"[1]GLOBAL!I15","v":{"v":-3.4671532846715394,"d":"-3.4672"}},{"$f":"[1]GLOBAL!J15","v":12},{"$f":"[1]GLOBAL!K15","v":{"v":-40,"d":"-40.0000"}},{"$f":"[1]GLOBAL!L15","v":40},{"$f":"[1]GLOBAL!M15","v":{"v":8.108108108108112,"d":"8.1081"}},{"$f":"[1]GLOBAL!N15","v":138},{"$f":"[1]GLOBAL!O15","v":{"v":0.729927007299267,"d":"0.7299"}},{"$f":"[1]GLOBAL!P15","v":102},{"$f":"[1]GLOBAL!Q15","v":{"v":-1.9230769230769198,"d":"-1.9231"}},{"$f":"[1]GLOBAL!R15","v":5},{"$f":"[1]GLOBAL!S15","v":{"v":-44.44444444444444,"d":"-44.4444"}}]
[{"$f":"[1]GLOBAL!A16","v":2019},{"$f":"[1]GLOBAL!B16","v":{"v":1000,"d":"1,000"}},{"$f":"[1]GLOBAL!C16","v":{"v":-4.397705544933075,"d":"-4.3977"}},{"$f":"[1]GLOBAL!D16","v":145},{"$f":"[1]GLOBAL!E16","v":{"v":-10.493827160493822,"d":"-10.4938"}},{"$f":"[1]GLOBAL!F16","v":47},{"$f":"[1]GLOBAL!G16","v":{"v":-18.965517241379317,"d":"-18.9655"}},{"$f":"[1]GLOBAL!H16","v":513},{"$f":"[1]GLOBAL!I16","v":{"v":-3.024574669187146,"d":"-3.0246"}},{"$f":"[1]GLOBAL!J16","v":9},{"$f":"[1]GLOBAL!K16","v":{"v":-25,"d":"-25.0000"}},{"$f":"[1]GLOBAL!L16","v":62},{"$f":"[1]GLOBAL!M16","v":{"v":55,"d":"55.0000"}},{"$f":"[1]GLOBAL!N16","v":125},{"$f":"[1]GLOBAL!O16","v":{"v":-9.420289855072468,"d":"-9.4203"}},{"$f":"[1]GLOBAL!P16","v":95},{"$f":"[1]GLOBAL!Q16","v":{"v":-6.862745098039213,"d":"-6.8627"}},{"$f":"[1]GLOBAL!R16","v":4},{"$f":"[1]GLOBAL!S16","v":{"v":-20,"d":"-20.0000"}}]
[{"$f":"[1]GLOBAL!A17","v":2020},{"$f":"[1]GLOBAL!B17","v":954},{"$f":"[1]GLOBAL!C17","v":{"v":-4.599999999999994,"d":"-4.6000"}},{"$f":"[1]GLOBAL!D17","v":137},{"$f":"[1]GLOBAL!E17","v":{"v":-5.517241379310349,"d":"-5.5172"}},{"$f":"[1]GLOBAL!F17","v":32},{"$f":"[1]GLOBAL!G17","v":{"v":-31.914893617021278,"d":"-31.9149"}},{"$f":"[1]GLOBAL!H17","v":499},{"$f":"[1]GLOBAL!I17","v":{"v":-2.7290448343079987,"d":"-2.7290"}},{"$f":"[1]GLOBAL!J17","v":5},{"$f":"[1]GLOBAL!K17","v":{"v":-44.44444444444444,"d":"-44.4444"}},{"$f":"[1]GLOBAL!L17","v":71},{"$f":"[1]GLOBAL!M17","v":{"v":14.516129032258064,"d":"14.5161"}},{"$f":"[1]GLOBAL!N17","v":119},{"$f":"[1]GLOBAL!O17","v":{"v":-4.799999999999997,"d":"-4.8000"}},{"$f":"[1]GLOBAL!P17","v":88},{"$f":"[1]GLOBAL!Q17","v":{"v":-13.725490196078425,"d":"-13.7255"}},{"$f":"[1]GLOBAL!R17","v":3},{"$f":"[1]GLOBAL!S17","v":{"v":-25,"d":"-25.0000"}}]

{"sheet":"PEVSIT","index":10,"n_rows":33,"n_cols":24,"rows_kept":33,"merged":[[0,0,0,23],[3,0,4,0],[3,1,3,3],[3,4,3,6],[3,7,3,9],[3,12,4,12],[3,13,4,13],[3,14,3,15],[3,16,3,17],[3,18,4,18],[3,19,4,19],[3,20,4,20],[19,0,20,0],[19,1,19,3],[19,4,19,6],[19,7,19,9],[19,10,19,12],[19,13,19,15],[19,17,20,17],[19,18,19,20],[19,21,19,23]]}
["QUADRO DE EVOLUÇÃO POR SITUAÇÃO"]
[]
[]
[{"$f":"'[1]ATIV-CED-ANIST'!A4","v":"ANO"},{"$f":"'[1]ATIV-CED-ANIST'!B4","v":"Ativo Permanente"},null,null,{"$f":"'[1]ATIV-CED-ANIST'!E4","v":"Cedido"},null,null,{"$f":"'[1]ATIV-CED-ANIST'!H4","v":"Anistiado"},{"$nulls":4},{"$f":"'[1]FINALISTICA-MEIO'!A4","v":"ANO"},{"$f":"'[1]FINALISTICA-MEIO'!B4","v":"Total MME"},{"$f":"'[1]FINALISTICA-MEIO'!C4","v":"ÁREA FINALISTICA"},null,{"$f":"'[1]FINALISTICA-MEIO'!E4","v":"ÁREA MEIO"},null,{"$f":"'[1]FINALISTICA-MEIO'!H4","v":"Direferença de aumento ou redução Total MME"},{"$f":"'[1]FINALISTICA-MEIO'!I4","v":"Direferença de aumento ou redução Área Finalistica"},{"$f":"'[1]FINALISTICA-MEIO'!J4","v":"Direferença de aumento ou redução Área Meio"}]
[null,{"$f":"'[1]ATIV-CED-ANIST'!B5","v":"Quantitativo"},{"$f":"'[1]ATIV-CED-ANIST'!C5","v":"Diferença de aumento ou redução"},{"$f":"'[1]ATIV-CED-ANIST'!D5","v":"% de aumento ou redução"},{"$f":"'[1]ATIV-CED-ANIST'!E5","v":"Quantitativo"},{"$f":"'[1]ATIV-CED-ANIST'!F5","v":"Diferença de aumento ou redução"},{"$f":"'[1]ATIV-CED-ANIST'!G5","v":"% de aumento ou redução"},{"$f":"'[1]ATIV-CED-ANIST'!H5","v":"Quantitativo"},{"$f":"'[1]ATIV-CED-ANIST'!I5","v":"Diferença de aumento ou redução"},{"$f":"'[1]ATIV-CED-ANIST'!J5","v":"% de aumento ou redução"},{"$nulls":4},{"$f":"'[1]FINALISTICA-MEIO'!C5","v":"Quantitativo"},{"$f":"'[1]FINALISTICA-MEIO'!D5","v":"% de aumento ou redução"},{"$f":"'[1]FINALISTICA-MEIO'!E5","v":"Quantitativo"},{"$f":"'[1]FINALISTICA-MEIO'!F5","v":"% de aumento ou redução"}]
[{"$f":"'[1]ATIV-CED-ANIST'!A6","v":2009},{"$f":"'[1]ATIV-CED-ANIST'!B6","v":307},{"$f":"'[1]ATIV-CED-ANIST'!C6","v":"**"},{"$f":"'[1]ATIV-CED-ANIST'!D6","v":"**"},{"$f":"'[1]ATIV-CED-ANIST'!E6","v":100},{"$f":"'[1]ATIV-CED-ANIST'!F6","v":"**"},{"$f":"'[1]ATIV-CED-ANIST'!G6","v":"**"},{"$f":"'[1]ATIV-CED-ANIST'!H6","v":419},{"$f":"'[1]ATIV-CED-ANIST'!I6","v":"**"},{"$f":"'[1]ATIV-CED-ANIST'!J6","v":"**"},null,null,{"$f":"'[1]FINALISTICA-MEIO'!A6","v":2011},{"$f":"'[1]FINALISTICA-MEIO'!B6","v":695},{"$f":"'[1]FINALISTICA-MEIO'!C6","v":245},{"$f":"'[1]FINALISTICA-MEIO'!D6","v":"**"},{"$f":"'[1]FINALISTICA-MEIO'!E6","v":450},{"$f":"'[1]FINALISTICA-MEIO'!F6","v":"**"},{"$f":"'[1]FINALISTICA-MEIO'!H6","v":"**"},{"$f":"'[1]FINALISTICA-MEIO'!I6","v":"**"},{"$f":"'[1]FINALISTICA-MEIO'!J6","v":"**"}]
[{"$f":"'[1]ATIV-CED-ANIST'!A7","v":2010},{"$f":"'[1]ATIV-CED-ANIST'!B7","v":305},{"$f":"'[1]ATIV-CED-ANIST'!C7","v":-2},{"$f":"'[1]ATIV-CED-ANIST'!D7","v":{"v":-0.6514657980456064,"d":"-0.6515"}},{"$f":"'[1]ATIV-CED-ANIST'!E7","v":100},{"$f":"'[1]ATIV-CED-ANIST'!F7","v":0},{"$f":"'[1]ATIV-CED-ANIST'!G7","v":{"v":0,"d":"0.0000"}},{"$f":"'[1]ATIV-CED-ANIST'!H7","v":437},{"$f":"'[1]ATIV-CED-ANIST'!I7","v":18},{"$f":"'[1]ATIV-CED-ANIST'!J7","v":{"v":4.295942720763719,"d":"4.2959"}},null,null,{"$f":"'[1]FINALISTICA-MEIO'!A7","v":2012},{"$f":"'[1]FINALISTICA-MEIO'!B7","v":634},{"$f":"'[1]FINALISTICA-MEIO'!C7","v":239},{"$f":"'[1]FINALISTICA-MEIO'!D7","v":{"v":-2.448979591836732,"d":"-2.4490"}},{"$f":"'[1]FINALISTICA-MEIO'!E7","v":395},{"$f":"'[1]FINALISTICA-MEIO'!F7","v":{"v":-12.222222222222229,"d":"-12.2222"}},{"$f":"'[1]FINALISTICA-MEIO'!H7","v":-61},{"$f":"'[1]FINALISTICA-MEIO'!I7","v":-6},{"$f":"'[1]FINALISTICA-MEIO'!J7","v":-55}]
[{"$f":"'[1]ATIV-CED-ANIST'!A8","v":2011},{"$f":"'[1]ATIV-CED-ANIST'!B8","v":295},{"$f":"'[1]ATIV-CED-ANIST'!C8","v":-10},{"$f":"'[1]ATIV-CED-ANIST'!D8","v":{"v":-3.278688524590166,"d":"-3.2787"}},{"$f":"'[1]ATIV-CED-ANIST'!E8","v":94},{"$f":"'[1]ATIV-CED-ANIST'!F8","v":-6},{"$f":"'[1]ATIV-CED-ANIST'!G8","v":{"v":-6,"d":"-6.0000"}},{"$f":"'[1]ATIV-CED-ANIST'!H8","v":438},{"$f":"'[1]ATIV-CED-ANIST'!I8","v":1},{"$f":"'[1]ATIV-CED-ANIST'!J8","v":{"v":0.2288329519450798,"d":"0.2288"}},null,null,{"$f":"'[1]FINALISTICA-MEIO'!A8","v":2013},{"$f":"'[1]FINALISTICA-MEIO'!B8","v":646},{"$f":"'[1]FINALISTICA-MEIO'!C8","v":252},{"$f":"'[1]FINALISTICA-MEIO'!D8","v":{"v":5.439330543933053,"d":"5.4393"}},{"$f":"'[1]FINALISTICA-MEIO'!E8","v":394},{"$f":"'[1]FINALISTICA-MEIO'!F8","v":{"v":-0.25316455696201956,"d":"-0.2532"}},{"$f":"'[1]FINALISTICA-MEIO'!H8","v":12},{"$f":"'[1]FINALISTICA-MEIO'!I8","v":13},{"$f":"'[1]FINALISTICA-MEIO'!J8","v":-1}]
[{"$f":"'[1]ATIV-CED-ANIST'!A9","v":2012},{"$f":"'[1]ATIV-CED-ANIST'!B9","v":218},{"$f":"'[1]ATIV-CED-ANIST'!C9","v":-77},{"$f":"'[1]ATIV-CED-ANIST'!D9","v":{"v":-26.101694915254242,"d":"-26.1017"}},{"$f":"'[1]ATIV-CED-ANIST'!E9","v":97},{"$f":"'[1]ATIV-CED-ANIST'!F9","v":3},{"$f":"'[1]ATIV-CED-ANIST'!G9","v":{"v":3.191489361702125,"d":"3.1915"}},{"$f":"'[1]ATIV-CED-ANIST'!H9","v":519},{"$f":"'[1]ATIV-CED-ANIST'!I9","v":81},{"$f":"'[1]ATIV-CED-ANIST'!J9","v":{"v":18.493150684931507,"d":"18.4932"}},null,null,{"$f":"'[1]FINALISTICA-MEIO'!A9","v":2014},{"$f":"'[1]FINALISTICA-MEIO'!B9","v":634},{"$f":"'[1]FINALISTICA-MEIO'!C9","v":239},{"$f":"'[1]FINALISTICA-MEIO'!D9","v":{"v":-5.158730158730165,"d":"-5.1587"}},{"$f":"'[1]FINALISTICA-MEIO'!E9","v":395},{"$f":"'[1]FINALISTICA-MEIO'!F9","v":{"v":0.253807106598984,"d":"0.2538"}},{"$f":"'[1]FINALISTICA-MEIO'!H9","v":-12},{"$f":"'[1]FINALISTICA-MEIO'!I9","v":-13},{"$f":"'[1]FINALISTICA-MEIO'!J9","v":1}]
[{"$f":"'[1]ATIV-CED-ANIST'!A10","v":2013},{"$f":"'[1]ATIV-CED-ANIST'!B10","v":203},{"$f":"'[1]ATIV-CED-ANIST'!C10","v":-15},{"$f":"'[1]ATIV-CED-ANIST'!D10","v":{"v":-6.88073394495413,"d":"-6.8807"}},{"$f":"'[1]ATIV-CED-ANIST'!E10","v":95},{"$f":"'[1]ATIV-CED-ANIST'!F10","v":-2},{"$f":"'[1]ATIV-CED-ANIST'!G10","v":{"v":-2.0618556701030997,"d":"-2.0619"}},{"$f":"'[1]ATIV-CED-ANIST'!H10","v":538},{"$f":"'[1]ATIV-CED-ANIST'!I10","v":19},{"$f":"'[1]ATIV-CED-ANIST'!J10","v":{"v":3.660886319845858,"d":"3.6609"}},null,null,{"$f":"'[1]FINALISTICA-MEIO'!A10","v":2015},{"$f":"'[1]FINALISTICA-MEIO'!B10","v":606},{"$f":"'[1]FINALISTICA-MEIO'!C10","v":223},{"$f":"'[1]FINALISTICA-MEIO'!D10","v":{"v":-6.694560669456067,"d":"-6.6946"}},{"$f":"'[1]FINALISTICA-MEIO'!E10","v":383},{"$f":"'[1]FINALISTICA-MEIO'!F10","v":{"v":-3.0379746835443058,"d":"-3.0380"}},{"$f":"'[1]FINALISTICA-MEIO'!H10","v":-28},{"$f":"'[1]FINALISTICA-MEIO'!I10","v":-16},{"$f":"'[1]FINALISTICA-MEIO'!J10","v":-12}]
[{"$f":"'[1]ATIV-CED-ANIST'!A11","v":2014},{"$f":"'[1]ATIV-CED-ANIST'!B11","v":199},{"$f":"'[1]ATIV-CED-ANIST'!C11","v":-4},{"$f":"'[1]ATIV-CED-ANIST'!D11","v":{"v":-1.970443349753694,"d":"-1.9704"}},{"$f":"'[1]ATIV-CED-ANIST'!E11","v":86},{"$f":"'[1]ATIV-CED-ANIST'!F11","v":-9},{"$f":"'[1]ATIV-CED-ANIST'!G11","v":{"v":-9.473684210526315,"d":"-9.4737"}},{"$f":"'[1]ATIV-CED-ANIST'!H11","v":546},{"$f":"'[1]ATIV-CED-ANIST'!I11","v":8},{"$f":"'[1]ATIV-CED-ANIST'!J11","v":{"v":1.4869888475836461,"d":"1.4870"}},null,null,{"$f":"'[1]FINALISTICA-MEIO'!A11","v":2016},{"$f":"'[1]FINALISTICA-MEIO'!B11","v":565},{"$f":"'[1]FINALISTICA-MEIO'!C11","v":206},{"$f":"'[1]FINALISTICA-MEIO'!D11","v":{"v":-7.623318385650222,"d":"-7.6233"}},{"$f":"'[1]FINALISTICA-MEIO'!E11","v":359},{"$f":"'[1]FINALISTICA-MEIO'!F11","v":{"v":-6.266318537859007,"d":"-6.2663"}},{"$f":"'[1]FINALISTICA-MEIO'!H11","v":-41},{"$f":"'[1]FINALISTICA-MEIO'!I11","v":-17},{"$f":"'[1]FINALISTICA-MEIO'!J11","v":-24}]
[{"$f":"'[1]ATIV-CED-ANIST'!A12","v":2015},{"$f":"'[1]ATIV-CED-ANIST'!B12","v":194},{"$f":"'[1]ATIV-CED-ANIST'!C12","v":-5},{"$f":"'[1]ATIV-CED-ANIST'!D12","v":{"v":-2.5125628140703498,"d":"-2.5126"}},{"$f":"'[1]ATIV-CED-ANIST'!E12","v":76},{"$f":"'[1]ATIV-CED-ANIST'!F12","v":-10},{"$f":"'[1]ATIV-CED-ANIST'!G12","v":{"v":-11.627906976744185,"d":"-11.6279"}},{"$f":"'[1]ATIV-CED-ANIST'!H12","v":556},{"$f":"'[1]ATIV-CED-ANIST'!I12","v":10},{"$f":"'[1]ATIV-CED-ANIST'!J12","v":{"v":1.831501831501825,"d":"1.8315"}},null,null,{"$f":"'[1]FINALISTICA-MEIO'!A12","v":2017},{"$f":"'[1]FINALISTICA-MEIO'!B12","v":562},{"$f":"'[1]FINALISTICA-MEIO'!C12","v":212},{"$f":"'[1]FINALISTICA-MEIO'!D12","v":{"v":2.9126213592232943,"d":"2.9126"}},{"$f":"'[1]FINALISTICA-MEIO'!E12","v":350},{"$f":"'[1]FINALISTICA-MEIO'!F12","v":{"v":-2.506963788300837,"d":"-2.5070"}},{"$f":"'[1]FINALISTICA-MEIO'!H12","v":-3},{"$f":"'[1]FINALISTICA-MEIO'!I12","v":6},{"$f":"'[1]FINALISTICA-MEIO'!J12","v":-9}]
[{"$f":"'[1]ATIV-CED-ANIST'!A13","v":2016},{"$f":"'[1]ATIV-CED-ANIST'!B13","v":193},{"$f":"'[1]ATIV-CED-ANIST'!C13","v":-1},{"$f":"'[1]ATIV-CED-ANIST'!D13","v":{"v":-0.5154639175257785,"d":"-0.5155"}},{"$f":"'[1]ATIV-CED-ANIST'!E13","v":67},{"$f":"'[1]ATIV-CED-ANIST'!F13","v":-9},{"$f":"'[1]ATIV-CED-ANIST'!G13","v":{"v":-11.84210526315789,"d":"-11.8421"}},{"$f":"'[1]ATIV-CED-ANIST'!H13","v":561},{"$f":"'[1]ATIV-CED-ANIST'!I13","v":5},{"$f":"'[1]ATIV-CED-ANIST'!J13","v":{"v":0.8992805755395636,"d":"0.8993"}},null,null,{"$f":"'[1]FINALISTICA-MEIO'!A13","v":2018},{"$f":"'[1]FINALISTICA-MEIO'!B13","v":520},{"$f":"'[1]FINALISTICA-MEIO'!C13","v":184},{"$f":"'[1]FINALISTICA-MEIO'!D13","v":{"v":-13.20754716981132,"d":"-13.2075"}},{"$f":"'[1]FINALISTICA-MEIO'!E13","v":336},{"$f":"'[1]FINALISTICA-MEIO'!F13","v":{"v":-4,"d":"-4.0000"}},{"$f":"'[1]FINALISTICA-MEIO'!H13","v":-42},{"$f":"'[1]FINALISTICA-MEIO'!I13","v":-28},{"$f":"'[1]FINALISTICA-MEIO'!J13","v":-14}]
[{"$f":"'[1]ATIV-CED-ANIST'!A14","v":2017},{"$f":"'[1]ATIV-CED-ANIST'!B14","v":174},{"$f":"'[1]ATIV-CED-ANIST'!C14","v":-19},{"$f":"'[1]ATIV-CED-ANIST'!D14","v":{"v":-9.844559585492235,"d":"-9.8446"}},{"$f":"'[1]ATIV-CED-ANIST'!E14","v":62},{"$f":"'[1]ATIV-CED-ANIST'!F14","v":-5},{"$f":"'[1]ATIV-CED-ANIST'!G14","v":{"v":-7.462686567164184,"d":"-7.4627"}},{"$f":"'[1]ATIV-CED-ANIST'!H14","v":548},{"$f":"'[1]ATIV-CED-ANIST'!I14","v":-13},{"$f":"'[1]ATIV-CED-ANIST'!J14","v":{"v":-2.317290552584666,"d":"-2.3173"}},null,null,{"$f":"'[1]FINALISTICA-MEIO'!A14","v":2019},{"$f":"'[1]FINALISTICA-MEIO'!B14","v":528},{"$f":"'[1]FINALISTICA-MEIO'!C14","v":177},{"$f":"'[1]FINALISTICA-MEIO'!D14","v":{"v":-3.8043478260869534,"d":"-3.8043"}},{"$f":"'[1]FINALISTICA-MEIO'!E14","v":351},{"$f":"'[1]FINALISTICA-MEIO'!F14","v":{"v":4.464285714285708,"d":"4.4643"}},{"$f":"'[1]FINALISTICA-MEIO'!H14","v":8},{"$f":"'[1]FINALISTICA-MEIO'!I14","v":-7},{"$f":"'[1]FINALISTICA-MEIO'!J14","v":15}]
[{"$f":"'[1]ATIV-CED-ANIST'!A15","v":2018},{"$f":"'[1]ATIV-CED-ANIST'!B15","v":162},{"$f":"'[1]ATIV-CED-ANIST'!C15","v":-12},{"$f":"'[1]ATIV-CED-ANIST'!D15","v":{"v":-6.896551724137936,"d":"-6.8966"}},{"$f":"'[1]ATIV-CED-ANIST'!E15","v":58},{"$f":"'[1]ATIV-CED-ANIST'!F15","v":-4},{"$f":"'[1]ATIV-CED-ANIST'!G15","v":{"v":-6.451612903225808,"d":"-6.4516"}},{"$f":"'[1]ATIV-CED-ANIST'!H15","v":529},{"$f":"'[1]ATIV-CED-ANIST'!I15","v":-19},{"$f":"'[1]ATIV-CED-ANIST'!J15","v":{"v":-3.4671532846715394,"d":"-3.4672"}},null,null,{"$f":"'[1]FINALISTICA-MEIO'!A15","v":2020},{"$f":"'[1]FINALISTICA-MEIO'!B15","v":490},{"$f":"'[1]FINALISTICA-MEIO'!C15","v":168},{"$f":"'[1]FINALISTICA-MEIO'!D15","v":{"v":-5.0847457627118615,"d":"-5.0847"}},{"$f":"'[1]FINALISTICA-MEIO'!E15","v":322},{"$f":"'[1]FINALISTICA-MEIO'!F15","v":{"v":-8.262108262108256,"d":"-8.2621"}},{"$f":"'[1]FINALISTICA-MEIO'!H15","v":-38},{"$f":"'[1]FINALISTICA-MEIO'!I15","v":-9},{"$f":"'[1]FINALISTICA-MEIO'!J15","v":-29}]
[{"$f":"'[1]ATIV-CED-ANIST'!A16","v":2019},{"$f":"'[1]ATIV-CED-ANIST'!B16","v":145},{"$f":"'[1]ATIV-CED-ANIST'!C16","v":-17},{"$f":"'[1]ATIV-CED-ANIST'!D16","v":{"v":-10.493827160493822,"d":"-10.4938"}},{"$f":"'[1]ATIV-CED-ANIST'!E16","v":47},{"$f":"'[1]ATIV-CED-ANIST'!F16","v":-11},{"$f":"'[1]ATIV-CED-ANIST'!G16","v":{"v":-18.965517241379317,"d":"-18.9655"}},{"$f":"'[1]ATIV-CED-ANIST'!H16","v":529},{"$f":"'[1]ATIV-CED-ANIST'!I16","v":0},{"$f":"'[1]ATIV-CED-ANIST'!J16","v":{"v":0,"d":"0.0000"}}]
[{"$f":"'[1]ATIV-CED-ANIST'!A17","v":2020},{"$f":"'[1]ATIV-CED-ANIST'!B17","v":137},{"$f":"'[1]ATIV-CED-ANIST'!C17","v":-8},{"$f":"'[1]ATIV-CED-ANIST'!D17","v":{"v":-5.517241379310349,"d":"-5.5172"}},{"$f":"'[1]ATIV-CED-ANIST'!E17","v":32},{"$f":"'[1]ATIV-CED-ANIST'!F17","v":-15},{"$f":"'[1]ATIV-CED-ANIST'!G17","v":{"v":-31.914893617021278,"d":"-31.9149"}},{"$f":"'[1]ATIV-CED-ANIST'!H17","v":499},{"$f":"'[1]ATIV-CED-ANIST'!I17","v":-30},{"$f":"'[1]ATIV-CED-ANIST'!J17","v":{"v":-5.6710775047259006,"d":"-5.6711"}}]
[]
[]
[{"$f":"'[1]REQ-SVINC-EXDESC'!A4","v":"ANO"},{"$f":"'[1]REQ-SVINC-EXDESC'!B4","v":"REQUISITADO DE EMPRESA"},null,null,{"$f":"'[1]REQ-SVINC-EXDESC'!E4","v":"REQUISITADO ÓRGÃOS"},null,null,{"$f":"'[1]REQ-SVINC-EXDESC'!H4","v":"SEM VÍNCULO"},null,null,{"$f":"'[1]REQ-SVINC-EXDESC'!K4","v":"EXERCÍCIO DESCENTRALIZADO"},null,null,{"$f":"'[1]REQ-SVINC-EXDESC'!N4","v":"CONTRATO TEMPORÁRIO"},{"$nulls":3},{"$f":"'[1]APOS-PENS'!A4","v":"ANO"},{"$f":"'[1]APOS-PENS'!B4","v":"APOSENTADO"},null,null,{"$f":"'[1]APOS-PENS'!E4","v":"BENEFICIÁRIO DE PENSÃO"}]
[null,{"$f":"'[1]REQ-SVINC-EXDESC'!B5","v":"Quantitativo"},{"$f":"'[1]REQ-SVINC-EXDESC'!C5","v":"Diferença de aumento ou redução"},{"$f":"'[1]REQ-SVINC-EXDESC'!D5","v":"% de aumento ou redução"},{"$f":"'[1]REQ-SVINC-EXDESC'!E5","v":"Quantitativo"},{"$f":"'[1]REQ-SVINC-EXDESC'!F5","v":"Diferença de aumento ou redução"},{"$f":"'[1]REQ-SVINC-EXDESC'!G5","v":"% de aumento ou redução"},{"$f":"'[1]REQ-SVINC-EXDESC'!H5","v":"Quantitativo"},{"$f":"'[1]REQ-SVINC-EXDESC'!I5","v":"Diferença de aumento ou redução"},{"$f":"'[1]REQ-SVINC-EXDESC'!J5","v":"% de aumento ou redução"},{"$f":"'[1]REQ-SVINC-EXDESC'!K5","v":"Quantitativo"},{"$f":"'[1]REQ-SVINC-EXDESC'!L5","v":"Diferença de aumento ou redução"},{"$f":"'[1]REQ-SVINC-EXDESC'!M5","v":"% de aumento ou redução"},{"$f":"'[1]REQ-SVINC-EXDESC'!N5","v":"Quantitativo"},{"$f":"'[1]REQ-SVINC-EXDESC'!O5","v":"Diferença de aumento ou redução"},{"$f":"'[1]REQ-SVINC-EXDESC'!P5","v":"% de aumento ou redução"},null,null,{"$f":"'[1]APOS-PENS'!B5","v":"Quantitativo"},{"$f":"'[1]APOS-PENS'!C5","v":"Diferença de aumento ou redução"},{"$f":"'[1]APOS-PENS'!D5","v":"% de aumento ou redução"},{"$f":"'[1]APOS-PENS'!E5","v":"Quantitativo"},{"$f":"'[1]APOS-PENS'!F5","v":"Diferença de aumento ou redução"},{"$f":"'[1]APOS-PENS'!G5","v":"% de aumento ou redução"}]
[{"$f":"'[1]REQ-SVINC-EXDESC'!A6","v":2009},{"$f":"'[1]REQ-SVINC-EXDESC'!B6","v":47},{"$f":"'[1]REQ-SVINC-EXDESC'!C6","v":"**"},{"$f":"'[1]REQ-SVINC-EXDESC'!D6","v":"**"},{"$f":"'[1]REQ-SVINC-EXDESC'!E6","v":34},{"$f":"'[1]REQ-SVINC-EXDESC'!F6","v":"**"},{"$f":"'[1]REQ-SVINC-EXDESC'!G6","v":"**"},{"$f":"'[1]REQ-SVINC-EXDESC'!H6","v":161},{"$f":"'[1]REQ-SVINC-EXDESC'!I6","v":"**"},{"$f":"'[1]REQ-SVINC-EXDESC'!J6","v":"**"},{"$f":"'[1]REQ-SVINC-EXDESC'!K6","v":37},{"$f":"'[1]REQ-SVINC-EXDESC'!L6","v":"**"},{"$f":"'[1]REQ-SVINC-EXDESC'!M6","v":"**"},{"$f":"'[1]REQ-SVINC-EXDESC'!N6","v":0},{"$f":"'[1]REQ-SVINC-EXDESC'!O6","v":"**"},{"$f":"'[1]REQ-SVINC-EXDESC'!P6","v":"**"},null,{"$f":"'[1]APOS-PENS'!A6","v":2009},{"$f":"'[1]APOS-PENS'!B6","v":845},{"$f":"'[1]APOS-PENS'!C6","v":"**"},{"$f":"'[1]APOS-PENS'!D6","v":"**"},{"$f":"'[1]APOS-PENS'!E6","v":833},{"$f":"'[1]APOS-PENS'!F6","v":"**"},{"$f":"'[1]APOS-PENS'!G6","v":"**"}]
[{"$f":"'[1]REQ-SVINC-EXDESC'!A7","v":2010},{"$f":"'[1]REQ-SVINC-EXDESC'!B7","v":45},{"$f":"'[1]REQ-SVINC-EXDESC'!C7","v":-2},{"$f":"'[1]REQ-SVINC-EXDESC'!D7","v":{"v":-4.255319148936167,"d":"-4.2553"}},{"$f":"'[1]REQ-SVINC-EXDESC'!E7","v":30},{"$f":"'[1]REQ-SVINC-EXDESC'!F7","v":-4},{"$f":"'[1]REQ-SVINC-EXDESC'!G7","v":{"v":-11.764705882352942,"d":"-11.7647"}},{"$f":"'[1]REQ-SVINC-EXDESC'!H7","v":158},{"$f":"'[1]REQ-SVINC-EXDESC'!I7","v":-3},{"$f":"'[1]REQ-SVINC-EXDESC'!J7","v":{"v":-1.8633540372670865,"d":"-1.8634"}},{"$f":"'[1]REQ-SVINC-EXDESC'!K7","v":85},{"$f":"'[1]REQ-SVINC-EXDESC'!L7","v":48},{"$f":"'[1]REQ-SVINC-EXDESC'!M7","v":{"v":129.72972972972974,"d":"129.7297"}},{"$f":"'[1]REQ-SVINC-EXDESC'!N7","v":0},{"$f":"'[1]REQ-SVINC-EXDESC'!O7","v":0},{"$f":"'[1]REQ-SVINC-EXDESC'!P7","v":"**"},null,{"$f":"'[1]APOS-PENS'!A7","v":2010},{"$f":"'[1]APOS-PENS'!B7","v":816},{"$f":"'[1]APOS-PENS'!C7","v":-29},{"$f":"'[1]APOS-PENS'!D7","v":{"v":-3.4319526627218977,"d":"-3.4320"}},{"$f":"'[1]APOS-PENS'!E7","v":826},{"$f":"'[1]APOS-PENS'!F7","v":-7},{"$f":"'[1]APOS-PENS'!G7","v":{"v":-0.8403361344537785,"d":"-0.8403"}}]
[{"$f":"'[1]REQ-SVINC-EXDESC'!A8","v":2011},{"$f":"'[1]REQ-SVINC-EXDESC'!B8","v":49},{"$f":"'[1]REQ-SVINC-EXDESC'!C8","v":4},{"$f":"'[1]REQ-SVINC-EXDESC'!D8","v":{"v":8.888888888888886,"d":"8.8889"}},{"$f":"'[1]REQ-SVINC-EXDESC'!E8","v":32},{"$f":"'[1]REQ-SVINC-EXDESC'!F8","v":2},{"$f":"'[1]REQ-SVINC-EXDESC'!G8","v":{"v":6.666666666666671,"d":"6.6667"}},{"$f":"'[1]REQ-SVINC-EXDESC'!H8","v":148},{"$f":"'[1]REQ-SVINC-EXDESC'!I8","v":-10},{"$f":"'[1]REQ-SVINC-EXDESC'!J8","v":{"v":-6.329113924050631,"d":"-6.3291"}},{"$f":"'[1]REQ-SVINC-EXDESC'!K8","v":66},{"$f":"'[1]REQ-SVINC-EXDESC'!L8","v":-19},{"$f":"'[1]REQ-SVINC-EXDESC'!M8","v":{"v":-22.352941176470594,"d":"-22.3529"}},{"$f":"'[1]REQ-SVINC-EXDESC'!N8","v":0},{"$f":"'[1]REQ-SVINC-EXDESC'!O8","v":0},{"$f":"'[1]REQ-SVINC-EXDESC'!P8","v":"**"},null,{"$f":"'[1]APOS-PENS'!A8","v":2011},{"$f":"'[1]APOS-PENS'!B8","v":793},{"$f":"'[1]APOS-PENS'!C8","v":-23},{"$f":"'[1]APOS-PENS'!D8","v":{"v":-2.8186274509803866,"d":"-2.8186"}},{"$f":"'[1]APOS-PENS'!E8","v":815},{"$f":"'[1]APOS-PENS'!F8","v":-11},{"$f":"'[1]APOS-PENS'!G8","v":{"v":-1.331719128329297,"d":"-1.3317"}}]
[{"$f":"'[1]REQ-SVINC-EXDESC'!A9","v":2012},{"$f":"'[1]REQ-SVINC-EXDESC'!B9","v":52},{"$f":"'[1]REQ-SVINC-EXDESC'!C9","v":3},{"$f":"'[1]REQ-SVINC-EXDESC'!D9","v":{"v":6.122448979591837,"d":"6.1224"}},{"$f":"'[1]REQ-SVINC-EXDESC'!E9","v":30},{"$f":"'[1]REQ-SVINC-EXDESC'!F9","v":-2},{"$f":"'[1]REQ-SVINC-EXDESC'!G9","v":{"v":-6.25,"d":"-6.2500"}},{"$f":"'[1]REQ-SVINC-EXDESC'!H9","v":150},{"$f":"'[1]REQ-SVINC-EXDESC'!I9","v":2},{"$f":"'[1]REQ-SVINC-EXDESC'!J9","v":{"v":1.3513513513513544,"d":"1.3514"}},{"$f":"'[1]REQ-SVINC-EXDESC'!K9","v":138},{"$f":"'[1]REQ-SVINC-EXDESC'!L9","v":72},{"$f":"'[1]REQ-SVINC-EXDESC'!M9","v":{"v":109.0909090909091,"d":"109.0909"}},{"$f":"'[1]REQ-SVINC-EXDESC'!N9","v":0},{"$f":"'[1]REQ-SVINC-EXDESC'!O9","v":0},{"$f":"'[1]REQ-SVINC-EXDESC'!P9","v":"**"},null,{"$f":"'[1]APOS-PENS'!A9","v":2012},{"$f":"'[1]APOS-PENS'!B9","v":765},{"$f":"'[1]APOS-PENS'!C9","v":-28},{"$f":"'[1]APOS-PENS'!D9","v":{"v":-3.5308953341740192,"d":"-3.5309"}},{"$f":"'[1]APOS-PENS'!E9","v":802},{"$f":"'[1]APOS-PENS'!F9","v":-13},{"$f":"'[1]APOS-PENS'!G9","v":{"v":-1.5950920245398805,"d":"-1.5951"}}]
[{"$f":"'[1]REQ-SVINC-EXDESC'!A10","v":2013},{"$f":"'[1]REQ-SVINC-EXDESC'!B10","v":48},{"$f":"'[1]REQ-SVINC-EXDESC'!C10","v":-4},{"$f":"'[1]REQ-SVINC-EXDESC'!D10","v":{"v":-7.692307692307693,"d":"-7.6923"}},{"$f":"'[1]REQ-SVINC-EXDESC'!E10","v":32},{"$f":"'[1]REQ-SVINC-EXDESC'!F10","v":2},{"$f":"'[1]REQ-SVINC-EXDESC'!G10","v":{"v":6.666666666666671,"d":"6.6667"}},{"$f":"'[1]REQ-SVINC-EXDESC'!H10","v":150},{"$f":"'[1]REQ-SVINC-EXDESC'!I10","v":0},{"$f":"'[1]REQ-SVINC-EXDESC'!J10","v":{"v":0,"d":"0.0000"}},{"$f":"'[1]REQ-SVINC-EXDESC'!K10","v":133},{"$f":"'[1]REQ-SVINC-EXDESC'!L10","v":-5},{"$f":"'[1]REQ-SVINC-EXDESC'!M10","v":{"v":-3.6231884057970944,"d":"-3.6232"}},{"$f":"'[1]REQ-SVINC-EXDESC'!N10","v":4},{"$f":"'[1]REQ-SVINC-EXDESC'!O10","v":4},{"$f":"'[1]REQ-SVINC-EXDESC'!P10","v":"**"},null,{"$f":"'[1]APOS-PENS'!A10","v":2013},{"$f":"'[1]APOS-PENS'!B10","v":727},{"$f":"'[1]APOS-PENS'!C10","v":-38},{"$f":"'[1]APOS-PENS'!D10","v":{"v":-4.967320261437905,"d":"-4.9673"}},{"$f":"'[1]APOS-PENS'!E10","v":796},{"$f":"'[1]APOS-PENS'!F10","v":-6},{"$f":"'[1]APOS-PENS'!G10","v":{"v":-0.7481296758104747,"d":"-0.7481"}}]
[{"$f":"'[1]REQ-SVINC-EXDESC'!A11","v":2014},{"$f":"'[1]REQ-SVINC-EXDESC'!B11","v":43},{"$f":"'[1]REQ-SVINC-EXDESC'!C11","v":-5},{"$f":"'[1]REQ-SVINC-EXDESC'!D11","v":{"v":-10.416666666666671,"d":"-10.4167"}},{"$f":"'[1]REQ-SVINC-EXDESC'!E11","v":37},{"$f":"'[1]REQ-SVINC-EXDESC'!F11","v":5},{"$f":"'[1]REQ-SVINC-EXDESC'!G11","v":{"v":15.625,"d":"15.6250"}},{"$f":"'[1]REQ-SVINC-EXDESC'!H11","v":154},{"$f":"'[1]REQ-SVINC-EXDESC'!I11","v":4},{"$f":"'[1]REQ-SVINC-EXDESC'!J11","v":{"v":2.6666666666666714,"d":"2.6667"}},{"$f":"'[1]REQ-SVINC-EXDESC'!K11","v":118},{"$f":"'[1]REQ-SVINC-EXDESC'!L11","v":-15},{"$f":"'[1]REQ-SVINC-EXDESC'!M11","v":{"v":-11.278195488721806,"d":"-11.2782"}},{"$f":"'[1]REQ-SVINC-EXDESC'!N11","v":7},{"$f":"'[1]REQ-SVINC-EXDESC'!O11","v":3},{"$f":"'[1]REQ-SVINC-EXDESC'!P11","v":{"v":75,"d":"75.0000"}},null,{"$f":"'[1]APOS-PENS'!A11","v":2014},{"$f":"'[1]APOS-PENS'!B11","v":696},{"$f":"'[1]APOS-PENS'!C11","v":-31},{"$f":"'[1]APOS-PENS'!D11","v":{"v":-4.264099037138934,"d":"-4.2641"}},{"$f":"'[1]APOS-PENS'!E11","v":788},{"$f":"'[1]APOS-PENS'!F11","v":-8},{"$f":"'[1]APOS-PENS'!G11","v":{"v":-1.005025125628137,"d":"-1.0050"}}]
[{"$f":"'[1]REQ-SVINC-EXDESC'!A12","v":2015},{"$f":"'[1]REQ-SVINC-EXDESC'!B12","v":41},{"$f":"'[1]REQ-SVINC-EXDESC'!C12","v":-2},{"$f":"'[1]REQ-SVINC-EXDESC'!D12","v":{"v":-4.6511627906976685,"d":"-4.6512"}},{"$f":"'[1]REQ-SVINC-EXDESC'!E12","v":32},{"$f":"'[1]REQ-SVINC-EXDESC'!F12","v":-5},{"$f":"'[1]REQ-SVINC-EXDESC'!G12","v":{"v":-13.513513513513516,"d":"-13.5135"}},{"$f":"'[1]REQ-SVINC-EXDESC'!H12","v":152},{"$f":"'[1]REQ-SVINC-EXDESC'!I12","v":-2},{"$f":"'[1]REQ-SVINC-EXDESC'!J12","v":{"v":-1.2987012987013031,"d":"-1.2987"}},{"$f":"'[1]REQ-SVINC-EXDESC'!K12","v":109},{"$f":"'[1]REQ-SVINC-EXDESC'!L12","v":-9},{"$f":"'[1]REQ-SVINC-EXDESC'!M12","v":{"v":-7.627118644067792,"d":"-7.6271"}},{"$f":"'[1]REQ-SVINC-EXDESC'!N12","v":7},{"$f":"'[1]REQ-SVINC-EXDESC'!O12","v":0},{"$f":"'[1]REQ-SVINC-EXDESC'!P12","v":{"v":0,"d":"0.0000"}},null,{"$f":"'[1]APOS-PENS'!A12","v":2015},{"$f":"'[1]APOS-PENS'!B12","v":681},{"$f":"'[1]APOS-PENS'!C12","v":-15},{"$f":"'[1]APOS-PENS'!D12","v":{"v":-2.1551724137931103,"d":"-2.1552"}},{"$f":"'[1]APOS-PENS'!E12","v":768},{"$f":"'[1]APOS-PENS'!F12","v":-20},{"$f":"'[1]APOS-PENS'!G12","v":{"v":-2.538071065989854,"d":"-2.5381"}}]
[{"$f":"'[1]REQ-SVINC-EXDESC'!A13","v":2016},{"$f":"'[1]REQ-SVINC-EXDESC'!B13","v":26},{"$f":"'[1]REQ-SVINC-EXDESC'!C13","v":-15},{"$f":"'[1]REQ-SVINC-EXDESC'!D13","v":{"v":-36.58536585365854,"d":"-36.5854"}},{"$f":"'[1]REQ-SVINC-EXDESC'!E13","v":28},{"$f":"'[1]REQ-SVINC-EXDESC'!F13","v":-4},{"$f":"'[1]REQ-SVINC-EXDESC'!G13","v":{"v":-12.5,"d":"-12.5000"}},{"$f":"'[1]REQ-SVINC-EXDESC'!H13","v":129},{"$f":"'[1]REQ-SVINC-EXDESC'!I13","v":-23},{"$f":"'[1]REQ-SVINC-EXDESC'!J13","v":{"v":-15.131578947368425,"d":"-15.1316"}},{"$f":"'[1]REQ-SVINC-EXDESC'!K13","v":105},{"$f":"'[1]REQ-SVINC-EXDESC'!L13","v":-4},{"$f":"'[1]REQ-SVINC-EXDESC'!M13","v":{"v":-3.6697247706422047,"d":"-3.6697"}},{"$f":"'[1]REQ-SVINC-EXDESC'!N13","v":7},{"$f":"'[1]REQ-SVINC-EXDESC'!O13","v":0},{"$f":"'[1]REQ-SVINC-EXDESC'!P13","v":{"v":0,"d":"0.0000"}},null,{"$f":"'[1]APOS-PENS'!A13","v":2016},{"$f":"'[1]APOS-PENS'!B13","v":660},{"$f":"'[1]APOS-PENS'!C13","v":-21},{"$f":"'[1]APOS-PENS'!D13","v":{"v":-3.083700440528631,"d":"-3.0837"}},{"$f":"'[1]APOS-PENS'!E13","v":755},{"$f":"'[1]APOS-PENS'!F13","v":-13},{"$f":"'[1]APOS-PENS'!G13","v":{"v":-1.6927083333333286,"d":"-1.6927"}}]
[{"$f":"'[1]REQ-SVINC-EXDESC'!A14","v":2017},{"$f":"'[1]REQ-SVINC-EXDESC'!B14","v":20},{"$f":"'[1]REQ-SVINC-EXDESC'!C14","v":-6},{"$f":"'[1]REQ-SVINC-EXDESC'!D14","v":{"v":-23.07692307692308,"d":"-23.0769"}},{"$f":"'[1]REQ-SVINC-EXDESC'!E14","v":37},{"$f":"'[1]REQ-SVINC-EXDESC'!F14","v":9},{"$f":"'[1]REQ-SVINC-EXDESC'!G14","v":{"v":32.14285714285714,"d":"32.1429"}},{"$f":"'[1]REQ-SVINC-EXDESC'!H14","v":137},{"$f":"'[1]REQ-SVINC-EXDESC'!I14","v":8},{"$f":"'[1]REQ-SVINC-EXDESC'!J14","v":{"v":6.201550387596896,"d":"6.2016"}},{"$f":"'[1]REQ-SVINC-EXDESC'!K14","v":104},{"$f":"'[1]REQ-SVINC-EXDESC'!L14","v":-1},{"$f":"'[1]REQ-SVINC-EXDESC'!M14","v":{"v":-0.952380952380949,"d":"-0.9524"}},{"$f":"'[1]REQ-SVINC-EXDESC'!N14","v":9},{"$f":"'[1]REQ-SVINC-EXDESC'!O14","v":2},{"$f":"'[1]REQ-SVINC-EXDESC'!P14","v":{"v":28.571428571428584,"d":"28.5714"}},null,{"$f":"'[1]APOS-PENS'!A14","v":2017},{"$f":"'[1]APOS-PENS'!B14","v":650},{"$f":"'[1]APOS-PENS'!C14","v":-10},{"$f":"'[1]APOS-PENS'!D14","v":{"v":-1.5151515151515156,"d":"-1.5152"}},{"$f":"'[1]APOS-PENS'!E14","v":722},{"$f":"'[1]APOS-PENS'!F14","v":-33},{"$f":"'[1]APOS-PENS'!G14","v":{"v":-4.3708609271523216,"d":"-4.3709"}}]
[{"$f":"'[1]REQ-SVINC-EXDESC'!A15","v":2018},{"$f":"'[1]REQ-SVINC-EXDESC'!B15","v":12},{"$f":"'[1]REQ-SVINC-EXDESC'!C15","v":-8},{"$f":"'[1]REQ-SVINC-EXDESC'!D15","v":{"v":-40,"d":"-40.0000"}},{"$f":"'[1]REQ-SVINC-EXDESC'!E15","v":40},{"$f":"'[1]REQ-SVINC-EXDESC'!F15","v":3},{"$f":"'[1]REQ-SVINC-EXDESC'!G15","v":{"v":8.108108108108112,"d":"8.1081"}},{"$f":"'[1]REQ-SVINC-EXDESC'!H15","v":138},{"$f":"'[1]REQ-SVINC-EXDESC'!I15","v":1},{"$f":"'[1]REQ-SVINC-EXDESC'!J15","v":{"v":0.729927007299267,"d":"0.7299"}},{"$f":"'[1]REQ-SVINC-EXDESC'!K15","v":102},{"$f":"'[1]REQ-SVINC-EXDESC'!L15","v":-2},{"$f":"'[1]REQ-SVINC-EXDESC'!M15","v":{"v":-1.9230769230769198,"d":"-1.9231"}},{"$f":"'[1]REQ-SVINC-EXDESC'!N15","v":5},{"$f":"'[1]REQ-SVINC-EXDESC'!O15","v":-4},{"$f":"'[1]REQ-SVINC-EXDESC'!P15","v":{"v":-44.44444444444444,"d":"-44.4444"}},null,{"$f":"'[1]APOS-PENS'!A15","v":2018},{"$f":"'[1]APOS-PENS'!B15","v":633},{"$f":"'[1]APOS-PENS'!C15","v":-17},{"$f":"'[1]APOS-PENS'!D15","v":{"v":-2.615384615384613,"d":"-2.6154"}},{"$f":"'[1]APOS-PENS'!E15","v":697},{"$f":"'[1]APOS-PENS'!F15","v":-25},{"$f":"'[1]APOS-PENS'!G15","v":{"v":-3.46260387811634,"d":"-3.4626"}}]
[{"$f":"'[1]REQ-SVINC-EXDESC'!A16","v":2019},{"$f":"'[1]REQ-SVINC-EXDESC'!B16","v":9},{"$f":"'[1]REQ-SVINC-EXDESC'!C16","v":-3},{"$f":"'[1]REQ-SVINC-EXDESC'!D16","v":{"v":-25,"d":"-25.0000"}},{"$f":"'[1]REQ-SVINC-EXDESC'!E16","v":62},{"$f":"'[1]REQ-SVINC-EXDESC'!F16","v":22},{"$f":"'[1]REQ-SVINC-EXDESC'!G16","v":{"v":55,"d":"55.0000"}},{"$f":"'[1]REQ-SVINC-EXDESC'!H16","v":125},{"$f":"'[1]REQ-SVINC-EXDESC'!I16","v":-13},{"$f":"'[1]REQ-SVINC-EXDESC'!J16","v":{"v":-9.420289855072468,"d":"-9.4203"}},{"$f":"'[1]REQ-SVINC-EXDESC'!K16","v":95},{"$f":"'[1]REQ-SVINC-EXDESC'!L16","v":-7},{"$f":"'[1]REQ-SVINC-EXDESC'!M16","v":{"v":-6.862745098039213,"d":"-6.8627"}},{"$f":"'[1]REQ-SVINC-EXDESC'!N16","v":4},{"$f":"'[1]REQ-SVINC-EXDESC'!O16","v":-1},{"$f":"'[1]REQ-SVINC-EXDESC'!P16","v":{"v":-20,"d":"-20.0000"}},null,{"$f":"'[1]APOS-PENS'!A16","v":2019},{"$f":"'[1]APOS-PENS'!B16","v":636},{"$f":"'[1]APOS-PENS'!C16","v":3},{"$f":"'[1]APOS-PENS'!D16","v":{"v":0.4739336492890942,"d":"0.4739"}},{"$f":"'[1]APOS-PENS'!E16","v":675},{"$f":"'[1]APOS-PENS'!F16","v":-22},{"$f":"'[1]APOS-PENS'!G16","v":{"v":-3.1563845050215207,"d":"-3.1564"}}]
[{"$f":"'[1]REQ-SVINC-EXDESC'!A17","v":2020},{"$f":"'[1]REQ-SVINC-EXDESC'!B17","v":5},{"$f":"'[1]REQ-SVINC-EXDESC'!C17","v":-4},{"$f":"'[1]REQ-SVINC-EXDESC'!D17","v":{"v":-44.44444444444444,"d":"-44.4444"}},{"$f":"'[1]REQ-SVINC-EXDESC'!E17","v":71},{"$f":"'[1]REQ-SVINC-EXDESC'!F17","v":9},{"$f":"'[1]REQ-SVINC-EXDESC'!G17","v":{"v":14.516129032258064,"d":"14.5161"}},{"$f":"'[1]REQ-SVINC-EXDESC'!H17","v":119},{"$f":"'[1]REQ-SVINC-EXDESC'!I17","v":-6},{"$f":"'[1]REQ-SVINC-EXDESC'!J17","v":{"v":-4.799999999999997,"d":"-4.8000"}},{"$f":"'[1]REQ-SVINC-EXDESC'!K17","v":88},{"$f":"'[1]REQ-SVINC-EXDESC'!L17","v":-7},{"$f":"'[1]REQ-SVINC-EXDESC'!M17","v":{"v":-7.368421052631575,"d":"-7.3684"}},{"$f":"'[1]REQ-SVINC-EXDESC'!N17","v":3},{"$f":"'[1]REQ-SVINC-EXDESC'!O17","v":-1},{"$f":"'[1]REQ-SVINC-EXDESC'!P17","v":{"v":-25,"d":"-25.0000"}},null,{"$f":"'[1]APOS-PENS'!A17","v":2020},{"$f":"'[1]APOS-PENS'!B17","v":613},{"$f":"'[1]APOS-PENS'!C17","v":-23},{"$f":"'[1]APOS-PENS'!D17","v":{"v":-3.616352201257868,"d":"-3.6164"}},{"$f":"'[1]APOS-PENS'!E17","v":649},{"$f":"'[1]APOS-PENS'!F17","v":-26},{"$f":"'[1]APOS-PENS'!G17","v":{"v":-3.8518518518518476,"d":"-3.8519"}}]

{"sheet":"PCOMISSÃO","index":11,"n_rows":12,"n_cols":13,"rows_kept":12,"merged":[[11,12,15,13],[29,9,30,13],[29,14,30,16],[34,9,35,13],[34,14,35,16],[39,9,40,16],[43,9,44,13],[43,14,44,16]]}
{"$rows_empty":11}
[{"$nulls":12},"       CGRH/MME"]

{"sheet":"NOMEADOSFUNÇÃO","index":12,"n_rows":355,"n_cols":14,"rows_kept":355,"merged":[[1,0,1,13],[6,0,6,13],[13,0,13,13],[67,0,67,13],[166,0,166,13],[196,0,196,13],[203,0,203,13],[209,0,209,13],[211,0,214,0],[216,0,216,13],[242,0,243,0],[252,0,252,13],[292,0,292,13],[322,0,322,13]]}
[]
["MINISTÉRIO DE MINAS E ENERGIA - MME"]
["UNIDADE","DENOMINAÇÃO CARGO/FUNÇÃO","NE/DAS/FCPE","NÍVEL DA FUNÇÃO","SERVIDOR","SEXO","SITUAÇÃO","ORIGEM","ATO DE NOMEAÇÃO","SUBSTITUTO EVENTUAL","DESIGNAÇÃO","Alteração de local de exercício","ID FUNÇÃO","ID SUBSTITUIÇÃO"]
["MME","Ministro de Estado","NE","GER","BENTO COSTA LIMA LEITE DE ALBUQUERQUE JUNIOR","M","Sem Vínculo","Sem Vínculo","Portaria nº Inciso III do art. 1º do Decreto nº8.851 de 20/09/2016 - DOU de 21/09/2019, de 14/03/2017 - DOU de 16/03/2017 - Ret. 17/03/2017","MARISETE FATIMA DADALD PEREIRA","Portaria nº Inciso III do art. 1º do Decreto nº8.851 de 20/09/2016 - DOU de 21/09/2019, de 14/03/2017 - DOU de 16/03/2017 - Ret. 17/03/2017","-","MIN01","MIN01S"]
[]
[]
["ESCRITÓRIO DE REPRESENTAÇÃO RJ"]
["UNIDADE","DENOMINAÇÃO CARGO/FUNÇÃO","NE/DAS/FCPE","NÍVEL DA FUNÇÃO","SERVIDOR","SEXO","SITUAÇÃO","ORIGEM","ATO DE NOMEAÇÃO","SUBSTITUTO EVENTUAL","DESIGNAÇÃO","Alteração de local de exercício","ID FUNÇÃO","ID SUBSTITUIÇÃO"]
["ESCRITÓRIO DE REPRESENTAÇÃO RJ","Chefe de Escritório","DAS 101.4","GER",{"$f":"INDEX([1]RELAÇÃO!$A$1:$AQ$576,MATCH($M9,[1]RELAÇÃO!$AP$1:$AP$576,0),1)","v":"MARCOS ANDRE DOS SANTOS SOEIRO"},{"$f":"IF(E9=0,\"-\",LEFT(INDEX([1]RELAÇÃO!$A$1:$AQ$576,MATCH($M9,[1]RELAÇÃO!$AP$1:$AP$576,0),32),1))","v":"M"},{"$f":"IF(E9=0,\"-\",INDEX([1]RELAÇÃO!$A$1:$AQ$576,MATCH($M9,[1]RELAÇÃO!$AP$1:$AP$576,0),5))","v":"Requisitado Militar"},{"$f":"IF(E9=0,\"-\",INDEX([1]RELAÇÃO!$A$1:$AQ$576,MATCH($M9,[1]RELAÇÃO!$AP$1:$AP$576,0),6))","v":"Marinha"},{"$f":"IF(B9=0,\"-\",INDEX([1]RELAÇÃO!$A$1:$AQ$576,MATCH($M9,[1]RELAÇÃO!$AP$1:$AP$576,0),12)&INDEX([1]RELAÇÃO!$A$1:$AQ$576,MATCH($M9,[1]RELAÇÃO!$AP$1:$AP$576,0),13)&\", de \"&INDEX([1]RELAÇÃO!$A$1:$AQ$576,MATCH($M9,[1]RELAÇÃO!$AP$1:$AP$576,0),14)&\" - \"&INDEX([1]RELAÇÃO!$A$1:$AQ$576,MATCH($M9,[1]RELAÇÃO!$AP$1:$AP$576,0),16)&\" de \"&INDEX([1]RELAÇÃO!$A$1:$AQ$576,MATCH($M9,[1]RELAÇÃO!$AP$1:$AP$576,0),15))","v":"Portaria nº 269, de 01/07/2020 - DOU de 02/07/2020"},{"$f":"INDEX([1]RELAÇÃO!$A$1:$AQ$576,MATCH($N9,[1]RELAÇÃO!$AQ$1:$AQ$576,0),1)","v":0},{"$f":"IF(J9=0,\"-\",INDEX([1]RELAÇÃO!$A$1:$AQ$576,MATCH($N9,[1]RELAÇÃO!$AQ$1:$AQ$576,0),27)&INDEX([1]RELAÇÃO!$A$1:$AQ$576,MATCH($N9,[1]RELAÇÃO!$AQ$1:$AQ$576,0),28)&\", de \"&INDEX([1]RELAÇÃO!$A$1:$AQ$576,MATCH($N9,[1]RELAÇÃO!$AQ$1:$AQ$576,0),29)&\" - \"&INDEX([1]RELAÇÃO!$A$1:$AQ$576,MATCH($N9,[1]RELAÇÃO!$AQ$1:$AQ$576,0),31)&\" de \"&INDEX([1]RELAÇÃO!$A$1:$AQ$576,MATCH($N9,[1]RELAÇÃO!$AQ$1:$AQ$576,0),30))","v":"-"},{"$f":"IF($E9=0,\"-\",IF(INDEX([1]RELAÇÃO!$A$1:$AQ$576,MATCH($M9,[1]RELAÇÃO!$AP$1:$AP$576,0),8)=\"99.000.000\",\"-\",INDEX([1]RELAÇÃO!$A$1:$AQ$576,MATCH($M9,[1]RELAÇÃO!$AP$1:$AP$576,0),7)))","v":"-"},"TEMP01","TEMP01S"]
[null,"Assessor Técnico","DAS 102.3","ASS",{"$f":"INDEX([1]RELAÇÃO!$A$1:$AQ$576,MATCH($M10,[1]RELAÇÃO!$AP$1:$AP$576,0),1)","v":"VINICIUS SALES PEREIRA"},{"$f":"IF(E10=0,\"-\",LEFT(INDEX([1]RELAÇÃO!$A$1:$AQ$576,MATCH($M10,[1]RELAÇÃO!$AP$1:$AP$576,0),32),1))","v":"M"},{"$f":"IF(E10=0,\"-\",INDEX([1]RELAÇÃO!$A$1:$AQ$576,MATCH($M10,[1]RELAÇÃO!$AP$1:$AP$576,0),5))","v":"Requisitado Militar"},{"$f":"IF(E10=0,\"-\",INDEX([1]RELAÇÃO!$A$1:$AQ$576,MATCH($M10,[1]RELAÇÃO!$AP$1:$AP$576,0),6))","v":"Marinha"},{"$f":"IF(B10=0,\"-\",INDEX([1]RELAÇÃO!$A$1:$AQ$576,MATCH($M10,[1]RELAÇÃO!$AP$1:$AP$576,0),12)&INDEX([1]RELAÇÃO!$A$1:$AQ$576,MATCH($M10,[1]RELAÇÃO!$AP$1:$AP$576,0),13)&\", de \"&INDEX([1]RELAÇÃO!$A$1:$AQ$576,MATCH($M10,[1]RELAÇÃO!$AP$1:$AP$576,0),14)&\" - \"&INDEX([1]RELAÇÃO!$A$1:$AQ$576,MATCH($M10,[1]RELAÇÃO!$AP$1:$AP$576,0),16)&\" de \"&INDEX([1]RELAÇÃO!$A$1:$AQ$576,MATCH($M10,[1]RELAÇÃO!$AP$1:$AP$576,0),15))","v":"Portaria nº 287, de 17/07/2020 - DOU de 20/07/2020"},null,null,{"$f":"IF($E10=0,\"-\",IF(INDEX([1]RELAÇÃO!$A$1:$AQ$576,MATCH($M10,[1]RELAÇÃO!$AP$1:$AP$576,0),8)=\"99.000.000\",\"-\",INDEX([1]RELAÇÃO!$A$1:$AQ$576,MATCH($M10,[1]RELAÇÃO!$AP$1:$AP$576,0),7)))","v":"-"},"TEMP02"]
[null,"Assessor Técnico","DAS 102.3","ASS",{"$f":"INDEX([1]RELAÇÃO!$A$1:$AQ$576,MATCH($M11,[1]RELAÇÃO!$AP$1:$AP$576,0),1)","v":"DANIELLE GONCALVES BRITTO"},{"$f":"IF(E11=0,\"-\",LEFT(INDEX([1]RELAÇÃO!$A$1:$AQ$576,MATCH($M11,[1]RELAÇÃO!$AP$1:$AP$576,0),32),1))","v":"F"},{"$f":"IF(E11=0,\"-\",INDEX([1]RELAÇÃO!$A$1:$AQ$576,MATCH($M11,[1]RELAÇÃO!$AP$1:$AP$576,0),5))","v":"Requisitado Militar"},{"$f":"IF(E11=0,\"-\",INDEX([1]RELAÇÃO!$A$1:$AQ$576,MATCH($M11,[1]RELAÇÃO!$AP$1:$AP$576,0),6))","v":"Marinha"},{"$f":"IF(B11=0,\"-\",INDEX([1]RELAÇÃO!$A$1:$AQ$576,MATCH($M11,[1]RELAÇÃO!$AP$1:$AP$576,0),12)&INDEX([1]RELAÇÃO!$A$1:$AQ$576,MATCH($M11,[1]RELAÇÃO!$AP$1:$AP$576,0),13)&\", de \"&INDEX([1]RELAÇÃO!$A$1:$AQ$576,MATCH($M11,[1]RELAÇÃO!$AP$1:$AP$576,0),14)&\" - \"&INDEX([1]RELAÇÃO!$A$1:$AQ$576,MATCH($M11,[1]RELAÇÃO!$AP$1:$AP$576,0),16)&\" de \"&INDEX([1]RELAÇÃO!$A$1:$AQ$576,MATCH($M11,[1]RELAÇÃO!$AP$1:$AP$576,0),15))","v":"Portaria nº 270, de 01/07/2020 - DOU de 02/07/2020"},null,null,{"$f":"IF($E11=0,\"-\",IF(INDEX([1]RELAÇÃO!$A$1:$AQ$576,MATCH($M11,[1]RELAÇÃO!$AP$1:$AP$576,0),8)=\"99.000.000\",\"-\",INDEX([1]RELAÇÃO!$A$1:$AQ$576,MATCH($M11,[1]RELAÇÃO!$AP$1:$AP$576,0),7)))","v":"-"},"TEMP03"]
[null,"Assessor Técnico","DAS 102.3","ASS",{"$f":"INDEX([1]RELAÇÃO!$A$1:$AQ$576,MATCH($M12,[1]RELAÇÃO!$AP$1:$AP$576,0),1)","v":"RAIMUNDO WANGLER VIANA SERRAO"},{"$f":"IF(E12=0,\"-\",LEFT(INDEX([1]RELAÇÃO!$A$1:$AQ$576,MATCH($M12,[1]RELAÇÃO!$AP$1:$AP$576,0),32),1))","v":"M"},{"$f":"IF(E12=0,\"-\",INDEX([1]RELAÇÃO!$A$1:$AQ$576,MATCH($M12,[1]RELAÇÃO!$AP$1:$AP$576,0),5))","v":"Requisitado Militar"},{"$f":"IF(E12=0,\"-\",INDEX([1]RELAÇÃO!$A$1:$AQ$576,MATCH($M12,[1]RELAÇÃO!$AP$1:$AP$576,0),6))","v":"Marinha"},{"$f":"IF(B12=0,\"-\",INDEX([1]RELAÇÃO!$A$1:$AQ$576,MATCH($M12,[1]RELAÇÃO!$AP$1:$AP$576,0),12)&INDEX([1]RELAÇÃO!$A$1:$AQ$576,MATCH($M12,[1]RELAÇÃO!$AP$1:$AP$576,0),13)&\", de \"&INDEX([1]RELAÇÃO!$A$1:$AQ$576,MATCH($M12,[1]RELAÇÃO!$AP$1:$AP$576,0),14)&\" - \"&INDEX([1]RELAÇÃO!$A$1:$AQ$576,MATCH($M12,[1]RELAÇÃO!$AP$1:$AP$576,0),16)&\" de \"&INDEX([1]RELAÇÃO!$A$1:$AQ$576,MATCH($M12,[1]RELAÇÃO!$AP$1:$AP$576,0),15))","v":"Portaria nº 271, de 01/07/2020 - DOU de 02/07/2020"},null,null,{"$f":"IF($E12=0,\"-\",IF(INDEX([1]RELAÇÃO!$A$1:$AQ$576,MATCH($M12,[1]RELAÇÃO!$AP$1:$AP$576,0),8)=\"99.000.000\",\"-\",INDEX([1]RELAÇÃO!$A$1:$AQ$576,MATCH($M12,[1]RELAÇÃO!$AP$1:$AP$576,0),7)))","v":"-"},"TEMP04"]
[]
["GABINETE DO MINISTRO - GM"]
["UNIDADE","DENOMINAÇÃO CARGO/FUNÇÃO","NE/DAS/FCPE","NÍVEL DA FUNÇÃO","SERVIDOR","SEXO","SITUAÇÃO","ORIGEM","ATO DE NOMEAÇÃO","SUBSTITUTO EVENTUAL","DESIGNAÇÃO","Alteração de local de exercício","ID FUNÇÃO","ID SUBSTITUIÇÃO"]
["ASSESSORES DO MINISTRO","Assessor Especial","DAS 102.5","ASS",{"$f":"INDEX([1]RELAÇÃO!$A$1:$AQ$576,MATCH($M16,[1]RELAÇÃO!$AP$1:$AP$576,0),1)","v":"ANTONIO CARLOS RAMOS DE BARROS MELLO"},{"$f":"IF(E16=0,\"-\",LEFT(INDEX([1]RELAÇÃO!$A$1:$AQ$576,MATCH($M16,[1]RELAÇÃO!$AP$1:$AP$576,0),32),1))","v":"M"},{"$f":"IF(E16=0,\"-\",INDEX([1]RELAÇÃO!$A$1:$AQ$576,MATCH($M16,[1]RELAÇÃO!$AP$1:$AP$576,0),5))","v":"Sem Vínculo"},{"$f":"IF(E16=0,\"-\",INDEX([1]RELAÇÃO!$A$1:$AQ$576,MATCH($M16,[1]RELAÇÃO!$AP$1:$AP$576,0),6))","v":"Sem Vínculo"},{"$f":"IF(E16=0,\"-\",INDEX([1]RELAÇÃO!$A$1:$AQ$576,MATCH($M16,[1]RELAÇÃO!$AP$1:$AP$576,0),12)&INDEX([1]RELAÇÃO!$A$1:$AQ$576,MATCH($M16,[1]RELAÇÃO!$AP$1:$AP$576,0),13)&\", de \"&INDEX([1]RELAÇÃO!$A$1:$AQ$576,MATCH($M16,[1]RELAÇÃO!$AP$1:$AP$576,0),14)&\" - \"&INDEX([1]RELAÇÃO!$A$1:$AQ$576,MATCH($M16,[1]RELAÇÃO!$AP$1:$AP$576,0),16)&\" de \"&INDEX([1]RELAÇÃO!$A$1:$AQ$576,MATCH($M16,[1]RELAÇÃO!$AP$1:$AP$576,0),15))","v":"Portaria nº 524, de 03/11/2016 - DOU de 04/11/2016"},null,null,{"$f":"IF($E16=0,\"-\",IF(INDEX([1]RELAÇÃO!$A$1:$AQ$576,MATCH($M16,[1]RELAÇÃO!$AP$1:$AP$576,0),8)=\"2.000.000\",\"-\",INDEX([1]RELAÇÃO!$A$1:$AQ$576,MATCH($M16,[1]RELAÇÃO!$AP$1:$AP$576,0),7)))","v":"-"},"GM01"]
[null,"Assessor Especial","DAS 102.5","ASS",{"$f":"INDEX([1]RELAÇÃO!$A$1:$AQ$576,MATCH($M17,[1]RELAÇÃO!$AP$1:$AP$576,0),1)","v":"CESAR FERREIRA BORGES"},{"$f":"IF(E17=0,\"-\",LEFT(INDEX([1]RELAÇÃO!$A$1:$AQ$576,MATCH($M17,[1]RELAÇÃO!$AP$1:$AP$576,0),32),1))","v":"M"},{"$f":"IF(E17=0,\"-\",INDEX([1]RELAÇÃO!$A$1:$AQ$576,MATCH($M17,[1]RELAÇÃO!$AP$1:$AP$576,0),5))","v":"Sem Vínculo"},{"$f":"IF(E17=0,\"-\",INDEX([1]RELAÇÃO!$A$1:$AQ$576,MATCH($M17,[1]RELAÇÃO!$AP$1:$AP$576,0),6))","v":"Sem Vínculo"},{"$f":"IF(E17=0,\"-\",INDEX([1]RELAÇÃO!$A$1:$AQ$576,MATCH($M17,[1]RELAÇÃO!$AP$1:$AP$576,0),12)&INDEX([1]RELAÇÃO!$A$1:$AQ$576,MATCH($M17,[1]RELAÇÃO!$AP$1:$AP$576,0),13)&\", de \"&INDEX([1]RELAÇÃO!$A$1:$AQ$576,MATCH($M17,[1]RELAÇÃO!$AP$1:$AP$576,0),14)&\" - \"&INDEX([1]RELAÇÃO!$A$1:$AQ$576,MATCH($M17,[1]RELAÇÃO!$AP$1:$AP$576,0),16)&\" de \"&INDEX([1]RELAÇÃO!$A$1:$AQ$576,MATCH($M17,[1]RELAÇÃO!$AP$1:$AP$576,0),15))","v":"Portaria nº 556, de 30/05/2017 - DOU de 31/05/2017"},null,null,{"$f":"IF($E17=0,\"-\",IF(INDEX([1]RELAÇÃO!$A$1:$AQ$576,MATCH($M17,[1]RELAÇÃO!$AP$1:$AP$576,0),8)=\"2.000.000\",\"-\",INDEX([1]RELAÇÃO!$A$1:$AQ$576,MATCH($M17,[1]RELAÇÃO!$AP$1:$AP$576,0),7)))","v":"GM / ASSESSORIA DE COMUNICAÇÃO SOCIAL - ASCOM"},"GM02"]
[null,"Assessor Especial","DAS 102.5","ASS",{"$f":"INDEX([1]RELAÇÃO!$A$1:$AQ$576,MATCH($M18,[1]RELAÇÃO!$AP$1:$AP$576,0),1)","v":"ANA PAULA ALVES DE SOUZA"},{"$f":"IF(E18=0,\"-\",LEFT(INDEX([1]RELAÇÃO!$A$1:$AQ$576,MATCH($M18,[1]RELAÇÃO!$AP$1:$AP$576,0),32),1))","v":"F"},{"$f":"IF(E18=0,\"-\",INDEX([1]RELAÇÃO!$A$1:$AQ$576,MATCH($M18,[1]RELAÇÃO!$AP$1:$AP$576,0),5))","v":"Requisitado Militar"},{"$f":"IF(E18=0,\"-\",INDEX([1]RELAÇÃO!$A$1:$AQ$576,MATCH($M18,[1]RELAÇÃO!$AP$1:$AP$576,0),6))","v":"Marinha"},{"$f":"IF(E18=0,\"-\",INDEX([1]RELAÇÃO!$A$1:$AQ$576,MATCH($M18,[1]RELAÇÃO!$AP$1:$AP$576,0),12)&INDEX([1]RELAÇÃO!$A$1:$AQ$576,MATCH($M18,[1]RELAÇÃO!$AP$1:$AP$576,0),13)&\", de \"&INDEX([1]RELAÇÃO!$A$1:$AQ$576,MATCH($M18,[1]RELAÇÃO!$AP$1:$AP$576,0),14)&\" - \"&INDEX([1]RELAÇÃO!$A$1:$AQ$576,MATCH($M18,[1]RELAÇÃO!$AP$1:$AP$576,0),16)&\" de \"&INDEX([1]RELAÇÃO!$A$1:$AQ$576,MATCH($M18,[1]RELAÇÃO!$AP$1:$AP$576,0),15))","v":"Portaria nº 75, de 02/03/2020 - DOU de 04/03/2020"},null,null,{"$f":"IF($E18=0,\"-\",IF(INDEX([1]RELAÇÃO!$A$1:$AQ$576,MATCH($M18,[1]RELAÇÃO!$AP$1:$AP$576,0),8)=\"2.000.000\",\"-\",INDEX([1]RELAÇÃO!$A$1:$AQ$576,MATCH($M18,[1]RELAÇÃO!$AP$1:$AP$576,0),7)))","v":"-"},"GM03"]
[null,"Assessor Especial","DAS 102.5","ASS",{"$f":"INDEX([1]RELAÇÃO!$A$1:$AQ$576,MATCH($M19,[1]RELAÇÃO!$AP$1:$AP$576,0),1)","v":"ALAN SAMPAIO SANTOS"},{"$f":"IF(E19=0,\"-\",LEFT(INDEX([1]RELAÇÃO!$A$1:$AQ$576,MATCH($M19,[1]RELAÇÃO!$AP$1:$AP$576,0),32),1))","v":"M"},{"$f":"IF(E19=0,\"-\",INDEX([1]RELAÇÃO!$A$1:$AQ$576,MATCH($M19,[1]RELAÇÃO!$AP$1:$AP$576,0),5))","v":"Sem Vínculo"},{"$f":"IF(E19=0,\"-\",INDEX([1]RELAÇÃO!$A$1:$AQ$576,MATCH($M19,[1]RELAÇÃO!$AP$1:$AP$576,0),6))","v":"Sem Vínculo"},{"$f":"IF(E19=0,\"-\",INDEX([1]RELAÇÃO!$A$1:$AQ$576,MATCH($M19,[1]RELAÇÃO!$AP$1:$AP$576,0),12)&INDEX([1]RELAÇÃO!$A$1:$AQ$576,MATCH($M19,[1]RELAÇÃO!$AP$1:$AP$576,0),13)&\", de \"&INDEX([1]RELAÇÃO!$A$1:$AQ$576,MATCH($M19,[1]RELAÇÃO!$AP$1:$AP$576,0),14)&\" - \"&INDEX([1]RELAÇÃO!$A$1:$AQ$576,MATCH($M19,[1]RELAÇÃO!$AP$1:$AP$576,0),16)&\" de \"&INDEX([1]RELAÇÃO!$A$1:$AQ$576,MATCH($M19,[1]RELAÇÃO!$AP$1:$AP$576,0),15))","v":"Portaria nº 1124, de 08/10/2018 - DOU de 09/10/2018"},null,null,{"$f":"IF($E19=0,\"-\",IF(INDEX([1]RELAÇÃO!$A$1:$AQ$576,MATCH($M19,[1]RELAÇÃO!$AP$1:$AP$576,0),8)=\"2.000.000\",\"-\",INDEX([1]RELAÇÃO!$A$1:$AQ$576,MATCH($M19,[1]RELAÇÃO!$AP$1:$AP$576,0),7)))","v":"ASSESSORIA ESPECIAL DE ACOMPANHAMENTO DE POLÍTICAS, ESTRATÉGIAS E DESEMPENHO SETORIAL - AEPED"},"GM04"]
[null,"Assessor Especial","DAS 102.5","ASS",{"$f":"INDEX([1]RELAÇÃO!$A$1:$AQ$576,MATCH($M20,[1]RELAÇÃO!$AP$1:$AP$576,0),1)","v":"PEDRO HUGO TEIXEIRA DE OLIVEIRA JUNIOR"},{"$f":"IF(E20=0,\"-\",LEFT(INDEX([1]RELAÇÃO!$A$1:$AQ$576,MATCH($M20,[1]RELAÇÃO!$AP$1:$AP$576,0),32),1))","v":"M"},{"$f":"IF(E20=0,\"-\",INDEX([1]RELAÇÃO!$A$1:$AQ$576,MATCH($M20,[1]RELAÇÃO!$AP$1:$AP$576,0),5))","v":"Sem Vínculo"},{"$f":"IF(E20=0,\"-\",INDEX([1]RELAÇÃO!$A$1:$AQ$576,MATCH($M20,[1]RELAÇÃO!$AP$1:$AP$576,0),6))","v":"Sem Vínculo"},{"$f":"IF(E20=0,\"-\",INDEX([1]RELAÇÃO!$A$1:$AQ$576,MATCH($M20,[1]RELAÇÃO!$AP$1:$AP$576,0),12)&INDEX([1]RELAÇÃO!$A$1:$AQ$576,MATCH($M20,[1]RELAÇÃO!$AP$1:$AP$576,0),13)&\", de \"&INDEX([1]RELAÇÃO!$A$1:$AQ$576,MATCH($M20,[1]RELAÇÃO!$AP$1:$AP$576,0),14)&\" - \"&INDEX([1]RELAÇÃO!$A$1:$AQ$576,MATCH($M20,[1]RELAÇÃO!$AP$1:$AP$576,0),16)&\" de \"&INDEX([1]RELAÇÃO!$A$1:$AQ$576,MATCH($M20,[1]RELAÇÃO!$AP$1:$AP$576,0),15))","v":"Portaria nº 623, de 17/01/2019 - DOU de 17/01/2019"},null,null,{"$f":"IF($E20=0,\"-\",IF(INDEX([1]RELAÇÃO!$A$1:$AQ$576,MATCH($M20,[1]RELAÇÃO!$AP$1:$AP$576,0),8)=\"2.000.000\",\"-\",INDEX([1]RELAÇÃO!$A$1:$AQ$576,MATCH($M20,[1]RELAÇÃO!$AP$1:$AP$576,0),7)))","v":"GM / ASSESSORIA PARLAMENTAR - ASPAR"},"GM05"]
[null,"Diretor de Programa","DAS 101.5","GER",{"$f":"INDEX([1]RELAÇÃO!$A$1:$AQ$576,MATCH($M21,[1]RELAÇÃO!$AP$1:$AP$576,0),1)","v":"RENATA ROSADA DA SILVA"},{"$f":"IF(E21=0,\"-\",LEFT(INDEX([1]RELAÇÃO!$A$1:$AQ$576,MATCH($M21,[1]RELAÇÃO!$AP$1:$AP$576,0),32),1))","v":"F"},{"$f":"IF(E21=0,\"-\",INDEX([1]RELAÇÃO!$A$1:$AQ$576,MATCH($M21,[1]RELAÇÃO!$AP$1:$AP$576,0),5))","v":"Requisitado de Órgãos"},{"$f":"IF(E21=0,\"-\",INDEX([1]RELAÇÃO!$A$1:$AQ$576,MATCH($M21,[1]RELAÇÃO!$AP$1:$AP$576,0),6))","v":"ANEEL - Agência Nacional de Energia Elétrica"},{"$f":"IF(E21=0,\"-\",INDEX([1]RELAÇÃO!$A$1:$AQ$576,MATCH($M21,[1]RELAÇÃO!$AP$1:$AP$576,0),12)&INDEX([1]RELAÇÃO!$A$1:$AQ$576,MATCH($M21,[1]RELAÇÃO!$AP$1:$AP$576,0),13)&\", de \"&INDEX([1]RELAÇÃO!$A$1:$AQ$576,MATCH($M21,[1]RELAÇÃO!$AP$1:$AP$576,0),14)&\" - \"&INDEX([1]RELAÇÃO!$A$1:$AQ$576,MATCH($M21,[1]RELAÇÃO!$AP$1:$AP$576,0),16)&\" de \"&INDEX([1]RELAÇÃO!$A$1:$AQ$576,MATCH($M21,[1]RELAÇÃO!$AP$1:$AP$576,0),15))","v":"Portaria nº 597, de 16/01/2019 - DOU de 17/01/2019"},{"$f":"INDEX([1]RELAÇÃO!$A$1:$AQ$576,MATCH($N21,[1]RELAÇÃO!$AQ$1:$AQ$576,0),1)","v":0},{"$f":"IF(J21=0,\"-\",INDEX([1]RELAÇÃO!$A$1:$AQ$576,MATCH($N21,[1]RELAÇÃO!$AQ$1:$AQ$576,0),27)&INDEX([1]RELAÇÃO!$A$1:$AQ$576,MATCH($N21,[1]RELAÇÃO!$AQ$1:$AQ$576,0),28)&\", de \"&INDEX([1]RELAÇÃO!$A$1:$AQ$576,MATCH($N21,[1]RELAÇÃO!$AQ$1:$AQ$576,0),29)&\" - \"&INDEX([1]RELAÇÃO!$A$1:$AQ$576,MATCH($N21,[1]RELAÇÃO!$AQ$1:$AQ$576,0),31)&\" de \"&INDEX([1]RELAÇÃO!$A$1:$AQ$576,MATCH($N21,[1]RELAÇÃO!$AQ$1:$AQ$576,0),30))","v":"-"},{"$f":"IF($E21=0,\"-\",IF(INDEX([1]RELAÇÃO!$A$1:$AQ$576,MATCH($M21,[1]RELAÇÃO!$AP$1:$AP$576,0),8)=\"2.000.000\",\"-\",INDEX([1]RELAÇÃO!$A$1:$AQ$576,MATCH($M21,[1]RELAÇÃO!$AP$1:$AP$576,0),7)))","v":"ASSESSORIA ESPECIAL DE ASSUNTOS ECONÔMICOS - ASSEC"},"GM06","GM01S"]
[null,"Diretor de Programa","DAS 101.5","GER",{"$f":"INDEX([1]RELAÇÃO!$A$1:$AQ$576,MATCH($M22,[1]RELAÇÃO!$AP$1:$AP$576,0),1)","v":0},{"$f":"IF(E22=0,\"-\",LEFT(INDEX([1]RELAÇÃO!$A$1:$AQ$576,MATCH($M22,[1]RELAÇÃO!$AP$1:$AP$576,0),32),1))","v":"-"},{"$f":"IF(E22=0,\"-\",INDEX([1]RELAÇÃO!$A$1:$AQ$576,MATCH($M22,[1]RELAÇÃO!$AP$1:$AP$576,0),5))","v":"-"},{"$f":"IF(E22=0,\"-\",INDEX([1]RELAÇÃO!$A$1:$AQ$576,MATCH($M22,[1]RELAÇÃO!$AP$1:$AP$576,0),6))","v":"-"},{"$f":"IF(E22=0,\"-\",INDEX([1]RELAÇÃO!$A$1:$AQ$576,MATCH($M22,[1]RELAÇÃO!$AP$1:$AP$576,0),12)&INDEX([1]RELAÇÃO!$A$1:$AQ$576,MATCH($M22,[1]RELAÇÃO!$AP$1:$AP$576,0),13)&\", de \"&INDEX([1]RELAÇÃO!$A$1:$AQ$576,MATCH($M22,[1]RELAÇÃO!$AP$1:$AP$576,0),14)&\" - \"&INDEX([1]RELAÇÃO!$A$1:$AQ$576,MATCH($M22,[1]RELAÇÃO!$AP$1:$AP$576,0),16)&\" de \"&INDEX([1]RELAÇÃO!$A$1:$AQ$576,MATCH($M22,[1]RELAÇÃO!$AP$1:$AP$576,0),15))","v":"-"},{"$f":"INDEX([1]RELAÇÃO!$A$1:$AQ$576,MATCH($N22,[1]RELAÇÃO!$AQ$1:$AQ$576,0),1)","v":0},{"$f":"IF(J22=0,\"-\",INDEX([1]RELAÇÃO!$A$1:$AQ$576,MATCH($N22,[1]RELAÇÃO!$AQ$1:$AQ$576,0),27)&INDEX([1]RELAÇÃO!$A$1:$AQ$576,MATCH($N22,[1]RELAÇÃO!$AQ$1:$AQ$576,0),28)&\", de \"&INDEX([1]RELAÇÃO!$A$1:$AQ$576,MATCH($N22,[1]RELAÇÃO!$AQ$1:$AQ$576,0),29)&\" - \"&INDEX([1]RELAÇÃO!$A$1:$AQ$576,MATCH($N22,[1]RELAÇÃO!$AQ$1:$AQ$576,0),31)&\" de \"&INDEX([1]RELAÇÃO!$A$1:$AQ$576,MATCH($N22,[1]RELAÇÃO!$AQ$1:$AQ$576,0),30))","v":"-"},{"$f":"IF($E22=0,\"-\",IF(INDEX([1]RELAÇÃO!$A$1:$AQ$576,MATCH($M22,[1]RELAÇÃO!$AP$1:$AP$576,0),8)=\"2.000.000\",\"-\",INDEX([1]RELAÇÃO!$A$1:$AQ$576,MATCH($M22,[1]RELAÇÃO!$AP$1:$AP$576,0),7)))","v":"-"},"GM07","GM02S"]
[null,"Assessor","DAS 102.4","ASS",{"$f":"INDEX([1]RELAÇÃO!$A$1:$AQ$576,MATCH($M23,[1]RELAÇÃO!$AP$1:$AP$576,0),1)","v":"VALERIA DE JESUS RODRIGUES SOUZA"},{"$f":"IF(E23=0,\"-\",LEFT(INDEX([1]RELAÇÃO!$A$1:$AQ$576,MATCH($M23,[1]RELAÇÃO!$AP$1:$AP$576,0),32),1))","v":"F"},{"$f":"IF(E23=0,\"-\",INDEX([1]RELAÇÃO!$A$1:$AQ$576,MATCH($M23,[1]RELAÇÃO!$AP$1:$AP$576,0),5))","v":"Requisitado Militar"},{"$f":"IF(E23=0,\"-\",INDEX([1]RELAÇÃO!$A$1:$AQ$576,MATCH($M23,[1]RELAÇÃO!$AP$1:$AP$576,0),6))","v":"Marinha"},{"$f":"IF(E23=0,\"-\",INDEX([1]RELAÇÃO!$A$1:$AQ$576,MATCH($M23,[1]RELAÇÃO!$AP$1:$AP$576,0),12)&INDEX([1]RELAÇÃO!$A$1:$AQ$576,MATCH($M23,[1]RELAÇÃO!$AP$1:$AP$576,0),13)&\", de \"&INDEX([1]RELAÇÃO!$A$1:$AQ$576,MATCH($M23,[1]RELAÇÃO!$AP$1:$AP$576,0),14)&\" - \"&INDEX([1]RELAÇÃO!$A$1:$AQ$576,MATCH($M23,[1]RELAÇÃO!$AP$1:$AP$576,0),16)&\" de \"&INDEX([1]RELAÇÃO!$A$1:$AQ$576,MATCH($M23,[1]RELAÇÃO!$AP$1:$AP$576,0),15))","v":"Portaria nº 60, de 24/01/2019 - DOU de 29/01/2019"},null,null,{"$f":"IF($E23=0,\"-\",IF(INDEX([1]RELAÇÃO!$A$1:$AQ$576,MATCH($M23,[1]RELAÇÃO!$AP$1:$AP$576,0),8)=\"2.000.000\",\"-\",INDEX([1]RELAÇÃO!$A$1:$AQ$576,MATCH($M23,[1]RELAÇÃO!$AP$1:$AP$576,0),7)))","v":"-"},"GM08"]
[null,"Assessor","DAS 102.4","ASS",{"$f":"INDEX([1]RELAÇÃO!$A$1:$AQ$576,MATCH($M24,[1]RELAÇÃO!$AP$1:$AP$576,0),1)","v":"JOÃO DE AMORIM LITAIFF JUNIOR"},{"$f":"IF(E24=0,\"-\",LEFT(INDEX([1]RELAÇÃO!$A$1:$AQ$576,MATCH($M24,[1]RELAÇÃO!$AP$1:$AP$576,0),32),1))","v":"M"},{"$f":"IF(E24=0,\"-\",INDEX([1]RELAÇÃO!$A$1:$AQ$576,MATCH($M24,[1]RELAÇÃO!$AP$1:$AP$576,0),5))","v":"Sem Vínculo"},{"$f":"IF(E24=0,\"-\",INDEX([1]RELAÇÃO!$A$1:$AQ$576,MATCH($M24,[1]RELAÇÃO!$AP$1:$AP$576,0),6))","v":"Sem Vínculo"},{"$f":"IF(E24=0,\"-\",INDEX([1]RELAÇÃO!$A$1:$AQ$576,MATCH($M24,[1]RELAÇÃO!$AP$1:$AP$576,0),12)&INDEX([1]RELAÇÃO!$A$1:$AQ$576,MATCH($M24,[1]RELAÇÃO!$AP$1:$AP$576,0),13)&\", de \"&INDEX([1]RELAÇÃO!$A$1:$AQ$576,MATCH($M24,[1]RELAÇÃO!$AP$1:$AP$576,0),14)&\" - \"&INDEX([1]RELAÇÃO!$A$1:$AQ$576,MATCH($M24,[1]RELAÇÃO!$AP$1:$AP$576,0),16)&\" de \"&INDEX([1]RELAÇÃO!$A$1:$AQ$576,MATCH($M24,[1]RELAÇÃO!$AP$1:$AP$576,0),15))","v":"Portaria nº 37, de 17/01/2019 - DOU de 21/01/2019"},null,null,{"$f":"IF($E24=0,\"-\",IF(INDEX([1]RELAÇÃO!$A$1:$AQ$576,MATCH($M24,[1]RELAÇÃO!$AP$1:$AP$576,0),8)=\"2.000.000\",\"-\",INDEX([1]RELAÇÃO!$A$1:$AQ$576,MATCH($M24,[1]RELAÇÃO!$AP$1:$AP$576,0),7)))","v":"ASSESSORIA ESPECIAL DE ACOMPANHAMENTO DE POLÍTICAS, ESTRATÉGIAS E DESEMPENHO SETORIAL - AEPED"},"GM09"]
[null,"Assessor","DAS 102.4","ASS",{"$f":"INDEX([1]RELAÇÃO!$A$1:$AQ$576,MATCH($M25,[1]RELAÇÃO!$AP$1:$AP$576,0),1)","v":"ANDREIA ALVES NASCIMENTO FRAGA"},{"$f":"IF(E25=0,\"-\",LEFT(INDEX([1]RELAÇÃO!$A$1:$AQ$576,MATCH($M25,[1]RELAÇÃO!$AP$1:$AP$576,0),32),1))","v":"F"},{"$f":"IF(E25=0,\"-\",INDEX([1]RELAÇÃO!$A$1:$AQ$576,MATCH($M25,[1]RELAÇÃO!$AP$1:$AP$576,0),5))","v":"Sem Vínculo"},{"$f":"IF(E25=0,\"-\",INDEX([1]RELAÇÃO!$A$1:$AQ$576,MATCH($M25,[1]RELAÇÃO!$AP$1:$AP$576,0),6))","v":"Sem Vínculo"},{"$f":"IF(E25=0,\"-\",INDEX([1]RELAÇÃO!$A$1:$AQ$576,MATCH($M25,[1]RELAÇÃO!$AP$1:$AP$576,0),12)&INDEX([1]RELAÇÃO!$A$1:$AQ$576,MATCH($M25,[1]RELAÇÃO!$AP$1:$AP$576,0),13)&\", de \"&INDEX([1]RELAÇÃO!$A$1:$AQ$576,MATCH($M25,[1]RELAÇÃO!$AP$1:$AP$576,0),14)&\" - \"&INDEX([1]RELAÇÃO!$A$1:$AQ$576,MATCH($M25,[1]RELAÇÃO!$AP$1:$AP$576,0),16)&\" de \"&INDEX([1]RELAÇÃO!$A$1:$AQ$576,MATCH($M25,[1]RELAÇÃO!$AP$1:$AP$576,0),15))","v":"Portaria nº 238, de 03/06/2019 - DOU de 06/06/2019"},null,null,{"$f":"IF($E25=0,\"-\",IF(INDEX([1]RELAÇÃO!$A$1:$AQ$576,MATCH($M25,[1]RELAÇÃO!$AP$1:$AP$576,0),8)=\"2.000.000\",\"-\",INDEX([1]RELAÇÃO!$A$1:$AQ$576,MATCH($M25,[1]RELAÇÃO!$AP$1:$AP$576,0),7)))","v":"-"},"GM10"]
[null,"Assessor","DAS 102.4","ASS",{"$f":"INDEX([1]RELAÇÃO!$A$1:$AQ$576,MATCH($M26,[1]RELAÇÃO!$AP$1:$AP$576,0),1)","v":"EDUARDO SOUZA GRIVOT DE GRAND COURT"},{"$f":"IF(E26=0,\"-\",LEFT(INDEX([1]RELAÇÃO!$A$1:$AQ$576,MATCH($M26,[1]RELAÇÃO!$AP$1:$AP$576,0),32),1))","v":"M"},{"$f":"IF(E26=0,\"-\",INDEX([1]RELAÇÃO!$A$1:$AQ$576,MATCH($M26,[1]RELAÇÃO!$AP$1:$AP$576,0),5))","v":"Sem Vínculo"},{"$f":"IF(E26=0,\"-\",INDEX([1]RELAÇÃO!$A$1:$AQ$576,MATCH($M26,[1]RELAÇÃO!$AP$1:$AP$576,0),6))","v":"S/VÍNCULO"},{"$f":"IF(E26=0,\"-\",INDEX([1]RELAÇÃO!$A$1:$AQ$576,MATCH($M26,[1]RELAÇÃO!$AP$1:$AP$576,0),12)&INDEX([1]RELAÇÃO!$A$1:$AQ$576,MATCH($M26,[1]RELAÇÃO!$AP$1:$AP$576,0),13)&\", de \"&INDEX([1]RELAÇÃO!$A$1:$AQ$576,MATCH($M26,[1]RELAÇÃO!$AP$1:$AP$576,0),14)&\" - \"&INDEX([1]RELAÇÃO!$A$1:$AQ$576,MATCH($M26,[1]RELAÇÃO!$AP$1:$AP$576,0),16)&\" de \"&INDEX([1]RELAÇÃO!$A$1:$AQ$576,MATCH($M26,[1]RELAÇÃO!$AP$1:$AP$576,0),15))","v":"Portaria nº 325, de 27/08/2020 - DOU de 31/08/2020"},null,null,{"$f":"IF($E26=0,\"-\",IF(INDEX([1]RELAÇÃO!$A$1:$AQ$576,MATCH($M26,[1]RELAÇÃO!$AP$1:$AP$576,0),8)=\"2.000.000\",\"-\",INDEX([1]RELAÇÃO!$A$1:$AQ$576,MATCH($M26,[1]RELAÇÃO!$AP$1:$AP$576,0),7)))","v":"SE / ASSESSORIA ESPECIAL DE GESTÃO ESTRATÉGICA - AEGE"},"GM45"]
[null,"Assessor","DAS 102.4","ASS",{"$f":"INDEX([1]RELAÇÃO!$A$1:$AQ$576,MATCH($M27,[1]RELAÇÃO!$AP$1:$AP$576,0),1)","v":"GUSTAVO CERQUEIRA ATAIDE"},{"$f":"IF(E27=0,\"-\",LEFT(INDEX([1]RELAÇÃO!$A$1:$AQ$576,MATCH($M27,[1]RELAÇÃO!$AP$1:$AP$576,0),32),1))","v":"M"},{"$f":"IF(E27=0,\"-\",INDEX([1]RELAÇÃO!$A$1:$AQ$576,MATCH($M27,[1]RELAÇÃO!$AP$1:$AP$576,0),5))","v":"Requisitado de Órgãos"},{"$f":"IF(E27=0,\"-\",INDEX([1]RELAÇÃO!$A$1:$AQ$576,MATCH($M27,[1]RELAÇÃO!$AP$1:$AP$576,0),6))","v":"ME - Ministério da Economia"},{"$f":"IF(E27=0,\"-\",INDEX([1]RELAÇÃO!$A$1:$AQ$576,MATCH($M27,[1]RELAÇÃO!$AP$1:$AP$576,0),12)&INDEX([1]RELAÇÃO!$A$1:$AQ$576,MATCH($M27,[1]RELAÇÃO!$AP$1:$AP$576,0),13)&\", de \"&INDEX([1]RELAÇÃO!$A$1:$AQ$576,MATCH($M27,[1]RELAÇÃO!$AP$1:$AP$576,0),14)&\" - \"&INDEX([1]RELAÇÃO!$A$1:$AQ$576,MATCH($M27,[1]RELAÇÃO!$AP$1:$AP$576,0),16)&\" de \"&INDEX([1]RELAÇÃO!$A$1:$AQ$576,MATCH($M27,[1]RELAÇÃO!$AP$1:$AP$576,0),15))","v":"Portaria nº 366, de 01/10/2020 - DOU de 08/10/2020"},null,null,{"$f":"IF($E27=0,\"-\",IF(INDEX([1]RELAÇÃO!$A$1:$AQ$576,MATCH($M27,[1]RELAÇÃO!$AP$1:$AP$576,0),8)=\"2.000.000\",\"-\",INDEX([1]RELAÇÃO!$A$1:$AQ$576,MATCH($M27,[1]RELAÇÃO!$AP$1:$AP$576,0),7)))","v":"SPE / DEPARTAMENTO DE PLANEJAMENTO ENERGÉTICO - DPE"},"GM46"]
[null,"Assessor","DAS 102.4","ASS",{"$f":"INDEX([1]RELAÇÃO!$A$1:$AQ$576,MATCH($M28,[1]RELAÇÃO!$AP$1:$AP$576,0),1)","v":0},{"$f":"IF(E28=0,\"-\",LEFT(INDEX([1]RELAÇÃO!$A$1:$AQ$576,MATCH($M28,[1]RELAÇÃO!$AP$1:$AP$576,0),32),1))","v":"-"},{"$f":"IF(E28=0,\"-\",INDEX([1]RELAÇÃO!$A$1:$AQ$576,MATCH($M28,[1]RELAÇÃO!$AP$1:$AP$576,0),5))","v":"-"},{"$f":"IF(E28=0,\"-\",INDEX([1]RELAÇÃO!$A$1:$AQ$576,MATCH($M28,[1]RELAÇÃO!$AP$1:$AP$576,0),6))","v":"-"},{"$f":"IF(E28=0,\"-\",INDEX([1]RELAÇÃO!$A$1:$AQ$576,MATCH($M28,[1]RELAÇÃO!$AP$1:$AP$576,0),12)&INDEX([1]RELAÇÃO!$A$1:$AQ$576,MATCH($M28,[1]RELAÇÃO!$AP$1:$AP$576,0),13)&\", de \"&INDEX([1]RELAÇÃO!$A$1:$AQ$576,MATCH($M28,[1]RELAÇÃO!$AP$1:$AP$576,0),14)&\" - \"&INDEX([1]RELAÇÃO!$A$1:$AQ$576,MATCH($M28,[1]RELAÇÃO!$AP$1:$AP$576,0),16)&\" de \"&INDEX([1]RELAÇÃO!$A$1:$AQ$576,MATCH($M28,[1]RELAÇÃO!$AP$1:$AP$576,0),15))","v":"-"},null,null,{"$f":"IF($E28=0,\"-\",IF(INDEX([1]RELAÇÃO!$A$1:$AQ$576,MATCH($M28,[1]RELAÇÃO!$AP$1:$AP$576,0),8)=\"2.000.000\",\"-\",INDEX([1]RELAÇÃO!$A$1:$AQ$576,MATCH($M28,[1]RELAÇÃO!$AP$1:$AP$576,0),7)))","v":"-"},"GM47"]
[null,"Assessor","DAS 102.4","ASS",{"$f":"INDEX([1]RELAÇÃO!$A$1:$AQ$576,MATCH($M29,[1]RELAÇÃO!$AP$1:$AP$576,0),1)","v":0},{"$f":"IF(E29=0,\"-\",LEFT(INDEX([1]RELAÇÃO!$A$1:$AQ$576,MATCH($M29,[1]RELAÇÃO!$AP$1:$AP$576,0),32),1))","v":"-"},{"$f":"IF(E29=0,\"-\",INDEX([1]RELAÇÃO!$A$1:$AQ$576,MATCH($M29,[1]RELAÇÃO!$AP$1:$AP$576,0),5))","v":"-"},{"$f":"IF(E29=0,\"-\",INDEX([1]RELAÇÃO!$A$1:$AQ$576,MATCH($M29,[1]RELAÇÃO!$AP$1:$AP$576,0),6))","v":"-"},{"$f":"IF(E29=0,\"-\",INDEX([1]RELAÇÃO!$A$1:$AQ$576,MATCH($M29,[1]RELAÇÃO!$AP$1:$AP$576,0),12)&INDEX([1]RELAÇÃO!$A$1:$AQ$576,MATCH($M29,[1]RELAÇÃO!$AP$1:$AP$576,0),13)&\", de \"&INDEX([1]RELAÇÃO!$A$1:$AQ$576,MATCH($M29,[1]RELAÇÃO!$AP$1:$AP$576,0),14)&\" - \"&INDEX([1]RELAÇÃO!$A$1:$AQ$576,MATCH($M29,[1]RELAÇÃO!$AP$1:$AP$576,0),16)&\" de \"&INDEX([1]RELAÇÃO!$A$1:$AQ$576,MATCH($M29,[1]RELAÇÃO!$AP$1:$AP$576,0),15))","v":"-"},null,null,{"$f":"IF($E29=0,\"-\",IF(INDEX([1]RELAÇÃO!$A$1:$AQ$576,MATCH($M29,[1]RELAÇÃO!$AP$1:$AP$576,0),8)=\"2.000.000\",\"-\",INDEX([1]RELAÇÃO!$A$1:$AQ$576,MATCH($M29,[1]RELAÇÃO!$AP$1:$AP$576,0),7)))","v":"-"},"GM48"]
[null,"Assessor Técnico","DAS 102.3","ASS",{"$f":"INDEX([1]RELAÇÃO!$A$1:$AQ$576,MATCH($M30,[1]RELAÇÃO!$AP$1:$AP$576,0),1)","v":0},{"$f":"IF(E30=0,\"-\",LEFT(INDEX([1]RELAÇÃO!$A$1:$AQ$576,MATCH($M30,[1]RELAÇÃO!$AP$1:$AP$576,0),32),1))","v":"-"},{"$f":"IF(E30=0,\"-\",INDEX([1]RELAÇÃO!$A$1:$AQ$576,MATCH($M30,[1]RELAÇÃO!$AP$1:$AP$576,0),5))","v":"-"},{"$f":"IF(E30=0,\"-\",INDEX([1]RELAÇÃO!$A$1:$AQ$576,MATCH($M30,[1]RELAÇÃO!$AP$1:$AP$576,0),6))","v":"-"},{"$f":"IF(E30=0,\"-\",INDEX([1]RELAÇÃO!$A$1:$AQ$576,MATCH($M30,[1]RELAÇÃO!$AP$1:$AP$576,0),12)&INDEX([1]RELAÇÃO!$A$1:$AQ$576,MATCH($M30,[1]RELAÇÃO!$AP$1:$AP$576,0),13)&\", de \"&INDEX([1]RELAÇÃO!$A$1:$AQ$576,MATCH($M30,[1]RELAÇÃO!$AP$1:$AP$576,0),14)&\" - \"&INDEX([1]RELAÇÃO!$A$1:$AQ$576,MATCH($M30,[1]RELAÇÃO!$AP$1:$AP$576,0),16)&\" de \"&INDEX([1]RELAÇÃO!$A$1:$AQ$576,MATCH($M30,[1]RELAÇÃO!$AP$1:$AP$576,0),15))","v":"-"},null,null,{"$f":"IF($E30=0,\"-\",IF(INDEX([1]RELAÇÃO!$A$1:$AQ$576,MATCH($M30,[1]RELAÇÃO!$AP$1:$AP$576,0),8)=\"2.000.000\",\"-\",INDEX([1]RELAÇÃO!$A$1:$AQ$576,MATCH($M30,[1]RELAÇÃO!$AP$1:$AP$576,0),7)))","v":"-"},"GM49"]
[null,"Assessor Técnico","DAS 102.3","ASS",{"$f":"INDEX([1]RELAÇÃO!$A$1:$AQ$576,MATCH($M31,[1]RELAÇÃO!$AP$1:$AP$576,0),1)","v":"ANA LUCIA ALVARES ALVES"},{"$f":"IF(E31=0,\"-\",LEFT(INDEX([1]RELAÇÃO!$A$1:$AQ$576,MATCH($M31,[1]RELAÇÃO!$AP$1:$AP$576,0),32),1))","v":"F"},{"$f":"IF(E31=0,\"-\",INDEX([1]RELAÇÃO!$A$1:$AQ$576,MATCH($M31,[1]RELAÇÃO!$AP$1:$AP$576,0),5))","v":"Requisitado de Órgãos"},{"$f":"IF(E31=0,\"-\",INDEX([1]RELAÇÃO!$A$1:$AQ$576,MATCH($M31,[1]RELAÇÃO!$AP$1:$AP$576,0),6))","v":"ME - Ministério da Economia"},{"$f":"IF(E31=0,\"-\",INDEX([1]RELAÇÃO!$A$1:$AQ$576,MATCH($M31,[1]RELAÇÃO!$AP$1:$AP$576,0),12)&INDEX([1]RELAÇÃO!$A$1:$AQ$576,MATCH($M31,[1]RELAÇÃO!$AP$1:$AP$576,0),13)&\", de \"&INDEX([1]RELAÇÃO!$A$1:$AQ$576,MATCH($M31,[1]RELAÇÃO!$AP$1:$AP$576,0),14)&\" - \"&INDEX([1]RELAÇÃO!$A$1:$AQ$576,MATCH($M31,[1]RELAÇÃO!$AP$1:$AP$576,0),16)&\" de \"&INDEX([1]RELAÇÃO!$A$1:$AQ$576,MATCH($M31,[1]RELAÇÃO!$AP$1:$AP$576,0),15))","v":"Portaria nº 319, de 24/08/2020 - DOU de 28/08/2020"},null,null,{"$f":"IF($E31=0,\"-\",IF(INDEX([1]RELAÇÃO!$A$1:$AQ$576,MATCH($M31,[1]RELAÇÃO!$AP$1:$AP$576,0),8)=\"2.000.000\",\"-\",INDEX([1]RELAÇÃO!$A$1:$AQ$576,MATCH($M31,[1]RELAÇÃO!$AP$1:$AP$576,0),7)))","v":"SEE / DMSE / COORDENAÇÃO GERAL DE MONITORAMENTO DO DESEMPENHO DO SISTEMA ELÉTRICO"},"GM50"]
[null,"Assessor Técnico","DAS 102.3","ASS",{"$f":"INDEX([1]RELAÇÃO!$A$1:$AQ$576,MATCH($M32,[1]RELAÇÃO!$AP$1:$AP$576,0),1)","v":0},{"$f":"IF(E32=0,\"-\",LEFT(INDEX([1]RELAÇÃO!$A$1:$AQ$576,MATCH($M32,[1]RELAÇÃO!$AP$1:$AP$576,0),32),1))","v":"-"},{"$f":"IF(E32=0,\"-\",INDEX([1]RELAÇÃO!$A$1:$AQ$576,MATCH($M32,[1]RELAÇÃO!$AP$1:$AP$576,0),5))","v":"-"},{"$f":"IF(E32=0,\"-\",INDEX([1]RELAÇÃO!$A$1:$AQ$576,MATCH($M32,[1]RELAÇÃO!$AP$1:$AP$576,0),6))","v":"-"},{"$f":"IF(E32=0,\"-\",INDEX([1]RELAÇÃO!$A$1:$AQ$576,MATCH($M32,[1]RELAÇÃO!$AP$1:$AP$576,0),12)&INDEX([1]RELAÇÃO!$A$1:$AQ$576,MATCH($M32,[1]RELAÇÃO!$AP$1:$AP$576,0),13)&\", de \"&INDEX([1]RELAÇÃO!$A$1:$AQ$576,MATCH($M32,[1]RELAÇÃO!$AP$1:$AP$576,0),14)&\" - \"&INDEX([1]RELAÇÃO!$A$1:$AQ$576,MATCH($M32,[1]RELAÇÃO!$AP$1:$AP$576,0),16)&\" de \"&INDEX([1]RELAÇÃO!$A$1:$AQ$576,MATCH($M32,[1]RELAÇÃO!$AP$1:$AP$576,0),15))","v":"-"},null,null,{"$f":"IF($E32=0,\"-\",IF(INDEX([1]RELAÇÃO!$A$1:$AQ$576,MATCH($M32,[1]RELAÇÃO!$AP$1:$AP$576,0),8)=\"2.000.000\",\"-\",INDEX([1]RELAÇÃO!$A$1:$AQ$576,MATCH($M32,[1]RELAÇÃO!$AP$1:$AP$576,0),7)))","v":"-"},"GM51"]
["GABINETE DO MINISTRO","Chefe de Gabinete","DAS 101.5","GER",{"$f":"INDEX([1]RELAÇÃO!$A$1:$AQ$576,MATCH($M33,[1]RELAÇÃO!$AP$1:$AP$576,0),1)","v":"JOSE ROBERTO BUENO JUNIOR"},{"$f":"IF(E33=0,\"-\",LEFT(INDEX([1]RELAÇÃO!$A$1:$AQ$576,MATCH($M33,[1]RELAÇÃO!$AP$1:$AP$576,0),32),1))","v":"M"},{"$f":"IF(E33=0,\"-\",INDEX([1]RELAÇÃO!$A$1:$AQ$576,MATCH($M33,[1]RELAÇÃO!$AP$1:$AP$576,0),5))","v":"Sem Vínculo"},{"$f":"IF(E33=0,\"-\",INDEX([1]RELAÇÃO!$A$1:$AQ$576,MATCH($M33,[1]RELAÇÃO!$AP$1:$AP$576,0),6))","v":"Sem Vínculo"},{"$f":"IF(E33=0,\"-\",INDEX([1]RELAÇÃO!$A$1:$AQ$576,MATCH($M33,[1]RELAÇÃO!$AP$1:$AP$576,0),12)&INDEX([1]RELAÇÃO!$A$1:$AQ$576,MATCH($M33,[1]RELAÇÃO!$AP$1:$AP$576,0),13)&\", de \"&INDEX([1]RELAÇÃO!$A$1:$AQ$576,MATCH($M33,[1]RELAÇÃO!$AP$1:$AP$576,0),14)&\" - \"&INDEX([1]RELAÇÃO!$A$1:$AQ$576,MATCH($M33,[1]RELAÇÃO!$AP$1:$AP$576,0),16)&\" de \"&INDEX([1]RELAÇÃO!$A$1:$AQ$576,MATCH($M33,[1]RELAÇÃO!$AP$1:$AP$576,0),15))","v":"Portaria nº 594, de 16/01/2019 - DOU de 17/01/2019"},{"$f":"INDEX([1]RELAÇÃO!$A$1:$AQ$576,MATCH($N33,[1]RELAÇÃO!$AQ$1:$AQ$576,0),1)","v":"ANTONIO CARLOS RAMOS DE BARROS MELLO"},{"$f":"IF(J33=0,\"-\",INDEX([1]RELAÇÃO!$A$1:$AQ$576,MATCH($N33,[1]RELAÇÃO!$AQ$1:$AQ$576,0),27)&INDEX([1]RELAÇÃO!$A$1:$AQ$576,MATCH($N33,[1]RELAÇÃO!$AQ$1:$AQ$576,0),28)&\", de \"&INDEX([1]RELAÇÃO!$A$1:$AQ$576,MATCH($N33,[1]RELAÇÃO!$AQ$1:$AQ$576,0),29)&\" - \"&INDEX([1]RELAÇÃO!$A$1:$AQ$576,MATCH($N33,[1]RELAÇÃO!$AQ$1:$AQ$576,0),31)&\" de \"&INDEX([1]RELAÇÃO!$A$1:$AQ$576,MATCH($N33,[1]RELAÇÃO!$AQ$1:$AQ$576,0),30))","v":"Portaria nº 332, de 29/07/2005 - DOU de 01/08/2005"},{"$f":"IF($E33=0,\"-\",IF(INDEX([1]RELAÇÃO!$A$1:$AQ$576,MATCH($M33,[1]RELAÇÃO!$AP$1:$AP$576,0),8)=\"2.100.000\",\"-\",INDEX([1]RELAÇÃO!$A$1:$AQ$576,MATCH($M33,[1]RELAÇÃO!$AP$1:$AP$576,0),7)))","v":"-"},"GM11","GM03S"]
[null,"Assessor Técnico","DAS 102.3","ASS",{"$f":"INDEX([1]RELAÇÃO!$A$1:$AQ$576,MATCH($M34,[1]RELAÇÃO!$AP$1:$AP$576,0),1)","v":"JORGE RICARDO KAUTSCHER BENTO"},{"$f":"IF(E34=0,\"-\",LEFT(INDEX([1]RELAÇÃO!$A$1:$AQ$576,MATCH($M34,[1]RELAÇÃO!$AP$1:$AP$576,0),32),1))","v":"M"},{"$f":"IF(E34=0,\"-\",INDEX([1]RELAÇÃO!$A$1:$AQ$576,MATCH($M34,[1]RELAÇÃO!$AP$1:$AP$576,0),5))","v":"Requisitado Militar"},{"$f":"IF(E34=0,\"-\",INDEX([1]RELAÇÃO!$A$1:$AQ$576,MATCH($M34,[1]RELAÇÃO!$AP$1:$AP$576,0),6))","v":"Marinha"},{"$f":"IF(E34=0,\"-\",INDEX([1]RELAÇÃO!$A$1:$AQ$576,MATCH($M34,[1]RELAÇÃO!$AP$1:$AP$576,0),12)&INDEX([1]RELAÇÃO!$A$1:$AQ$576,MATCH($M34,[1]RELAÇÃO!$AP$1:$AP$576,0),13)&\", de \"&INDEX([1]RELAÇÃO!$A$1:$AQ$576,MATCH($M34,[1]RELAÇÃO!$AP$1:$AP$576,0),14)&\" - \"&INDEX([1]RELAÇÃO!$A$1:$AQ$576,MATCH($M34,[1]RELAÇÃO!$AP$1:$AP$576,0),16)&\" de \"&INDEX([1]RELAÇÃO!$A$1:$AQ$576,MATCH($M34,[1]RELAÇÃO!$AP$1:$AP$576,0),15))","v":"Portaria nº 178, de 26/03/2019 - DOU de 28/03/2019"},null,null,{"$f":"IF($E34=0,\"-\",IF(INDEX([1]RELAÇÃO!$A$1:$AQ$576,MATCH($M34,[1]RELAÇÃO!$AP$1:$AP$576,0),8)=\"2.100.000\",\"-\",INDEX([1]RELAÇÃO!$A$1:$AQ$576,MATCH($M34,[1]RELAÇÃO!$AP$1:$AP$576,0),7)))","v":"GABINETE DO MINISTRO - GM"},"GM12"]
[null,"Assistente","DAS 102.2","ASS",{"$f":"INDEX([1]RELAÇÃO!$A$1:$AQ$576,MATCH($M35,[1]RELAÇÃO!$AP$1:$AP$576,0),1)","v":"FRUTUOSO DA SILVA LOREGA NETO"},{"$f":"IF(E35=0,\"-\",LEFT(INDEX([1]RELAÇÃO!$A$1:$AQ$576,MATCH($M35,[1]RELAÇÃO!$AP$1:$AP$576,0),32),1))","v":"M"},{"$f":"IF(E35=0,\"-\",INDEX([1]RELAÇÃO!$A$1:$AQ$576,MATCH($M35,[1]RELAÇÃO!$AP$1:$AP$576,0),5))","v":"Requisitado Militar"},{"$f":"IF(E35=0,\"-\",INDEX([1]RELAÇÃO!$A$1:$AQ$576,MATCH($M35,[1]RELAÇÃO!$AP$1:$AP$576,0),6))","v":"Marinha"},{"$f":"IF(E35=0,\"-\",INDEX([1]RELAÇÃO!$A$1:$AQ$576,MATCH($M35,[1]RELAÇÃO!$AP$1:$AP$576,0),12)&INDEX([1]RELAÇÃO!$A$1:$AQ$576,MATCH($M35,[1]RELAÇÃO!$AP$1:$AP$576,0),13)&\", de \"&INDEX([1]RELAÇÃO!$A$1:$AQ$576,MATCH($M35,[1]RELAÇÃO!$AP$1:$AP$576,0),14)&\" - \"&INDEX([1]RELAÇÃO!$A$1:$AQ$576,MATCH($M35,[1]RELAÇÃO!$AP$1:$AP$576,0),16)&\" de \"&INDEX([1]RELAÇÃO!$A$1:$AQ$576,MATCH($M35,[1]RELAÇÃO!$AP$1:$AP$576,0),15))","v":"Portaria nº 65, de 24/01/2019 - DOU de 29/01/2019"},null,null,{"$f":"IF($E35=0,\"-\",IF(INDEX([1]RELAÇÃO!$A$1:$AQ$576,MATCH($M35,[1]RELAÇÃO!$AP$1:$AP$576,0),8)=\"2.100.000\",\"-\",INDEX([1]RELAÇÃO!$A$1:$AQ$576,MATCH($M35,[1]RELAÇÃO!$AP$1:$AP$576,0),7)))","v":"GABINETE DO MINISTRO - GM"},"GM13"]
[null,"Assistente","FCPE 102.2","ASS",{"$f":"INDEX([1]RELAÇÃO!$A$1:$AQ$576,MATCH($M36,[1]RELAÇÃO!$AP$1:$AP$576,0),1)","v":"ALTAMIRO MOREIRA CALDEIRA"},{"$f":"IF(E36=0,\"-\",LEFT(INDEX([1]RELAÇÃO!$A$1:$AQ$576,MATCH($M36,[1]RELAÇÃO!$AP$1:$AP$576,0),32),1))","v":"M"},{"$f":"IF(E36=0,\"-\",INDEX([1]RELAÇÃO!$A$1:$AQ$576,MATCH($M36,[1]RELAÇÃO!$AP$1:$AP$576,0),5))","v":"Ativo Permanente"},{"$f":"IF(E36=0,\"-\",INDEX([1]RELAÇÃO!$A$1:$AQ$576,MATCH($M36,[1]RELAÇÃO!$AP$1:$AP$576,0),6))","v":"MME - Ministério de Minas e Energia"},{"$f":"IF(E36=0,\"-\",INDEX([1]RELAÇÃO!$A$1:$AQ$576,MATCH($M36,[1]RELAÇÃO!$AP$1:$AP$576,0),12)&INDEX([1]RELAÇÃO!$A$1:$AQ$576,MATCH($M36,[1]RELAÇÃO!$AP$1:$AP$576,0),13)&\", de \"&INDEX([1]RELAÇÃO!$A$1:$AQ$576,MATCH($M36,[1]RELAÇÃO!$AP$1:$AP$576,0),14)&\" - \"&INDEX([1]RELAÇÃO!$A$1:$AQ$576,MATCH($M36,[1]RELAÇÃO!$AP$1:$AP$576,0),16)&\" de \"&INDEX([1]RELAÇÃO!$A$1:$AQ$576,MATCH($M36,[1]RELAÇÃO!$AP$1:$AP$576,0),15))","v":"Portaria nº 524, de 03/11/2016 - BPE de 04/11/2016"},null,null,{"$f":"IF($E36=0,\"-\",IF(INDEX([1]RELAÇÃO!$A$1:$AQ$576,MATCH($M36,[1]RELAÇÃO!$AP$1:$AP$576,0),8)=\"2.100.000\",\"-\",INDEX([1]RELAÇÃO!$A$1:$AQ$576,MATCH($M36,[1]RELAÇÃO!$AP$1:$AP$576,0),7)))","v":"GM / ASTAD / COORDENAÇÃO DE ATIVIDADES ADMINISTRATIVAS"},"GM14"]
[null,"Assistente","FCPE 102.2","ASS",{"$f":"INDEX([1]RELAÇÃO!$A$1:$AQ$576,MATCH($M37,[1]RELAÇÃO!$AP$1:$AP$576,0),1)","v":"ELIS REGINA PIRES GARCIA"},{"$f":"IF(E37=0,\"-\",LEFT(INDEX([1]RELAÇÃO!$A$1:$AQ$576,MATCH($M37,[1]RELAÇÃO!$AP$1:$AP$576,0),32),1))","v":"F"},{"$f":"IF(E37=0,\"-\",INDEX([1]RELAÇÃO!$A$1:$AQ$576,MATCH($M37,[1]RELAÇÃO!$AP$1:$AP$576,0),5))","v":"Ativo Permanente"},{"$f":"IF(E37=0,\"-\",INDEX([1]RELAÇÃO!$A$1:$AQ$576,MATCH($M37,[1]RELAÇÃO!$AP$1:$AP$576,0),6))","v":"MME - Ministério de Minas e Energia"},{"$f":"IF(E37=0,\"-\",INDEX([1]RELAÇÃO!$A$1:$AQ$576,MATCH($M37,[1]RELAÇÃO!$AP$1:$AP$576,0),12)&INDEX([1]RELAÇÃO!$A$1:$AQ$576,MATCH($M37,[1]RELAÇÃO!$AP$1:$AP$576,0),13)&\", de \"&INDEX([1]RELAÇÃO!$A$1:$AQ$576,MATCH($M37,[1]RELAÇÃO!$AP$1:$AP$576,0),14)&\" - \"&INDEX([1]RELAÇÃO!$A$1:$AQ$576,MATCH($M37,[1]RELAÇÃO!$AP$1:$AP$576,0),16)&\" de \"&INDEX([1]RELAÇÃO!$A$1:$AQ$576,MATCH($M37,[1]RELAÇÃO!$AP$1:$AP$576,0),15))","v":"Portaria nº 524, de 03/11/2016 - BPE de 04/11/2016"},null,null,{"$f":"IF($E37=0,\"-\",IF(INDEX([1]RELAÇÃO!$A$1:$AQ$576,MATCH($M37,[1]RELAÇÃO!$AP$1:$AP$576,0),8)=\"2.100.000\",\"-\",INDEX([1]RELAÇÃO!$A$1:$AQ$576,MATCH($M37,[1]RELAÇÃO!$AP$1:$AP$576,0),7)))","v":"GM / ASTAD / COORDENAÇÃO DE ATIVIDADES ADMINISTRATIVAS"},"GM15"]
[null,"Assistente","FCPE 102.2","ASS",{"$f":"INDEX([1]RELAÇÃO!$A$1:$AQ$576,MATCH($M38,[1]RELAÇÃO!$AP$1:$AP$576,0),1)","v":"JORGE GABRIEL MOISÉS FILHO"},{"$f":"IF(E38=0,\"-\",LEFT(INDEX([1]RELAÇÃO!$A$1:$AQ$576,MATCH($M38,[1]RELAÇÃO!$AP$1:$AP$576,0),32),1))","v":"M"},{"$f":"IF(E38=0,\"-\",INDEX([1]RELAÇÃO!$A$1:$AQ$576,MATCH($M38,[1]RELAÇÃO!$AP$1:$AP$576,0),5))","v":"Exercício Descentralizado"},{"$f":"IF(E38=0,\"-\",INDEX([1]RELAÇÃO!$A$1:$AQ$576,MATCH($M38,[1]RELAÇÃO!$AP$1:$AP$576,0),6))","v":"ME - Ministério da Economia"},{"$f":"IF(E38=0,\"-\",INDEX([1]RELAÇÃO!$A$1:$AQ$576,MATCH($M38,[1]RELAÇÃO!$AP$1:$AP$576,0),12)&INDEX([1]RELAÇÃO!$A$1:$AQ$576,MATCH($M38,[1]RELAÇÃO!$AP$1:$AP$576,0),13)&\", de \"&INDEX([1]RELAÇÃO!$A$1:$AQ$576,MATCH($M38,[1]RELAÇÃO!$AP$1:$AP$576,0),14)&\" - \"&INDEX([1]RELAÇÃO!$A$1:$AQ$576,MATCH($M38,[1]RELAÇÃO!$AP$1:$AP$576,0),16)&\" de \"&INDEX([1]RELAÇÃO!$A$1:$AQ$576,MATCH($M38,[1]RELAÇÃO!$AP$1:$AP$576,0),15))","v":"Portaria nº 377, de 30/09/2019 - DOU de 02/10/2019"},null,null,{"$f":"IF($E38=0,\"-\",IF(INDEX([1]RELAÇÃO!$A$1:$AQ$576,MATCH($M38,[1]RELAÇÃO!$AP$1:$AP$576,0),8)=\"2.100.000\",\"-\",INDEX([1]RELAÇÃO!$A$1:$AQ$576,MATCH($M38,[1]RELAÇÃO!$AP$1:$AP$576,0),7)))","v":"SE / SPOA / CGOF / COORDENAÇÃO DE ORÇAMENTO - CORC"},"GM16"]
["Assessoria Técncia e Administrativa do GM","Chefe de Assessoria","DAS 101.4","GER",{"$f":"INDEX([1]RELAÇÃO!$A$1:$AQ$576,MATCH($M39,[1]RELAÇÃO!$AP$1:$AP$576,0),1)","v":"BRENNO LEOPOLDO CAVALCANTE DE PAULA"},{"$f":"IF(E39=0,\"-\",LEFT(INDEX([1]RELAÇÃO!$A$1:$AQ$576,MATCH($M39,[1]RELAÇÃO!$AP$1:$AP$576,0),32),1))","v":"M"},{"$f":"IF(E39=0,\"-\",INDEX([1]RELAÇÃO!$A$1:$AQ$576,MATCH($M39,[1]RELAÇÃO!$AP$1:$AP$576,0),5))","v":"Sem Vínculo"},{"$f":"IF(E39=0,\"-\",INDEX([1]RELAÇÃO!$A$1:$AQ$576,MATCH($M39,[1]RELAÇÃO!$AP$1:$AP$576,0),6))","v":"Sem Vínculo"},{"$f":"IF(E39=0,\"-\",INDEX([1]RELAÇÃO!$A$1:$AQ$576,MATCH($M39,[1]RELAÇÃO!$AP$1:$AP$576,0),12)&INDEX([1]RELAÇÃO!$A$1:$AQ$576,MATCH($M39,[1]RELAÇÃO!$AP$1:$AP$576,0),13)&\", de \"&INDEX([1]RELAÇÃO!$A$1:$AQ$576,MATCH($M39,[1]RELAÇÃO!$AP$1:$AP$576,0),14)&\" - \"&INDEX([1]RELAÇÃO!$A$1:$AQ$576,MATCH($M39,[1]RELAÇÃO!$AP$1:$AP$576,0),16)&\" de \"&INDEX([1]RELAÇÃO!$A$1:$AQ$576,MATCH($M39,[1]RELAÇÃO!$AP$1:$AP$576,0),15))","v":"Portaria nº 450, de 23/11/2017 - DOU de 27/11/2017"},{"$f":"INDEX([1]RELAÇÃO!$A$1:$AQ$576,MATCH($N39,[1]RELAÇÃO!$AQ$1:$AQ$576,0),1)","v":"CARLOS ROBERTO NOVAIS DE ALMEIDA"},{"$f":"IF(J39=0,\"-\",INDEX([1]RELAÇÃO!$A$1:$AQ$576,MATCH($N39,[1]RELAÇÃO!$AQ$1:$AQ$576,0),27)&INDEX([1]RELAÇÃO!$A$1:$AQ$576,MATCH($N39,[1]RELAÇÃO!$AQ$1:$AQ$576,0),28)&\", de \"&INDEX([1]RELAÇÃO!$A$1:$AQ$576,MATCH($N39,[1]RELAÇÃO!$AQ$1:$AQ$576,0),29)&\" - \"&INDEX([1]RELAÇÃO!$A$1:$AQ$576,MATCH($N39,[1]RELAÇÃO!$AQ$1:$AQ$576,0),31)&\" de \"&INDEX([1]RELAÇÃO!$A$1:$AQ$576,MATCH($N39,[1]RELAÇÃO!$AQ$1:$AQ$576,0),30))","v":"Portaria nº 484, de 04/10/2005 - DOU de 05/10/2005"},{"$f":"IF($E39=0,\"-\",IF(INDEX([1]RELAÇÃO!$A$1:$AQ$576,MATCH($M39,[1]RELAÇÃO!$AP$1:$AP$576,0),8)=\"2.100.100\",\"-\",INDEX([1]RELAÇÃO!$A$1:$AQ$576,MATCH($M39,[1]RELAÇÃO!$AP$1:$AP$576,0),7)))","v":"-"},"GM17","GM04S"]
[null,"Assessor Técnico","FCPE 102.3","ASS",{"$f":"INDEX([1]RELAÇÃO!$A$1:$AQ$576,MATCH($M40,[1]RELAÇÃO!$AP$1:$AP$576,0),1)","v":"LUIZ CLAUDIO FONTENELE GONCALVES"},{"$f":"IF(E40=0,\"-\",LEFT(INDEX([1]RELAÇÃO!$A$1:$AQ$576,MATCH($M40,[1]RELAÇÃO!$AP$1:$AP$576,0),32),1))","v":"M"},{"$f":"IF(E40=0,\"-\",INDEX([1]RELAÇÃO!$A$1:$AQ$576,MATCH($M40,[1]RELAÇÃO!$AP$1:$AP$576,0),5))","v":"Ativo Permanente"},{"$f":"IF(E40=0,\"-\",INDEX([1]RELAÇÃO!$A$1:$AQ$576,MATCH($M40,[1]RELAÇÃO!$AP$1:$AP$576,0),6))","v":"MME - Ministério de Minas e Energia"},{"$f":"IF(E40=0,\"-\",INDEX([1]RELAÇÃO!$A$1:$AQ$576,MATCH($M40,[1]RELAÇÃO!$AP$1:$AP$576,0),12)&INDEX([1]RELAÇÃO!$A$1:$AQ$576,MATCH($M40,[1]RELAÇÃO!$AP$1:$AP$576,0),13)&\", de \"&INDEX([1]RELAÇÃO!$A$1:$AQ$576,MATCH($M40,[1]RELAÇÃO!$AP$1:$AP$576,0),14)&\" - \"&INDEX([1]RELAÇÃO!$A$1:$AQ$576,MATCH($M40,[1]RELAÇÃO!$AP$1:$AP$576,0),16)&\" de \"&INDEX([1]RELAÇÃO!$A$1:$AQ$576,MATCH($M40,[1]RELAÇÃO!$AP$1:$AP$576,0),15))","v":"Portaria nº 89, de 14/03/2018 - DOU de 15/03/2018"},null,null,{"$f":"IF($E40=0,\"-\",IF(INDEX([1]RELAÇÃO!$A$1:$AQ$576,MATCH($M40,[1]RELAÇÃO!$AP$1:$AP$576,0),8)=\"2.100.100\",\"-\",INDEX([1]RELAÇÃO!$A$1:$AQ$576,MATCH($M40,[1]RELAÇÃO!$AP$1:$AP$576,0),7)))","v":"SE / SPOA / CGRH / COORDENAÇÃO DE DESENVOLVIMENTO E SEGURIDADE SOCIAL - CODES"},"GM18"]
["Coordenação de Atividades Administrativas do GM","Coordenador","FCPE 101.3","GER",{"$f":"INDEX([1]RELAÇÃO!$A$1:$AQ$576,MATCH($M41,[1]RELAÇÃO!$AP$1:$AP$576,0),1)","v":"CARLOS ROBERTO NOVAIS DE ALMEIDA"},{"$f":"IF(E41=0,\"-\",LEFT(INDEX([1]RELAÇÃO!$A$1:$AQ$576,MATCH($M41,[1]RELAÇÃO!$AP$1:$AP$576,0),32),1))","v":"M"},{"$f":"IF(E41=0,\"-\",INDEX([1]RELAÇÃO!$A$1:$AQ$576,MATCH($M41,[1]RELAÇÃO!$AP$1:$AP$576,0),5))","v":"Ativo Permanente"},{"$f":"IF(E41=0,\"-\",INDEX([1]RELAÇÃO!$A$1:$AQ$576,MATCH($M41,[1]RELAÇÃO!$AP$1:$AP$576,0),6))","v":"MME - Ministério de Minas e Energia"},{"$f":"IF(E41=0,\"-\",INDEX([1]RELAÇÃO!$A$1:$AQ$576,MATCH($M41,[1]RELAÇÃO!$AP$1:$AP$576,0),12)&INDEX([1]RELAÇÃO!$A$1:$AQ$576,MATCH($M41,[1]RELAÇÃO!$AP$1:$AP$576,0),13)&\", de \"&INDEX([1]RELAÇÃO!$A$1:$AQ$576,MATCH($M41,[1]RELAÇÃO!$AP$1:$AP$576,0),14)&\" - \"&INDEX([1]RELAÇÃO!$A$1:$AQ$576,MATCH($M41,[1]RELAÇÃO!$AP$1:$AP$576,0),16)&\" de \"&INDEX([1]RELAÇÃO!$A$1:$AQ$576,MATCH($M41,[1]RELAÇÃO!$AP$1:$AP$576,0),15))","v":"Portaria nº 524, de 03/11/2016 - BPE de 04/11/2016"},{"$f":"INDEX([1]RELAÇÃO!$A$1:$AQ$576,MATCH($N41,[1]RELAÇÃO!$AQ$1:$AQ$576,0),1)","v":0},{"$f":"IF(J41=0,\"-\",INDEX([1]RELAÇÃO!$A$1:$AQ$576,MATCH($N41,[1]RELAÇÃO!$AQ$1:$AQ$576,0),27)&INDEX([1]RELAÇÃO!$A$1:$AQ$576,MATCH($N41,[1]RELAÇÃO!$AQ$1:$AQ$576,0),28)&\", de \"&INDEX([1]RELAÇÃO!$A$1:$AQ$576,MATCH($N41,[1]RELAÇÃO!$AQ$1:$AQ$576,0),29)&\" - \"&INDEX([1]RELAÇÃO!$A$1:$AQ$576,MATCH($N41,[1]RELAÇÃO!$AQ$1:$AQ$576,0),31)&\" de \"&INDEX([1]RELAÇÃO!$A$1:$AQ$576,MATCH($N41,[1]RELAÇÃO!$AQ$1:$AQ$576,0),30))","v":"-"},{"$f":"IF($E41=0,\"-\",IF(INDEX([1]RELAÇÃO!$A$1:$AQ$576,MATCH($M41,[1]RELAÇÃO!$AP$1:$AP$576,0),8)=\"2.100.101\",\"-\",INDEX([1]RELAÇÃO!$A$1:$AQ$576,MATCH($M41,[1]RELAÇÃO!$AP$1:$AP$576,0),7)))","v":"-"},"GM19","GM05S"]
[null,"Assistente","DAS 102.2","ASS",{"$f":"INDEX([1]RELAÇÃO!$A$1:$AQ$576,MATCH($M42,[1]RELAÇÃO!$AP$1:$AP$576,0),1)","v":"JOSE EVARISTO DA SILVA"},{"$f":"IF(E42=0,\"-\",LEFT(INDEX([1]RELAÇÃO!$A$1:$AQ$576,MATCH($M42,[1]RELAÇÃO!$AP$1:$AP$576,0),32),1))","v":"M"},{"$f":"IF(E42=0,\"-\",INDEX([1]RELAÇÃO!$A$1:$AQ$576,MATCH($M42,[1]RELAÇÃO!$AP$1:$AP$576,0),5))","v":"Ativo Permanente"},{"$f":"IF(E42=0,\"-\",INDEX([1]RELAÇÃO!$A$1:$AQ$576,MATCH($M42,[1]RELAÇÃO!$AP$1:$AP$576,0),6))","v":"MME - Ministério de Minas e Energia"},{"$f":"IF(E42=0,\"-\",INDEX([1]RELAÇÃO!$A$1:$AQ$576,MATCH($M42,[1]RELAÇÃO!$AP$1:$AP$576,0),12)&INDEX([1]RELAÇÃO!$A$1:$AQ$576,MATCH($M42,[1]RELAÇÃO!$AP$1:$AP$576,0),13)&\", de \"&INDEX([1]RELAÇÃO!$A$1:$AQ$576,MATCH($M42,[1]RELAÇÃO!$AP$1:$AP$576,0),14)&\" - \"&INDEX([1]RELAÇÃO!$A$1:$AQ$576,MATCH($M42,[1]RELAÇÃO!$AP$1:$AP$576,0),16)&\" de \"&INDEX([1]RELAÇÃO!$A$1:$AQ$576,MATCH($M42,[1]RELAÇÃO!$AP$1:$AP$576,0),15))","v":"Portaria nº 524, de 03/11/2016 - BPE de 04/11/2016"},null,null,{"$f":"IF($E42=0,\"-\",IF(INDEX([1]RELAÇÃO!$A$1:$AQ$576,MATCH($M42,[1]RELAÇÃO!$AP$1:$AP$576,0),8)=\"2.100.101\",\"-\",INDEX([1]RELAÇÃO!$A$1:$AQ$576,MATCH($M42,[1]RELAÇÃO!$AP$1:$AP$576,0),7)))","v":"-"},"GM20"]
[null,"Assistente Técnico","DAS 102.1","ASS",{"$f":"INDEX([1]RELAÇÃO!$A$1:$AQ$576,MATCH($M43,[1]RELAÇÃO!$AP$1:$AP$576,0),1)","v":"GENESIO SOARES DE OLIVEIRA"},{"$f":"IF(E43=0,\"-\",LEFT(INDEX([1]RELAÇÃO!$A$1:$AQ$576,MATCH($M43,[1]RELAÇÃO!$AP$1:$AP$576,0),32),1))","v":"M"},{"$f":"IF(E43=0,\"-\",INDEX([1]RELAÇÃO!$A$1:$AQ$576,MATCH($M43,[1]RELAÇÃO!$AP$1:$AP$576,0),5))","v":"Sem Vínculo"},{"$f":"IF(E43=0,\"-\",INDEX([1]RELAÇÃO!$A$1:$AQ$576,MATCH($M43,[1]RELAÇÃO!$AP$1:$AP$576,0),6))","v":"Sem Vínculo"},{"$f":"IF(E43=0,\"-\",INDEX([1]RELAÇÃO!$A$1:$AQ$576,MATCH($M43,[1]RELAÇÃO!$AP$1:$AP$576,0),12)&INDEX([1]RELAÇÃO!$A$1:$AQ$576,MATCH($M43,[1]RELAÇÃO!$AP$1:$AP$576,0),13)&\", de \"&INDEX([1]RELAÇÃO!$A$1:$AQ$576,MATCH($M43,[1]RELAÇÃO!$AP$1:$AP$576,0),14)&\" - \"&INDEX([1]RELAÇÃO!$A$1:$AQ$576,MATCH($M43,[1]RELAÇÃO!$AP$1:$AP$576,0),16)&\" de \"&INDEX([1]RELAÇÃO!$A$1:$AQ$576,MATCH($M43,[1]RELAÇÃO!$AP$1:$AP$576,0),15))","v":"Portaria nº 528, de 03/11/2016 - DOU de 04/11/2016"},null,null,{"$f":"IF($E43=0,\"-\",IF(INDEX([1]RELAÇÃO!$A$1:$AQ$576,MATCH($M43,[1]RELAÇÃO!$AP$1:$AP$576,0),8)=\"2.100.101\",\"-\",INDEX([1]RELAÇÃO!$A$1:$AQ$576,MATCH($M43,[1]RELAÇÃO!$AP$1:$AP$576,0),7)))","v":"-"},"GM21"]
[null,"Assistente Técnico","FCPE 102.1","ASS",{"$f":"INDEX([1]RELAÇÃO!$A$1:$AQ$576,MATCH($M44,[1]RELAÇÃO!$AP$1:$AP$576,0),1)","v":"ERIVELTO FURTADO NEVES"},{"$f":"IF(E44=0,\"-\",LEFT(INDEX([1]RELAÇÃO!$A$1:$AQ$576,MATCH($M44,[1]RELAÇÃO!$AP$1:$AP$576,0),32),1))","v":"M"},{"$f":"IF(E44=0,\"-\",INDEX([1]RELAÇÃO!$A$1:$AQ$576,MATCH($M44,[1]RELAÇÃO!$AP$1:$AP$576,0),5))","v":"Ativo Permanente"},{"$f":"IF(E44=0,\"-\",INDEX([1]RELAÇÃO!$A$1:$AQ$576,MATCH($M44,[1]RELAÇÃO!$AP$1:$AP$576,0),6))","v":"MME - Ministério de Minas e Energia"},{"$f":"IF(E44=0,\"-\",INDEX([1]RELAÇÃO!$A$1:$AQ$576,MATCH($M44,[1]RELAÇÃO!$AP$1:$AP$576,0),12)&INDEX([1]RELAÇÃO!$A$1:$AQ$576,MATCH($M44,[1]RELAÇÃO!$AP$1:$AP$576,0),13)&\", de \"&INDEX([1]RELAÇÃO!$A$1:$AQ$576,MATCH($M44,[1]RELAÇÃO!$AP$1:$AP$576,0),14)&\" - \"&INDEX([1]RELAÇÃO!$A$1:$AQ$576,MATCH($M44,[1]RELAÇÃO!$AP$1:$AP$576,0),16)&\" de \"&INDEX([1]RELAÇÃO!$A$1:$AQ$576,MATCH($M44,[1]RELAÇÃO!$AP$1:$AP$576,0),15))","v":"Portaria nº 524, de 03/11/2016 - BPE de 04/11/2016"},null,null,{"$f":"IF($E44=0,\"-\",IF(INDEX([1]RELAÇÃO!$A$1:$AQ$576,MATCH($M44,[1]RELAÇÃO!$AP$1:$AP$576,0),8)=\"2.100.101\",\"-\",INDEX([1]RELAÇÃO!$A$1:$AQ$576,MATCH($M44,[1]RELAÇÃO!$AP$1:$AP$576,0),7)))","v":"-"},"GM22"]
[null,"Assistente Técnico","FCPE 102.1","ASS",{"$f":"INDEX([1]RELAÇÃO!$A$1:$AQ$576,MATCH($M45,[1]RELAÇÃO!$AP$1:$AP$576,0),1)","v":"ALMIR DE SOUZA FIGUEIREDO"},{"$f":"IF(E45=0,\"-\",LEFT(INDEX([1]RELAÇÃO!$A$1:$AQ$576,MATCH($M45,[1]RELAÇÃO!$AP$1:$AP$576,0),32),1))","v":"M"},{"$f":"IF(E45=0,\"-\",INDEX([1]RELAÇÃO!$A$1:$AQ$576,MATCH($M45,[1]RELAÇÃO!$AP$1:$AP$576,0),5))","v":"Ativo Permanente"},{"$f":"IF(E45=0,\"-\",INDEX([1]RELAÇÃO!$A$1:$AQ$576,MATCH($M45,[1]RELAÇÃO!$AP$1:$AP$576,0),6))","v":"MME - Ministério de Minas e Energia"},{"$f":"IF(E45=0,\"-\",INDEX([1]RELAÇÃO!$A$1:$AQ$576,MATCH($M45,[1]RELAÇÃO!$AP$1:$AP$576,0),12)&INDEX([1]RELAÇÃO!$A$1:$AQ$576,MATCH($M45,[1]RELAÇÃO!$AP$1:$AP$576,0),13)&\", de \"&INDEX([1]RELAÇÃO!$A$1:$AQ$576,MATCH($M45,[1]RELAÇÃO!$AP$1:$AP$576,0),14)&\" - \"&INDEX([1]RELAÇÃO!$A$1:$AQ$576,MATCH($M45,[1]RELAÇÃO!$AP$1:$AP$576,0),16)&\" de \"&INDEX([1]RELAÇÃO!$A$1:$AQ$576,MATCH($M45,[1]RELAÇÃO!$AP$1:$AP$576,0),15))","v":"Portaria nº 524, de 03/11/2016 - BPE de 04/11/2016"},null,null,{"$f":"IF($E45=0,\"-\",IF(INDEX([1]RELAÇÃO!$A$1:$AQ$576,MATCH($M45,[1]RELAÇÃO!$AP$1:$AP$576,0),8)=\"2.100.101\",\"-\",INDEX([1]RELAÇÃO!$A$1:$AQ$576,MATCH($M45,[1]RELAÇÃO!$AP$1:$AP$576,0),7)))","v":"-"},"GM23"]
[null,"Assistente Técnico","FCPE 102.1","ASS",{"$f":"INDEX([1]RELAÇÃO!$A$1:$AQ$576,MATCH($M46,[1]RELAÇÃO!$AP$1:$AP$576,0),1)","v":"ALCIDEMES LIMA FRANCO"},{"$f":"IF(E46=0,\"-\",LEFT(INDEX([1]RELAÇÃO!$A$1:$AQ$576,MATCH($M46,[1]RELAÇÃO!$AP$1:$AP$576,0),32),1))","v":"M"},{"$f":"IF(E46=0,\"-\",INDEX([1]RELAÇÃO!$A$1:$AQ$576,MATCH($M46,[1]RELAÇÃO!$AP$1:$AP$576,0),5))","v":"Ativo Permanente"},{"$f":"IF(E46=0,\"-\",INDEX([1]RELAÇÃO!$A$1:$AQ$576,MATCH($M46,[1]RELAÇÃO!$AP$1:$AP$576,0),6))","v":"MME - Ministério de Minas e Energia"},{"$f":"IF(E46=0,\"-\",INDEX([1]RELAÇÃO!$A$1:$AQ$576,MATCH($M46,[1]RELAÇÃO!$AP$1:$AP$576,0),12)&INDEX([1]RELAÇÃO!$A$1:$AQ$576,MATCH($M46,[1]RELAÇÃO!$AP$1:$AP$576,0),13)&\", de \"&INDEX([1]RELAÇÃO!$A$1:$AQ$576,MATCH($M46,[1]RELAÇÃO!$AP$1:$AP$576,0),14)&\" - \"&INDEX([1]RELAÇÃO!$A$1:$AQ$576,MATCH($M46,[1]RELAÇÃO!$AP$1:$AP$576,0),16)&\" de \"&INDEX([1]RELAÇÃO!$A$1:$AQ$576,MATCH($M46,[1]RELAÇÃO!$AP$1:$AP$576,0),15))","v":"Portaria nº 24, de 23/01/2018 - DOU de 29/01/2018"},null,null,{"$f":"IF($E46=0,\"-\",IF(INDEX([1]RELAÇÃO!$A$1:$AQ$576,MATCH($M46,[1]RELAÇÃO!$AP$1:$AP$576,0),8)=\"2.100.101\",\"-\",INDEX([1]RELAÇÃO!$A$1:$AQ$576,MATCH($M46,[1]RELAÇÃO!$AP$1:$AP$576,0),7)))","v":"-"},"GM24"]
[null,"Assistente Técnico","FCPE 102.1","ASS",{"$f":"INDEX([1]RELAÇÃO!$A$1:$AQ$576,MATCH($M47,[1]RELAÇÃO!$AP$1:$AP$576,0),1)","v":"NIRIA DE MOURA CHAGAS"},{"$f":"IF(E47=0,\"-\",LEFT(INDEX([1]RELAÇÃO!$A$1:$AQ$576,MATCH($M47,[1]RELAÇÃO!$AP$1:$AP$576,0),32),1))","v":"F"},{"$f":"IF(E47=0,\"-\",INDEX([1]RELAÇÃO!$A$1:$AQ$576,MATCH($M47,[1]RELAÇÃO!$AP$1:$AP$576,0),5))","v":"Requisitado de Órgãos"},{"$f":"IF(E47=0,\"-\",INDEX([1]RELAÇÃO!$A$1:$AQ$576,MATCH($M47,[1]RELAÇÃO!$AP$1:$AP$576,0),6))","v":"MD - Ministério da Defesa"},{"$f":"IF(E47=0,\"-\",INDEX([1]RELAÇÃO!$A$1:$AQ$576,MATCH($M47,[1]RELAÇÃO!$AP$1:$AP$576,0),12)&INDEX([1]RELAÇÃO!$A$1:$AQ$576,MATCH($M47,[1]RELAÇÃO!$AP$1:$AP$576,0),13)&\", de \"&INDEX([1]RELAÇÃO!$A$1:$AQ$576,MATCH($M47,[1]RELAÇÃO!$AP$1:$AP$576,0),14)&\" - \"&INDEX([1]RELAÇÃO!$A$1:$AQ$576,MATCH($M47,[1]RELAÇÃO!$AP$1:$AP$576,0),16)&\" de \"&INDEX([1]RELAÇÃO!$A$1:$AQ$576,MATCH($M47,[1]RELAÇÃO!$AP$1:$AP$576,0),15))","v":"Portaria nº 239, de 04/06/2016 - DOU de 06/06/2019"},null,null,{"$f":"IF($E47=0,\"-\",IF(INDEX([1]RELAÇÃO!$A$1:$AQ$576,MATCH($M47,[1]RELAÇÃO!$AP$1:$AP$576,0),8)=\"2.100.101\",\"-\",INDEX([1]RELAÇÃO!$A$1:$AQ$576,MATCH($M47,[1]RELAÇÃO!$AP$1:$AP$576,0),7)))","v":"GM / ASSESSORIA DE APOIO AO MINISTRO - AAM"},"GM25"]
["Assessoria Parlamentar","Chefe de Assessoria","DAS 101.4","GER",{"$f":"INDEX([1]RELAÇÃO!$A$1:$AQ$576,MATCH($M48,[1]RELAÇÃO!$AP$1:$AP$576,0),1)","v":"ROSA MARIA SCHOOL MARQUES DE ANDRADE MARCET DE OLIVEIRA"},{"$f":"IF(E48=0,\"-\",LEFT(INDEX([1]RELAÇÃO!$A$1:$AQ$576,MATCH($M48,[1]RELAÇÃO!$AP$1:$AP$576,0),32),1))","v":"F"},{"$f":"IF(E48=0,\"-\",INDEX([1]RELAÇÃO!$A$1:$AQ$576,MATCH($M48,[1]RELAÇÃO!$AP$1:$AP$576,0),5))","v":"Sem Vínculo"},{"$f":"IF(E48=0,\"-\",INDEX([1]RELAÇÃO!$A$1:$AQ$576,MATCH($M48,[1]RELAÇÃO!$AP$1:$AP$576,0),6))","v":"Sem Vínculo"},{"$f":"IF(E48=0,\"-\",INDEX([1]RELAÇÃO!$A$1:$AQ$576,MATCH($M48,[1]RELAÇÃO!$AP$1:$AP$576,0),12)&INDEX([1]RELAÇÃO!$A$1:$AQ$576,MATCH($M48,[1]RELAÇÃO!$AP$1:$AP$576,0),13)&\", de \"&INDEX([1]RELAÇÃO!$A$1:$AQ$576,MATCH($M48,[1]RELAÇÃO!$AP$1:$AP$576,0),14)&\" - \"&INDEX([1]RELAÇÃO!$A$1:$AQ$576,MATCH($M48,[1]RELAÇÃO!$AP$1:$AP$576,0),16)&\" de \"&INDEX([1]RELAÇÃO!$A$1:$AQ$576,MATCH($M48,[1]RELAÇÃO!$AP$1:$AP$576,0),15))","v":"Portaria nº 1270, de 20/02/2019 - DOU de 21/02/2019"},{"$f":"INDEX([1]RELAÇÃO!$A$1:$AQ$576,MATCH($N48,[1]RELAÇÃO!$AQ$1:$AQ$576,0),1)","v":0},{"$f":"IF(J48=0,\"-\",INDEX([1]RELAÇÃO!$A$1:$AQ$576,MATCH($N48,[1]RELAÇÃO!$AQ$1:$AQ$576,0),27)&INDEX([1]RELAÇÃO!$A$1:$AQ$576,MATCH($N48,[1]RELAÇÃO!$AQ$1:$AQ$576,0),28)&\", de \"&INDEX([1]RELAÇÃO!$A$1:$AQ$576,MATCH($N48,[1]RELAÇÃO!$AQ$1:$AQ$576,0),29)&\" - \"&INDEX([1]RELAÇÃO!$A$1:$AQ$576,MATCH($N48,[1]RELAÇÃO!$AQ$1:$AQ$576,0),31)&\" de \"&INDEX([1]RELAÇÃO!$A$1:$AQ$576,MATCH($N48,[1]RELAÇÃO!$AQ$1:$AQ$576,0),30))","v":"-"},{"$f":"IF($E48=0,\"-\",IF(INDEX([1]RELAÇÃO!$A$1:$AQ$576,MATCH($M48,[1]RELAÇÃO!$AP$1:$AP$576,0),8)=\"2.100.200\",\"-\",INDEX([1]RELAÇÃO!$A$1:$AQ$576,MATCH($M48,[1]RELAÇÃO!$AP$1:$AP$576,0),7)))","v":"-"},"GM26","GM06S"]
[null,"Assessor Técnico","DAS 102.3","ASS",{"$f":"INDEX([1]RELAÇÃO!$A$1:$AQ$576,MATCH($M49,[1]RELAÇÃO!$AP$1:$AP$576,0),1)","v":"GABRIELA PEREIRA GONCALVES"},{"$f":"IF(E49=0,\"-\",LEFT(INDEX([1]RELAÇÃO!$A$1:$AQ$576,MATCH($M49,[1]RELAÇÃO!$AP$1:$AP$576,0),32),1))","v":"F"},{"$f":"IF(E49=0,\"-\",INDEX([1]RELAÇÃO!$A$1:$AQ$576,MATCH($M49,[1]RELAÇÃO!$AP$1:$AP$576,0),5))","v":"Sem Vínculo"},{"$f":"IF(E49=0,\"-\",INDEX([1]RELAÇÃO!$A$1:$AQ$576,MATCH($M49,[1]RELAÇÃO!$AP$1:$AP$576,0),6))","v":"Sem Vínculo"},{"$f":"IF(E49=0,\"-\",INDEX([1]RELAÇÃO!$A$1:$AQ$576,MATCH($M49,[1]RELAÇÃO!$AP$1:$AP$576,0),12)&INDEX([1]RELAÇÃO!$A$1:$AQ$576,MATCH($M49,[1]RELAÇÃO!$AP$1:$AP$576,0),13)&\", de \"&INDEX([1]RELAÇÃO!$A$1:$AQ$576,MATCH($M49,[1]RELAÇÃO!$AP$1:$AP$576,0),14)&\" - \"&INDEX([1]RELAÇÃO!$A$1:$AQ$576,MATCH($M49,[1]RELAÇÃO!$AP$1:$AP$576,0),16)&\" de \"&INDEX([1]RELAÇÃO!$A$1:$AQ$576,MATCH($M49,[1]RELAÇÃO!$AP$1:$AP$576,0),15))","v":"Portaria nº 524, de 03/11/2016 - BPE de 04/11/2016"},null,null,{"$f":"IF($E49=0,\"-\",IF(INDEX([1]RELAÇÃO!$A$1:$AQ$576,MATCH($M49,[1]RELAÇÃO!$AP$1:$AP$576,0),8)=\"2.100.200\",\"-\",INDEX([1]RELAÇÃO!$A$1:$AQ$576,MATCH($M49,[1]RELAÇÃO!$AP$1:$AP$576,0),7)))","v":"-"},"GM27"]
[null,"Assistente Técnico","DAS 102.1","ASS",{"$f":"INDEX([1]RELAÇÃO!$A$1:$AQ$576,MATCH($M50,[1]RELAÇÃO!$AP$1:$AP$576,0),1)","v":"FRANCISCO SANTANA PEREIRA"},{"$f":"IF(E50=0,\"-\",LEFT(INDEX([1]RELAÇÃO!$A$1:$AQ$576,MATCH($M50,[1]RELAÇÃO!$AP$1:$AP$576,0),32),1))","v":"M"},{"$f":"IF(E50=0,\"-\",INDEX([1]RELAÇÃO!$A$1:$AQ$576,MATCH($M50,[1]RELAÇÃO!$AP$1:$AP$576,0),5))","v":"Ativo Permanente"},{"$f":"IF(E50=0,\"-\",INDEX([1]RELAÇÃO!$A$1:$AQ$576,MATCH($M50,[1]RELAÇÃO!$AP$1:$AP$576,0),6))","v":"MME - Ministério de Minas e Energia"},{"$f":"IF(E50=0,\"-\",INDEX([1]RELAÇÃO!$A$1:$AQ$576,MATCH($M50,[1]RELAÇÃO!$AP$1:$AP$576,0),12)&INDEX([1]RELAÇÃO!$A$1:$AQ$576,MATCH($M50,[1]RELAÇÃO!$AP$1:$AP$576,0),13)&\", de \"&INDEX([1]RELAÇÃO!$A$1:$AQ$576,MATCH($M50,[1]RELAÇÃO!$AP$1:$AP$576,0),14)&\" - \"&INDEX([1]RELAÇÃO!$A$1:$AQ$576,MATCH($M50,[1]RELAÇÃO!$AP$1:$AP$576,0),16)&\" de \"&INDEX([1]RELAÇÃO!$A$1:$AQ$576,MATCH($M50,[1]RELAÇÃO!$AP$1:$AP$576,0),15))","v":"Portaria nº 66, de 28/02/2020 - DOU de 02/03/2020"},null,null,{"$f":"IF($E50=0,\"-\",IF(INDEX([1]RELAÇÃO!$A$1:$AQ$576,MATCH($M50,[1]RELAÇÃO!$AP$1:$AP$576,0),8)=\"2.100.200\",\"-\",INDEX([1]RELAÇÃO!$A$1:$AQ$576,MATCH($M50,[1]RELAÇÃO!$AP$1:$AP$576,0),7)))","v":"GM / ASSESSORIA DE COMUNICAÇÃO SOCIAL - ASCOM"},"GM28"]
[null,"Assistente Técnico","DAS 102.1","ASS",{"$f":"INDEX([1]RELAÇÃO!$A$1:$AQ$576,MATCH($M51,[1]RELAÇÃO!$AP$1:$AP$576,0),1)","v":"MARCIA CRISTINA DA SILVA DO NASCIMENTO"},{"$f":"IF(E51=0,\"-\",LEFT(INDEX([1]RELAÇÃO!$A$1:$AQ$576,MATCH($M51,[1]RELAÇÃO!$AP$1:$AP$576,0),32),1))","v":"F"},{"$f":"IF(E51=0,\"-\",INDEX([1]RELAÇÃO!$A$1:$AQ$576,MATCH($M51,[1]RELAÇÃO!$AP$1:$AP$576,0),5))","v":"Sem Vínculo"},{"$f":"IF(E51=0,\"-\",INDEX([1]RELAÇÃO!$A$1:$AQ$576,MATCH($M51,[1]RELAÇÃO!$AP$1:$AP$576,0),6))","v":"Sem Vínculo"},{"$f":"IF(E51=0,\"-\",INDEX([1]RELAÇÃO!$A$1:$AQ$576,MATCH($M51,[1]RELAÇÃO!$AP$1:$AP$576,0),12)&INDEX([1]RELAÇÃO!$A$1:$AQ$576,MATCH($M51,[1]RELAÇÃO!$AP$1:$AP$576,0),13)&\", de \"&INDEX([1]RELAÇÃO!$A$1:$AQ$576,MATCH($M51,[1]RELAÇÃO!$AP$1:$AP$576,0),14)&\" - \"&INDEX([1]RELAÇÃO!$A$1:$AQ$576,MATCH($M51,[1]RELAÇÃO!$AP$1:$AP$576,0),16)&\" de \"&INDEX([1]RELAÇÃO!$A$1:$AQ$576,MATCH($M51,[1]RELAÇÃO!$AP$1:$AP$576,0),15))","v":"Portaria nº 454, de 23/10/2018 - DOU de 24/10/2018"},null,null,{"$f":"IF($E51=0,\"-\",IF(INDEX([1]RELAÇÃO!$A$1:$AQ$576,MATCH($M51,[1]RELAÇÃO!$AP$1:$AP$576,0),8)=\"2.100.200\",\"-\",INDEX([1]RELAÇÃO!$A$1:$AQ$576,MATCH($M51,[1]RELAÇÃO!$AP$1:$AP$576,0),7)))","v":"-"},"GM29"]
[null,"Assistente Técnico","DAS 102.1","ASS",{"$f":"INDEX([1]RELAÇÃO!$A$1:$AQ$576,MATCH($M52,[1]RELAÇÃO!$AP$1:$AP$576,0),1)","v":"MARIA DE FATIMA SILVA FRANCO"},{"$f":"IF(E52=0,\"-\",LEFT(INDEX([1]RELAÇÃO!$A$1:$AQ$576,MATCH($M52,[1]RELAÇÃO!$AP$1:$AP$576,0),32),1))","v":"F"},{"$f":"IF(E52=0,\"-\",INDEX([1]RELAÇÃO!$A$1:$AQ$576,MATCH($M52,[1]RELAÇÃO!$AP$1:$AP$576,0),5))","v":"Sem Vínculo"},{"$f":"IF(E52=0,\"-\",INDEX([1]RELAÇÃO!$A$1:$AQ$576,MATCH($M52,[1]RELAÇÃO!$AP$1:$AP$576,0),6))","v":"Sem Vínculo"},{"$f":"IF(E52=0,\"-\",INDEX([1]RELAÇÃO!$A$1:$AQ$576,MATCH($M52,[1]RELAÇÃO!$AP$1:$AP$576,0),12)&INDEX([1]RELAÇÃO!$A$1:$AQ$576,MATCH($M52,[1]RELAÇÃO!$AP$1:$AP$576,0),13)&\", de \"&INDEX([1]RELAÇÃO!$A$1:$AQ$576,MATCH($M52,[1]RELAÇÃO!$AP$1:$AP$576,0),14)&\" - \"&INDEX([1]RELAÇÃO!$A$1:$AQ$576,MATCH($M52,[1]RELAÇÃO!$AP$1:$AP$576,0),16)&\" de \"&INDEX([1]RELAÇÃO!$A$1:$AQ$576,MATCH($M52,[1]RELAÇÃO!$AP$1:$AP$576,0),15))","v":"Portaria nº 524, de 03/11/2016 - BPE de 04/11/2016"},null,null,{"$f":"IF($E52=0,\"-\",IF(INDEX([1]RELAÇÃO!$A$1:$AQ$576,MATCH($M52,[1]RELAÇÃO!$AP$1:$AP$576,0),8)=\"2.100.200\",\"-\",INDEX([1]RELAÇÃO!$A$1:$AQ$576,MATCH($M52,[1]RELAÇÃO!$AP$1:$AP$576,0),7)))","v":"-"},"GM30"]
[null,"Assistente Técnico","DAS 102.1","ASS",{"$f":"INDEX([1]RELAÇÃO!$A$1:$AQ$576,MATCH($M53,[1]RELAÇÃO!$AP$1:$AP$576,0),1)","v":"ELISANGELA APARECIDA FERNANDES"},{"$f":"IF(E53=0,\"-\",LEFT(INDEX([1]RELAÇÃO!$A$1:$AQ$576,MATCH($M53,[1]RELAÇÃO!$AP$1:$AP$576,0),32),1))","v":"F"},{"$f":"IF(E53=0,\"-\",INDEX([1]RELAÇÃO!$A$1:$AQ$576,MATCH($M53,[1]RELAÇÃO!$AP$1:$AP$576,0),5))","v":"Sem Vínculo"},{"$f":"IF(E53=0,\"-\",INDEX([1]RELAÇÃO!$A$1:$AQ$576,MATCH($M53,[1]RELAÇÃO!$AP$1:$AP$576,0),6))","v":"Sem Vínculo"},{"$f":"IF(E53=0,\"-\",INDEX([1]RELAÇÃO!$A$1:$AQ$576,MATCH($M53,[1]RELAÇÃO!$AP$1:$AP$576,0),12)&INDEX([1]RELAÇÃO!$A$1:$AQ$576,MATCH($M53,[1]RELAÇÃO!$AP$1:$AP$576,0),13)&\", de \"&INDEX([1]RELAÇÃO!$A$1:$AQ$576,MATCH($M53,[1]RELAÇÃO!$AP$1:$AP$576,0),14)&\" - \"&INDEX([1]RELAÇÃO!$A$1:$AQ$576,MATCH($M53,[1]RELAÇÃO!$AP$1:$AP$576,0),16)&\" de \"&INDEX([1]RELAÇÃO!$A$1:$AQ$576,MATCH($M53,[1]RELAÇÃO!$AP$1:$AP$576,0),15))","v":"Portaria nº 414, de 11/11/2019 - DOU de 12/11/2019"},null,null,{"$f":"IF($E53=0,\"-\",IF(INDEX([1]RELAÇÃO!$A$1:$AQ$576,MATCH($M53,[1]RELAÇÃO!$AP$1:$AP$576,0),8)=\"2.100.200\",\"-\",INDEX([1]RELAÇÃO!$A$1:$AQ$576,MATCH($M53,[1]RELAÇÃO!$AP$1:$AP$576,0),7)))","v":"-"},"GM31"]
["Assessoria de Comunicação Social","Chefe de Assessoria","DAS 101.4","GER",{"$f":"INDEX([1]RELAÇÃO!$A$1:$AQ$576,MATCH($M54,[1]RELAÇÃO!$AP$1:$AP$576,0),1)","v":"SAULO ROBERTO DE VARGAS"},{"$f":"IF(E54=0,\"-\",LEFT(INDEX([1]RELAÇÃO!$A$1:$AQ$576,MATCH($M54,[1]RELAÇÃO!$AP$1:$AP$576,0),32),1))","v":"M"},{"$f":"IF(E54=0,\"-\",INDEX([1]RELAÇÃO!$A$1:$AQ$576,MATCH($M54,[1]RELAÇÃO!$AP$1:$AP$576,0),5))","v":"Sem Vínculo"},{"$f":"IF(E54=0,\"-\",INDEX([1]RELAÇÃO!$A$1:$AQ$576,MATCH($M54,[1]RELAÇÃO!$AP$1:$AP$576,0),6))","v":"S/VÍNCULO"},{"$f":"IF(E54=0,\"-\",INDEX([1]RELAÇÃO!$A$1:$AQ$576,MATCH($M54,[1]RELAÇÃO!$AP$1:$AP$576,0),12)&INDEX([1]RELAÇÃO!$A$1:$AQ$576,MATCH($M54,[1]RELAÇÃO!$AP$1:$AP$576,0),13)&\", de \"&INDEX([1]RELAÇÃO!$A$1:$AQ$576,MATCH($M54,[1]RELAÇÃO!$AP$1:$AP$576,0),14)&\" - \"&INDEX([1]RELAÇÃO!$A$1:$AQ$576,MATCH($M54,[1]RELAÇÃO!$AP$1:$AP$576,0),16)&\" de \"&INDEX([1]RELAÇÃO!$A$1:$AQ$576,MATCH($M54,[1]RELAÇÃO!$AP$1:$AP$576,0),15))","v":"Portaria nº 265, de 30/01/2020 - DOU de 01/07/2020"},{"$f":"INDEX([1]RELAÇÃO!$A$1:$AQ$576,MATCH($N54,[1]RELAÇÃO!$AQ$1:$AQ$576,0),1)","v":0},{"$f":"IF(J54=0,\"-\",INDEX([1]RELAÇÃO!$A$1:$AQ$576,MATCH($N54,[1]RELAÇÃO!$AQ$1:$AQ$576,0),27)&INDEX([1]RELAÇÃO!$A$1:$AQ$576,MATCH($N54,[1]RELAÇÃO!$AQ$1:$AQ$576,0),28)&\", de \"&INDEX([1]RELAÇÃO!$A$1:$AQ$576,MATCH($N54,[1]RELAÇÃO!$AQ$1:$AQ$576,0),29)&\" - \"&INDEX([1]RELAÇÃO!$A$1:$AQ$576,MATCH($N54,[1]RELAÇÃO!$AQ$1:$AQ$576,0),31)&\" de \"&INDEX([1]RELAÇÃO!$A$1:$AQ$576,MATCH($N54,[1]RELAÇÃO!$AQ$1:$AQ$576,0),30))","v":"-"},{"$f":"IF($E54=0,\"-\",IF(INDEX([1]RELAÇÃO!$A$1:$AQ$576,MATCH($M54,[1]RELAÇÃO!$AP$1:$AP$576,0),8)=\"2.100.300\",\"-\",INDEX([1]RELAÇÃO!$A$1:$AQ$576,MATCH($M54,[1]RELAÇÃO!$AP$1:$AP$576,0),7)))","v":"-"},"GM32","GM07S"]
[null,"Assessor Técnico","DAS 102.3","ASS",{"$f":"INDEX([1]RELAÇÃO!$A$1:$AQ$576,MATCH($M55,[1]RELAÇÃO!$AP$1:$AP$576,0),1)","v":"BRUNO CESAR SPADA"},{"$f":"IF(E55=0,\"-\",LEFT(INDEX([1]RELAÇÃO!$A$1:$AQ$576,MATCH($M55,[1]RELAÇÃO!$AP$1:$AP$576,0),32),1))","v":"M"},{"$f":"IF(E55=0,\"-\",INDEX([1]RELAÇÃO!$A$1:$AQ$576,MATCH($M55,[1]RELAÇÃO!$AP$1:$AP$576,0),5))","v":"Sem Vínculo"},{"$f":"IF(E55=0,\"-\",INDEX([1]RELAÇÃO!$A$1:$AQ$576,MATCH($M55,[1]RELAÇÃO!$AP$1:$AP$576,0),6))","v":"Sem Vínculo"},{"$f":"IF(E55=0,\"-\",INDEX([1]RELAÇÃO!$A$1:$AQ$576,MATCH($M55,[1]RELAÇÃO!$AP$1:$AP$576,0),12)&INDEX([1]RELAÇÃO!$A$1:$AQ$576,MATCH($M55,[1]RELAÇÃO!$AP$1:$AP$576,0),13)&\", de \"&INDEX([1]RELAÇÃO!$A$1:$AQ$576,MATCH($M55,[1]RELAÇÃO!$AP$1:$AP$576,0),14)&\" - \"&INDEX([1]RELAÇÃO!$A$1:$AQ$576,MATCH($M55,[1]RELAÇÃO!$AP$1:$AP$576,0),16)&\" de \"&INDEX([1]RELAÇÃO!$A$1:$AQ$576,MATCH($M55,[1]RELAÇÃO!$AP$1:$AP$576,0),15))","v":"Portaria nº 195, de 11/04/2019 - DOU de 16/04/2019"},null,null,{"$f":"IF($E55=0,\"-\",IF(INDEX([1]RELAÇÃO!$A$1:$AQ$576,MATCH($M55,[1]RELAÇÃO!$AP$1:$AP$576,0),8)=\"2.100.300\",\"-\",INDEX([1]RELAÇÃO!$A$1:$AQ$576,MATCH($M55,[1]RELAÇÃO!$AP$1:$AP$576,0),7)))","v":"-"},"GM33"]
[null,"Assistente","DAS 102.2","ASS",{"$f":"INDEX([1]RELAÇÃO!$A$1:$AQ$576,MATCH($M56,[1]RELAÇÃO!$AP$1:$AP$576,0),1)","v":"LISANDRA PEREIRA DA FONSECA"},{"$f":"IF(E56=0,\"-\",LEFT(INDEX([1]RELAÇÃO!$A$1:$AQ$576,MATCH($M56,[1]RELAÇÃO!$AP$1:$AP$576,0),32),1))","v":"F"},{"$f":"IF(E56=0,\"-\",INDEX([1]RELAÇÃO!$A$1:$AQ$576,MATCH($M56,[1]RELAÇÃO!$AP$1:$AP$576,0),5))","v":"Sem Vínculo"},{"$f":"IF(E56=0,\"-\",INDEX([1]RELAÇÃO!$A$1:$AQ$576,MATCH($M56,[1]RELAÇÃO!$AP$1:$AP$576,0),6))","v":"Sem Vínculo"},{"$f":"IF(E56=0,\"-\",INDEX([1]RELAÇÃO!$A$1:$AQ$576,MATCH($M56,[1]RELAÇÃO!$AP$1:$AP$576,0),12)&INDEX([1]RELAÇÃO!$A$1:$AQ$576,MATCH($M56,[1]RELAÇÃO!$AP$1:$AP$576,0),13)&\", de \"&INDEX([1]RELAÇÃO!$A$1:$AQ$576,MATCH($M56,[1]RELAÇÃO!$AP$1:$AP$576,0),14)&\" - \"&INDEX([1]RELAÇÃO!$A$1:$AQ$576,MATCH($M56,[1]RELAÇÃO!$AP$1:$AP$576,0),16)&\" de \"&INDEX([1]RELAÇÃO!$A$1:$AQ$576,MATCH($M56,[1]RELAÇÃO!$AP$1:$AP$576,0),15))","v":"Portaria nº 524, de 03/11/2016 - BPE de 04/11/2016"},null,null,{"$f":"IF($E56=0,\"-\",IF(INDEX([1]RELAÇÃO!$A$1:$AQ$576,MATCH($M56,[1]RELAÇÃO!$AP$1:$AP$576,0),8)=\"2.100.300\",\"-\",INDEX([1]RELAÇÃO!$A$1:$AQ$576,MATCH($M56,[1]RELAÇÃO!$AP$1:$AP$576,0),7)))","v":"-"},"GM34"]
[null,"Assistente","DAS 102.2","ASS",{"$f":"INDEX([1]RELAÇÃO!$A$1:$AQ$576,MATCH($M57,[1]RELAÇÃO!$AP$1:$AP$576,0),1)","v":"NICOLE ANGEL OLIVEIRA BORGES"},{"$f":"IF(E57=0,\"-\",LEFT(INDEX([1]RELAÇÃO!$A$1:$AQ$576,MATCH($M57,[1]RELAÇÃO!$AP$1:$AP$576,0),32),1))","v":"F"},{"$f":"IF(E57=0,\"-\",INDEX([1]RELAÇÃO!$A$1:$AQ$576,MATCH($M57,[1]RELAÇÃO!$AP$1:$AP$576,0),5))","v":"Sem Vínculo"},{"$f":"IF(E57=0,\"-\",INDEX([1]RELAÇÃO!$A$1:$AQ$576,MATCH($M57,[1]RELAÇÃO!$AP$1:$AP$576,0),6))","v":"S/VÍNCULO"},{"$f":"IF(E57=0,\"-\",INDEX([1]RELAÇÃO!$A$1:$AQ$576,MATCH($M57,[1]RELAÇÃO!$AP$1:$AP$576,0),12)&INDEX([1]RELAÇÃO!$A$1:$AQ$576,MATCH($M57,[1]RELAÇÃO!$AP$1:$AP$576,0),13)&\", de \"&INDEX([1]RELAÇÃO!$A$1:$AQ$576,MATCH($M57,[1]RELAÇÃO!$AP$1:$AP$576,0),14)&\" - \"&INDEX([1]RELAÇÃO!$A$1:$AQ$576,MATCH($M57,[1]RELAÇÃO!$AP$1:$AP$576,0),16)&\" de \"&INDEX([1]RELAÇÃO!$A$1:$AQ$576,MATCH($M57,[1]RELAÇÃO!$AP$1:$AP$576,0),15))","v":"Portaria nº 309, de 18/08/2020 - DOU de 21/08/2020"},null,null,{"$f":"IF($E57=0,\"-\",IF(INDEX([1]RELAÇÃO!$A$1:$AQ$576,MATCH($M57,[1]RELAÇÃO!$AP$1:$AP$576,0),8)=\"2.100.300\",\"-\",INDEX([1]RELAÇÃO!$A$1:$AQ$576,MATCH($M57,[1]RELAÇÃO!$AP$1:$AP$576,0),7)))","v":"-"},"GM35"]
[null,"Assistente","DAS 102.2","ASS",{"$f":"INDEX([1]RELAÇÃO!$A$1:$AQ$576,MATCH($M58,[1]RELAÇÃO!$AP$1:$AP$576,0),1)","v":"DIANA BISPO DE JESUS"},{"$f":"IF(E58=0,\"-\",LEFT(INDEX([1]RELAÇÃO!$A$1:$AQ$576,MATCH($M58,[1]RELAÇÃO!$AP$1:$AP$576,0),32),1))","v":"F"},{"$f":"IF(E58=0,\"-\",INDEX([1]RELAÇÃO!$A$1:$AQ$576,MATCH($M58,[1]RELAÇÃO!$AP$1:$AP$576,0),5))","v":"Sem Vínculo"},{"$f":"IF(E58=0,\"-\",INDEX([1]RELAÇÃO!$A$1:$AQ$576,MATCH($M58,[1]RELAÇÃO!$AP$1:$AP$576,0),6))","v":"Sem Vínculo"},{"$f":"IF(E58=0,\"-\",INDEX([1]RELAÇÃO!$A$1:$AQ$576,MATCH($M58,[1]RELAÇÃO!$AP$1:$AP$576,0),12)&INDEX([1]RELAÇÃO!$A$1:$AQ$576,MATCH($M58,[1]RELAÇÃO!$AP$1:$AP$576,0),13)&\", de \"&INDEX([1]RELAÇÃO!$A$1:$AQ$576,MATCH($M58,[1]RELAÇÃO!$AP$1:$AP$576,0),14)&\" - \"&INDEX([1]RELAÇÃO!$A$1:$AQ$576,MATCH($M58,[1]RELAÇÃO!$AP$1:$AP$576,0),16)&\" de \"&INDEX([1]RELAÇÃO!$A$1:$AQ$576,MATCH($M58,[1]RELAÇÃO!$AP$1:$AP$576,0),15))","v":"Portaria nº 360, de 30/09/2020 - DOU de 02/10/2020"},null,null,{"$f":"IF($E58=0,\"-\",IF(INDEX([1]RELAÇÃO!$A$1:$AQ$576,MATCH($M58,[1]RELAÇÃO!$AP$1:$AP$576,0),8)=\"2.100.300\",\"-\",INDEX([1]RELAÇÃO!$A$1:$AQ$576,MATCH($M58,[1]RELAÇÃO!$AP$1:$AP$576,0),7)))","v":"-"},"GM36"]
["Assessoria de Apoio ao Ministro","Chefe de Assessoria","DAS 101.4","GER",{"$f":"INDEX([1]RELAÇÃO!$A$1:$AQ$576,MATCH($M59,[1]RELAÇÃO!$AP$1:$AP$576,0),1)","v":"BÁRBARA BÉLKIOR DE SOUZA E SILVA"},{"$f":"IF(E59=0,\"-\",LEFT(INDEX([1]RELAÇÃO!$A$1:$AQ$576,MATCH($M59,[1]RELAÇÃO!$AP$1:$AP$576,0),32),1))","v":"F"},{"$f":"IF(E59=0,\"-\",INDEX([1]RELAÇÃO!$A$1:$AQ$576,MATCH($M59,[1]RELAÇÃO!$AP$1:$AP$576,0),5))","v":"Requisitado de Órgãos"},{"$f":"IF(E59=0,\"-\",INDEX([1]RELAÇÃO!$A$1:$AQ$576,MATCH($M59,[1]RELAÇÃO!$AP$1:$AP$576,0),6))","v":"MRE - Ministério das Relações Exteriores"},{"$f":"IF(E59=0,\"-\",INDEX([1]RELAÇÃO!$A$1:$AQ$576,MATCH($M59,[1]RELAÇÃO!$AP$1:$AP$576,0),12)&INDEX([1]RELAÇÃO!$A$1:$AQ$576,MATCH($M59,[1]RELAÇÃO!$AP$1:$AP$576,0),13)&\", de \"&INDEX([1]RELAÇÃO!$A$1:$AQ$576,MATCH($M59,[1]RELAÇÃO!$AP$1:$AP$576,0),14)&\" - \"&INDEX([1]RELAÇÃO!$A$1:$AQ$576,MATCH($M59,[1]RELAÇÃO!$AP$1:$AP$576,0),16)&\" de \"&INDEX([1]RELAÇÃO!$A$1:$AQ$576,MATCH($M59,[1]RELAÇÃO!$AP$1:$AP$576,0),15))","v":"Portaria nº 8, de 08/01/2020 - DOU de 10/01/2020"},{"$f":"INDEX([1]RELAÇÃO!$A$1:$AQ$576,MATCH($N59,[1]RELAÇÃO!$AQ$1:$AQ$576,0),1)","v":0},{"$f":"IF(J59=0,\"-\",INDEX([1]RELAÇÃO!$A$1:$AQ$576,MATCH($N59,[1]RELAÇÃO!$AQ$1:$AQ$576,0),27)&INDEX([1]RELAÇÃO!$A$1:$AQ$576,MATCH($N59,[1]RELAÇÃO!$AQ$1:$AQ$576,0),28)&\", de \"&INDEX([1]RELAÇÃO!$A$1:$AQ$576,MATCH($N59,[1]RELAÇÃO!$AQ$1:$AQ$576,0),29)&\" - \"&INDEX([1]RELAÇÃO!$A$1:$AQ$576,MATCH($N59,[1]RELAÇÃO!$AQ$1:$AQ$576,0),31)&\" de \"&INDEX([1]RELAÇÃO!$A$1:$AQ$576,MATCH($N59,[1]RELAÇÃO!$AQ$1:$AQ$576,0),30))","v":"-"},{"$f":"IF($E59=0,\"-\",IF(INDEX([1]RELAÇÃO!$A$1:$AQ$576,MATCH($M59,[1]RELAÇÃO!$AP$1:$AP$576,0),8)=\"2.100.400\",\"-\",INDEX([1]RELAÇÃO!$A$1:$AQ$576,MATCH($M59,[1]RELAÇÃO!$AP$1:$AP$576,0),7)))","v":"-"},"GM37","GM08S"]
[null,"Assessor","DAS 102.4","ASS",{"$f":"INDEX([1]RELAÇÃO!$A$1:$AQ$576,MATCH($M60,[1]RELAÇÃO!$AP$1:$AP$576,0),1)","v":"LUIS FELIPE MONTEIRO SERRAO"},{"$f":"IF(E60=0,\"-\",LEFT(INDEX([1]RELAÇÃO!$A$1:$AQ$576,MATCH($M60,[1]RELAÇÃO!$AP$1:$AP$576,0),32),1))","v":"M"},{"$f":"IF(E60=0,\"-\",INDEX([1]RELAÇÃO!$A$1:$AQ$576,MATCH($M60,[1]RELAÇÃO!$AP$1:$AP$576,0),5))","v":"Sem Vínculo"},{"$f":"IF(E60=0,\"-\",INDEX([1]RELAÇÃO!$A$1:$AQ$576,MATCH($M60,[1]RELAÇÃO!$AP$1:$AP$576,0),6))","v":"Sem Vínculo"},{"$f":"IF(E60=0,\"-\",INDEX([1]RELAÇÃO!$A$1:$AQ$576,MATCH($M60,[1]RELAÇÃO!$AP$1:$AP$576,0),12)&INDEX([1]RELAÇÃO!$A$1:$AQ$576,MATCH($M60,[1]RELAÇÃO!$AP$1:$AP$576,0),13)&\", de \"&INDEX([1]RELAÇÃO!$A$1:$AQ$576,MATCH($M60,[1]RELAÇÃO!$AP$1:$AP$576,0),14)&\" - \"&INDEX([1]RELAÇÃO!$A$1:$AQ$576,MATCH($M60,[1]RELAÇÃO!$AP$1:$AP$576,0),16)&\" de \"&INDEX([1]RELAÇÃO!$A$1:$AQ$576,MATCH($M60,[1]RELAÇÃO!$AP$1:$AP$576,0),15))","v":"Portaria nº 149, de 28/02/2019 - DOU de 06/03/2019"},null,null,{"$f":"IF($E60=0,\"-\",IF(INDEX([1]RELAÇÃO!$A$1:$AQ$576,MATCH($M60,[1]RELAÇÃO!$AP$1:$AP$576,0),8)=\"2.100.400\",\"-\",INDEX([1]RELAÇÃO!$A$1:$AQ$576,MATCH($M60,[1]RELAÇÃO!$AP$1:$AP$576,0),7)))","v":"GM / ASSESSORIA PARLAMENTAR - ASPAR"},"GM38"]
[null,"Assessor Técnico","DAS 102.3","ASS",{"$f":"INDEX([1]RELAÇÃO!$A$1:$AQ$576,MATCH($M61,[1]RELAÇÃO!$AP$1:$AP$576,0),1)","v":"JOANNE LUNA SANTANA DE CARVALHO"},{"$f":"IF(E61=0,\"-\",LEFT(INDEX([1]RELAÇÃO!$A$1:$AQ$576,MATCH($M61,[1]RELAÇÃO!$AP$1:$AP$576,0),32),1))","v":"F"},{"$f":"IF(E61=0,\"-\",INDEX([1]RELAÇÃO!$A$1:$AQ$576,MATCH($M61,[1]RELAÇÃO!$AP$1:$AP$576,0),5))","v":"Sem Vínculo"},{"$f":"IF(E61=0,\"-\",INDEX([1]RELAÇÃO!$A$1:$AQ$576,MATCH($M61,[1]RELAÇÃO!$AP$1:$AP$576,0),6))","v":"Sem Vínculo"},{"$f":"IF(E61=0,\"-\",INDEX([1]RELAÇÃO!$A$1:$AQ$576,MATCH($M61,[1]RELAÇÃO!$AP$1:$AP$576,0),12)&INDEX([1]RELAÇÃO!$A$1:$AQ$576,MATCH($M61,[1]RELAÇÃO!$AP$1:$AP$576,0),13)&\", de \"&INDEX([1]RELAÇÃO!$A$1:$AQ$576,MATCH($M61,[1]RELAÇÃO!$AP$1:$AP$576,0),14)&\" - \"&INDEX([1]RELAÇÃO!$A$1:$AQ$576,MATCH($M61,[1]RELAÇÃO!$AP$1:$AP$576,0),16)&\" de \"&INDEX([1]RELAÇÃO!$A$1:$AQ$576,MATCH($M61,[1]RELAÇÃO!$AP$1:$AP$576,0),15))","v":"Portaria nº 430, de 10/10/2018 - DOU de 22/10/2018"},null,null,{"$f":"IF($E61=0,\"-\",IF(INDEX([1]RELAÇÃO!$A$1:$AQ$576,MATCH($M61,[1]RELAÇÃO!$AP$1:$AP$576,0),8)=\"2.100.400\",\"-\",INDEX([1]RELAÇÃO!$A$1:$AQ$576,MATCH($M61,[1]RELAÇÃO!$AP$1:$AP$576,0),7)))","v":"-"},"GM39"]
[null,"Assistente","DAS 102.2","ASS",{"$f":"INDEX([1]RELAÇÃO!$A$1:$AQ$576,MATCH($M62,[1]RELAÇÃO!$AP$1:$AP$576,0),1)","v":"LEILA MARIA BASTOS PERES DOS SANTOS"},{"$f":"IF(E62=0,\"-\",LEFT(INDEX([1]RELAÇÃO!$A$1:$AQ$576,MATCH($M62,[1]RELAÇÃO!$AP$1:$AP$576,0),32),1))","v":"F"},{"$f":"IF(E62=0,\"-\",INDEX([1]RELAÇÃO!$A$1:$AQ$576,MATCH($M62,[1]RELAÇÃO!$AP$1:$AP$576,0),5))","v":"Sem Vínculo"},{"$f":"IF(E62=0,\"-\",INDEX([1]RELAÇÃO!$A$1:$AQ$576,MATCH($M62,[1]RELAÇÃO!$AP$1:$AP$576,0),6))","v":"Sem Vínculo"},{"$f":"IF(E62=0,\"-\",INDEX([1]RELAÇÃO!$A$1:$AQ$576,MATCH($M62,[1]RELAÇÃO!$AP$1:$AP$576,0),12)&INDEX([1]RELAÇÃO!$A$1:$AQ$576,MATCH($M62,[1]RELAÇÃO!$AP$1:$AP$576,0),13)&\", de \"&INDEX([1]RELAÇÃO!$A$1:$AQ$576,MATCH($M62,[1]RELAÇÃO!$AP$1:$AP$576,0),14)&\" - \"&INDEX([1]RELAÇÃO!$A$1:$AQ$576,MATCH($M62,[1]RELAÇÃO!$AP$1:$AP$576,0),16)&\" de \"&INDEX([1]RELAÇÃO!$A$1:$AQ$576,MATCH($M62,[1]RELAÇÃO!$AP$1:$AP$576,0),15))","v":"Portaria nº 431, de 10/10/2018 - DOU de 22/10/2018"},null,null,{"$f":"IF($E62=0,\"-\",IF(INDEX([1]RELAÇÃO!$A$1:$AQ$576,MATCH($M62,[1]RELAÇÃO!$AP$1:$AP$576,0),8)=\"2.100.400\",\"-\",INDEX([1]RELAÇÃO!$A$1:$AQ$576,MATCH($M62,[1]RELAÇÃO!$AP$1:$AP$576,0),7)))","v":"-"},"GM40"]
[null,"Assistente Técnico","DAS 102.1","ASS",{"$f":"INDEX([1]RELAÇÃO!$A$1:$AQ$576,MATCH($M63,[1]RELAÇÃO!$AP$1:$AP$576,0),1)","v":"MILENA BARBOSA CARVALHEDO RIBEIRO"},{"$f":"IF(E63=0,\"-\",LEFT(INDEX([1]RELAÇÃO!$A$1:$AQ$576,MATCH($M63,[1]RELAÇÃO!$AP$1:$AP$576,0),32),1))","v":"F"},{"$f":"IF(E63=0,\"-\",INDEX([1]RELAÇÃO!$A$1:$AQ$576,MATCH($M63,[1]RELAÇÃO!$AP$1:$AP$576,0),5))","v":"Sem Vínculo"},{"$f":"IF(E63=0,\"-\",INDEX([1]RELAÇÃO!$A$1:$AQ$576,MATCH($M63,[1]RELAÇÃO!$AP$1:$AP$576,0),6))","v":"Sem Vínculo"},{"$f":"IF(E63=0,\"-\",INDEX([1]RELAÇÃO!$A$1:$AQ$576,MATCH($M63,[1]RELAÇÃO!$AP$1:$AP$576,0),12)&INDEX([1]RELAÇÃO!$A$1:$AQ$576,MATCH($M63,[1]RELAÇÃO!$AP$1:$AP$576,0),13)&\", de \"&INDEX([1]RELAÇÃO!$A$1:$AQ$576,MATCH($M63,[1]RELAÇÃO!$AP$1:$AP$576,0),14)&\" - \"&INDEX([1]RELAÇÃO!$A$1:$AQ$576,MATCH($M63,[1]RELAÇÃO!$AP$1:$AP$576,0),16)&\" de \"&INDEX([1]RELAÇÃO!$A$1:$AQ$576,MATCH($M63,[1]RELAÇÃO!$AP$1:$AP$576,0),15))","v":"Portaria nº 524, de 03/11/2016 - BPE de 04/11/2016"},null,null,{"$f":"IF($E63=0,\"-\",IF(INDEX([1]RELAÇÃO!$A$1:$AQ$576,MATCH($M63,[1]RELAÇÃO!$AP$1:$AP$576,0),8)=\"2.100.400\",\"-\",INDEX([1]RELAÇÃO!$A$1:$AQ$576,MATCH($M63,[1]RELAÇÃO!$AP$1:$AP$576,0),7)))","v":"-"},"GM41"]
["Ouvidoria-Geral","Ouvidor-Geral","FCPE 101.4","GER",{"$f":"INDEX([1]RELAÇÃO!$A$1:$AQ$576,MATCH($M64,[1]RELAÇÃO!$AP$1:$AP$576,0),1)","v":"GRAYCE MARTINS DA SILVA GONCALVES"},{"$f":"IF(E64=0,\"-\",LEFT(INDEX([1]RELAÇÃO!$A$1:$AQ$576,MATCH($M64,[1]RELAÇÃO!$AP$1:$AP$576,0),32),1))","v":"F"},{"$f":"IF(E64=0,\"-\",INDEX([1]RELAÇÃO!$A$1:$AQ$576,MATCH($M64,[1]RELAÇÃO!$AP$1:$AP$576,0),5))","v":"Requisitado de Órgãos"},{"$f":"IF(E64=0,\"-\",INDEX([1]RELAÇÃO!$A$1:$AQ$576,MATCH($M64,[1]RELAÇÃO!$AP$1:$AP$576,0),6))","v":"MDR - Ministério do Desenvolvimento Regional"},{"$f":"IF(E64=0,\"-\",INDEX([1]RELAÇÃO!$A$1:$AQ$576,MATCH($M64,[1]RELAÇÃO!$AP$1:$AP$576,0),12)&INDEX([1]RELAÇÃO!$A$1:$AQ$576,MATCH($M64,[1]RELAÇÃO!$AP$1:$AP$576,0),13)&\", de \"&INDEX([1]RELAÇÃO!$A$1:$AQ$576,MATCH($M64,[1]RELAÇÃO!$AP$1:$AP$576,0),14)&\" - \"&INDEX([1]RELAÇÃO!$A$1:$AQ$576,MATCH($M64,[1]RELAÇÃO!$AP$1:$AP$576,0),16)&\" de \"&INDEX([1]RELAÇÃO!$A$1:$AQ$576,MATCH($M64,[1]RELAÇÃO!$AP$1:$AP$576,0),15))","v":"Portaria nº 268, de 13/07/2017 - DOU de 18/07/2017"},{"$f":"INDEX([1]RELAÇÃO!$A$1:$AQ$576,MATCH($N64,[1]RELAÇÃO!$AQ$1:$AQ$576,0),1)","v":"TANIA GOMES RIBEIRO DE MORAES"},{"$f":"IF(J64=0,\"-\",INDEX([1]RELAÇÃO!$A$1:$AQ$576,MATCH($N64,[1]RELAÇÃO!$AQ$1:$AQ$576,0),27)&INDEX([1]RELAÇÃO!$A$1:$AQ$576,MATCH($N64,[1]RELAÇÃO!$AQ$1:$AQ$576,0),28)&\", de \"&INDEX([1]RELAÇÃO!$A$1:$AQ$576,MATCH($N64,[1]RELAÇÃO!$AQ$1:$AQ$576,0),29)&\" - \"&INDEX([1]RELAÇÃO!$A$1:$AQ$576,MATCH($N64,[1]RELAÇÃO!$AQ$1:$AQ$576,0),31)&\" de \"&INDEX([1]RELAÇÃO!$A$1:$AQ$576,MATCH($N64,[1]RELAÇÃO!$AQ$1:$AQ$576,0),30))","v":"Portaria nº 327, de 21/08/2017 - DOU de 22/08/2017"},{"$f":"IF($E64=0,\"-\",IF(INDEX([1]RELAÇÃO!$A$1:$AQ$576,MATCH($M64,[1]RELAÇÃO!$AP$1:$AP$576,0),8)=\"2.100.500\",\"-\",INDEX([1]RELAÇÃO!$A$1:$AQ$576,MATCH($M64,[1]RELAÇÃO!$AP$1:$AP$576,0),7)))","v":"-"},"GM42","GM09S"]
[null,"Assistente","DAS 102.2","ASS",{"$f":"INDEX([1]RELAÇÃO!$A$1:$AQ$576,MATCH($M65,[1]RELAÇÃO!$AP$1:$AP$576,0),1)","v":"FABIO SKAF NACFUR"},{"$f":"IF(E65=0,\"-\",LEFT(INDEX([1]RELAÇÃO!$A$1:$AQ$576,MATCH($M65,[1]RELAÇÃO!$AP$1:$AP$576,0),32),1))","v":"M"},{"$f":"IF(E65=0,\"-\",INDEX([1]RELAÇÃO!$A$1:$AQ$576,MATCH($M65,[1]RELAÇÃO!$AP$1:$AP$576,0),5))","v":"Sem Vínculo"},{"$f":"IF(E65=0,\"-\",INDEX([1]RELAÇÃO!$A$1:$AQ$576,MATCH($M65,[1]RELAÇÃO!$AP$1:$AP$576,0),6))","v":"Sem Vínculo"},{"$f":"IF(E65=0,\"-\",INDEX([1]RELAÇÃO!$A$1:$AQ$576,MATCH($M65,[1]RELAÇÃO!$AP$1:$AP$576,0),12)&INDEX([1]RELAÇÃO!$A$1:$AQ$576,MATCH($M65,[1]RELAÇÃO!$AP$1:$AP$576,0),13)&\", de \"&INDEX([1]RELAÇÃO!$A$1:$AQ$576,MATCH($M65,[1]RELAÇÃO!$AP$1:$AP$576,0),14)&\" - \"&INDEX([1]RELAÇÃO!$A$1:$AQ$576,MATCH($M65,[1]RELAÇÃO!$AP$1:$AP$576,0),16)&\" de \"&INDEX([1]RELAÇÃO!$A$1:$AQ$576,MATCH($M65,[1]RELAÇÃO!$AP$1:$AP$576,0),15))","v":"Portaria nº 33, de 17/01/2019 - DOU de 23/01/2019"},null,null,{"$f":"IF($E65=0,\"-\",IF(INDEX([1]RELAÇÃO!$A$1:$AQ$576,MATCH($M65,[1]RELAÇÃO!$AP$1:$AP$576,0),8)=\"2.100.500\",\"-\",INDEX([1]RELAÇÃO!$A$1:$AQ$576,MATCH($M65,[1]RELAÇÃO!$AP$1:$AP$576,0),7)))","v":"-"},"GM43"]
[null,"Assistente Técnico","FCPE 102.1","ASS",{"$f":"INDEX([1]RELAÇÃO!$A$1:$AQ$576,MATCH($M66,[1]RELAÇÃO!$AP$1:$AP$576,0),1)","v":"ABDON TAVARES REIS"},{"$f":"IF(E66=0,\"-\",LEFT(INDEX([1]RELAÇÃO!$A$1:$AQ$576,MATCH($M66,[1]RELAÇÃO!$AP$1:$AP$576,0),32),1))","v":"M"},{"$f":"IF(E66=0,\"-\",INDEX([1]RELAÇÃO!$A$1:$AQ$576,MATCH($M66,[1]RELAÇÃO!$AP$1:$AP$576,0),5))","v":"Exercício Descentralizado"},{"$f":"IF(E66=0,\"-\",INDEX([1]RELAÇÃO!$A$1:$AQ$576,MATCH($M66,[1]RELAÇÃO!$AP$1:$AP$576,0),6))","v":"ME - Ministério da Economia"},{"$f":"IF(E66=0,\"-\",INDEX([1]RELAÇÃO!$A$1:$AQ$576,MATCH($M66,[1]RELAÇÃO!$AP$1:$AP$576,0),12)&INDEX([1]RELAÇÃO!$A$1:$AQ$576,MATCH($M66,[1]RELAÇÃO!$AP$1:$AP$576,0),13)&\", de \"&INDEX([1]RELAÇÃO!$A$1:$AQ$576,MATCH($M66,[1]RELAÇÃO!$AP$1:$AP$576,0),14)&\" - \"&INDEX([1]RELAÇÃO!$A$1:$AQ$576,MATCH($M66,[1]RELAÇÃO!$AP$1:$AP$576,0),16)&\" de \"&INDEX([1]RELAÇÃO!$A$1:$AQ$576,MATCH($M66,[1]RELAÇÃO!$AP$1:$AP$576,0),15))","v":"Portaria nº 332, de 15/08/2018 - DOU de 16/08/2018"},null,null,{"$f":"IF($E66=0,\"-\",IF(INDEX([1]RELAÇÃO!$A$1:$AQ$576,MATCH($M66,[1]RELAÇÃO!$AP$1:$AP$576,0),8)=\"2.100.500\",\"-\",INDEX([1]RELAÇÃO!$A$1:$AQ$576,MATCH($M66,[1]RELAÇÃO!$AP$1:$AP$576,0),7)))","v":"SE / SPOA / CGOF / COORDENAÇÃO DE ADMINISTRAÇÃO FINANCEIRA -COAF"},"GM44"]
[]
["SECRETARIA-EXECUTIVA - SE"]
["UNIDADE","DENOMINAÇÃO CARGO/FUNÇÃO","NE/DAS/FCPE","NÍVEL DA FUNÇÃO","SERVIDOR","SEXO","SITUAÇÃO","ORIGEM","ATO DE NOMEAÇÃO","SUBSTITUTO EVENTUAL","DESIGNAÇÃO","Alteração de local de exercício","ID FUNÇÃO","ID SUBSTITUIÇÃO"]
["SECRETARIA-EXECUTIVA","Secretário-Executivo","NE","GER",{"$f":"INDEX([1]RELAÇÃO!$A$1:$AQ$576,MATCH($M70,[1]RELAÇÃO!$AP$1:$AP$576,0),1)","v":"MARISETE FATIMA DADALD PEREIRA"},{"$f":"IF(E70=0,\"-\",LEFT(INDEX([1]RELAÇÃO!$A$1:$AQ$576,MATCH($M70,[1]RELAÇÃO!$AP$1:$AP$576,0),32),1))","v":"F"},{"$f":"IF(E70=0,\"-\",INDEX([1]RELAÇÃO!$A$1:$AQ$576,MATCH($M70,[1]RELAÇÃO!$AP$1:$AP$576,0),5))","v":"Sem Vínculo"},{"$f":"IF(E70=0,\"-\",INDEX([1]RELAÇÃO!$A$1:$AQ$576,MATCH($M70,[1]RELAÇÃO!$AP$1:$AP$576,0),6))","v":"Sem Vínculo"},{"$f":"IF(E70=0,\"-\",INDEX([1]RELAÇÃO!$A$1:$AQ$576,MATCH($M70,[1]RELAÇÃO!$AP$1:$AP$576,0),12)&INDEX([1]RELAÇÃO!$A$1:$AQ$576,MATCH($M70,[1]RELAÇÃO!$AP$1:$AP$576,0),13)&\", de \"&INDEX([1]RELAÇÃO!$A$1:$AQ$576,MATCH($M70,[1]RELAÇÃO!$AP$1:$AP$576,0),14)&\" - \"&INDEX([1]RELAÇÃO!$A$1:$AQ$576,MATCH($M70,[1]RELAÇÃO!$AP$1:$AP$576,0),16)&\" de \"&INDEX([1]RELAÇÃO!$A$1:$AQ$576,MATCH($M70,[1]RELAÇÃO!$AP$1:$AP$576,0),15))","v":"Decreto nº s/n, de 01/01/2019 - DOU de 02/01/2019"},{"$f":"INDEX([1]RELAÇÃO!$A$1:$AQ$576,MATCH($N70,[1]RELAÇÃO!$AQ$1:$AQ$576,0),1)","v":"BRUNO EUSTÁQUIO FERREIRA CASTRO DE CARVALHO"},{"$f":"IF(J70=0,\"-\",INDEX([1]RELAÇÃO!$A$1:$AQ$576,MATCH($N70,[1]RELAÇÃO!$AQ$1:$AQ$576,0),27)&INDEX([1]RELAÇÃO!$A$1:$AQ$576,MATCH($N70,[1]RELAÇÃO!$AQ$1:$AQ$576,0),28)&\", de \"&INDEX([1]RELAÇÃO!$A$1:$AQ$576,MATCH($N70,[1]RELAÇÃO!$AQ$1:$AQ$576,0),29)&\" - \"&INDEX([1]RELAÇÃO!$A$1:$AQ$576,MATCH($N70,[1]RELAÇÃO!$AQ$1:$AQ$576,0),31)&\" de \"&INDEX([1]RELAÇÃO!$A$1:$AQ$576,MATCH($N70,[1]RELAÇÃO!$AQ$1:$AQ$576,0),30))","v":"Portaria nº 108 - Anexo II, Art. 55,IV do RI da SE, de 14/03/2017 - DOU de 16/03/2017 - Ret. 17/03/2017"},{"$f":"IF($E70=0,\"-\",IF(INDEX([1]RELAÇÃO!$A$1:$AQ$576,MATCH($M70,[1]RELAÇÃO!$AP$1:$AP$576,0),8)=\"8.000.000\",\"-\",INDEX([1]RELAÇÃO!$A$1:$AQ$576,MATCH($M70,[1]RELAÇÃO!$AP$1:$AP$576,0),7)))","v":"-"},"SE01","SE01S"]
[null,"Secretário-Executivo Adjunto","DAS 101.6","GER",{"$f":"INDEX([1]RELAÇÃO!$A$1:$AQ$576,MATCH($M71,[1]RELAÇÃO!$AP$1:$AP$576,0),1)","v":"BRUNO EUSTÁQUIO FERREIRA CASTRO DE CARVALHO"},{"$f":"IF(E71=0,\"-\",LEFT(INDEX([1]RELAÇÃO!$A$1:$AQ$576,MATCH($M71,[1]RELAÇÃO!$AP$1:$AP$576,0),32),1))","v":"M"},{"$f":"IF(E71=0,\"-\",INDEX([1]RELAÇÃO!$A$1:$AQ$576,MATCH($M71,[1]RELAÇÃO!$AP$1:$AP$576,0),5))","v":"Requisitado de Órgãos"},{"$f":"IF(E71=0,\"-\",INDEX([1]RELAÇÃO!$A$1:$AQ$576,MATCH($M71,[1]RELAÇÃO!$AP$1:$AP$576,0),6))","v":"ME - Ministério da Economia"},{"$f":"IF(E71=0,\"-\",INDEX([1]RELAÇÃO!$A$1:$AQ$576,MATCH($M71,[1]RELAÇÃO!$AP$1:$AP$576,0),12)&INDEX([1]RELAÇÃO!$A$1:$AQ$576,MATCH($M71,[1]RELAÇÃO!$AP$1:$AP$576,0),13)&\", de \"&INDEX([1]RELAÇÃO!$A$1:$AQ$576,MATCH($M71,[1]RELAÇÃO!$AP$1:$AP$576,0),14)&\" - \"&INDEX([1]RELAÇÃO!$A$1:$AQ$576,MATCH($M71,[1]RELAÇÃO!$AP$1:$AP$576,0),16)&\" de \"&INDEX([1]RELAÇÃO!$A$1:$AQ$576,MATCH($M71,[1]RELAÇÃO!$AP$1:$AP$576,0),15))","v":"Portaria nº 592, de 16/01/2019 - DOU de 17/01/2019"},{"$f":"INDEX([1]RELAÇÃO!$A$1:$AQ$576,MATCH($N71,[1]RELAÇÃO!$AQ$1:$AQ$576,0),1)","v":0},{"$f":"IF(J71=0,\"-\",INDEX([1]RELAÇÃO!$A$1:$AQ$576,MATCH($N71,[1]RELAÇÃO!$AQ$1:$AQ$576,0),27)&INDEX([1]RELAÇÃO!$A$1:$AQ$576,MATCH($N71,[1]RELAÇÃO!$AQ$1:$AQ$576,0),28)&\", de \"&INDEX([1]RELAÇÃO!$A$1:$AQ$576,MATCH($N71,[1]RELAÇÃO!$AQ$1:$AQ$576,0),29)&\" - \"&INDEX([1]RELAÇÃO!$A$1:$AQ$576,MATCH($N71,[1]RELAÇÃO!$AQ$1:$AQ$576,0),31)&\" de \"&INDEX([1]RELAÇÃO!$A$1:$AQ$576,MATCH($N71,[1]RELAÇÃO!$AQ$1:$AQ$576,0),30))","v":"-"},{"$f":"IF($E71=0,\"-\",IF(INDEX([1]RELAÇÃO!$A$1:$AQ$576,MATCH($M71,[1]RELAÇÃO!$AP$1:$AP$576,0),8)=\"8.000.000\",\"-\",INDEX([1]RELAÇÃO!$A$1:$AQ$576,MATCH($M71,[1]RELAÇÃO!$AP$1:$AP$576,0),7)))","v":"SE / CHEFIA DE GABINETE SE"},"SE02","SE02S"]
[null,"Diretor de Programa","DAS 101.5","GER",{"$f":"INDEX([1]RELAÇÃO!$A$1:$AQ$576,MATCH($M72,[1]RELAÇÃO!$AP$1:$AP$576,0),1)","v":"ANDERSON MARCIO DE OLIVEIRA"},{"$f":"IF(E72=0,\"-\",LEFT(INDEX([1]RELAÇÃO!$A$1:$AQ$576,MATCH($M72,[1]RELAÇÃO!$AP$1:$AP$576,0),32),1))","v":"M"},{"$f":"IF(E72=0,\"-\",INDEX([1]RELAÇÃO!$A$1:$AQ$576,MATCH($M72,[1]RELAÇÃO!$AP$1:$AP$576,0),5))","v":"Requisitado de Empresa"},{"$f":"IF(E72=0,\"-\",INDEX([1]RELAÇÃO!$A$1:$AQ$576,MATCH($M72,[1]RELAÇÃO!$AP$1:$AP$576,0),6))","v":"BNDES - Banco Nacional de Desenvolvimento Econômico e Social"},{"$f":"IF(E72=0,\"-\",INDEX([1]RELAÇÃO!$A$1:$AQ$576,MATCH($M72,[1]RELAÇÃO!$AP$1:$AP$576,0),12)&INDEX([1]RELAÇÃO!$A$1:$AQ$576,MATCH($M72,[1]RELAÇÃO!$AP$1:$AP$576,0),13)&\", de \"&INDEX([1]RELAÇÃO!$A$1:$AQ$576,MATCH($M72,[1]RELAÇÃO!$AP$1:$AP$576,0),14)&\" - \"&INDEX([1]RELAÇÃO!$A$1:$AQ$576,MATCH($M72,[1]RELAÇÃO!$AP$1:$AP$576,0),16)&\" de \"&INDEX([1]RELAÇÃO!$A$1:$AQ$576,MATCH($M72,[1]RELAÇÃO!$AP$1:$AP$576,0),15))","v":"Portaria nº 1931, de 27/06/2019 - DOU de 28/06/2019"},{"$f":"INDEX([1]RELAÇÃO!$A$1:$AQ$576,MATCH($N72,[1]RELAÇÃO!$AQ$1:$AQ$576,0),1)","v":0},{"$f":"IF(J72=0,\"-\",INDEX([1]RELAÇÃO!$A$1:$AQ$576,MATCH($N72,[1]RELAÇÃO!$AQ$1:$AQ$576,0),27)&INDEX([1]RELAÇÃO!$A$1:$AQ$576,MATCH($N72,[1]RELAÇÃO!$AQ$1:$AQ$576,0),28)&\", de \"&INDEX([1]RELAÇÃO!$A$1:$AQ$576,MATCH($N72,[1]RELAÇÃO!$AQ$1:$AQ$576,0),29)&\" - \"&INDEX([1]RELAÇÃO!$A$1:$AQ$576,MATCH($N72,[1]RELAÇÃO!$AQ$1:$AQ$576,0),31)&\" de \"&INDEX([1]RELAÇÃO!$A$1:$AQ$576,MATCH($N72,[1]RELAÇÃO!$AQ$1:$AQ$576,0),30))","v":"-"},{"$f":"IF($E72=0,\"-\",IF(INDEX([1]RELAÇÃO!$A$1:$AQ$576,MATCH($M72,[1]RELAÇÃO!$AP$1:$AP$576,0),8)=\"8.000.000\",\"-\",INDEX([1]RELAÇÃO!$A$1:$AQ$576,MATCH($M72,[1]RELAÇÃO!$AP$1:$AP$576,0),7)))","v":"SE / CHEFIA DE GABINETE SE"},"SE03","SE03S"]
[null,"Diretor de Programa","DAS 101.5","GER",{"$f":"INDEX([1]RELAÇÃO!$A$1:$AQ$576,MATCH($M73,[1]RELAÇÃO!$AP$1:$AP$576,0),1)","v":"CAMILLA DE ANDRADE GONÇALVES FERNANDES"},{"$f":"IF(E73=0,\"-\",LEFT(INDEX([1]RELAÇÃO!$A$1:$AQ$576,MATCH($M73,[1]RELAÇÃO!$AP$1:$AP$576,0),32),1))","v":"F"},{"$f":"IF(E73=0,\"-\",INDEX([1]RELAÇÃO!$A$1:$AQ$576,MATCH($M73,[1]RELAÇÃO!$AP$1:$AP$576,0),5))","v":"Requisitado de Órgãos"},{"$f":"IF(E73=0,\"-\",INDEX([1]RELAÇÃO!$A$1:$AQ$576,MATCH($M73,[1]RELAÇÃO!$AP$1:$AP$576,0),6))","v":"ANEEL - Agência Nacional de Energia Elétrica"},{"$f":"IF(E73=0,\"-\",INDEX([1]RELAÇÃO!$A$1:$AQ$576,MATCH($M73,[1]RELAÇÃO!$AP$1:$AP$576,0),12)&INDEX([1]RELAÇÃO!$A$1:$AQ$576,MATCH($M73,[1]RELAÇÃO!$AP$1:$AP$576,0),13)&\", de \"&INDEX([1]RELAÇÃO!$A$1:$AQ$576,MATCH($M73,[1]RELAÇÃO!$AP$1:$AP$576,0),14)&\" - \"&INDEX([1]RELAÇÃO!$A$1:$AQ$576,MATCH($M73,[1]RELAÇÃO!$AP$1:$AP$576,0),16)&\" de \"&INDEX([1]RELAÇÃO!$A$1:$AQ$576,MATCH($M73,[1]RELAÇÃO!$AP$1:$AP$576,0),15))","v":"Portaria nº 301, de 31/07/2020 - DOU de 04/08/2020"},{"$f":"INDEX([1]RELAÇÃO!$A$1:$AQ$576,MATCH($N73,[1]RELAÇÃO!$AQ$1:$AQ$576,0),1)","v":0},{"$f":"IF(J73=0,\"-\",INDEX([1]RELAÇÃO!$A$1:$AQ$576,MATCH($N73,[1]RELAÇÃO!$AQ$1:$AQ$576,0),27)&INDEX([1]RELAÇÃO!$A$1:$AQ$576,MATCH($N73,[1]RELAÇÃO!$AQ$1:$AQ$576,0),28)&\", de \"&INDEX([1]RELAÇÃO!$A$1:$AQ$576,MATCH($N73,[1]RELAÇÃO!$AQ$1:$AQ$576,0),29)&\" - \"&INDEX([1]RELAÇÃO!$A$1:$AQ$576,MATCH($N73,[1]RELAÇÃO!$AQ$1:$AQ$576,0),31)&\" de \"&INDEX([1]RELAÇÃO!$A$1:$AQ$576,MATCH($N73,[1]RELAÇÃO!$AQ$1:$AQ$576,0),30))","v":"-"},{"$f":"IF($E73=0,\"-\",IF(INDEX([1]RELAÇÃO!$A$1:$AQ$576,MATCH($M73,[1]RELAÇÃO!$AP$1:$AP$576,0),8)=\"8.000.000\",\"-\",INDEX([1]RELAÇÃO!$A$1:$AQ$576,MATCH($M73,[1]RELAÇÃO!$AP$1:$AP$576,0),7)))","v":"SE / CHEFIA DE GABINETE SE"},"SE04","SE04S"]
[null,"Assessor","DAS 102.4","ASS",{"$f":"INDEX([1]RELAÇÃO!$A$1:$AQ$576,MATCH($M74,[1]RELAÇÃO!$AP$1:$AP$576,0),1)","v":"JEFFERSON DE SOUZA OLIVEIRA"},{"$f":"IF(E74=0,\"-\",LEFT(INDEX([1]RELAÇÃO!$A$1:$AQ$576,MATCH($M74,[1]RELAÇÃO!$AP$1:$AP$576,0),32),1))","v":"M"},{"$f":"IF(E74=0,\"-\",INDEX([1]RELAÇÃO!$A$1:$AQ$576,MATCH($M74,[1]RELAÇÃO!$AP$1:$AP$576,0),5))","v":"Sem Vínculo"},{"$f":"IF(E74=0,\"-\",INDEX([1]RELAÇÃO!$A$1:$AQ$576,MATCH($M74,[1]RELAÇÃO!$AP$1:$AP$576,0),6))","v":"Sem Vínculo"},{"$f":"IF(E74=0,\"-\",INDEX([1]RELAÇÃO!$A$1:$AQ$576,MATCH($M74,[1]RELAÇÃO!$AP$1:$AP$576,0),12)&INDEX([1]RELAÇÃO!$A$1:$AQ$576,MATCH($M74,[1]RELAÇÃO!$AP$1:$AP$576,0),13)&\", de \"&INDEX([1]RELAÇÃO!$A$1:$AQ$576,MATCH($M74,[1]RELAÇÃO!$AP$1:$AP$576,0),14)&\" - \"&INDEX([1]RELAÇÃO!$A$1:$AQ$576,MATCH($M74,[1]RELAÇÃO!$AP$1:$AP$576,0),16)&\" de \"&INDEX([1]RELAÇÃO!$A$1:$AQ$576,MATCH($M74,[1]RELAÇÃO!$AP$1:$AP$576,0),15))","v":"Portaria nº 147, de 27/02/2019 - DOU de 01/03/2019"},null,null,{"$f":"IF($E74=0,\"-\",IF(INDEX([1]RELAÇÃO!$A$1:$AQ$576,MATCH($M74,[1]RELAÇÃO!$AP$1:$AP$576,0),8)=\"8.000.000\",\"-\",INDEX([1]RELAÇÃO!$A$1:$AQ$576,MATCH($M74,[1]RELAÇÃO!$AP$1:$AP$576,0),7)))","v":"ASSESSORIA ESPECIAL DE ACOMPANHAMENTO DE POLÍTICAS, ESTRATÉGIAS E DESEMPENHO SETORIAL - AEPED"},"SE05"]
[null,"Assessor","DAS 102.4","ASS",{"$f":"INDEX([1]RELAÇÃO!$A$1:$AQ$576,MATCH($M75,[1]RELAÇÃO!$AP$1:$AP$576,0),1)","v":"WIDISMAR MARTINS DA SILVA"},{"$f":"IF(E75=0,\"-\",LEFT(INDEX([1]RELAÇÃO!$A$1:$AQ$576,MATCH($M75,[1]RELAÇÃO!$AP$1:$AP$576,0),32),1))","v":"M"},{"$f":"IF(E75=0,\"-\",INDEX([1]RELAÇÃO!$A$1:$AQ$576,MATCH($M75,[1]RELAÇÃO!$AP$1:$AP$576,0),5))","v":"Sem Vínculo"},{"$f":"IF(E75=0,\"-\",INDEX([1]RELAÇÃO!$A$1:$AQ$576,MATCH($M75,[1]RELAÇÃO!$AP$1:$AP$576,0),6))","v":"Sem Vínculo"},{"$f":"IF(E75=0,\"-\",INDEX([1]RELAÇÃO!$A$1:$AQ$576,MATCH($M75,[1]RELAÇÃO!$AP$1:$AP$576,0),12)&INDEX([1]RELAÇÃO!$A$1:$AQ$576,MATCH($M75,[1]RELAÇÃO!$AP$1:$AP$576,0),13)&\", de \"&INDEX([1]RELAÇÃO!$A$1:$AQ$576,MATCH($M75,[1]RELAÇÃO!$AP$1:$AP$576,0),14)&\" - \"&INDEX([1]RELAÇÃO!$A$1:$AQ$576,MATCH($M75,[1]RELAÇÃO!$AP$1:$AP$576,0),16)&\" de \"&INDEX([1]RELAÇÃO!$A$1:$AQ$576,MATCH($M75,[1]RELAÇÃO!$AP$1:$AP$576,0),15))","v":"Portaria nº 524, de 03/11/2016 - DOU de 04/11/2016"},null,null,{"$f":"IF($E75=0,\"-\",IF(INDEX([1]RELAÇÃO!$A$1:$AQ$576,MATCH($M75,[1]RELAÇÃO!$AP$1:$AP$576,0),8)=\"8.000.000\",\"-\",INDEX([1]RELAÇÃO!$A$1:$AQ$576,MATCH($M75,[1]RELAÇÃO!$AP$1:$AP$576,0),7)))","v":"SE / CHEFIA DE GABINETE SE"},"SE06"]
[null,"Assessor","DAS 102.4","ASS",{"$f":"INDEX([1]RELAÇÃO!$A$1:$AQ$576,MATCH($M76,[1]RELAÇÃO!$AP$1:$AP$576,0),1)","v":"RICARDO TAKEMITSU SIMABUKU"},{"$f":"IF(E76=0,\"-\",LEFT(INDEX([1]RELAÇÃO!$A$1:$AQ$576,MATCH($M76,[1]RELAÇÃO!$AP$1:$AP$576,0),32),1))","v":"M"},{"$f":"IF(E76=0,\"-\",INDEX([1]RELAÇÃO!$A$1:$AQ$576,MATCH($M76,[1]RELAÇÃO!$AP$1:$AP$576,0),5))","v":"Requisitado de Órgãos"},{"$f":"IF(E76=0,\"-\",INDEX([1]RELAÇÃO!$A$1:$AQ$576,MATCH($M76,[1]RELAÇÃO!$AP$1:$AP$576,0),6))","v":"ME - Ministério da Economia"},{"$f":"IF(E76=0,\"-\",INDEX([1]RELAÇÃO!$A$1:$AQ$576,MATCH($M76,[1]RELAÇÃO!$AP$1:$AP$576,0),12)&INDEX([1]RELAÇÃO!$A$1:$AQ$576,MATCH($M76,[1]RELAÇÃO!$AP$1:$AP$576,0),13)&\", de \"&INDEX([1]RELAÇÃO!$A$1:$AQ$576,MATCH($M76,[1]RELAÇÃO!$AP$1:$AP$576,0),14)&\" - \"&INDEX([1]RELAÇÃO!$A$1:$AQ$576,MATCH($M76,[1]RELAÇÃO!$AP$1:$AP$576,0),16)&\" de \"&INDEX([1]RELAÇÃO!$A$1:$AQ$576,MATCH($M76,[1]RELAÇÃO!$AP$1:$AP$576,0),15))","v":"Portaria nº 275, de 03/07/2019 - DOU de 05/07/2019"},null,null,{"$f":"IF($E76=0,\"-\",IF(INDEX([1]RELAÇÃO!$A$1:$AQ$576,MATCH($M76,[1]RELAÇÃO!$AP$1:$AP$576,0),8)=\"8.000.000\",\"-\",INDEX([1]RELAÇÃO!$A$1:$AQ$576,MATCH($M76,[1]RELAÇÃO!$AP$1:$AP$576,0),7)))","v":"SE / CHEFIA DE GABINETE SE"},"SE07"]
[null,"Assessor","DAS 102.4","ASS",{"$f":"INDEX([1]RELAÇÃO!$A$1:$AQ$576,MATCH($M77,[1]RELAÇÃO!$AP$1:$AP$576,0),1)","v":"ALEXANDRE LAURI HENRIKSEN"},{"$f":"IF(E77=0,\"-\",LEFT(INDEX([1]RELAÇÃO!$A$1:$AQ$576,MATCH($M77,[1]RELAÇÃO!$AP$1:$AP$576,0),32),1))","v":"M"},{"$f":"IF(E77=0,\"-\",INDEX([1]RELAÇÃO!$A$1:$AQ$576,MATCH($M77,[1]RELAÇÃO!$AP$1:$AP$576,0),5))","v":"Requisitado de Órgãos"},{"$f":"IF(E77=0,\"-\",INDEX([1]RELAÇÃO!$A$1:$AQ$576,MATCH($M77,[1]RELAÇÃO!$AP$1:$AP$576,0),6))","v":"ME - Ministério da Economia"},{"$f":"IF(E77=0,\"-\",INDEX([1]RELAÇÃO!$A$1:$AQ$576,MATCH($M77,[1]RELAÇÃO!$AP$1:$AP$576,0),12)&INDEX([1]RELAÇÃO!$A$1:$AQ$576,MATCH($M77,[1]RELAÇÃO!$AP$1:$AP$576,0),13)&\", de \"&INDEX([1]RELAÇÃO!$A$1:$AQ$576,MATCH($M77,[1]RELAÇÃO!$AP$1:$AP$576,0),14)&\" - \"&INDEX([1]RELAÇÃO!$A$1:$AQ$576,MATCH($M77,[1]RELAÇÃO!$AP$1:$AP$576,0),16)&\" de \"&INDEX([1]RELAÇÃO!$A$1:$AQ$576,MATCH($M77,[1]RELAÇÃO!$AP$1:$AP$576,0),15))","v":"Portaria nº 321, de 26/08/2020 - DOU de 28/08/2020"},null,null,{"$f":"IF($E77=0,\"-\",IF(INDEX([1]RELAÇÃO!$A$1:$AQ$576,MATCH($M77,[1]RELAÇÃO!$AP$1:$AP$576,0),8)=\"8.000.000\",\"-\",INDEX([1]RELAÇÃO!$A$1:$AQ$576,MATCH($M77,[1]RELAÇÃO!$AP$1:$AP$576,0),7)))","v":"ASSESSORIA ESPECIAL DE ASSUNTOS ECONÔMICOS - ASSEC"},"SE08"]
[null,"Assessor Técnico","DAS 102.3","ASS",{"$f":"INDEX([1]RELAÇÃO!$A$1:$AQ$576,MATCH($M78,[1]RELAÇÃO!$AP$1:$AP$576,0),1)","v":"WALDIR ANTONIO GERVASIO"},{"$f":"IF(E78=0,\"-\",LEFT(INDEX([1]RELAÇÃO!$A$1:$AQ$576,MATCH($M78,[1]RELAÇÃO!$AP$1:$AP$576,0),32),1))","v":"M"},{"$f":"IF(E78=0,\"-\",INDEX([1]RELAÇÃO!$A$1:$AQ$576,MATCH($M78,[1]RELAÇÃO!$AP$1:$AP$576,0),5))","v":"Ativo Permanente"},{"$f":"IF(E78=0,\"-\",INDEX([1]RELAÇÃO!$A$1:$AQ$576,MATCH($M78,[1]RELAÇÃO!$AP$1:$AP$576,0),6))","v":"MME - Ministério de Minas e Energia"},{"$f":"IF(E78=0,\"-\",INDEX([1]RELAÇÃO!$A$1:$AQ$576,MATCH($M78,[1]RELAÇÃO!$AP$1:$AP$576,0),12)&INDEX([1]RELAÇÃO!$A$1:$AQ$576,MATCH($M78,[1]RELAÇÃO!$AP$1:$AP$576,0),13)&\", de \"&INDEX([1]RELAÇÃO!$A$1:$AQ$576,MATCH($M78,[1]RELAÇÃO!$AP$1:$AP$576,0),14)&\" - \"&INDEX([1]RELAÇÃO!$A$1:$AQ$576,MATCH($M78,[1]RELAÇÃO!$AP$1:$AP$576,0),16)&\" de \"&INDEX([1]RELAÇÃO!$A$1:$AQ$576,MATCH($M78,[1]RELAÇÃO!$AP$1:$AP$576,0),15))","v":"Portaria nº 390, de 15/10/2019 - DOU de 23/10/2019"},null,null,{"$f":"IF($E78=0,\"-\",IF(INDEX([1]RELAÇÃO!$A$1:$AQ$576,MATCH($M78,[1]RELAÇÃO!$AP$1:$AP$576,0),8)=\"8.000.000\",\"-\",INDEX([1]RELAÇÃO!$A$1:$AQ$576,MATCH($M78,[1]RELAÇÃO!$AP$1:$AP$576,0),7)))","v":"GM / ASTAD / COORDENAÇÃO DE ATIVIDADES ADMINISTRATIVAS"},"SE09"]
[null,"Assessor Técnico","DAS 102.3","ASS",{"$f":"INDEX([1]RELAÇÃO!$A$1:$AQ$576,MATCH($M79,[1]RELAÇÃO!$AP$1:$AP$576,0),1)","v":"GLAUCIA MARIA DE MEIRELES"},{"$f":"IF(E79=0,\"-\",LEFT(INDEX([1]RELAÇÃO!$A$1:$AQ$576,MATCH($M79,[1]RELAÇÃO!$AP$1:$AP$576,0),32),1))","v":"F"},{"$f":"IF(E79=0,\"-\",INDEX([1]RELAÇÃO!$A$1:$AQ$576,MATCH($M79,[1]RELAÇÃO!$AP$1:$AP$576,0),5))","v":"Sem Vínculo"},{"$f":"IF(E79=0,\"-\",INDEX([1]RELAÇÃO!$A$1:$AQ$576,MATCH($M79,[1]RELAÇÃO!$AP$1:$AP$576,0),6))","v":"Sem Vínculo"},{"$f":"IF(E79=0,\"-\",INDEX([1]RELAÇÃO!$A$1:$AQ$576,MATCH($M79,[1]RELAÇÃO!$AP$1:$AP$576,0),12)&INDEX([1]RELAÇÃO!$A$1:$AQ$576,MATCH($M79,[1]RELAÇÃO!$AP$1:$AP$576,0),13)&\", de \"&INDEX([1]RELAÇÃO!$A$1:$AQ$576,MATCH($M79,[1]RELAÇÃO!$AP$1:$AP$576,0),14)&\" - \"&INDEX([1]RELAÇÃO!$A$1:$AQ$576,MATCH($M79,[1]RELAÇÃO!$AP$1:$AP$576,0),16)&\" de \"&INDEX([1]RELAÇÃO!$A$1:$AQ$576,MATCH($M79,[1]RELAÇÃO!$AP$1:$AP$576,0),15))","v":"Portaria nº 35, de 17/01/2019 - DOU de 21/01/2019"},null,null,{"$f":"IF($E79=0,\"-\",IF(INDEX([1]RELAÇÃO!$A$1:$AQ$576,MATCH($M79,[1]RELAÇÃO!$AP$1:$AP$576,0),8)=\"8.000.000\",\"-\",INDEX([1]RELAÇÃO!$A$1:$AQ$576,MATCH($M79,[1]RELAÇÃO!$AP$1:$AP$576,0),7)))","v":"SE / CHEFIA DE GABINETE SE"},"SE10"]
[null,"Assessor Técnico","DAS 102.3","ASS",{"$f":"INDEX([1]RELAÇÃO!$A$1:$AQ$576,MATCH($M80,[1]RELAÇÃO!$AP$1:$AP$576,0),1)","v":"MARIZA FREIRE DE SOUZA"},{"$f":"IF(E80=0,\"-\",LEFT(INDEX([1]RELAÇÃO!$A$1:$AQ$576,MATCH($M80,[1]RELAÇÃO!$AP$1:$AP$576,0),32),1))","v":"F"},{"$f":"IF(E80=0,\"-\",INDEX([1]RELAÇÃO!$A$1:$AQ$576,MATCH($M80,[1]RELAÇÃO!$AP$1:$AP$576,0),5))","v":"Sem Vínculo"},{"$f":"IF(E80=0,\"-\",INDEX([1]RELAÇÃO!$A$1:$AQ$576,MATCH($M80,[1]RELAÇÃO!$AP$1:$AP$576,0),6))","v":"Sem Vínculo"},{"$f":"IF(E80=0,\"-\",INDEX([1]RELAÇÃO!$A$1:$AQ$576,MATCH($M80,[1]RELAÇÃO!$AP$1:$AP$576,0),12)&INDEX([1]RELAÇÃO!$A$1:$AQ$576,MATCH($M80,[1]RELAÇÃO!$AP$1:$AP$576,0),13)&\", de \"&INDEX([1]RELAÇÃO!$A$1:$AQ$576,MATCH($M80,[1]RELAÇÃO!$AP$1:$AP$576,0),14)&\" - \"&INDEX([1]RELAÇÃO!$A$1:$AQ$576,MATCH($M80,[1]RELAÇÃO!$AP$1:$AP$576,0),16)&\" de \"&INDEX([1]RELAÇÃO!$A$1:$AQ$576,MATCH($M80,[1]RELAÇÃO!$AP$1:$AP$576,0),15))","v":"Portaria nº 138, de 18/02/2019 - DOU de 22/02/2019"},null,null,{"$f":"IF($E80=0,\"-\",IF(INDEX([1]RELAÇÃO!$A$1:$AQ$576,MATCH($M80,[1]RELAÇÃO!$AP$1:$AP$576,0),8)=\"8.000.000\",\"-\",INDEX([1]RELAÇÃO!$A$1:$AQ$576,MATCH($M80,[1]RELAÇÃO!$AP$1:$AP$576,0),7)))","v":"SPE / DEPARTAMENTO DE DESENVOLVIMENTO ENERGÉTICO - DDE"},"SE11"]
[null,"Assessor Técnico","DAS 102.3","ASS",{"$f":"INDEX([1]RELAÇÃO!$A$1:$AQ$576,MATCH($M81,[1]RELAÇÃO!$AP$1:$AP$576,0),1)","v":"REJANE INNECCO DA COSTA"},{"$f":"IF(E81=0,\"-\",LEFT(INDEX([1]RELAÇÃO!$A$1:$AQ$576,MATCH($M81,[1]RELAÇÃO!$AP$1:$AP$576,0),32),1))","v":"F"},{"$f":"IF(E81=0,\"-\",INDEX([1]RELAÇÃO!$A$1:$AQ$576,MATCH($M81,[1]RELAÇÃO!$AP$1:$AP$576,0),5))","v":"Sem Vínculo"},{"$f":"IF(E81=0,\"-\",INDEX([1]RELAÇÃO!$A$1:$AQ$576,MATCH($M81,[1]RELAÇÃO!$AP$1:$AP$576,0),6))","v":"Sem Vínculo"},{"$f":"IF(E81=0,\"-\",INDEX([1]RELAÇÃO!$A$1:$AQ$576,MATCH($M81,[1]RELAÇÃO!$AP$1:$AP$576,0),12)&INDEX([1]RELAÇÃO!$A$1:$AQ$576,MATCH($M81,[1]RELAÇÃO!$AP$1:$AP$576,0),13)&\", de \"&INDEX([1]RELAÇÃO!$A$1:$AQ$576,MATCH($M81,[1]RELAÇÃO!$AP$1:$AP$576,0),14)&\" - \"&INDEX([1]RELAÇÃO!$A$1:$AQ$576,MATCH($M81,[1]RELAÇÃO!$AP$1:$AP$576,0),16)&\" de \"&INDEX([1]RELAÇÃO!$A$1:$AQ$576,MATCH($M81,[1]RELAÇÃO!$AP$1:$AP$576,0),15))","v":"Portaria nº 146, de 27/02/2019 - DOU de 01/03/2019"},null,null,{"$f":"IF($E81=0,\"-\",IF(INDEX([1]RELAÇÃO!$A$1:$AQ$576,MATCH($M81,[1]RELAÇÃO!$AP$1:$AP$576,0),8)=\"8.000.000\",\"-\",INDEX([1]RELAÇÃO!$A$1:$AQ$576,MATCH($M81,[1]RELAÇÃO!$AP$1:$AP$576,0),7)))","v":"ASSESSORIA ESPECIAL DE CONTROLE INTERNO - AECI"},"SE12"]
["GABINETE DA SECRETARIA EXECUTIVA","Chefe de Gabinete","DAS 101.4","GER",{"$f":"INDEX([1]RELAÇÃO!$A$1:$AQ$576,MATCH($M82,[1]RELAÇÃO!$AP$1:$AP$576,0),1)","v":"JULIETTE QUEIROZ MONSA"},{"$f":"IF(E82=0,\"-\",LEFT(INDEX([1]RELAÇÃO!$A$1:$AQ$576,MATCH($M82,[1]RELAÇÃO!$AP$1:$AP$576,0),32),1))","v":"F"},{"$f":"IF(E82=0,\"-\",INDEX([1]RELAÇÃO!$A$1:$AQ$576,MATCH($M82,[1]RELAÇÃO!$AP$1:$AP$576,0),5))","v":"Sem Vínculo"},{"$f":"IF(E82=0,\"-\",INDEX([1]RELAÇÃO!$A$1:$AQ$576,MATCH($M82,[1]RELAÇÃO!$AP$1:$AP$576,0),6))","v":"Sem Vínculo"},{"$f":"IF(E82=0,\"-\",INDEX([1]RELAÇÃO!$A$1:$AQ$576,MATCH($M82,[1]RELAÇÃO!$AP$1:$AP$576,0),12)&INDEX([1]RELAÇÃO!$A$1:$AQ$576,MATCH($M82,[1]RELAÇÃO!$AP$1:$AP$576,0),13)&\", de \"&INDEX([1]RELAÇÃO!$A$1:$AQ$576,MATCH($M82,[1]RELAÇÃO!$AP$1:$AP$576,0),14)&\" - \"&INDEX([1]RELAÇÃO!$A$1:$AQ$576,MATCH($M82,[1]RELAÇÃO!$AP$1:$AP$576,0),16)&\" de \"&INDEX([1]RELAÇÃO!$A$1:$AQ$576,MATCH($M82,[1]RELAÇÃO!$AP$1:$AP$576,0),15))","v":"Portaria nº 524, de 03/11/2016 - BPE de 04/11/2016"},{"$f":"INDEX([1]RELAÇÃO!$A$1:$AQ$576,MATCH($N82,[1]RELAÇÃO!$AQ$1:$AQ$576,0),1)","v":0},{"$f":"IF(J82=0,\"-\",INDEX([1]RELAÇÃO!$A$1:$AQ$576,MATCH($N82,[1]RELAÇÃO!$AQ$1:$AQ$576,0),27)&INDEX([1]RELAÇÃO!$A$1:$AQ$576,MATCH($N82,[1]RELAÇÃO!$AQ$1:$AQ$576,0),28)&\", de \"&INDEX([1]RELAÇÃO!$A$1:$AQ$576,MATCH($N82,[1]RELAÇÃO!$AQ$1:$AQ$576,0),29)&\" - \"&INDEX([1]RELAÇÃO!$A$1:$AQ$576,MATCH($N82,[1]RELAÇÃO!$AQ$1:$AQ$576,0),31)&\" de \"&INDEX([1]RELAÇÃO!$A$1:$AQ$576,MATCH($N82,[1]RELAÇÃO!$AQ$1:$AQ$576,0),30))","v":"-"},{"$f":"IF($E82=0,\"-\",IF(INDEX([1]RELAÇÃO!$A$1:$AQ$576,MATCH($M82,[1]RELAÇÃO!$AP$1:$AP$576,0),8)=\"8.100.000\",\"-\",INDEX([1]RELAÇÃO!$A$1:$AQ$576,MATCH($M82,[1]RELAÇÃO!$AP$1:$AP$576,0),7)))","v":"-"},"SE13","SE05S"]
[null,"Assistente","DAS 102.2","ASS",{"$f":"INDEX([1]RELAÇÃO!$A$1:$AQ$576,MATCH($M83,[1]RELAÇÃO!$AP$1:$AP$576,0),1)","v":"ALYNE SOUSA CARVALHO LIBERAL FERREIRA"},{"$f":"IF(E83=0,\"-\",LEFT(INDEX([1]RELAÇÃO!$A$1:$AQ$576,MATCH($M83,[1]RELAÇÃO!$AP$1:$AP$576,0),32),1))","v":"F"},{"$f":"IF(E83=0,\"-\",INDEX([1]RELAÇÃO!$A$1:$AQ$576,MATCH($M83,[1]RELAÇÃO!$AP$1:$AP$576,0),5))","v":"Sem Vínculo"},{"$f":"IF(E83=0,\"-\",INDEX([1]RELAÇÃO!$A$1:$AQ$576,MATCH($M83,[1]RELAÇÃO!$AP$1:$AP$576,0),6))","v":"Sem Vínculo"},{"$f":"IF(E83=0,\"-\",INDEX([1]RELAÇÃO!$A$1:$AQ$576,MATCH($M83,[1]RELAÇÃO!$AP$1:$AP$576,0),12)&INDEX([1]RELAÇÃO!$A$1:$AQ$576,MATCH($M83,[1]RELAÇÃO!$AP$1:$AP$576,0),13)&\", de \"&INDEX([1]RELAÇÃO!$A$1:$AQ$576,MATCH($M83,[1]RELAÇÃO!$AP$1:$AP$576,0),14)&\" - \"&INDEX([1]RELAÇÃO!$A$1:$AQ$576,MATCH($M83,[1]RELAÇÃO!$AP$1:$AP$576,0),16)&\" de \"&INDEX([1]RELAÇÃO!$A$1:$AQ$576,MATCH($M83,[1]RELAÇÃO!$AP$1:$AP$576,0),15))","v":"Portaria nº 161, de 11/03/2019 - DOU de 14/03/2019"},null,null,{"$f":"IF($E83=0,\"-\",IF(INDEX([1]RELAÇÃO!$A$1:$AQ$576,MATCH($M83,[1]RELAÇÃO!$AP$1:$AP$576,0),8)=\"8.100.000\",\"-\",INDEX([1]RELAÇÃO!$A$1:$AQ$576,MATCH($M83,[1]RELAÇÃO!$AP$1:$AP$576,0),7)))","v":"-"},"SE14"]
[null,"Assistente","DAS 102.2","ASS",{"$f":"INDEX([1]RELAÇÃO!$A$1:$AQ$576,MATCH($M84,[1]RELAÇÃO!$AP$1:$AP$576,0),1)","v":"ROZANA SANTOS PEREIRA CAIXETA"},{"$f":"IF(E84=0,\"-\",LEFT(INDEX([1]RELAÇÃO!$A$1:$AQ$576,MATCH($M84,[1]RELAÇÃO!$AP$1:$AP$576,0),32),1))","v":"F"},{"$f":"IF(E84=0,\"-\",INDEX([1]RELAÇÃO!$A$1:$AQ$576,MATCH($M84,[1]RELAÇÃO!$AP$1:$AP$576,0),5))","v":"Sem Vínculo"},{"$f":"IF(E84=0,\"-\",INDEX([1]RELAÇÃO!$A$1:$AQ$576,MATCH($M84,[1]RELAÇÃO!$AP$1:$AP$576,0),6))","v":"Sem Vínculo"},{"$f":"IF(E84=0,\"-\",INDEX([1]RELAÇÃO!$A$1:$AQ$576,MATCH($M84,[1]RELAÇÃO!$AP$1:$AP$576,0),12)&INDEX([1]RELAÇÃO!$A$1:$AQ$576,MATCH($M84,[1]RELAÇÃO!$AP$1:$AP$576,0),13)&\", de \"&INDEX([1]RELAÇÃO!$A$1:$AQ$576,MATCH($M84,[1]RELAÇÃO!$AP$1:$AP$576,0),14)&\" - \"&INDEX([1]RELAÇÃO!$A$1:$AQ$576,MATCH($M84,[1]RELAÇÃO!$AP$1:$AP$576,0),16)&\" de \"&INDEX([1]RELAÇÃO!$A$1:$AQ$576,MATCH($M84,[1]RELAÇÃO!$AP$1:$AP$576,0),15))","v":"Portaria nº 524, de 03/11/2016 - BPE de 04/11/2016"},null,null,{"$f":"IF($E84=0,\"-\",IF(INDEX([1]RELAÇÃO!$A$1:$AQ$576,MATCH($M84,[1]RELAÇÃO!$AP$1:$AP$576,0),8)=\"8.100.000\",\"-\",INDEX([1]RELAÇÃO!$A$1:$AQ$576,MATCH($M84,[1]RELAÇÃO!$AP$1:$AP$576,0),7)))","v":"SPG / CHEFIA DE GABINETE SPG"},"SE15"]
[null,"Assistente","DAS 102.2","ASS",{"$f":"INDEX([1]RELAÇÃO!$A$1:$AQ$576,MATCH($M85,[1]RELAÇÃO!$AP$1:$AP$576,0),1)","v":"CLAREN MARCIA DE AZEVEDO"},{"$f":"IF(E85=0,\"-\",LEFT(INDEX([1]RELAÇÃO!$A$1:$AQ$576,MATCH($M85,[1]RELAÇÃO!$AP$1:$AP$576,0),32),1))","v":"F"},{"$f":"IF(E85=0,\"-\",INDEX([1]RELAÇÃO!$A$1:$AQ$576,MATCH($M85,[1]RELAÇÃO!$AP$1:$AP$576,0),5))","v":"Sem Vínculo"},{"$f":"IF(E85=0,\"-\",INDEX([1]RELAÇÃO!$A$1:$AQ$576,MATCH($M85,[1]RELAÇÃO!$AP$1:$AP$576,0),6))","v":"Sem Vínculo"},{"$f":"IF(E85=0,\"-\",INDEX([1]RELAÇÃO!$A$1:$AQ$576,MATCH($M85,[1]RELAÇÃO!$AP$1:$AP$576,0),12)&INDEX([1]RELAÇÃO!$A$1:$AQ$576,MATCH($M85,[1]RELAÇÃO!$AP$1:$AP$576,0),13)&\", de \"&INDEX([1]RELAÇÃO!$A$1:$AQ$576,MATCH($M85,[1]RELAÇÃO!$AP$1:$AP$576,0),14)&\" - \"&INDEX([1]RELAÇÃO!$A$1:$AQ$576,MATCH($M85,[1]RELAÇÃO!$AP$1:$AP$576,0),16)&\" de \"&INDEX([1]RELAÇÃO!$A$1:$AQ$576,MATCH($M85,[1]RELAÇÃO!$AP$1:$AP$576,0),15))","v":"Portaria nº 524, de 03/11/2016 - BPE de 04/11/2016"},null,null,{"$f":"IF($E85=0,\"-\",IF(INDEX([1]RELAÇÃO!$A$1:$AQ$576,MATCH($M85,[1]RELAÇÃO!$AP$1:$AP$576,0),8)=\"8.100.000\",\"-\",INDEX([1]RELAÇÃO!$A$1:$AQ$576,MATCH($M85,[1]RELAÇÃO!$AP$1:$AP$576,0),7)))","v":"-"},"SE16"]
[null,"Assistente Técnico","FCPE 102.1","ASS",{"$f":"INDEX([1]RELAÇÃO!$A$1:$AQ$576,MATCH($M86,[1]RELAÇÃO!$AP$1:$AP$576,0),1)","v":"JOELMA MENDES DE MELLO"},{"$f":"IF(E86=0,\"-\",LEFT(INDEX([1]RELAÇÃO!$A$1:$AQ$576,MATCH($M86,[1]RELAÇÃO!$AP$1:$AP$576,0),32),1))","v":"F"},{"$f":"IF(E86=0,\"-\",INDEX([1]RELAÇÃO!$A$1:$AQ$576,MATCH($M86,[1]RELAÇÃO!$AP$1:$AP$576,0),5))","v":"Ativo Permanente"},{"$f":"IF(E86=0,\"-\",INDEX([1]RELAÇÃO!$A$1:$AQ$576,MATCH($M86,[1]RELAÇÃO!$AP$1:$AP$576,0),6))","v":"MME - Ministério de Minas e Energia"},{"$f":"IF(E86=0,\"-\",INDEX([1]RELAÇÃO!$A$1:$AQ$576,MATCH($M86,[1]RELAÇÃO!$AP$1:$AP$576,0),12)&INDEX([1]RELAÇÃO!$A$1:$AQ$576,MATCH($M86,[1]RELAÇÃO!$AP$1:$AP$576,0),13)&\", de \"&INDEX([1]RELAÇÃO!$A$1:$AQ$576,MATCH($M86,[1]RELAÇÃO!$AP$1:$AP$576,0),14)&\" - \"&INDEX([1]RELAÇÃO!$A$1:$AQ$576,MATCH($M86,[1]RELAÇÃO!$AP$1:$AP$576,0),16)&\" de \"&INDEX([1]RELAÇÃO!$A$1:$AQ$576,MATCH($M86,[1]RELAÇÃO!$AP$1:$AP$576,0),15))","v":"Portaria nº 202, de 15/04/2019 - DOU de 16/04/2019"},null,null,{"$f":"IF($E86=0,\"-\",IF(INDEX([1]RELAÇÃO!$A$1:$AQ$576,MATCH($M86,[1]RELAÇÃO!$AP$1:$AP$576,0),8)=\"8.100.000\",\"-\",INDEX([1]RELAÇÃO!$A$1:$AQ$576,MATCH($M86,[1]RELAÇÃO!$AP$1:$AP$576,0),7)))","v":"SE / SPOA / CGCC / COORDENAÇÃO DE ADMINISTRAÇÃO DE CONTRATOS - CAC"},"SE17"]
[null,"Assistente Técnico","FCPE 102.1","ASS",{"$f":"INDEX([1]RELAÇÃO!$A$1:$AQ$576,MATCH($M87,[1]RELAÇÃO!$AP$1:$AP$576,0),1)","v":"ANTONIELA BRAGGIO STAMM"},{"$f":"IF(E87=0,\"-\",LEFT(INDEX([1]RELAÇÃO!$A$1:$AQ$576,MATCH($M87,[1]RELAÇÃO!$AP$1:$AP$576,0),32),1))","v":"F"},{"$f":"IF(E87=0,\"-\",INDEX([1]RELAÇÃO!$A$1:$AQ$576,MATCH($M87,[1]RELAÇÃO!$AP$1:$AP$576,0),5))","v":"Requisitado de Órgãos"},{"$f":"IF(E87=0,\"-\",INDEX([1]RELAÇÃO!$A$1:$AQ$576,MATCH($M87,[1]RELAÇÃO!$AP$1:$AP$576,0),6))","v":"ME - Ministério da Economia"},{"$f":"IF(E87=0,\"-\",INDEX([1]RELAÇÃO!$A$1:$AQ$576,MATCH($M87,[1]RELAÇÃO!$AP$1:$AP$576,0),12)&INDEX([1]RELAÇÃO!$A$1:$AQ$576,MATCH($M87,[1]RELAÇÃO!$AP$1:$AP$576,0),13)&\", de \"&INDEX([1]RELAÇÃO!$A$1:$AQ$576,MATCH($M87,[1]RELAÇÃO!$AP$1:$AP$576,0),14)&\" - \"&INDEX([1]RELAÇÃO!$A$1:$AQ$576,MATCH($M87,[1]RELAÇÃO!$AP$1:$AP$576,0),16)&\" de \"&INDEX([1]RELAÇÃO!$A$1:$AQ$576,MATCH($M87,[1]RELAÇÃO!$AP$1:$AP$576,0),15))","v":"Portaria nº 99, de 01/02/2019 - DOU de 05/02/2019"},null,null,{"$f":"IF($E87=0,\"-\",IF(INDEX([1]RELAÇÃO!$A$1:$AQ$576,MATCH($M87,[1]RELAÇÃO!$AP$1:$AP$576,0),8)=\"8.100.000\",\"-\",INDEX([1]RELAÇÃO!$A$1:$AQ$576,MATCH($M87,[1]RELAÇÃO!$AP$1:$AP$576,0),7)))","v":"SE / SPOA / CGRL / COORDENAÇÃO DE ATIVIDADES GERAIS - COAGE"},"SE18"]
[null,"Assistente Técnico","FCPE 102.1","ASS",{"$f":"INDEX([1]RELAÇÃO!$A$1:$AQ$576,MATCH($M88,[1]RELAÇÃO!$AP$1:$AP$576,0),1)","v":"ANDRE ROBERTO CORTEZ"},{"$f":"IF(E88=0,\"-\",LEFT(INDEX([1]RELAÇÃO!$A$1:$AQ$576,MATCH($M88,[1]RELAÇÃO!$AP$1:$AP$576,0),32),1))","v":"M"},{"$f":"IF(E88=0,\"-\",INDEX([1]RELAÇÃO!$A$1:$AQ$576,MATCH($M88,[1]RELAÇÃO!$AP$1:$AP$576,0),5))","v":"Ativo Permanente"},{"$f":"IF(E88=0,\"-\",INDEX([1]RELAÇÃO!$A$1:$AQ$576,MATCH($M88,[1]RELAÇÃO!$AP$1:$AP$576,0),6))","v":"MME - Ministério de Minas e Energia"},{"$f":"IF(E88=0,\"-\",INDEX([1]RELAÇÃO!$A$1:$AQ$576,MATCH($M88,[1]RELAÇÃO!$AP$1:$AP$576,0),12)&INDEX([1]RELAÇÃO!$A$1:$AQ$576,MATCH($M88,[1]RELAÇÃO!$AP$1:$AP$576,0),13)&\", de \"&INDEX([1]RELAÇÃO!$A$1:$AQ$576,MATCH($M88,[1]RELAÇÃO!$AP$1:$AP$576,0),14)&\" - \"&INDEX([1]RELAÇÃO!$A$1:$AQ$576,MATCH($M88,[1]RELAÇÃO!$AP$1:$AP$576,0),16)&\" de \"&INDEX([1]RELAÇÃO!$A$1:$AQ$576,MATCH($M88,[1]RELAÇÃO!$AP$1:$AP$576,0),15))","v":"Portaria nº 524, de 03/11/2016 - BPE de 04/11/2016"},null,null,{"$f":"IF($E88=0,\"-\",IF(INDEX([1]RELAÇÃO!$A$1:$AQ$576,MATCH($M88,[1]RELAÇÃO!$AP$1:$AP$576,0),8)=\"8.100.000\",\"-\",INDEX([1]RELAÇÃO!$A$1:$AQ$576,MATCH($M88,[1]RELAÇÃO!$AP$1:$AP$576,0),7)))","v":"SE / AEGE / COORDENAÇÃO GERAL DE PLANEJAMENTO ESTRATÉGICO, SUPERVISÃO E AVALIAÇÃO - CGPE"},"SE19"]
["ASSESSORIA ESPECIAL DE GESTÃO ESTRATÉGICA","Chefe da Assessoria Especial","DAS 101.5","GER",{"$f":"INDEX([1]RELAÇÃO!$A$1:$AQ$576,MATCH($M89,[1]RELAÇÃO!$AP$1:$AP$576,0),1)","v":"NEY ZANELLA DOS SANTOS"},{"$f":"IF(E89=0,\"-\",LEFT(INDEX([1]RELAÇÃO!$A$1:$AQ$576,MATCH($M89,[1]RELAÇÃO!$AP$1:$AP$576,0),32),1))","v":"M"},{"$f":"IF(E89=0,\"-\",INDEX([1]RELAÇÃO!$A$1:$AQ$576,MATCH($M89,[1]RELAÇÃO!$AP$1:$AP$576,0),5))","v":"Sem Vínculo"},{"$f":"IF(E89=0,\"-\",INDEX([1]RELAÇÃO!$A$1:$AQ$576,MATCH($M89,[1]RELAÇÃO!$AP$1:$AP$576,0),6))","v":"Sem Vínculo"},{"$f":"IF(E89=0,\"-\",INDEX([1]RELAÇÃO!$A$1:$AQ$576,MATCH($M89,[1]RELAÇÃO!$AP$1:$AP$576,0),12)&INDEX([1]RELAÇÃO!$A$1:$AQ$576,MATCH($M89,[1]RELAÇÃO!$AP$1:$AP$576,0),13)&\", de \"&INDEX([1]RELAÇÃO!$A$1:$AQ$576,MATCH($M89,[1]RELAÇÃO!$AP$1:$AP$576,0),14)&\" - \"&INDEX([1]RELAÇÃO!$A$1:$AQ$576,MATCH($M89,[1]RELAÇÃO!$AP$1:$AP$576,0),16)&\" de \"&INDEX([1]RELAÇÃO!$A$1:$AQ$576,MATCH($M89,[1]RELAÇÃO!$AP$1:$AP$576,0),15))","v":"Portaria nº 1760, de 13/05/2019 - DOU de 14/05/2019"},{"$f":"INDEX([1]RELAÇÃO!$A$1:$AQ$576,MATCH($N89,[1]RELAÇÃO!$AQ$1:$AQ$576,0),1)","v":"JAIREZ ELÓI DE SOUSA PAULISTA"},{"$f":"IF(J89=0,\"-\",INDEX([1]RELAÇÃO!$A$1:$AQ$576,MATCH($N89,[1]RELAÇÃO!$AQ$1:$AQ$576,0),27)&INDEX([1]RELAÇÃO!$A$1:$AQ$576,MATCH($N89,[1]RELAÇÃO!$AQ$1:$AQ$576,0),28)&\", de \"&INDEX([1]RELAÇÃO!$A$1:$AQ$576,MATCH($N89,[1]RELAÇÃO!$AQ$1:$AQ$576,0),29)&\" - \"&INDEX([1]RELAÇÃO!$A$1:$AQ$576,MATCH($N89,[1]RELAÇÃO!$AQ$1:$AQ$576,0),31)&\" de \"&INDEX([1]RELAÇÃO!$A$1:$AQ$576,MATCH($N89,[1]RELAÇÃO!$AQ$1:$AQ$576,0),30))","v":"Portaria nº 433, de 07/11/2017 - DOU de 09/11/2017"},{"$f":"IF($E89=0,\"-\",IF(INDEX([1]RELAÇÃO!$A$1:$AQ$576,MATCH($M89,[1]RELAÇÃO!$AP$1:$AP$576,0),8)=\"8.101.000\",\"-\",INDEX([1]RELAÇÃO!$A$1:$AQ$576,MATCH($M89,[1]RELAÇÃO!$AP$1:$AP$576,0),7)))","v":"-"},"SE20","SE06S"]
[null,"Assessor Técnico","DAS 102.3","ASS",{"$f":"INDEX([1]RELAÇÃO!$A$1:$AQ$576,MATCH($M90,[1]RELAÇÃO!$AP$1:$AP$576,0),1)","v":"JOÃO CLAUDIO LIMA DE FRANCO"},{"$f":"IF(E90=0,\"-\",LEFT(INDEX([1]RELAÇÃO!$A$1:$AQ$576,MATCH($M90,[1]RELAÇÃO!$AP$1:$AP$576,0),32),1))","v":"M"},{"$f":"IF(E90=0,\"-\",INDEX([1]RELAÇÃO!$A$1:$AQ$576,MATCH($M90,[1]RELAÇÃO!$AP$1:$AP$576,0),5))","v":"Sem Vínculo"},{"$f":"IF(E90=0,\"-\",INDEX([1]RELAÇÃO!$A$1:$AQ$576,MATCH($M90,[1]RELAÇÃO!$AP$1:$AP$576,0),6))","v":"Sem Vínculo"},{"$f":"IF(E90=0,\"-\",INDEX([1]RELAÇÃO!$A$1:$AQ$576,MATCH($M90,[1]RELAÇÃO!$AP$1:$AP$576,0),12)&INDEX([1]RELAÇÃO!$A$1:$AQ$576,MATCH($M90,[1]RELAÇÃO!$AP$1:$AP$576,0),13)&\", de \"&INDEX([1]RELAÇÃO!$A$1:$AQ$576,MATCH($M90,[1]RELAÇÃO!$AP$1:$AP$576,0),14)&\" - \"&INDEX([1]RELAÇÃO!$A$1:$AQ$576,MATCH($M90,[1]RELAÇÃO!$AP$1:$AP$576,0),16)&\" de \"&INDEX([1]RELAÇÃO!$A$1:$AQ$576,MATCH($M90,[1]RELAÇÃO!$AP$1:$AP$576,0),15))","v":"Portaria nº 524, de 03/11/2016 - BPE de 04/11/2016"},null,null,{"$f":"IF($E90=0,\"-\",IF(INDEX([1]RELAÇÃO!$A$1:$AQ$576,MATCH($M90,[1]RELAÇÃO!$AP$1:$AP$576,0),8)=\"8.101.000\",\"-\",INDEX([1]RELAÇÃO!$A$1:$AQ$576,MATCH($M90,[1]RELAÇÃO!$AP$1:$AP$576,0),7)))","v":"-"},"SE21"]
[null,"Assistente","DAS 102.2","ASS",{"$f":"INDEX([1]RELAÇÃO!$A$1:$AQ$576,MATCH($M91,[1]RELAÇÃO!$AP$1:$AP$576,0),1)","v":"CLAUDIA MARIA DA SILVA MEIRA"},{"$f":"IF(E91=0,\"-\",LEFT(INDEX([1]RELAÇÃO!$A$1:$AQ$576,MATCH($M91,[1]RELAÇÃO!$AP$1:$AP$576,0),32),1))","v":"F"},{"$f":"IF(E91=0,\"-\",INDEX([1]RELAÇÃO!$A$1:$AQ$576,MATCH($M91,[1]RELAÇÃO!$AP$1:$AP$576,0),5))","v":"Sem Vínculo"},{"$f":"IF(E91=0,\"-\",INDEX([1]RELAÇÃO!$A$1:$AQ$576,MATCH($M91,[1]RELAÇÃO!$AP$1:$AP$576,0),6))","v":"Sem Vínculo"},{"$f":"IF(E91=0,\"-\",INDEX([1]RELAÇÃO!$A$1:$AQ$576,MATCH($M91,[1]RELAÇÃO!$AP$1:$AP$576,0),12)&INDEX([1]RELAÇÃO!$A$1:$AQ$576,MATCH($M91,[1]RELAÇÃO!$AP$1:$AP$576,0),13)&\", de \"&INDEX([1]RELAÇÃO!$A$1:$AQ$576,MATCH($M91,[1]RELAÇÃO!$AP$1:$AP$576,0),14)&\" - \"&INDEX([1]RELAÇÃO!$A$1:$AQ$576,MATCH($M91,[1]RELAÇÃO!$AP$1:$AP$576,0),16)&\" de \"&INDEX([1]RELAÇÃO!$A$1:$AQ$576,MATCH($M91,[1]RELAÇÃO!$AP$1:$AP$576,0),15))","v":"Portaria nº 524, de 03/11/2016 - BPE de 04/11/2016"},null,null,{"$f":"IF($E91=0,\"-\",IF(INDEX([1]RELAÇÃO!$A$1:$AQ$576,MATCH($M91,[1]RELAÇÃO!$AP$1:$AP$576,0),8)=\"8.101.000\",\"-\",INDEX([1]RELAÇÃO!$A$1:$AQ$576,MATCH($M91,[1]RELAÇÃO!$AP$1:$AP$576,0),7)))","v":"-"},"SE22"]
["Coordenação-Geral de Planejamento Estratégico, Supervisão e Avaliação da Gestão","Coordenador-Geral","DAS 101.4","GER",{"$f":"INDEX([1]RELAÇÃO!$A$1:$AQ$576,MATCH($M92,[1]RELAÇÃO!$AP$1:$AP$576,0),1)","v":"JAIREZ ELÓI DE SOUSA PAULISTA"},{"$f":"IF(E92=0,\"-\",LEFT(INDEX([1]RELAÇÃO!$A$1:$AQ$576,MATCH($M92,[1]RELAÇÃO!$AP$1:$AP$576,0),32),1))","v":"M"},{"$f":"IF(E92=0,\"-\",INDEX([1]RELAÇÃO!$A$1:$AQ$576,MATCH($M92,[1]RELAÇÃO!$AP$1:$AP$576,0),5))","v":"Sem Vínculo"},{"$f":"IF(E92=0,\"-\",INDEX([1]RELAÇÃO!$A$1:$AQ$576,MATCH($M92,[1]RELAÇÃO!$AP$1:$AP$576,0),6))","v":"Sem Vínculo"},{"$f":"IF(E92=0,\"-\",INDEX([1]RELAÇÃO!$A$1:$AQ$576,MATCH($M92,[1]RELAÇÃO!$AP$1:$AP$576,0),12)&INDEX([1]RELAÇÃO!$A$1:$AQ$576,MATCH($M92,[1]RELAÇÃO!$AP$1:$AP$576,0),13)&\", de \"&INDEX([1]RELAÇÃO!$A$1:$AQ$576,MATCH($M92,[1]RELAÇÃO!$AP$1:$AP$576,0),14)&\" - \"&INDEX([1]RELAÇÃO!$A$1:$AQ$576,MATCH($M92,[1]RELAÇÃO!$AP$1:$AP$576,0),16)&\" de \"&INDEX([1]RELAÇÃO!$A$1:$AQ$576,MATCH($M92,[1]RELAÇÃO!$AP$1:$AP$576,0),15))","v":"Portaria nº 385, de 02/10/2017 - DOU de 11/10/2017"},{"$f":"INDEX([1]RELAÇÃO!$A$1:$AQ$576,MATCH($N92,[1]RELAÇÃO!$AQ$1:$AQ$576,0),1)","v":"JOÃO CLAUDIO LIMA DE FRANCO"},{"$f":"IF(J92=0,\"-\",INDEX([1]RELAÇÃO!$A$1:$AQ$576,MATCH($N92,[1]RELAÇÃO!$AQ$1:$AQ$576,0),27)&INDEX([1]RELAÇÃO!$A$1:$AQ$576,MATCH($N92,[1]RELAÇÃO!$AQ$1:$AQ$576,0),28)&\", de \"&INDEX([1]RELAÇÃO!$A$1:$AQ$576,MATCH($N92,[1]RELAÇÃO!$AQ$1:$AQ$576,0),29)&\" - \"&INDEX([1]RELAÇÃO!$A$1:$AQ$576,MATCH($N92,[1]RELAÇÃO!$AQ$1:$AQ$576,0),31)&\" de \"&INDEX([1]RELAÇÃO!$A$1:$AQ$576,MATCH($N92,[1]RELAÇÃO!$AQ$1:$AQ$576,0),30))","v":"Portaria nº 692, de 06/12/2016 - DOU de 08/12/2016"},{"$f":"IF($E92=0,\"-\",IF(INDEX([1]RELAÇÃO!$A$1:$AQ$576,MATCH($M92,[1]RELAÇÃO!$AP$1:$AP$576,0),8)=\"8.101.100\",\"-\",INDEX([1]RELAÇÃO!$A$1:$AQ$576,MATCH($M92,[1]RELAÇÃO!$AP$1:$AP$576,0),7)))","v":"-"},"SE23","SE07S"]
["Coordenação de Supervisão e Avalliação da Gestão","Coordenador","DAS 101.3","GER",{"$f":"INDEX([1]RELAÇÃO!$A$1:$AQ$576,MATCH($M93,[1]RELAÇÃO!$AP$1:$AP$576,0),1)","v":"VIVALDO BELARMINO VALENCA"},{"$f":"IF(E93=0,\"-\",LEFT(INDEX([1]RELAÇÃO!$A$1:$AQ$576,MATCH($M93,[1]RELAÇÃO!$AP$1:$AP$576,0),32),1))","v":"M"},{"$f":"IF(E93=0,\"-\",INDEX([1]RELAÇÃO!$A$1:$AQ$576,MATCH($M93,[1]RELAÇÃO!$AP$1:$AP$576,0),5))","v":"Ativo Permanente"},{"$f":"IF(E93=0,\"-\",INDEX([1]RELAÇÃO!$A$1:$AQ$576,MATCH($M93,[1]RELAÇÃO!$AP$1:$AP$576,0),6))","v":"MME - Ministério de Minas e Energia"},{"$f":"IF(E93=0,\"-\",INDEX([1]RELAÇÃO!$A$1:$AQ$576,MATCH($M93,[1]RELAÇÃO!$AP$1:$AP$576,0),12)&INDEX([1]RELAÇÃO!$A$1:$AQ$576,MATCH($M93,[1]RELAÇÃO!$AP$1:$AP$576,0),13)&\", de \"&INDEX([1]RELAÇÃO!$A$1:$AQ$576,MATCH($M93,[1]RELAÇÃO!$AP$1:$AP$576,0),14)&\" - \"&INDEX([1]RELAÇÃO!$A$1:$AQ$576,MATCH($M93,[1]RELAÇÃO!$AP$1:$AP$576,0),16)&\" de \"&INDEX([1]RELAÇÃO!$A$1:$AQ$576,MATCH($M93,[1]RELAÇÃO!$AP$1:$AP$576,0),15))","v":"Portaria nº 115, de 18/03/2020 - DOU de 19/03/2020"},{"$f":"INDEX([1]RELAÇÃO!$A$1:$AQ$576,MATCH($N93,[1]RELAÇÃO!$AQ$1:$AQ$576,0),1)","v":0},{"$f":"IF(J93=0,\"-\",INDEX([1]RELAÇÃO!$A$1:$AQ$576,MATCH($N93,[1]RELAÇÃO!$AQ$1:$AQ$576,0),27)&INDEX([1]RELAÇÃO!$A$1:$AQ$576,MATCH($N93,[1]RELAÇÃO!$AQ$1:$AQ$576,0),28)&\", de \"&INDEX([1]RELAÇÃO!$A$1:$AQ$576,MATCH($N93,[1]RELAÇÃO!$AQ$1:$AQ$576,0),29)&\" - \"&INDEX([1]RELAÇÃO!$A$1:$AQ$576,MATCH($N93,[1]RELAÇÃO!$AQ$1:$AQ$576,0),31)&\" de \"&INDEX([1]RELAÇÃO!$A$1:$AQ$576,MATCH($N93,[1]RELAÇÃO!$AQ$1:$AQ$576,0),30))","v":"-"},{"$f":"IF($E93=0,\"-\",IF(INDEX([1]RELAÇÃO!$A$1:$AQ$576,MATCH($M93,[1]RELAÇÃO!$AP$1:$AP$576,0),8)=\"8.101.120\",\"-\",INDEX([1]RELAÇÃO!$A$1:$AQ$576,MATCH($M93,[1]RELAÇÃO!$AP$1:$AP$576,0),7)))","v":"-"},"SE24","SE08S"]
["Coordenação de Planejamento Estratégico e Orçamento","Coordenador","FCPE 101.3","GER",{"$f":"INDEX([1]RELAÇÃO!$A$1:$AQ$576,MATCH($M94,[1]RELAÇÃO!$AP$1:$AP$576,0),1)","v":"SILVIO CASTILHO DAS OLIVEIRAS"},{"$f":"IF(E94=0,\"-\",LEFT(INDEX([1]RELAÇÃO!$A$1:$AQ$576,MATCH($M94,[1]RELAÇÃO!$AP$1:$AP$576,0),32),1))","v":"M"},{"$f":"IF(E94=0,\"-\",INDEX([1]RELAÇÃO!$A$1:$AQ$576,MATCH($M94,[1]RELAÇÃO!$AP$1:$AP$576,0),5))","v":"Exercício Descentralizado"},{"$f":"IF(E94=0,\"-\",INDEX([1]RELAÇÃO!$A$1:$AQ$576,MATCH($M94,[1]RELAÇÃO!$AP$1:$AP$576,0),6))","v":"ME - Ministério da Economia"},{"$f":"IF(E94=0,\"-\",INDEX([1]RELAÇÃO!$A$1:$AQ$576,MATCH($M94,[1]RELAÇÃO!$AP$1:$AP$576,0),12)&INDEX([1]RELAÇÃO!$A$1:$AQ$576,MATCH($M94,[1]RELAÇÃO!$AP$1:$AP$576,0),13)&\", de \"&INDEX([1]RELAÇÃO!$A$1:$AQ$576,MATCH($M94,[1]RELAÇÃO!$AP$1:$AP$576,0),14)&\" - \"&INDEX([1]RELAÇÃO!$A$1:$AQ$576,MATCH($M94,[1]RELAÇÃO!$AP$1:$AP$576,0),16)&\" de \"&INDEX([1]RELAÇÃO!$A$1:$AQ$576,MATCH($M94,[1]RELAÇÃO!$AP$1:$AP$576,0),15))","v":"Portaria nº 524, de 03/11/2016 - BPE de 04/11/2016"},{"$f":"INDEX([1]RELAÇÃO!$A$1:$AQ$576,MATCH($N94,[1]RELAÇÃO!$AQ$1:$AQ$576,0),1)","v":0},{"$f":"IF(J94=0,\"-\",INDEX([1]RELAÇÃO!$A$1:$AQ$576,MATCH($N94,[1]RELAÇÃO!$AQ$1:$AQ$576,0),27)&INDEX([1]RELAÇÃO!$A$1:$AQ$576,MATCH($N94,[1]RELAÇÃO!$AQ$1:$AQ$576,0),28)&\", de \"&INDEX([1]RELAÇÃO!$A$1:$AQ$576,MATCH($N94,[1]RELAÇÃO!$AQ$1:$AQ$576,0),29)&\" - \"&INDEX([1]RELAÇÃO!$A$1:$AQ$576,MATCH($N94,[1]RELAÇÃO!$AQ$1:$AQ$576,0),31)&\" de \"&INDEX([1]RELAÇÃO!$A$1:$AQ$576,MATCH($N94,[1]RELAÇÃO!$AQ$1:$AQ$576,0),30))","v":"-"},{"$f":"IF($E94=0,\"-\",IF(INDEX([1]RELAÇÃO!$A$1:$AQ$576,MATCH($M94,[1]RELAÇÃO!$AP$1:$AP$576,0),8)=\"8.101.110\",\"-\",INDEX([1]RELAÇÃO!$A$1:$AQ$576,MATCH($M94,[1]RELAÇÃO!$AP$1:$AP$576,0),7)))","v":"-"},"SE25","SE09S"]
[null,"Assistente","DAS 102.2","ASS",{"$f":"INDEX([1]RELAÇÃO!$A$1:$AQ$576,MATCH($M95,[1]RELAÇÃO!$AP$1:$AP$576,0),1)","v":"ALLAN CARLO LOPES DE MENEZES"},{"$f":"IF(E95=0,\"-\",LEFT(INDEX([1]RELAÇÃO!$A$1:$AQ$576,MATCH($M95,[1]RELAÇÃO!$AP$1:$AP$576,0),32),1))","v":"M"},{"$f":"IF(E95=0,\"-\",INDEX([1]RELAÇÃO!$A$1:$AQ$576,MATCH($M95,[1]RELAÇÃO!$AP$1:$AP$576,0),5))","v":"Sem Vínculo"},{"$f":"IF(E95=0,\"-\",INDEX([1]RELAÇÃO!$A$1:$AQ$576,MATCH($M95,[1]RELAÇÃO!$AP$1:$AP$576,0),6))","v":"Sem Vínculo"},{"$f":"IF(E95=0,\"-\",INDEX([1]RELAÇÃO!$A$1:$AQ$576,MATCH($M95,[1]RELAÇÃO!$AP$1:$AP$576,0),12)&INDEX([1]RELAÇÃO!$A$1:$AQ$576,MATCH($M95,[1]RELAÇÃO!$AP$1:$AP$576,0),13)&\", de \"&INDEX([1]RELAÇÃO!$A$1:$AQ$576,MATCH($M95,[1]RELAÇÃO!$AP$1:$AP$576,0),14)&\" - \"&INDEX([1]RELAÇÃO!$A$1:$AQ$576,MATCH($M95,[1]RELAÇÃO!$AP$1:$AP$576,0),16)&\" de \"&INDEX([1]RELAÇÃO!$A$1:$AQ$576,MATCH($M95,[1]RELAÇÃO!$AP$1:$AP$576,0),15))","v":"Portaria nº 114, de 18/03/2020 - DOU de 19/03/2020"},null,null,{"$f":"IF($E95=0,\"-\",IF(INDEX([1]RELAÇÃO!$A$1:$AQ$576,MATCH($M95,[1]RELAÇÃO!$AP$1:$AP$576,0),8)=\"8.101.120\",\"-\",INDEX([1]RELAÇÃO!$A$1:$AQ$576,MATCH($M95,[1]RELAÇÃO!$AP$1:$AP$576,0),7)))","v":"-"},"SE26"]
[null,"Assistente"," DAS 102.2",null,"Excluído pelo Dec. 9675/2019"]
[null,"Assistente Técnico","DAS 102.1","ASS",{"$f":"INDEX([1]RELAÇÃO!$A$1:$AQ$576,MATCH($M97,[1]RELAÇÃO!$AP$1:$AP$576,0),1)","v":"MARIA JOSE COSTA OLIVEIRA"},{"$f":"IF(E97=0,\"-\",LEFT(INDEX([1]RELAÇÃO!$A$1:$AQ$576,MATCH($M97,[1]RELAÇÃO!$AP$1:$AP$576,0),32),1))","v":"M"},{"$f":"IF(E97=0,\"-\",INDEX([1]RELAÇÃO!$A$1:$AQ$576,MATCH($M97,[1]RELAÇÃO!$AP$1:$AP$576,0),5))","v":"Sem Vínculo"},{"$f":"IF(E97=0,\"-\",INDEX([1]RELAÇÃO!$A$1:$AQ$576,MATCH($M97,[1]RELAÇÃO!$AP$1:$AP$576,0),6))","v":"Sem Vínculo"},{"$f":"IF(E97=0,\"-\",INDEX([1]RELAÇÃO!$A$1:$AQ$576,MATCH($M97,[1]RELAÇÃO!$AP$1:$AP$576,0),12)&INDEX([1]RELAÇÃO!$A$1:$AQ$576,MATCH($M97,[1]RELAÇÃO!$AP$1:$AP$576,0),13)&\", de \"&INDEX([1]RELAÇÃO!$A$1:$AQ$576,MATCH($M97,[1]RELAÇÃO!$AP$1:$AP$576,0),14)&\" - \"&INDEX([1]RELAÇÃO!$A$1:$AQ$576,MATCH($M97,[1]RELAÇÃO!$AP$1:$AP$576,0),16)&\" de \"&INDEX([1]RELAÇÃO!$A$1:$AQ$576,MATCH($M97,[1]RELAÇÃO!$AP$1:$AP$576,0),15))","v":"Portaria nº 524, de 03/11/2016 - BPE de 04/11/2016"},null,null,{"$f":"IF($E97=0,\"-\",IF(INDEX([1]RELAÇÃO!$A$1:$AQ$576,MATCH($M97,[1]RELAÇÃO!$AP$1:$AP$576,0),8)=\"8.101.100\",\"-\",INDEX([1]RELAÇÃO!$A$1:$AQ$576,MATCH($M97,[1]RELAÇÃO!$AP$1:$AP$576,0),7)))","v":"SE / ASSESSORIA ESPECIAL DE MEIO AMBIENTE - AESA"},"SE27"]
["ASSESSORIA ESPECIAL EM ASSUNTOS REGULATÓRIOS","Chefe da Assessoria Especial","DAS 101.5","GER",{"$f":"INDEX([1]RELAÇÃO!$A$1:$AQ$576,MATCH($M98,[1]RELAÇÃO!$AP$1:$AP$576,0),1)","v":"AGNES MARIA DE ARAGAO DA COSTA"},{"$f":"IF(E98=0,\"-\",LEFT(INDEX([1]RELAÇÃO!$A$1:$AQ$576,MATCH($M98,[1]RELAÇÃO!$AP$1:$AP$576,0),32),1))","v":"F"},{"$f":"IF(E98=0,\"-\",INDEX([1]RELAÇÃO!$A$1:$AQ$576,MATCH($M98,[1]RELAÇÃO!$AP$1:$AP$576,0),5))","v":"Exercício Descentralizado"},{"$f":"IF(E98=0,\"-\",INDEX([1]RELAÇÃO!$A$1:$AQ$576,MATCH($M98,[1]RELAÇÃO!$AP$1:$AP$576,0),6))","v":"ME - Ministério da Economia"},{"$f":"IF(E98=0,\"-\",INDEX([1]RELAÇÃO!$A$1:$AQ$576,MATCH($M98,[1]RELAÇÃO!$AP$1:$AP$576,0),12)&INDEX([1]RELAÇÃO!$A$1:$AQ$576,MATCH($M98,[1]RELAÇÃO!$AP$1:$AP$576,0),13)&\", de \"&INDEX([1]RELAÇÃO!$A$1:$AQ$576,MATCH($M98,[1]RELAÇÃO!$AP$1:$AP$576,0),14)&\" - \"&INDEX([1]RELAÇÃO!$A$1:$AQ$576,MATCH($M98,[1]RELAÇÃO!$AP$1:$AP$576,0),16)&\" de \"&INDEX([1]RELAÇÃO!$A$1:$AQ$576,MATCH($M98,[1]RELAÇÃO!$AP$1:$AP$576,0),15))","v":"Portaria nº 591, de 16/01/2019 - DOU de 17/01/2019"},{"$f":"INDEX([1]RELAÇÃO!$A$1:$AQ$576,MATCH($N98,[1]RELAÇÃO!$AQ$1:$AQ$576,0),1)","v":0},{"$f":"IF(J98=0,\"-\",INDEX([1]RELAÇÃO!$A$1:$AQ$576,MATCH($N98,[1]RELAÇÃO!$AQ$1:$AQ$576,0),27)&INDEX([1]RELAÇÃO!$A$1:$AQ$576,MATCH($N98,[1]RELAÇÃO!$AQ$1:$AQ$576,0),28)&\", de \"&INDEX([1]RELAÇÃO!$A$1:$AQ$576,MATCH($N98,[1]RELAÇÃO!$AQ$1:$AQ$576,0),29)&\" - \"&INDEX([1]RELAÇÃO!$A$1:$AQ$576,MATCH($N98,[1]RELAÇÃO!$AQ$1:$AQ$576,0),31)&\" de \"&INDEX([1]RELAÇÃO!$A$1:$AQ$576,MATCH($N98,[1]RELAÇÃO!$AQ$1:$AQ$576,0),30))","v":"-"},{"$f":"IF($E98=0,\"-\",IF(INDEX([1]RELAÇÃO!$A$1:$AQ$576,MATCH($M98,[1]RELAÇÃO!$AP$1:$AP$576,0),8)=\"8.102.000\",\"-\",INDEX([1]RELAÇÃO!$A$1:$AQ$576,MATCH($M98,[1]RELAÇÃO!$AP$1:$AP$576,0),7)))","v":"-"},"SE28","SE10S"]
[null,"Assistente","FCPE 102.2","ASS",{"$f":"INDEX([1]RELAÇÃO!$A$1:$AQ$576,MATCH($M99,[1]RELAÇÃO!$AP$1:$AP$576,0),1)","v":"MARILUZIA RODRIGUES NOGUEIRA"},{"$f":"IF(E99=0,\"-\",LEFT(INDEX([1]RELAÇÃO!$A$1:$AQ$576,MATCH($M99,[1]RELAÇÃO!$AP$1:$AP$576,0),32),1))","v":"F"},{"$f":"IF(E99=0,\"-\",INDEX([1]RELAÇÃO!$A$1:$AQ$576,MATCH($M99,[1]RELAÇÃO!$AP$1:$AP$576,0),5))","v":"Ativo Permanente"},{"$f":"IF(E99=0,\"-\",INDEX([1]RELAÇÃO!$A$1:$AQ$576,MATCH($M99,[1]RELAÇÃO!$AP$1:$AP$576,0),6))","v":"MME - Ministério de Minas e Energia"},{"$f":"IF(E99=0,\"-\",INDEX([1]RELAÇÃO!$A$1:$AQ$576,MATCH($M99,[1]RELAÇÃO!$AP$1:$AP$576,0),12)&INDEX([1]RELAÇÃO!$A$1:$AQ$576,MATCH($M99,[1]RELAÇÃO!$AP$1:$AP$576,0),13)&\", de \"&INDEX([1]RELAÇÃO!$A$1:$AQ$576,MATCH($M99,[1]RELAÇÃO!$AP$1:$AP$576,0),14)&\" - \"&INDEX([1]RELAÇÃO!$A$1:$AQ$576,MATCH($M99,[1]RELAÇÃO!$AP$1:$AP$576,0),16)&\" de \"&INDEX([1]RELAÇÃO!$A$1:$AQ$576,MATCH($M99,[1]RELAÇÃO!$AP$1:$AP$576,0),15))","v":"Portaria nº 524, de 03/11/2016 - BPE de 04/11/2016"},null,null,{"$f":"IF($E99=0,\"-\",IF(INDEX([1]RELAÇÃO!$A$1:$AQ$576,MATCH($M99,[1]RELAÇÃO!$AP$1:$AP$576,0),8)=\"8.102.000\",\"-\",INDEX([1]RELAÇÃO!$A$1:$AQ$576,MATCH($M99,[1]RELAÇÃO!$AP$1:$AP$576,0),7)))","v":"ASSESSORIA ESPECIAL DE ASSUNTOS ECONÔMICOS - ASSEC"},"SE29"]
["ASSESSORIA ESPECIAL DE GESTÃO DE PROJETOS","Chefe da Assessoria Especial","DAS 101.5","GER",{"$f":"INDEX([1]RELAÇÃO!$A$1:$AQ$576,MATCH($M100,[1]RELAÇÃO!$AP$1:$AP$576,0),1)","v":"DENIS DE MOURA SOARES"},{"$f":"IF(E100=0,\"-\",LEFT(INDEX([1]RELAÇÃO!$A$1:$AQ$576,MATCH($M100,[1]RELAÇÃO!$AP$1:$AP$576,0),32),1))","v":"M"},{"$f":"IF(E100=0,\"-\",INDEX([1]RELAÇÃO!$A$1:$AQ$576,MATCH($M100,[1]RELAÇÃO!$AP$1:$AP$576,0),5))","v":"Requisitado de Órgãos"},{"$f":"IF(E100=0,\"-\",INDEX([1]RELAÇÃO!$A$1:$AQ$576,MATCH($M100,[1]RELAÇÃO!$AP$1:$AP$576,0),6))","v":"ME - Ministério da Economia"},{"$f":"IF(E100=0,\"-\",INDEX([1]RELAÇÃO!$A$1:$AQ$576,MATCH($M100,[1]RELAÇÃO!$AP$1:$AP$576,0),12)&INDEX([1]RELAÇÃO!$A$1:$AQ$576,MATCH($M100,[1]RELAÇÃO!$AP$1:$AP$576,0),13)&\", de \"&INDEX([1]RELAÇÃO!$A$1:$AQ$576,MATCH($M100,[1]RELAÇÃO!$AP$1:$AP$576,0),14)&\" - \"&INDEX([1]RELAÇÃO!$A$1:$AQ$576,MATCH($M100,[1]RELAÇÃO!$AP$1:$AP$576,0),16)&\" de \"&INDEX([1]RELAÇÃO!$A$1:$AQ$576,MATCH($M100,[1]RELAÇÃO!$AP$1:$AP$576,0),15))","v":"Portaria nº 1740, de 09/05/2019 - DOU de 10/05/2019"},{"$f":"INDEX([1]RELAÇÃO!$A$1:$AQ$576,MATCH($N100,[1]RELAÇÃO!$AQ$1:$AQ$576,0),1)","v":0},{"$f":"IF(J100=0,\"-\",INDEX([1]RELAÇÃO!$A$1:$AQ$576,MATCH($N100,[1]RELAÇÃO!$AQ$1:$AQ$576,0),27)&INDEX([1]RELAÇÃO!$A$1:$AQ$576,MATCH($N100,[1]RELAÇÃO!$AQ$1:$AQ$576,0),28)&\", de \"&INDEX([1]RELAÇÃO!$A$1:$AQ$576,MATCH($N100,[1]RELAÇÃO!$AQ$1:$AQ$576,0),29)&\" - \"&INDEX([1]RELAÇÃO!$A$1:$AQ$576,MATCH($N100,[1]RELAÇÃO!$AQ$1:$AQ$576,0),31)&\" de \"&INDEX([1]RELAÇÃO!$A$1:$AQ$576,MATCH($N100,[1]RELAÇÃO!$AQ$1:$AQ$576,0),30))","v":"-"},{"$f":"IF($E100=0,\"-\",IF(INDEX([1]RELAÇÃO!$A$1:$AQ$576,MATCH($M100,[1]RELAÇÃO!$AP$1:$AP$576,0),8)=\"8.103.000\",\"-\",INDEX([1]RELAÇÃO!$A$1:$AQ$576,MATCH($M100,[1]RELAÇÃO!$AP$1:$AP$576,0),7)))","v":"-"},"SE30","SE11S"]
["Coordenação-Geral de Planejamento, Finanças e Controle","Coordenador-Geral","FCPE 101.4","GER",{"$f":"INDEX([1]RELAÇÃO!$A$1:$AQ$576,MATCH($M101,[1]RELAÇÃO!$AP$1:$AP$576,0),1)","v":"GUSTAVO SANTOS MASILI"},{"$f":"IF(E101=0,\"-\",LEFT(INDEX([1]RELAÇÃO!$A$1:$AQ$576,MATCH($M101,[1]RELAÇÃO!$AP$1:$AP$576,0),32),1))","v":"M"},{"$f":"IF(E101=0,\"-\",INDEX([1]RELAÇÃO!$A$1:$AQ$576,MATCH($M101,[1]RELAÇÃO!$AP$1:$AP$576,0),5))","v":"Requisitado de Órgãos"},{"$f":"IF(E101=0,\"-\",INDEX([1]RELAÇÃO!$A$1:$AQ$576,MATCH($M101,[1]RELAÇÃO!$AP$1:$AP$576,0),6))","v":"ME - Ministério da Economia"},{"$f":"IF(E101=0,\"-\",INDEX([1]RELAÇÃO!$A$1:$AQ$576,MATCH($M101,[1]RELAÇÃO!$AP$1:$AP$576,0),12)&INDEX([1]RELAÇÃO!$A$1:$AQ$576,MATCH($M101,[1]RELAÇÃO!$AP$1:$AP$576,0),13)&\", de \"&INDEX([1]RELAÇÃO!$A$1:$AQ$576,MATCH($M101,[1]RELAÇÃO!$AP$1:$AP$576,0),14)&\" - \"&INDEX([1]RELAÇÃO!$A$1:$AQ$576,MATCH($M101,[1]RELAÇÃO!$AP$1:$AP$576,0),16)&\" de \"&INDEX([1]RELAÇÃO!$A$1:$AQ$576,MATCH($M101,[1]RELAÇÃO!$AP$1:$AP$576,0),15))","v":"Portaria nº 544, de 03/11/2016 - DOU de 04/11/2016"},{"$f":"INDEX([1]RELAÇÃO!$A$1:$AQ$576,MATCH($N101,[1]RELAÇÃO!$AQ$1:$AQ$576,0),1)","v":0},{"$f":"IF(J101=0,\"-\",INDEX([1]RELAÇÃO!$A$1:$AQ$576,MATCH($N101,[1]RELAÇÃO!$AQ$1:$AQ$576,0),27)&INDEX([1]RELAÇÃO!$A$1:$AQ$576,MATCH($N101,[1]RELAÇÃO!$AQ$1:$AQ$576,0),28)&\", de \"&INDEX([1]RELAÇÃO!$A$1:$AQ$576,MATCH($N101,[1]RELAÇÃO!$AQ$1:$AQ$576,0),29)&\" - \"&INDEX([1]RELAÇÃO!$A$1:$AQ$576,MATCH($N101,[1]RELAÇÃO!$AQ$1:$AQ$576,0),31)&\" de \"&INDEX([1]RELAÇÃO!$A$1:$AQ$576,MATCH($N101,[1]RELAÇÃO!$AQ$1:$AQ$576,0),30))","v":"-"},{"$f":"IF($E101=0,\"-\",IF(INDEX([1]RELAÇÃO!$A$1:$AQ$576,MATCH($M101,[1]RELAÇÃO!$AP$1:$AP$576,0),8)=\"8.103.100\",\"-\",INDEX([1]RELAÇÃO!$A$1:$AQ$576,MATCH($M101,[1]RELAÇÃO!$AP$1:$AP$576,0),7)))","v":"-"},"SE31","SE12S"]
["Coordenação Administrativa","Coordenador","DAS 101.3","GER",{"$f":"INDEX([1]RELAÇÃO!$A$1:$AQ$576,MATCH($M102,[1]RELAÇÃO!$AP$1:$AP$576,0),1)","v":"RODRIGO DE CARVALHO MATOS"},{"$f":"IF(E102=0,\"-\",LEFT(INDEX([1]RELAÇÃO!$A$1:$AQ$576,MATCH($M102,[1]RELAÇÃO!$AP$1:$AP$576,0),32),1))","v":"M"},{"$f":"IF(E102=0,\"-\",INDEX([1]RELAÇÃO!$A$1:$AQ$576,MATCH($M102,[1]RELAÇÃO!$AP$1:$AP$576,0),5))","v":"Sem Vínculo"},{"$f":"IF(E102=0,\"-\",INDEX([1]RELAÇÃO!$A$1:$AQ$576,MATCH($M102,[1]RELAÇÃO!$AP$1:$AP$576,0),6))","v":"Sem Vínculo"},{"$f":"IF(E102=0,\"-\",INDEX([1]RELAÇÃO!$A$1:$AQ$576,MATCH($M102,[1]RELAÇÃO!$AP$1:$AP$576,0),12)&INDEX([1]RELAÇÃO!$A$1:$AQ$576,MATCH($M102,[1]RELAÇÃO!$AP$1:$AP$576,0),13)&\", de \"&INDEX([1]RELAÇÃO!$A$1:$AQ$576,MATCH($M102,[1]RELAÇÃO!$AP$1:$AP$576,0),14)&\" - \"&INDEX([1]RELAÇÃO!$A$1:$AQ$576,MATCH($M102,[1]RELAÇÃO!$AP$1:$AP$576,0),16)&\" de \"&INDEX([1]RELAÇÃO!$A$1:$AQ$576,MATCH($M102,[1]RELAÇÃO!$AP$1:$AP$576,0),15))","v":"Portaria nº 542, de 03/11/2016 - DOU de 04/11/2016"},{"$f":"INDEX([1]RELAÇÃO!$A$1:$AQ$576,MATCH($N102,[1]RELAÇÃO!$AQ$1:$AQ$576,0),1)","v":"TEREZA MARIA DA COSTA"},{"$f":"IF(J102=0,\"-\",INDEX([1]RELAÇÃO!$A$1:$AQ$576,MATCH($N102,[1]RELAÇÃO!$AQ$1:$AQ$576,0),27)&INDEX([1]RELAÇÃO!$A$1:$AQ$576,MATCH($N102,[1]RELAÇÃO!$AQ$1:$AQ$576,0),28)&\", de \"&INDEX([1]RELAÇÃO!$A$1:$AQ$576,MATCH($N102,[1]RELAÇÃO!$AQ$1:$AQ$576,0),29)&\" - \"&INDEX([1]RELAÇÃO!$A$1:$AQ$576,MATCH($N102,[1]RELAÇÃO!$AQ$1:$AQ$576,0),31)&\" de \"&INDEX([1]RELAÇÃO!$A$1:$AQ$576,MATCH($N102,[1]RELAÇÃO!$AQ$1:$AQ$576,0),30))","v":"Portaria nº 216, de 05/06/2017 - DOU de 06/06/2017"},{"$f":"IF($E102=0,\"-\",IF(INDEX([1]RELAÇÃO!$A$1:$AQ$576,MATCH($M102,[1]RELAÇÃO!$AP$1:$AP$576,0),8)=\"8.103.110\",\"-\",INDEX([1]RELAÇÃO!$A$1:$AQ$576,MATCH($M102,[1]RELAÇÃO!$AP$1:$AP$576,0),7)))","v":"-"},"SE32","SE13S"]
["Coordenação-Geral de Gestão de Projetos","Coordenador-Geral","FCPE 101.4","GER",{"$f":"INDEX([1]RELAÇÃO!$A$1:$AQ$576,MATCH($M103,[1]RELAÇÃO!$AP$1:$AP$576,0),1)","v":"MAURICIO PINHEIRO FLEURY CURADO"},{"$f":"IF(E103=0,\"-\",LEFT(INDEX([1]RELAÇÃO!$A$1:$AQ$576,MATCH($M103,[1]RELAÇÃO!$AP$1:$AP$576,0),32),1))","v":"M"},{"$f":"IF(E103=0,\"-\",INDEX([1]RELAÇÃO!$A$1:$AQ$576,MATCH($M103,[1]RELAÇÃO!$AP$1:$AP$576,0),5))","v":"Requisitado de Órgãos"},{"$f":"IF(E103=0,\"-\",INDEX([1]RELAÇÃO!$A$1:$AQ$576,MATCH($M103,[1]RELAÇÃO!$AP$1:$AP$576,0),6))","v":"ME - Ministério da Economia"},{"$f":"IF(E103=0,\"-\",INDEX([1]RELAÇÃO!$A$1:$AQ$576,MATCH($M103,[1]RELAÇÃO!$AP$1:$AP$576,0),12)&INDEX([1]RELAÇÃO!$A$1:$AQ$576,MATCH($M103,[1]RELAÇÃO!$AP$1:$AP$576,0),13)&\", de \"&INDEX([1]RELAÇÃO!$A$1:$AQ$576,MATCH($M103,[1]RELAÇÃO!$AP$1:$AP$576,0),14)&\" - \"&INDEX([1]RELAÇÃO!$A$1:$AQ$576,MATCH($M103,[1]RELAÇÃO!$AP$1:$AP$576,0),16)&\" de \"&INDEX([1]RELAÇÃO!$A$1:$AQ$576,MATCH($M103,[1]RELAÇÃO!$AP$1:$AP$576,0),15))","v":"Portaria nº 347, de 16/09/2020 - DOU de 17/09/2020"},{"$f":"INDEX([1]RELAÇÃO!$A$1:$AQ$576,MATCH($N103,[1]RELAÇÃO!$AQ$1:$AQ$576,0),1)","v":"LUCIANO DA SILVA TEIXEIRA"},{"$f":"IF(J103=0,\"-\",INDEX([1]RELAÇÃO!$A$1:$AQ$576,MATCH($N103,[1]RELAÇÃO!$AQ$1:$AQ$576,0),27)&INDEX([1]RELAÇÃO!$A$1:$AQ$576,MATCH($N103,[1]RELAÇÃO!$AQ$1:$AQ$576,0),28)&\", de \"&INDEX([1]RELAÇÃO!$A$1:$AQ$576,MATCH($N103,[1]RELAÇÃO!$AQ$1:$AQ$576,0),29)&\" - \"&INDEX([1]RELAÇÃO!$A$1:$AQ$576,MATCH($N103,[1]RELAÇÃO!$AQ$1:$AQ$576,0),31)&\" de \"&INDEX([1]RELAÇÃO!$A$1:$AQ$576,MATCH($N103,[1]RELAÇÃO!$AQ$1:$AQ$576,0),30))","v":"Portaria nº 131, de 12/04/2018 - DOU de 16/04/2018"},{"$f":"IF($E103=0,\"-\",IF(INDEX([1]RELAÇÃO!$A$1:$AQ$576,MATCH($M103,[1]RELAÇÃO!$AP$1:$AP$576,0),8)=\"8.103.200\",\"-\",INDEX([1]RELAÇÃO!$A$1:$AQ$576,MATCH($M103,[1]RELAÇÃO!$AP$1:$AP$576,0),7)))","v":"-"},"SE33","SE14S"]
["Coordenação de Licitação","Coordenador","FCPE 101.3","GER",{"$f":"INDEX([1]RELAÇÃO!$A$1:$AQ$576,MATCH($M104,[1]RELAÇÃO!$AP$1:$AP$576,0),1)","v":"LUCIANO DA SILVA TEIXEIRA"},{"$f":"IF(E104=0,\"-\",LEFT(INDEX([1]RELAÇÃO!$A$1:$AQ$576,MATCH($M104,[1]RELAÇÃO!$AP$1:$AP$576,0),32),1))","v":"M"},{"$f":"IF(E104=0,\"-\",INDEX([1]RELAÇÃO!$A$1:$AQ$576,MATCH($M104,[1]RELAÇÃO!$AP$1:$AP$576,0),5))","v":"Exercício Descentralizado"},{"$f":"IF(E104=0,\"-\",INDEX([1]RELAÇÃO!$A$1:$AQ$576,MATCH($M104,[1]RELAÇÃO!$AP$1:$AP$576,0),6))","v":"ME - Ministério da Economia"},{"$f":"IF(E104=0,\"-\",INDEX([1]RELAÇÃO!$A$1:$AQ$576,MATCH($M104,[1]RELAÇÃO!$AP$1:$AP$576,0),12)&INDEX([1]RELAÇÃO!$A$1:$AQ$576,MATCH($M104,[1]RELAÇÃO!$AP$1:$AP$576,0),13)&\", de \"&INDEX([1]RELAÇÃO!$A$1:$AQ$576,MATCH($M104,[1]RELAÇÃO!$AP$1:$AP$576,0),14)&\" - \"&INDEX([1]RELAÇÃO!$A$1:$AQ$576,MATCH($M104,[1]RELAÇÃO!$AP$1:$AP$576,0),16)&\" de \"&INDEX([1]RELAÇÃO!$A$1:$AQ$576,MATCH($M104,[1]RELAÇÃO!$AP$1:$AP$576,0),15))","v":"Portaria nº 132, de 12/04/2018 - DOU de 16/04/2018"},{"$f":"INDEX([1]RELAÇÃO!$A$1:$AQ$576,MATCH($N104,[1]RELAÇÃO!$AQ$1:$AQ$576,0),1)","v":0},{"$f":"IF(J104=0,\"-\",INDEX([1]RELAÇÃO!$A$1:$AQ$576,MATCH($N104,[1]RELAÇÃO!$AQ$1:$AQ$576,0),27)&INDEX([1]RELAÇÃO!$A$1:$AQ$576,MATCH($N104,[1]RELAÇÃO!$AQ$1:$AQ$576,0),28)&\", de \"&INDEX([1]RELAÇÃO!$A$1:$AQ$576,MATCH($N104,[1]RELAÇÃO!$AQ$1:$AQ$576,0),29)&\" - \"&INDEX([1]RELAÇÃO!$A$1:$AQ$576,MATCH($N104,[1]RELAÇÃO!$AQ$1:$AQ$576,0),31)&\" de \"&INDEX([1]RELAÇÃO!$A$1:$AQ$576,MATCH($N104,[1]RELAÇÃO!$AQ$1:$AQ$576,0),30))","v":"-"},{"$f":"IF($E104=0,\"-\",IF(INDEX([1]RELAÇÃO!$A$1:$AQ$576,MATCH($M104,[1]RELAÇÃO!$AP$1:$AP$576,0),8)=\"8.103.210\",\"-\",INDEX([1]RELAÇÃO!$A$1:$AQ$576,MATCH($M104,[1]RELAÇÃO!$AP$1:$AP$576,0),7)))","v":"-"},"SE34","SE15S"]
["ASSESSORIA ESPECIAL DE MEIO AMBIENTE","Chefe da Assessoria Especial","DAS 101.5","GER",{"$f":"INDEX([1]RELAÇÃO!$A$1:$AQ$576,MATCH($M105,[1]RELAÇÃO!$AP$1:$AP$576,0),1)","v":"MARIA CEICILENE ARAGAO MARTINS"},{"$f":"IF(E105=0,\"-\",LEFT(INDEX([1]RELAÇÃO!$A$1:$AQ$576,MATCH($M105,[1]RELAÇÃO!$AP$1:$AP$576,0),32),1))","v":"F"},{"$f":"IF(E105=0,\"-\",INDEX([1]RELAÇÃO!$A$1:$AQ$576,MATCH($M105,[1]RELAÇÃO!$AP$1:$AP$576,0),5))","v":"Requisitado de Órgãos"},{"$f":"IF(E105=0,\"-\",INDEX([1]RELAÇÃO!$A$1:$AQ$576,MATCH($M105,[1]RELAÇÃO!$AP$1:$AP$576,0),6))","v":"ME - Ministério da Economia"},{"$f":"IF(E105=0,\"-\",INDEX([1]RELAÇÃO!$A$1:$AQ$576,MATCH($M105,[1]RELAÇÃO!$AP$1:$AP$576,0),12)&INDEX([1]RELAÇÃO!$A$1:$AQ$576,MATCH($M105,[1]RELAÇÃO!$AP$1:$AP$576,0),13)&\", de \"&INDEX([1]RELAÇÃO!$A$1:$AQ$576,MATCH($M105,[1]RELAÇÃO!$AP$1:$AP$576,0),14)&\" - \"&INDEX([1]RELAÇÃO!$A$1:$AQ$576,MATCH($M105,[1]RELAÇÃO!$AP$1:$AP$576,0),16)&\" de \"&INDEX([1]RELAÇÃO!$A$1:$AQ$576,MATCH($M105,[1]RELAÇÃO!$AP$1:$AP$576,0),15))","v":"Portaria nº 834, de 30/08/2017 - DOU de 31/08/2017"},{"$f":"INDEX([1]RELAÇÃO!$A$1:$AQ$576,MATCH($N105,[1]RELAÇÃO!$AQ$1:$AQ$576,0),1)","v":"VERONICA E SILVA SOUSA"},{"$f":"IF(J105=0,\"-\",INDEX([1]RELAÇÃO!$A$1:$AQ$576,MATCH($N105,[1]RELAÇÃO!$AQ$1:$AQ$576,0),27)&INDEX([1]RELAÇÃO!$A$1:$AQ$576,MATCH($N105,[1]RELAÇÃO!$AQ$1:$AQ$576,0),28)&\", de \"&INDEX([1]RELAÇÃO!$A$1:$AQ$576,MATCH($N105,[1]RELAÇÃO!$AQ$1:$AQ$576,0),29)&\" - \"&INDEX([1]RELAÇÃO!$A$1:$AQ$576,MATCH($N105,[1]RELAÇÃO!$AQ$1:$AQ$576,0),31)&\" de \"&INDEX([1]RELAÇÃO!$A$1:$AQ$576,MATCH($N105,[1]RELAÇÃO!$AQ$1:$AQ$576,0),30))","v":"Portaria nº 206, de 16/05/2014 - DOU de 19/05/2014"},{"$f":"IF($E105=0,\"-\",IF(INDEX([1]RELAÇÃO!$A$1:$AQ$576,MATCH($M105,[1]RELAÇÃO!$AP$1:$AP$576,0),8)=\"8.104.000\",\"-\",INDEX([1]RELAÇÃO!$A$1:$AQ$576,MATCH($M105,[1]RELAÇÃO!$AP$1:$AP$576,0),7)))","v":"-"},"SE35","SE16S"]
[null,"Assistente","DAS 102.2","ASS",{"$f":"INDEX([1]RELAÇÃO!$A$1:$AQ$576,MATCH($M106,[1]RELAÇÃO!$AP$1:$AP$576,0),1)","v":"ALDINEA DO CARMO CORDEIRO NOGUEIRA"},{"$f":"IF(E106=0,\"-\",LEFT(INDEX([1]RELAÇÃO!$A$1:$AQ$576,MATCH($M106,[1]RELAÇÃO!$AP$1:$AP$576,0),32),1))","v":"F"},{"$f":"IF(E106=0,\"-\",INDEX([1]RELAÇÃO!$A$1:$AQ$576,MATCH($M106,[1]RELAÇÃO!$AP$1:$AP$576,0),5))","v":"Sem Vínculo"},{"$f":"IF(E106=0,\"-\",INDEX([1]RELAÇÃO!$A$1:$AQ$576,MATCH($M106,[1]RELAÇÃO!$AP$1:$AP$576,0),6))","v":"Sem Vínculo"},{"$f":"IF(E106=0,\"-\",INDEX([1]RELAÇÃO!$A$1:$AQ$576,MATCH($M106,[1]RELAÇÃO!$AP$1:$AP$576,0),12)&INDEX([1]RELAÇÃO!$A$1:$AQ$576,MATCH($M106,[1]RELAÇÃO!$AP$1:$AP$576,0),13)&\", de \"&INDEX([1]RELAÇÃO!$A$1:$AQ$576,MATCH($M106,[1]RELAÇÃO!$AP$1:$AP$576,0),14)&\" - \"&INDEX([1]RELAÇÃO!$A$1:$AQ$576,MATCH($M106,[1]RELAÇÃO!$AP$1:$AP$576,0),16)&\" de \"&INDEX([1]RELAÇÃO!$A$1:$AQ$576,MATCH($M106,[1]RELAÇÃO!$AP$1:$AP$576,0),15))","v":"Portaria nº 524, de 03/11/2016 - BPE de 04/11/2016"},null,null,{"$f":"IF($E106=0,\"-\",IF(INDEX([1]RELAÇÃO!$A$1:$AQ$576,MATCH($M106,[1]RELAÇÃO!$AP$1:$AP$576,0),8)=\"8.104.000\",\"-\",INDEX([1]RELAÇÃO!$A$1:$AQ$576,MATCH($M106,[1]RELAÇÃO!$AP$1:$AP$576,0),7)))","v":"SE / CHEFIA DE GABINETE SE"},"SE36"]
["Coordenação-Geral de Avaliação Ambiental e Acompanhamento de Licenciamento","Coordenador-Geral","DAS 101.4","GER",{"$f":"INDEX([1]RELAÇÃO!$A$1:$AQ$576,MATCH($M107,[1]RELAÇÃO!$AP$1:$AP$576,0),1)","v":"VERONICA E SILVA SOUSA"},{"$f":"IF(E107=0,\"-\",LEFT(INDEX([1]RELAÇÃO!$A$1:$AQ$576,MATCH($M107,[1]RELAÇÃO!$AP$1:$AP$576,0),32),1))","v":"F"},{"$f":"IF(E107=0,\"-\",INDEX([1]RELAÇÃO!$A$1:$AQ$576,MATCH($M107,[1]RELAÇÃO!$AP$1:$AP$576,0),5))","v":"Sem Vínculo"},{"$f":"IF(E107=0,\"-\",INDEX([1]RELAÇÃO!$A$1:$AQ$576,MATCH($M107,[1]RELAÇÃO!$AP$1:$AP$576,0),6))","v":"Sem Vínculo"},{"$f":"IF(E107=0,\"-\",INDEX([1]RELAÇÃO!$A$1:$AQ$576,MATCH($M107,[1]RELAÇÃO!$AP$1:$AP$576,0),12)&INDEX([1]RELAÇÃO!$A$1:$AQ$576,MATCH($M107,[1]RELAÇÃO!$AP$1:$AP$576,0),13)&\", de \"&INDEX([1]RELAÇÃO!$A$1:$AQ$576,MATCH($M107,[1]RELAÇÃO!$AP$1:$AP$576,0),14)&\" - \"&INDEX([1]RELAÇÃO!$A$1:$AQ$576,MATCH($M107,[1]RELAÇÃO!$AP$1:$AP$576,0),16)&\" de \"&INDEX([1]RELAÇÃO!$A$1:$AQ$576,MATCH($M107,[1]RELAÇÃO!$AP$1:$AP$576,0),15))","v":"Portaria nº 543, de 03/11/2016 - DOU de 04/11/2016"},{"$f":"INDEX([1]RELAÇÃO!$A$1:$AQ$576,MATCH($N107,[1]RELAÇÃO!$AQ$1:$AQ$576,0),1)","v":"MAYARA CARDOSO"},{"$f":"IF(J107=0,\"-\",INDEX([1]RELAÇÃO!$A$1:$AQ$576,MATCH($N107,[1]RELAÇÃO!$AQ$1:$AQ$576,0),27)&INDEX([1]RELAÇÃO!$A$1:$AQ$576,MATCH($N107,[1]RELAÇÃO!$AQ$1:$AQ$576,0),28)&\", de \"&INDEX([1]RELAÇÃO!$A$1:$AQ$576,MATCH($N107,[1]RELAÇÃO!$AQ$1:$AQ$576,0),29)&\" - \"&INDEX([1]RELAÇÃO!$A$1:$AQ$576,MATCH($N107,[1]RELAÇÃO!$AQ$1:$AQ$576,0),31)&\" de \"&INDEX([1]RELAÇÃO!$A$1:$AQ$576,MATCH($N107,[1]RELAÇÃO!$AQ$1:$AQ$576,0),30))","v":"Portaria nº 274, de 03/07/2020 - DOU de 09/07/2020"},{"$f":"IF($E107=0,\"-\",IF(INDEX([1]RELAÇÃO!$A$1:$AQ$576,MATCH($M107,[1]RELAÇÃO!$AP$1:$AP$576,0),8)=\"8.104.100\",\"-\",INDEX([1]RELAÇÃO!$A$1:$AQ$576,MATCH($M107,[1]RELAÇÃO!$AP$1:$AP$576,0),7)))","v":"-"},"SE37","SE17S"]
["Coordenação-Geral de Articulação Institucional em Meio Ambiente","Coordenador-Geral","FCPE 101.4","GER",{"$f":"INDEX([1]RELAÇÃO!$A$1:$AQ$576,MATCH($M108,[1]RELAÇÃO!$AP$1:$AP$576,0),1)","v":"RITA ALVES SILVA"},{"$f":"IF(E108=0,\"-\",LEFT(INDEX([1]RELAÇÃO!$A$1:$AQ$576,MATCH($M108,[1]RELAÇÃO!$AP$1:$AP$576,0),32),1))","v":"F"},{"$f":"IF(E108=0,\"-\",INDEX([1]RELAÇÃO!$A$1:$AQ$576,MATCH($M108,[1]RELAÇÃO!$AP$1:$AP$576,0),5))","v":"Exercício Descentralizado"},{"$f":"IF(E108=0,\"-\",INDEX([1]RELAÇÃO!$A$1:$AQ$576,MATCH($M108,[1]RELAÇÃO!$AP$1:$AP$576,0),6))","v":"ME - Ministério da Economia"},{"$f":"IF(E108=0,\"-\",INDEX([1]RELAÇÃO!$A$1:$AQ$576,MATCH($M108,[1]RELAÇÃO!$AP$1:$AP$576,0),12)&INDEX([1]RELAÇÃO!$A$1:$AQ$576,MATCH($M108,[1]RELAÇÃO!$AP$1:$AP$576,0),13)&\", de \"&INDEX([1]RELAÇÃO!$A$1:$AQ$576,MATCH($M108,[1]RELAÇÃO!$AP$1:$AP$576,0),14)&\" - \"&INDEX([1]RELAÇÃO!$A$1:$AQ$576,MATCH($M108,[1]RELAÇÃO!$AP$1:$AP$576,0),16)&\" de \"&INDEX([1]RELAÇÃO!$A$1:$AQ$576,MATCH($M108,[1]RELAÇÃO!$AP$1:$AP$576,0),15))","v":"Portaria nº 546, de 03/11/2016 - DOU de 04/11/2016"},{"$f":"INDEX([1]RELAÇÃO!$A$1:$AQ$576,MATCH($N108,[1]RELAÇÃO!$AQ$1:$AQ$576,0),1)","v":"RICARDO DA COSTA RIBEIRO"},{"$f":"IF(J108=0,\"-\",INDEX([1]RELAÇÃO!$A$1:$AQ$576,MATCH($N108,[1]RELAÇÃO!$AQ$1:$AQ$576,0),27)&INDEX([1]RELAÇÃO!$A$1:$AQ$576,MATCH($N108,[1]RELAÇÃO!$AQ$1:$AQ$576,0),28)&\", de \"&INDEX([1]RELAÇÃO!$A$1:$AQ$576,MATCH($N108,[1]RELAÇÃO!$AQ$1:$AQ$576,0),29)&\" - \"&INDEX([1]RELAÇÃO!$A$1:$AQ$576,MATCH($N108,[1]RELAÇÃO!$AQ$1:$AQ$576,0),31)&\" de \"&INDEX([1]RELAÇÃO!$A$1:$AQ$576,MATCH($N108,[1]RELAÇÃO!$AQ$1:$AQ$576,0),30))","v":"Portaria nº 273, de 03/07/2020 - DOU de 09/07/2020"},{"$f":"IF($E108=0,\"-\",IF(INDEX([1]RELAÇÃO!$A$1:$AQ$576,MATCH($M108,[1]RELAÇÃO!$AP$1:$AP$576,0),8)=\"8.104.200\",\"-\",INDEX([1]RELAÇÃO!$A$1:$AQ$576,MATCH($M108,[1]RELAÇÃO!$AP$1:$AP$576,0),7)))","v":"-"},"SE38","SE18S"]
["Subsecretaria de Planejamento, Orçamento e Administração","Subsecretário","DAS 101.5","GER",{"$f":"INDEX([1]RELAÇÃO!$A$1:$AQ$576,MATCH($M109,[1]RELAÇÃO!$AP$1:$AP$576,0),1)","v":"HELIO MOURINHO GARCIA JUNIOR"},{"$f":"IF(E109=0,\"-\",LEFT(INDEX([1]RELAÇÃO!$A$1:$AQ$576,MATCH($M109,[1]RELAÇÃO!$AP$1:$AP$576,0),32),1))","v":"M"},{"$f":"IF(E109=0,\"-\",INDEX([1]RELAÇÃO!$A$1:$AQ$576,MATCH($M109,[1]RELAÇÃO!$AP$1:$AP$576,0),5))","v":"Sem Vínculo"},{"$f":"IF(E109=0,\"-\",INDEX([1]RELAÇÃO!$A$1:$AQ$576,MATCH($M109,[1]RELAÇÃO!$AP$1:$AP$576,0),6))","v":"Sem Vínculo"},{"$f":"IF(E109=0,\"-\",INDEX([1]RELAÇÃO!$A$1:$AQ$576,MATCH($M109,[1]RELAÇÃO!$AP$1:$AP$576,0),12)&INDEX([1]RELAÇÃO!$A$1:$AQ$576,MATCH($M109,[1]RELAÇÃO!$AP$1:$AP$576,0),13)&\", de \"&INDEX([1]RELAÇÃO!$A$1:$AQ$576,MATCH($M109,[1]RELAÇÃO!$AP$1:$AP$576,0),14)&\" - \"&INDEX([1]RELAÇÃO!$A$1:$AQ$576,MATCH($M109,[1]RELAÇÃO!$AP$1:$AP$576,0),16)&\" de \"&INDEX([1]RELAÇÃO!$A$1:$AQ$576,MATCH($M109,[1]RELAÇÃO!$AP$1:$AP$576,0),15))","v":"Portaria nº 655, de 17/01/2019 - DOU de 18/01/2019"},{"$f":"INDEX([1]RELAÇÃO!$A$1:$AQ$576,MATCH($N109,[1]RELAÇÃO!$AQ$1:$AQ$576,0),1)","v":"MANOEL HUMBERTO LEMOS DA SILVA"},{"$f":"IF(J109=0,\"-\",INDEX([1]RELAÇÃO!$A$1:$AQ$576,MATCH($N109,[1]RELAÇÃO!$AQ$1:$AQ$576,0),27)&INDEX([1]RELAÇÃO!$A$1:$AQ$576,MATCH($N109,[1]RELAÇÃO!$AQ$1:$AQ$576,0),28)&\", de \"&INDEX([1]RELAÇÃO!$A$1:$AQ$576,MATCH($N109,[1]RELAÇÃO!$AQ$1:$AQ$576,0),29)&\" - \"&INDEX([1]RELAÇÃO!$A$1:$AQ$576,MATCH($N109,[1]RELAÇÃO!$AQ$1:$AQ$576,0),31)&\" de \"&INDEX([1]RELAÇÃO!$A$1:$AQ$576,MATCH($N109,[1]RELAÇÃO!$AQ$1:$AQ$576,0),30))","v":"Portaria nº 85, de 09/03/2020 - DOU de 11/03/2020"},{"$f":"IF($E109=0,\"-\",IF(INDEX([1]RELAÇÃO!$A$1:$AQ$576,MATCH($M109,[1]RELAÇÃO!$AP$1:$AP$576,0),8)=\"8.105.000\",\"-\",INDEX([1]RELAÇÃO!$A$1:$AQ$576,MATCH($M109,[1]RELAÇÃO!$AP$1:$AP$576,0),7)))","v":"-"},"SE39","SE19S"]
[null,"Assessor","DAS 102.4","ASS",{"$f":"INDEX([1]RELAÇÃO!$A$1:$AQ$576,MATCH($M110,[1]RELAÇÃO!$AP$1:$AP$576,0),1)","v":"MANOEL HUMBERTO LEMOS DA SILVA"},{"$f":"IF(E110=0,\"-\",LEFT(INDEX([1]RELAÇÃO!$A$1:$AQ$576,MATCH($M110,[1]RELAÇÃO!$AP$1:$AP$576,0),32),1))","v":"M"},{"$f":"IF(E110=0,\"-\",INDEX([1]RELAÇÃO!$A$1:$AQ$576,MATCH($M110,[1]RELAÇÃO!$AP$1:$AP$576,0),5))","v":"Sem Vínculo"},{"$f":"IF(E110=0,\"-\",INDEX([1]RELAÇÃO!$A$1:$AQ$576,MATCH($M110,[1]RELAÇÃO!$AP$1:$AP$576,0),6))","v":"Sem Vínculo"},{"$f":"IF(E110=0,\"-\",INDEX([1]RELAÇÃO!$A$1:$AQ$576,MATCH($M110,[1]RELAÇÃO!$AP$1:$AP$576,0),12)&INDEX([1]RELAÇÃO!$A$1:$AQ$576,MATCH($M110,[1]RELAÇÃO!$AP$1:$AP$576,0),13)&\", de \"&INDEX([1]RELAÇÃO!$A$1:$AQ$576,MATCH($M110,[1]RELAÇÃO!$AP$1:$AP$576,0),14)&\" - \"&INDEX([1]RELAÇÃO!$A$1:$AQ$576,MATCH($M110,[1]RELAÇÃO!$AP$1:$AP$576,0),16)&\" de \"&INDEX([1]RELAÇÃO!$A$1:$AQ$576,MATCH($M110,[1]RELAÇÃO!$AP$1:$AP$576,0),15))","v":"Portaria nº 524, de 03/11/2016 - BPE de 04/11/2016"},null,null,{"$f":"IF($E110=0,\"-\",IF(INDEX([1]RELAÇÃO!$A$1:$AQ$576,MATCH($M110,[1]RELAÇÃO!$AP$1:$AP$576,0),8)=\"8.105.000\",\"-\",INDEX([1]RELAÇÃO!$A$1:$AQ$576,MATCH($M110,[1]RELAÇÃO!$AP$1:$AP$576,0),7)))","v":"-"},"SE40"]
[null,"Assistente","DAS 102.2","ASS",{"$f":"INDEX([1]RELAÇÃO!$A$1:$AQ$576,MATCH($M111,[1]RELAÇÃO!$AP$1:$AP$576,0),1)","v":"CLARICE GOMES DA SILVA"},{"$f":"IF(E111=0,\"-\",LEFT(INDEX([1]RELAÇÃO!$A$1:$AQ$576,MATCH($M111,[1]RELAÇÃO!$AP$1:$AP$576,0),32),1))","v":"F"},{"$f":"IF(E111=0,\"-\",INDEX([1]RELAÇÃO!$A$1:$AQ$576,MATCH($M111,[1]RELAÇÃO!$AP$1:$AP$576,0),5))","v":"Anistiado MME"},{"$f":"IF(E111=0,\"-\",INDEX([1]RELAÇÃO!$A$1:$AQ$576,MATCH($M111,[1]RELAÇÃO!$AP$1:$AP$576,0),6))","v":"MME - Ministério de Minas e Energia"},{"$f":"IF(E111=0,\"-\",INDEX([1]RELAÇÃO!$A$1:$AQ$576,MATCH($M111,[1]RELAÇÃO!$AP$1:$AP$576,0),12)&INDEX([1]RELAÇÃO!$A$1:$AQ$576,MATCH($M111,[1]RELAÇÃO!$AP$1:$AP$576,0),13)&\", de \"&INDEX([1]RELAÇÃO!$A$1:$AQ$576,MATCH($M111,[1]RELAÇÃO!$AP$1:$AP$576,0),14)&\" - \"&INDEX([1]RELAÇÃO!$A$1:$AQ$576,MATCH($M111,[1]RELAÇÃO!$AP$1:$AP$576,0),16)&\" de \"&INDEX([1]RELAÇÃO!$A$1:$AQ$576,MATCH($M111,[1]RELAÇÃO!$AP$1:$AP$576,0),15))","v":"Portaria nº 112, de 06/02/2019 - DOU de 08/02/2019"},null,null,{"$f":"IF($E111=0,\"-\",IF(INDEX([1]RELAÇÃO!$A$1:$AQ$576,MATCH($M111,[1]RELAÇÃO!$AP$1:$AP$576,0),8)=\"8.105.000\",\"-\",INDEX([1]RELAÇÃO!$A$1:$AQ$576,MATCH($M111,[1]RELAÇÃO!$AP$1:$AP$576,0),7)))","v":"SE / SPOA / CGRL / COORDENAÇÃO DE ATIVIDADES GERAIS - COAGE"},"SE41"]
[null,"Assistente","DAS 102.2","ASS",{"$f":"INDEX([1]RELAÇÃO!$A$1:$AQ$576,MATCH($M112,[1]RELAÇÃO!$AP$1:$AP$576,0),1)","v":"ANADERGI ROSA DE FREITAS"},{"$f":"IF(E112=0,\"-\",LEFT(INDEX([1]RELAÇÃO!$A$1:$AQ$576,MATCH($M112,[1]RELAÇÃO!$AP$1:$AP$576,0),32),1))","v":"F"},{"$f":"IF(E112=0,\"-\",INDEX([1]RELAÇÃO!$A$1:$AQ$576,MATCH($M112,[1]RELAÇÃO!$AP$1:$AP$576,0),5))","v":"Sem Vínculo"},{"$f":"IF(E112=0,\"-\",INDEX([1]RELAÇÃO!$A$1:$AQ$576,MATCH($M112,[1]RELAÇÃO!$AP$1:$AP$576,0),6))","v":"Sem Vínculo"},{"$f":"IF(E112=0,\"-\",INDEX([1]RELAÇÃO!$A$1:$AQ$576,MATCH($M112,[1]RELAÇÃO!$AP$1:$AP$576,0),12)&INDEX([1]RELAÇÃO!$A$1:$AQ$576,MATCH($M112,[1]RELAÇÃO!$AP$1:$AP$576,0),13)&\", de \"&INDEX([1]RELAÇÃO!$A$1:$AQ$576,MATCH($M112,[1]RELAÇÃO!$AP$1:$AP$576,0),14)&\" - \"&INDEX([1]RELAÇÃO!$A$1:$AQ$576,MATCH($M112,[1]RELAÇÃO!$AP$1:$AP$576,0),16)&\" de \"&INDEX([1]RELAÇÃO!$A$1:$AQ$576,MATCH($M112,[1]RELAÇÃO!$AP$1:$AP$576,0),15))","v":"Portaria nº 2, de 06/01/2020 - DOU de 07/01/2020"},null,null,{"$f":"IF($E112=0,\"-\",IF(INDEX([1]RELAÇÃO!$A$1:$AQ$576,MATCH($M112,[1]RELAÇÃO!$AP$1:$AP$576,0),8)=\"8.105.000\",\"-\",INDEX([1]RELAÇÃO!$A$1:$AQ$576,MATCH($M112,[1]RELAÇÃO!$AP$1:$AP$576,0),7)))","v":"SE / SPOA / CGRL / COORDENAÇÃO DE ATIVIDADES GERAIS - COAGE"},"SE42"]
[null,"Assistente Técnico","DAS 102.1","ASS",{"$f":"INDEX([1]RELAÇÃO!$A$1:$AQ$576,MATCH($M113,[1]RELAÇÃO!$AP$1:$AP$576,0),1)","v":"AIRTON OLIVEIRA LIMA"},{"$f":"IF(E113=0,\"-\",LEFT(INDEX([1]RELAÇÃO!$A$1:$AQ$576,MATCH($M113,[1]RELAÇÃO!$AP$1:$AP$576,0),32),1))","v":"M"},{"$f":"IF(E113=0,\"-\",INDEX([1]RELAÇÃO!$A$1:$AQ$576,MATCH($M113,[1]RELAÇÃO!$AP$1:$AP$576,0),5))","v":"Sem Vínculo"},{"$f":"IF(E113=0,\"-\",INDEX([1]RELAÇÃO!$A$1:$AQ$576,MATCH($M113,[1]RELAÇÃO!$AP$1:$AP$576,0),6))","v":"Sem Vínculo"},{"$f":"IF(E113=0,\"-\",INDEX([1]RELAÇÃO!$A$1:$AQ$576,MATCH($M113,[1]RELAÇÃO!$AP$1:$AP$576,0),12)&INDEX([1]RELAÇÃO!$A$1:$AQ$576,MATCH($M113,[1]RELAÇÃO!$AP$1:$AP$576,0),13)&\", de \"&INDEX([1]RELAÇÃO!$A$1:$AQ$576,MATCH($M113,[1]RELAÇÃO!$AP$1:$AP$576,0),14)&\" - \"&INDEX([1]RELAÇÃO!$A$1:$AQ$576,MATCH($M113,[1]RELAÇÃO!$AP$1:$AP$576,0),16)&\" de \"&INDEX([1]RELAÇÃO!$A$1:$AQ$576,MATCH($M113,[1]RELAÇÃO!$AP$1:$AP$576,0),15))","v":"Portaria nº 389, de 14/09/2018 - DOU de 17/09/2018"},null,null,{"$f":"IF($E113=0,\"-\",IF(INDEX([1]RELAÇÃO!$A$1:$AQ$576,MATCH($M113,[1]RELAÇÃO!$AP$1:$AP$576,0),8)=\"8.105.000\",\"-\",INDEX([1]RELAÇÃO!$A$1:$AQ$576,MATCH($M113,[1]RELAÇÃO!$AP$1:$AP$576,0),7)))","v":"SE / SPOA / CGRL / COORDENAÇÃO DE ATIVIDADES GERAIS - COAGE"},"SE43"]
["Coordenação de Modernização Administrativa","Coordenador","DAS 101.3","GER",{"$f":"INDEX([1]RELAÇÃO!$A$1:$AQ$576,MATCH($M114,[1]RELAÇÃO!$AP$1:$AP$576,0),1)","v":"TEREZINHA AGUIAR ALMEIDA"},{"$f":"IF(E114=0,\"-\",LEFT(INDEX([1]RELAÇÃO!$A$1:$AQ$576,MATCH($M114,[1]RELAÇÃO!$AP$1:$AP$576,0),32),1))","v":"F"},{"$f":"IF(E114=0,\"-\",INDEX([1]RELAÇÃO!$A$1:$AQ$576,MATCH($M114,[1]RELAÇÃO!$AP$1:$AP$576,0),5))","v":"Ativo Permanente"},{"$f":"IF(E114=0,\"-\",INDEX([1]RELAÇÃO!$A$1:$AQ$576,MATCH($M114,[1]RELAÇÃO!$AP$1:$AP$576,0),6))","v":"MME - Ministério de Minas e Energia"},{"$f":"IF(E114=0,\"-\",INDEX([1]RELAÇÃO!$A$1:$AQ$576,MATCH($M114,[1]RELAÇÃO!$AP$1:$AP$576,0),12)&INDEX([1]RELAÇÃO!$A$1:$AQ$576,MATCH($M114,[1]RELAÇÃO!$AP$1:$AP$576,0),13)&\", de \"&INDEX([1]RELAÇÃO!$A$1:$AQ$576,MATCH($M114,[1]RELAÇÃO!$AP$1:$AP$576,0),14)&\" - \"&INDEX([1]RELAÇÃO!$A$1:$AQ$576,MATCH($M114,[1]RELAÇÃO!$AP$1:$AP$576,0),16)&\" de \"&INDEX([1]RELAÇÃO!$A$1:$AQ$576,MATCH($M114,[1]RELAÇÃO!$AP$1:$AP$576,0),15))","v":"Portaria nº 524, de 03/11/2016 - BPE de 04/11/2016"},{"$f":"INDEX([1]RELAÇÃO!$A$1:$AQ$576,MATCH($N114,[1]RELAÇÃO!$AQ$1:$AQ$576,0),1)","v":"EDUARDO JOSÉ FERNANDES PRATA"},{"$f":"IF(J114=0,\"-\",INDEX([1]RELAÇÃO!$A$1:$AQ$576,MATCH($N114,[1]RELAÇÃO!$AQ$1:$AQ$576,0),27)&INDEX([1]RELAÇÃO!$A$1:$AQ$576,MATCH($N114,[1]RELAÇÃO!$AQ$1:$AQ$576,0),28)&\", de \"&INDEX([1]RELAÇÃO!$A$1:$AQ$576,MATCH($N114,[1]RELAÇÃO!$AQ$1:$AQ$576,0),29)&\" - \"&INDEX([1]RELAÇÃO!$A$1:$AQ$576,MATCH($N114,[1]RELAÇÃO!$AQ$1:$AQ$576,0),31)&\" de \"&INDEX([1]RELAÇÃO!$A$1:$AQ$576,MATCH($N114,[1]RELAÇÃO!$AQ$1:$AQ$576,0),30))","v":"Portaria nº 174, de 10/07/2006 - DOU de 11/07/2006"},{"$f":"IF($E114=0,\"-\",IF(INDEX([1]RELAÇÃO!$A$1:$AQ$576,MATCH($M114,[1]RELAÇÃO!$AP$1:$AP$576,0),8)=\"8.105.010\",\"-\",INDEX([1]RELAÇÃO!$A$1:$AQ$576,MATCH($M114,[1]RELAÇÃO!$AP$1:$AP$576,0),7)))","v":"-"},"SE44","SE20S"]
[null,"Assistente Técnico","FCPE 102.1","ASS",{"$f":"INDEX([1]RELAÇÃO!$A$1:$AQ$576,MATCH($M115,[1]RELAÇÃO!$AP$1:$AP$576,0),1)","v":"CONCEICAO DE MARIA OLIVEIRA COSTA"},{"$f":"IF(E115=0,\"-\",LEFT(INDEX([1]RELAÇÃO!$A$1:$AQ$576,MATCH($M115,[1]RELAÇÃO!$AP$1:$AP$576,0),32),1))","v":"F"},{"$f":"IF(E115=0,\"-\",INDEX([1]RELAÇÃO!$A$1:$AQ$576,MATCH($M115,[1]RELAÇÃO!$AP$1:$AP$576,0),5))","v":"Ativo Permanente"},{"$f":"IF(E115=0,\"-\",INDEX([1]RELAÇÃO!$A$1:$AQ$576,MATCH($M115,[1]RELAÇÃO!$AP$1:$AP$576,0),6))","v":"MME - Ministério de Minas e Energia"},{"$f":"IF(E115=0,\"-\",INDEX([1]RELAÇÃO!$A$1:$AQ$576,MATCH($M115,[1]RELAÇÃO!$AP$1:$AP$576,0),12)&INDEX([1]RELAÇÃO!$A$1:$AQ$576,MATCH($M115,[1]RELAÇÃO!$AP$1:$AP$576,0),13)&\", de \"&INDEX([1]RELAÇÃO!$A$1:$AQ$576,MATCH($M115,[1]RELAÇÃO!$AP$1:$AP$576,0),14)&\" - \"&INDEX([1]RELAÇÃO!$A$1:$AQ$576,MATCH($M115,[1]RELAÇÃO!$AP$1:$AP$576,0),16)&\" de \"&INDEX([1]RELAÇÃO!$A$1:$AQ$576,MATCH($M115,[1]RELAÇÃO!$AP$1:$AP$576,0),15))","v":"Portaria nº 558, de 03/11/2016 - DOU de 04/11/2016"},null,null,{"$f":"IF($E115=0,\"-\",IF(INDEX([1]RELAÇÃO!$A$1:$AQ$576,MATCH($M115,[1]RELAÇÃO!$AP$1:$AP$576,0),8)=\"8.105.010\",\"-\",INDEX([1]RELAÇÃO!$A$1:$AQ$576,MATCH($M115,[1]RELAÇÃO!$AP$1:$AP$576,0),7)))","v":"-"},"SE45"]
[null,"Assistente Técnico","FCPE 102.1","ASS",{"$f":"INDEX([1]RELAÇÃO!$A$1:$AQ$576,MATCH($M116,[1]RELAÇÃO!$AP$1:$AP$576,0),1)","v":"EDUARDO JOSÉ FERNANDES PRATA"},{"$f":"IF(E116=0,\"-\",LEFT(INDEX([1]RELAÇÃO!$A$1:$AQ$576,MATCH($M116,[1]RELAÇÃO!$AP$1:$AP$576,0),32),1))","v":"M"},{"$f":"IF(E116=0,\"-\",INDEX([1]RELAÇÃO!$A$1:$AQ$576,MATCH($M116,[1]RELAÇÃO!$AP$1:$AP$576,0),5))","v":"Ativo Permanente"},{"$f":"IF(E116=0,\"-\",INDEX([1]RELAÇÃO!$A$1:$AQ$576,MATCH($M116,[1]RELAÇÃO!$AP$1:$AP$576,0),6))","v":"MME - Ministério de Minas e Energia"},{"$f":"IF(E116=0,\"-\",INDEX([1]RELAÇÃO!$A$1:$AQ$576,MATCH($M116,[1]RELAÇÃO!$AP$1:$AP$576,0),12)&INDEX([1]RELAÇÃO!$A$1:$AQ$576,MATCH($M116,[1]RELAÇÃO!$AP$1:$AP$576,0),13)&\", de \"&INDEX([1]RELAÇÃO!$A$1:$AQ$576,MATCH($M116,[1]RELAÇÃO!$AP$1:$AP$576,0),14)&\" - \"&INDEX([1]RELAÇÃO!$A$1:$AQ$576,MATCH($M116,[1]RELAÇÃO!$AP$1:$AP$576,0),16)&\" de \"&INDEX([1]RELAÇÃO!$A$1:$AQ$576,MATCH($M116,[1]RELAÇÃO!$AP$1:$AP$576,0),15))","v":"Portaria nº 559, de 03/11/2016 - DOU de 04/11/2016"},null,null,{"$f":"IF($E116=0,\"-\",IF(INDEX([1]RELAÇÃO!$A$1:$AQ$576,MATCH($M116,[1]RELAÇÃO!$AP$1:$AP$576,0),8)=\"8.105.010\",\"-\",INDEX([1]RELAÇÃO!$A$1:$AQ$576,MATCH($M116,[1]RELAÇÃO!$AP$1:$AP$576,0),7)))","v":"-"},"SE46"]
[null,"Assistente Técnico","FCPE 102.1","ASS",{"$f":"INDEX([1]RELAÇÃO!$A$1:$AQ$576,MATCH($M117,[1]RELAÇÃO!$AP$1:$AP$576,0),1)","v":"FERNANDA MARIA DE MELO SILVA MARRA"},{"$f":"IF(E117=0,\"-\",LEFT(INDEX([1]RELAÇÃO!$A$1:$AQ$576,MATCH($M117,[1]RELAÇÃO!$AP$1:$AP$576,0),32),1))","v":"F"},{"$f":"IF(E117=0,\"-\",INDEX([1]RELAÇÃO!$A$1:$AQ$576,MATCH($M117,[1]RELAÇÃO!$AP$1:$AP$576,0),5))","v":"Ativo Permanente"},{"$f":"IF(E117=0,\"-\",INDEX([1]RELAÇÃO!$A$1:$AQ$576,MATCH($M117,[1]RELAÇÃO!$AP$1:$AP$576,0),6))","v":"MME - Ministério de Minas e Energia"},{"$f":"IF(E117=0,\"-\",INDEX([1]RELAÇÃO!$A$1:$AQ$576,MATCH($M117,[1]RELAÇÃO!$AP$1:$AP$576,0),12)&INDEX([1]RELAÇÃO!$A$1:$AQ$576,MATCH($M117,[1]RELAÇÃO!$AP$1:$AP$576,0),13)&\", de \"&INDEX([1]RELAÇÃO!$A$1:$AQ$576,MATCH($M117,[1]RELAÇÃO!$AP$1:$AP$576,0),14)&\" - \"&INDEX([1]RELAÇÃO!$A$1:$AQ$576,MATCH($M117,[1]RELAÇÃO!$AP$1:$AP$576,0),16)&\" de \"&INDEX([1]RELAÇÃO!$A$1:$AQ$576,MATCH($M117,[1]RELAÇÃO!$AP$1:$AP$576,0),15))","v":"Portaria nº 560, de 03/11/2016 - DOU de 04/11/2016"},null,null,{"$f":"IF($E117=0,\"-\",IF(INDEX([1]RELAÇÃO!$A$1:$AQ$576,MATCH($M117,[1]RELAÇÃO!$AP$1:$AP$576,0),8)=\"8.105.010\",\"-\",INDEX([1]RELAÇÃO!$A$1:$AQ$576,MATCH($M117,[1]RELAÇÃO!$AP$1:$AP$576,0),7)))","v":"-"},"SE47"]
["Coordenação-Geral de Recursos Logísticos","Coordenador-Geral","DAS 101.4","GER",{"$f":"INDEX([1]RELAÇÃO!$A$1:$AQ$576,MATCH($M118,[1]RELAÇÃO!$AP$1:$AP$576,0),1)","v":"ANDREA CRISTINA ANDRADE SANTOS CARVALHO"},{"$f":"IF(E118=0,\"-\",LEFT(INDEX([1]RELAÇÃO!$A$1:$AQ$576,MATCH($M118,[1]RELAÇÃO!$AP$1:$AP$576,0),32),1))","v":"F"},{"$f":"IF(E118=0,\"-\",INDEX([1]RELAÇÃO!$A$1:$AQ$576,MATCH($M118,[1]RELAÇÃO!$AP$1:$AP$576,0),5))","v":"Ativo Permanente"},{"$f":"IF(E118=0,\"-\",INDEX([1]RELAÇÃO!$A$1:$AQ$576,MATCH($M118,[1]RELAÇÃO!$AP$1:$AP$576,0),6))","v":"MME - Ministério de Minas e Energia"},{"$f":"IF(E118=0,\"-\",INDEX([1]RELAÇÃO!$A$1:$AQ$576,MATCH($M118,[1]RELAÇÃO!$AP$1:$AP$576,0),12)&INDEX([1]RELAÇÃO!$A$1:$AQ$576,MATCH($M118,[1]RELAÇÃO!$AP$1:$AP$576,0),13)&\", de \"&INDEX([1]RELAÇÃO!$A$1:$AQ$576,MATCH($M118,[1]RELAÇÃO!$AP$1:$AP$576,0),14)&\" - \"&INDEX([1]RELAÇÃO!$A$1:$AQ$576,MATCH($M118,[1]RELAÇÃO!$AP$1:$AP$576,0),16)&\" de \"&INDEX([1]RELAÇÃO!$A$1:$AQ$576,MATCH($M118,[1]RELAÇÃO!$AP$1:$AP$576,0),15))","v":"Portaria nº 524, de 03/11/2016 - BPE de 04/11/2016"},{"$f":"INDEX([1]RELAÇÃO!$A$1:$AQ$576,MATCH($N118,[1]RELAÇÃO!$AQ$1:$AQ$576,0),1)","v":"ALVANIR DA SILVA CARVALHO"},{"$f":"IF(J118=0,\"-\",INDEX([1]RELAÇÃO!$A$1:$AQ$576,MATCH($N118,[1]RELAÇÃO!$AQ$1:$AQ$576,0),27)&INDEX([1]RELAÇÃO!$A$1:$AQ$576,MATCH($N118,[1]RELAÇÃO!$AQ$1:$AQ$576,0),28)&\", de \"&INDEX([1]RELAÇÃO!$A$1:$AQ$576,MATCH($N118,[1]RELAÇÃO!$AQ$1:$AQ$576,0),29)&\" - \"&INDEX([1]RELAÇÃO!$A$1:$AQ$576,MATCH($N118,[1]RELAÇÃO!$AQ$1:$AQ$576,0),31)&\" de \"&INDEX([1]RELAÇÃO!$A$1:$AQ$576,MATCH($N118,[1]RELAÇÃO!$AQ$1:$AQ$576,0),30))","v":"Portaria nº 202, de 22/05/2009 - DOU de 26/05/2009"},{"$f":"IF($E118=0,\"-\",IF(INDEX([1]RELAÇÃO!$A$1:$AQ$576,MATCH($M118,[1]RELAÇÃO!$AP$1:$AP$576,0),8)=\"8.105.100\",\"-\",INDEX([1]RELAÇÃO!$A$1:$AQ$576,MATCH($M118,[1]RELAÇÃO!$AP$1:$AP$576,0),7)))","v":"-"},"SE48","SE21S"]
[null,"Coordenador de Administração de Material e Execução Financeira","DAS 101.3","GER",{"$f":"INDEX([1]RELAÇÃO!$A$1:$AQ$576,MATCH($M119,[1]RELAÇÃO!$AP$1:$AP$576,0),1)","v":"FERNANDO YAMASHITA"},{"$f":"IF(E119=0,\"-\",LEFT(INDEX([1]RELAÇÃO!$A$1:$AQ$576,MATCH($M119,[1]RELAÇÃO!$AP$1:$AP$576,0),32),1))","v":"M"},{"$f":"IF(E119=0,\"-\",INDEX([1]RELAÇÃO!$A$1:$AQ$576,MATCH($M119,[1]RELAÇÃO!$AP$1:$AP$576,0),5))","v":"Requisitado de Órgãos"},{"$f":"IF(E119=0,\"-\",INDEX([1]RELAÇÃO!$A$1:$AQ$576,MATCH($M119,[1]RELAÇÃO!$AP$1:$AP$576,0),6))","v":"MDR - Ministério do Desenvolvimento Regional"},{"$f":"IF(E119=0,\"-\",INDEX([1]RELAÇÃO!$A$1:$AQ$576,MATCH($M119,[1]RELAÇÃO!$AP$1:$AP$576,0),12)&INDEX([1]RELAÇÃO!$A$1:$AQ$576,MATCH($M119,[1]RELAÇÃO!$AP$1:$AP$576,0),13)&\", de \"&INDEX([1]RELAÇÃO!$A$1:$AQ$576,MATCH($M119,[1]RELAÇÃO!$AP$1:$AP$576,0),14)&\" - \"&INDEX([1]RELAÇÃO!$A$1:$AQ$576,MATCH($M119,[1]RELAÇÃO!$AP$1:$AP$576,0),16)&\" de \"&INDEX([1]RELAÇÃO!$A$1:$AQ$576,MATCH($M119,[1]RELAÇÃO!$AP$1:$AP$576,0),15))","v":"Portaria nº 246, de 28/06/2017 - DOU de 29/06/2017"},{"$f":"INDEX([1]RELAÇÃO!$A$1:$AQ$576,MATCH($N119,[1]RELAÇÃO!$AQ$1:$AQ$576,0),1)","v":"CUSTÓDIA OLIVEIRA PEREIRA"},{"$f":"IF(J119=0,\"-\",INDEX([1]RELAÇÃO!$A$1:$AQ$576,MATCH($N119,[1]RELAÇÃO!$AQ$1:$AQ$576,0),27)&INDEX([1]RELAÇÃO!$A$1:$AQ$576,MATCH($N119,[1]RELAÇÃO!$AQ$1:$AQ$576,0),28)&\", de \"&INDEX([1]RELAÇÃO!$A$1:$AQ$576,MATCH($N119,[1]RELAÇÃO!$AQ$1:$AQ$576,0),29)&\" - \"&INDEX([1]RELAÇÃO!$A$1:$AQ$576,MATCH($N119,[1]RELAÇÃO!$AQ$1:$AQ$576,0),31)&\" de \"&INDEX([1]RELAÇÃO!$A$1:$AQ$576,MATCH($N119,[1]RELAÇÃO!$AQ$1:$AQ$576,0),30))","v":"Portaria nº 129, de 12/04/2018 - DOU de 16/04/2018"},{"$f":"IF($E119=0,\"-\",IF(INDEX([1]RELAÇÃO!$A$1:$AQ$576,MATCH($M119,[1]RELAÇÃO!$AP$1:$AP$576,0),8)=\"8.105.110\",\"-\",INDEX([1]RELAÇÃO!$A$1:$AQ$576,MATCH($M119,[1]RELAÇÃO!$AP$1:$AP$576,0),7)))","v":"-"},"SE49","SE22S"]
[null,"Chefe de Serviço de Gestão de Patrimônio","DAS 101.1","GER",{"$f":"INDEX([1]RELAÇÃO!$A$1:$AQ$576,MATCH($M120,[1]RELAÇÃO!$AP$1:$AP$576,0),1)","v":"MARIA GRIGORIA DE MEDEIROS NETA"},{"$f":"IF(E120=0,\"-\",LEFT(INDEX([1]RELAÇÃO!$A$1:$AQ$576,MATCH($M120,[1]RELAÇÃO!$AP$1:$AP$576,0),32),1))","v":"F"},{"$f":"IF(E120=0,\"-\",INDEX([1]RELAÇÃO!$A$1:$AQ$576,MATCH($M120,[1]RELAÇÃO!$AP$1:$AP$576,0),5))","v":"Sem Vínculo"},{"$f":"IF(E120=0,\"-\",INDEX([1]RELAÇÃO!$A$1:$AQ$576,MATCH($M120,[1]RELAÇÃO!$AP$1:$AP$576,0),6))","v":"Sem Vínculo"},{"$f":"IF(E120=0,\"-\",INDEX([1]RELAÇÃO!$A$1:$AQ$576,MATCH($M120,[1]RELAÇÃO!$AP$1:$AP$576,0),12)&INDEX([1]RELAÇÃO!$A$1:$AQ$576,MATCH($M120,[1]RELAÇÃO!$AP$1:$AP$576,0),13)&\", de \"&INDEX([1]RELAÇÃO!$A$1:$AQ$576,MATCH($M120,[1]RELAÇÃO!$AP$1:$AP$576,0),14)&\" - \"&INDEX([1]RELAÇÃO!$A$1:$AQ$576,MATCH($M120,[1]RELAÇÃO!$AP$1:$AP$576,0),16)&\" de \"&INDEX([1]RELAÇÃO!$A$1:$AQ$576,MATCH($M120,[1]RELAÇÃO!$AP$1:$AP$576,0),15))","v":"Portaria nº 550, de 03/11/2016 - DOU de 04/11/2016"},{"$f":"INDEX([1]RELAÇÃO!$A$1:$AQ$576,MATCH($N120,[1]RELAÇÃO!$AQ$1:$AQ$576,0),1)","v":"GERALDO RIBEIRO DOS SANTOS"},{"$f":"IF(J120=0,\"-\",INDEX([1]RELAÇÃO!$A$1:$AQ$576,MATCH($N120,[1]RELAÇÃO!$AQ$1:$AQ$576,0),27)&INDEX([1]RELAÇÃO!$A$1:$AQ$576,MATCH($N120,[1]RELAÇÃO!$AQ$1:$AQ$576,0),28)&\", de \"&INDEX([1]RELAÇÃO!$A$1:$AQ$576,MATCH($N120,[1]RELAÇÃO!$AQ$1:$AQ$576,0),29)&\" - \"&INDEX([1]RELAÇÃO!$A$1:$AQ$576,MATCH($N120,[1]RELAÇÃO!$AQ$1:$AQ$576,0),31)&\" de \"&INDEX([1]RELAÇÃO!$A$1:$AQ$576,MATCH($N120,[1]RELAÇÃO!$AQ$1:$AQ$576,0),30))","v":"Portaria nº 225, de 07/06/2018 - DOU de 11/06/2018"},{"$f":"IF($E120=0,\"-\",IF(INDEX([1]RELAÇÃO!$A$1:$AQ$576,MATCH($M120,[1]RELAÇÃO!$AP$1:$AP$576,0),8)=\"8.105.110\",\"-\",INDEX([1]RELAÇÃO!$A$1:$AQ$576,MATCH($M120,[1]RELAÇÃO!$AP$1:$AP$576,0),7)))","v":"-"},"SE50","SE23S"]
[null,"Chefe de Serviço de Almoxarifado","DAS 101.1","GER",{"$f":"INDEX([1]RELAÇÃO!$A$1:$AQ$576,MATCH($M121,[1]RELAÇÃO!$AP$1:$AP$576,0),1)","v":0},{"$f":"IF(E121=0,\"-\",LEFT(INDEX([1]RELAÇÃO!$A$1:$AQ$576,MATCH($M121,[1]RELAÇÃO!$AP$1:$AP$576,0),32),1))","v":"-"},{"$f":"IF(E121=0,\"-\",INDEX([1]RELAÇÃO!$A$1:$AQ$576,MATCH($M121,[1]RELAÇÃO!$AP$1:$AP$576,0),5))","v":"-"},{"$f":"IF(E121=0,\"-\",INDEX([1]RELAÇÃO!$A$1:$AQ$576,MATCH($M121,[1]RELAÇÃO!$AP$1:$AP$576,0),6))","v":"-"},{"$f":"IF(E121=0,\"-\",INDEX([1]RELAÇÃO!$A$1:$AQ$576,MATCH($M121,[1]RELAÇÃO!$AP$1:$AP$576,0),12)&INDEX([1]RELAÇÃO!$A$1:$AQ$576,MATCH($M121,[1]RELAÇÃO!$AP$1:$AP$576,0),13)&\", de \"&INDEX([1]RELAÇÃO!$A$1:$AQ$576,MATCH($M121,[1]RELAÇÃO!$AP$1:$AP$576,0),14)&\" - \"&INDEX([1]RELAÇÃO!$A$1:$AQ$576,MATCH($M121,[1]RELAÇÃO!$AP$1:$AP$576,0),16)&\" de \"&INDEX([1]RELAÇÃO!$A$1:$AQ$576,MATCH($M121,[1]RELAÇÃO!$AP$1:$AP$576,0),15))","v":"-"},{"$f":"INDEX([1]RELAÇÃO!$A$1:$AQ$576,MATCH($N121,[1]RELAÇÃO!$AQ$1:$AQ$576,0),1)","v":"RENATO DE SOUSA ALVES"},{"$f":"IF(J121=0,\"-\",INDEX([1]RELAÇÃO!$A$1:$AQ$576,MATCH($N121,[1]RELAÇÃO!$AQ$1:$AQ$576,0),27)&INDEX([1]RELAÇÃO!$A$1:$AQ$576,MATCH($N121,[1]RELAÇÃO!$AQ$1:$AQ$576,0),28)&\", de \"&INDEX([1]RELAÇÃO!$A$1:$AQ$576,MATCH($N121,[1]RELAÇÃO!$AQ$1:$AQ$576,0),29)&\" - \"&INDEX([1]RELAÇÃO!$A$1:$AQ$576,MATCH($N121,[1]RELAÇÃO!$AQ$1:$AQ$576,0),31)&\" de \"&INDEX([1]RELAÇÃO!$A$1:$AQ$576,MATCH($N121,[1]RELAÇÃO!$AQ$1:$AQ$576,0),30))","v":"Portaria nº 348, de 01/09/2017 - DOU de 04/09/2017"},{"$f":"IF($E121=0,\"-\",IF(INDEX([1]RELAÇÃO!$A$1:$AQ$576,MATCH($M121,[1]RELAÇÃO!$AP$1:$AP$576,0),8)=\"8.105.110\",\"-\",INDEX([1]RELAÇÃO!$A$1:$AQ$576,MATCH($M121,[1]RELAÇÃO!$AP$1:$AP$576,0),7)))","v":"-"},"SE51","SE24S"]
[null,"Chefe da Divisão de Controle de Diárias e Passagens","DAS 101.2","GER",{"$f":"INDEX([1]RELAÇÃO!$A$1:$AQ$576,MATCH($M122,[1]RELAÇÃO!$AP$1:$AP$576,0),1)","v":"ALINE DA COSTA PINHEIRO"},{"$f":"IF(E122=0,\"-\",LEFT(INDEX([1]RELAÇÃO!$A$1:$AQ$576,MATCH($M122,[1]RELAÇÃO!$AP$1:$AP$576,0),32),1))","v":"F"},{"$f":"IF(E122=0,\"-\",INDEX([1]RELAÇÃO!$A$1:$AQ$576,MATCH($M122,[1]RELAÇÃO!$AP$1:$AP$576,0),5))","v":"Sem Vínculo"},{"$f":"IF(E122=0,\"-\",INDEX([1]RELAÇÃO!$A$1:$AQ$576,MATCH($M122,[1]RELAÇÃO!$AP$1:$AP$576,0),6))","v":"Sem Vínculo"},{"$f":"IF(E122=0,\"-\",INDEX([1]RELAÇÃO!$A$1:$AQ$576,MATCH($M122,[1]RELAÇÃO!$AP$1:$AP$576,0),12)&INDEX([1]RELAÇÃO!$A$1:$AQ$576,MATCH($M122,[1]RELAÇÃO!$AP$1:$AP$576,0),13)&\", de \"&INDEX([1]RELAÇÃO!$A$1:$AQ$576,MATCH($M122,[1]RELAÇÃO!$AP$1:$AP$576,0),14)&\" - \"&INDEX([1]RELAÇÃO!$A$1:$AQ$576,MATCH($M122,[1]RELAÇÃO!$AP$1:$AP$576,0),16)&\" de \"&INDEX([1]RELAÇÃO!$A$1:$AQ$576,MATCH($M122,[1]RELAÇÃO!$AP$1:$AP$576,0),15))","v":"Portaria nº 296, de 04/08/2017 - DOU de 08/08/2017"},{"$f":"INDEX([1]RELAÇÃO!$A$1:$AQ$576,MATCH($N122,[1]RELAÇÃO!$AQ$1:$AQ$576,0),1)","v":"ADÍLIA EVANGELISTA DE SOUSA"},{"$f":"IF(J122=0,\"-\",INDEX([1]RELAÇÃO!$A$1:$AQ$576,MATCH($N122,[1]RELAÇÃO!$AQ$1:$AQ$576,0),27)&INDEX([1]RELAÇÃO!$A$1:$AQ$576,MATCH($N122,[1]RELAÇÃO!$AQ$1:$AQ$576,0),28)&\", de \"&INDEX([1]RELAÇÃO!$A$1:$AQ$576,MATCH($N122,[1]RELAÇÃO!$AQ$1:$AQ$576,0),29)&\" - \"&INDEX([1]RELAÇÃO!$A$1:$AQ$576,MATCH($N122,[1]RELAÇÃO!$AQ$1:$AQ$576,0),31)&\" de \"&INDEX([1]RELAÇÃO!$A$1:$AQ$576,MATCH($N122,[1]RELAÇÃO!$AQ$1:$AQ$576,0),30))","v":"Portaria nº 433, de 27/11/2019 - DOU de 04/12/2019"},{"$f":"IF($E122=0,\"-\",IF(INDEX([1]RELAÇÃO!$A$1:$AQ$576,MATCH($M122,[1]RELAÇÃO!$AP$1:$AP$576,0),8)=\"8.105.110\",\"-\",INDEX([1]RELAÇÃO!$A$1:$AQ$576,MATCH($M122,[1]RELAÇÃO!$AP$1:$AP$576,0),7)))","v":"-"},"SE52","SE25S"]
[null,"Chefe da Divisão de Execução Orçamentária e Financeira","DAS 101.2","GER",{"$f":"INDEX([1]RELAÇÃO!$A$1:$AQ$576,MATCH($M123,[1]RELAÇÃO!$AP$1:$AP$576,0),1)","v":"CUSTÓDIA OLIVEIRA PEREIRA"},{"$f":"IF(E123=0,\"-\",LEFT(INDEX([1]RELAÇÃO!$A$1:$AQ$576,MATCH($M123,[1]RELAÇÃO!$AP$1:$AP$576,0),32),1))","v":"F"},{"$f":"IF(E123=0,\"-\",INDEX([1]RELAÇÃO!$A$1:$AQ$576,MATCH($M123,[1]RELAÇÃO!$AP$1:$AP$576,0),5))","v":"Sem Vínculo"},{"$f":"IF(E123=0,\"-\",INDEX([1]RELAÇÃO!$A$1:$AQ$576,MATCH($M123,[1]RELAÇÃO!$AP$1:$AP$576,0),6))","v":"Sem Vínculo"},{"$f":"IF(E123=0,\"-\",INDEX([1]RELAÇÃO!$A$1:$AQ$576,MATCH($M123,[1]RELAÇÃO!$AP$1:$AP$576,0),12)&INDEX([1]RELAÇÃO!$A$1:$AQ$576,MATCH($M123,[1]RELAÇÃO!$AP$1:$AP$576,0),13)&\", de \"&INDEX([1]RELAÇÃO!$A$1:$AQ$576,MATCH($M123,[1]RELAÇÃO!$AP$1:$AP$576,0),14)&\" - \"&INDEX([1]RELAÇÃO!$A$1:$AQ$576,MATCH($M123,[1]RELAÇÃO!$AP$1:$AP$576,0),16)&\" de \"&INDEX([1]RELAÇÃO!$A$1:$AQ$576,MATCH($M123,[1]RELAÇÃO!$AP$1:$AP$576,0),15))","v":"Portaria nº 297, de 04/08/2017 - DOU de 08/08/2017"},{"$f":"INDEX([1]RELAÇÃO!$A$1:$AQ$576,MATCH($N123,[1]RELAÇÃO!$AQ$1:$AQ$576,0),1)","v":0},{"$f":"IF(J123=0,\"-\",INDEX([1]RELAÇÃO!$A$1:$AQ$576,MATCH($N123,[1]RELAÇÃO!$AQ$1:$AQ$576,0),27)&INDEX([1]RELAÇÃO!$A$1:$AQ$576,MATCH($N123,[1]RELAÇÃO!$AQ$1:$AQ$576,0),28)&\", de \"&INDEX([1]RELAÇÃO!$A$1:$AQ$576,MATCH($N123,[1]RELAÇÃO!$AQ$1:$AQ$576,0),29)&\" - \"&INDEX([1]RELAÇÃO!$A$1:$AQ$576,MATCH($N123,[1]RELAÇÃO!$AQ$1:$AQ$576,0),31)&\" de \"&INDEX([1]RELAÇÃO!$A$1:$AQ$576,MATCH($N123,[1]RELAÇÃO!$AQ$1:$AQ$576,0),30))","v":"-"},{"$f":"IF($E123=0,\"-\",IF(INDEX([1]RELAÇÃO!$A$1:$AQ$576,MATCH($M123,[1]RELAÇÃO!$AP$1:$AP$576,0),8)=\"8.105.110\",\"-\",INDEX([1]RELAÇÃO!$A$1:$AQ$576,MATCH($M123,[1]RELAÇÃO!$AP$1:$AP$576,0),7)))","v":"-"},"SE53","SE26S"]
[null,"Coordenador de Atividades Gerais","DAS 101.3","GER",{"$f":"INDEX([1]RELAÇÃO!$A$1:$AQ$576,MATCH($M124,[1]RELAÇÃO!$AP$1:$AP$576,0),1)","v":"ALVANIR DA SILVA CARVALHO"},{"$f":"IF(E124=0,\"-\",LEFT(INDEX([1]RELAÇÃO!$A$1:$AQ$576,MATCH($M124,[1]RELAÇÃO!$AP$1:$AP$576,0),32),1))","v":"M"},{"$f":"IF(E124=0,\"-\",INDEX([1]RELAÇÃO!$A$1:$AQ$576,MATCH($M124,[1]RELAÇÃO!$AP$1:$AP$576,0),5))","v":"Sem Vínculo"},{"$f":"IF(E124=0,\"-\",INDEX([1]RELAÇÃO!$A$1:$AQ$576,MATCH($M124,[1]RELAÇÃO!$AP$1:$AP$576,0),6))","v":"Sem Vínculo"},{"$f":"IF(E124=0,\"-\",INDEX([1]RELAÇÃO!$A$1:$AQ$576,MATCH($M124,[1]RELAÇÃO!$AP$1:$AP$576,0),12)&INDEX([1]RELAÇÃO!$A$1:$AQ$576,MATCH($M124,[1]RELAÇÃO!$AP$1:$AP$576,0),13)&\", de \"&INDEX([1]RELAÇÃO!$A$1:$AQ$576,MATCH($M124,[1]RELAÇÃO!$AP$1:$AP$576,0),14)&\" - \"&INDEX([1]RELAÇÃO!$A$1:$AQ$576,MATCH($M124,[1]RELAÇÃO!$AP$1:$AP$576,0),16)&\" de \"&INDEX([1]RELAÇÃO!$A$1:$AQ$576,MATCH($M124,[1]RELAÇÃO!$AP$1:$AP$576,0),15))","v":"Portaria nº 524, de 03/11/2016 - BPE de 04/11/2016"},{"$f":"INDEX([1]RELAÇÃO!$A$1:$AQ$576,MATCH($N124,[1]RELAÇÃO!$AQ$1:$AQ$576,0),1)","v":"MARCIA ALVES DE FIGUEIREDO"},{"$f":"IF(J124=0,\"-\",INDEX([1]RELAÇÃO!$A$1:$AQ$576,MATCH($N124,[1]RELAÇÃO!$AQ$1:$AQ$576,0),27)&INDEX([1]RELAÇÃO!$A$1:$AQ$576,MATCH($N124,[1]RELAÇÃO!$AQ$1:$AQ$576,0),28)&\", de \"&INDEX([1]RELAÇÃO!$A$1:$AQ$576,MATCH($N124,[1]RELAÇÃO!$AQ$1:$AQ$576,0),29)&\" - \"&INDEX([1]RELAÇÃO!$A$1:$AQ$576,MATCH($N124,[1]RELAÇÃO!$AQ$1:$AQ$576,0),31)&\" de \"&INDEX([1]RELAÇÃO!$A$1:$AQ$576,MATCH($N124,[1]RELAÇÃO!$AQ$1:$AQ$576,0),30))","v":"Portaria nº 137, de 16/04/2015 - DOU de 17/04/2015"},{"$f":"IF($E124=0,\"-\",IF(INDEX([1]RELAÇÃO!$A$1:$AQ$576,MATCH($M124,[1]RELAÇÃO!$AP$1:$AP$576,0),8)=\"8.105.120\",\"-\",INDEX([1]RELAÇÃO!$A$1:$AQ$576,MATCH($M124,[1]RELAÇÃO!$AP$1:$AP$576,0),7)))","v":"-"},"SE54","SE27S"]
[null,"Chefe da Divisão de Gestão de Documentos e Informação Bibliográfica","DAS 101.2","GER",{"$f":"INDEX([1]RELAÇÃO!$A$1:$AQ$576,MATCH($M125,[1]RELAÇÃO!$AP$1:$AP$576,0),1)","v":"GLEYSIELEN CARDOSO NEVES"},{"$f":"IF(E125=0,\"-\",LEFT(INDEX([1]RELAÇÃO!$A$1:$AQ$576,MATCH($M125,[1]RELAÇÃO!$AP$1:$AP$576,0),32),1))","v":"F"},{"$f":"IF(E125=0,\"-\",INDEX([1]RELAÇÃO!$A$1:$AQ$576,MATCH($M125,[1]RELAÇÃO!$AP$1:$AP$576,0),5))","v":"Sem Vínculo"},{"$f":"IF(E125=0,\"-\",INDEX([1]RELAÇÃO!$A$1:$AQ$576,MATCH($M125,[1]RELAÇÃO!$AP$1:$AP$576,0),6))","v":"Sem Vínculo"},{"$f":"IF(E125=0,\"-\",INDEX([1]RELAÇÃO!$A$1:$AQ$576,MATCH($M125,[1]RELAÇÃO!$AP$1:$AP$576,0),12)&INDEX([1]RELAÇÃO!$A$1:$AQ$576,MATCH($M125,[1]RELAÇÃO!$AP$1:$AP$576,0),13)&\", de \"&INDEX([1]RELAÇÃO!$A$1:$AQ$576,MATCH($M125,[1]RELAÇÃO!$AP$1:$AP$576,0),14)&\" - \"&INDEX([1]RELAÇÃO!$A$1:$AQ$576,MATCH($M125,[1]RELAÇÃO!$AP$1:$AP$576,0),16)&\" de \"&INDEX([1]RELAÇÃO!$A$1:$AQ$576,MATCH($M125,[1]RELAÇÃO!$AP$1:$AP$576,0),15))","v":"Portaria nº 549, de 03/11/2016 - DOU de 04/11/2016"},{"$f":"INDEX([1]RELAÇÃO!$A$1:$AQ$576,MATCH($N125,[1]RELAÇÃO!$AQ$1:$AQ$576,0),1)","v":"MARIA SELMI ALVES DA SILVA"},{"$f":"IF(J125=0,\"-\",INDEX([1]RELAÇÃO!$A$1:$AQ$576,MATCH($N125,[1]RELAÇÃO!$AQ$1:$AQ$576,0),27)&INDEX([1]RELAÇÃO!$A$1:$AQ$576,MATCH($N125,[1]RELAÇÃO!$AQ$1:$AQ$576,0),28)&\", de \"&INDEX([1]RELAÇÃO!$A$1:$AQ$576,MATCH($N125,[1]RELAÇÃO!$AQ$1:$AQ$576,0),29)&\" - \"&INDEX([1]RELAÇÃO!$A$1:$AQ$576,MATCH($N125,[1]RELAÇÃO!$AQ$1:$AQ$576,0),31)&\" de \"&INDEX([1]RELAÇÃO!$A$1:$AQ$576,MATCH($N125,[1]RELAÇÃO!$AQ$1:$AQ$576,0),30))","v":"Portaria nº 347, de 01/09/2017 - DOU de 04/09/2017"},{"$f":"IF($E125=0,\"-\",IF(INDEX([1]RELAÇÃO!$A$1:$AQ$576,MATCH($M125,[1]RELAÇÃO!$AP$1:$AP$576,0),8)=\"8.105.120\",\"-\",INDEX([1]RELAÇÃO!$A$1:$AQ$576,MATCH($M125,[1]RELAÇÃO!$AP$1:$AP$576,0),7)))","v":"-"},"SE55","SE28S"]
[null,"Chefe da Divisão de Administração de Transporte","DAS 101.2","GER",{"$f":"INDEX([1]RELAÇÃO!$A$1:$AQ$576,MATCH($M126,[1]RELAÇÃO!$AP$1:$AP$576,0),1)","v":"TERENCIO TONHA BRANDAO JUNIOR"},{"$f":"IF(E126=0,\"-\",LEFT(INDEX([1]RELAÇÃO!$A$1:$AQ$576,MATCH($M126,[1]RELAÇÃO!$AP$1:$AP$576,0),32),1))","v":"M"},{"$f":"IF(E126=0,\"-\",INDEX([1]RELAÇÃO!$A$1:$AQ$576,MATCH($M126,[1]RELAÇÃO!$AP$1:$AP$576,0),5))","v":"Sem Vínculo"},{"$f":"IF(E126=0,\"-\",INDEX([1]RELAÇÃO!$A$1:$AQ$576,MATCH($M126,[1]RELAÇÃO!$AP$1:$AP$576,0),6))","v":"Sem Vínculo"},{"$f":"IF(E126=0,\"-\",INDEX([1]RELAÇÃO!$A$1:$AQ$576,MATCH($M126,[1]RELAÇÃO!$AP$1:$AP$576,0),12)&INDEX([1]RELAÇÃO!$A$1:$AQ$576,MATCH($M126,[1]RELAÇÃO!$AP$1:$AP$576,0),13)&\", de \"&INDEX([1]RELAÇÃO!$A$1:$AQ$576,MATCH($M126,[1]RELAÇÃO!$AP$1:$AP$576,0),14)&\" - \"&INDEX([1]RELAÇÃO!$A$1:$AQ$576,MATCH($M126,[1]RELAÇÃO!$AP$1:$AP$576,0),16)&\" de \"&INDEX([1]RELAÇÃO!$A$1:$AQ$576,MATCH($M126,[1]RELAÇÃO!$AP$1:$AP$576,0),15))","v":"Portaria nº 388, de 14/09/2018 - DOU de 17/09/2018"},{"$f":"INDEX([1]RELAÇÃO!$A$1:$AQ$576,MATCH($N126,[1]RELAÇÃO!$AQ$1:$AQ$576,0),1)","v":"WASHINGTON CAVALCANTE VERAS DINIZ"},{"$f":"IF(J126=0,\"-\",INDEX([1]RELAÇÃO!$A$1:$AQ$576,MATCH($N126,[1]RELAÇÃO!$AQ$1:$AQ$576,0),27)&INDEX([1]RELAÇÃO!$A$1:$AQ$576,MATCH($N126,[1]RELAÇÃO!$AQ$1:$AQ$576,0),28)&\", de \"&INDEX([1]RELAÇÃO!$A$1:$AQ$576,MATCH($N126,[1]RELAÇÃO!$AQ$1:$AQ$576,0),29)&\" - \"&INDEX([1]RELAÇÃO!$A$1:$AQ$576,MATCH($N126,[1]RELAÇÃO!$AQ$1:$AQ$576,0),31)&\" de \"&INDEX([1]RELAÇÃO!$A$1:$AQ$576,MATCH($N126,[1]RELAÇÃO!$AQ$1:$AQ$576,0),30))","v":"Portaria nº 466, de 16/09/2016 - DOU de 19/09/2016"},{"$f":"IF($E126=0,\"-\",IF(INDEX([1]RELAÇÃO!$A$1:$AQ$576,MATCH($M126,[1]RELAÇÃO!$AP$1:$AP$576,0),8)=\"8.105.120\",\"-\",INDEX([1]RELAÇÃO!$A$1:$AQ$576,MATCH($M126,[1]RELAÇÃO!$AP$1:$AP$576,0),7)))","v":"-"},"SE56","SE29S"]
[null,"Chefe da Divisão de Obras e Serviços de Engenharia","  DAS 101.2",null,"Excluído pelo Dec. 9675/2019"]
[null,"Chefe da Divisão de Segurança","DAS 101.2","GER",{"$f":"INDEX([1]RELAÇÃO!$A$1:$AQ$576,MATCH($M128,[1]RELAÇÃO!$AP$1:$AP$576,0),1)","v":"MARCIA ALVES DE FIGUEIREDO"},{"$f":"IF(E128=0,\"-\",LEFT(INDEX([1]RELAÇÃO!$A$1:$AQ$576,MATCH($M128,[1]RELAÇÃO!$AP$1:$AP$576,0),32),1))","v":"F"},{"$f":"IF(E128=0,\"-\",INDEX([1]RELAÇÃO!$A$1:$AQ$576,MATCH($M128,[1]RELAÇÃO!$AP$1:$AP$576,0),5))","v":"Anistiado MME"},{"$f":"IF(E128=0,\"-\",INDEX([1]RELAÇÃO!$A$1:$AQ$576,MATCH($M128,[1]RELAÇÃO!$AP$1:$AP$576,0),6))","v":"MME - Ministério de Minas e Energia"},{"$f":"IF(E128=0,\"-\",INDEX([1]RELAÇÃO!$A$1:$AQ$576,MATCH($M128,[1]RELAÇÃO!$AP$1:$AP$576,0),12)&INDEX([1]RELAÇÃO!$A$1:$AQ$576,MATCH($M128,[1]RELAÇÃO!$AP$1:$AP$576,0),13)&\", de \"&INDEX([1]RELAÇÃO!$A$1:$AQ$576,MATCH($M128,[1]RELAÇÃO!$AP$1:$AP$576,0),14)&\" - \"&INDEX([1]RELAÇÃO!$A$1:$AQ$576,MATCH($M128,[1]RELAÇÃO!$AP$1:$AP$576,0),16)&\" de \"&INDEX([1]RELAÇÃO!$A$1:$AQ$576,MATCH($M128,[1]RELAÇÃO!$AP$1:$AP$576,0),15))","v":"Portaria nº 524, de 03/11/2016 - BPE de 04/11/2016"},{"$f":"INDEX([1]RELAÇÃO!$A$1:$AQ$576,MATCH($N128,[1]RELAÇÃO!$AQ$1:$AQ$576,0),1)","v":"MIGUEL DOS SANTOS"},{"$f":"IF(J128=0,\"-\",INDEX([1]RELAÇÃO!$A$1:$AQ$576,MATCH($N128,[1]RELAÇÃO!$AQ$1:$AQ$576,0),27)&INDEX([1]RELAÇÃO!$A$1:$AQ$576,MATCH($N128,[1]RELAÇÃO!$AQ$1:$AQ$576,0),28)&\", de \"&INDEX([1]RELAÇÃO!$A$1:$AQ$576,MATCH($N128,[1]RELAÇÃO!$AQ$1:$AQ$576,0),29)&\" - \"&INDEX([1]RELAÇÃO!$A$1:$AQ$576,MATCH($N128,[1]RELAÇÃO!$AQ$1:$AQ$576,0),31)&\" de \"&INDEX([1]RELAÇÃO!$A$1:$AQ$576,MATCH($N128,[1]RELAÇÃO!$AQ$1:$AQ$576,0),30))","v":"Portaria nº 351, de 01/09/2017 - DOU de 04/09/2017"},{"$f":"IF($E128=0,\"-\",IF(INDEX([1]RELAÇÃO!$A$1:$AQ$576,MATCH($M128,[1]RELAÇÃO!$AP$1:$AP$576,0),8)=\"8.105.120\",\"-\",INDEX([1]RELAÇÃO!$A$1:$AQ$576,MATCH($M128,[1]RELAÇÃO!$AP$1:$AP$576,0),7)))","v":"-"},"SE57","SE30S"]
[null,"Chefe da Divisão de Administração Predial"," DAS 101.2",null,"Excluído pelo Dec. 9675/2019"]
[null,"Assistente Técnico","DAS 102.1","ASS",{"$f":"INDEX([1]RELAÇÃO!$A$1:$AQ$576,MATCH($M130,[1]RELAÇÃO!$AP$1:$AP$576,0),1)","v":"MARIA SELMI ALVES DA SILVA"},{"$f":"IF(E130=0,\"-\",LEFT(INDEX([1]RELAÇÃO!$A$1:$AQ$576,MATCH($M130,[1]RELAÇÃO!$AP$1:$AP$576,0),32),1))","v":"F"},{"$f":"IF(E130=0,\"-\",INDEX([1]RELAÇÃO!$A$1:$AQ$576,MATCH($M130,[1]RELAÇÃO!$AP$1:$AP$576,0),5))","v":"Anistiado MME"},{"$f":"IF(E130=0,\"-\",INDEX([1]RELAÇÃO!$A$1:$AQ$576,MATCH($M130,[1]RELAÇÃO!$AP$1:$AP$576,0),6))","v":"MME - Ministério de Minas e Energia"},{"$f":"IF(E130=0,\"-\",INDEX([1]RELAÇÃO!$A$1:$AQ$576,MATCH($M130,[1]RELAÇÃO!$AP$1:$AP$576,0),12)&INDEX([1]RELAÇÃO!$A$1:$AQ$576,MATCH($M130,[1]RELAÇÃO!$AP$1:$AP$576,0),13)&\", de \"&INDEX([1]RELAÇÃO!$A$1:$AQ$576,MATCH($M130,[1]RELAÇÃO!$AP$1:$AP$576,0),14)&\" - \"&INDEX([1]RELAÇÃO!$A$1:$AQ$576,MATCH($M130,[1]RELAÇÃO!$AP$1:$AP$576,0),16)&\" de \"&INDEX([1]RELAÇÃO!$A$1:$AQ$576,MATCH($M130,[1]RELAÇÃO!$AP$1:$AP$576,0),15))","v":"Portaria nº 524, de 03/11/2016 - BPE de 04/11/2016"},null,null,{"$f":"IF($E130=0,\"-\",IF(INDEX([1]RELAÇÃO!$A$1:$AQ$576,MATCH($M130,[1]RELAÇÃO!$AP$1:$AP$576,0),8)=\"8.105.120\",\"-\",INDEX([1]RELAÇÃO!$A$1:$AQ$576,MATCH($M130,[1]RELAÇÃO!$AP$1:$AP$576,0),7)))","v":"-"},"SE58"]
[null,"Assistente Técnico","DAS 102.1","ASS",{"$f":"INDEX([1]RELAÇÃO!$A$1:$AQ$576,MATCH($M131,[1]RELAÇÃO!$AP$1:$AP$576,0),1)","v":"IELAYNE MARIA DA SILVA"},{"$f":"IF(E131=0,\"-\",LEFT(INDEX([1]RELAÇÃO!$A$1:$AQ$576,MATCH($M131,[1]RELAÇÃO!$AP$1:$AP$576,0),32),1))","v":"F"},{"$f":"IF(E131=0,\"-\",INDEX([1]RELAÇÃO!$A$1:$AQ$576,MATCH($M131,[1]RELAÇÃO!$AP$1:$AP$576,0),5))","v":"Sem Vínculo"},{"$f":"IF(E131=0,\"-\",INDEX([1]RELAÇÃO!$A$1:$AQ$576,MATCH($M131,[1]RELAÇÃO!$AP$1:$AP$576,0),6))","v":"Sem Vínculo"},{"$f":"IF(E131=0,\"-\",INDEX([1]RELAÇÃO!$A$1:$AQ$576,MATCH($M131,[1]RELAÇÃO!$AP$1:$AP$576,0),12)&INDEX([1]RELAÇÃO!$A$1:$AQ$576,MATCH($M131,[1]RELAÇÃO!$AP$1:$AP$576,0),13)&\", de \"&INDEX([1]RELAÇÃO!$A$1:$AQ$576,MATCH($M131,[1]RELAÇÃO!$AP$1:$AP$576,0),14)&\" - \"&INDEX([1]RELAÇÃO!$A$1:$AQ$576,MATCH($M131,[1]RELAÇÃO!$AP$1:$AP$576,0),16)&\" de \"&INDEX([1]RELAÇÃO!$A$1:$AQ$576,MATCH($M131,[1]RELAÇÃO!$AP$1:$AP$576,0),15))","v":"Portaria nº 300, de 04/08/2017 - DOU de 08/08/2017"},null,null,{"$f":"IF($E131=0,\"-\",IF(INDEX([1]RELAÇÃO!$A$1:$AQ$576,MATCH($M131,[1]RELAÇÃO!$AP$1:$AP$576,0),8)=\"8.105.120\",\"-\",INDEX([1]RELAÇÃO!$A$1:$AQ$576,MATCH($M131,[1]RELAÇÃO!$AP$1:$AP$576,0),7)))","v":"-"},"SE59"]
["Coordenação-Geral de Recursos Humanos","Coordenador-Geral","DAS 101.4","GER",{"$f":"INDEX([1]RELAÇÃO!$A$1:$AQ$576,MATCH($M132,[1]RELAÇÃO!$AP$1:$AP$576,0),1)","v":"CARLOS EDUARDO MENDES GALVAO"},{"$f":"IF(E132=0,\"-\",LEFT(INDEX([1]RELAÇÃO!$A$1:$AQ$576,MATCH($M132,[1]RELAÇÃO!$AP$1:$AP$576,0),32),1))","v":"M"},{"$f":"IF(E132=0,\"-\",INDEX([1]RELAÇÃO!$A$1:$AQ$576,MATCH($M132,[1]RELAÇÃO!$AP$1:$AP$576,0),5))","v":"Ativo Permanente"},{"$f":"IF(E132=0,\"-\",INDEX([1]RELAÇÃO!$A$1:$AQ$576,MATCH($M132,[1]RELAÇÃO!$AP$1:$AP$576,0),6))","v":"MME - Ministério de Minas e Energia"},{"$f":"IF(E132=0,\"-\",INDEX([1]RELAÇÃO!$A$1:$AQ$576,MATCH($M132,[1]RELAÇÃO!$AP$1:$AP$576,0),12)&INDEX([1]RELAÇÃO!$A$1:$AQ$576,MATCH($M132,[1]RELAÇÃO!$AP$1:$AP$576,0),13)&\", de \"&INDEX([1]RELAÇÃO!$A$1:$AQ$576,MATCH($M132,[1]RELAÇÃO!$AP$1:$AP$576,0),14)&\" - \"&INDEX([1]RELAÇÃO!$A$1:$AQ$576,MATCH($M132,[1]RELAÇÃO!$AP$1:$AP$576,0),16)&\" de \"&INDEX([1]RELAÇÃO!$A$1:$AQ$576,MATCH($M132,[1]RELAÇÃO!$AP$1:$AP$576,0),15))","v":"Portaria nº 524, de 03/11/2016 - BPE de 04/11/2016"},{"$f":"INDEX([1]RELAÇÃO!$A$1:$AQ$576,MATCH($N132,[1]RELAÇÃO!$AQ$1:$AQ$576,0),1)","v":"JOSÉ EVANDRO NASCIMENTO CARVALHO"},{"$f":"IF(J132=0,\"-\",INDEX([1]RELAÇÃO!$A$1:$AQ$576,MATCH($N132,[1]RELAÇÃO!$AQ$1:$AQ$576,0),27)&INDEX([1]RELAÇÃO!$A$1:$AQ$576,MATCH($N132,[1]RELAÇÃO!$AQ$1:$AQ$576,0),28)&\", de \"&INDEX([1]RELAÇÃO!$A$1:$AQ$576,MATCH($N132,[1]RELAÇÃO!$AQ$1:$AQ$576,0),29)&\" - \"&INDEX([1]RELAÇÃO!$A$1:$AQ$576,MATCH($N132,[1]RELAÇÃO!$AQ$1:$AQ$576,0),31)&\" de \"&INDEX([1]RELAÇÃO!$A$1:$AQ$576,MATCH($N132,[1]RELAÇÃO!$AQ$1:$AQ$576,0),30))","v":"Portaria nº 140, de 02/04/2008 - DOU de 03/04/2008"},{"$f":"IF($E132=0,\"-\",IF(INDEX([1]RELAÇÃO!$A$1:$AQ$576,MATCH($M132,[1]RELAÇÃO!$AP$1:$AP$576,0),8)=\"8.105.200\",\"-\",INDEX([1]RELAÇÃO!$A$1:$AQ$576,MATCH($M132,[1]RELAÇÃO!$AP$1:$AP$576,0),7)))","v":"-"},"SE60","SE31S"]
[null,"Coordenador de Administração de Pessoal","DAS 101.3","GER",{"$f":"INDEX([1]RELAÇÃO!$A$1:$AQ$576,MATCH($M133,[1]RELAÇÃO!$AP$1:$AP$576,0),1)","v":"JOSÉ EVANDRO NASCIMENTO CARVALHO"},{"$f":"IF(E133=0,\"-\",LEFT(INDEX([1]RELAÇÃO!$A$1:$AQ$576,MATCH($M133,[1]RELAÇÃO!$AP$1:$AP$576,0),32),1))","v":"M"},{"$f":"IF(E133=0,\"-\",INDEX([1]RELAÇÃO!$A$1:$AQ$576,MATCH($M133,[1]RELAÇÃO!$AP$1:$AP$576,0),5))","v":"Ativo Permanente"},{"$f":"IF(E133=0,\"-\",INDEX([1]RELAÇÃO!$A$1:$AQ$576,MATCH($M133,[1]RELAÇÃO!$AP$1:$AP$576,0),6))","v":"MME - Ministério de Minas e Energia"},{"$f":"IF(E133=0,\"-\",INDEX([1]RELAÇÃO!$A$1:$AQ$576,MATCH($M133,[1]RELAÇÃO!$AP$1:$AP$576,0),12)&INDEX([1]RELAÇÃO!$A$1:$AQ$576,MATCH($M133,[1]RELAÇÃO!$AP$1:$AP$576,0),13)&\", de \"&INDEX([1]RELAÇÃO!$A$1:$AQ$576,MATCH($M133,[1]RELAÇÃO!$AP$1:$AP$576,0),14)&\" - \"&INDEX([1]RELAÇÃO!$A$1:$AQ$576,MATCH($M133,[1]RELAÇÃO!$AP$1:$AP$576,0),16)&\" de \"&INDEX([1]RELAÇÃO!$A$1:$AQ$576,MATCH($M133,[1]RELAÇÃO!$AP$1:$AP$576,0),15))","v":"Portaria nº 524, de 03/11/2016 - BPE de 04/11/2016"},{"$f":"INDEX([1]RELAÇÃO!$A$1:$AQ$576,MATCH($N133,[1]RELAÇÃO!$AQ$1:$AQ$576,0),1)","v":"FÁBIO SOUSA DO VALE"},{"$f":"IF(J133=0,\"-\",INDEX([1]RELAÇÃO!$A$1:$AQ$576,MATCH($N133,[1]RELAÇÃO!$AQ$1:$AQ$576,0),27)&INDEX([1]RELAÇÃO!$A$1:$AQ$576,MATCH($N133,[1]RELAÇÃO!$AQ$1:$AQ$576,0),28)&\", de \"&INDEX([1]RELAÇÃO!$A$1:$AQ$576,MATCH($N133,[1]RELAÇÃO!$AQ$1:$AQ$576,0),29)&\" - \"&INDEX([1]RELAÇÃO!$A$1:$AQ$576,MATCH($N133,[1]RELAÇÃO!$AQ$1:$AQ$576,0),31)&\" de \"&INDEX([1]RELAÇÃO!$A$1:$AQ$576,MATCH($N133,[1]RELAÇÃO!$AQ$1:$AQ$576,0),30))","v":"Portaria nº 161, de 07/04/2020 - DOU de 13/04/2020"},{"$f":"IF($E133=0,\"-\",IF(INDEX([1]RELAÇÃO!$A$1:$AQ$576,MATCH($M133,[1]RELAÇÃO!$AP$1:$AP$576,0),8)=\"8.105.210\",\"-\",INDEX([1]RELAÇÃO!$A$1:$AQ$576,MATCH($M133,[1]RELAÇÃO!$AP$1:$AP$576,0),7)))","v":"-"},"SE61","SE32S"]
[null,"Coordenador de Desenvolvimento e Seguridade Social","DAS 101.3","GER",{"$f":"INDEX([1]RELAÇÃO!$A$1:$AQ$576,MATCH($M134,[1]RELAÇÃO!$AP$1:$AP$576,0),1)","v":"SANDRA MONICA DE ALMEIDA PY"},{"$f":"IF(E134=0,\"-\",LEFT(INDEX([1]RELAÇÃO!$A$1:$AQ$576,MATCH($M134,[1]RELAÇÃO!$AP$1:$AP$576,0),32),1))","v":"F"},{"$f":"IF(E134=0,\"-\",INDEX([1]RELAÇÃO!$A$1:$AQ$576,MATCH($M134,[1]RELAÇÃO!$AP$1:$AP$576,0),5))","v":"Anistiado MME"},{"$f":"IF(E134=0,\"-\",INDEX([1]RELAÇÃO!$A$1:$AQ$576,MATCH($M134,[1]RELAÇÃO!$AP$1:$AP$576,0),6))","v":"MME - Ministério de Minas e Energia"},{"$f":"IF(E134=0,\"-\",INDEX([1]RELAÇÃO!$A$1:$AQ$576,MATCH($M134,[1]RELAÇÃO!$AP$1:$AP$576,0),12)&INDEX([1]RELAÇÃO!$A$1:$AQ$576,MATCH($M134,[1]RELAÇÃO!$AP$1:$AP$576,0),13)&\", de \"&INDEX([1]RELAÇÃO!$A$1:$AQ$576,MATCH($M134,[1]RELAÇÃO!$AP$1:$AP$576,0),14)&\" - \"&INDEX([1]RELAÇÃO!$A$1:$AQ$576,MATCH($M134,[1]RELAÇÃO!$AP$1:$AP$576,0),16)&\" de \"&INDEX([1]RELAÇÃO!$A$1:$AQ$576,MATCH($M134,[1]RELAÇÃO!$AP$1:$AP$576,0),15))","v":"Portaria nº 524, de 03/11/2016 - BPE de 04/11/2016"},{"$f":"INDEX([1]RELAÇÃO!$A$1:$AQ$576,MATCH($N134,[1]RELAÇÃO!$AQ$1:$AQ$576,0),1)","v":"ROLIANA DE SOUSA ARAÚJO LEMOS"},{"$f":"IF(J134=0,\"-\",INDEX([1]RELAÇÃO!$A$1:$AQ$576,MATCH($N134,[1]RELAÇÃO!$AQ$1:$AQ$576,0),27)&INDEX([1]RELAÇÃO!$A$1:$AQ$576,MATCH($N134,[1]RELAÇÃO!$AQ$1:$AQ$576,0),28)&\", de \"&INDEX([1]RELAÇÃO!$A$1:$AQ$576,MATCH($N134,[1]RELAÇÃO!$AQ$1:$AQ$576,0),29)&\" - \"&INDEX([1]RELAÇÃO!$A$1:$AQ$576,MATCH($N134,[1]RELAÇÃO!$AQ$1:$AQ$576,0),31)&\" de \"&INDEX([1]RELAÇÃO!$A$1:$AQ$576,MATCH($N134,[1]RELAÇÃO!$AQ$1:$AQ$576,0),30))","v":"Portaria nº 166, de 25/04/2017 - DOU de 27/04/2017"},{"$f":"IF($E134=0,\"-\",IF(INDEX([1]RELAÇÃO!$A$1:$AQ$576,MATCH($M134,[1]RELAÇÃO!$AP$1:$AP$576,0),8)=\"8.105.220\",\"-\",INDEX([1]RELAÇÃO!$A$1:$AQ$576,MATCH($M134,[1]RELAÇÃO!$AP$1:$AP$576,0),7)))","v":"-"},"SE62","SE33S"]
[null,"Assistente","DAS 102.2","ASS",{"$f":"INDEX([1]RELAÇÃO!$A$1:$AQ$576,MATCH($M135,[1]RELAÇÃO!$AP$1:$AP$576,0),1)","v":"SILVANA SOARES DE GODOI E SOUSA"},{"$f":"IF(E135=0,\"-\",LEFT(INDEX([1]RELAÇÃO!$A$1:$AQ$576,MATCH($M135,[1]RELAÇÃO!$AP$1:$AP$576,0),32),1))","v":"F"},{"$f":"IF(E135=0,\"-\",INDEX([1]RELAÇÃO!$A$1:$AQ$576,MATCH($M135,[1]RELAÇÃO!$AP$1:$AP$576,0),5))","v":"Anistiado MME"},{"$f":"IF(E135=0,\"-\",INDEX([1]RELAÇÃO!$A$1:$AQ$576,MATCH($M135,[1]RELAÇÃO!$AP$1:$AP$576,0),6))","v":"MME - Ministério de Minas e Energia"},{"$f":"IF(E135=0,\"-\",INDEX([1]RELAÇÃO!$A$1:$AQ$576,MATCH($M135,[1]RELAÇÃO!$AP$1:$AP$576,0),12)&INDEX([1]RELAÇÃO!$A$1:$AQ$576,MATCH($M135,[1]RELAÇÃO!$AP$1:$AP$576,0),13)&\", de \"&INDEX([1]RELAÇÃO!$A$1:$AQ$576,MATCH($M135,[1]RELAÇÃO!$AP$1:$AP$576,0),14)&\" - \"&INDEX([1]RELAÇÃO!$A$1:$AQ$576,MATCH($M135,[1]RELAÇÃO!$AP$1:$AP$576,0),16)&\" de \"&INDEX([1]RELAÇÃO!$A$1:$AQ$576,MATCH($M135,[1]RELAÇÃO!$AP$1:$AP$576,0),15))","v":"Portaria nº 524, de 03/11/2016 - BPE de 04/11/2016"},null,null,{"$f":"IF($E135=0,\"-\",IF(INDEX([1]RELAÇÃO!$A$1:$AQ$576,MATCH($M135,[1]RELAÇÃO!$AP$1:$AP$576,0),8)=\"8.105.200\",\"-\",INDEX([1]RELAÇÃO!$A$1:$AQ$576,MATCH($M135,[1]RELAÇÃO!$AP$1:$AP$576,0),7)))","v":"-"},"SE63"]
[null,"Chefe de Divisão de Gestão de Estágio","DAS 101.2","GER",{"$f":"INDEX([1]RELAÇÃO!$A$1:$AQ$576,MATCH($M136,[1]RELAÇÃO!$AP$1:$AP$576,0),1)","v":"MARA BETANIA BALTAR GARCIA DA CONCEICAO"},{"$f":"IF(E136=0,\"-\",LEFT(INDEX([1]RELAÇÃO!$A$1:$AQ$576,MATCH($M136,[1]RELAÇÃO!$AP$1:$AP$576,0),32),1))","v":"F"},{"$f":"IF(E136=0,\"-\",INDEX([1]RELAÇÃO!$A$1:$AQ$576,MATCH($M136,[1]RELAÇÃO!$AP$1:$AP$576,0),5))","v":"Anistiado MME"},{"$f":"IF(E136=0,\"-\",INDEX([1]RELAÇÃO!$A$1:$AQ$576,MATCH($M136,[1]RELAÇÃO!$AP$1:$AP$576,0),6))","v":"MME - Ministério de Minas e Energia"},{"$f":"IF(E136=0,\"-\",INDEX([1]RELAÇÃO!$A$1:$AQ$576,MATCH($M136,[1]RELAÇÃO!$AP$1:$AP$576,0),12)&INDEX([1]RELAÇÃO!$A$1:$AQ$576,MATCH($M136,[1]RELAÇÃO!$AP$1:$AP$576,0),13)&\", de \"&INDEX([1]RELAÇÃO!$A$1:$AQ$576,MATCH($M136,[1]RELAÇÃO!$AP$1:$AP$576,0),14)&\" - \"&INDEX([1]RELAÇÃO!$A$1:$AQ$576,MATCH($M136,[1]RELAÇÃO!$AP$1:$AP$576,0),16)&\" de \"&INDEX([1]RELAÇÃO!$A$1:$AQ$576,MATCH($M136,[1]RELAÇÃO!$AP$1:$AP$576,0),15))","v":"Portaria nº 555, de 03/11/2016 - DOU de 04/11/2016"},{"$f":"INDEX([1]RELAÇÃO!$A$1:$AQ$576,MATCH($N136,[1]RELAÇÃO!$AQ$1:$AQ$576,0),1)","v":0},{"$f":"IF(J136=0,\"-\",INDEX([1]RELAÇÃO!$A$1:$AQ$576,MATCH($N136,[1]RELAÇÃO!$AQ$1:$AQ$576,0),27)&INDEX([1]RELAÇÃO!$A$1:$AQ$576,MATCH($N136,[1]RELAÇÃO!$AQ$1:$AQ$576,0),28)&\", de \"&INDEX([1]RELAÇÃO!$A$1:$AQ$576,MATCH($N136,[1]RELAÇÃO!$AQ$1:$AQ$576,0),29)&\" - \"&INDEX([1]RELAÇÃO!$A$1:$AQ$576,MATCH($N136,[1]RELAÇÃO!$AQ$1:$AQ$576,0),31)&\" de \"&INDEX([1]RELAÇÃO!$A$1:$AQ$576,MATCH($N136,[1]RELAÇÃO!$AQ$1:$AQ$576,0),30))","v":"-"},{"$f":"IF($E136=0,\"-\",IF(INDEX([1]RELAÇÃO!$A$1:$AQ$576,MATCH($M136,[1]RELAÇÃO!$AP$1:$AP$576,0),8)=\"8.105.220\",\"-\",INDEX([1]RELAÇÃO!$A$1:$AQ$576,MATCH($M136,[1]RELAÇÃO!$AP$1:$AP$576,0),7)))","v":"-"},"SE64","SE34S"]
[null,"Chefe de Divisão de Execução Orçamentária e Financeira de Despesas Diversas","DAS 101.2","GER",{"$f":"INDEX([1]RELAÇÃO!$A$1:$AQ$576,MATCH($M137,[1]RELAÇÃO!$AP$1:$AP$576,0),1)","v":"MIRIA CRISTINA BERNARDES DE SOUSA"},{"$f":"IF(E137=0,\"-\",LEFT(INDEX([1]RELAÇÃO!$A$1:$AQ$576,MATCH($M137,[1]RELAÇÃO!$AP$1:$AP$576,0),32),1))","v":"F"},{"$f":"IF(E137=0,\"-\",INDEX([1]RELAÇÃO!$A$1:$AQ$576,MATCH($M137,[1]RELAÇÃO!$AP$1:$AP$576,0),5))","v":"Anistiado MME"},{"$f":"IF(E137=0,\"-\",INDEX([1]RELAÇÃO!$A$1:$AQ$576,MATCH($M137,[1]RELAÇÃO!$AP$1:$AP$576,0),6))","v":"MME - Ministério de Minas e Energia"},{"$f":"IF(E137=0,\"-\",INDEX([1]RELAÇÃO!$A$1:$AQ$576,MATCH($M137,[1]RELAÇÃO!$AP$1:$AP$576,0),12)&INDEX([1]RELAÇÃO!$A$1:$AQ$576,MATCH($M137,[1]RELAÇÃO!$AP$1:$AP$576,0),13)&\", de \"&INDEX([1]RELAÇÃO!$A$1:$AQ$576,MATCH($M137,[1]RELAÇÃO!$AP$1:$AP$576,0),14)&\" - \"&INDEX([1]RELAÇÃO!$A$1:$AQ$576,MATCH($M137,[1]RELAÇÃO!$AP$1:$AP$576,0),16)&\" de \"&INDEX([1]RELAÇÃO!$A$1:$AQ$576,MATCH($M137,[1]RELAÇÃO!$AP$1:$AP$576,0),15))","v":"Portaria nº 329, de 21/08/2019 - DOU de 23/08/2019"},{"$f":"INDEX([1]RELAÇÃO!$A$1:$AQ$576,MATCH($N137,[1]RELAÇÃO!$AQ$1:$AQ$576,0),1)","v":"MARGARIDA SILVA OLIVEIRA DE FIGUEREDO"},{"$f":"IF(J137=0,\"-\",INDEX([1]RELAÇÃO!$A$1:$AQ$576,MATCH($N137,[1]RELAÇÃO!$AQ$1:$AQ$576,0),27)&INDEX([1]RELAÇÃO!$A$1:$AQ$576,MATCH($N137,[1]RELAÇÃO!$AQ$1:$AQ$576,0),28)&\", de \"&INDEX([1]RELAÇÃO!$A$1:$AQ$576,MATCH($N137,[1]RELAÇÃO!$AQ$1:$AQ$576,0),29)&\" - \"&INDEX([1]RELAÇÃO!$A$1:$AQ$576,MATCH($N137,[1]RELAÇÃO!$AQ$1:$AQ$576,0),31)&\" de \"&INDEX([1]RELAÇÃO!$A$1:$AQ$576,MATCH($N137,[1]RELAÇÃO!$AQ$1:$AQ$576,0),30))","v":"Portaria nº 164, de 25/04/2017 - DOU de 27/04/2017"},{"$f":"IF($E137=0,\"-\",IF(INDEX([1]RELAÇÃO!$A$1:$AQ$576,MATCH($M137,[1]RELAÇÃO!$AP$1:$AP$576,0),8)=\"8.105.210\",\"-\",INDEX([1]RELAÇÃO!$A$1:$AQ$576,MATCH($M137,[1]RELAÇÃO!$AP$1:$AP$576,0),7)))","v":"-"},"SE65","SE35S"]
[null,"Chefe de Divisão de Concessão e Atualização dos Registros de Pagamento de Aposentados","DAS 101.2","GER",{"$f":"INDEX([1]RELAÇÃO!$A$1:$AQ$576,MATCH($M138,[1]RELAÇÃO!$AP$1:$AP$576,0),1)","v":"FÁBIO SOUSA DO VALE"},{"$f":"IF(E138=0,\"-\",LEFT(INDEX([1]RELAÇÃO!$A$1:$AQ$576,MATCH($M138,[1]RELAÇÃO!$AP$1:$AP$576,0),32),1))","v":"M"},{"$f":"IF(E138=0,\"-\",INDEX([1]RELAÇÃO!$A$1:$AQ$576,MATCH($M138,[1]RELAÇÃO!$AP$1:$AP$576,0),5))","v":"Requisitado de Órgãos"},{"$f":"IF(E138=0,\"-\",INDEX([1]RELAÇÃO!$A$1:$AQ$576,MATCH($M138,[1]RELAÇÃO!$AP$1:$AP$576,0),6))","v":"FUB - Fundação Universidade de Brasília"},{"$f":"IF(E138=0,\"-\",INDEX([1]RELAÇÃO!$A$1:$AQ$576,MATCH($M138,[1]RELAÇÃO!$AP$1:$AP$576,0),12)&INDEX([1]RELAÇÃO!$A$1:$AQ$576,MATCH($M138,[1]RELAÇÃO!$AP$1:$AP$576,0),13)&\", de \"&INDEX([1]RELAÇÃO!$A$1:$AQ$576,MATCH($M138,[1]RELAÇÃO!$AP$1:$AP$576,0),14)&\" - \"&INDEX([1]RELAÇÃO!$A$1:$AQ$576,MATCH($M138,[1]RELAÇÃO!$AP$1:$AP$576,0),16)&\" de \"&INDEX([1]RELAÇÃO!$A$1:$AQ$576,MATCH($M138,[1]RELAÇÃO!$AP$1:$AP$576,0),15))","v":"Portaria nº 293, de 23/07/2019 - DOU de 29/07/2019"},{"$f":"INDEX([1]RELAÇÃO!$A$1:$AQ$576,MATCH($N138,[1]RELAÇÃO!$AQ$1:$AQ$576,0),1)","v":"LUCIA MARIA DE ALMEIDA MOYSÉS"},{"$f":"IF(J138=0,\"-\",INDEX([1]RELAÇÃO!$A$1:$AQ$576,MATCH($N138,[1]RELAÇÃO!$AQ$1:$AQ$576,0),27)&INDEX([1]RELAÇÃO!$A$1:$AQ$576,MATCH($N138,[1]RELAÇÃO!$AQ$1:$AQ$576,0),28)&\", de \"&INDEX([1]RELAÇÃO!$A$1:$AQ$576,MATCH($N138,[1]RELAÇÃO!$AQ$1:$AQ$576,0),29)&\" - \"&INDEX([1]RELAÇÃO!$A$1:$AQ$576,MATCH($N138,[1]RELAÇÃO!$AQ$1:$AQ$576,0),31)&\" de \"&INDEX([1]RELAÇÃO!$A$1:$AQ$576,MATCH($N138,[1]RELAÇÃO!$AQ$1:$AQ$576,0),30))","v":"Portaria nº 161, de 25/04/2017 - DOU de 27/04/2017"},{"$f":"IF($E138=0,\"-\",IF(INDEX([1]RELAÇÃO!$A$1:$AQ$576,MATCH($M138,[1]RELAÇÃO!$AP$1:$AP$576,0),8)=\"8.105.210\",\"-\",INDEX([1]RELAÇÃO!$A$1:$AQ$576,MATCH($M138,[1]RELAÇÃO!$AP$1:$AP$576,0),7)))","v":"-"},"SE66","SE36S"]
[null,"Chefe de Divisão de Concessão e Atualização dos Registros de Pagamento de Pensionista","DAS 101.2","GER",{"$f":"INDEX([1]RELAÇÃO!$A$1:$AQ$576,MATCH($M139,[1]RELAÇÃO!$AP$1:$AP$576,0),1)","v":"NEIDE DE FATIMA GOMES DE AZEVEDO LOPES"},{"$f":"IF(E139=0,\"-\",LEFT(INDEX([1]RELAÇÃO!$A$1:$AQ$576,MATCH($M139,[1]RELAÇÃO!$AP$1:$AP$576,0),32),1))","v":"F"},{"$f":"IF(E139=0,\"-\",INDEX([1]RELAÇÃO!$A$1:$AQ$576,MATCH($M139,[1]RELAÇÃO!$AP$1:$AP$576,0),5))","v":"Ativo Permanente"},{"$f":"IF(E139=0,\"-\",INDEX([1]RELAÇÃO!$A$1:$AQ$576,MATCH($M139,[1]RELAÇÃO!$AP$1:$AP$576,0),6))","v":"MME - Ministério de Minas e Energia"},{"$f":"IF(E139=0,\"-\",INDEX([1]RELAÇÃO!$A$1:$AQ$576,MATCH($M139,[1]RELAÇÃO!$AP$1:$AP$576,0),12)&INDEX([1]RELAÇÃO!$A$1:$AQ$576,MATCH($M139,[1]RELAÇÃO!$AP$1:$AP$576,0),13)&\", de \"&INDEX([1]RELAÇÃO!$A$1:$AQ$576,MATCH($M139,[1]RELAÇÃO!$AP$1:$AP$576,0),14)&\" - \"&INDEX([1]RELAÇÃO!$A$1:$AQ$576,MATCH($M139,[1]RELAÇÃO!$AP$1:$AP$576,0),16)&\" de \"&INDEX([1]RELAÇÃO!$A$1:$AQ$576,MATCH($M139,[1]RELAÇÃO!$AP$1:$AP$576,0),15))","v":"Portaria nº 552, de 03/11/2016 - DOU de 04/11/2016"},{"$f":"INDEX([1]RELAÇÃO!$A$1:$AQ$576,MATCH($N139,[1]RELAÇÃO!$AQ$1:$AQ$576,0),1)","v":"ELIZABETH NOGUEIRA"},{"$f":"IF(J139=0,\"-\",INDEX([1]RELAÇÃO!$A$1:$AQ$576,MATCH($N139,[1]RELAÇÃO!$AQ$1:$AQ$576,0),27)&INDEX([1]RELAÇÃO!$A$1:$AQ$576,MATCH($N139,[1]RELAÇÃO!$AQ$1:$AQ$576,0),28)&\", de \"&INDEX([1]RELAÇÃO!$A$1:$AQ$576,MATCH($N139,[1]RELAÇÃO!$AQ$1:$AQ$576,0),29)&\" - \"&INDEX([1]RELAÇÃO!$A$1:$AQ$576,MATCH($N139,[1]RELAÇÃO!$AQ$1:$AQ$576,0),31)&\" de \"&INDEX([1]RELAÇÃO!$A$1:$AQ$576,MATCH($N139,[1]RELAÇÃO!$AQ$1:$AQ$576,0),30))","v":"Portaria nº 160, de 25/04/2017 - DOU de 27/04/2017"},{"$f":"IF($E139=0,\"-\",IF(INDEX([1]RELAÇÃO!$A$1:$AQ$576,MATCH($M139,[1]RELAÇÃO!$AP$1:$AP$576,0),8)=\"8.105.210\",\"-\",INDEX([1]RELAÇÃO!$A$1:$AQ$576,MATCH($M139,[1]RELAÇÃO!$AP$1:$AP$576,0),7)))","v":"-"},"SE67","SE37S"]
[null,"Chefe de Divisão de Treinamento e Desenvolvimento","DAS 101.2","GER",{"$f":"INDEX([1]RELAÇÃO!$A$1:$AQ$576,MATCH($M140,[1]RELAÇÃO!$AP$1:$AP$576,0),1)","v":"ROLIANA DE SOUSA ARAÚJO LEMOS"},{"$f":"IF(E140=0,\"-\",LEFT(INDEX([1]RELAÇÃO!$A$1:$AQ$576,MATCH($M140,[1]RELAÇÃO!$AP$1:$AP$576,0),32),1))","v":"F"},{"$f":"IF(E140=0,\"-\",INDEX([1]RELAÇÃO!$A$1:$AQ$576,MATCH($M140,[1]RELAÇÃO!$AP$1:$AP$576,0),5))","v":"Anistiado MME"},{"$f":"IF(E140=0,\"-\",INDEX([1]RELAÇÃO!$A$1:$AQ$576,MATCH($M140,[1]RELAÇÃO!$AP$1:$AP$576,0),6))","v":"MME - Ministério de Minas e Energia"},{"$f":"IF(E140=0,\"-\",INDEX([1]RELAÇÃO!$A$1:$AQ$576,MATCH($M140,[1]RELAÇÃO!$AP$1:$AP$576,0),12)&INDEX([1]RELAÇÃO!$A$1:$AQ$576,MATCH($M140,[1]RELAÇÃO!$AP$1:$AP$576,0),13)&\", de \"&INDEX([1]RELAÇÃO!$A$1:$AQ$576,MATCH($M140,[1]RELAÇÃO!$AP$1:$AP$576,0),14)&\" - \"&INDEX([1]RELAÇÃO!$A$1:$AQ$576,MATCH($M140,[1]RELAÇÃO!$AP$1:$AP$576,0),16)&\" de \"&INDEX([1]RELAÇÃO!$A$1:$AQ$576,MATCH($M140,[1]RELAÇÃO!$AP$1:$AP$576,0),15))","v":"Portaria nº 556, de 03/11/2016 - DOU de 04/11/2016"},{"$f":"INDEX([1]RELAÇÃO!$A$1:$AQ$576,MATCH($N140,[1]RELAÇÃO!$AQ$1:$AQ$576,0),1)","v":"RENATA SANCHES DE OLIVEIRA MOURA"},{"$f":"IF(J140=0,\"-\",INDEX([1]RELAÇÃO!$A$1:$AQ$576,MATCH($N140,[1]RELAÇÃO!$AQ$1:$AQ$576,0),27)&INDEX([1]RELAÇÃO!$A$1:$AQ$576,MATCH($N140,[1]RELAÇÃO!$AQ$1:$AQ$576,0),28)&\", de \"&INDEX([1]RELAÇÃO!$A$1:$AQ$576,MATCH($N140,[1]RELAÇÃO!$AQ$1:$AQ$576,0),29)&\" - \"&INDEX([1]RELAÇÃO!$A$1:$AQ$576,MATCH($N140,[1]RELAÇÃO!$AQ$1:$AQ$576,0),31)&\" de \"&INDEX([1]RELAÇÃO!$A$1:$AQ$576,MATCH($N140,[1]RELAÇÃO!$AQ$1:$AQ$576,0),30))","v":"Portaria nº 55, de 15/02/2018 - DOU de 19/02/2018"},{"$f":"IF($E140=0,\"-\",IF(INDEX([1]RELAÇÃO!$A$1:$AQ$576,MATCH($M140,[1]RELAÇÃO!$AP$1:$AP$576,0),8)=\"8.105.220\",\"-\",INDEX([1]RELAÇÃO!$A$1:$AQ$576,MATCH($M140,[1]RELAÇÃO!$AP$1:$AP$576,0),7)))","v":"-"},"SE68","SE38S"]
[null,"Chefe de Divisão de Concessão e Atualização dos Registros de Pagamento de Ativos"," FCPE 101.2",null,"Excluído pelo Dec. 9675/2019"]
[null,"Chefe de Divisão de Execução Orçamentária e Financeira da Folha de Pagamento de Pessoal","FCPE 101.2","GER",{"$f":"INDEX([1]RELAÇÃO!$A$1:$AQ$576,MATCH($M142,[1]RELAÇÃO!$AP$1:$AP$576,0),1)","v":"SEVERINO BARBOSA DOS SANTOS"},{"$f":"IF(E142=0,\"-\",LEFT(INDEX([1]RELAÇÃO!$A$1:$AQ$576,MATCH($M142,[1]RELAÇÃO!$AP$1:$AP$576,0),32),1))","v":"M"},{"$f":"IF(E142=0,\"-\",INDEX([1]RELAÇÃO!$A$1:$AQ$576,MATCH($M142,[1]RELAÇÃO!$AP$1:$AP$576,0),5))","v":"Ativo Permanente"},{"$f":"IF(E142=0,\"-\",INDEX([1]RELAÇÃO!$A$1:$AQ$576,MATCH($M142,[1]RELAÇÃO!$AP$1:$AP$576,0),6))","v":"MME - Ministério de Minas e Energia"},{"$f":"IF(E142=0,\"-\",INDEX([1]RELAÇÃO!$A$1:$AQ$576,MATCH($M142,[1]RELAÇÃO!$AP$1:$AP$576,0),12)&INDEX([1]RELAÇÃO!$A$1:$AQ$576,MATCH($M142,[1]RELAÇÃO!$AP$1:$AP$576,0),13)&\", de \"&INDEX([1]RELAÇÃO!$A$1:$AQ$576,MATCH($M142,[1]RELAÇÃO!$AP$1:$AP$576,0),14)&\" - \"&INDEX([1]RELAÇÃO!$A$1:$AQ$576,MATCH($M142,[1]RELAÇÃO!$AP$1:$AP$576,0),16)&\" de \"&INDEX([1]RELAÇÃO!$A$1:$AQ$576,MATCH($M142,[1]RELAÇÃO!$AP$1:$AP$576,0),15))","v":"Portaria nº 524, de 03/11/2016 - BPE de 04/11/2016"},{"$f":"INDEX([1]RELAÇÃO!$A$1:$AQ$576,MATCH($N142,[1]RELAÇÃO!$AQ$1:$AQ$576,0),1)","v":"PATRÍCIA DE ALMEIDA MARTINS"},{"$f":"IF(J142=0,\"-\",INDEX([1]RELAÇÃO!$A$1:$AQ$576,MATCH($N142,[1]RELAÇÃO!$AQ$1:$AQ$576,0),27)&INDEX([1]RELAÇÃO!$A$1:$AQ$576,MATCH($N142,[1]RELAÇÃO!$AQ$1:$AQ$576,0),28)&\", de \"&INDEX([1]RELAÇÃO!$A$1:$AQ$576,MATCH($N142,[1]RELAÇÃO!$AQ$1:$AQ$576,0),29)&\" - \"&INDEX([1]RELAÇÃO!$A$1:$AQ$576,MATCH($N142,[1]RELAÇÃO!$AQ$1:$AQ$576,0),31)&\" de \"&INDEX([1]RELAÇÃO!$A$1:$AQ$576,MATCH($N142,[1]RELAÇÃO!$AQ$1:$AQ$576,0),30))","v":"Portaria nº 162, de 07/04/2020 - DOU de 13/04/2020"},{"$f":"IF($E142=0,\"-\",IF(INDEX([1]RELAÇÃO!$A$1:$AQ$576,MATCH($M142,[1]RELAÇÃO!$AP$1:$AP$576,0),8)=\"8.105.210\",\"-\",INDEX([1]RELAÇÃO!$A$1:$AQ$576,MATCH($M142,[1]RELAÇÃO!$AP$1:$AP$576,0),7)))","v":"-"},"SE69","SE39S"]
[null,"Chefe de Divisão de Cadastro e Controle de Pessoal","FCPE 101.2","GER",{"$f":"INDEX([1]RELAÇÃO!$A$1:$AQ$576,MATCH($M143,[1]RELAÇÃO!$AP$1:$AP$576,0),1)","v":"MIGUEL JOAQUIM DA SILVA"},{"$f":"IF(E143=0,\"-\",LEFT(INDEX([1]RELAÇÃO!$A$1:$AQ$576,MATCH($M143,[1]RELAÇÃO!$AP$1:$AP$576,0),32),1))","v":"M"},{"$f":"IF(E143=0,\"-\",INDEX([1]RELAÇÃO!$A$1:$AQ$576,MATCH($M143,[1]RELAÇÃO!$AP$1:$AP$576,0),5))","v":"Ativo Permanente"},{"$f":"IF(E143=0,\"-\",INDEX([1]RELAÇÃO!$A$1:$AQ$576,MATCH($M143,[1]RELAÇÃO!$AP$1:$AP$576,0),6))","v":"MME - Ministério de Minas e Energia"},{"$f":"IF(E143=0,\"-\",INDEX([1]RELAÇÃO!$A$1:$AQ$576,MATCH($M143,[1]RELAÇÃO!$AP$1:$AP$576,0),12)&INDEX([1]RELAÇÃO!$A$1:$AQ$576,MATCH($M143,[1]RELAÇÃO!$AP$1:$AP$576,0),13)&\", de \"&INDEX([1]RELAÇÃO!$A$1:$AQ$576,MATCH($M143,[1]RELAÇÃO!$AP$1:$AP$576,0),14)&\" - \"&INDEX([1]RELAÇÃO!$A$1:$AQ$576,MATCH($M143,[1]RELAÇÃO!$AP$1:$AP$576,0),16)&\" de \"&INDEX([1]RELAÇÃO!$A$1:$AQ$576,MATCH($M143,[1]RELAÇÃO!$AP$1:$AP$576,0),15))","v":"Portaria nº 524, de 03/11/2016 - BPE de 04/11/2016"},{"$f":"INDEX([1]RELAÇÃO!$A$1:$AQ$576,MATCH($N143,[1]RELAÇÃO!$AQ$1:$AQ$576,0),1)","v":"ANA PAULA DE CASTRO"},{"$f":"IF(J143=0,\"-\",INDEX([1]RELAÇÃO!$A$1:$AQ$576,MATCH($N143,[1]RELAÇÃO!$AQ$1:$AQ$576,0),27)&INDEX([1]RELAÇÃO!$A$1:$AQ$576,MATCH($N143,[1]RELAÇÃO!$AQ$1:$AQ$576,0),28)&\", de \"&INDEX([1]RELAÇÃO!$A$1:$AQ$576,MATCH($N143,[1]RELAÇÃO!$AQ$1:$AQ$576,0),29)&\" - \"&INDEX([1]RELAÇÃO!$A$1:$AQ$576,MATCH($N143,[1]RELAÇÃO!$AQ$1:$AQ$576,0),31)&\" de \"&INDEX([1]RELAÇÃO!$A$1:$AQ$576,MATCH($N143,[1]RELAÇÃO!$AQ$1:$AQ$576,0),30))","v":"Portaria nº 163, de 07/04/2020 - DOU de 13/04/2020"},{"$f":"IF($E143=0,\"-\",IF(INDEX([1]RELAÇÃO!$A$1:$AQ$576,MATCH($M143,[1]RELAÇÃO!$AP$1:$AP$576,0),8)=\"8.105.210\",\"-\",INDEX([1]RELAÇÃO!$A$1:$AQ$576,MATCH($M143,[1]RELAÇÃO!$AP$1:$AP$576,0),7)))","v":"-"},"SE70","SE40S"]
["Coordenação-Geral de Orçamento e Finanças","Coordenador-Geral","DAS 101.4","GER",{"$f":"INDEX([1]RELAÇÃO!$A$1:$AQ$576,MATCH($M144,[1]RELAÇÃO!$AP$1:$AP$576,0),1)","v":"CLAUDIO XAVIER PEREIRA"},{"$f":"IF(E144=0,\"-\",LEFT(INDEX([1]RELAÇÃO!$A$1:$AQ$576,MATCH($M144,[1]RELAÇÃO!$AP$1:$AP$576,0),32),1))","v":"M"},{"$f":"IF(E144=0,\"-\",INDEX([1]RELAÇÃO!$A$1:$AQ$576,MATCH($M144,[1]RELAÇÃO!$AP$1:$AP$576,0),5))","v":"Exercício Descentralizado"},{"$f":"IF(E144=0,\"-\",INDEX([1]RELAÇÃO!$A$1:$AQ$576,MATCH($M144,[1]RELAÇÃO!$AP$1:$AP$576,0),6))","v":"ME - Ministério da Economia"},{"$f":"IF(E144=0,\"-\",INDEX([1]RELAÇÃO!$A$1:$AQ$576,MATCH($M144,[1]RELAÇÃO!$AP$1:$AP$576,0),12)&INDEX([1]RELAÇÃO!$A$1:$AQ$576,MATCH($M144,[1]RELAÇÃO!$AP$1:$AP$576,0),13)&\", de \"&INDEX([1]RELAÇÃO!$A$1:$AQ$576,MATCH($M144,[1]RELAÇÃO!$AP$1:$AP$576,0),14)&\" - \"&INDEX([1]RELAÇÃO!$A$1:$AQ$576,MATCH($M144,[1]RELAÇÃO!$AP$1:$AP$576,0),16)&\" de \"&INDEX([1]RELAÇÃO!$A$1:$AQ$576,MATCH($M144,[1]RELAÇÃO!$AP$1:$AP$576,0),15))","v":"Portaria nº 524, de 03/11/2016 - BPE de 04/11/2016"},{"$f":"INDEX([1]RELAÇÃO!$A$1:$AQ$576,MATCH($N144,[1]RELAÇÃO!$AQ$1:$AQ$576,0),1)","v":"LUIZ CARLOS DIAS DA SILVA"},{"$f":"IF(J144=0,\"-\",INDEX([1]RELAÇÃO!$A$1:$AQ$576,MATCH($N144,[1]RELAÇÃO!$AQ$1:$AQ$576,0),27)&INDEX([1]RELAÇÃO!$A$1:$AQ$576,MATCH($N144,[1]RELAÇÃO!$AQ$1:$AQ$576,0),28)&\", de \"&INDEX([1]RELAÇÃO!$A$1:$AQ$576,MATCH($N144,[1]RELAÇÃO!$AQ$1:$AQ$576,0),29)&\" - \"&INDEX([1]RELAÇÃO!$A$1:$AQ$576,MATCH($N144,[1]RELAÇÃO!$AQ$1:$AQ$576,0),31)&\" de \"&INDEX([1]RELAÇÃO!$A$1:$AQ$576,MATCH($N144,[1]RELAÇÃO!$AQ$1:$AQ$576,0),30))","v":"Portaria nº 416, de 18/11/2019 - DOU de 21/11/2019"},{"$f":"IF($E144=0,\"-\",IF(INDEX([1]RELAÇÃO!$A$1:$AQ$576,MATCH($M144,[1]RELAÇÃO!$AP$1:$AP$576,0),8)=\"8.105.500\",\"-\",INDEX([1]RELAÇÃO!$A$1:$AQ$576,MATCH($M144,[1]RELAÇÃO!$AP$1:$AP$576,0),7)))","v":"-"},"SE71","SE41S"]
[null,"Coordenador de Administração Financeira","DAS 101.3","GER",{"$f":"INDEX([1]RELAÇÃO!$A$1:$AQ$576,MATCH($M145,[1]RELAÇÃO!$AP$1:$AP$576,0),1)","v":"AMANTINO SOARES DE OLIVEIRA"},{"$f":"IF(E145=0,\"-\",LEFT(INDEX([1]RELAÇÃO!$A$1:$AQ$576,MATCH($M145,[1]RELAÇÃO!$AP$1:$AP$576,0),32),1))","v":"M"},{"$f":"IF(E145=0,\"-\",INDEX([1]RELAÇÃO!$A$1:$AQ$576,MATCH($M145,[1]RELAÇÃO!$AP$1:$AP$576,0),5))","v":"Exercício Descentralizado"},{"$f":"IF(E145=0,\"-\",INDEX([1]RELAÇÃO!$A$1:$AQ$576,MATCH($M145,[1]RELAÇÃO!$AP$1:$AP$576,0),6))","v":"ME - Ministério da Economia"},{"$f":"IF(E145=0,\"-\",INDEX([1]RELAÇÃO!$A$1:$AQ$576,MATCH($M145,[1]RELAÇÃO!$AP$1:$AP$576,0),12)&INDEX([1]RELAÇÃO!$A$1:$AQ$576,MATCH($M145,[1]RELAÇÃO!$AP$1:$AP$576,0),13)&\", de \"&INDEX([1]RELAÇÃO!$A$1:$AQ$576,MATCH($M145,[1]RELAÇÃO!$AP$1:$AP$576,0),14)&\" - \"&INDEX([1]RELAÇÃO!$A$1:$AQ$576,MATCH($M145,[1]RELAÇÃO!$AP$1:$AP$576,0),16)&\" de \"&INDEX([1]RELAÇÃO!$A$1:$AQ$576,MATCH($M145,[1]RELAÇÃO!$AP$1:$AP$576,0),15))","v":"Portaria nº 524, de 03/11/2016 - BPE de 04/11/2016"},{"$f":"INDEX([1]RELAÇÃO!$A$1:$AQ$576,MATCH($N145,[1]RELAÇÃO!$AQ$1:$AQ$576,0),1)","v":"ANDERSON DA CRUZ NEVES"},{"$f":"IF(J145=0,\"-\",INDEX([1]RELAÇÃO!$A$1:$AQ$576,MATCH($N145,[1]RELAÇÃO!$AQ$1:$AQ$576,0),27)&INDEX([1]RELAÇÃO!$A$1:$AQ$576,MATCH($N145,[1]RELAÇÃO!$AQ$1:$AQ$576,0),28)&\", de \"&INDEX([1]RELAÇÃO!$A$1:$AQ$576,MATCH($N145,[1]RELAÇÃO!$AQ$1:$AQ$576,0),29)&\" - \"&INDEX([1]RELAÇÃO!$A$1:$AQ$576,MATCH($N145,[1]RELAÇÃO!$AQ$1:$AQ$576,0),31)&\" de \"&INDEX([1]RELAÇÃO!$A$1:$AQ$576,MATCH($N145,[1]RELAÇÃO!$AQ$1:$AQ$576,0),30))","v":"Portaria nº 389, de 04/10/2017 - DOU de 06/10/2017"},{"$f":"IF($E145=0,\"-\",IF(INDEX([1]RELAÇÃO!$A$1:$AQ$576,MATCH($M145,[1]RELAÇÃO!$AP$1:$AP$576,0),8)=\"8.105.510\",\"-\",INDEX([1]RELAÇÃO!$A$1:$AQ$576,MATCH($M145,[1]RELAÇÃO!$AP$1:$AP$576,0),7)))","v":"-"},"SE72","SE42S"]
[null,"Coordenador de Contabilidade","DAS 101.3","GER",{"$f":"INDEX([1]RELAÇÃO!$A$1:$AQ$576,MATCH($M146,[1]RELAÇÃO!$AP$1:$AP$576,0),1)","v":"ELIZANE VELOZO COSTA GUEDES"},{"$f":"IF(E146=0,\"-\",LEFT(INDEX([1]RELAÇÃO!$A$1:$AQ$576,MATCH($M146,[1]RELAÇÃO!$AP$1:$AP$576,0),32),1))","v":"F"},{"$f":"IF(E146=0,\"-\",INDEX([1]RELAÇÃO!$A$1:$AQ$576,MATCH($M146,[1]RELAÇÃO!$AP$1:$AP$576,0),5))","v":"Ativo Permanente"},{"$f":"IF(E146=0,\"-\",INDEX([1]RELAÇÃO!$A$1:$AQ$576,MATCH($M146,[1]RELAÇÃO!$AP$1:$AP$576,0),6))","v":"MME - Ministério de Minas e Energia"},{"$f":"IF(E146=0,\"-\",INDEX([1]RELAÇÃO!$A$1:$AQ$576,MATCH($M146,[1]RELAÇÃO!$AP$1:$AP$576,0),12)&INDEX([1]RELAÇÃO!$A$1:$AQ$576,MATCH($M146,[1]RELAÇÃO!$AP$1:$AP$576,0),13)&\", de \"&INDEX([1]RELAÇÃO!$A$1:$AQ$576,MATCH($M146,[1]RELAÇÃO!$AP$1:$AP$576,0),14)&\" - \"&INDEX([1]RELAÇÃO!$A$1:$AQ$576,MATCH($M146,[1]RELAÇÃO!$AP$1:$AP$576,0),16)&\" de \"&INDEX([1]RELAÇÃO!$A$1:$AQ$576,MATCH($M146,[1]RELAÇÃO!$AP$1:$AP$576,0),15))","v":"Portaria nº 524, de 03/11/2016 - BPE de 04/11/2016"},{"$f":"INDEX([1]RELAÇÃO!$A$1:$AQ$576,MATCH($N146,[1]RELAÇÃO!$AQ$1:$AQ$576,0),1)","v":0},{"$f":"IF(J146=0,\"-\",INDEX([1]RELAÇÃO!$A$1:$AQ$576,MATCH($N146,[1]RELAÇÃO!$AQ$1:$AQ$576,0),27)&INDEX([1]RELAÇÃO!$A$1:$AQ$576,MATCH($N146,[1]RELAÇÃO!$AQ$1:$AQ$576,0),28)&\", de \"&INDEX([1]RELAÇÃO!$A$1:$AQ$576,MATCH($N146,[1]RELAÇÃO!$AQ$1:$AQ$576,0),29)&\" - \"&INDEX([1]RELAÇÃO!$A$1:$AQ$576,MATCH($N146,[1]RELAÇÃO!$AQ$1:$AQ$576,0),31)&\" de \"&INDEX([1]RELAÇÃO!$A$1:$AQ$576,MATCH($N146,[1]RELAÇÃO!$AQ$1:$AQ$576,0),30))","v":"-"},{"$f":"IF($E146=0,\"-\",IF(INDEX([1]RELAÇÃO!$A$1:$AQ$576,MATCH($M146,[1]RELAÇÃO!$AP$1:$AP$576,0),8)=\"8.105.520\",\"-\",INDEX([1]RELAÇÃO!$A$1:$AQ$576,MATCH($M146,[1]RELAÇÃO!$AP$1:$AP$576,0),7)))","v":"-"},"SE73","SE43S"]
[null,"Coordenador de Orçamento","DAS 101.3","GER",{"$f":"INDEX([1]RELAÇÃO!$A$1:$AQ$576,MATCH($M147,[1]RELAÇÃO!$AP$1:$AP$576,0),1)","v":"LUIZ CARLOS DIAS DA SILVA"},{"$f":"IF(E147=0,\"-\",LEFT(INDEX([1]RELAÇÃO!$A$1:$AQ$576,MATCH($M147,[1]RELAÇÃO!$AP$1:$AP$576,0),32),1))","v":"M"},{"$f":"IF(E147=0,\"-\",INDEX([1]RELAÇÃO!$A$1:$AQ$576,MATCH($M147,[1]RELAÇÃO!$AP$1:$AP$576,0),5))","v":"Exercício Descentralizado"},{"$f":"IF(E147=0,\"-\",INDEX([1]RELAÇÃO!$A$1:$AQ$576,MATCH($M147,[1]RELAÇÃO!$AP$1:$AP$576,0),6))","v":"ME - Ministério da Economia"},{"$f":"IF(E147=0,\"-\",INDEX([1]RELAÇÃO!$A$1:$AQ$576,MATCH($M147,[1]RELAÇÃO!$AP$1:$AP$576,0),12)&INDEX([1]RELAÇÃO!$A$1:$AQ$576,MATCH($M147,[1]RELAÇÃO!$AP$1:$AP$576,0),13)&\", de \"&INDEX([1]RELAÇÃO!$A$1:$AQ$576,MATCH($M147,[1]RELAÇÃO!$AP$1:$AP$576,0),14)&\" - \"&INDEX([1]RELAÇÃO!$A$1:$AQ$576,MATCH($M147,[1]RELAÇÃO!$AP$1:$AP$576,0),16)&\" de \"&INDEX([1]RELAÇÃO!$A$1:$AQ$576,MATCH($M147,[1]RELAÇÃO!$AP$1:$AP$576,0),15))","v":"Portaria nº 376, de 30/09/2019 - DOU de 02/10/2019"},{"$f":"INDEX([1]RELAÇÃO!$A$1:$AQ$576,MATCH($N147,[1]RELAÇÃO!$AQ$1:$AQ$576,0),1)","v":"JORGE GABRIEL MOISÉS FILHO"},{"$f":"IF(J147=0,\"-\",INDEX([1]RELAÇÃO!$A$1:$AQ$576,MATCH($N147,[1]RELAÇÃO!$AQ$1:$AQ$576,0),27)&INDEX([1]RELAÇÃO!$A$1:$AQ$576,MATCH($N147,[1]RELAÇÃO!$AQ$1:$AQ$576,0),28)&\", de \"&INDEX([1]RELAÇÃO!$A$1:$AQ$576,MATCH($N147,[1]RELAÇÃO!$AQ$1:$AQ$576,0),29)&\" - \"&INDEX([1]RELAÇÃO!$A$1:$AQ$576,MATCH($N147,[1]RELAÇÃO!$AQ$1:$AQ$576,0),31)&\" de \"&INDEX([1]RELAÇÃO!$A$1:$AQ$576,MATCH($N147,[1]RELAÇÃO!$AQ$1:$AQ$576,0),30))","v":"Portaria nº 452, de 05/12/2019 - DOU de 06/12/2019"},{"$f":"IF($E147=0,\"-\",IF(INDEX([1]RELAÇÃO!$A$1:$AQ$576,MATCH($M147,[1]RELAÇÃO!$AP$1:$AP$576,0),8)=\"8.105.530\",\"-\",INDEX([1]RELAÇÃO!$A$1:$AQ$576,MATCH($M147,[1]RELAÇÃO!$AP$1:$AP$576,0),7)))","v":"-"},"SE74","SE44S"]
[null,"Assistente","DAS 102.2","ASS",{"$f":"INDEX([1]RELAÇÃO!$A$1:$AQ$576,MATCH($M148,[1]RELAÇÃO!$AP$1:$AP$576,0),1)","v":"MARCIO MITLETON"},{"$f":"IF(E148=0,\"-\",LEFT(INDEX([1]RELAÇÃO!$A$1:$AQ$576,MATCH($M148,[1]RELAÇÃO!$AP$1:$AP$576,0),32),1))","v":"M"},{"$f":"IF(E148=0,\"-\",INDEX([1]RELAÇÃO!$A$1:$AQ$576,MATCH($M148,[1]RELAÇÃO!$AP$1:$AP$576,0),5))","v":"Exercício Descentralizado"},{"$f":"IF(E148=0,\"-\",INDEX([1]RELAÇÃO!$A$1:$AQ$576,MATCH($M148,[1]RELAÇÃO!$AP$1:$AP$576,0),6))","v":"ME - Ministério da Economia"},{"$f":"IF(E148=0,\"-\",INDEX([1]RELAÇÃO!$A$1:$AQ$576,MATCH($M148,[1]RELAÇÃO!$AP$1:$AP$576,0),12)&INDEX([1]RELAÇÃO!$A$1:$AQ$576,MATCH($M148,[1]RELAÇÃO!$AP$1:$AP$576,0),13)&\", de \"&INDEX([1]RELAÇÃO!$A$1:$AQ$576,MATCH($M148,[1]RELAÇÃO!$AP$1:$AP$576,0),14)&\" - \"&INDEX([1]RELAÇÃO!$A$1:$AQ$576,MATCH($M148,[1]RELAÇÃO!$AP$1:$AP$576,0),16)&\" de \"&INDEX([1]RELAÇÃO!$A$1:$AQ$576,MATCH($M148,[1]RELAÇÃO!$AP$1:$AP$576,0),15))","v":"Portaria nº 110, de 06/02/2019 - DOU de 08/02/2019"},null,null,{"$f":"IF($E148=0,\"-\",IF(INDEX([1]RELAÇÃO!$A$1:$AQ$576,MATCH($M148,[1]RELAÇÃO!$AP$1:$AP$576,0),8)=\"8.105.520\",\"-\",INDEX([1]RELAÇÃO!$A$1:$AQ$576,MATCH($M148,[1]RELAÇÃO!$AP$1:$AP$576,0),7)))","v":"-"},"SE75"]
[null,"Assistente Técnico","DAS 102.1","ASS",{"$f":"INDEX([1]RELAÇÃO!$A$1:$AQ$576,MATCH($M149,[1]RELAÇÃO!$AP$1:$AP$576,0),1)","v":"LUCAS GOMES AMORIM"},{"$f":"IF(E149=0,\"-\",LEFT(INDEX([1]RELAÇÃO!$A$1:$AQ$576,MATCH($M149,[1]RELAÇÃO!$AP$1:$AP$576,0),32),1))","v":"M"},{"$f":"IF(E149=0,\"-\",INDEX([1]RELAÇÃO!$A$1:$AQ$576,MATCH($M149,[1]RELAÇÃO!$AP$1:$AP$576,0),5))","v":"Sem Vínculo"},{"$f":"IF(E149=0,\"-\",INDEX([1]RELAÇÃO!$A$1:$AQ$576,MATCH($M149,[1]RELAÇÃO!$AP$1:$AP$576,0),6))","v":"Sem Vínculo"},{"$f":"IF(E149=0,\"-\",INDEX([1]RELAÇÃO!$A$1:$AQ$576,MATCH($M149,[1]RELAÇÃO!$AP$1:$AP$576,0),12)&INDEX([1]RELAÇÃO!$A$1:$AQ$576,MATCH($M149,[1]RELAÇÃO!$AP$1:$AP$576,0),13)&\", de \"&INDEX([1]RELAÇÃO!$A$1:$AQ$576,MATCH($M149,[1]RELAÇÃO!$AP$1:$AP$576,0),14)&\" - \"&INDEX([1]RELAÇÃO!$A$1:$AQ$576,MATCH($M149,[1]RELAÇÃO!$AP$1:$AP$576,0),16)&\" de \"&INDEX([1]RELAÇÃO!$A$1:$AQ$576,MATCH($M149,[1]RELAÇÃO!$AP$1:$AP$576,0),15))","v":"Portaria nº 334, de 15/08/2018 - DOU de 16/08/2018"},null,null,{"$f":"IF($E149=0,\"-\",IF(INDEX([1]RELAÇÃO!$A$1:$AQ$576,MATCH($M149,[1]RELAÇÃO!$AP$1:$AP$576,0),8)=\"8.105.530\",\"-\",INDEX([1]RELAÇÃO!$A$1:$AQ$576,MATCH($M149,[1]RELAÇÃO!$AP$1:$AP$576,0),7)))","v":"GM / ASSESSORIA TÉCNICA E ADMINISTRATIVA - ASTAD"},"SE76"]
[null,"Assistente Técnico","FCPE 102.1","ASS",{"$f":"INDEX([1]RELAÇÃO!$A$1:$AQ$576,MATCH($M150,[1]RELAÇÃO!$AP$1:$AP$576,0),1)","v":"LUCIANO DE MENDONCA FONSECA"},{"$f":"IF(E150=0,\"-\",LEFT(INDEX([1]RELAÇÃO!$A$1:$AQ$576,MATCH($M150,[1]RELAÇÃO!$AP$1:$AP$576,0),32),1))","v":"M"},{"$f":"IF(E150=0,\"-\",INDEX([1]RELAÇÃO!$A$1:$AQ$576,MATCH($M150,[1]RELAÇÃO!$AP$1:$AP$576,0),5))","v":"Exercício Descentralizado"},{"$f":"IF(E150=0,\"-\",INDEX([1]RELAÇÃO!$A$1:$AQ$576,MATCH($M150,[1]RELAÇÃO!$AP$1:$AP$576,0),6))","v":"ME - Ministério da Economia"},{"$f":"IF(E150=0,\"-\",INDEX([1]RELAÇÃO!$A$1:$AQ$576,MATCH($M150,[1]RELAÇÃO!$AP$1:$AP$576,0),12)&INDEX([1]RELAÇÃO!$A$1:$AQ$576,MATCH($M150,[1]RELAÇÃO!$AP$1:$AP$576,0),13)&\", de \"&INDEX([1]RELAÇÃO!$A$1:$AQ$576,MATCH($M150,[1]RELAÇÃO!$AP$1:$AP$576,0),14)&\" - \"&INDEX([1]RELAÇÃO!$A$1:$AQ$576,MATCH($M150,[1]RELAÇÃO!$AP$1:$AP$576,0),16)&\" de \"&INDEX([1]RELAÇÃO!$A$1:$AQ$576,MATCH($M150,[1]RELAÇÃO!$AP$1:$AP$576,0),15))","v":"Portaria nº 63, de 27/02/2020 - DOU de 28/02/2020"},null,null,{"$f":"IF($E150=0,\"-\",IF(INDEX([1]RELAÇÃO!$A$1:$AQ$576,MATCH($M150,[1]RELAÇÃO!$AP$1:$AP$576,0),8)=\"8.105.500\",\"-\",INDEX([1]RELAÇÃO!$A$1:$AQ$576,MATCH($M150,[1]RELAÇÃO!$AP$1:$AP$576,0),7)))","v":"-"},"SE77"]
[null,"Assistente Técnico","FCPE 102.1","ASS",{"$f":"INDEX([1]RELAÇÃO!$A$1:$AQ$576,MATCH($M151,[1]RELAÇÃO!$AP$1:$AP$576,0),1)","v":"FRANCISCO GOMES DE MATOS"},{"$f":"IF(E151=0,\"-\",LEFT(INDEX([1]RELAÇÃO!$A$1:$AQ$576,MATCH($M151,[1]RELAÇÃO!$AP$1:$AP$576,0),32),1))","v":"M"},{"$f":"IF(E151=0,\"-\",INDEX([1]RELAÇÃO!$A$1:$AQ$576,MATCH($M151,[1]RELAÇÃO!$AP$1:$AP$576,0),5))","v":"Ativo Permanente"},{"$f":"IF(E151=0,\"-\",INDEX([1]RELAÇÃO!$A$1:$AQ$576,MATCH($M151,[1]RELAÇÃO!$AP$1:$AP$576,0),6))","v":"MME - Ministério de Minas e Energia"},{"$f":"IF(E151=0,\"-\",INDEX([1]RELAÇÃO!$A$1:$AQ$576,MATCH($M151,[1]RELAÇÃO!$AP$1:$AP$576,0),12)&INDEX([1]RELAÇÃO!$A$1:$AQ$576,MATCH($M151,[1]RELAÇÃO!$AP$1:$AP$576,0),13)&\", de \"&INDEX([1]RELAÇÃO!$A$1:$AQ$576,MATCH($M151,[1]RELAÇÃO!$AP$1:$AP$576,0),14)&\" - \"&INDEX([1]RELAÇÃO!$A$1:$AQ$576,MATCH($M151,[1]RELAÇÃO!$AP$1:$AP$576,0),16)&\" de \"&INDEX([1]RELAÇÃO!$A$1:$AQ$576,MATCH($M151,[1]RELAÇÃO!$AP$1:$AP$576,0),15))","v":"Portaria nº 41, de 11/02/2020 - DOU de 13/02/2020"},null,null,{"$f":"IF($E151=0,\"-\",IF(INDEX([1]RELAÇÃO!$A$1:$AQ$576,MATCH($M151,[1]RELAÇÃO!$AP$1:$AP$576,0),8)=\"8.105.530\",\"-\",INDEX([1]RELAÇÃO!$A$1:$AQ$576,MATCH($M151,[1]RELAÇÃO!$AP$1:$AP$576,0),7)))","v":"SE / SPOA / CGRL / COORDENAÇÃO DE ATIVIDADES GERAIS - COAGE"},"SE78"]
["Coordenação-Geral de Tecnologia da Informação","Coordenador-Geral","DAS 101.4","GER",{"$f":"INDEX([1]RELAÇÃO!$A$1:$AQ$576,MATCH($M152,[1]RELAÇÃO!$AP$1:$AP$576,0),1)","v":"HELITON SABINO BRIGLIA FERREIRA"},{"$f":"IF(E152=0,\"-\",LEFT(INDEX([1]RELAÇÃO!$A$1:$AQ$576,MATCH($M152,[1]RELAÇÃO!$AP$1:$AP$576,0),32),1))","v":"M"},{"$f":"IF(E152=0,\"-\",INDEX([1]RELAÇÃO!$A$1:$AQ$576,MATCH($M152,[1]RELAÇÃO!$AP$1:$AP$576,0),5))","v":"Requisitado Militar"},{"$f":"IF(E152=0,\"-\",INDEX([1]RELAÇÃO!$A$1:$AQ$576,MATCH($M152,[1]RELAÇÃO!$AP$1:$AP$576,0),6))","v":"Marinha"},{"$f":"IF(E152=0,\"-\",INDEX([1]RELAÇÃO!$A$1:$AQ$576,MATCH($M152,[1]RELAÇÃO!$AP$1:$AP$576,0),12)&INDEX([1]RELAÇÃO!$A$1:$AQ$576,MATCH($M152,[1]RELAÇÃO!$AP$1:$AP$576,0),13)&\", de \"&INDEX([1]RELAÇÃO!$A$1:$AQ$576,MATCH($M152,[1]RELAÇÃO!$AP$1:$AP$576,0),14)&\" - \"&INDEX([1]RELAÇÃO!$A$1:$AQ$576,MATCH($M152,[1]RELAÇÃO!$AP$1:$AP$576,0),16)&\" de \"&INDEX([1]RELAÇÃO!$A$1:$AQ$576,MATCH($M152,[1]RELAÇÃO!$AP$1:$AP$576,0),15))","v":"Portaria nº 288, de 19/07/2019 - DOU de 22/07/2019"},{"$f":"INDEX([1]RELAÇÃO!$A$1:$AQ$576,MATCH($N152,[1]RELAÇÃO!$AQ$1:$AQ$576,0),1)","v":"WAGNER COELHO SABINO"},{"$f":"IF(J152=0,\"-\",INDEX([1]RELAÇÃO!$A$1:$AQ$576,MATCH($N152,[1]RELAÇÃO!$AQ$1:$AQ$576,0),27)&INDEX([1]RELAÇÃO!$A$1:$AQ$576,MATCH($N152,[1]RELAÇÃO!$AQ$1:$AQ$576,0),28)&\", de \"&INDEX([1]RELAÇÃO!$A$1:$AQ$576,MATCH($N152,[1]RELAÇÃO!$AQ$1:$AQ$576,0),29)&\" - \"&INDEX([1]RELAÇÃO!$A$1:$AQ$576,MATCH($N152,[1]RELAÇÃO!$AQ$1:$AQ$576,0),31)&\" de \"&INDEX([1]RELAÇÃO!$A$1:$AQ$576,MATCH($N152,[1]RELAÇÃO!$AQ$1:$AQ$576,0),30))","v":"Portaria nº 251, de 18/06/2020 - DOU de 19/06/2020"},{"$f":"IF($E152=0,\"-\",IF(INDEX([1]RELAÇÃO!$A$1:$AQ$576,MATCH($M152,[1]RELAÇÃO!$AP$1:$AP$576,0),8)=\"8.105.300\",\"-\",INDEX([1]RELAÇÃO!$A$1:$AQ$576,MATCH($M152,[1]RELAÇÃO!$AP$1:$AP$576,0),7)))","v":"-"},"SE79","SE45S"]
[null,"Coordenador de Infraestrutura Tecnológica","DAS 101.3","GER",{"$f":"INDEX([1]RELAÇÃO!$A$1:$AQ$576,MATCH($M153,[1]RELAÇÃO!$AP$1:$AP$576,0),1)","v":"NUBIAN MENDONÇA AMORIM"},{"$f":"IF(E153=0,\"-\",LEFT(INDEX([1]RELAÇÃO!$A$1:$AQ$576,MATCH($M153,[1]RELAÇÃO!$AP$1:$AP$576,0),32),1))","v":"F"},{"$f":"IF(E153=0,\"-\",INDEX([1]RELAÇÃO!$A$1:$AQ$576,MATCH($M153,[1]RELAÇÃO!$AP$1:$AP$576,0),5))","v":"Exercício Descentralizado"},{"$f":"IF(E153=0,\"-\",INDEX([1]RELAÇÃO!$A$1:$AQ$576,MATCH($M153,[1]RELAÇÃO!$AP$1:$AP$576,0),6))","v":"ME - Ministério da Economia"},{"$f":"IF(E153=0,\"-\",INDEX([1]RELAÇÃO!$A$1:$AQ$576,MATCH($M153,[1]RELAÇÃO!$AP$1:$AP$576,0),12)&INDEX([1]RELAÇÃO!$A$1:$AQ$576,MATCH($M153,[1]RELAÇÃO!$AP$1:$AP$576,0),13)&\", de \"&INDEX([1]RELAÇÃO!$A$1:$AQ$576,MATCH($M153,[1]RELAÇÃO!$AP$1:$AP$576,0),14)&\" - \"&INDEX([1]RELAÇÃO!$A$1:$AQ$576,MATCH($M153,[1]RELAÇÃO!$AP$1:$AP$576,0),16)&\" de \"&INDEX([1]RELAÇÃO!$A$1:$AQ$576,MATCH($M153,[1]RELAÇÃO!$AP$1:$AP$576,0),15))","v":"Portaria nº 53, de 16/02/2018 - DOU de 05/03/2018"},{"$f":"INDEX([1]RELAÇÃO!$A$1:$AQ$576,MATCH($N153,[1]RELAÇÃO!$AQ$1:$AQ$576,0),1)","v":"ZAIRA ROCHA DE NOVAIS LOBO"},{"$f":"IF(J153=0,\"-\",INDEX([1]RELAÇÃO!$A$1:$AQ$576,MATCH($N153,[1]RELAÇÃO!$AQ$1:$AQ$576,0),27)&INDEX([1]RELAÇÃO!$A$1:$AQ$576,MATCH($N153,[1]RELAÇÃO!$AQ$1:$AQ$576,0),28)&\", de \"&INDEX([1]RELAÇÃO!$A$1:$AQ$576,MATCH($N153,[1]RELAÇÃO!$AQ$1:$AQ$576,0),29)&\" - \"&INDEX([1]RELAÇÃO!$A$1:$AQ$576,MATCH($N153,[1]RELAÇÃO!$AQ$1:$AQ$576,0),31)&\" de \"&INDEX([1]RELAÇÃO!$A$1:$AQ$576,MATCH($N153,[1]RELAÇÃO!$AQ$1:$AQ$576,0),30))","v":"Portaria nº 41, de 08/02/2018 - DOU de 14/02/2018"},{"$f":"IF($E153=0,\"-\",IF(INDEX([1]RELAÇÃO!$A$1:$AQ$576,MATCH($M153,[1]RELAÇÃO!$AP$1:$AP$576,0),8)=\"8.105.310\",\"-\",INDEX([1]RELAÇÃO!$A$1:$AQ$576,MATCH($M153,[1]RELAÇÃO!$AP$1:$AP$576,0),7)))","v":"-"},"SE80","SE46S"]
[null,"Coordenador de Tecnologia de Sistemas de Informação","DAS 101.3","GER",{"$f":"INDEX([1]RELAÇÃO!$A$1:$AQ$576,MATCH($M154,[1]RELAÇÃO!$AP$1:$AP$576,0),1)","v":"WAGNER COELHO SABINO"},{"$f":"IF(E154=0,\"-\",LEFT(INDEX([1]RELAÇÃO!$A$1:$AQ$576,MATCH($M154,[1]RELAÇÃO!$AP$1:$AP$576,0),32),1))","v":"M"},{"$f":"IF(E154=0,\"-\",INDEX([1]RELAÇÃO!$A$1:$AQ$576,MATCH($M154,[1]RELAÇÃO!$AP$1:$AP$576,0),5))","v":"Sem Vínculo"},{"$f":"IF(E154=0,\"-\",INDEX([1]RELAÇÃO!$A$1:$AQ$576,MATCH($M154,[1]RELAÇÃO!$AP$1:$AP$576,0),6))","v":"S/VÍNCULO"},{"$f":"IF(E154=0,\"-\",INDEX([1]RELAÇÃO!$A$1:$AQ$576,MATCH($M154,[1]RELAÇÃO!$AP$1:$AP$576,0),12)&INDEX([1]RELAÇÃO!$A$1:$AQ$576,MATCH($M154,[1]RELAÇÃO!$AP$1:$AP$576,0),13)&\", de \"&INDEX([1]RELAÇÃO!$A$1:$AQ$576,MATCH($M154,[1]RELAÇÃO!$AP$1:$AP$576,0),14)&\" - \"&INDEX([1]RELAÇÃO!$A$1:$AQ$576,MATCH($M154,[1]RELAÇÃO!$AP$1:$AP$576,0),16)&\" de \"&INDEX([1]RELAÇÃO!$A$1:$AQ$576,MATCH($M154,[1]RELAÇÃO!$AP$1:$AP$576,0),15))","v":"Portaria nº 137, de 29/03/2020 - DOU de 31/03/2020"},{"$f":"INDEX([1]RELAÇÃO!$A$1:$AQ$576,MATCH($N154,[1]RELAÇÃO!$AQ$1:$AQ$576,0),1)","v":"HIRAM COSTA BOTELHO"},{"$f":"IF(J154=0,\"-\",INDEX([1]RELAÇÃO!$A$1:$AQ$576,MATCH($N154,[1]RELAÇÃO!$AQ$1:$AQ$576,0),27)&INDEX([1]RELAÇÃO!$A$1:$AQ$576,MATCH($N154,[1]RELAÇÃO!$AQ$1:$AQ$576,0),28)&\", de \"&INDEX([1]RELAÇÃO!$A$1:$AQ$576,MATCH($N154,[1]RELAÇÃO!$AQ$1:$AQ$576,0),29)&\" - \"&INDEX([1]RELAÇÃO!$A$1:$AQ$576,MATCH($N154,[1]RELAÇÃO!$AQ$1:$AQ$576,0),31)&\" de \"&INDEX([1]RELAÇÃO!$A$1:$AQ$576,MATCH($N154,[1]RELAÇÃO!$AQ$1:$AQ$576,0),30))","v":"Portaria nº 138, de 29/03/2020 - DOU de 31/03/2020"},{"$f":"IF($E154=0,\"-\",IF(INDEX([1]RELAÇÃO!$A$1:$AQ$576,MATCH($M154,[1]RELAÇÃO!$AP$1:$AP$576,0),8)=\"8.105.320\",\"-\",INDEX([1]RELAÇÃO!$A$1:$AQ$576,MATCH($M154,[1]RELAÇÃO!$AP$1:$AP$576,0),7)))","v":"-"},"SE81","SE47S"]
[null,"Assistente","DAS 102.2","ASS",{"$f":"INDEX([1]RELAÇÃO!$A$1:$AQ$576,MATCH($M155,[1]RELAÇÃO!$AP$1:$AP$576,0),1)","v":"FRANCISCO ALEXANDRE STECHER DE OLIVEIRA"},{"$f":"IF(E155=0,\"-\",LEFT(INDEX([1]RELAÇÃO!$A$1:$AQ$576,MATCH($M155,[1]RELAÇÃO!$AP$1:$AP$576,0),32),1))","v":"M"},{"$f":"IF(E155=0,\"-\",INDEX([1]RELAÇÃO!$A$1:$AQ$576,MATCH($M155,[1]RELAÇÃO!$AP$1:$AP$576,0),5))","v":"Anistiado MME"},{"$f":"IF(E155=0,\"-\",INDEX([1]RELAÇÃO!$A$1:$AQ$576,MATCH($M155,[1]RELAÇÃO!$AP$1:$AP$576,0),6))","v":"MME - Ministério de Minas e Energia"},{"$f":"IF(E155=0,\"-\",INDEX([1]RELAÇÃO!$A$1:$AQ$576,MATCH($M155,[1]RELAÇÃO!$AP$1:$AP$576,0),12)&INDEX([1]RELAÇÃO!$A$1:$AQ$576,MATCH($M155,[1]RELAÇÃO!$AP$1:$AP$576,0),13)&\", de \"&INDEX([1]RELAÇÃO!$A$1:$AQ$576,MATCH($M155,[1]RELAÇÃO!$AP$1:$AP$576,0),14)&\" - \"&INDEX([1]RELAÇÃO!$A$1:$AQ$576,MATCH($M155,[1]RELAÇÃO!$AP$1:$AP$576,0),16)&\" de \"&INDEX([1]RELAÇÃO!$A$1:$AQ$576,MATCH($M155,[1]RELAÇÃO!$AP$1:$AP$576,0),15))","v":"Portaria nº 45, de 13/02/2020 - DOU de 14/02/2020"},null,null,{"$f":"IF($E155=0,\"-\",IF(INDEX([1]RELAÇÃO!$A$1:$AQ$576,MATCH($M155,[1]RELAÇÃO!$AP$1:$AP$576,0),8)=\"8.105.300\",\"-\",INDEX([1]RELAÇÃO!$A$1:$AQ$576,MATCH($M155,[1]RELAÇÃO!$AP$1:$AP$576,0),7)))","v":"SE / SPOA / CGTI / COORDENAÇÃO DE INFRAESTRUTURA TECNOLÓGICA - "},"SE82"]
[null,"Assistente","DAS 102.2","ASS",{"$f":"INDEX([1]RELAÇÃO!$A$1:$AQ$576,MATCH($M156,[1]RELAÇÃO!$AP$1:$AP$576,0),1)","v":"ZAIRA ROCHA DE NOVAIS LOBO"},{"$f":"IF(E156=0,\"-\",LEFT(INDEX([1]RELAÇÃO!$A$1:$AQ$576,MATCH($M156,[1]RELAÇÃO!$AP$1:$AP$576,0),32),1))","v":"F"},{"$f":"IF(E156=0,\"-\",INDEX([1]RELAÇÃO!$A$1:$AQ$576,MATCH($M156,[1]RELAÇÃO!$AP$1:$AP$576,0),5))","v":"Ativo Permanente"},{"$f":"IF(E156=0,\"-\",INDEX([1]RELAÇÃO!$A$1:$AQ$576,MATCH($M156,[1]RELAÇÃO!$AP$1:$AP$576,0),6))","v":"MME - Ministério de Minas e Energia"},{"$f":"IF(E156=0,\"-\",INDEX([1]RELAÇÃO!$A$1:$AQ$576,MATCH($M156,[1]RELAÇÃO!$AP$1:$AP$576,0),12)&INDEX([1]RELAÇÃO!$A$1:$AQ$576,MATCH($M156,[1]RELAÇÃO!$AP$1:$AP$576,0),13)&\", de \"&INDEX([1]RELAÇÃO!$A$1:$AQ$576,MATCH($M156,[1]RELAÇÃO!$AP$1:$AP$576,0),14)&\" - \"&INDEX([1]RELAÇÃO!$A$1:$AQ$576,MATCH($M156,[1]RELAÇÃO!$AP$1:$AP$576,0),16)&\" de \"&INDEX([1]RELAÇÃO!$A$1:$AQ$576,MATCH($M156,[1]RELAÇÃO!$AP$1:$AP$576,0),15))","v":"Portaria nº 138, de 20/04/2018 - DOU de 23/04/2018"},null,null,{"$f":"IF($E156=0,\"-\",IF(INDEX([1]RELAÇÃO!$A$1:$AQ$576,MATCH($M156,[1]RELAÇÃO!$AP$1:$AP$576,0),8)=\"8.105.300\",\"-\",INDEX([1]RELAÇÃO!$A$1:$AQ$576,MATCH($M156,[1]RELAÇÃO!$AP$1:$AP$576,0),7)))","v":"SE / SPOA / CGTI / COORDENAÇÃO DE INFRAESTRUTURA TECNOLÓGICA - "},"SE83"]
["Coordenação-Geral de Compras e Contratos","Coordenador-Geral","DAS 101.4","GER",{"$f":"INDEX([1]RELAÇÃO!$A$1:$AQ$576,MATCH($M157,[1]RELAÇÃO!$AP$1:$AP$576,0),1)","v":"IARA LEMOS GIANI"},{"$f":"IF(E157=0,\"-\",LEFT(INDEX([1]RELAÇÃO!$A$1:$AQ$576,MATCH($M157,[1]RELAÇÃO!$AP$1:$AP$576,0),32),1))","v":"F"},{"$f":"IF(E157=0,\"-\",INDEX([1]RELAÇÃO!$A$1:$AQ$576,MATCH($M157,[1]RELAÇÃO!$AP$1:$AP$576,0),5))","v":"Sem Vínculo"},{"$f":"IF(E157=0,\"-\",INDEX([1]RELAÇÃO!$A$1:$AQ$576,MATCH($M157,[1]RELAÇÃO!$AP$1:$AP$576,0),6))","v":"Sem Vínculo"},{"$f":"IF(E157=0,\"-\",INDEX([1]RELAÇÃO!$A$1:$AQ$576,MATCH($M157,[1]RELAÇÃO!$AP$1:$AP$576,0),12)&INDEX([1]RELAÇÃO!$A$1:$AQ$576,MATCH($M157,[1]RELAÇÃO!$AP$1:$AP$576,0),13)&\", de \"&INDEX([1]RELAÇÃO!$A$1:$AQ$576,MATCH($M157,[1]RELAÇÃO!$AP$1:$AP$576,0),14)&\" - \"&INDEX([1]RELAÇÃO!$A$1:$AQ$576,MATCH($M157,[1]RELAÇÃO!$AP$1:$AP$576,0),16)&\" de \"&INDEX([1]RELAÇÃO!$A$1:$AQ$576,MATCH($M157,[1]RELAÇÃO!$AP$1:$AP$576,0),15))","v":"Portaria nº 524, de 03/11/2016 - BPE de 04/11/2016"},{"$f":"INDEX([1]RELAÇÃO!$A$1:$AQ$576,MATCH($N157,[1]RELAÇÃO!$AQ$1:$AQ$576,0),1)","v":"CLÁUDIA MOTA MONTEIRO"},{"$f":"IF(J157=0,\"-\",INDEX([1]RELAÇÃO!$A$1:$AQ$576,MATCH($N157,[1]RELAÇÃO!$AQ$1:$AQ$576,0),27)&INDEX([1]RELAÇÃO!$A$1:$AQ$576,MATCH($N157,[1]RELAÇÃO!$AQ$1:$AQ$576,0),28)&\", de \"&INDEX([1]RELAÇÃO!$A$1:$AQ$576,MATCH($N157,[1]RELAÇÃO!$AQ$1:$AQ$576,0),29)&\" - \"&INDEX([1]RELAÇÃO!$A$1:$AQ$576,MATCH($N157,[1]RELAÇÃO!$AQ$1:$AQ$576,0),31)&\" de \"&INDEX([1]RELAÇÃO!$A$1:$AQ$576,MATCH($N157,[1]RELAÇÃO!$AQ$1:$AQ$576,0),30))","v":"Portaria nº 333, de 23/08/2019 - DOU de 29/08/2019"},{"$f":"IF($E157=0,\"-\",IF(INDEX([1]RELAÇÃO!$A$1:$AQ$576,MATCH($M157,[1]RELAÇÃO!$AP$1:$AP$576,0),8)=\"8.105.400\",\"-\",INDEX([1]RELAÇÃO!$A$1:$AQ$576,MATCH($M157,[1]RELAÇÃO!$AP$1:$AP$576,0),7)))","v":"-"},"SE84","SE48S"]
[null,"Coordenador de Administração de Contratos","DAS 101.3","GER",{"$f":"INDEX([1]RELAÇÃO!$A$1:$AQ$576,MATCH($M158,[1]RELAÇÃO!$AP$1:$AP$576,0),1)","v":"CLÁUDIA MOTA MONTEIRO"},{"$f":"IF(E158=0,\"-\",LEFT(INDEX([1]RELAÇÃO!$A$1:$AQ$576,MATCH($M158,[1]RELAÇÃO!$AP$1:$AP$576,0),32),1))","v":"F"},{"$f":"IF(E158=0,\"-\",INDEX([1]RELAÇÃO!$A$1:$AQ$576,MATCH($M158,[1]RELAÇÃO!$AP$1:$AP$576,0),5))","v":"Ativo Permanente"},{"$f":"IF(E158=0,\"-\",INDEX([1]RELAÇÃO!$A$1:$AQ$576,MATCH($M158,[1]RELAÇÃO!$AP$1:$AP$576,0),6))","v":"MME - Ministério de Minas e Energia"},{"$f":"IF(E158=0,\"-\",INDEX([1]RELAÇÃO!$A$1:$AQ$576,MATCH($M158,[1]RELAÇÃO!$AP$1:$AP$576,0),12)&INDEX([1]RELAÇÃO!$A$1:$AQ$576,MATCH($M158,[1]RELAÇÃO!$AP$1:$AP$576,0),13)&\", de \"&INDEX([1]RELAÇÃO!$A$1:$AQ$576,MATCH($M158,[1]RELAÇÃO!$AP$1:$AP$576,0),14)&\" - \"&INDEX([1]RELAÇÃO!$A$1:$AQ$576,MATCH($M158,[1]RELAÇÃO!$AP$1:$AP$576,0),16)&\" de \"&INDEX([1]RELAÇÃO!$A$1:$AQ$576,MATCH($M158,[1]RELAÇÃO!$AP$1:$AP$576,0),15))","v":"Portaria nº 201, de 15/04/2019 - DOU de 16/04/2019"},{"$f":"INDEX([1]RELAÇÃO!$A$1:$AQ$576,MATCH($N158,[1]RELAÇÃO!$AQ$1:$AQ$576,0),1)","v":"CLEUSA COSTA DE JESUS"},{"$f":"IF(J158=0,\"-\",INDEX([1]RELAÇÃO!$A$1:$AQ$576,MATCH($N158,[1]RELAÇÃO!$AQ$1:$AQ$576,0),27)&INDEX([1]RELAÇÃO!$A$1:$AQ$576,MATCH($N158,[1]RELAÇÃO!$AQ$1:$AQ$576,0),28)&\", de \"&INDEX([1]RELAÇÃO!$A$1:$AQ$576,MATCH($N158,[1]RELAÇÃO!$AQ$1:$AQ$576,0),29)&\" - \"&INDEX([1]RELAÇÃO!$A$1:$AQ$576,MATCH($N158,[1]RELAÇÃO!$AQ$1:$AQ$576,0),31)&\" de \"&INDEX([1]RELAÇÃO!$A$1:$AQ$576,MATCH($N158,[1]RELAÇÃO!$AQ$1:$AQ$576,0),30))","v":"Portaria nº 257, de 18/06/2019 - DOU de 19/06/2019"},{"$f":"IF($E158=0,\"-\",IF(INDEX([1]RELAÇÃO!$A$1:$AQ$576,MATCH($M158,[1]RELAÇÃO!$AP$1:$AP$576,0),8)=\"8.105.410\",\"-\",INDEX([1]RELAÇÃO!$A$1:$AQ$576,MATCH($M158,[1]RELAÇÃO!$AP$1:$AP$576,0),7)))","v":"-"},"SE85","SE49S"]
[null,"Coordenador de Licitações e Compras","DAS 101.3","GER",{"$f":"INDEX([1]RELAÇÃO!$A$1:$AQ$576,MATCH($M159,[1]RELAÇÃO!$AP$1:$AP$576,0),1)","v":0},{"$f":"IF(E159=0,\"-\",LEFT(INDEX([1]RELAÇÃO!$A$1:$AQ$576,MATCH($M159,[1]RELAÇÃO!$AP$1:$AP$576,0),32),1))","v":"-"},{"$f":"IF(E159=0,\"-\",INDEX([1]RELAÇÃO!$A$1:$AQ$576,MATCH($M159,[1]RELAÇÃO!$AP$1:$AP$576,0),5))","v":"-"},{"$f":"IF(E159=0,\"-\",INDEX([1]RELAÇÃO!$A$1:$AQ$576,MATCH($M159,[1]RELAÇÃO!$AP$1:$AP$576,0),6))","v":"-"},{"$f":"IF(E159=0,\"-\",INDEX([1]RELAÇÃO!$A$1:$AQ$576,MATCH($M159,[1]RELAÇÃO!$AP$1:$AP$576,0),12)&INDEX([1]RELAÇÃO!$A$1:$AQ$576,MATCH($M159,[1]RELAÇÃO!$AP$1:$AP$576,0),13)&\", de \"&INDEX([1]RELAÇÃO!$A$1:$AQ$576,MATCH($M159,[1]RELAÇÃO!$AP$1:$AP$576,0),14)&\" - \"&INDEX([1]RELAÇÃO!$A$1:$AQ$576,MATCH($M159,[1]RELAÇÃO!$AP$1:$AP$576,0),16)&\" de \"&INDEX([1]RELAÇÃO!$A$1:$AQ$576,MATCH($M159,[1]RELAÇÃO!$AP$1:$AP$576,0),15))","v":"-"},{"$f":"INDEX([1]RELAÇÃO!$A$1:$AQ$576,MATCH($N159,[1]RELAÇÃO!$AQ$1:$AQ$576,0),1)","v":"RAIMUNDA ALVES DE SOUSA OLIVEIRA"},{"$f":"IF(J159=0,\"-\",INDEX([1]RELAÇÃO!$A$1:$AQ$576,MATCH($N159,[1]RELAÇÃO!$AQ$1:$AQ$576,0),27)&INDEX([1]RELAÇÃO!$A$1:$AQ$576,MATCH($N159,[1]RELAÇÃO!$AQ$1:$AQ$576,0),28)&\", de \"&INDEX([1]RELAÇÃO!$A$1:$AQ$576,MATCH($N159,[1]RELAÇÃO!$AQ$1:$AQ$576,0),29)&\" - \"&INDEX([1]RELAÇÃO!$A$1:$AQ$576,MATCH($N159,[1]RELAÇÃO!$AQ$1:$AQ$576,0),31)&\" de \"&INDEX([1]RELAÇÃO!$A$1:$AQ$576,MATCH($N159,[1]RELAÇÃO!$AQ$1:$AQ$576,0),30))","v":"Portaria nº 393, de 09/10/2017 - DOU de 11/10/2017"},{"$f":"IF($E159=0,\"-\",IF(INDEX([1]RELAÇÃO!$A$1:$AQ$576,MATCH($M159,[1]RELAÇÃO!$AP$1:$AP$576,0),8)=\"8.105.420\",\"-\",INDEX([1]RELAÇÃO!$A$1:$AQ$576,MATCH($M159,[1]RELAÇÃO!$AP$1:$AP$576,0),7)))","v":"-"},"SE86","SE50S"]
[null,"Assistente","DAS 102.2","ASS",{"$f":"INDEX([1]RELAÇÃO!$A$1:$AQ$576,MATCH($M160,[1]RELAÇÃO!$AP$1:$AP$576,0),1)","v":"PEDRO EVANGELISTA HONORATO"},{"$f":"IF(E160=0,\"-\",LEFT(INDEX([1]RELAÇÃO!$A$1:$AQ$576,MATCH($M160,[1]RELAÇÃO!$AP$1:$AP$576,0),32),1))","v":"M"},{"$f":"IF(E160=0,\"-\",INDEX([1]RELAÇÃO!$A$1:$AQ$576,MATCH($M160,[1]RELAÇÃO!$AP$1:$AP$576,0),5))","v":"Anistiado MME"},{"$f":"IF(E160=0,\"-\",INDEX([1]RELAÇÃO!$A$1:$AQ$576,MATCH($M160,[1]RELAÇÃO!$AP$1:$AP$576,0),6))","v":"MME - Ministério de Minas e Energia"},{"$f":"IF(E160=0,\"-\",INDEX([1]RELAÇÃO!$A$1:$AQ$576,MATCH($M160,[1]RELAÇÃO!$AP$1:$AP$576,0),12)&INDEX([1]RELAÇÃO!$A$1:$AQ$576,MATCH($M160,[1]RELAÇÃO!$AP$1:$AP$576,0),13)&\", de \"&INDEX([1]RELAÇÃO!$A$1:$AQ$576,MATCH($M160,[1]RELAÇÃO!$AP$1:$AP$576,0),14)&\" - \"&INDEX([1]RELAÇÃO!$A$1:$AQ$576,MATCH($M160,[1]RELAÇÃO!$AP$1:$AP$576,0),16)&\" de \"&INDEX([1]RELAÇÃO!$A$1:$AQ$576,MATCH($M160,[1]RELAÇÃO!$AP$1:$AP$576,0),15))","v":"Portaria nº 524, de 03/11/2016 - BPE de 04/11/2016"},null,null,{"$f":"IF($E160=0,\"-\",IF(INDEX([1]RELAÇÃO!$A$1:$AQ$576,MATCH($M160,[1]RELAÇÃO!$AP$1:$AP$576,0),8)=\"8.105.400\",\"-\",INDEX([1]RELAÇÃO!$A$1:$AQ$576,MATCH($M160,[1]RELAÇÃO!$AP$1:$AP$576,0),7)))","v":"SGM / DEPARTAMENTO DE GEOLOGIA E PRODUÇÃO MINERAL - DGPM"},"SE87"]
[null,"Assistente","DAS 102.2","ASS",{"$f":"INDEX([1]RELAÇÃO!$A$1:$AQ$576,MATCH($M161,[1]RELAÇÃO!$AP$1:$AP$576,0),1)","v":"ERIKA TAVARES AGUIRRES"},{"$f":"IF(E161=0,\"-\",LEFT(INDEX([1]RELAÇÃO!$A$1:$AQ$576,MATCH($M161,[1]RELAÇÃO!$AP$1:$AP$576,0),32),1))","v":"F"},{"$f":"IF(E161=0,\"-\",INDEX([1]RELAÇÃO!$A$1:$AQ$576,MATCH($M161,[1]RELAÇÃO!$AP$1:$AP$576,0),5))","v":"Sem Vínculo"},{"$f":"IF(E161=0,\"-\",INDEX([1]RELAÇÃO!$A$1:$AQ$576,MATCH($M161,[1]RELAÇÃO!$AP$1:$AP$576,0),6))","v":"Sem Vínculo"},{"$f":"IF(E161=0,\"-\",INDEX([1]RELAÇÃO!$A$1:$AQ$576,MATCH($M161,[1]RELAÇÃO!$AP$1:$AP$576,0),12)&INDEX([1]RELAÇÃO!$A$1:$AQ$576,MATCH($M161,[1]RELAÇÃO!$AP$1:$AP$576,0),13)&\", de \"&INDEX([1]RELAÇÃO!$A$1:$AQ$576,MATCH($M161,[1]RELAÇÃO!$AP$1:$AP$576,0),14)&\" - \"&INDEX([1]RELAÇÃO!$A$1:$AQ$576,MATCH($M161,[1]RELAÇÃO!$AP$1:$AP$576,0),16)&\" de \"&INDEX([1]RELAÇÃO!$A$1:$AQ$576,MATCH($M161,[1]RELAÇÃO!$AP$1:$AP$576,0),15))","v":"Portaria nº 336, de 23/08/2017 - DOU de 24/08/2017"},null,null,{"$f":"IF($E161=0,\"-\",IF(INDEX([1]RELAÇÃO!$A$1:$AQ$576,MATCH($M161,[1]RELAÇÃO!$AP$1:$AP$576,0),8)=\"8.105.400\",\"-\",INDEX([1]RELAÇÃO!$A$1:$AQ$576,MATCH($M161,[1]RELAÇÃO!$AP$1:$AP$576,0),7)))","v":"SE / SPOA / CGCC / COORDENAÇÃO DE ADMINISTRAÇÃO DE CONTRATOS - CAC"},"SE88"]
[null,"Assistente"," FCPE 102.2",null,"Excluído pelo Dec. 9675/2019"]
[null,"Assistente","FCPE 102.2","ASS",{"$f":"INDEX([1]RELAÇÃO!$A$1:$AQ$576,MATCH($M163,[1]RELAÇÃO!$AP$1:$AP$576,0),1)","v":"JOAQUIM SOUSA NETO"},{"$f":"IF(E163=0,\"-\",LEFT(INDEX([1]RELAÇÃO!$A$1:$AQ$576,MATCH($M163,[1]RELAÇÃO!$AP$1:$AP$576,0),32),1))","v":"M"},{"$f":"IF(E163=0,\"-\",INDEX([1]RELAÇÃO!$A$1:$AQ$576,MATCH($M163,[1]RELAÇÃO!$AP$1:$AP$576,0),5))","v":"Ativo Permanente"},{"$f":"IF(E163=0,\"-\",INDEX([1]RELAÇÃO!$A$1:$AQ$576,MATCH($M163,[1]RELAÇÃO!$AP$1:$AP$576,0),6))","v":"MME - Ministério de Minas e Energia"},{"$f":"IF(E163=0,\"-\",INDEX([1]RELAÇÃO!$A$1:$AQ$576,MATCH($M163,[1]RELAÇÃO!$AP$1:$AP$576,0),12)&INDEX([1]RELAÇÃO!$A$1:$AQ$576,MATCH($M163,[1]RELAÇÃO!$AP$1:$AP$576,0),13)&\", de \"&INDEX([1]RELAÇÃO!$A$1:$AQ$576,MATCH($M163,[1]RELAÇÃO!$AP$1:$AP$576,0),14)&\" - \"&INDEX([1]RELAÇÃO!$A$1:$AQ$576,MATCH($M163,[1]RELAÇÃO!$AP$1:$AP$576,0),16)&\" de \"&INDEX([1]RELAÇÃO!$A$1:$AQ$576,MATCH($M163,[1]RELAÇÃO!$AP$1:$AP$576,0),15))","v":"Portaria nº 369, de 28/08/2018 - DOU de 30/08/2018"},null,null,{"$f":"IF($E163=0,\"-\",IF(INDEX([1]RELAÇÃO!$A$1:$AQ$576,MATCH($M163,[1]RELAÇÃO!$AP$1:$AP$576,0),8)=\"8.105.400\",\"-\",INDEX([1]RELAÇÃO!$A$1:$AQ$576,MATCH($M163,[1]RELAÇÃO!$AP$1:$AP$576,0),7)))","v":"SE / SPOA / CGRL / COORDENAÇÃO DE ATIVIDADES GERAIS - COAGE"},"SE89"]
[null,"Assistente","FCPE 102.2","ASS",{"$f":"INDEX([1]RELAÇÃO!$A$1:$AQ$576,MATCH($M164,[1]RELAÇÃO!$AP$1:$AP$576,0),1)","v":"OSIMAR ALVES DE SOUZA"},{"$f":"IF(E164=0,\"-\",LEFT(INDEX([1]RELAÇÃO!$A$1:$AQ$576,MATCH($M164,[1]RELAÇÃO!$AP$1:$AP$576,0),32),1))","v":"M"},{"$f":"IF(E164=0,\"-\",INDEX([1]RELAÇÃO!$A$1:$AQ$576,MATCH($M164,[1]RELAÇÃO!$AP$1:$AP$576,0),5))","v":"Ativo Permanente"},{"$f":"IF(E164=0,\"-\",INDEX([1]RELAÇÃO!$A$1:$AQ$576,MATCH($M164,[1]RELAÇÃO!$AP$1:$AP$576,0),6))","v":"MME - Ministério de Minas e Energia"},{"$f":"IF(E164=0,\"-\",INDEX([1]RELAÇÃO!$A$1:$AQ$576,MATCH($M164,[1]RELAÇÃO!$AP$1:$AP$576,0),12)&INDEX([1]RELAÇÃO!$A$1:$AQ$576,MATCH($M164,[1]RELAÇÃO!$AP$1:$AP$576,0),13)&\", de \"&INDEX([1]RELAÇÃO!$A$1:$AQ$576,MATCH($M164,[1]RELAÇÃO!$AP$1:$AP$576,0),14)&\" - \"&INDEX([1]RELAÇÃO!$A$1:$AQ$576,MATCH($M164,[1]RELAÇÃO!$AP$1:$AP$576,0),16)&\" de \"&INDEX([1]RELAÇÃO!$A$1:$AQ$576,MATCH($M164,[1]RELAÇÃO!$AP$1:$AP$576,0),15))","v":"Portaria nº 102, de 13/03/2017 - DOU de 15/03/2017"},null,null,{"$f":"IF($E164=0,\"-\",IF(INDEX([1]RELAÇÃO!$A$1:$AQ$576,MATCH($M164,[1]RELAÇÃO!$AP$1:$AP$576,0),8)=\"8.105.400\",\"-\",INDEX([1]RELAÇÃO!$A$1:$AQ$576,MATCH($M164,[1]RELAÇÃO!$AP$1:$AP$576,0),7)))","v":"SE / SPOA / CGRL / COORDENAÇÃO DE ATIVIDADES GERAIS - COAGE"},"SE90"]
[null,"Assistente Técnico","DAS 102.1","ASS",{"$f":"INDEX([1]RELAÇÃO!$A$1:$AQ$576,MATCH($M165,[1]RELAÇÃO!$AP$1:$AP$576,0),1)","v":0},{"$f":"IF(E165=0,\"-\",LEFT(INDEX([1]RELAÇÃO!$A$1:$AQ$576,MATCH($M165,[1]RELAÇÃO!$AP$1:$AP$576,0),32),1))","v":"-"},{"$f":"IF(E165=0,\"-\",INDEX([1]RELAÇÃO!$A$1:$AQ$576,MATCH($M165,[1]RELAÇÃO!$AP$1:$AP$576,0),5))","v":"-"},{"$f":"IF(E165=0,\"-\",INDEX([1]RELAÇÃO!$A$1:$AQ$576,MATCH($M165,[1]RELAÇÃO!$AP$1:$AP$576,0),6))","v":"-"},{"$f":"IF(E165=0,\"-\",INDEX([1]RELAÇÃO!$A$1:$AQ$576,MATCH($M165,[1]RELAÇÃO!$AP$1:$AP$576,0),12)&INDEX([1]RELAÇÃO!$A$1:$AQ$576,MATCH($M165,[1]RELAÇÃO!$AP$1:$AP$576,0),13)&\", de \"&INDEX([1]RELAÇÃO!$A$1:$AQ$576,MATCH($M165,[1]RELAÇÃO!$AP$1:$AP$576,0),14)&\" - \"&INDEX([1]RELAÇÃO!$A$1:$AQ$576,MATCH($M165,[1]RELAÇÃO!$AP$1:$AP$576,0),16)&\" de \"&INDEX([1]RELAÇÃO!$A$1:$AQ$576,MATCH($M165,[1]RELAÇÃO!$AP$1:$AP$576,0),15))","v":"-"},null,null,{"$f":"IF($E165=0,\"-\",IF(INDEX([1]RELAÇÃO!$A$1:$AQ$576,MATCH($M165,[1]RELAÇÃO!$AP$1:$AP$576,0),8)=\"8.105.400\",\"-\",INDEX([1]RELAÇÃO!$A$1:$AQ$576,MATCH($M165,[1]RELAÇÃO!$AP$1:$AP$576,0),7)))","v":"-"},"SE91"]
[]
["CONSULTORIA JURÍDICA - CONJUR"]
["UNIDADE","DENOMINAÇÃO CARGO/FUNÇÃO","NE/DAS/FCPE","NÍVEL DA FUNÇÃO","SERVIDOR","SEXO","SITUAÇÃO","ORIGEM","ATO DE NOMEAÇÃO","SUBSTITUTO EVENTUAL","DESIGNAÇÃO","Alteração de local de exercício","ID FUNÇÃO","ID SUBSTITUIÇÃO"]
["CONSULTORIA JURÍDICA","Consultor Jurídico","DAS 101.5","GER",{"$f":"INDEX([1]RELAÇÃO!$A$1:$AQ$576,MATCH($M169,[1]RELAÇÃO!$AP$1:$AP$576,0),1)","v":"THAIS MARCIA FERNANDES MATANO LACERDA"},{"$f":"IF(E169=0,\"-\",LEFT(INDEX([1]RELAÇÃO!$A$1:$AQ$576,MATCH($M169,[1]RELAÇÃO!$AP$1:$AP$576,0),32),1))","v":"F"},{"$f":"IF(E169=0,\"-\",INDEX([1]RELAÇÃO!$A$1:$AQ$576,MATCH($M169,[1]RELAÇÃO!$AP$1:$AP$576,0),5))","v":"Sem Vínculo"},{"$f":"IF(E169=0,\"-\",INDEX([1]RELAÇÃO!$A$1:$AQ$576,MATCH($M169,[1]RELAÇÃO!$AP$1:$AP$576,0),6))","v":"Sem Vínculo"},{"$f":"IF(E169=0,\"-\",INDEX([1]RELAÇÃO!$A$1:$AQ$576,MATCH($M169,[1]RELAÇÃO!$AP$1:$AP$576,0),12)&INDEX([1]RELAÇÃO!$A$1:$AQ$576,MATCH($M169,[1]RELAÇÃO!$AP$1:$AP$576,0),13)&\", de \"&INDEX([1]RELAÇÃO!$A$1:$AQ$576,MATCH($M169,[1]RELAÇÃO!$AP$1:$AP$576,0),14)&\" - \"&INDEX([1]RELAÇÃO!$A$1:$AQ$576,MATCH($M169,[1]RELAÇÃO!$AP$1:$AP$576,0),16)&\" de \"&INDEX([1]RELAÇÃO!$A$1:$AQ$576,MATCH($M169,[1]RELAÇÃO!$AP$1:$AP$576,0),15))","v":"Portaria nº 1352, de 28/02/2019 - DOU de 01/03/2019"},{"$f":"INDEX([1]RELAÇÃO!$A$1:$AQ$576,MATCH($N169,[1]RELAÇÃO!$AQ$1:$AQ$576,0),1)","v":"THIAGO DE FREITAS BENEVENUTO"},{"$f":"IF(J169=0,\"-\",INDEX([1]RELAÇÃO!$A$1:$AQ$576,MATCH($N169,[1]RELAÇÃO!$AQ$1:$AQ$576,0),27)&INDEX([1]RELAÇÃO!$A$1:$AQ$576,MATCH($N169,[1]RELAÇÃO!$AQ$1:$AQ$576,0),28)&\", de \"&INDEX([1]RELAÇÃO!$A$1:$AQ$576,MATCH($N169,[1]RELAÇÃO!$AQ$1:$AQ$576,0),29)&\" - \"&INDEX([1]RELAÇÃO!$A$1:$AQ$576,MATCH($N169,[1]RELAÇÃO!$AQ$1:$AQ$576,0),31)&\" de \"&INDEX([1]RELAÇÃO!$A$1:$AQ$576,MATCH($N169,[1]RELAÇÃO!$AQ$1:$AQ$576,0),30))","v":"Portaria nº 410, de 24/09/2018 - DOU de 26/09/2018"},{"$f":"IF($E169=0,\"-\",IF(INDEX([1]RELAÇÃO!$A$1:$AQ$576,MATCH($M169,[1]RELAÇÃO!$AP$1:$AP$576,0),8)=\"4.000.000\",\"-\",INDEX([1]RELAÇÃO!$A$1:$AQ$576,MATCH($M169,[1]RELAÇÃO!$AP$1:$AP$576,0),7)))","v":"CONSULTORIA JURÍDICA - CONJUR"},"CONJUR01","CONJUR01S"]
[null,"Assessor","DAS 102.4","ASS",{"$f":"INDEX([1]RELAÇÃO!$A$1:$AQ$576,MATCH($M170,[1]RELAÇÃO!$AP$1:$AP$576,0),1)","v":"MAURO HENRIQUE MOREIRA SOUSA"},{"$f":"IF(E170=0,\"-\",LEFT(INDEX([1]RELAÇÃO!$A$1:$AQ$576,MATCH($M170,[1]RELAÇÃO!$AP$1:$AP$576,0),32),1))","v":"M"},{"$f":"IF(E170=0,\"-\",INDEX([1]RELAÇÃO!$A$1:$AQ$576,MATCH($M170,[1]RELAÇÃO!$AP$1:$AP$576,0),5))","v":"Exercício Descentralizado"},{"$f":"IF(E170=0,\"-\",INDEX([1]RELAÇÃO!$A$1:$AQ$576,MATCH($M170,[1]RELAÇÃO!$AP$1:$AP$576,0),6))","v":"AGU - Advocacia Geral da União"},{"$f":"IF(E170=0,\"-\",INDEX([1]RELAÇÃO!$A$1:$AQ$576,MATCH($M170,[1]RELAÇÃO!$AP$1:$AP$576,0),12)&INDEX([1]RELAÇÃO!$A$1:$AQ$576,MATCH($M170,[1]RELAÇÃO!$AP$1:$AP$576,0),13)&\", de \"&INDEX([1]RELAÇÃO!$A$1:$AQ$576,MATCH($M170,[1]RELAÇÃO!$AP$1:$AP$576,0),14)&\" - \"&INDEX([1]RELAÇÃO!$A$1:$AQ$576,MATCH($M170,[1]RELAÇÃO!$AP$1:$AP$576,0),16)&\" de \"&INDEX([1]RELAÇÃO!$A$1:$AQ$576,MATCH($M170,[1]RELAÇÃO!$AP$1:$AP$576,0),15))","v":"Portaria nº 377, de 21/09/2017 - DOU de 22/09/2017"},null,null,"-","CONJUR02"]
[null,"Assessor Técnico","FCPE 102.3","ASS",{"$f":"INDEX([1]RELAÇÃO!$A$1:$AQ$576,MATCH($M171,[1]RELAÇÃO!$AP$1:$AP$576,0),1)","v":"DARIO SPEGIORIN SILVEIRA"},{"$f":"IF(E171=0,\"-\",LEFT(INDEX([1]RELAÇÃO!$A$1:$AQ$576,MATCH($M171,[1]RELAÇÃO!$AP$1:$AP$576,0),32),1))","v":"M"},{"$f":"IF(E171=0,\"-\",INDEX([1]RELAÇÃO!$A$1:$AQ$576,MATCH($M171,[1]RELAÇÃO!$AP$1:$AP$576,0),5))","v":"Exercício Descentralizado"},{"$f":"IF(E171=0,\"-\",INDEX([1]RELAÇÃO!$A$1:$AQ$576,MATCH($M171,[1]RELAÇÃO!$AP$1:$AP$576,0),6))","v":"AGU - Advocacia Geral da União"},{"$f":"IF(E171=0,\"-\",INDEX([1]RELAÇÃO!$A$1:$AQ$576,MATCH($M171,[1]RELAÇÃO!$AP$1:$AP$576,0),12)&INDEX([1]RELAÇÃO!$A$1:$AQ$576,MATCH($M171,[1]RELAÇÃO!$AP$1:$AP$576,0),13)&\", de \"&INDEX([1]RELAÇÃO!$A$1:$AQ$576,MATCH($M171,[1]RELAÇÃO!$AP$1:$AP$576,0),14)&\" - \"&INDEX([1]RELAÇÃO!$A$1:$AQ$576,MATCH($M171,[1]RELAÇÃO!$AP$1:$AP$576,0),16)&\" de \"&INDEX([1]RELAÇÃO!$A$1:$AQ$576,MATCH($M171,[1]RELAÇÃO!$AP$1:$AP$576,0),15))","v":"Portaria nº 537, de 03/11/2016 - DOU de 04/11/2016"},null,null,"-","CONJUR03"]
[null,"Assistente","FCPE 102.2","ASS",{"$f":"INDEX([1]RELAÇÃO!$A$1:$AQ$576,MATCH($M172,[1]RELAÇÃO!$AP$1:$AP$576,0),1)","v":"LÁZARA GOMES DOS SANTOS"},{"$f":"IF(E172=0,\"-\",LEFT(INDEX([1]RELAÇÃO!$A$1:$AQ$576,MATCH($M172,[1]RELAÇÃO!$AP$1:$AP$576,0),32),1))","v":"F"},{"$f":"IF(E172=0,\"-\",INDEX([1]RELAÇÃO!$A$1:$AQ$576,MATCH($M172,[1]RELAÇÃO!$AP$1:$AP$576,0),5))","v":"Exercício Descentralizado"},{"$f":"IF(E172=0,\"-\",INDEX([1]RELAÇÃO!$A$1:$AQ$576,MATCH($M172,[1]RELAÇÃO!$AP$1:$AP$576,0),6))","v":"AGU - Advocacia Geral da União"},{"$f":"IF(E172=0,\"-\",INDEX([1]RELAÇÃO!$A$1:$AQ$576,MATCH($M172,[1]RELAÇÃO!$AP$1:$AP$576,0),12)&INDEX([1]RELAÇÃO!$A$1:$AQ$576,MATCH($M172,[1]RELAÇÃO!$AP$1:$AP$576,0),13)&\", de \"&INDEX([1]RELAÇÃO!$A$1:$AQ$576,MATCH($M172,[1]RELAÇÃO!$AP$1:$AP$576,0),14)&\" - \"&INDEX([1]RELAÇÃO!$A$1:$AQ$576,MATCH($M172,[1]RELAÇÃO!$AP$1:$AP$576,0),16)&\" de \"&INDEX([1]RELAÇÃO!$A$1:$AQ$576,MATCH($M172,[1]RELAÇÃO!$AP$1:$AP$576,0),15))","v":"Portaria nº 538, de 03/11/2016 - DOU de 04/11/2016"},null,null,"-","CONJUR04"]
[null,"Assistente","DAS 102.2","ASS",{"$f":"INDEX([1]RELAÇÃO!$A$1:$AQ$576,MATCH($M173,[1]RELAÇÃO!$AP$1:$AP$576,0),1)","v":"ELIZABETH TAYLOR SOUSA MENESES DE AGUIAR"},{"$f":"IF(E173=0,\"-\",LEFT(INDEX([1]RELAÇÃO!$A$1:$AQ$576,MATCH($M173,[1]RELAÇÃO!$AP$1:$AP$576,0),32),1))","v":"F"},{"$f":"IF(E173=0,\"-\",INDEX([1]RELAÇÃO!$A$1:$AQ$576,MATCH($M173,[1]RELAÇÃO!$AP$1:$AP$576,0),5))","v":"Sem Vínculo"},{"$f":"IF(E173=0,\"-\",INDEX([1]RELAÇÃO!$A$1:$AQ$576,MATCH($M173,[1]RELAÇÃO!$AP$1:$AP$576,0),6))","v":"Sem Vínculo"},{"$f":"IF(E173=0,\"-\",INDEX([1]RELAÇÃO!$A$1:$AQ$576,MATCH($M173,[1]RELAÇÃO!$AP$1:$AP$576,0),12)&INDEX([1]RELAÇÃO!$A$1:$AQ$576,MATCH($M173,[1]RELAÇÃO!$AP$1:$AP$576,0),13)&\", de \"&INDEX([1]RELAÇÃO!$A$1:$AQ$576,MATCH($M173,[1]RELAÇÃO!$AP$1:$AP$576,0),14)&\" - \"&INDEX([1]RELAÇÃO!$A$1:$AQ$576,MATCH($M173,[1]RELAÇÃO!$AP$1:$AP$576,0),16)&\" de \"&INDEX([1]RELAÇÃO!$A$1:$AQ$576,MATCH($M173,[1]RELAÇÃO!$AP$1:$AP$576,0),15))","v":"Portaria nº 524, de 03/11/2016 - BPE de 04/11/2016"},null,null,"-","CONJUR05"]
[null,"Assistente","DAS 102.2","ASS",{"$f":"INDEX([1]RELAÇÃO!$A$1:$AQ$576,MATCH($M174,[1]RELAÇÃO!$AP$1:$AP$576,0),1)","v":"ALEXANDRE BRAZ DA SILVA"},{"$f":"IF(E174=0,\"-\",LEFT(INDEX([1]RELAÇÃO!$A$1:$AQ$576,MATCH($M174,[1]RELAÇÃO!$AP$1:$AP$576,0),32),1))","v":"M"},{"$f":"IF(E174=0,\"-\",INDEX([1]RELAÇÃO!$A$1:$AQ$576,MATCH($M174,[1]RELAÇÃO!$AP$1:$AP$576,0),5))","v":"Sem Vínculo"},{"$f":"IF(E174=0,\"-\",INDEX([1]RELAÇÃO!$A$1:$AQ$576,MATCH($M174,[1]RELAÇÃO!$AP$1:$AP$576,0),6))","v":"Sem Vínculo"},{"$f":"IF(E174=0,\"-\",INDEX([1]RELAÇÃO!$A$1:$AQ$576,MATCH($M174,[1]RELAÇÃO!$AP$1:$AP$576,0),12)&INDEX([1]RELAÇÃO!$A$1:$AQ$576,MATCH($M174,[1]RELAÇÃO!$AP$1:$AP$576,0),13)&\", de \"&INDEX([1]RELAÇÃO!$A$1:$AQ$576,MATCH($M174,[1]RELAÇÃO!$AP$1:$AP$576,0),14)&\" - \"&INDEX([1]RELAÇÃO!$A$1:$AQ$576,MATCH($M174,[1]RELAÇÃO!$AP$1:$AP$576,0),16)&\" de \"&INDEX([1]RELAÇÃO!$A$1:$AQ$576,MATCH($M174,[1]RELAÇÃO!$AP$1:$AP$576,0),15))","v":"Portaria nº 524, de 03/11/2016 - BPE de 04/11/2016"},null,null,"-","CONJUR06"]
[null,"Assistente","DAS 102.2","ASS",{"$f":"INDEX([1]RELAÇÃO!$A$1:$AQ$576,MATCH($M175,[1]RELAÇÃO!$AP$1:$AP$576,0),1)","v":"BIANCA MAGALHAES"},{"$f":"IF(E175=0,\"-\",LEFT(INDEX([1]RELAÇÃO!$A$1:$AQ$576,MATCH($M175,[1]RELAÇÃO!$AP$1:$AP$576,0),32),1))","v":"F"},{"$f":"IF(E175=0,\"-\",INDEX([1]RELAÇÃO!$A$1:$AQ$576,MATCH($M175,[1]RELAÇÃO!$AP$1:$AP$576,0),5))","v":"Sem Vínculo"},{"$f":"IF(E175=0,\"-\",INDEX([1]RELAÇÃO!$A$1:$AQ$576,MATCH($M175,[1]RELAÇÃO!$AP$1:$AP$576,0),6))","v":"Sem Vínculo"},{"$f":"IF(E175=0,\"-\",INDEX([1]RELAÇÃO!$A$1:$AQ$576,MATCH($M175,[1]RELAÇÃO!$AP$1:$AP$576,0),12)&INDEX([1]RELAÇÃO!$A$1:$AQ$576,MATCH($M175,[1]RELAÇÃO!$AP$1:$AP$576,0),13)&\", de \"&INDEX([1]RELAÇÃO!$A$1:$AQ$576,MATCH($M175,[1]RELAÇÃO!$AP$1:$AP$576,0),14)&\" - \"&INDEX([1]RELAÇÃO!$A$1:$AQ$576,MATCH($M175,[1]RELAÇÃO!$AP$1:$AP$576,0),16)&\" de \"&INDEX([1]RELAÇÃO!$A$1:$AQ$576,MATCH($M175,[1]RELAÇÃO!$AP$1:$AP$576,0),15))","v":"Portaria nº 524, de 03/11/2016 - BPE de 04/11/2016"},null,null,"-","CONJUR07"]
[null,"Assistente","DAS 102.2","ASS",{"$f":"INDEX([1]RELAÇÃO!$A$1:$AQ$576,MATCH($M176,[1]RELAÇÃO!$AP$1:$AP$576,0),1)","v":"SILVANA ALBUQUERQUE PEIXOTO"},{"$f":"IF(E176=0,\"-\",LEFT(INDEX([1]RELAÇÃO!$A$1:$AQ$576,MATCH($M176,[1]RELAÇÃO!$AP$1:$AP$576,0),32),1))","v":"F"},{"$f":"IF(E176=0,\"-\",INDEX([1]RELAÇÃO!$A$1:$AQ$576,MATCH($M176,[1]RELAÇÃO!$AP$1:$AP$576,0),5))","v":"Sem Vínculo"},{"$f":"IF(E176=0,\"-\",INDEX([1]RELAÇÃO!$A$1:$AQ$576,MATCH($M176,[1]RELAÇÃO!$AP$1:$AP$576,0),6))","v":"Sem Vínculo"},{"$f":"IF(E176=0,\"-\",INDEX([1]RELAÇÃO!$A$1:$AQ$576,MATCH($M176,[1]RELAÇÃO!$AP$1:$AP$576,0),12)&INDEX([1]RELAÇÃO!$A$1:$AQ$576,MATCH($M176,[1]RELAÇÃO!$AP$1:$AP$576,0),13)&\", de \"&INDEX([1]RELAÇÃO!$A$1:$AQ$576,MATCH($M176,[1]RELAÇÃO!$AP$1:$AP$576,0),14)&\" - \"&INDEX([1]RELAÇÃO!$A$1:$AQ$576,MATCH($M176,[1]RELAÇÃO!$AP$1:$AP$576,0),16)&\" de \"&INDEX([1]RELAÇÃO!$A$1:$AQ$576,MATCH($M176,[1]RELAÇÃO!$AP$1:$AP$576,0),15))","v":"Boletim de Pessoal - BP nº 524, de 03/11/2016 - BPE de 04/11/2016"},null,null,"-","CONJUR08"]
[null,"Assistente","DAS 102.2","ASS",{"$f":"INDEX([1]RELAÇÃO!$A$1:$AQ$576,MATCH($M177,[1]RELAÇÃO!$AP$1:$AP$576,0),1)","v":"ROSANGELA DE FREITAS BARBOSA CESAR"},{"$f":"IF(E177=0,\"-\",LEFT(INDEX([1]RELAÇÃO!$A$1:$AQ$576,MATCH($M177,[1]RELAÇÃO!$AP$1:$AP$576,0),32),1))","v":"F"},{"$f":"IF(E177=0,\"-\",INDEX([1]RELAÇÃO!$A$1:$AQ$576,MATCH($M177,[1]RELAÇÃO!$AP$1:$AP$576,0),5))","v":"Sem Vínculo"},{"$f":"IF(E177=0,\"-\",INDEX([1]RELAÇÃO!$A$1:$AQ$576,MATCH($M177,[1]RELAÇÃO!$AP$1:$AP$576,0),6))","v":"Sem Vínculo"},{"$f":"IF(E177=0,\"-\",INDEX([1]RELAÇÃO!$A$1:$AQ$576,MATCH($M177,[1]RELAÇÃO!$AP$1:$AP$576,0),12)&INDEX([1]RELAÇÃO!$A$1:$AQ$576,MATCH($M177,[1]RELAÇÃO!$AP$1:$AP$576,0),13)&\", de \"&INDEX([1]RELAÇÃO!$A$1:$AQ$576,MATCH($M177,[1]RELAÇÃO!$AP$1:$AP$576,0),14)&\" - \"&INDEX([1]RELAÇÃO!$A$1:$AQ$576,MATCH($M177,[1]RELAÇÃO!$AP$1:$AP$576,0),16)&\" de \"&INDEX([1]RELAÇÃO!$A$1:$AQ$576,MATCH($M177,[1]RELAÇÃO!$AP$1:$AP$576,0),15))","v":"Portaria nº 524, de 03/11/2016 - BPE de 04/11/2016"},null,null,"-","CONJUR09"]
["Coordenação-Geral de Assuntos de Petróleo e Mineração","Coordenador-Geral","FCPE 101.4","GER",{"$f":"INDEX([1]RELAÇÃO!$A$1:$AQ$576,MATCH($M178,[1]RELAÇÃO!$AP$1:$AP$576,0),1)","v":"THIAGO DE FREITAS BENEVENUTO"},{"$f":"IF(E178=0,\"-\",LEFT(INDEX([1]RELAÇÃO!$A$1:$AQ$576,MATCH($M178,[1]RELAÇÃO!$AP$1:$AP$576,0),32),1))","v":"M"},{"$f":"IF(E178=0,\"-\",INDEX([1]RELAÇÃO!$A$1:$AQ$576,MATCH($M178,[1]RELAÇÃO!$AP$1:$AP$576,0),5))","v":"Exercício Descentralizado"},{"$f":"IF(E178=0,\"-\",INDEX([1]RELAÇÃO!$A$1:$AQ$576,MATCH($M178,[1]RELAÇÃO!$AP$1:$AP$576,0),6))","v":"AGU - Advocacia Geral da União"},{"$f":"IF(E178=0,\"-\",INDEX([1]RELAÇÃO!$A$1:$AQ$576,MATCH($M178,[1]RELAÇÃO!$AP$1:$AP$576,0),12)&INDEX([1]RELAÇÃO!$A$1:$AQ$576,MATCH($M178,[1]RELAÇÃO!$AP$1:$AP$576,0),13)&\", de \"&INDEX([1]RELAÇÃO!$A$1:$AQ$576,MATCH($M178,[1]RELAÇÃO!$AP$1:$AP$576,0),14)&\" - \"&INDEX([1]RELAÇÃO!$A$1:$AQ$576,MATCH($M178,[1]RELAÇÃO!$AP$1:$AP$576,0),16)&\" de \"&INDEX([1]RELAÇÃO!$A$1:$AQ$576,MATCH($M178,[1]RELAÇÃO!$AP$1:$AP$576,0),15))","v":"Portaria nº 140, de 10/04/2017 - DOU de 13/04/2017"},{"$f":"INDEX([1]RELAÇÃO!$A$1:$AQ$576,MATCH($N178,[1]RELAÇÃO!$AQ$1:$AQ$576,0),1)","v":"ALEXANDRE LEME FRANCO"},{"$f":"IF(J178=0,\"-\",INDEX([1]RELAÇÃO!$A$1:$AQ$576,MATCH($N178,[1]RELAÇÃO!$AQ$1:$AQ$576,0),27)&INDEX([1]RELAÇÃO!$A$1:$AQ$576,MATCH($N178,[1]RELAÇÃO!$AQ$1:$AQ$576,0),28)&\", de \"&INDEX([1]RELAÇÃO!$A$1:$AQ$576,MATCH($N178,[1]RELAÇÃO!$AQ$1:$AQ$576,0),29)&\" - \"&INDEX([1]RELAÇÃO!$A$1:$AQ$576,MATCH($N178,[1]RELAÇÃO!$AQ$1:$AQ$576,0),31)&\" de \"&INDEX([1]RELAÇÃO!$A$1:$AQ$576,MATCH($N178,[1]RELAÇÃO!$AQ$1:$AQ$576,0),30))","v":"Portaria nº 208, de 30/05/2018 - DOU de 04/06/2018"},"-","CONJUR10","CONJUR02S"]
["Coordenação-Geral de Assuntos de Energia","Coordenador-Geral","FCPE 101.4","GER",{"$f":"INDEX([1]RELAÇÃO!$A$1:$AQ$576,MATCH($M179,[1]RELAÇÃO!$AP$1:$AP$576,0),1)","v":"CANDICE SOUSA COSTA"},{"$f":"IF(E179=0,\"-\",LEFT(INDEX([1]RELAÇÃO!$A$1:$AQ$576,MATCH($M179,[1]RELAÇÃO!$AP$1:$AP$576,0),32),1))","v":"F"},{"$f":"IF(E179=0,\"-\",INDEX([1]RELAÇÃO!$A$1:$AQ$576,MATCH($M179,[1]RELAÇÃO!$AP$1:$AP$576,0),5))","v":"Exercício Descentralizado"},{"$f":"IF(E179=0,\"-\",INDEX([1]RELAÇÃO!$A$1:$AQ$576,MATCH($M179,[1]RELAÇÃO!$AP$1:$AP$576,0),6))","v":"AGU - Advocacia Geral da União"},{"$f":"IF(E179=0,\"-\",INDEX([1]RELAÇÃO!$A$1:$AQ$576,MATCH($M179,[1]RELAÇÃO!$AP$1:$AP$576,0),12)&INDEX([1]RELAÇÃO!$A$1:$AQ$576,MATCH($M179,[1]RELAÇÃO!$AP$1:$AP$576,0),13)&\", de \"&INDEX([1]RELAÇÃO!$A$1:$AQ$576,MATCH($M179,[1]RELAÇÃO!$AP$1:$AP$576,0),14)&\" - \"&INDEX([1]RELAÇÃO!$A$1:$AQ$576,MATCH($M179,[1]RELAÇÃO!$AP$1:$AP$576,0),16)&\" de \"&INDEX([1]RELAÇÃO!$A$1:$AQ$576,MATCH($M179,[1]RELAÇÃO!$AP$1:$AP$576,0),15))","v":"Portaria nº 19, de 09/01/2019 - DOU de 14/01/2019"},{"$f":"INDEX([1]RELAÇÃO!$A$1:$AQ$576,MATCH($N179,[1]RELAÇÃO!$AQ$1:$AQ$576,0),1)","v":"RAFAEL ESPERIDIAO DE MELO"},{"$f":"IF(J179=0,\"-\",INDEX([1]RELAÇÃO!$A$1:$AQ$576,MATCH($N179,[1]RELAÇÃO!$AQ$1:$AQ$576,0),27)&INDEX([1]RELAÇÃO!$A$1:$AQ$576,MATCH($N179,[1]RELAÇÃO!$AQ$1:$AQ$576,0),28)&\", de \"&INDEX([1]RELAÇÃO!$A$1:$AQ$576,MATCH($N179,[1]RELAÇÃO!$AQ$1:$AQ$576,0),29)&\" - \"&INDEX([1]RELAÇÃO!$A$1:$AQ$576,MATCH($N179,[1]RELAÇÃO!$AQ$1:$AQ$576,0),31)&\" de \"&INDEX([1]RELAÇÃO!$A$1:$AQ$576,MATCH($N179,[1]RELAÇÃO!$AQ$1:$AQ$576,0),30))","v":"Portaria nº 394, de 29/10/2020 - DOU de 03/11/2020"},"-","CONJUR11","CONJUR03S"]
["Coordenação-Geral de Assuntos Administrativos","Coordenador-Geral","FCPE 101.4","GER",{"$f":"INDEX([1]RELAÇÃO!$A$1:$AQ$576,MATCH($M180,[1]RELAÇÃO!$AP$1:$AP$576,0),1)","v":"GUILHERME BRUM DE ALMEIDA"},{"$f":"IF(E180=0,\"-\",LEFT(INDEX([1]RELAÇÃO!$A$1:$AQ$576,MATCH($M180,[1]RELAÇÃO!$AP$1:$AP$576,0),32),1))","v":"M"},{"$f":"IF(E180=0,\"-\",INDEX([1]RELAÇÃO!$A$1:$AQ$576,MATCH($M180,[1]RELAÇÃO!$AP$1:$AP$576,0),5))","v":"Exercício Descentralizado"},{"$f":"IF(E180=0,\"-\",INDEX([1]RELAÇÃO!$A$1:$AQ$576,MATCH($M180,[1]RELAÇÃO!$AP$1:$AP$576,0),6))","v":"AGU - Advocacia Geral da União"},{"$f":"IF(E180=0,\"-\",INDEX([1]RELAÇÃO!$A$1:$AQ$576,MATCH($M180,[1]RELAÇÃO!$AP$1:$AP$576,0),12)&INDEX([1]RELAÇÃO!$A$1:$AQ$576,MATCH($M180,[1]RELAÇÃO!$AP$1:$AP$576,0),13)&\", de \"&INDEX([1]RELAÇÃO!$A$1:$AQ$576,MATCH($M180,[1]RELAÇÃO!$AP$1:$AP$576,0),14)&\" - \"&INDEX([1]RELAÇÃO!$A$1:$AQ$576,MATCH($M180,[1]RELAÇÃO!$AP$1:$AP$576,0),16)&\" de \"&INDEX([1]RELAÇÃO!$A$1:$AQ$576,MATCH($M180,[1]RELAÇÃO!$AP$1:$AP$576,0),15))","v":"Portaria nº 192, de 10/04/2019 - DOU de 12/04/2019"},{"$f":"INDEX([1]RELAÇÃO!$A$1:$AQ$576,MATCH($N180,[1]RELAÇÃO!$AQ$1:$AQ$576,0),1)","v":0},{"$f":"IF(J180=0,\"-\",INDEX([1]RELAÇÃO!$A$1:$AQ$576,MATCH($N180,[1]RELAÇÃO!$AQ$1:$AQ$576,0),27)&INDEX([1]RELAÇÃO!$A$1:$AQ$576,MATCH($N180,[1]RELAÇÃO!$AQ$1:$AQ$576,0),28)&\", de \"&INDEX([1]RELAÇÃO!$A$1:$AQ$576,MATCH($N180,[1]RELAÇÃO!$AQ$1:$AQ$576,0),29)&\" - \"&INDEX([1]RELAÇÃO!$A$1:$AQ$576,MATCH($N180,[1]RELAÇÃO!$AQ$1:$AQ$576,0),31)&\" de \"&INDEX([1]RELAÇÃO!$A$1:$AQ$576,MATCH($N180,[1]RELAÇÃO!$AQ$1:$AQ$576,0),30))","v":"-"},"-","CONJUR12","CONJUR04S"]
["Coordenação de Apoio Administrativo","Coordenador","FCPE 101.3","GER",{"$f":"INDEX([1]RELAÇÃO!$A$1:$AQ$576,MATCH($M181,[1]RELAÇÃO!$AP$1:$AP$576,0),1)","v":"JUAREZ DUARTE FRANCO"},{"$f":"IF(E181=0,\"-\",LEFT(INDEX([1]RELAÇÃO!$A$1:$AQ$576,MATCH($M181,[1]RELAÇÃO!$AP$1:$AP$576,0),32),1))","v":"M"},{"$f":"IF(E181=0,\"-\",INDEX([1]RELAÇÃO!$A$1:$AQ$576,MATCH($M181,[1]RELAÇÃO!$AP$1:$AP$576,0),5))","v":"Ativo Permanente"},{"$f":"IF(E181=0,\"-\",INDEX([1]RELAÇÃO!$A$1:$AQ$576,MATCH($M181,[1]RELAÇÃO!$AP$1:$AP$576,0),6))","v":"MME - Ministério de Minas e Energia"},{"$f":"IF(E181=0,\"-\",INDEX([1]RELAÇÃO!$A$1:$AQ$576,MATCH($M181,[1]RELAÇÃO!$AP$1:$AP$576,0),12)&INDEX([1]RELAÇÃO!$A$1:$AQ$576,MATCH($M181,[1]RELAÇÃO!$AP$1:$AP$576,0),13)&\", de \"&INDEX([1]RELAÇÃO!$A$1:$AQ$576,MATCH($M181,[1]RELAÇÃO!$AP$1:$AP$576,0),14)&\" - \"&INDEX([1]RELAÇÃO!$A$1:$AQ$576,MATCH($M181,[1]RELAÇÃO!$AP$1:$AP$576,0),16)&\" de \"&INDEX([1]RELAÇÃO!$A$1:$AQ$576,MATCH($M181,[1]RELAÇÃO!$AP$1:$AP$576,0),15))","v":"Portaria nº 536, de 03/11/2016 - DOU de 04/11/2016"},{"$f":"INDEX([1]RELAÇÃO!$A$1:$AQ$576,MATCH($N181,[1]RELAÇÃO!$AQ$1:$AQ$576,0),1)","v":"LÁZARA GOMES DOS SANTOS"},{"$f":"IF(J181=0,\"-\",INDEX([1]RELAÇÃO!$A$1:$AQ$576,MATCH($N181,[1]RELAÇÃO!$AQ$1:$AQ$576,0),27)&INDEX([1]RELAÇÃO!$A$1:$AQ$576,MATCH($N181,[1]RELAÇÃO!$AQ$1:$AQ$576,0),28)&\", de \"&INDEX([1]RELAÇÃO!$A$1:$AQ$576,MATCH($N181,[1]RELAÇÃO!$AQ$1:$AQ$576,0),29)&\" - \"&INDEX([1]RELAÇÃO!$A$1:$AQ$576,MATCH($N181,[1]RELAÇÃO!$AQ$1:$AQ$576,0),31)&\" de \"&INDEX([1]RELAÇÃO!$A$1:$AQ$576,MATCH($N181,[1]RELAÇÃO!$AQ$1:$AQ$576,0),30))","v":"Portaria nº 656, de 30/11/2016 - DOU de 02/12/2016"},"-","CONJUR13","CONJUR05S"]
[null,"Assistente Técnico","DAS 102.1","ASS",{"$f":"INDEX([1]RELAÇÃO!$A$1:$AQ$576,MATCH($M182,[1]RELAÇÃO!$AP$1:$AP$576,0),1)","v":"ANA CAROLINA CARVALHO RODRIGUES"},{"$f":"IF(E182=0,\"-\",LEFT(INDEX([1]RELAÇÃO!$A$1:$AQ$576,MATCH($M182,[1]RELAÇÃO!$AP$1:$AP$576,0),32),1))","v":"F"},{"$f":"IF(E182=0,\"-\",INDEX([1]RELAÇÃO!$A$1:$AQ$576,MATCH($M182,[1]RELAÇÃO!$AP$1:$AP$576,0),5))","v":"Sem Vínculo"},{"$f":"IF(E182=0,\"-\",INDEX([1]RELAÇÃO!$A$1:$AQ$576,MATCH($M182,[1]RELAÇÃO!$AP$1:$AP$576,0),6))","v":"Sem Vínculo"},{"$f":"IF(E182=0,\"-\",INDEX([1]RELAÇÃO!$A$1:$AQ$576,MATCH($M182,[1]RELAÇÃO!$AP$1:$AP$576,0),12)&INDEX([1]RELAÇÃO!$A$1:$AQ$576,MATCH($M182,[1]RELAÇÃO!$AP$1:$AP$576,0),13)&\", de \"&INDEX([1]RELAÇÃO!$A$1:$AQ$576,MATCH($M182,[1]RELAÇÃO!$AP$1:$AP$576,0),14)&\" - \"&INDEX([1]RELAÇÃO!$A$1:$AQ$576,MATCH($M182,[1]RELAÇÃO!$AP$1:$AP$576,0),16)&\" de \"&INDEX([1]RELAÇÃO!$A$1:$AQ$576,MATCH($M182,[1]RELAÇÃO!$AP$1:$AP$576,0),15))","v":"Portaria nº 524, de 03/11/2016 - BPE de 04/11/2016"},null,null,"-","CONJUR14"]
[]
["ASSESSORIA ECONÔMICA - ASSEC"]
["UNIDADE","DENOMINAÇÃO CARGO/FUNÇÃO","NE/DAS/FCPE","NÍVEL DA FUNÇÃO","SERVIDOR","SEXO","SITUAÇÃO","ORIGEM","ATO DE NOMEAÇÃO","SUBSTITUTO EVENTUAL","DESIGNAÇÃO","Alteração de local de exercício","ID FUNÇÃO","ID SUBSTITUIÇÃO"]
["ASSESSORIA ECONÔMICA","Chefe de Assessoria Econômica","DAS 101.5","GER",{"$f":"INDEX([1]RELAÇÃO!$A$1:$AQ$576,MATCH($M186,[1]RELAÇÃO!$AP$1:$AP$576,0),1)","v":"HAILTON MADUREIRA DE ALMEIDA"},{"$f":"IF(E186=0,\"-\",LEFT(INDEX([1]RELAÇÃO!$A$1:$AQ$576,MATCH($M186,[1]RELAÇÃO!$AP$1:$AP$576,0),32),1))","v":"M"},{"$f":"IF(E186=0,\"-\",INDEX([1]RELAÇÃO!$A$1:$AQ$576,MATCH($M186,[1]RELAÇÃO!$AP$1:$AP$576,0),5))","v":"Requisitado de Órgãos"},{"$f":"IF(E186=0,\"-\",INDEX([1]RELAÇÃO!$A$1:$AQ$576,MATCH($M186,[1]RELAÇÃO!$AP$1:$AP$576,0),6))","v":"ME - Ministério da Economia"},{"$f":"IF(E186=0,\"-\",INDEX([1]RELAÇÃO!$A$1:$AQ$576,MATCH($M186,[1]RELAÇÃO!$AP$1:$AP$576,0),12)&INDEX([1]RELAÇÃO!$A$1:$AQ$576,MATCH($M186,[1]RELAÇÃO!$AP$1:$AP$576,0),13)&\", de \"&INDEX([1]RELAÇÃO!$A$1:$AQ$576,MATCH($M186,[1]RELAÇÃO!$AP$1:$AP$576,0),14)&\" - \"&INDEX([1]RELAÇÃO!$A$1:$AQ$576,MATCH($M186,[1]RELAÇÃO!$AP$1:$AP$576,0),16)&\" de \"&INDEX([1]RELAÇÃO!$A$1:$AQ$576,MATCH($M186,[1]RELAÇÃO!$AP$1:$AP$576,0),15))","v":"Portaria nº 322, de 26/08/2020 - DOU de 28/08/2020"},{"$f":"INDEX([1]RELAÇÃO!$A$1:$AQ$576,MATCH($N186,[1]RELAÇÃO!$AQ$1:$AQ$576,0),1)","v":"RENATA ROSADA DA SILVA"},{"$f":"IF(J186=0,\"-\",INDEX([1]RELAÇÃO!$A$1:$AQ$576,MATCH($N186,[1]RELAÇÃO!$AQ$1:$AQ$576,0),27)&INDEX([1]RELAÇÃO!$A$1:$AQ$576,MATCH($N186,[1]RELAÇÃO!$AQ$1:$AQ$576,0),28)&\", de \"&INDEX([1]RELAÇÃO!$A$1:$AQ$576,MATCH($N186,[1]RELAÇÃO!$AQ$1:$AQ$576,0),29)&\" - \"&INDEX([1]RELAÇÃO!$A$1:$AQ$576,MATCH($N186,[1]RELAÇÃO!$AQ$1:$AQ$576,0),31)&\" de \"&INDEX([1]RELAÇÃO!$A$1:$AQ$576,MATCH($N186,[1]RELAÇÃO!$AQ$1:$AQ$576,0),30))","v":"Portaria nº 200, de 15/04/2019 - DOU de 17/04/2019"},{"$f":"IF($E186=0,\"-\",IF(INDEX([1]RELAÇÃO!$A$1:$AQ$576,MATCH($M186,[1]RELAÇÃO!$AP$1:$AP$576,0),8)=\"6.000.000\",\"-\",INDEX([1]RELAÇÃO!$A$1:$AQ$576,MATCH($M186,[1]RELAÇÃO!$AP$1:$AP$576,0),7)))","v":"-"},"ASSEC01","ASSEC01S"]
[null,"Assessor","DAS 102.4","ASS",{"$f":"INDEX([1]RELAÇÃO!$A$1:$AQ$576,MATCH($M187,[1]RELAÇÃO!$AP$1:$AP$576,0),1)","v":"LEILA PRZYTYK"},{"$f":"IF(E187=0,\"-\",LEFT(INDEX([1]RELAÇÃO!$A$1:$AQ$576,MATCH($M187,[1]RELAÇÃO!$AP$1:$AP$576,0),32),1))","v":"F"},{"$f":"IF(E187=0,\"-\",INDEX([1]RELAÇÃO!$A$1:$AQ$576,MATCH($M187,[1]RELAÇÃO!$AP$1:$AP$576,0),5))","v":"Requisitado de Órgãos"},{"$f":"IF(E187=0,\"-\",INDEX([1]RELAÇÃO!$A$1:$AQ$576,MATCH($M187,[1]RELAÇÃO!$AP$1:$AP$576,0),6))","v":"ME - Ministério da Economia"},{"$f":"IF(E187=0,\"-\",INDEX([1]RELAÇÃO!$A$1:$AQ$576,MATCH($M187,[1]RELAÇÃO!$AP$1:$AP$576,0),12)&INDEX([1]RELAÇÃO!$A$1:$AQ$576,MATCH($M187,[1]RELAÇÃO!$AP$1:$AP$576,0),13)&\", de \"&INDEX([1]RELAÇÃO!$A$1:$AQ$576,MATCH($M187,[1]RELAÇÃO!$AP$1:$AP$576,0),14)&\" - \"&INDEX([1]RELAÇÃO!$A$1:$AQ$576,MATCH($M187,[1]RELAÇÃO!$AP$1:$AP$576,0),16)&\" de \"&INDEX([1]RELAÇÃO!$A$1:$AQ$576,MATCH($M187,[1]RELAÇÃO!$AP$1:$AP$576,0),15))","v":"Portaria nº 169, de 19/03/2019 - DOU de 20/03/2019"},null,null,{"$f":"IF($E187=0,\"-\",IF(INDEX([1]RELAÇÃO!$A$1:$AQ$576,MATCH($M187,[1]RELAÇÃO!$AP$1:$AP$576,0),8)=\"6.000.000\",\"-\",INDEX([1]RELAÇÃO!$A$1:$AQ$576,MATCH($M187,[1]RELAÇÃO!$AP$1:$AP$576,0),7)))","v":"-"},"ASSEC02"]
[null,"Assessor","DAS 102.4","ASS",{"$f":"INDEX([1]RELAÇÃO!$A$1:$AQ$576,MATCH($M188,[1]RELAÇÃO!$AP$1:$AP$576,0),1)","v":"CHRISTIANY SALGADO FARIA"},{"$f":"IF(E188=0,\"-\",LEFT(INDEX([1]RELAÇÃO!$A$1:$AQ$576,MATCH($M188,[1]RELAÇÃO!$AP$1:$AP$576,0),32),1))","v":"F"},{"$f":"IF(E188=0,\"-\",INDEX([1]RELAÇÃO!$A$1:$AQ$576,MATCH($M188,[1]RELAÇÃO!$AP$1:$AP$576,0),5))","v":"Requisitado de Órgãos"},{"$f":"IF(E188=0,\"-\",INDEX([1]RELAÇÃO!$A$1:$AQ$576,MATCH($M188,[1]RELAÇÃO!$AP$1:$AP$576,0),6))","v":"ME - Ministério da Economia"},{"$f":"IF(E188=0,\"-\",INDEX([1]RELAÇÃO!$A$1:$AQ$576,MATCH($M188,[1]RELAÇÃO!$AP$1:$AP$576,0),12)&INDEX([1]RELAÇÃO!$A$1:$AQ$576,MATCH($M188,[1]RELAÇÃO!$AP$1:$AP$576,0),13)&\", de \"&INDEX([1]RELAÇÃO!$A$1:$AQ$576,MATCH($M188,[1]RELAÇÃO!$AP$1:$AP$576,0),14)&\" - \"&INDEX([1]RELAÇÃO!$A$1:$AQ$576,MATCH($M188,[1]RELAÇÃO!$AP$1:$AP$576,0),16)&\" de \"&INDEX([1]RELAÇÃO!$A$1:$AQ$576,MATCH($M188,[1]RELAÇÃO!$AP$1:$AP$576,0),15))","v":"Portaria nº 323, de 26/08/2020 - DOU de 28/08/2020"},null,null,{"$f":"IF($E188=0,\"-\",IF(INDEX([1]RELAÇÃO!$A$1:$AQ$576,MATCH($M188,[1]RELAÇÃO!$AP$1:$AP$576,0),8)=\"6.000.000\",\"-\",INDEX([1]RELAÇÃO!$A$1:$AQ$576,MATCH($M188,[1]RELAÇÃO!$AP$1:$AP$576,0),7)))","v":"-"},"ASSEC03"]
[null,"Assessor","DAS 102.4","ASS",{"$f":"INDEX([1]RELAÇÃO!$A$1:$AQ$576,MATCH($M189,[1]RELAÇÃO!$AP$1:$AP$576,0),1)","v":"JORGE LUIZ BARBOSA DOS SANTOS"},{"$f":"IF(E189=0,\"-\",LEFT(INDEX([1]RELAÇÃO!$A$1:$AQ$576,MATCH($M189,[1]RELAÇÃO!$AP$1:$AP$576,0),32),1))","v":"M"},{"$f":"IF(E189=0,\"-\",INDEX([1]RELAÇÃO!$A$1:$AQ$576,MATCH($M189,[1]RELAÇÃO!$AP$1:$AP$576,0),5))","v":"Requisitado Militar"},{"$f":"IF(E189=0,\"-\",INDEX([1]RELAÇÃO!$A$1:$AQ$576,MATCH($M189,[1]RELAÇÃO!$AP$1:$AP$576,0),6))","v":"Marinha"},{"$f":"IF(E189=0,\"-\",INDEX([1]RELAÇÃO!$A$1:$AQ$576,MATCH($M189,[1]RELAÇÃO!$AP$1:$AP$576,0),12)&INDEX([1]RELAÇÃO!$A$1:$AQ$576,MATCH($M189,[1]RELAÇÃO!$AP$1:$AP$576,0),13)&\", de \"&INDEX([1]RELAÇÃO!$A$1:$AQ$576,MATCH($M189,[1]RELAÇÃO!$AP$1:$AP$576,0),14)&\" - \"&INDEX([1]RELAÇÃO!$A$1:$AQ$576,MATCH($M189,[1]RELAÇÃO!$AP$1:$AP$576,0),16)&\" de \"&INDEX([1]RELAÇÃO!$A$1:$AQ$576,MATCH($M189,[1]RELAÇÃO!$AP$1:$AP$576,0),15))","v":"Portaria nº 355, de 28/09/2020 - DOU de 30/09/2020"},null,null,{"$f":"IF($E189=0,\"-\",IF(INDEX([1]RELAÇÃO!$A$1:$AQ$576,MATCH($M189,[1]RELAÇÃO!$AP$1:$AP$576,0),8)=\"6.000.000\",\"-\",INDEX([1]RELAÇÃO!$A$1:$AQ$576,MATCH($M189,[1]RELAÇÃO!$AP$1:$AP$576,0),7)))","v":"GM / ASSESSORIA DE COMUNICAÇÃO SOCIAL - ASCOM"},"ASSEC04"]
[null,"Assessor","DAS 102.4","ASS",{"$f":"INDEX([1]RELAÇÃO!$A$1:$AQ$576,MATCH($M190,[1]RELAÇÃO!$AP$1:$AP$576,0),1)","v":"GUALTER DE CARVALHO MENDES"},{"$f":"IF(E190=0,\"-\",LEFT(INDEX([1]RELAÇÃO!$A$1:$AQ$576,MATCH($M190,[1]RELAÇÃO!$AP$1:$AP$576,0),32),1))","v":"M"},{"$f":"IF(E190=0,\"-\",INDEX([1]RELAÇÃO!$A$1:$AQ$576,MATCH($M190,[1]RELAÇÃO!$AP$1:$AP$576,0),5))","v":"Sem Vínculo"},{"$f":"IF(E190=0,\"-\",INDEX([1]RELAÇÃO!$A$1:$AQ$576,MATCH($M190,[1]RELAÇÃO!$AP$1:$AP$576,0),6))","v":"Sem Vínculo"},{"$f":"IF(E190=0,\"-\",INDEX([1]RELAÇÃO!$A$1:$AQ$576,MATCH($M190,[1]RELAÇÃO!$AP$1:$AP$576,0),12)&INDEX([1]RELAÇÃO!$A$1:$AQ$576,MATCH($M190,[1]RELAÇÃO!$AP$1:$AP$576,0),13)&\", de \"&INDEX([1]RELAÇÃO!$A$1:$AQ$576,MATCH($M190,[1]RELAÇÃO!$AP$1:$AP$576,0),14)&\" - \"&INDEX([1]RELAÇÃO!$A$1:$AQ$576,MATCH($M190,[1]RELAÇÃO!$AP$1:$AP$576,0),16)&\" de \"&INDEX([1]RELAÇÃO!$A$1:$AQ$576,MATCH($M190,[1]RELAÇÃO!$AP$1:$AP$576,0),15))","v":"Portaria nº 117, de 07/02/2019 - DOU de 08/02/2019"},null,null,{"$f":"IF($E190=0,\"-\",IF(INDEX([1]RELAÇÃO!$A$1:$AQ$576,MATCH($M190,[1]RELAÇÃO!$AP$1:$AP$576,0),8)=\"6.000.000\",\"-\",INDEX([1]RELAÇÃO!$A$1:$AQ$576,MATCH($M190,[1]RELAÇÃO!$AP$1:$AP$576,0),7)))","v":"SEE / CHEFIA DE GABINETE SEE"},"ASSEC05"]
[null,"Assessor","DAS 102.4","ASS",{"$f":"INDEX([1]RELAÇÃO!$A$1:$AQ$576,MATCH($M191,[1]RELAÇÃO!$AP$1:$AP$576,0),1)","v":"INA LUCIA CIPRIANO DE OLIVEIRA"},{"$f":"IF(E191=0,\"-\",LEFT(INDEX([1]RELAÇÃO!$A$1:$AQ$576,MATCH($M191,[1]RELAÇÃO!$AP$1:$AP$576,0),32),1))","v":"F"},{"$f":"IF(E191=0,\"-\",INDEX([1]RELAÇÃO!$A$1:$AQ$576,MATCH($M191,[1]RELAÇÃO!$AP$1:$AP$576,0),5))","v":"Requisitado Militar"},{"$f":"IF(E191=0,\"-\",INDEX([1]RELAÇÃO!$A$1:$AQ$576,MATCH($M191,[1]RELAÇÃO!$AP$1:$AP$576,0),6))","v":"Marinha"},{"$f":"IF(E191=0,\"-\",INDEX([1]RELAÇÃO!$A$1:$AQ$576,MATCH($M191,[1]RELAÇÃO!$AP$1:$AP$576,0),12)&INDEX([1]RELAÇÃO!$A$1:$AQ$576,MATCH($M191,[1]RELAÇÃO!$AP$1:$AP$576,0),13)&\", de \"&INDEX([1]RELAÇÃO!$A$1:$AQ$576,MATCH($M191,[1]RELAÇÃO!$AP$1:$AP$576,0),14)&\" - \"&INDEX([1]RELAÇÃO!$A$1:$AQ$576,MATCH($M191,[1]RELAÇÃO!$AP$1:$AP$576,0),16)&\" de \"&INDEX([1]RELAÇÃO!$A$1:$AQ$576,MATCH($M191,[1]RELAÇÃO!$AP$1:$AP$576,0),15))","v":"Portaria nº 162, de 11/03/2019 - DOU de 15/03/2019"},null,null,{"$f":"IF($E191=0,\"-\",IF(INDEX([1]RELAÇÃO!$A$1:$AQ$576,MATCH($M191,[1]RELAÇÃO!$AP$1:$AP$576,0),8)=\"6.000.000\",\"-\",INDEX([1]RELAÇÃO!$A$1:$AQ$576,MATCH($M191,[1]RELAÇÃO!$AP$1:$AP$576,0),7)))","v":"GABINETE DO MINISTRO - GM"},"ASSEC06"]
[null,"Assessor Técnico","DAS 102.3","ASS",{"$f":"INDEX([1]RELAÇÃO!$A$1:$AQ$576,MATCH($M192,[1]RELAÇÃO!$AP$1:$AP$576,0),1)","v":"PATRICIA MARIA GOMES"},{"$f":"IF(E192=0,\"-\",LEFT(INDEX([1]RELAÇÃO!$A$1:$AQ$576,MATCH($M192,[1]RELAÇÃO!$AP$1:$AP$576,0),32),1))","v":"F"},{"$f":"IF(E192=0,\"-\",INDEX([1]RELAÇÃO!$A$1:$AQ$576,MATCH($M192,[1]RELAÇÃO!$AP$1:$AP$576,0),5))","v":"Sem Vínculo"},{"$f":"IF(E192=0,\"-\",INDEX([1]RELAÇÃO!$A$1:$AQ$576,MATCH($M192,[1]RELAÇÃO!$AP$1:$AP$576,0),6))","v":"Sem Vínculo"},{"$f":"IF(E192=0,\"-\",INDEX([1]RELAÇÃO!$A$1:$AQ$576,MATCH($M192,[1]RELAÇÃO!$AP$1:$AP$576,0),12)&INDEX([1]RELAÇÃO!$A$1:$AQ$576,MATCH($M192,[1]RELAÇÃO!$AP$1:$AP$576,0),13)&\", de \"&INDEX([1]RELAÇÃO!$A$1:$AQ$576,MATCH($M192,[1]RELAÇÃO!$AP$1:$AP$576,0),14)&\" - \"&INDEX([1]RELAÇÃO!$A$1:$AQ$576,MATCH($M192,[1]RELAÇÃO!$AP$1:$AP$576,0),16)&\" de \"&INDEX([1]RELAÇÃO!$A$1:$AQ$576,MATCH($M192,[1]RELAÇÃO!$AP$1:$AP$576,0),15))","v":"Portaria nº 245, de 11/06/2019 - DOU de 14/06/2019"},null,null,{"$f":"IF($E192=0,\"-\",IF(INDEX([1]RELAÇÃO!$A$1:$AQ$576,MATCH($M192,[1]RELAÇÃO!$AP$1:$AP$576,0),8)=\"6.000.000\",\"-\",INDEX([1]RELAÇÃO!$A$1:$AQ$576,MATCH($M192,[1]RELAÇÃO!$AP$1:$AP$576,0),7)))","v":"-"},"ASSEC07"]
[null,"Assessor Técnico","DAS 102.3","ASS",{"$f":"INDEX([1]RELAÇÃO!$A$1:$AQ$576,MATCH($M193,[1]RELAÇÃO!$AP$1:$AP$576,0),1)","v":"JORDANA SANTOS CORDEIRO"},{"$f":"IF(E193=0,\"-\",LEFT(INDEX([1]RELAÇÃO!$A$1:$AQ$576,MATCH($M193,[1]RELAÇÃO!$AP$1:$AP$576,0),32),1))","v":"F"},{"$f":"IF(E193=0,\"-\",INDEX([1]RELAÇÃO!$A$1:$AQ$576,MATCH($M193,[1]RELAÇÃO!$AP$1:$AP$576,0),5))","v":"Sem Vínculo"},{"$f":"IF(E193=0,\"-\",INDEX([1]RELAÇÃO!$A$1:$AQ$576,MATCH($M193,[1]RELAÇÃO!$AP$1:$AP$576,0),6))","v":"Sem Vínculo"},{"$f":"IF(E193=0,\"-\",INDEX([1]RELAÇÃO!$A$1:$AQ$576,MATCH($M193,[1]RELAÇÃO!$AP$1:$AP$576,0),12)&INDEX([1]RELAÇÃO!$A$1:$AQ$576,MATCH($M193,[1]RELAÇÃO!$AP$1:$AP$576,0),13)&\", de \"&INDEX([1]RELAÇÃO!$A$1:$AQ$576,MATCH($M193,[1]RELAÇÃO!$AP$1:$AP$576,0),14)&\" - \"&INDEX([1]RELAÇÃO!$A$1:$AQ$576,MATCH($M193,[1]RELAÇÃO!$AP$1:$AP$576,0),16)&\" de \"&INDEX([1]RELAÇÃO!$A$1:$AQ$576,MATCH($M193,[1]RELAÇÃO!$AP$1:$AP$576,0),15))","v":"Portaria nº 139, de 18/02/2019 - DOU de 22/02/2019"},null,null,{"$f":"IF($E193=0,\"-\",IF(INDEX([1]RELAÇÃO!$A$1:$AQ$576,MATCH($M193,[1]RELAÇÃO!$AP$1:$AP$576,0),8)=\"6.000.000\",\"-\",INDEX([1]RELAÇÃO!$A$1:$AQ$576,MATCH($M193,[1]RELAÇÃO!$AP$1:$AP$576,0),7)))","v":"SEE / CHEFIA DE GABINETE SEE"},"ASSEC08"]
[null,"Assessor Técnico","DAS 102.3","ASS",{"$f":"INDEX([1]RELAÇÃO!$A$1:$AQ$576,MATCH($M194,[1]RELAÇÃO!$AP$1:$AP$576,0),1)","v":"TATIELE LIMA GUIMARAES"},{"$f":"IF(E194=0,\"-\",LEFT(INDEX([1]RELAÇÃO!$A$1:$AQ$576,MATCH($M194,[1]RELAÇÃO!$AP$1:$AP$576,0),32),1))","v":"F"},{"$f":"IF(E194=0,\"-\",INDEX([1]RELAÇÃO!$A$1:$AQ$576,MATCH($M194,[1]RELAÇÃO!$AP$1:$AP$576,0),5))","v":"Sem Vínculo"},{"$f":"IF(E194=0,\"-\",INDEX([1]RELAÇÃO!$A$1:$AQ$576,MATCH($M194,[1]RELAÇÃO!$AP$1:$AP$576,0),6))","v":"Sem Vínculo"},{"$f":"IF(E194=0,\"-\",INDEX([1]RELAÇÃO!$A$1:$AQ$576,MATCH($M194,[1]RELAÇÃO!$AP$1:$AP$576,0),12)&INDEX([1]RELAÇÃO!$A$1:$AQ$576,MATCH($M194,[1]RELAÇÃO!$AP$1:$AP$576,0),13)&\", de \"&INDEX([1]RELAÇÃO!$A$1:$AQ$576,MATCH($M194,[1]RELAÇÃO!$AP$1:$AP$576,0),14)&\" - \"&INDEX([1]RELAÇÃO!$A$1:$AQ$576,MATCH($M194,[1]RELAÇÃO!$AP$1:$AP$576,0),16)&\" de \"&INDEX([1]RELAÇÃO!$A$1:$AQ$576,MATCH($M194,[1]RELAÇÃO!$AP$1:$AP$576,0),15))","v":"Portaria nº 177, de 26/03/2019 - DOU de 28/03/2019"},null,null,{"$f":"IF($E194=0,\"-\",IF(INDEX([1]RELAÇÃO!$A$1:$AQ$576,MATCH($M194,[1]RELAÇÃO!$AP$1:$AP$576,0),8)=\"6.000.000\",\"-\",INDEX([1]RELAÇÃO!$A$1:$AQ$576,MATCH($M194,[1]RELAÇÃO!$AP$1:$AP$576,0),7)))","v":"GM / ASSESSORIA PARLAMENTAR - ASPAR"},"ASSEC09"]
[null,"Assistente Técnico","DAS 102.1",null,"Excluído pelo Dec.9675/2019"]
[]
["ASSESSORIA ESPECIAL DE RELAÇÕES INTERNACIONAIS - ASSINT"]
["UNIDADE","DENOMINAÇÃO CARGO/FUNÇÃO","NE/DAS/FCPE","NÍVEL DA FUNÇÃO","SERVIDOR","SEXO","SITUAÇÃO","ORIGEM","ATO DE NOMEAÇÃO","SUBSTITUTO EVENTUAL","DESIGNAÇÃO","Alteração de local de exercício","ID FUNÇÃO","ID SUBSTITUIÇÃO"]
["ASSESSORIA ESPECIAL DE RELAÇÕES INTERNACIONAIS","Chefe da Assessoria Especial de Relações Internacionais","DAS 101.5","GER",{"$f":"INDEX([1]RELAÇÃO!$A$1:$AQ$576,MATCH($M199,[1]RELAÇÃO!$AP$1:$AP$576,0),1)","v":"CHRISTIAN VARGAS"},{"$f":"IF(E199=0,\"-\",LEFT(INDEX([1]RELAÇÃO!$A$1:$AQ$576,MATCH($M199,[1]RELAÇÃO!$AP$1:$AP$576,0),32),1))","v":"M"},{"$f":"IF(E199=0,\"-\",INDEX([1]RELAÇÃO!$A$1:$AQ$576,MATCH($M199,[1]RELAÇÃO!$AP$1:$AP$576,0),5))","v":"Requisitado de Órgãos"},{"$f":"IF(E199=0,\"-\",INDEX([1]RELAÇÃO!$A$1:$AQ$576,MATCH($M199,[1]RELAÇÃO!$AP$1:$AP$576,0),6))","v":"MRE - Ministério das Relações Exteriores"},{"$f":"IF(E199=0,\"-\",INDEX([1]RELAÇÃO!$A$1:$AQ$576,MATCH($M199,[1]RELAÇÃO!$AP$1:$AP$576,0),12)&INDEX([1]RELAÇÃO!$A$1:$AQ$576,MATCH($M199,[1]RELAÇÃO!$AP$1:$AP$576,0),13)&\", de \"&INDEX([1]RELAÇÃO!$A$1:$AQ$576,MATCH($M199,[1]RELAÇÃO!$AP$1:$AP$576,0),14)&\" - \"&INDEX([1]RELAÇÃO!$A$1:$AQ$576,MATCH($M199,[1]RELAÇÃO!$AP$1:$AP$576,0),16)&\" de \"&INDEX([1]RELAÇÃO!$A$1:$AQ$576,MATCH($M199,[1]RELAÇÃO!$AP$1:$AP$576,0),15))","v":"Portaria nº 357, de 28/09/2020 - DOU de 30/09/2020"},{"$f":"INDEX([1]RELAÇÃO!$A$1:$AQ$576,MATCH($N199,[1]RELAÇÃO!$AQ$1:$AQ$576,0),1)","v":"BÁRBARA BÉLKIOR DE SOUZA E SILVA"},{"$f":"IF(J199=0,\"-\",INDEX([1]RELAÇÃO!$A$1:$AQ$576,MATCH($N199,[1]RELAÇÃO!$AQ$1:$AQ$576,0),27)&INDEX([1]RELAÇÃO!$A$1:$AQ$576,MATCH($N199,[1]RELAÇÃO!$AQ$1:$AQ$576,0),28)&\", de \"&INDEX([1]RELAÇÃO!$A$1:$AQ$576,MATCH($N199,[1]RELAÇÃO!$AQ$1:$AQ$576,0),29)&\" - \"&INDEX([1]RELAÇÃO!$A$1:$AQ$576,MATCH($N199,[1]RELAÇÃO!$AQ$1:$AQ$576,0),31)&\" de \"&INDEX([1]RELAÇÃO!$A$1:$AQ$576,MATCH($N199,[1]RELAÇÃO!$AQ$1:$AQ$576,0),30))","v":"Portaria nº 28, de 04/02/2020 - DOU de 10/02/2020"},{"$f":"IF($E199=0,\"-\",IF(INDEX([1]RELAÇÃO!$A$1:$AQ$576,MATCH($M199,[1]RELAÇÃO!$AP$1:$AP$576,0),8)=\"3.000.000\",\"-\",INDEX([1]RELAÇÃO!$A$1:$AQ$576,MATCH($M199,[1]RELAÇÃO!$AP$1:$AP$576,0),7)))","v":"-"},"ASSINT01","ASSINT01S"]
[null,"Assessor","DAS 102.4","ASS",{"$f":"INDEX([1]RELAÇÃO!$A$1:$AQ$576,MATCH($M200,[1]RELAÇÃO!$AP$1:$AP$576,0),1)","v":"DANIELLE SIMOES GUIMARAES"},{"$f":"IF(E200=0,\"-\",LEFT(INDEX([1]RELAÇÃO!$A$1:$AQ$576,MATCH($M200,[1]RELAÇÃO!$AP$1:$AP$576,0),32),1))","v":"F"},{"$f":"IF(E200=0,\"-\",INDEX([1]RELAÇÃO!$A$1:$AQ$576,MATCH($M200,[1]RELAÇÃO!$AP$1:$AP$576,0),5))","v":"Sem Vínculo"},{"$f":"IF(E200=0,\"-\",INDEX([1]RELAÇÃO!$A$1:$AQ$576,MATCH($M200,[1]RELAÇÃO!$AP$1:$AP$576,0),6))","v":"Sem Vínculo"},{"$f":"IF(E200=0,\"-\",INDEX([1]RELAÇÃO!$A$1:$AQ$576,MATCH($M200,[1]RELAÇÃO!$AP$1:$AP$576,0),12)&INDEX([1]RELAÇÃO!$A$1:$AQ$576,MATCH($M200,[1]RELAÇÃO!$AP$1:$AP$576,0),13)&\", de \"&INDEX([1]RELAÇÃO!$A$1:$AQ$576,MATCH($M200,[1]RELAÇÃO!$AP$1:$AP$576,0),14)&\" - \"&INDEX([1]RELAÇÃO!$A$1:$AQ$576,MATCH($M200,[1]RELAÇÃO!$AP$1:$AP$576,0),16)&\" de \"&INDEX([1]RELAÇÃO!$A$1:$AQ$576,MATCH($M200,[1]RELAÇÃO!$AP$1:$AP$576,0),15))","v":"Portaria nº 524, de 03/11/2016 - BPE de 04/11/2016"},null,null,{"$f":"IF($E200=0,\"-\",IF(INDEX([1]RELAÇÃO!$A$1:$AQ$576,MATCH($M200,[1]RELAÇÃO!$AP$1:$AP$576,0),8)=\"3.000.000\",\"-\",INDEX([1]RELAÇÃO!$A$1:$AQ$576,MATCH($M200,[1]RELAÇÃO!$AP$1:$AP$576,0),7)))","v":"-"},"ASSINT02"]
[null,"Assistente","FCPE 102.2","ASS",{"$f":"INDEX([1]RELAÇÃO!$A$1:$AQ$576,MATCH($M201,[1]RELAÇÃO!$AP$1:$AP$576,0),1)","v":"CLAUDIO OLIMAR INATOMI"},{"$f":"IF(E201=0,\"-\",LEFT(INDEX([1]RELAÇÃO!$A$1:$AQ$576,MATCH($M201,[1]RELAÇÃO!$AP$1:$AP$576,0),32),1))","v":"M"},{"$f":"IF(E201=0,\"-\",INDEX([1]RELAÇÃO!$A$1:$AQ$576,MATCH($M201,[1]RELAÇÃO!$AP$1:$AP$576,0),5))","v":"Ativo Permanente"},{"$f":"IF(E201=0,\"-\",INDEX([1]RELAÇÃO!$A$1:$AQ$576,MATCH($M201,[1]RELAÇÃO!$AP$1:$AP$576,0),6))","v":"MME - Ministério de Minas e Energia"},{"$f":"IF(E201=0,\"-\",INDEX([1]RELAÇÃO!$A$1:$AQ$576,MATCH($M201,[1]RELAÇÃO!$AP$1:$AP$576,0),12)&INDEX([1]RELAÇÃO!$A$1:$AQ$576,MATCH($M201,[1]RELAÇÃO!$AP$1:$AP$576,0),13)&\", de \"&INDEX([1]RELAÇÃO!$A$1:$AQ$576,MATCH($M201,[1]RELAÇÃO!$AP$1:$AP$576,0),14)&\" - \"&INDEX([1]RELAÇÃO!$A$1:$AQ$576,MATCH($M201,[1]RELAÇÃO!$AP$1:$AP$576,0),16)&\" de \"&INDEX([1]RELAÇÃO!$A$1:$AQ$576,MATCH($M201,[1]RELAÇÃO!$AP$1:$AP$576,0),15))","v":"Portaria nº 524, de 03/11/2016 - BPE de 04/11/2016"},null,null,{"$f":"IF($E201=0,\"-\",IF(INDEX([1]RELAÇÃO!$A$1:$AQ$576,MATCH($M201,[1]RELAÇÃO!$AP$1:$AP$576,0),8)=\"3.000.000\",\"-\",INDEX([1]RELAÇÃO!$A$1:$AQ$576,MATCH($M201,[1]RELAÇÃO!$AP$1:$AP$576,0),7)))","v":"-"},"ASSINT03"]
[null,"Assitente","DAS 102.2","ASS",{"$f":"INDEX([1]RELAÇÃO!$A$1:$AQ$576,MATCH($M202,[1]RELAÇÃO!$AP$1:$AP$576,0),1)","v":"FABIAN DIE MENEZES CARVALHO"},{"$f":"IF(E202=0,\"-\",LEFT(INDEX([1]RELAÇÃO!$A$1:$AQ$576,MATCH($M202,[1]RELAÇÃO!$AP$1:$AP$576,0),32),1))","v":"M"},{"$f":"IF(E202=0,\"-\",INDEX([1]RELAÇÃO!$A$1:$AQ$576,MATCH($M202,[1]RELAÇÃO!$AP$1:$AP$576,0),5))","v":"Sem Vínculo"},{"$f":"IF(E202=0,\"-\",INDEX([1]RELAÇÃO!$A$1:$AQ$576,MATCH($M202,[1]RELAÇÃO!$AP$1:$AP$576,0),6))","v":"Sem Vínculo"},{"$f":"IF(E202=0,\"-\",INDEX([1]RELAÇÃO!$A$1:$AQ$576,MATCH($M202,[1]RELAÇÃO!$AP$1:$AP$576,0),12)&INDEX([1]RELAÇÃO!$A$1:$AQ$576,MATCH($M202,[1]RELAÇÃO!$AP$1:$AP$576,0),13)&\", de \"&INDEX([1]RELAÇÃO!$A$1:$AQ$576,MATCH($M202,[1]RELAÇÃO!$AP$1:$AP$576,0),14)&\" - \"&INDEX([1]RELAÇÃO!$A$1:$AQ$576,MATCH($M202,[1]RELAÇÃO!$AP$1:$AP$576,0),16)&\" de \"&INDEX([1]RELAÇÃO!$A$1:$AQ$576,MATCH($M202,[1]RELAÇÃO!$AP$1:$AP$576,0),15))","v":"Portaria nº 534, de 03/11/2016 - DOU de 04/11/2016"},null,null,{"$f":"IF($E202=0,\"-\",IF(INDEX([1]RELAÇÃO!$A$1:$AQ$576,MATCH($M202,[1]RELAÇÃO!$AP$1:$AP$576,0),8)=\"3.000.000\",\"-\",INDEX([1]RELAÇÃO!$A$1:$AQ$576,MATCH($M202,[1]RELAÇÃO!$AP$1:$AP$576,0),7)))","v":"-"},"ASSINT04"]
[]
["ASSESSORIA ESPECIAL DE CONTROLE INTERNO - AECI"]
["UNIDADE","DENOMINAÇÃO CARGO/FUNÇÃO","NE/DAS/FCPE","NÍVEL DA FUNÇÃO","SERVIDOR","SEXO","SITUAÇÃO","ORIGEM","ATO DE NOMEAÇÃO","SUBSTITUTO EVENTUAL","DESIGNAÇÃO","Alteração de local de exercício","ID FUNÇÃO","ID SUBSTITUIÇÃO"]
["ASSESSORIA ESPECIAL DE CONTROLE INTERNO","Chefe da Assessoria Especial ","DAS 101.5","GER",{"$f":"INDEX([1]RELAÇÃO!$A$1:$AQ$576,MATCH($M206,[1]RELAÇÃO!$AP$1:$AP$576,0),1)","v":"SERGIO HENRIQUE LOPES DE SOUSA"},{"$f":"IF(E206=0,\"-\",LEFT(INDEX([1]RELAÇÃO!$A$1:$AQ$576,MATCH($M206,[1]RELAÇÃO!$AP$1:$AP$576,0),32),1))","v":"M"},{"$f":"IF(E206=0,\"-\",INDEX([1]RELAÇÃO!$A$1:$AQ$576,MATCH($M206,[1]RELAÇÃO!$AP$1:$AP$576,0),5))","v":"Sem Vínculo"},{"$f":"IF(E206=0,\"-\",INDEX([1]RELAÇÃO!$A$1:$AQ$576,MATCH($M206,[1]RELAÇÃO!$AP$1:$AP$576,0),6))","v":"Sem Vínculo"},{"$f":"IF(E206=0,\"-\",INDEX([1]RELAÇÃO!$A$1:$AQ$576,MATCH($M206,[1]RELAÇÃO!$AP$1:$AP$576,0),12)&INDEX([1]RELAÇÃO!$A$1:$AQ$576,MATCH($M206,[1]RELAÇÃO!$AP$1:$AP$576,0),13)&\", de \"&INDEX([1]RELAÇÃO!$A$1:$AQ$576,MATCH($M206,[1]RELAÇÃO!$AP$1:$AP$576,0),14)&\" - \"&INDEX([1]RELAÇÃO!$A$1:$AQ$576,MATCH($M206,[1]RELAÇÃO!$AP$1:$AP$576,0),16)&\" de \"&INDEX([1]RELAÇÃO!$A$1:$AQ$576,MATCH($M206,[1]RELAÇÃO!$AP$1:$AP$576,0),15))","v":"Portaria nº 1251, de 19/02/2019 - DOU de 20/02/2019"},{"$f":"INDEX([1]RELAÇÃO!$A$1:$AQ$576,MATCH($N206,[1]RELAÇÃO!$AQ$1:$AQ$576,0),1)","v":"INGRID PALMA ARAUJO"},{"$f":"IF(J206=0,\"-\",INDEX([1]RELAÇÃO!$A$1:$AQ$576,MATCH($N206,[1]RELAÇÃO!$AQ$1:$AQ$576,0),27)&INDEX([1]RELAÇÃO!$A$1:$AQ$576,MATCH($N206,[1]RELAÇÃO!$AQ$1:$AQ$576,0),28)&\", de \"&INDEX([1]RELAÇÃO!$A$1:$AQ$576,MATCH($N206,[1]RELAÇÃO!$AQ$1:$AQ$576,0),29)&\" - \"&INDEX([1]RELAÇÃO!$A$1:$AQ$576,MATCH($N206,[1]RELAÇÃO!$AQ$1:$AQ$576,0),31)&\" de \"&INDEX([1]RELAÇÃO!$A$1:$AQ$576,MATCH($N206,[1]RELAÇÃO!$AQ$1:$AQ$576,0),30))","v":"Portaria nº 638, de 23/11/2016 - DOU de 24/11/2016"},{"$f":"IF($E206=0,\"-\",IF(INDEX([1]RELAÇÃO!$A$1:$AQ$576,MATCH($M206,[1]RELAÇÃO!$AP$1:$AP$576,0),8)=\"5.000.000\",\"-\",INDEX([1]RELAÇÃO!$A$1:$AQ$576,MATCH($M206,[1]RELAÇÃO!$AP$1:$AP$576,0),7)))","v":"-"},"AECI01","AECI01S"]
[null,"Assessor","FCPE 102.4","ASS",{"$f":"INDEX([1]RELAÇÃO!$A$1:$AQ$576,MATCH($M207,[1]RELAÇÃO!$AP$1:$AP$576,0),1)","v":"INGRID PALMA ARAUJO"},{"$f":"IF(E207=0,\"-\",LEFT(INDEX([1]RELAÇÃO!$A$1:$AQ$576,MATCH($M207,[1]RELAÇÃO!$AP$1:$AP$576,0),32),1))","v":"F"},{"$f":"IF(E207=0,\"-\",INDEX([1]RELAÇÃO!$A$1:$AQ$576,MATCH($M207,[1]RELAÇÃO!$AP$1:$AP$576,0),5))","v":"Requisitado de Órgãos"},{"$f":"IF(E207=0,\"-\",INDEX([1]RELAÇÃO!$A$1:$AQ$576,MATCH($M207,[1]RELAÇÃO!$AP$1:$AP$576,0),6))","v":"ME - Ministério da Economia"},{"$f":"IF(E207=0,\"-\",INDEX([1]RELAÇÃO!$A$1:$AQ$576,MATCH($M207,[1]RELAÇÃO!$AP$1:$AP$576,0),12)&INDEX([1]RELAÇÃO!$A$1:$AQ$576,MATCH($M207,[1]RELAÇÃO!$AP$1:$AP$576,0),13)&\", de \"&INDEX([1]RELAÇÃO!$A$1:$AQ$576,MATCH($M207,[1]RELAÇÃO!$AP$1:$AP$576,0),14)&\" - \"&INDEX([1]RELAÇÃO!$A$1:$AQ$576,MATCH($M207,[1]RELAÇÃO!$AP$1:$AP$576,0),16)&\" de \"&INDEX([1]RELAÇÃO!$A$1:$AQ$576,MATCH($M207,[1]RELAÇÃO!$AP$1:$AP$576,0),15))","v":"Portaria nº 524, de 03/11/2016 - BPE de 04/11/2016"},null,null,{"$f":"IF($E207=0,\"-\",IF(INDEX([1]RELAÇÃO!$A$1:$AQ$576,MATCH($M207,[1]RELAÇÃO!$AP$1:$AP$576,0),8)=\"5.000.000\",\"-\",INDEX([1]RELAÇÃO!$A$1:$AQ$576,MATCH($M207,[1]RELAÇÃO!$AP$1:$AP$576,0),7)))","v":"-"},"AECI02"]
[null,"Assintente","FCPE 102.2","ASS",{"$f":"INDEX([1]RELAÇÃO!$A$1:$AQ$576,MATCH($M208,[1]RELAÇÃO!$AP$1:$AP$576,0),1)","v":"MARCIA REGINA DE JESUS FIUZA"},{"$f":"IF(E208=0,\"-\",LEFT(INDEX([1]RELAÇÃO!$A$1:$AQ$576,MATCH($M208,[1]RELAÇÃO!$AP$1:$AP$576,0),32),1))","v":"F"},{"$f":"IF(E208=0,\"-\",INDEX([1]RELAÇÃO!$A$1:$AQ$576,MATCH($M208,[1]RELAÇÃO!$AP$1:$AP$576,0),5))","v":"Ativo Permanente"},{"$f":"IF(E208=0,\"-\",INDEX([1]RELAÇÃO!$A$1:$AQ$576,MATCH($M208,[1]RELAÇÃO!$AP$1:$AP$576,0),6))","v":"MME - Ministério de Minas e Energia"},{"$f":"IF(E208=0,\"-\",INDEX([1]RELAÇÃO!$A$1:$AQ$576,MATCH($M208,[1]RELAÇÃO!$AP$1:$AP$576,0),12)&INDEX([1]RELAÇÃO!$A$1:$AQ$576,MATCH($M208,[1]RELAÇÃO!$AP$1:$AP$576,0),13)&\", de \"&INDEX([1]RELAÇÃO!$A$1:$AQ$576,MATCH($M208,[1]RELAÇÃO!$AP$1:$AP$576,0),14)&\" - \"&INDEX([1]RELAÇÃO!$A$1:$AQ$576,MATCH($M208,[1]RELAÇÃO!$AP$1:$AP$576,0),16)&\" de \"&INDEX([1]RELAÇÃO!$A$1:$AQ$576,MATCH($M208,[1]RELAÇÃO!$AP$1:$AP$576,0),15))","v":"Portaria nº 524, de 03/11/2016 - BPE de 04/11/2016"},null,null,{"$f":"IF($E208=0,\"-\",IF(INDEX([1]RELAÇÃO!$A$1:$AQ$576,MATCH($M208,[1]RELAÇÃO!$AP$1:$AP$576,0),8)=\"5.000.000\",\"-\",INDEX([1]RELAÇÃO!$A$1:$AQ$576,MATCH($M208,[1]RELAÇÃO!$AP$1:$AP$576,0),7)))","v":"-"},"AECI03"]
[]
["ASSESSORIA ESPECIAL DE ACOMPANHAMENTO DE POLÍTICAS, ESTRATÉGIAS E DESEMPENHO SETORIAIS - AEPED"]
["UNIDADE","DENOMINAÇÃO CARGO/FUNÇÃO","NE/DAS/FCPE","NÍVEL DA FUNÇÃO","SERVIDOR","SEXO","SITUAÇÃO","ORIGEM","ATO DE NOMEAÇÃO","SUBSTITUTO EVENTUAL","DESIGNAÇÃO","Alteração de local de exercício","ID FUNÇÃO","ID SUBSTITUIÇÃO"]
["ASSESSORIA ESPECIAL DE ACOMPANHAMENTO DE POLÍTICAS, ESTRATÉGIAS E DESEMPENHO SETORIAIS","Chefe da Assessoria Especial ","DAS 101.5","GER",{"$f":"INDEX([1]RELAÇÃO!$A$1:$AQ$576,MATCH($M212,[1]RELAÇÃO!$AP$1:$AP$576,0),1)","v":"ROBERTO PINHEIRO KLEIN JUNIOR"},{"$f":"IF(E212=0,\"-\",LEFT(INDEX([1]RELAÇÃO!$A$1:$AQ$576,MATCH($M212,[1]RELAÇÃO!$AP$1:$AP$576,0),32),1))","v":"M"},{"$f":"IF(E212=0,\"-\",INDEX([1]RELAÇÃO!$A$1:$AQ$576,MATCH($M212,[1]RELAÇÃO!$AP$1:$AP$576,0),5))","v":"Sem Vínculo"},{"$f":"IF(E212=0,\"-\",INDEX([1]RELAÇÃO!$A$1:$AQ$576,MATCH($M212,[1]RELAÇÃO!$AP$1:$AP$576,0),6))","v":"Sem Vínculo"},{"$f":"IF(E212=0,\"-\",INDEX([1]RELAÇÃO!$A$1:$AQ$576,MATCH($M212,[1]RELAÇÃO!$AP$1:$AP$576,0),12)&INDEX([1]RELAÇÃO!$A$1:$AQ$576,MATCH($M212,[1]RELAÇÃO!$AP$1:$AP$576,0),13)&\", de \"&INDEX([1]RELAÇÃO!$A$1:$AQ$576,MATCH($M212,[1]RELAÇÃO!$AP$1:$AP$576,0),14)&\" - \"&INDEX([1]RELAÇÃO!$A$1:$AQ$576,MATCH($M212,[1]RELAÇÃO!$AP$1:$AP$576,0),16)&\" de \"&INDEX([1]RELAÇÃO!$A$1:$AQ$576,MATCH($M212,[1]RELAÇÃO!$AP$1:$AP$576,0),15))","v":"Portaria nº 709, de 21/01/2019 - DOU de 22/01/2019"},{"$f":"INDEX([1]RELAÇÃO!$A$1:$AQ$576,MATCH($N212,[1]RELAÇÃO!$AQ$1:$AQ$576,0),1)","v":"JOÃO DE AMORIM LITAIFF JUNIOR"},{"$f":"IF(J212=0,\"-\",INDEX([1]RELAÇÃO!$A$1:$AQ$576,MATCH($N212,[1]RELAÇÃO!$AQ$1:$AQ$576,0),27)&INDEX([1]RELAÇÃO!$A$1:$AQ$576,MATCH($N212,[1]RELAÇÃO!$AQ$1:$AQ$576,0),28)&\", de \"&INDEX([1]RELAÇÃO!$A$1:$AQ$576,MATCH($N212,[1]RELAÇÃO!$AQ$1:$AQ$576,0),29)&\" - \"&INDEX([1]RELAÇÃO!$A$1:$AQ$576,MATCH($N212,[1]RELAÇÃO!$AQ$1:$AQ$576,0),31)&\" de \"&INDEX([1]RELAÇÃO!$A$1:$AQ$576,MATCH($N212,[1]RELAÇÃO!$AQ$1:$AQ$576,0),30))","v":"Portaria nº 441, de 28/11/2019 - DOU de 04/12/2019"},{"$f":"IF($E212=0,\"-\",IF(INDEX([1]RELAÇÃO!$A$1:$AQ$576,MATCH($M212,[1]RELAÇÃO!$AP$1:$AP$576,0),8)=\"4.000.000\",\"-\",INDEX([1]RELAÇÃO!$A$1:$AQ$576,MATCH($M212,[1]RELAÇÃO!$AP$1:$AP$576,0),7)))","v":"-"},"AEPED01","AEPED01S"]
[null,"Assessor","DAS 102.4","ASS",{"$f":"INDEX([1]RELAÇÃO!$A$1:$AQ$576,MATCH($M213,[1]RELAÇÃO!$AP$1:$AP$576,0),1)","v":"FLAMARION SOUZA MATOS"},{"$f":"IF(E213=0,\"-\",LEFT(INDEX([1]RELAÇÃO!$A$1:$AQ$576,MATCH($M213,[1]RELAÇÃO!$AP$1:$AP$576,0),32),1))","v":"M"},{"$f":"IF(E213=0,\"-\",INDEX([1]RELAÇÃO!$A$1:$AQ$576,MATCH($M213,[1]RELAÇÃO!$AP$1:$AP$576,0),5))","v":"Sem Vínculo"},{"$f":"IF(E213=0,\"-\",INDEX([1]RELAÇÃO!$A$1:$AQ$576,MATCH($M213,[1]RELAÇÃO!$AP$1:$AP$576,0),6))","v":"Sem Vínculo"},{"$f":"IF(E213=0,\"-\",INDEX([1]RELAÇÃO!$A$1:$AQ$576,MATCH($M213,[1]RELAÇÃO!$AP$1:$AP$576,0),12)&INDEX([1]RELAÇÃO!$A$1:$AQ$576,MATCH($M213,[1]RELAÇÃO!$AP$1:$AP$576,0),13)&\", de \"&INDEX([1]RELAÇÃO!$A$1:$AQ$576,MATCH($M213,[1]RELAÇÃO!$AP$1:$AP$576,0),14)&\" - \"&INDEX([1]RELAÇÃO!$A$1:$AQ$576,MATCH($M213,[1]RELAÇÃO!$AP$1:$AP$576,0),16)&\" de \"&INDEX([1]RELAÇÃO!$A$1:$AQ$576,MATCH($M213,[1]RELAÇÃO!$AP$1:$AP$576,0),15))","v":"Portaria nº 391, de 15/10/2019 - DOU de 23/10/2019"},null,null,{"$f":"IF($E213=0,\"-\",IF(INDEX([1]RELAÇÃO!$A$1:$AQ$576,MATCH($M213,[1]RELAÇÃO!$AP$1:$AP$576,0),8)=\"4.000.000\",\"-\",INDEX([1]RELAÇÃO!$A$1:$AQ$576,MATCH($M213,[1]RELAÇÃO!$AP$1:$AP$576,0),7)))","v":"SEE / DEPARTAMENTO DE POLÍTICAS SOCIAIS E UNIVERSALIZAÇÃO DO ACESSO À ENERGIA ELÉTRICA - DPUE"},"AEPED02"]
[null,"Assessor","FCPE 102.4","ASS",{"$f":"INDEX([1]RELAÇÃO!$A$1:$AQ$576,MATCH($M214,[1]RELAÇÃO!$AP$1:$AP$576,0),1)","v":"FREDERICO DE ARAUJO TELES"},{"$f":"IF(E214=0,\"-\",LEFT(INDEX([1]RELAÇÃO!$A$1:$AQ$576,MATCH($M214,[1]RELAÇÃO!$AP$1:$AP$576,0),32),1))","v":"M"},{"$f":"IF(E214=0,\"-\",INDEX([1]RELAÇÃO!$A$1:$AQ$576,MATCH($M214,[1]RELAÇÃO!$AP$1:$AP$576,0),5))","v":"Requisitado de Órgãos"},{"$f":"IF(E214=0,\"-\",INDEX([1]RELAÇÃO!$A$1:$AQ$576,MATCH($M214,[1]RELAÇÃO!$AP$1:$AP$576,0),6))","v":"ANEEL - Agência Nacional de Energia Elétrica"},{"$f":"IF(E214=0,\"-\",INDEX([1]RELAÇÃO!$A$1:$AQ$576,MATCH($M214,[1]RELAÇÃO!$AP$1:$AP$576,0),12)&INDEX([1]RELAÇÃO!$A$1:$AQ$576,MATCH($M214,[1]RELAÇÃO!$AP$1:$AP$576,0),13)&\", de \"&INDEX([1]RELAÇÃO!$A$1:$AQ$576,MATCH($M214,[1]RELAÇÃO!$AP$1:$AP$576,0),14)&\" - \"&INDEX([1]RELAÇÃO!$A$1:$AQ$576,MATCH($M214,[1]RELAÇÃO!$AP$1:$AP$576,0),16)&\" de \"&INDEX([1]RELAÇÃO!$A$1:$AQ$576,MATCH($M214,[1]RELAÇÃO!$AP$1:$AP$576,0),15))","v":"Portaria nº 39, de 18/01/2019 - DOU de 24/01/2019"},null,null,{"$f":"IF($E214=0,\"-\",IF(INDEX([1]RELAÇÃO!$A$1:$AQ$576,MATCH($M214,[1]RELAÇÃO!$AP$1:$AP$576,0),8)=\"4.000.000\",\"-\",INDEX([1]RELAÇÃO!$A$1:$AQ$576,MATCH($M214,[1]RELAÇÃO!$AP$1:$AP$576,0),7)))","v":"ASSESSORIA ESPECIAL DE ASSUNTOS ECONÔMICOS - ASSEC"},"AEPED03"]
[null,"Assessor Técnico","DAS 102.3","ASS",{"$f":"INDEX([1]RELAÇÃO!$A$1:$AQ$576,MATCH($M215,[1]RELAÇÃO!$AP$1:$AP$576,0),1)","v":"DALTON JOSE DE OLIVEIRA"},{"$f":"IF(E215=0,\"-\",LEFT(INDEX([1]RELAÇÃO!$A$1:$AQ$576,MATCH($M215,[1]RELAÇÃO!$AP$1:$AP$576,0),32),1))","v":"M"},{"$f":"IF(E215=0,\"-\",INDEX([1]RELAÇÃO!$A$1:$AQ$576,MATCH($M215,[1]RELAÇÃO!$AP$1:$AP$576,0),5))","v":"Ativo Permanente"},{"$f":"IF(E215=0,\"-\",INDEX([1]RELAÇÃO!$A$1:$AQ$576,MATCH($M215,[1]RELAÇÃO!$AP$1:$AP$576,0),6))","v":"MME - Ministério de Minas e Energia"},{"$f":"IF(E215=0,\"-\",INDEX([1]RELAÇÃO!$A$1:$AQ$576,MATCH($M215,[1]RELAÇÃO!$AP$1:$AP$576,0),12)&INDEX([1]RELAÇÃO!$A$1:$AQ$576,MATCH($M215,[1]RELAÇÃO!$AP$1:$AP$576,0),13)&\", de \"&INDEX([1]RELAÇÃO!$A$1:$AQ$576,MATCH($M215,[1]RELAÇÃO!$AP$1:$AP$576,0),14)&\" - \"&INDEX([1]RELAÇÃO!$A$1:$AQ$576,MATCH($M215,[1]RELAÇÃO!$AP$1:$AP$576,0),16)&\" de \"&INDEX([1]RELAÇÃO!$A$1:$AQ$576,MATCH($M215,[1]RELAÇÃO!$AP$1:$AP$576,0),15))","v":"Portaria nº 38, de 18/01/2019 - DOU de 24/01/2019"},null,null,{"$f":"IF($E215=0,\"-\",IF(INDEX([1]RELAÇÃO!$A$1:$AQ$576,MATCH($M215,[1]RELAÇÃO!$AP$1:$AP$576,0),8)=\"4.000.000\",\"-\",INDEX([1]RELAÇÃO!$A$1:$AQ$576,MATCH($M215,[1]RELAÇÃO!$AP$1:$AP$576,0),7)))","v":"-"},"AEPED04"]
[]
["SECRETARIA DE PLANEJAMENTO E DESENVOLVIMENTO ENERGÉTICO - SPE"]
["UNIDADE","DENOMINAÇÃO CARGO/FUNÇÃO","NE/DAS/FCPE","NÍVEL DA FUNÇÃO","SERVIDOR","SEXO","SITUAÇÃO","ORIGEM","ATO DE NOMEAÇÃO","SUBSTITUTO EVENTUAL","DESIGNAÇÃO","Alteração de local de exercício","ID FUNÇÃO","ID SUBSTITUIÇÃO"]
["SECRETARIA DE PLANEJAMENTO E DESENVOLVIMENTO ENERGÉTICO","Secretário","DAS 101.6","GER",{"$f":"INDEX([1]RELAÇÃO!$A$1:$AQ$576,MATCH($M219,[1]RELAÇÃO!$AP$1:$AP$576,0),1)","v":0},{"$f":"IF(E219=0,\"-\",LEFT(INDEX([1]RELAÇÃO!$A$1:$AQ$576,MATCH($M219,[1]RELAÇÃO!$AP$1:$AP$576,0),32),1))","v":"-"},{"$f":"IF(E219=0,\"-\",INDEX([1]RELAÇÃO!$A$1:$AQ$576,MATCH($M219,[1]RELAÇÃO!$AP$1:$AP$576,0),5))","v":"-"},{"$f":"IF(E219=0,\"-\",INDEX([1]RELAÇÃO!$A$1:$AQ$576,MATCH($M219,[1]RELAÇÃO!$AP$1:$AP$576,0),6))","v":"-"},{"$f":"IF(E219=0,\"-\",INDEX([1]RELAÇÃO!$A$1:$AQ$576,MATCH($M219,[1]RELAÇÃO!$AP$1:$AP$576,0),12)&INDEX([1]RELAÇÃO!$A$1:$AQ$576,MATCH($M219,[1]RELAÇÃO!$AP$1:$AP$576,0),13)&\", de \"&INDEX([1]RELAÇÃO!$A$1:$AQ$576,MATCH($M219,[1]RELAÇÃO!$AP$1:$AP$576,0),14)&\" - \"&INDEX([1]RELAÇÃO!$A$1:$AQ$576,MATCH($M219,[1]RELAÇÃO!$AP$1:$AP$576,0),16)&\" de \"&INDEX([1]RELAÇÃO!$A$1:$AQ$576,MATCH($M219,[1]RELAÇÃO!$AP$1:$AP$576,0),15))","v":"-"},{"$f":"INDEX([1]RELAÇÃO!$A$1:$AQ$576,MATCH($N219,[1]RELAÇÃO!$AQ$1:$AQ$576,0),1)","v":"HÉLVIO NEVES GUERRA"},{"$f":"IF(J219=0,\"-\",INDEX([1]RELAÇÃO!$A$1:$AQ$576,MATCH($N219,[1]RELAÇÃO!$AQ$1:$AQ$576,0),27)&INDEX([1]RELAÇÃO!$A$1:$AQ$576,MATCH($N219,[1]RELAÇÃO!$AQ$1:$AQ$576,0),28)&\", de \"&INDEX([1]RELAÇÃO!$A$1:$AQ$576,MATCH($N219,[1]RELAÇÃO!$AQ$1:$AQ$576,0),29)&\" - \"&INDEX([1]RELAÇÃO!$A$1:$AQ$576,MATCH($N219,[1]RELAÇÃO!$AQ$1:$AQ$576,0),31)&\" de \"&INDEX([1]RELAÇÃO!$A$1:$AQ$576,MATCH($N219,[1]RELAÇÃO!$AQ$1:$AQ$576,0),30))","v":"Portaria nº 108 - Anexo VIII, Art. 19, II do RI da SPE, de 14/03/2017 - DOU de 16/03/2017 - Ret. 17/03/2017"},{"$f":"IF($E219=0,\"-\",IF(INDEX([1]RELAÇÃO!$A$1:$AQ$576,MATCH($M219,[1]RELAÇÃO!$AP$1:$AP$576,0),8)=\"10.000.000\",\"-\",INDEX([1]RELAÇÃO!$A$1:$AQ$576,MATCH($M219,[1]RELAÇÃO!$AP$1:$AP$576,0),7)))","v":"-"},"SPE01","SPE01S"]
[null,"Secretário-Adjunto","DAS 101.5","GER",{"$f":"INDEX([1]RELAÇÃO!$A$1:$AQ$576,MATCH($M220,[1]RELAÇÃO!$AP$1:$AP$576,0),1)","v":"HÉLVIO NEVES GUERRA"},{"$f":"IF(E220=0,\"-\",LEFT(INDEX([1]RELAÇÃO!$A$1:$AQ$576,MATCH($M220,[1]RELAÇÃO!$AP$1:$AP$576,0),32),1))","v":"M"},{"$f":"IF(E220=0,\"-\",INDEX([1]RELAÇÃO!$A$1:$AQ$576,MATCH($M220,[1]RELAÇÃO!$AP$1:$AP$576,0),5))","v":"Sem Vínculo"},{"$f":"IF(E220=0,\"-\",INDEX([1]RELAÇÃO!$A$1:$AQ$576,MATCH($M220,[1]RELAÇÃO!$AP$1:$AP$576,0),6))","v":"Sem Vínculo"},{"$f":"IF(E220=0,\"-\",INDEX([1]RELAÇÃO!$A$1:$AQ$576,MATCH($M220,[1]RELAÇÃO!$AP$1:$AP$576,0),12)&INDEX([1]RELAÇÃO!$A$1:$AQ$576,MATCH($M220,[1]RELAÇÃO!$AP$1:$AP$576,0),13)&\", de \"&INDEX([1]RELAÇÃO!$A$1:$AQ$576,MATCH($M220,[1]RELAÇÃO!$AP$1:$AP$576,0),14)&\" - \"&INDEX([1]RELAÇÃO!$A$1:$AQ$576,MATCH($M220,[1]RELAÇÃO!$AP$1:$AP$576,0),16)&\" de \"&INDEX([1]RELAÇÃO!$A$1:$AQ$576,MATCH($M220,[1]RELAÇÃO!$AP$1:$AP$576,0),15))","v":"Portaria nº 1402, de 11/03/2019 - DOU de 11/03/2019"},{"$f":"INDEX([1]RELAÇÃO!$A$1:$AQ$576,MATCH($N220,[1]RELAÇÃO!$AQ$1:$AQ$576,0),1)","v":0},{"$f":"IF(J220=0,\"-\",INDEX([1]RELAÇÃO!$A$1:$AQ$576,MATCH($N220,[1]RELAÇÃO!$AQ$1:$AQ$576,0),27)&INDEX([1]RELAÇÃO!$A$1:$AQ$576,MATCH($N220,[1]RELAÇÃO!$AQ$1:$AQ$576,0),28)&\", de \"&INDEX([1]RELAÇÃO!$A$1:$AQ$576,MATCH($N220,[1]RELAÇÃO!$AQ$1:$AQ$576,0),29)&\" - \"&INDEX([1]RELAÇÃO!$A$1:$AQ$576,MATCH($N220,[1]RELAÇÃO!$AQ$1:$AQ$576,0),31)&\" de \"&INDEX([1]RELAÇÃO!$A$1:$AQ$576,MATCH($N220,[1]RELAÇÃO!$AQ$1:$AQ$576,0),30))","v":"-"},{"$f":"IF($E220=0,\"-\",IF(INDEX([1]RELAÇÃO!$A$1:$AQ$576,MATCH($M220,[1]RELAÇÃO!$AP$1:$AP$576,0),8)=\"10.000.000\",\"-\",INDEX([1]RELAÇÃO!$A$1:$AQ$576,MATCH($M220,[1]RELAÇÃO!$AP$1:$AP$576,0),7)))","v":"SPE / CHEFIA DE GABINETE SPE"},"SPE02","SPE02S"]
[null,"Assessor","DAS 102.4","ASS",{"$f":"INDEX([1]RELAÇÃO!$A$1:$AQ$576,MATCH($M221,[1]RELAÇÃO!$AP$1:$AP$576,0),1)","v":"ANDREA CRISTINA GOMES PEREIRA"},{"$f":"IF(E221=0,\"-\",LEFT(INDEX([1]RELAÇÃO!$A$1:$AQ$576,MATCH($M221,[1]RELAÇÃO!$AP$1:$AP$576,0),32),1))","v":"F"},{"$f":"IF(E221=0,\"-\",INDEX([1]RELAÇÃO!$A$1:$AQ$576,MATCH($M221,[1]RELAÇÃO!$AP$1:$AP$576,0),5))","v":"Sem Vínculo"},{"$f":"IF(E221=0,\"-\",INDEX([1]RELAÇÃO!$A$1:$AQ$576,MATCH($M221,[1]RELAÇÃO!$AP$1:$AP$576,0),6))","v":"Sem Vínculo"},{"$f":"IF(E221=0,\"-\",INDEX([1]RELAÇÃO!$A$1:$AQ$576,MATCH($M221,[1]RELAÇÃO!$AP$1:$AP$576,0),12)&INDEX([1]RELAÇÃO!$A$1:$AQ$576,MATCH($M221,[1]RELAÇÃO!$AP$1:$AP$576,0),13)&\", de \"&INDEX([1]RELAÇÃO!$A$1:$AQ$576,MATCH($M221,[1]RELAÇÃO!$AP$1:$AP$576,0),14)&\" - \"&INDEX([1]RELAÇÃO!$A$1:$AQ$576,MATCH($M221,[1]RELAÇÃO!$AP$1:$AP$576,0),16)&\" de \"&INDEX([1]RELAÇÃO!$A$1:$AQ$576,MATCH($M221,[1]RELAÇÃO!$AP$1:$AP$576,0),15))","v":"Portaria nº 524, de 03/11/2016 - BPE de 04/11/2016"},null,null,{"$f":"IF($E221=0,\"-\",IF(INDEX([1]RELAÇÃO!$A$1:$AQ$576,MATCH($M221,[1]RELAÇÃO!$AP$1:$AP$576,0),8)=\"10.000.000\",\"-\",INDEX([1]RELAÇÃO!$A$1:$AQ$576,MATCH($M221,[1]RELAÇÃO!$AP$1:$AP$576,0),7)))","v":"SPE / CHEFIA DE GABINETE SPE"},"SPE03"]
[null,"Assessor"," DAS 102.4",null,"Excluído pelo Dec. 9675/2019"]
[null,"Assessor","DAS 102.4","ASS",{"$f":"INDEX([1]RELAÇÃO!$A$1:$AQ$576,MATCH($M223,[1]RELAÇÃO!$AP$1:$AP$576,0),1)","v":"VALDIR BORGES SOUZA JUNIOR"},{"$f":"IF(E223=0,\"-\",LEFT(INDEX([1]RELAÇÃO!$A$1:$AQ$576,MATCH($M223,[1]RELAÇÃO!$AP$1:$AP$576,0),32),1))","v":"M"},{"$f":"IF(E223=0,\"-\",INDEX([1]RELAÇÃO!$A$1:$AQ$576,MATCH($M223,[1]RELAÇÃO!$AP$1:$AP$576,0),5))","v":"Requisitado de Órgãos"},{"$f":"IF(E223=0,\"-\",INDEX([1]RELAÇÃO!$A$1:$AQ$576,MATCH($M223,[1]RELAÇÃO!$AP$1:$AP$576,0),6))","v":"ME - Ministério da Economia"},{"$f":"IF(E223=0,\"-\",INDEX([1]RELAÇÃO!$A$1:$AQ$576,MATCH($M223,[1]RELAÇÃO!$AP$1:$AP$576,0),12)&INDEX([1]RELAÇÃO!$A$1:$AQ$576,MATCH($M223,[1]RELAÇÃO!$AP$1:$AP$576,0),13)&\", de \"&INDEX([1]RELAÇÃO!$A$1:$AQ$576,MATCH($M223,[1]RELAÇÃO!$AP$1:$AP$576,0),14)&\" - \"&INDEX([1]RELAÇÃO!$A$1:$AQ$576,MATCH($M223,[1]RELAÇÃO!$AP$1:$AP$576,0),16)&\" de \"&INDEX([1]RELAÇÃO!$A$1:$AQ$576,MATCH($M223,[1]RELAÇÃO!$AP$1:$AP$576,0),15))","v":"Portaria nº 241, de 11/06/2018 - DOU de 14/06/2018"},null,null,{"$f":"IF($E223=0,\"-\",IF(INDEX([1]RELAÇÃO!$A$1:$AQ$576,MATCH($M223,[1]RELAÇÃO!$AP$1:$AP$576,0),8)=\"10.000.000\",\"-\",INDEX([1]RELAÇÃO!$A$1:$AQ$576,MATCH($M223,[1]RELAÇÃO!$AP$1:$AP$576,0),7)))","v":"SPE / CHEFIA DE GABINETE SPE"},"SPE04"]
[null,"Assessor Técnico","FCPE 102.3","ASS",{"$f":"INDEX([1]RELAÇÃO!$A$1:$AQ$576,MATCH($M224,[1]RELAÇÃO!$AP$1:$AP$576,0),1)","v":"GEVALTER DE FREITAS NEVES"},{"$f":"IF(E224=0,\"-\",LEFT(INDEX([1]RELAÇÃO!$A$1:$AQ$576,MATCH($M224,[1]RELAÇÃO!$AP$1:$AP$576,0),32),1))","v":"M"},{"$f":"IF(E224=0,\"-\",INDEX([1]RELAÇÃO!$A$1:$AQ$576,MATCH($M224,[1]RELAÇÃO!$AP$1:$AP$576,0),5))","v":"Ativo Permanente"},{"$f":"IF(E224=0,\"-\",INDEX([1]RELAÇÃO!$A$1:$AQ$576,MATCH($M224,[1]RELAÇÃO!$AP$1:$AP$576,0),6))","v":"MME - Ministério de Minas e Energia"},{"$f":"IF(E224=0,\"-\",INDEX([1]RELAÇÃO!$A$1:$AQ$576,MATCH($M224,[1]RELAÇÃO!$AP$1:$AP$576,0),12)&INDEX([1]RELAÇÃO!$A$1:$AQ$576,MATCH($M224,[1]RELAÇÃO!$AP$1:$AP$576,0),13)&\", de \"&INDEX([1]RELAÇÃO!$A$1:$AQ$576,MATCH($M224,[1]RELAÇÃO!$AP$1:$AP$576,0),14)&\" - \"&INDEX([1]RELAÇÃO!$A$1:$AQ$576,MATCH($M224,[1]RELAÇÃO!$AP$1:$AP$576,0),16)&\" de \"&INDEX([1]RELAÇÃO!$A$1:$AQ$576,MATCH($M224,[1]RELAÇÃO!$AP$1:$AP$576,0),15))","v":"Portaria nº 572, de 03/11/2016 - DOU de 04/11/2016"},null,null,{"$f":"IF($E224=0,\"-\",IF(INDEX([1]RELAÇÃO!$A$1:$AQ$576,MATCH($M224,[1]RELAÇÃO!$AP$1:$AP$576,0),8)=\"10.000.000\",\"-\",INDEX([1]RELAÇÃO!$A$1:$AQ$576,MATCH($M224,[1]RELAÇÃO!$AP$1:$AP$576,0),7)))","v":"SPE / CHEFIA DE GABINETE SPE"},"SPE05"]
[null,"Assessor Técnico"," DAS 102.3",null,"Excluído pelo Dec. 9675/2019"]
[null,"Assistente","DAS 102.2","ASS",{"$f":"INDEX([1]RELAÇÃO!$A$1:$AQ$576,MATCH($M226,[1]RELAÇÃO!$AP$1:$AP$576,0),1)","v":"REGINA DE ARAUJO CALIXTO"},{"$f":"IF(E226=0,\"-\",LEFT(INDEX([1]RELAÇÃO!$A$1:$AQ$576,MATCH($M226,[1]RELAÇÃO!$AP$1:$AP$576,0),32),1))","v":"F"},{"$f":"IF(E226=0,\"-\",INDEX([1]RELAÇÃO!$A$1:$AQ$576,MATCH($M226,[1]RELAÇÃO!$AP$1:$AP$576,0),5))","v":"Sem Vínculo"},{"$f":"IF(E226=0,\"-\",INDEX([1]RELAÇÃO!$A$1:$AQ$576,MATCH($M226,[1]RELAÇÃO!$AP$1:$AP$576,0),6))","v":"Sem Vínculo"},{"$f":"IF(E226=0,\"-\",INDEX([1]RELAÇÃO!$A$1:$AQ$576,MATCH($M226,[1]RELAÇÃO!$AP$1:$AP$576,0),12)&INDEX([1]RELAÇÃO!$A$1:$AQ$576,MATCH($M226,[1]RELAÇÃO!$AP$1:$AP$576,0),13)&\", de \"&INDEX([1]RELAÇÃO!$A$1:$AQ$576,MATCH($M226,[1]RELAÇÃO!$AP$1:$AP$576,0),14)&\" - \"&INDEX([1]RELAÇÃO!$A$1:$AQ$576,MATCH($M226,[1]RELAÇÃO!$AP$1:$AP$576,0),16)&\" de \"&INDEX([1]RELAÇÃO!$A$1:$AQ$576,MATCH($M226,[1]RELAÇÃO!$AP$1:$AP$576,0),15))","v":"Portaria nº 524, de 03/11/2016 - BPE de 04/11/2016"},null,null,{"$f":"IF($E226=0,\"-\",IF(INDEX([1]RELAÇÃO!$A$1:$AQ$576,MATCH($M226,[1]RELAÇÃO!$AP$1:$AP$576,0),8)=\"10.000.000\",\"-\",INDEX([1]RELAÇÃO!$A$1:$AQ$576,MATCH($M226,[1]RELAÇÃO!$AP$1:$AP$576,0),7)))","v":"SPE / DEPARTAMENTO DE DESENVOLVIMENTO ENERGÉTICO - DDE"},"SPE06"]
[null,"Assistente","DAS 102.2","ASS",{"$f":"INDEX([1]RELAÇÃO!$A$1:$AQ$576,MATCH($M227,[1]RELAÇÃO!$AP$1:$AP$576,0),1)","v":"MAYARA DA SILVA CERQUEIRA"},{"$f":"IF(E227=0,\"-\",LEFT(INDEX([1]RELAÇÃO!$A$1:$AQ$576,MATCH($M227,[1]RELAÇÃO!$AP$1:$AP$576,0),32),1))","v":"F"},{"$f":"IF(E227=0,\"-\",INDEX([1]RELAÇÃO!$A$1:$AQ$576,MATCH($M227,[1]RELAÇÃO!$AP$1:$AP$576,0),5))","v":"Sem Vínculo"},{"$f":"IF(E227=0,\"-\",INDEX([1]RELAÇÃO!$A$1:$AQ$576,MATCH($M227,[1]RELAÇÃO!$AP$1:$AP$576,0),6))","v":"Sem Vínculo"},{"$f":"IF(E227=0,\"-\",INDEX([1]RELAÇÃO!$A$1:$AQ$576,MATCH($M227,[1]RELAÇÃO!$AP$1:$AP$576,0),12)&INDEX([1]RELAÇÃO!$A$1:$AQ$576,MATCH($M227,[1]RELAÇÃO!$AP$1:$AP$576,0),13)&\", de \"&INDEX([1]RELAÇÃO!$A$1:$AQ$576,MATCH($M227,[1]RELAÇÃO!$AP$1:$AP$576,0),14)&\" - \"&INDEX([1]RELAÇÃO!$A$1:$AQ$576,MATCH($M227,[1]RELAÇÃO!$AP$1:$AP$576,0),16)&\" de \"&INDEX([1]RELAÇÃO!$A$1:$AQ$576,MATCH($M227,[1]RELAÇÃO!$AP$1:$AP$576,0),15))","v":"Portaria nº 475, de 07/12/2017 - DOU de 08/12/2017"},null,null,{"$f":"IF($E227=0,\"-\",IF(INDEX([1]RELAÇÃO!$A$1:$AQ$576,MATCH($M227,[1]RELAÇÃO!$AP$1:$AP$576,0),8)=\"10.000.000\",\"-\",INDEX([1]RELAÇÃO!$A$1:$AQ$576,MATCH($M227,[1]RELAÇÃO!$AP$1:$AP$576,0),7)))","v":"SPE / CHEFIA DE GABINETE SPE"},"SPE07"]
[null,"Assistente"," DAS 102.2",null,"Excluído pelo Dec. 9675/2019"]
[null,"Assistente","DAS 102.2","ASS",{"$f":"INDEX([1]RELAÇÃO!$A$1:$AQ$576,MATCH($M229,[1]RELAÇÃO!$AP$1:$AP$576,0),1)","v":"BRUNA RODRIGUES DE OLIVEIRA"},{"$f":"IF(E229=0,\"-\",LEFT(INDEX([1]RELAÇÃO!$A$1:$AQ$576,MATCH($M229,[1]RELAÇÃO!$AP$1:$AP$576,0),32),1))","v":"F"},{"$f":"IF(E229=0,\"-\",INDEX([1]RELAÇÃO!$A$1:$AQ$576,MATCH($M229,[1]RELAÇÃO!$AP$1:$AP$576,0),5))","v":"Sem Vínculo"},{"$f":"IF(E229=0,\"-\",INDEX([1]RELAÇÃO!$A$1:$AQ$576,MATCH($M229,[1]RELAÇÃO!$AP$1:$AP$576,0),6))","v":"Sem Vínculo"},{"$f":"IF(E229=0,\"-\",INDEX([1]RELAÇÃO!$A$1:$AQ$576,MATCH($M229,[1]RELAÇÃO!$AP$1:$AP$576,0),12)&INDEX([1]RELAÇÃO!$A$1:$AQ$576,MATCH($M229,[1]RELAÇÃO!$AP$1:$AP$576,0),13)&\", de \"&INDEX([1]RELAÇÃO!$A$1:$AQ$576,MATCH($M229,[1]RELAÇÃO!$AP$1:$AP$576,0),14)&\" - \"&INDEX([1]RELAÇÃO!$A$1:$AQ$576,MATCH($M229,[1]RELAÇÃO!$AP$1:$AP$576,0),16)&\" de \"&INDEX([1]RELAÇÃO!$A$1:$AQ$576,MATCH($M229,[1]RELAÇÃO!$AP$1:$AP$576,0),15))","v":"Portaria nº 566, de 03/11/2016 - DOU de 04/11/2016"},null,null,{"$f":"IF($E229=0,\"-\",IF(INDEX([1]RELAÇÃO!$A$1:$AQ$576,MATCH($M229,[1]RELAÇÃO!$AP$1:$AP$576,0),8)=\"10.000.000\",\"-\",INDEX([1]RELAÇÃO!$A$1:$AQ$576,MATCH($M229,[1]RELAÇÃO!$AP$1:$AP$576,0),7)))","v":"SPE / CHEFIA DE GABINETE SPE"},"SPE08"]
["Departamento de Planejamento Energético","Diretor","DAS 101.5","GER",{"$f":"INDEX([1]RELAÇÃO!$A$1:$AQ$576,MATCH($M230,[1]RELAÇÃO!$AP$1:$AP$576,0),1)","v":"THIAGO GUILHERME FERREIRA PRADO"},{"$f":"IF(E230=0,\"-\",LEFT(INDEX([1]RELAÇÃO!$A$1:$AQ$576,MATCH($M230,[1]RELAÇÃO!$AP$1:$AP$576,0),32),1))","v":"M"},{"$f":"IF(E230=0,\"-\",INDEX([1]RELAÇÃO!$A$1:$AQ$576,MATCH($M230,[1]RELAÇÃO!$AP$1:$AP$576,0),5))","v":"Requisitado de Órgãos"},{"$f":"IF(E230=0,\"-\",INDEX([1]RELAÇÃO!$A$1:$AQ$576,MATCH($M230,[1]RELAÇÃO!$AP$1:$AP$576,0),6))","v":"ANEEL - Agência Nacional de Energia Elétrica"},{"$f":"IF(E230=0,\"-\",INDEX([1]RELAÇÃO!$A$1:$AQ$576,MATCH($M230,[1]RELAÇÃO!$AP$1:$AP$576,0),12)&INDEX([1]RELAÇÃO!$A$1:$AQ$576,MATCH($M230,[1]RELAÇÃO!$AP$1:$AP$576,0),13)&\", de \"&INDEX([1]RELAÇÃO!$A$1:$AQ$576,MATCH($M230,[1]RELAÇÃO!$AP$1:$AP$576,0),14)&\" - \"&INDEX([1]RELAÇÃO!$A$1:$AQ$576,MATCH($M230,[1]RELAÇÃO!$AP$1:$AP$576,0),16)&\" de \"&INDEX([1]RELAÇÃO!$A$1:$AQ$576,MATCH($M230,[1]RELAÇÃO!$AP$1:$AP$576,0),15))","v":"Portaria nº 1358, de 01/03/2019 - DOU de 06/03/2019"},{"$f":"INDEX([1]RELAÇÃO!$A$1:$AQ$576,MATCH($N230,[1]RELAÇÃO!$AQ$1:$AQ$576,0),1)","v":0},{"$f":"IF(J230=0,\"-\",INDEX([1]RELAÇÃO!$A$1:$AQ$576,MATCH($N230,[1]RELAÇÃO!$AQ$1:$AQ$576,0),27)&INDEX([1]RELAÇÃO!$A$1:$AQ$576,MATCH($N230,[1]RELAÇÃO!$AQ$1:$AQ$576,0),28)&\", de \"&INDEX([1]RELAÇÃO!$A$1:$AQ$576,MATCH($N230,[1]RELAÇÃO!$AQ$1:$AQ$576,0),29)&\" - \"&INDEX([1]RELAÇÃO!$A$1:$AQ$576,MATCH($N230,[1]RELAÇÃO!$AQ$1:$AQ$576,0),31)&\" de \"&INDEX([1]RELAÇÃO!$A$1:$AQ$576,MATCH($N230,[1]RELAÇÃO!$AQ$1:$AQ$576,0),30))","v":"-"},{"$f":"IF($E230=0,\"-\",IF(INDEX([1]RELAÇÃO!$A$1:$AQ$576,MATCH($M230,[1]RELAÇÃO!$AP$1:$AP$576,0),8)=\"10.101.000\",\"-\",INDEX([1]RELAÇÃO!$A$1:$AQ$576,MATCH($M230,[1]RELAÇÃO!$AP$1:$AP$576,0),7)))","v":"-"},"SPE09","SPE03S"]
[null,"Assessor","DAS 102.4","ASS",{"$f":"INDEX([1]RELAÇÃO!$A$1:$AQ$576,MATCH($M231,[1]RELAÇÃO!$AP$1:$AP$576,0),1)","v":"LORENA MELO SILVA"},{"$f":"IF(E231=0,\"-\",LEFT(INDEX([1]RELAÇÃO!$A$1:$AQ$576,MATCH($M231,[1]RELAÇÃO!$AP$1:$AP$576,0),32),1))","v":"F"},{"$f":"IF(E231=0,\"-\",INDEX([1]RELAÇÃO!$A$1:$AQ$576,MATCH($M231,[1]RELAÇÃO!$AP$1:$AP$576,0),5))","v":"Exercício Descentralizado"},{"$f":"IF(E231=0,\"-\",INDEX([1]RELAÇÃO!$A$1:$AQ$576,MATCH($M231,[1]RELAÇÃO!$AP$1:$AP$576,0),6))","v":"ME - Ministério da Economia"},{"$f":"IF(E231=0,\"-\",INDEX([1]RELAÇÃO!$A$1:$AQ$576,MATCH($M231,[1]RELAÇÃO!$AP$1:$AP$576,0),12)&INDEX([1]RELAÇÃO!$A$1:$AQ$576,MATCH($M231,[1]RELAÇÃO!$AP$1:$AP$576,0),13)&\", de \"&INDEX([1]RELAÇÃO!$A$1:$AQ$576,MATCH($M231,[1]RELAÇÃO!$AP$1:$AP$576,0),14)&\" - \"&INDEX([1]RELAÇÃO!$A$1:$AQ$576,MATCH($M231,[1]RELAÇÃO!$AP$1:$AP$576,0),16)&\" de \"&INDEX([1]RELAÇÃO!$A$1:$AQ$576,MATCH($M231,[1]RELAÇÃO!$AP$1:$AP$576,0),15))","v":"Portaria nº 197, de 12/04/2019 - DOU de 17/04/2019"},null,null,{"$f":"IF($E231=0,\"-\",IF(INDEX([1]RELAÇÃO!$A$1:$AQ$576,MATCH($M231,[1]RELAÇÃO!$AP$1:$AP$576,0),8)=\"10.101.000\",\"-\",INDEX([1]RELAÇÃO!$A$1:$AQ$576,MATCH($M231,[1]RELAÇÃO!$AP$1:$AP$576,0),7)))","v":"-"},"SPE10"]
[null,"Assessor Técnico","DAS 102.3","ASS",{"$f":"INDEX([1]RELAÇÃO!$A$1:$AQ$576,MATCH($M232,[1]RELAÇÃO!$AP$1:$AP$576,0),1)","v":"GUILHERME ZANETTI ROSA"},{"$f":"IF(E232=0,\"-\",LEFT(INDEX([1]RELAÇÃO!$A$1:$AQ$576,MATCH($M232,[1]RELAÇÃO!$AP$1:$AP$576,0),32),1))","v":"M"},{"$f":"IF(E232=0,\"-\",INDEX([1]RELAÇÃO!$A$1:$AQ$576,MATCH($M232,[1]RELAÇÃO!$AP$1:$AP$576,0),5))","v":"Exercício Descentralizado"},{"$f":"IF(E232=0,\"-\",INDEX([1]RELAÇÃO!$A$1:$AQ$576,MATCH($M232,[1]RELAÇÃO!$AP$1:$AP$576,0),6))","v":"ME - Ministério da Economia"},{"$f":"IF(E232=0,\"-\",INDEX([1]RELAÇÃO!$A$1:$AQ$576,MATCH($M232,[1]RELAÇÃO!$AP$1:$AP$576,0),12)&INDEX([1]RELAÇÃO!$A$1:$AQ$576,MATCH($M232,[1]RELAÇÃO!$AP$1:$AP$576,0),13)&\", de \"&INDEX([1]RELAÇÃO!$A$1:$AQ$576,MATCH($M232,[1]RELAÇÃO!$AP$1:$AP$576,0),14)&\" - \"&INDEX([1]RELAÇÃO!$A$1:$AQ$576,MATCH($M232,[1]RELAÇÃO!$AP$1:$AP$576,0),16)&\" de \"&INDEX([1]RELAÇÃO!$A$1:$AQ$576,MATCH($M232,[1]RELAÇÃO!$AP$1:$AP$576,0),15))","v":"Portaria nº 32, de 29/01/2018 - DOU de 30/01/2018"},null,null,{"$f":"IF($E232=0,\"-\",IF(INDEX([1]RELAÇÃO!$A$1:$AQ$576,MATCH($M232,[1]RELAÇÃO!$AP$1:$AP$576,0),8)=\"10.101.000\",\"-\",INDEX([1]RELAÇÃO!$A$1:$AQ$576,MATCH($M232,[1]RELAÇÃO!$AP$1:$AP$576,0),7)))","v":"SPE / DPE / COORDENAÇÃO GERAL DE PLANEJAMENTO DA TRANSMISSÃO"},"SPE11"]
[null,"Assistente","FCPE 102.2","ASS",{"$f":"INDEX([1]RELAÇÃO!$A$1:$AQ$576,MATCH($M233,[1]RELAÇÃO!$AP$1:$AP$576,0),1)","v":"GILDA MARIA LEITE DA FONSECA"},{"$f":"IF(E233=0,\"-\",LEFT(INDEX([1]RELAÇÃO!$A$1:$AQ$576,MATCH($M233,[1]RELAÇÃO!$AP$1:$AP$576,0),32),1))","v":"F"},{"$f":"IF(E233=0,\"-\",INDEX([1]RELAÇÃO!$A$1:$AQ$576,MATCH($M233,[1]RELAÇÃO!$AP$1:$AP$576,0),5))","v":"Ativo Permanente"},{"$f":"IF(E233=0,\"-\",INDEX([1]RELAÇÃO!$A$1:$AQ$576,MATCH($M233,[1]RELAÇÃO!$AP$1:$AP$576,0),6))","v":"MME - Ministério de Minas e Energia"},{"$f":"IF(E233=0,\"-\",INDEX([1]RELAÇÃO!$A$1:$AQ$576,MATCH($M233,[1]RELAÇÃO!$AP$1:$AP$576,0),12)&INDEX([1]RELAÇÃO!$A$1:$AQ$576,MATCH($M233,[1]RELAÇÃO!$AP$1:$AP$576,0),13)&\", de \"&INDEX([1]RELAÇÃO!$A$1:$AQ$576,MATCH($M233,[1]RELAÇÃO!$AP$1:$AP$576,0),14)&\" - \"&INDEX([1]RELAÇÃO!$A$1:$AQ$576,MATCH($M233,[1]RELAÇÃO!$AP$1:$AP$576,0),16)&\" de \"&INDEX([1]RELAÇÃO!$A$1:$AQ$576,MATCH($M233,[1]RELAÇÃO!$AP$1:$AP$576,0),15))","v":"Portaria nº 524, de 03/11/2016 - BPE de 04/11/2016"},null,null,{"$f":"IF($E233=0,\"-\",IF(INDEX([1]RELAÇÃO!$A$1:$AQ$576,MATCH($M233,[1]RELAÇÃO!$AP$1:$AP$576,0),8)=\"10.101.000\",\"-\",INDEX([1]RELAÇÃO!$A$1:$AQ$576,MATCH($M233,[1]RELAÇÃO!$AP$1:$AP$576,0),7)))","v":"-"},"SPE12"]
["Coordenação-Geral de Planejamento da Transmissão","Coordenador-Geral","DAS 101.4","GER",{"$f":"INDEX([1]RELAÇÃO!$A$1:$AQ$576,MATCH($M234,[1]RELAÇÃO!$AP$1:$AP$576,0),1)","v":"ANTONIO ROBERTO COIMBRA"},{"$f":"IF(E234=0,\"-\",LEFT(INDEX([1]RELAÇÃO!$A$1:$AQ$576,MATCH($M234,[1]RELAÇÃO!$AP$1:$AP$576,0),32),1))","v":"M"},{"$f":"IF(E234=0,\"-\",INDEX([1]RELAÇÃO!$A$1:$AQ$576,MATCH($M234,[1]RELAÇÃO!$AP$1:$AP$576,0),5))","v":"Sem Vínculo"},{"$f":"IF(E234=0,\"-\",INDEX([1]RELAÇÃO!$A$1:$AQ$576,MATCH($M234,[1]RELAÇÃO!$AP$1:$AP$576,0),6))","v":"Sem Vínculo"},{"$f":"IF(E234=0,\"-\",INDEX([1]RELAÇÃO!$A$1:$AQ$576,MATCH($M234,[1]RELAÇÃO!$AP$1:$AP$576,0),12)&INDEX([1]RELAÇÃO!$A$1:$AQ$576,MATCH($M234,[1]RELAÇÃO!$AP$1:$AP$576,0),13)&\", de \"&INDEX([1]RELAÇÃO!$A$1:$AQ$576,MATCH($M234,[1]RELAÇÃO!$AP$1:$AP$576,0),14)&\" - \"&INDEX([1]RELAÇÃO!$A$1:$AQ$576,MATCH($M234,[1]RELAÇÃO!$AP$1:$AP$576,0),16)&\" de \"&INDEX([1]RELAÇÃO!$A$1:$AQ$576,MATCH($M234,[1]RELAÇÃO!$AP$1:$AP$576,0),15))","v":"Portaria nº 157, de 07/03/2019 - DOU de 11/03/2019"},{"$f":"INDEX([1]RELAÇÃO!$A$1:$AQ$576,MATCH($N234,[1]RELAÇÃO!$AQ$1:$AQ$576,0),1)","v":"PAULO ÉRICO RAMOS DE OLIVEIRA"},{"$f":"IF(J234=0,\"-\",INDEX([1]RELAÇÃO!$A$1:$AQ$576,MATCH($N234,[1]RELAÇÃO!$AQ$1:$AQ$576,0),27)&INDEX([1]RELAÇÃO!$A$1:$AQ$576,MATCH($N234,[1]RELAÇÃO!$AQ$1:$AQ$576,0),28)&\", de \"&INDEX([1]RELAÇÃO!$A$1:$AQ$576,MATCH($N234,[1]RELAÇÃO!$AQ$1:$AQ$576,0),29)&\" - \"&INDEX([1]RELAÇÃO!$A$1:$AQ$576,MATCH($N234,[1]RELAÇÃO!$AQ$1:$AQ$576,0),31)&\" de \"&INDEX([1]RELAÇÃO!$A$1:$AQ$576,MATCH($N234,[1]RELAÇÃO!$AQ$1:$AQ$576,0),30))","v":"Portaria nº 635, de 23/11/2016 - DOU de 24/11/2016"},{"$f":"IF($E234=0,\"-\",IF(INDEX([1]RELAÇÃO!$A$1:$AQ$576,MATCH($M234,[1]RELAÇÃO!$AP$1:$AP$576,0),8)=\"10.101.100\",\"-\",INDEX([1]RELAÇÃO!$A$1:$AQ$576,MATCH($M234,[1]RELAÇÃO!$AP$1:$AP$576,0),7)))","v":"-"},"SPE13","SPE04S"]
["Coordenação-Geral de Planejamento da Geração","Coordenador-Geral","DAS 101.4","GER",{"$f":"INDEX([1]RELAÇÃO!$A$1:$AQ$576,MATCH($M235,[1]RELAÇÃO!$AP$1:$AP$576,0),1)","v":"TARITA DA SILVA COSTA"},{"$f":"IF(E235=0,\"-\",LEFT(INDEX([1]RELAÇÃO!$A$1:$AQ$576,MATCH($M235,[1]RELAÇÃO!$AP$1:$AP$576,0),32),1))","v":"F"},{"$f":"IF(E235=0,\"-\",INDEX([1]RELAÇÃO!$A$1:$AQ$576,MATCH($M235,[1]RELAÇÃO!$AP$1:$AP$576,0),5))","v":"Exercício Descentralizado"},{"$f":"IF(E235=0,\"-\",INDEX([1]RELAÇÃO!$A$1:$AQ$576,MATCH($M235,[1]RELAÇÃO!$AP$1:$AP$576,0),6))","v":"ME - Ministério da Economia"},{"$f":"IF(E235=0,\"-\",INDEX([1]RELAÇÃO!$A$1:$AQ$576,MATCH($M235,[1]RELAÇÃO!$AP$1:$AP$576,0),12)&INDEX([1]RELAÇÃO!$A$1:$AQ$576,MATCH($M235,[1]RELAÇÃO!$AP$1:$AP$576,0),13)&\", de \"&INDEX([1]RELAÇÃO!$A$1:$AQ$576,MATCH($M235,[1]RELAÇÃO!$AP$1:$AP$576,0),14)&\" - \"&INDEX([1]RELAÇÃO!$A$1:$AQ$576,MATCH($M235,[1]RELAÇÃO!$AP$1:$AP$576,0),16)&\" de \"&INDEX([1]RELAÇÃO!$A$1:$AQ$576,MATCH($M235,[1]RELAÇÃO!$AP$1:$AP$576,0),15))","v":"Portaria nº 30, de 29/01/2018 - DOU de 30/01/2018"},{"$f":"INDEX([1]RELAÇÃO!$A$1:$AQ$576,MATCH($N235,[1]RELAÇÃO!$AQ$1:$AQ$576,0),1)","v":"LORENA MELO SILVA"},{"$f":"IF(J235=0,\"-\",INDEX([1]RELAÇÃO!$A$1:$AQ$576,MATCH($N235,[1]RELAÇÃO!$AQ$1:$AQ$576,0),27)&INDEX([1]RELAÇÃO!$A$1:$AQ$576,MATCH($N235,[1]RELAÇÃO!$AQ$1:$AQ$576,0),28)&\", de \"&INDEX([1]RELAÇÃO!$A$1:$AQ$576,MATCH($N235,[1]RELAÇÃO!$AQ$1:$AQ$576,0),29)&\" - \"&INDEX([1]RELAÇÃO!$A$1:$AQ$576,MATCH($N235,[1]RELAÇÃO!$AQ$1:$AQ$576,0),31)&\" de \"&INDEX([1]RELAÇÃO!$A$1:$AQ$576,MATCH($N235,[1]RELAÇÃO!$AQ$1:$AQ$576,0),30))","v":"Portaria nº 471, de 17/12/2019 - DOU de 19/12/2019"},{"$f":"IF($E235=0,\"-\",IF(INDEX([1]RELAÇÃO!$A$1:$AQ$576,MATCH($M235,[1]RELAÇÃO!$AP$1:$AP$576,0),8)=\"10.101.200\",\"-\",INDEX([1]RELAÇÃO!$A$1:$AQ$576,MATCH($M235,[1]RELAÇÃO!$AP$1:$AP$576,0),7)))","v":"-"},"SPE14","SPE05S"]
["Coordenação-Geral da Expansão Eletroenergética","Coordenador-Geral","DAS 101.4","GER",{"$f":"INDEX([1]RELAÇÃO!$A$1:$AQ$576,MATCH($M236,[1]RELAÇÃO!$AP$1:$AP$576,0),1)","v":"CASSIO GIULIANI CARVALHO"},{"$f":"IF(E236=0,\"-\",LEFT(INDEX([1]RELAÇÃO!$A$1:$AQ$576,MATCH($M236,[1]RELAÇÃO!$AP$1:$AP$576,0),32),1))","v":"M"},{"$f":"IF(E236=0,\"-\",INDEX([1]RELAÇÃO!$A$1:$AQ$576,MATCH($M236,[1]RELAÇÃO!$AP$1:$AP$576,0),5))","v":"Requisitado de Órgãos"},{"$f":"IF(E236=0,\"-\",INDEX([1]RELAÇÃO!$A$1:$AQ$576,MATCH($M236,[1]RELAÇÃO!$AP$1:$AP$576,0),6))","v":"ANAC - Agência Nacional de Aviação Civil"},{"$f":"IF(E236=0,\"-\",INDEX([1]RELAÇÃO!$A$1:$AQ$576,MATCH($M236,[1]RELAÇÃO!$AP$1:$AP$576,0),12)&INDEX([1]RELAÇÃO!$A$1:$AQ$576,MATCH($M236,[1]RELAÇÃO!$AP$1:$AP$576,0),13)&\", de \"&INDEX([1]RELAÇÃO!$A$1:$AQ$576,MATCH($M236,[1]RELAÇÃO!$AP$1:$AP$576,0),14)&\" - \"&INDEX([1]RELAÇÃO!$A$1:$AQ$576,MATCH($M236,[1]RELAÇÃO!$AP$1:$AP$576,0),16)&\" de \"&INDEX([1]RELAÇÃO!$A$1:$AQ$576,MATCH($M236,[1]RELAÇÃO!$AP$1:$AP$576,0),15))","v":"Portaria nº 156, de 07/03/2019 - DOU de 11/03/2019"},{"$f":"INDEX([1]RELAÇÃO!$A$1:$AQ$576,MATCH($N236,[1]RELAÇÃO!$AQ$1:$AQ$576,0),1)","v":"GUSTAVO CERQUEIRA ATAIDE"},{"$f":"IF(J236=0,\"-\",INDEX([1]RELAÇÃO!$A$1:$AQ$576,MATCH($N236,[1]RELAÇÃO!$AQ$1:$AQ$576,0),27)&INDEX([1]RELAÇÃO!$A$1:$AQ$576,MATCH($N236,[1]RELAÇÃO!$AQ$1:$AQ$576,0),28)&\", de \"&INDEX([1]RELAÇÃO!$A$1:$AQ$576,MATCH($N236,[1]RELAÇÃO!$AQ$1:$AQ$576,0),29)&\" - \"&INDEX([1]RELAÇÃO!$A$1:$AQ$576,MATCH($N236,[1]RELAÇÃO!$AQ$1:$AQ$576,0),31)&\" de \"&INDEX([1]RELAÇÃO!$A$1:$AQ$576,MATCH($N236,[1]RELAÇÃO!$AQ$1:$AQ$576,0),30))","v":"Portaria nº 381, de 21/10/2020 - DOU de 22/10/2020"},{"$f":"IF($E236=0,\"-\",IF(INDEX([1]RELAÇÃO!$A$1:$AQ$576,MATCH($M236,[1]RELAÇÃO!$AP$1:$AP$576,0),8)=\"10.101.300\",\"-\",INDEX([1]RELAÇÃO!$A$1:$AQ$576,MATCH($M236,[1]RELAÇÃO!$AP$1:$AP$576,0),7)))","v":"-"},"SPE15","SPE06S"]
["Departamento de Desenvolvimento Energético","Diretor","DAS 101.5","GER",{"$f":"INDEX([1]RELAÇÃO!$A$1:$AQ$576,MATCH($M237,[1]RELAÇÃO!$AP$1:$AP$576,0),1)","v":"CARLOS ALEXANDRE PRINCIPE PIRES"},{"$f":"IF(E237=0,\"-\",LEFT(INDEX([1]RELAÇÃO!$A$1:$AQ$576,MATCH($M237,[1]RELAÇÃO!$AP$1:$AP$576,0),32),1))","v":"M"},{"$f":"IF(E237=0,\"-\",INDEX([1]RELAÇÃO!$A$1:$AQ$576,MATCH($M237,[1]RELAÇÃO!$AP$1:$AP$576,0),5))","v":"Requisitado de Órgãos"},{"$f":"IF(E237=0,\"-\",INDEX([1]RELAÇÃO!$A$1:$AQ$576,MATCH($M237,[1]RELAÇÃO!$AP$1:$AP$576,0),6))","v":"ME - Ministério da Economia"},{"$f":"IF(E237=0,\"-\",INDEX([1]RELAÇÃO!$A$1:$AQ$576,MATCH($M237,[1]RELAÇÃO!$AP$1:$AP$576,0),12)&INDEX([1]RELAÇÃO!$A$1:$AQ$576,MATCH($M237,[1]RELAÇÃO!$AP$1:$AP$576,0),13)&\", de \"&INDEX([1]RELAÇÃO!$A$1:$AQ$576,MATCH($M237,[1]RELAÇÃO!$AP$1:$AP$576,0),14)&\" - \"&INDEX([1]RELAÇÃO!$A$1:$AQ$576,MATCH($M237,[1]RELAÇÃO!$AP$1:$AP$576,0),16)&\" de \"&INDEX([1]RELAÇÃO!$A$1:$AQ$576,MATCH($M237,[1]RELAÇÃO!$AP$1:$AP$576,0),15))","v":"Portaria nº 2234, de 24/11/2016 - DOU de 25/11/2016"},{"$f":"INDEX([1]RELAÇÃO!$A$1:$AQ$576,MATCH($N237,[1]RELAÇÃO!$AQ$1:$AQ$576,0),1)","v":"LUIS FERNANDO BADANHAN"},{"$f":"IF(J237=0,\"-\",INDEX([1]RELAÇÃO!$A$1:$AQ$576,MATCH($N237,[1]RELAÇÃO!$AQ$1:$AQ$576,0),27)&INDEX([1]RELAÇÃO!$A$1:$AQ$576,MATCH($N237,[1]RELAÇÃO!$AQ$1:$AQ$576,0),28)&\", de \"&INDEX([1]RELAÇÃO!$A$1:$AQ$576,MATCH($N237,[1]RELAÇÃO!$AQ$1:$AQ$576,0),29)&\" - \"&INDEX([1]RELAÇÃO!$A$1:$AQ$576,MATCH($N237,[1]RELAÇÃO!$AQ$1:$AQ$576,0),31)&\" de \"&INDEX([1]RELAÇÃO!$A$1:$AQ$576,MATCH($N237,[1]RELAÇÃO!$AQ$1:$AQ$576,0),30))","v":"Portaria nº 604, de 09/11/2016 - DOU de 10/11/2016"},{"$f":"IF($E237=0,\"-\",IF(INDEX([1]RELAÇÃO!$A$1:$AQ$576,MATCH($M237,[1]RELAÇÃO!$AP$1:$AP$576,0),8)=\"10.102.000\",\"-\",INDEX([1]RELAÇÃO!$A$1:$AQ$576,MATCH($M237,[1]RELAÇÃO!$AP$1:$AP$576,0),7)))","v":"-"},"SPE16","SPE07S"]
[null,"Assistente","DAS 102.2","ASS",{"$f":"INDEX([1]RELAÇÃO!$A$1:$AQ$576,MATCH($M238,[1]RELAÇÃO!$AP$1:$AP$576,0),1)","v":"SANDRA REGINA DE ANDRADE"},{"$f":"IF(E238=0,\"-\",LEFT(INDEX([1]RELAÇÃO!$A$1:$AQ$576,MATCH($M238,[1]RELAÇÃO!$AP$1:$AP$576,0),32),1))","v":"F"},{"$f":"IF(E238=0,\"-\",INDEX([1]RELAÇÃO!$A$1:$AQ$576,MATCH($M238,[1]RELAÇÃO!$AP$1:$AP$576,0),5))","v":"Sem Vínculo"},{"$f":"IF(E238=0,\"-\",INDEX([1]RELAÇÃO!$A$1:$AQ$576,MATCH($M238,[1]RELAÇÃO!$AP$1:$AP$576,0),6))","v":"Sem Vínculo"},{"$f":"IF(E238=0,\"-\",INDEX([1]RELAÇÃO!$A$1:$AQ$576,MATCH($M238,[1]RELAÇÃO!$AP$1:$AP$576,0),12)&INDEX([1]RELAÇÃO!$A$1:$AQ$576,MATCH($M238,[1]RELAÇÃO!$AP$1:$AP$576,0),13)&\", de \"&INDEX([1]RELAÇÃO!$A$1:$AQ$576,MATCH($M238,[1]RELAÇÃO!$AP$1:$AP$576,0),14)&\" - \"&INDEX([1]RELAÇÃO!$A$1:$AQ$576,MATCH($M238,[1]RELAÇÃO!$AP$1:$AP$576,0),16)&\" de \"&INDEX([1]RELAÇÃO!$A$1:$AQ$576,MATCH($M238,[1]RELAÇÃO!$AP$1:$AP$576,0),15))","v":"Portaria nº 567, de 03/11/2016 - DOU de 04/11/2016"},null,null,{"$f":"IF($E238=0,\"-\",IF(INDEX([1]RELAÇÃO!$A$1:$AQ$576,MATCH($M238,[1]RELAÇÃO!$AP$1:$AP$576,0),8)=\"10.102.000\",\"-\",INDEX([1]RELAÇÃO!$A$1:$AQ$576,MATCH($M238,[1]RELAÇÃO!$AP$1:$AP$576,0),7)))","v":"SPE / CHEFIA DE GABINETE SPE"},"SPE17"]
[null,"Assistente","FCPE 102.2","ASS",{"$f":"INDEX([1]RELAÇÃO!$A$1:$AQ$576,MATCH($M239,[1]RELAÇÃO!$AP$1:$AP$576,0),1)","v":"MARY PACHECO DE SOUZA"},{"$f":"IF(E239=0,\"-\",LEFT(INDEX([1]RELAÇÃO!$A$1:$AQ$576,MATCH($M239,[1]RELAÇÃO!$AP$1:$AP$576,0),32),1))","v":"F"},{"$f":"IF(E239=0,\"-\",INDEX([1]RELAÇÃO!$A$1:$AQ$576,MATCH($M239,[1]RELAÇÃO!$AP$1:$AP$576,0),5))","v":"Ativo Permanente"},{"$f":"IF(E239=0,\"-\",INDEX([1]RELAÇÃO!$A$1:$AQ$576,MATCH($M239,[1]RELAÇÃO!$AP$1:$AP$576,0),6))","v":"MME - Ministério de Minas e Energia"},{"$f":"IF(E239=0,\"-\",INDEX([1]RELAÇÃO!$A$1:$AQ$576,MATCH($M239,[1]RELAÇÃO!$AP$1:$AP$576,0),12)&INDEX([1]RELAÇÃO!$A$1:$AQ$576,MATCH($M239,[1]RELAÇÃO!$AP$1:$AP$576,0),13)&\", de \"&INDEX([1]RELAÇÃO!$A$1:$AQ$576,MATCH($M239,[1]RELAÇÃO!$AP$1:$AP$576,0),14)&\" - \"&INDEX([1]RELAÇÃO!$A$1:$AQ$576,MATCH($M239,[1]RELAÇÃO!$AP$1:$AP$576,0),16)&\" de \"&INDEX([1]RELAÇÃO!$A$1:$AQ$576,MATCH($M239,[1]RELAÇÃO!$AP$1:$AP$576,0),15))","v":"Portaria nº 137, de 18/02/2019 - DOU de 22/02/2019"},null,null,{"$f":"IF($E239=0,\"-\",IF(INDEX([1]RELAÇÃO!$A$1:$AQ$576,MATCH($M239,[1]RELAÇÃO!$AP$1:$AP$576,0),8)=\"10.102.000\",\"-\",INDEX([1]RELAÇÃO!$A$1:$AQ$576,MATCH($M239,[1]RELAÇÃO!$AP$1:$AP$576,0),7)))","v":"SPE / CHEFIA DE GABINETE SPE"},"SPE18"]
["Coordenação-Geral de Eficiência Energética","Coordenador-Geral","DAS 101.4","GER",{"$f":"INDEX([1]RELAÇÃO!$A$1:$AQ$576,MATCH($M240,[1]RELAÇÃO!$AP$1:$AP$576,0),1)","v":"SAMIRA SANA FERNANDES DE SOUSA CARMO"},{"$f":"IF(E240=0,\"-\",LEFT(INDEX([1]RELAÇÃO!$A$1:$AQ$576,MATCH($M240,[1]RELAÇÃO!$AP$1:$AP$576,0),32),1))","v":"F"},{"$f":"IF(E240=0,\"-\",INDEX([1]RELAÇÃO!$A$1:$AQ$576,MATCH($M240,[1]RELAÇÃO!$AP$1:$AP$576,0),5))","v":"Requisitado de Órgãos"},{"$f":"IF(E240=0,\"-\",INDEX([1]RELAÇÃO!$A$1:$AQ$576,MATCH($M240,[1]RELAÇÃO!$AP$1:$AP$576,0),6))","v":"ME - Ministério da Economia"},{"$f":"IF(E240=0,\"-\",INDEX([1]RELAÇÃO!$A$1:$AQ$576,MATCH($M240,[1]RELAÇÃO!$AP$1:$AP$576,0),12)&INDEX([1]RELAÇÃO!$A$1:$AQ$576,MATCH($M240,[1]RELAÇÃO!$AP$1:$AP$576,0),13)&\", de \"&INDEX([1]RELAÇÃO!$A$1:$AQ$576,MATCH($M240,[1]RELAÇÃO!$AP$1:$AP$576,0),14)&\" - \"&INDEX([1]RELAÇÃO!$A$1:$AQ$576,MATCH($M240,[1]RELAÇÃO!$AP$1:$AP$576,0),16)&\" de \"&INDEX([1]RELAÇÃO!$A$1:$AQ$576,MATCH($M240,[1]RELAÇÃO!$AP$1:$AP$576,0),15))","v":"Portaria nº 66, de 01/03/2018 - DOU de 02/03/2018"},{"$f":"INDEX([1]RELAÇÃO!$A$1:$AQ$576,MATCH($N240,[1]RELAÇÃO!$AQ$1:$AQ$576,0),1)","v":"ALEXANDRA ALBUQUERQUE MACIEL"},{"$f":"IF(J240=0,\"-\",INDEX([1]RELAÇÃO!$A$1:$AQ$576,MATCH($N240,[1]RELAÇÃO!$AQ$1:$AQ$576,0),27)&INDEX([1]RELAÇÃO!$A$1:$AQ$576,MATCH($N240,[1]RELAÇÃO!$AQ$1:$AQ$576,0),28)&\", de \"&INDEX([1]RELAÇÃO!$A$1:$AQ$576,MATCH($N240,[1]RELAÇÃO!$AQ$1:$AQ$576,0),29)&\" - \"&INDEX([1]RELAÇÃO!$A$1:$AQ$576,MATCH($N240,[1]RELAÇÃO!$AQ$1:$AQ$576,0),31)&\" de \"&INDEX([1]RELAÇÃO!$A$1:$AQ$576,MATCH($N240,[1]RELAÇÃO!$AQ$1:$AQ$576,0),30))","v":"Portaria nº 316, de 14/08/2019 - DOU de 15/08/2019"},{"$f":"IF($E240=0,\"-\",IF(INDEX([1]RELAÇÃO!$A$1:$AQ$576,MATCH($M240,[1]RELAÇÃO!$AP$1:$AP$576,0),8)=\"10.102.100\",\"-\",INDEX([1]RELAÇÃO!$A$1:$AQ$576,MATCH($M240,[1]RELAÇÃO!$AP$1:$AP$576,0),7)))","v":"-"},"SPE19","SPE08S"]
["Coordenação-Geral Sustentabilidade Ambiental do Setor Energético","Coordenador-Geral","FCPE 101.4","GER",{"$f":"INDEX([1]RELAÇÃO!$A$1:$AQ$576,MATCH($M241,[1]RELAÇÃO!$AP$1:$AP$576,0),1)","v":"LUIS FERNANDO BADANHAN"},{"$f":"IF(E241=0,\"-\",LEFT(INDEX([1]RELAÇÃO!$A$1:$AQ$576,MATCH($M241,[1]RELAÇÃO!$AP$1:$AP$576,0),32),1))","v":"M"},{"$f":"IF(E241=0,\"-\",INDEX([1]RELAÇÃO!$A$1:$AQ$576,MATCH($M241,[1]RELAÇÃO!$AP$1:$AP$576,0),5))","v":"Exercício Descentralizado"},{"$f":"IF(E241=0,\"-\",INDEX([1]RELAÇÃO!$A$1:$AQ$576,MATCH($M241,[1]RELAÇÃO!$AP$1:$AP$576,0),6))","v":"ME - Ministério da Economia"},{"$f":"IF(E241=0,\"-\",INDEX([1]RELAÇÃO!$A$1:$AQ$576,MATCH($M241,[1]RELAÇÃO!$AP$1:$AP$576,0),12)&INDEX([1]RELAÇÃO!$A$1:$AQ$576,MATCH($M241,[1]RELAÇÃO!$AP$1:$AP$576,0),13)&\", de \"&INDEX([1]RELAÇÃO!$A$1:$AQ$576,MATCH($M241,[1]RELAÇÃO!$AP$1:$AP$576,0),14)&\" - \"&INDEX([1]RELAÇÃO!$A$1:$AQ$576,MATCH($M241,[1]RELAÇÃO!$AP$1:$AP$576,0),16)&\" de \"&INDEX([1]RELAÇÃO!$A$1:$AQ$576,MATCH($M241,[1]RELAÇÃO!$AP$1:$AP$576,0),15))","v":"Portaria nº 524, de 03/11/2016 - BPE de 04/11/2016"},{"$f":"INDEX([1]RELAÇÃO!$A$1:$AQ$576,MATCH($N241,[1]RELAÇÃO!$AQ$1:$AQ$576,0),1)","v":"VALDIR BORGES SOUZA JUNIOR"},{"$f":"IF(J241=0,\"-\",INDEX([1]RELAÇÃO!$A$1:$AQ$576,MATCH($N241,[1]RELAÇÃO!$AQ$1:$AQ$576,0),27)&INDEX([1]RELAÇÃO!$A$1:$AQ$576,MATCH($N241,[1]RELAÇÃO!$AQ$1:$AQ$576,0),28)&\", de \"&INDEX([1]RELAÇÃO!$A$1:$AQ$576,MATCH($N241,[1]RELAÇÃO!$AQ$1:$AQ$576,0),29)&\" - \"&INDEX([1]RELAÇÃO!$A$1:$AQ$576,MATCH($N241,[1]RELAÇÃO!$AQ$1:$AQ$576,0),31)&\" de \"&INDEX([1]RELAÇÃO!$A$1:$AQ$576,MATCH($N241,[1]RELAÇÃO!$AQ$1:$AQ$576,0),30))","v":"Portaria nº 704, de 13/12/2016 - DOU de 14/12/2016"},{"$f":"IF($E241=0,\"-\",IF(INDEX([1]RELAÇÃO!$A$1:$AQ$576,MATCH($M241,[1]RELAÇÃO!$AP$1:$AP$576,0),8)=\"10.102.200\",\"-\",INDEX([1]RELAÇÃO!$A$1:$AQ$576,MATCH($M241,[1]RELAÇÃO!$AP$1:$AP$576,0),7)))","v":"-"},"SPE20","SPE09S"]
["Coordenação-Geral de Fontes Alternativas","Coordenador-Geral","DAS 101.4","GER",{"$f":"INDEX([1]RELAÇÃO!$A$1:$AQ$576,MATCH($M242,[1]RELAÇÃO!$AP$1:$AP$576,0),1)","v":"LIVIO TEIXEIRA DE ANDRADE FILHO"},{"$f":"IF(E242=0,\"-\",LEFT(INDEX([1]RELAÇÃO!$A$1:$AQ$576,MATCH($M242,[1]RELAÇÃO!$AP$1:$AP$576,0),32),1))","v":"M"},{"$f":"IF(E242=0,\"-\",INDEX([1]RELAÇÃO!$A$1:$AQ$576,MATCH($M242,[1]RELAÇÃO!$AP$1:$AP$576,0),5))","v":"Exercício Descentralizado"},{"$f":"IF(E242=0,\"-\",INDEX([1]RELAÇÃO!$A$1:$AQ$576,MATCH($M242,[1]RELAÇÃO!$AP$1:$AP$576,0),6))","v":"ME - Ministério da Economia"},{"$f":"IF(E242=0,\"-\",INDEX([1]RELAÇÃO!$A$1:$AQ$576,MATCH($M242,[1]RELAÇÃO!$AP$1:$AP$576,0),12)&INDEX([1]RELAÇÃO!$A$1:$AQ$576,MATCH($M242,[1]RELAÇÃO!$AP$1:$AP$576,0),13)&\", de \"&INDEX([1]RELAÇÃO!$A$1:$AQ$576,MATCH($M242,[1]RELAÇÃO!$AP$1:$AP$576,0),14)&\" - \"&INDEX([1]RELAÇÃO!$A$1:$AQ$576,MATCH($M242,[1]RELAÇÃO!$AP$1:$AP$576,0),16)&\" de \"&INDEX([1]RELAÇÃO!$A$1:$AQ$576,MATCH($M242,[1]RELAÇÃO!$AP$1:$AP$576,0),15))","v":"Portaria nº 568, de 03/11/2016 - DOU de 04/11/2016"},{"$f":"INDEX([1]RELAÇÃO!$A$1:$AQ$576,MATCH($N242,[1]RELAÇÃO!$AQ$1:$AQ$576,0),1)","v":0},{"$f":"IF(J242=0,\"-\",INDEX([1]RELAÇÃO!$A$1:$AQ$576,MATCH($N242,[1]RELAÇÃO!$AQ$1:$AQ$576,0),27)&INDEX([1]RELAÇÃO!$A$1:$AQ$576,MATCH($N242,[1]RELAÇÃO!$AQ$1:$AQ$576,0),28)&\", de \"&INDEX([1]RELAÇÃO!$A$1:$AQ$576,MATCH($N242,[1]RELAÇÃO!$AQ$1:$AQ$576,0),29)&\" - \"&INDEX([1]RELAÇÃO!$A$1:$AQ$576,MATCH($N242,[1]RELAÇÃO!$AQ$1:$AQ$576,0),31)&\" de \"&INDEX([1]RELAÇÃO!$A$1:$AQ$576,MATCH($N242,[1]RELAÇÃO!$AQ$1:$AQ$576,0),30))","v":"-"},{"$f":"IF($E242=0,\"-\",IF(INDEX([1]RELAÇÃO!$A$1:$AQ$576,MATCH($M242,[1]RELAÇÃO!$AP$1:$AP$576,0),8)=\"10.102.300\",\"-\",INDEX([1]RELAÇÃO!$A$1:$AQ$576,MATCH($M242,[1]RELAÇÃO!$AP$1:$AP$576,0),7)))","v":"-"},"SPE21","SPE10S"]
["Departamento de Outorgas de Concessões, Permissões e Autorizações","Diretor","DAS 101.5","GER",{"$f":"INDEX([1]RELAÇÃO!$A$1:$AQ$576,MATCH($M243,[1]RELAÇÃO!$AP$1:$AP$576,0),1)","v":"ANDRE KRAUSS QUEIROZ"},{"$f":"IF(E243=0,\"-\",LEFT(INDEX([1]RELAÇÃO!$A$1:$AQ$576,MATCH($M243,[1]RELAÇÃO!$AP$1:$AP$576,0),32),1))","v":"M"},{"$f":"IF(E243=0,\"-\",INDEX([1]RELAÇÃO!$A$1:$AQ$576,MATCH($M243,[1]RELAÇÃO!$AP$1:$AP$576,0),5))","v":"Exercício Descentralizado"},{"$f":"IF(E243=0,\"-\",INDEX([1]RELAÇÃO!$A$1:$AQ$576,MATCH($M243,[1]RELAÇÃO!$AP$1:$AP$576,0),6))","v":"ME - Ministério da Economia"},{"$f":"IF(E243=0,\"-\",INDEX([1]RELAÇÃO!$A$1:$AQ$576,MATCH($M243,[1]RELAÇÃO!$AP$1:$AP$576,0),12)&INDEX([1]RELAÇÃO!$A$1:$AQ$576,MATCH($M243,[1]RELAÇÃO!$AP$1:$AP$576,0),13)&\", de \"&INDEX([1]RELAÇÃO!$A$1:$AQ$576,MATCH($M243,[1]RELAÇÃO!$AP$1:$AP$576,0),14)&\" - \"&INDEX([1]RELAÇÃO!$A$1:$AQ$576,MATCH($M243,[1]RELAÇÃO!$AP$1:$AP$576,0),16)&\" de \"&INDEX([1]RELAÇÃO!$A$1:$AQ$576,MATCH($M243,[1]RELAÇÃO!$AP$1:$AP$576,0),15))","v":"Portaria nº 1035, de 13/11/2017 - DOU de 14/11/2017"},{"$f":"INDEX([1]RELAÇÃO!$A$1:$AQ$576,MATCH($N243,[1]RELAÇÃO!$AQ$1:$AQ$576,0),1)","v":"MAURICIO DE OLIVEIRA ABI CHAIN"},{"$f":"IF(J243=0,\"-\",INDEX([1]RELAÇÃO!$A$1:$AQ$576,MATCH($N243,[1]RELAÇÃO!$AQ$1:$AQ$576,0),27)&INDEX([1]RELAÇÃO!$A$1:$AQ$576,MATCH($N243,[1]RELAÇÃO!$AQ$1:$AQ$576,0),28)&\", de \"&INDEX([1]RELAÇÃO!$A$1:$AQ$576,MATCH($N243,[1]RELAÇÃO!$AQ$1:$AQ$576,0),29)&\" - \"&INDEX([1]RELAÇÃO!$A$1:$AQ$576,MATCH($N243,[1]RELAÇÃO!$AQ$1:$AQ$576,0),31)&\" de \"&INDEX([1]RELAÇÃO!$A$1:$AQ$576,MATCH($N243,[1]RELAÇÃO!$AQ$1:$AQ$576,0),30))","v":"Portaria nº 279, de 26/08/2008 - DOU de 27/08/2008"},{"$f":"IF($E243=0,\"-\",IF(INDEX([1]RELAÇÃO!$A$1:$AQ$576,MATCH($M243,[1]RELAÇÃO!$AP$1:$AP$576,0),8)=\"10.103.000\",\"-\",INDEX([1]RELAÇÃO!$A$1:$AQ$576,MATCH($M243,[1]RELAÇÃO!$AP$1:$AP$576,0),7)))","v":"-"},"SPE22","SPE11S"]
[null,"Assistente","DAS 102.2","ASS",{"$f":"INDEX([1]RELAÇÃO!$A$1:$AQ$576,MATCH($M244,[1]RELAÇÃO!$AP$1:$AP$576,0),1)","v":"JULIANA PEREIRA DA SILVA"},{"$f":"IF(E244=0,\"-\",LEFT(INDEX([1]RELAÇÃO!$A$1:$AQ$576,MATCH($M244,[1]RELAÇÃO!$AP$1:$AP$576,0),32),1))","v":"F"},{"$f":"IF(E244=0,\"-\",INDEX([1]RELAÇÃO!$A$1:$AQ$576,MATCH($M244,[1]RELAÇÃO!$AP$1:$AP$576,0),5))","v":"Sem Vínculo"},{"$f":"IF(E244=0,\"-\",INDEX([1]RELAÇÃO!$A$1:$AQ$576,MATCH($M244,[1]RELAÇÃO!$AP$1:$AP$576,0),6))","v":"Sem Vínculo"},{"$f":"IF(E244=0,\"-\",INDEX([1]RELAÇÃO!$A$1:$AQ$576,MATCH($M244,[1]RELAÇÃO!$AP$1:$AP$576,0),12)&INDEX([1]RELAÇÃO!$A$1:$AQ$576,MATCH($M244,[1]RELAÇÃO!$AP$1:$AP$576,0),13)&\", de \"&INDEX([1]RELAÇÃO!$A$1:$AQ$576,MATCH($M244,[1]RELAÇÃO!$AP$1:$AP$576,0),14)&\" - \"&INDEX([1]RELAÇÃO!$A$1:$AQ$576,MATCH($M244,[1]RELAÇÃO!$AP$1:$AP$576,0),16)&\" de \"&INDEX([1]RELAÇÃO!$A$1:$AQ$576,MATCH($M244,[1]RELAÇÃO!$AP$1:$AP$576,0),15))","v":"Portaria nº 524, de 03/11/2016 - BPE de 04/11/2016"},null,null,{"$f":"IF($E244=0,\"-\",IF(INDEX([1]RELAÇÃO!$A$1:$AQ$576,MATCH($M244,[1]RELAÇÃO!$AP$1:$AP$576,0),8)=\"10.103.000\",\"-\",INDEX([1]RELAÇÃO!$A$1:$AQ$576,MATCH($M244,[1]RELAÇÃO!$AP$1:$AP$576,0),7)))","v":"-"},"SPE23"]
[null,"Assistente","FCPE 102.2","ASS",{"$f":"INDEX([1]RELAÇÃO!$A$1:$AQ$576,MATCH($M245,[1]RELAÇÃO!$AP$1:$AP$576,0),1)","v":"ROGÉRIO GUEDES DA SILVA"},{"$f":"IF(E245=0,\"-\",LEFT(INDEX([1]RELAÇÃO!$A$1:$AQ$576,MATCH($M245,[1]RELAÇÃO!$AP$1:$AP$576,0),32),1))","v":"M"},{"$f":"IF(E245=0,\"-\",INDEX([1]RELAÇÃO!$A$1:$AQ$576,MATCH($M245,[1]RELAÇÃO!$AP$1:$AP$576,0),5))","v":"Exercício Descentralizado"},{"$f":"IF(E245=0,\"-\",INDEX([1]RELAÇÃO!$A$1:$AQ$576,MATCH($M245,[1]RELAÇÃO!$AP$1:$AP$576,0),6))","v":"ME - Ministério da Economia"},{"$f":"IF(E245=0,\"-\",INDEX([1]RELAÇÃO!$A$1:$AQ$576,MATCH($M245,[1]RELAÇÃO!$AP$1:$AP$576,0),12)&INDEX([1]RELAÇÃO!$A$1:$AQ$576,MATCH($M245,[1]RELAÇÃO!$AP$1:$AP$576,0),13)&\", de \"&INDEX([1]RELAÇÃO!$A$1:$AQ$576,MATCH($M245,[1]RELAÇÃO!$AP$1:$AP$576,0),14)&\" - \"&INDEX([1]RELAÇÃO!$A$1:$AQ$576,MATCH($M245,[1]RELAÇÃO!$AP$1:$AP$576,0),16)&\" de \"&INDEX([1]RELAÇÃO!$A$1:$AQ$576,MATCH($M245,[1]RELAÇÃO!$AP$1:$AP$576,0),15))","v":"Portaria nº 455, de 23/11/2017 - DOU de 27/11/2017"},null,null,{"$f":"IF($E245=0,\"-\",IF(INDEX([1]RELAÇÃO!$A$1:$AQ$576,MATCH($M245,[1]RELAÇÃO!$AP$1:$AP$576,0),8)=\"10.103.000\",\"-\",INDEX([1]RELAÇÃO!$A$1:$AQ$576,MATCH($M245,[1]RELAÇÃO!$AP$1:$AP$576,0),7)))","v":"SPE / DOC / COORDENAÇÃO GERAL DE OUTORGAS DE SERVIÇOS DE TRANSMISSÃO E DISTRIBUIÇÃO DE ENERGIA"},"SPE24"]
["Coordenação-Geral de Outorgas de Geração de Energia Elétrica","Coordenador-Geral","DAS 101.4","GER",{"$f":"INDEX([1]RELAÇÃO!$A$1:$AQ$576,MATCH($M246,[1]RELAÇÃO!$AP$1:$AP$576,0),1)","v":"ROGERIO SOUZA TAVARES"},{"$f":"IF(E246=0,\"-\",LEFT(INDEX([1]RELAÇÃO!$A$1:$AQ$576,MATCH($M246,[1]RELAÇÃO!$AP$1:$AP$576,0),32),1))","v":"M"},{"$f":"IF(E246=0,\"-\",INDEX([1]RELAÇÃO!$A$1:$AQ$576,MATCH($M246,[1]RELAÇÃO!$AP$1:$AP$576,0),5))","v":"Exercício Descentralizado"},{"$f":"IF(E246=0,\"-\",INDEX([1]RELAÇÃO!$A$1:$AQ$576,MATCH($M246,[1]RELAÇÃO!$AP$1:$AP$576,0),6))","v":"ME - Ministério da Economia"},{"$f":"IF(E246=0,\"-\",INDEX([1]RELAÇÃO!$A$1:$AQ$576,MATCH($M246,[1]RELAÇÃO!$AP$1:$AP$576,0),12)&INDEX([1]RELAÇÃO!$A$1:$AQ$576,MATCH($M246,[1]RELAÇÃO!$AP$1:$AP$576,0),13)&\", de \"&INDEX([1]RELAÇÃO!$A$1:$AQ$576,MATCH($M246,[1]RELAÇÃO!$AP$1:$AP$576,0),14)&\" - \"&INDEX([1]RELAÇÃO!$A$1:$AQ$576,MATCH($M246,[1]RELAÇÃO!$AP$1:$AP$576,0),16)&\" de \"&INDEX([1]RELAÇÃO!$A$1:$AQ$576,MATCH($M246,[1]RELAÇÃO!$AP$1:$AP$576,0),15))","v":"Portaria nº 4, de 08/01/2018 - DOU de 10/01/2018"},{"$f":"INDEX([1]RELAÇÃO!$A$1:$AQ$576,MATCH($N246,[1]RELAÇÃO!$AQ$1:$AQ$576,0),1)","v":"ANTONIO DANTAS DE ALENCAR"},{"$f":"IF(J246=0,\"-\",INDEX([1]RELAÇÃO!$A$1:$AQ$576,MATCH($N246,[1]RELAÇÃO!$AQ$1:$AQ$576,0),27)&INDEX([1]RELAÇÃO!$A$1:$AQ$576,MATCH($N246,[1]RELAÇÃO!$AQ$1:$AQ$576,0),28)&\", de \"&INDEX([1]RELAÇÃO!$A$1:$AQ$576,MATCH($N246,[1]RELAÇÃO!$AQ$1:$AQ$576,0),29)&\" - \"&INDEX([1]RELAÇÃO!$A$1:$AQ$576,MATCH($N246,[1]RELAÇÃO!$AQ$1:$AQ$576,0),31)&\" de \"&INDEX([1]RELAÇÃO!$A$1:$AQ$576,MATCH($N246,[1]RELAÇÃO!$AQ$1:$AQ$576,0),30))","v":"Portaria nº 327, de 10/08/2018 - DOU de 15/08/2018"},{"$f":"IF($E246=0,\"-\",IF(INDEX([1]RELAÇÃO!$A$1:$AQ$576,MATCH($M246,[1]RELAÇÃO!$AP$1:$AP$576,0),8)=\"10.103.100\",\"-\",INDEX([1]RELAÇÃO!$A$1:$AQ$576,MATCH($M246,[1]RELAÇÃO!$AP$1:$AP$576,0),7)))","v":"-"},"SPE25","SPE12S"]
["Coordenação-Geral de Outorgas de Serviços de Transmissão e Distribuição de Energia Elétrica","Coordenador-Geral","DAS 101.4","GER",{"$f":"INDEX([1]RELAÇÃO!$A$1:$AQ$576,MATCH($M247,[1]RELAÇÃO!$AP$1:$AP$576,0),1)","v":"MAURICIO DE OLIVEIRA ABI CHAIN"},{"$f":"IF(E247=0,\"-\",LEFT(INDEX([1]RELAÇÃO!$A$1:$AQ$576,MATCH($M247,[1]RELAÇÃO!$AP$1:$AP$576,0),32),1))","v":"M"},{"$f":"IF(E247=0,\"-\",INDEX([1]RELAÇÃO!$A$1:$AQ$576,MATCH($M247,[1]RELAÇÃO!$AP$1:$AP$576,0),5))","v":"Exercício Descentralizado"},{"$f":"IF(E247=0,\"-\",INDEX([1]RELAÇÃO!$A$1:$AQ$576,MATCH($M247,[1]RELAÇÃO!$AP$1:$AP$576,0),6))","v":"ME - Ministério da Economia"},{"$f":"IF(E247=0,\"-\",INDEX([1]RELAÇÃO!$A$1:$AQ$576,MATCH($M247,[1]RELAÇÃO!$AP$1:$AP$576,0),12)&INDEX([1]RELAÇÃO!$A$1:$AQ$576,MATCH($M247,[1]RELAÇÃO!$AP$1:$AP$576,0),13)&\", de \"&INDEX([1]RELAÇÃO!$A$1:$AQ$576,MATCH($M247,[1]RELAÇÃO!$AP$1:$AP$576,0),14)&\" - \"&INDEX([1]RELAÇÃO!$A$1:$AQ$576,MATCH($M247,[1]RELAÇÃO!$AP$1:$AP$576,0),16)&\" de \"&INDEX([1]RELAÇÃO!$A$1:$AQ$576,MATCH($M247,[1]RELAÇÃO!$AP$1:$AP$576,0),15))","v":"Portaria nº 524, de 03/11/2016 - BPE de 04/11/2016"},{"$f":"INDEX([1]RELAÇÃO!$A$1:$AQ$576,MATCH($N247,[1]RELAÇÃO!$AQ$1:$AQ$576,0),1)","v":"ROGÉRIO GUEDES DA SILVA"},{"$f":"IF(J247=0,\"-\",INDEX([1]RELAÇÃO!$A$1:$AQ$576,MATCH($N247,[1]RELAÇÃO!$AQ$1:$AQ$576,0),27)&INDEX([1]RELAÇÃO!$A$1:$AQ$576,MATCH($N247,[1]RELAÇÃO!$AQ$1:$AQ$576,0),28)&\", de \"&INDEX([1]RELAÇÃO!$A$1:$AQ$576,MATCH($N247,[1]RELAÇÃO!$AQ$1:$AQ$576,0),29)&\" - \"&INDEX([1]RELAÇÃO!$A$1:$AQ$576,MATCH($N247,[1]RELAÇÃO!$AQ$1:$AQ$576,0),31)&\" de \"&INDEX([1]RELAÇÃO!$A$1:$AQ$576,MATCH($N247,[1]RELAÇÃO!$AQ$1:$AQ$576,0),30))","v":"Portaria nº 279, de 05/07/2019 - DOU de 11/07/2019"},{"$f":"IF($E247=0,\"-\",IF(INDEX([1]RELAÇÃO!$A$1:$AQ$576,MATCH($M247,[1]RELAÇÃO!$AP$1:$AP$576,0),8)=\"10.103.200\",\"-\",INDEX([1]RELAÇÃO!$A$1:$AQ$576,MATCH($M247,[1]RELAÇÃO!$AP$1:$AP$576,0),7)))","v":"-"},"SPE26","SPE13S"]
["Departamento de Informações e Estudos Energéticos","Diretor","DAS 101.5","GER",{"$f":"INDEX([1]RELAÇÃO!$A$1:$AQ$576,MATCH($M248,[1]RELAÇÃO!$AP$1:$AP$576,0),1)","v":"ANDRE LUIZ RODRIGUES OSORIO"},{"$f":"IF(E248=0,\"-\",LEFT(INDEX([1]RELAÇÃO!$A$1:$AQ$576,MATCH($M248,[1]RELAÇÃO!$AP$1:$AP$576,0),32),1))","v":"M"},{"$f":"IF(E248=0,\"-\",INDEX([1]RELAÇÃO!$A$1:$AQ$576,MATCH($M248,[1]RELAÇÃO!$AP$1:$AP$576,0),5))","v":"Requisitado de Órgãos"},{"$f":"IF(E248=0,\"-\",INDEX([1]RELAÇÃO!$A$1:$AQ$576,MATCH($M248,[1]RELAÇÃO!$AP$1:$AP$576,0),6))","v":"EPE - Empresa de Pesquisa Energética"},{"$f":"IF(E248=0,\"-\",INDEX([1]RELAÇÃO!$A$1:$AQ$576,MATCH($M248,[1]RELAÇÃO!$AP$1:$AP$576,0),12)&INDEX([1]RELAÇÃO!$A$1:$AQ$576,MATCH($M248,[1]RELAÇÃO!$AP$1:$AP$576,0),13)&\", de \"&INDEX([1]RELAÇÃO!$A$1:$AQ$576,MATCH($M248,[1]RELAÇÃO!$AP$1:$AP$576,0),14)&\" - \"&INDEX([1]RELAÇÃO!$A$1:$AQ$576,MATCH($M248,[1]RELAÇÃO!$AP$1:$AP$576,0),16)&\" de \"&INDEX([1]RELAÇÃO!$A$1:$AQ$576,MATCH($M248,[1]RELAÇÃO!$AP$1:$AP$576,0),15))","v":"Portaria nº 1552, de 11/04/2019 - DOU de 12/04/2019"},{"$f":"INDEX([1]RELAÇÃO!$A$1:$AQ$576,MATCH($N248,[1]RELAÇÃO!$AQ$1:$AQ$576,0),1)","v":"RODOLFO ZAMIAN DANILOW"},{"$f":"IF(J248=0,\"-\",INDEX([1]RELAÇÃO!$A$1:$AQ$576,MATCH($N248,[1]RELAÇÃO!$AQ$1:$AQ$576,0),27)&INDEX([1]RELAÇÃO!$A$1:$AQ$576,MATCH($N248,[1]RELAÇÃO!$AQ$1:$AQ$576,0),28)&\", de \"&INDEX([1]RELAÇÃO!$A$1:$AQ$576,MATCH($N248,[1]RELAÇÃO!$AQ$1:$AQ$576,0),29)&\" - \"&INDEX([1]RELAÇÃO!$A$1:$AQ$576,MATCH($N248,[1]RELAÇÃO!$AQ$1:$AQ$576,0),31)&\" de \"&INDEX([1]RELAÇÃO!$A$1:$AQ$576,MATCH($N248,[1]RELAÇÃO!$AQ$1:$AQ$576,0),30))","v":"Portaria nº 308, de 02/08/2019 - DOU de 09/08/2019"},{"$f":"IF($E248=0,\"-\",IF(INDEX([1]RELAÇÃO!$A$1:$AQ$576,MATCH($M248,[1]RELAÇÃO!$AP$1:$AP$576,0),8)=\"10.104.000\",\"-\",INDEX([1]RELAÇÃO!$A$1:$AQ$576,MATCH($M248,[1]RELAÇÃO!$AP$1:$AP$576,0),7)))","v":"-"},"SPE27","SPE14S"]
[null,"Assistente","DAS 102.2","ASS",{"$f":"INDEX([1]RELAÇÃO!$A$1:$AQ$576,MATCH($M249,[1]RELAÇÃO!$AP$1:$AP$576,0),1)","v":"MONICA CAROLINE MANHAES DOS SANTOS"},{"$f":"IF(E249=0,\"-\",LEFT(INDEX([1]RELAÇÃO!$A$1:$AQ$576,MATCH($M249,[1]RELAÇÃO!$AP$1:$AP$576,0),32),1))","v":"F"},{"$f":"IF(E249=0,\"-\",INDEX([1]RELAÇÃO!$A$1:$AQ$576,MATCH($M249,[1]RELAÇÃO!$AP$1:$AP$576,0),5))","v":"Sem Vínculo"},{"$f":"IF(E249=0,\"-\",INDEX([1]RELAÇÃO!$A$1:$AQ$576,MATCH($M249,[1]RELAÇÃO!$AP$1:$AP$576,0),6))","v":"Sem Vínculo"},{"$f":"IF(E249=0,\"-\",INDEX([1]RELAÇÃO!$A$1:$AQ$576,MATCH($M249,[1]RELAÇÃO!$AP$1:$AP$576,0),12)&INDEX([1]RELAÇÃO!$A$1:$AQ$576,MATCH($M249,[1]RELAÇÃO!$AP$1:$AP$576,0),13)&\", de \"&INDEX([1]RELAÇÃO!$A$1:$AQ$576,MATCH($M249,[1]RELAÇÃO!$AP$1:$AP$576,0),14)&\" - \"&INDEX([1]RELAÇÃO!$A$1:$AQ$576,MATCH($M249,[1]RELAÇÃO!$AP$1:$AP$576,0),16)&\" de \"&INDEX([1]RELAÇÃO!$A$1:$AQ$576,MATCH($M249,[1]RELAÇÃO!$AP$1:$AP$576,0),15))","v":"Portaria nº 524, de 03/11/2016 - BPE de 04/11/2016"},null,null,{"$f":"IF($E249=0,\"-\",IF(INDEX([1]RELAÇÃO!$A$1:$AQ$576,MATCH($M249,[1]RELAÇÃO!$AP$1:$AP$576,0),8)=\"10.104.000\",\"-\",INDEX([1]RELAÇÃO!$A$1:$AQ$576,MATCH($M249,[1]RELAÇÃO!$AP$1:$AP$576,0),7)))","v":"-"},"SPE28"]
["Coordenação-Geral de Informações Energéticas","Coordenador-Geral","DAS 101.4","GER",{"$f":"INDEX([1]RELAÇÃO!$A$1:$AQ$576,MATCH($M250,[1]RELAÇÃO!$AP$1:$AP$576,0),1)","v":"RODOLFO ZAMIAN DANILOW"},{"$f":"IF(E250=0,\"-\",LEFT(INDEX([1]RELAÇÃO!$A$1:$AQ$576,MATCH($M250,[1]RELAÇÃO!$AP$1:$AP$576,0),32),1))","v":"M"},{"$f":"IF(E250=0,\"-\",INDEX([1]RELAÇÃO!$A$1:$AQ$576,MATCH($M250,[1]RELAÇÃO!$AP$1:$AP$576,0),5))","v":"Sem Vínculo"},{"$f":"IF(E250=0,\"-\",INDEX([1]RELAÇÃO!$A$1:$AQ$576,MATCH($M250,[1]RELAÇÃO!$AP$1:$AP$576,0),6))","v":"Sem Vínculo"},{"$f":"IF(E250=0,\"-\",INDEX([1]RELAÇÃO!$A$1:$AQ$576,MATCH($M250,[1]RELAÇÃO!$AP$1:$AP$576,0),12)&INDEX([1]RELAÇÃO!$A$1:$AQ$576,MATCH($M250,[1]RELAÇÃO!$AP$1:$AP$576,0),13)&\", de \"&INDEX([1]RELAÇÃO!$A$1:$AQ$576,MATCH($M250,[1]RELAÇÃO!$AP$1:$AP$576,0),14)&\" - \"&INDEX([1]RELAÇÃO!$A$1:$AQ$576,MATCH($M250,[1]RELAÇÃO!$AP$1:$AP$576,0),16)&\" de \"&INDEX([1]RELAÇÃO!$A$1:$AQ$576,MATCH($M250,[1]RELAÇÃO!$AP$1:$AP$576,0),15))","v":"Portaria nº 249, de 13/06/2019 - DOU de 14/06/2019"},{"$f":"INDEX([1]RELAÇÃO!$A$1:$AQ$576,MATCH($N250,[1]RELAÇÃO!$AQ$1:$AQ$576,0),1)","v":0},{"$f":"IF(J250=0,\"-\",INDEX([1]RELAÇÃO!$A$1:$AQ$576,MATCH($N250,[1]RELAÇÃO!$AQ$1:$AQ$576,0),27)&INDEX([1]RELAÇÃO!$A$1:$AQ$576,MATCH($N250,[1]RELAÇÃO!$AQ$1:$AQ$576,0),28)&\", de \"&INDEX([1]RELAÇÃO!$A$1:$AQ$576,MATCH($N250,[1]RELAÇÃO!$AQ$1:$AQ$576,0),29)&\" - \"&INDEX([1]RELAÇÃO!$A$1:$AQ$576,MATCH($N250,[1]RELAÇÃO!$AQ$1:$AQ$576,0),31)&\" de \"&INDEX([1]RELAÇÃO!$A$1:$AQ$576,MATCH($N250,[1]RELAÇÃO!$AQ$1:$AQ$576,0),30))","v":"-"},{"$f":"IF($E250=0,\"-\",IF(INDEX([1]RELAÇÃO!$A$1:$AQ$576,MATCH($M250,[1]RELAÇÃO!$AP$1:$AP$576,0),8)=\"10.104.100\",\"-\",INDEX([1]RELAÇÃO!$A$1:$AQ$576,MATCH($M250,[1]RELAÇÃO!$AP$1:$AP$576,0),7)))","v":"-"},"SPE29","SPE15S"]
[null,"Assessor Técnico","DAS 102.3","ASS",{"$f":"INDEX([1]RELAÇÃO!$A$1:$AQ$576,MATCH($M251,[1]RELAÇÃO!$AP$1:$AP$576,0),1)","v":"DANIELE DE OLIVEIRA BANDEIRA"},{"$f":"IF(E251=0,\"-\",LEFT(INDEX([1]RELAÇÃO!$A$1:$AQ$576,MATCH($M251,[1]RELAÇÃO!$AP$1:$AP$576,0),32),1))","v":"F"},{"$f":"IF(E251=0,\"-\",INDEX([1]RELAÇÃO!$A$1:$AQ$576,MATCH($M251,[1]RELAÇÃO!$AP$1:$AP$576,0),5))","v":"Sem Vínculo"},{"$f":"IF(E251=0,\"-\",INDEX([1]RELAÇÃO!$A$1:$AQ$576,MATCH($M251,[1]RELAÇÃO!$AP$1:$AP$576,0),6))","v":"Sem Vínculo"},{"$f":"IF(E251=0,\"-\",INDEX([1]RELAÇÃO!$A$1:$AQ$576,MATCH($M251,[1]RELAÇÃO!$AP$1:$AP$576,0),12)&INDEX([1]RELAÇÃO!$A$1:$AQ$576,MATCH($M251,[1]RELAÇÃO!$AP$1:$AP$576,0),13)&\", de \"&INDEX([1]RELAÇÃO!$A$1:$AQ$576,MATCH($M251,[1]RELAÇÃO!$AP$1:$AP$576,0),14)&\" - \"&INDEX([1]RELAÇÃO!$A$1:$AQ$576,MATCH($M251,[1]RELAÇÃO!$AP$1:$AP$576,0),16)&\" de \"&INDEX([1]RELAÇÃO!$A$1:$AQ$576,MATCH($M251,[1]RELAÇÃO!$AP$1:$AP$576,0),15))","v":"Portaria nº 570, de 03/11/2016 - DOU de 04/11/2016"},null,null,{"$f":"IF($E251=0,\"-\",IF(INDEX([1]RELAÇÃO!$A$1:$AQ$576,MATCH($M251,[1]RELAÇÃO!$AP$1:$AP$576,0),8)=\"10.104.100\",\"-\",INDEX([1]RELAÇÃO!$A$1:$AQ$576,MATCH($M251,[1]RELAÇÃO!$AP$1:$AP$576,0),7)))","v":"-"},"SPE30"]
[]
["SECRETARIA DE ENERGIA ELÉTRICA - SEE"]
["UNIDADE","DENOMINAÇÃO CARGO/FUNÇÃO","NE/DAS/FCPE","NÍVEL DA FUNÇÃO","SERVIDOR","SEXO","SITUAÇÃO","ORIGEM","ATO DE NOMEAÇÃO","SUBSTITUTO EVENTUAL","DESIGNAÇÃO","Alteração de local de exercício","ID FUNÇÃO","ID SUBSTITUIÇÃO"]
["SECRETARIA DE ENERGIA ELÉTRICA","Secretário","DAS 101.6","GER",{"$f":"INDEX([1]RELAÇÃO!$A$1:$AQ$576,MATCH($M255,[1]RELAÇÃO!$AP$1:$AP$576,0),1)","v":"RODRIGO LIMP NASCIMENTO"},{"$f":"IF(E255=0,\"-\",LEFT(INDEX([1]RELAÇÃO!$A$1:$AQ$576,MATCH($M255,[1]RELAÇÃO!$AP$1:$AP$576,0),32),1))","v":"M"},{"$f":"IF(E255=0,\"-\",INDEX([1]RELAÇÃO!$A$1:$AQ$576,MATCH($M255,[1]RELAÇÃO!$AP$1:$AP$576,0),5))","v":"Requisitado de Órgãos"},{"$f":"IF(E255=0,\"-\",INDEX([1]RELAÇÃO!$A$1:$AQ$576,MATCH($M255,[1]RELAÇÃO!$AP$1:$AP$576,0),6))","v":"Câmara dos Deputados "},{"$f":"IF(E255=0,\"-\",INDEX([1]RELAÇÃO!$A$1:$AQ$576,MATCH($M255,[1]RELAÇÃO!$AP$1:$AP$576,0),12)&INDEX([1]RELAÇÃO!$A$1:$AQ$576,MATCH($M255,[1]RELAÇÃO!$AP$1:$AP$576,0),13)&\", de \"&INDEX([1]RELAÇÃO!$A$1:$AQ$576,MATCH($M255,[1]RELAÇÃO!$AP$1:$AP$576,0),14)&\" - \"&INDEX([1]RELAÇÃO!$A$1:$AQ$576,MATCH($M255,[1]RELAÇÃO!$AP$1:$AP$576,0),16)&\" de \"&INDEX([1]RELAÇÃO!$A$1:$AQ$576,MATCH($M255,[1]RELAÇÃO!$AP$1:$AP$576,0),15))","v":"Portaria nº 119, de 16/03/2020 - DOU de 17/03/2020"},{"$f":"INDEX([1]RELAÇÃO!$A$1:$AQ$576,MATCH($N255,[1]RELAÇÃO!$AQ$1:$AQ$576,0),1)","v":"DOMINGOS ROMEU ANDREATTA"},{"$f":"IF(J255=0,\"-\",INDEX([1]RELAÇÃO!$A$1:$AQ$576,MATCH($N255,[1]RELAÇÃO!$AQ$1:$AQ$576,0),27)&INDEX([1]RELAÇÃO!$A$1:$AQ$576,MATCH($N255,[1]RELAÇÃO!$AQ$1:$AQ$576,0),28)&\", de \"&INDEX([1]RELAÇÃO!$A$1:$AQ$576,MATCH($N255,[1]RELAÇÃO!$AQ$1:$AQ$576,0),29)&\" - \"&INDEX([1]RELAÇÃO!$A$1:$AQ$576,MATCH($N255,[1]RELAÇÃO!$AQ$1:$AQ$576,0),31)&\" de \"&INDEX([1]RELAÇÃO!$A$1:$AQ$576,MATCH($N255,[1]RELAÇÃO!$AQ$1:$AQ$576,0),30))","v":"Portaria nº 108 - Anexo IX, Art. 18, II do RI da SEE, de 14/03/2017 - DOU de 16/03/2017 - Ret. 17/03/2017"},{"$f":"IF($E255=0,\"-\",IF(INDEX([1]RELAÇÃO!$A$1:$AQ$576,MATCH($M255,[1]RELAÇÃO!$AP$1:$AP$576,0),8)=\"12.000.000\",\"-\",INDEX([1]RELAÇÃO!$A$1:$AQ$576,MATCH($M255,[1]RELAÇÃO!$AP$1:$AP$576,0),7)))","v":"-"},"SEE01","SEE01S"]
[null,"Secretário-Adjunto","DAS 101.5","GER",{"$f":"INDEX([1]RELAÇÃO!$A$1:$AQ$576,MATCH($M256,[1]RELAÇÃO!$AP$1:$AP$576,0),1)","v":"DOMINGOS ROMEU ANDREATTA"},{"$f":"IF(E256=0,\"-\",LEFT(INDEX([1]RELAÇÃO!$A$1:$AQ$576,MATCH($M256,[1]RELAÇÃO!$AP$1:$AP$576,0),32),1))","v":"M"},{"$f":"IF(E256=0,\"-\",INDEX([1]RELAÇÃO!$A$1:$AQ$576,MATCH($M256,[1]RELAÇÃO!$AP$1:$AP$576,0),5))","v":"Requisitado de Empresa"},{"$f":"IF(E256=0,\"-\",INDEX([1]RELAÇÃO!$A$1:$AQ$576,MATCH($M256,[1]RELAÇÃO!$AP$1:$AP$576,0),6))","v":"ELETROSUL - Companhia de Geração e Transmissão de Energia Elétrica do Sul do Brasil"},{"$f":"IF(E256=0,\"-\",INDEX([1]RELAÇÃO!$A$1:$AQ$576,MATCH($M256,[1]RELAÇÃO!$AP$1:$AP$576,0),12)&INDEX([1]RELAÇÃO!$A$1:$AQ$576,MATCH($M256,[1]RELAÇÃO!$AP$1:$AP$576,0),13)&\", de \"&INDEX([1]RELAÇÃO!$A$1:$AQ$576,MATCH($M256,[1]RELAÇÃO!$AP$1:$AP$576,0),14)&\" - \"&INDEX([1]RELAÇÃO!$A$1:$AQ$576,MATCH($M256,[1]RELAÇÃO!$AP$1:$AP$576,0),16)&\" de \"&INDEX([1]RELAÇÃO!$A$1:$AQ$576,MATCH($M256,[1]RELAÇÃO!$AP$1:$AP$576,0),15))","v":"Portaria nº 569, de 01/06/2018 - DOU de 04/06/2018"},{"$f":"INDEX([1]RELAÇÃO!$A$1:$AQ$576,MATCH($N256,[1]RELAÇÃO!$AQ$1:$AQ$576,0),1)","v":"GUALTER DE CARVALHO MENDES"},{"$f":"IF(J256=0,\"-\",INDEX([1]RELAÇÃO!$A$1:$AQ$576,MATCH($N256,[1]RELAÇÃO!$AQ$1:$AQ$576,0),27)&INDEX([1]RELAÇÃO!$A$1:$AQ$576,MATCH($N256,[1]RELAÇÃO!$AQ$1:$AQ$576,0),28)&\", de \"&INDEX([1]RELAÇÃO!$A$1:$AQ$576,MATCH($N256,[1]RELAÇÃO!$AQ$1:$AQ$576,0),29)&\" - \"&INDEX([1]RELAÇÃO!$A$1:$AQ$576,MATCH($N256,[1]RELAÇÃO!$AQ$1:$AQ$576,0),31)&\" de \"&INDEX([1]RELAÇÃO!$A$1:$AQ$576,MATCH($N256,[1]RELAÇÃO!$AQ$1:$AQ$576,0),30))","v":"Portaria nº 432, de 27/11/2019 - DOU de 29/11/2019"},{"$f":"IF($E256=0,\"-\",IF(INDEX([1]RELAÇÃO!$A$1:$AQ$576,MATCH($M256,[1]RELAÇÃO!$AP$1:$AP$576,0),8)=\"12.000.000\",\"-\",INDEX([1]RELAÇÃO!$A$1:$AQ$576,MATCH($M256,[1]RELAÇÃO!$AP$1:$AP$576,0),7)))","v":"SEE / CHEFIA DE GABINETE SEE"},"SEE02","SEE02S"]
[null,"Diretor de Programa","DAS 101.5","GER",{"$f":"INDEX([1]RELAÇÃO!$A$1:$AQ$576,MATCH($M257,[1]RELAÇÃO!$AP$1:$AP$576,0),1)","v":"RODRIGO DANIEL MENDES FORNARI"},{"$f":"IF(E257=0,\"-\",LEFT(INDEX([1]RELAÇÃO!$A$1:$AQ$576,MATCH($M257,[1]RELAÇÃO!$AP$1:$AP$576,0),32),1))","v":"M"},{"$f":"IF(E257=0,\"-\",INDEX([1]RELAÇÃO!$A$1:$AQ$576,MATCH($M257,[1]RELAÇÃO!$AP$1:$AP$576,0),5))","v":"Requisitado de Empresa"},{"$f":"IF(E257=0,\"-\",INDEX([1]RELAÇÃO!$A$1:$AQ$576,MATCH($M257,[1]RELAÇÃO!$AP$1:$AP$576,0),6))","v":"ELETROSUL - Companhia de Geração e Transmissão de Energia Elétrica do Sul do Brasil"},{"$f":"IF(E257=0,\"-\",INDEX([1]RELAÇÃO!$A$1:$AQ$576,MATCH($M257,[1]RELAÇÃO!$AP$1:$AP$576,0),12)&INDEX([1]RELAÇÃO!$A$1:$AQ$576,MATCH($M257,[1]RELAÇÃO!$AP$1:$AP$576,0),13)&\", de \"&INDEX([1]RELAÇÃO!$A$1:$AQ$576,MATCH($M257,[1]RELAÇÃO!$AP$1:$AP$576,0),14)&\" - \"&INDEX([1]RELAÇÃO!$A$1:$AQ$576,MATCH($M257,[1]RELAÇÃO!$AP$1:$AP$576,0),16)&\" de \"&INDEX([1]RELAÇÃO!$A$1:$AQ$576,MATCH($M257,[1]RELAÇÃO!$AP$1:$AP$576,0),15))","v":"Portaria nº 1331, de 26/02/2019 - DOU de 27/02/2019"},{"$f":"INDEX([1]RELAÇÃO!$A$1:$AQ$576,MATCH($N257,[1]RELAÇÃO!$AQ$1:$AQ$576,0),1)","v":"ANDRÉ GROBÉRIO LOPES PERIM"},{"$f":"IF(J257=0,\"-\",INDEX([1]RELAÇÃO!$A$1:$AQ$576,MATCH($N257,[1]RELAÇÃO!$AQ$1:$AQ$576,0),27)&INDEX([1]RELAÇÃO!$A$1:$AQ$576,MATCH($N257,[1]RELAÇÃO!$AQ$1:$AQ$576,0),28)&\", de \"&INDEX([1]RELAÇÃO!$A$1:$AQ$576,MATCH($N257,[1]RELAÇÃO!$AQ$1:$AQ$576,0),29)&\" - \"&INDEX([1]RELAÇÃO!$A$1:$AQ$576,MATCH($N257,[1]RELAÇÃO!$AQ$1:$AQ$576,0),31)&\" de \"&INDEX([1]RELAÇÃO!$A$1:$AQ$576,MATCH($N257,[1]RELAÇÃO!$AQ$1:$AQ$576,0),30))","v":"Portaria nº 451, de  - DOU de "},{"$f":"IF($E257=0,\"-\",IF(INDEX([1]RELAÇÃO!$A$1:$AQ$576,MATCH($M257,[1]RELAÇÃO!$AP$1:$AP$576,0),8)=\"12.000.000\",\"-\",INDEX([1]RELAÇÃO!$A$1:$AQ$576,MATCH($M257,[1]RELAÇÃO!$AP$1:$AP$576,0),7)))","v":"SEE / CHEFIA DE GABINETE SEE"},"SEE03","SEE03S"]
[null,"Assessor"," DAS 102.4",null,"Excluído pelo Dec. 9675/2019"]
[null,"Assessor","DAS 102.4","ASS",{"$f":"INDEX([1]RELAÇÃO!$A$1:$AQ$576,MATCH($M259,[1]RELAÇÃO!$AP$1:$AP$576,0),1)","v":"JUAN LUIS DANILO CATALAN ZAMUDIO"},{"$f":"IF(E259=0,\"-\",LEFT(INDEX([1]RELAÇÃO!$A$1:$AQ$576,MATCH($M259,[1]RELAÇÃO!$AP$1:$AP$576,0),32),1))","v":"M"},{"$f":"IF(E259=0,\"-\",INDEX([1]RELAÇÃO!$A$1:$AQ$576,MATCH($M259,[1]RELAÇÃO!$AP$1:$AP$576,0),5))","v":"Requisitado de Empresa"},{"$f":"IF(E259=0,\"-\",INDEX([1]RELAÇÃO!$A$1:$AQ$576,MATCH($M259,[1]RELAÇÃO!$AP$1:$AP$576,0),6))","v":"DATAPREV - Empresa de Tecnologia e Informações da Previdência"},{"$f":"IF(E259=0,\"-\",INDEX([1]RELAÇÃO!$A$1:$AQ$576,MATCH($M259,[1]RELAÇÃO!$AP$1:$AP$576,0),12)&INDEX([1]RELAÇÃO!$A$1:$AQ$576,MATCH($M259,[1]RELAÇÃO!$AP$1:$AP$576,0),13)&\", de \"&INDEX([1]RELAÇÃO!$A$1:$AQ$576,MATCH($M259,[1]RELAÇÃO!$AP$1:$AP$576,0),14)&\" - \"&INDEX([1]RELAÇÃO!$A$1:$AQ$576,MATCH($M259,[1]RELAÇÃO!$AP$1:$AP$576,0),16)&\" de \"&INDEX([1]RELAÇÃO!$A$1:$AQ$576,MATCH($M259,[1]RELAÇÃO!$AP$1:$AP$576,0),15))","v":"Portaria nº 574, de 03/11/2016 - DOU de 04/11/2016"},null,null,{"$f":"IF($E259=0,\"-\",IF(INDEX([1]RELAÇÃO!$A$1:$AQ$576,MATCH($M259,[1]RELAÇÃO!$AP$1:$AP$576,0),8)=\"12.000.000\",\"-\",INDEX([1]RELAÇÃO!$A$1:$AQ$576,MATCH($M259,[1]RELAÇÃO!$AP$1:$AP$576,0),7)))","v":"SEE / CHEFIA DE GABINETE SEE"},"SEE04"]
[null,"Assessor Técnico","FCPE 102.3","ASS",{"$f":"INDEX([1]RELAÇÃO!$A$1:$AQ$576,MATCH($M260,[1]RELAÇÃO!$AP$1:$AP$576,0),1)","v":"ANDRÉ LUIS GONÇALVES DE OLIVEIRA"},{"$f":"IF(E260=0,\"-\",LEFT(INDEX([1]RELAÇÃO!$A$1:$AQ$576,MATCH($M260,[1]RELAÇÃO!$AP$1:$AP$576,0),32),1))","v":"M"},{"$f":"IF(E260=0,\"-\",INDEX([1]RELAÇÃO!$A$1:$AQ$576,MATCH($M260,[1]RELAÇÃO!$AP$1:$AP$576,0),5))","v":"Exercício Descentralizado"},{"$f":"IF(E260=0,\"-\",INDEX([1]RELAÇÃO!$A$1:$AQ$576,MATCH($M260,[1]RELAÇÃO!$AP$1:$AP$576,0),6))","v":"ME - Ministério da Economia"},{"$f":"IF(E260=0,\"-\",INDEX([1]RELAÇÃO!$A$1:$AQ$576,MATCH($M260,[1]RELAÇÃO!$AP$1:$AP$576,0),12)&INDEX([1]RELAÇÃO!$A$1:$AQ$576,MATCH($M260,[1]RELAÇÃO!$AP$1:$AP$576,0),13)&\", de \"&INDEX([1]RELAÇÃO!$A$1:$AQ$576,MATCH($M260,[1]RELAÇÃO!$AP$1:$AP$576,0),14)&\" - \"&INDEX([1]RELAÇÃO!$A$1:$AQ$576,MATCH($M260,[1]RELAÇÃO!$AP$1:$AP$576,0),16)&\" de \"&INDEX([1]RELAÇÃO!$A$1:$AQ$576,MATCH($M260,[1]RELAÇÃO!$AP$1:$AP$576,0),15))","v":"Portaria nº 365, de 01/10/2020 - DOU de 02/10/2020"},null,null,{"$f":"IF($E260=0,\"-\",IF(INDEX([1]RELAÇÃO!$A$1:$AQ$576,MATCH($M260,[1]RELAÇÃO!$AP$1:$AP$576,0),8)=\"12.000.000\",\"-\",INDEX([1]RELAÇÃO!$A$1:$AQ$576,MATCH($M260,[1]RELAÇÃO!$AP$1:$AP$576,0),7)))","v":"SEE / CHEFIA DE GABINETE SEE"},"SEE05"]
[null,"Assistente","DAS 102.2","ASS",{"$f":"INDEX([1]RELAÇÃO!$A$1:$AQ$576,MATCH($M261,[1]RELAÇÃO!$AP$1:$AP$576,0),1)","v":"JANAINA DO VALE LIMA"},{"$f":"IF(E261=0,\"-\",LEFT(INDEX([1]RELAÇÃO!$A$1:$AQ$576,MATCH($M261,[1]RELAÇÃO!$AP$1:$AP$576,0),32),1))","v":"F"},{"$f":"IF(E261=0,\"-\",INDEX([1]RELAÇÃO!$A$1:$AQ$576,MATCH($M261,[1]RELAÇÃO!$AP$1:$AP$576,0),5))","v":"Sem Vínculo"},{"$f":"IF(E261=0,\"-\",INDEX([1]RELAÇÃO!$A$1:$AQ$576,MATCH($M261,[1]RELAÇÃO!$AP$1:$AP$576,0),6))","v":"Sem Vínculo"},{"$f":"IF(E261=0,\"-\",INDEX([1]RELAÇÃO!$A$1:$AQ$576,MATCH($M261,[1]RELAÇÃO!$AP$1:$AP$576,0),12)&INDEX([1]RELAÇÃO!$A$1:$AQ$576,MATCH($M261,[1]RELAÇÃO!$AP$1:$AP$576,0),13)&\", de \"&INDEX([1]RELAÇÃO!$A$1:$AQ$576,MATCH($M261,[1]RELAÇÃO!$AP$1:$AP$576,0),14)&\" - \"&INDEX([1]RELAÇÃO!$A$1:$AQ$576,MATCH($M261,[1]RELAÇÃO!$AP$1:$AP$576,0),16)&\" de \"&INDEX([1]RELAÇÃO!$A$1:$AQ$576,MATCH($M261,[1]RELAÇÃO!$AP$1:$AP$576,0),15))","v":"Portaria nº 524, de 03/11/2016 - BPE de 04/11/2016"},null,null,{"$f":"IF($E261=0,\"-\",IF(INDEX([1]RELAÇÃO!$A$1:$AQ$576,MATCH($M261,[1]RELAÇÃO!$AP$1:$AP$576,0),8)=\"12.000.000\",\"-\",INDEX([1]RELAÇÃO!$A$1:$AQ$576,MATCH($M261,[1]RELAÇÃO!$AP$1:$AP$576,0),7)))","v":"SEE / CHEFIA DE GABINETE SEE"},"SEE06"]
[null,"Assistente","DAS 102.2","ASS",{"$f":"INDEX([1]RELAÇÃO!$A$1:$AQ$576,MATCH($M262,[1]RELAÇÃO!$AP$1:$AP$576,0),1)","v":"ALDAIDES CAVALCANTE MAGALHAES"},{"$f":"IF(E262=0,\"-\",LEFT(INDEX([1]RELAÇÃO!$A$1:$AQ$576,MATCH($M262,[1]RELAÇÃO!$AP$1:$AP$576,0),32),1))","v":"F"},{"$f":"IF(E262=0,\"-\",INDEX([1]RELAÇÃO!$A$1:$AQ$576,MATCH($M262,[1]RELAÇÃO!$AP$1:$AP$576,0),5))","v":"Sem Vínculo"},{"$f":"IF(E262=0,\"-\",INDEX([1]RELAÇÃO!$A$1:$AQ$576,MATCH($M262,[1]RELAÇÃO!$AP$1:$AP$576,0),6))","v":"Sem Vínculo"},{"$f":"IF(E262=0,\"-\",INDEX([1]RELAÇÃO!$A$1:$AQ$576,MATCH($M262,[1]RELAÇÃO!$AP$1:$AP$576,0),12)&INDEX([1]RELAÇÃO!$A$1:$AQ$576,MATCH($M262,[1]RELAÇÃO!$AP$1:$AP$576,0),13)&\", de \"&INDEX([1]RELAÇÃO!$A$1:$AQ$576,MATCH($M262,[1]RELAÇÃO!$AP$1:$AP$576,0),14)&\" - \"&INDEX([1]RELAÇÃO!$A$1:$AQ$576,MATCH($M262,[1]RELAÇÃO!$AP$1:$AP$576,0),16)&\" de \"&INDEX([1]RELAÇÃO!$A$1:$AQ$576,MATCH($M262,[1]RELAÇÃO!$AP$1:$AP$576,0),15))","v":"Portaria nº 524, de 03/11/2016 - BPE de 04/11/2016"},null,null,{"$f":"IF($E262=0,\"-\",IF(INDEX([1]RELAÇÃO!$A$1:$AQ$576,MATCH($M262,[1]RELAÇÃO!$AP$1:$AP$576,0),8)=\"12.000.000\",\"-\",INDEX([1]RELAÇÃO!$A$1:$AQ$576,MATCH($M262,[1]RELAÇÃO!$AP$1:$AP$576,0),7)))","v":"SEE / CHEFIA DE GABINETE SEE"},"SEE07"]
[null,"Assistente"," DAS 102.2",null,"Excluído pelo Dec. 9675/2019"]
[null,"Assistente"," DAS 102.2",null,"Excluído pelo Dec. 9675/2019"]
[null,"Assistente","DAS 102.2","ASS",{"$f":"INDEX([1]RELAÇÃO!$A$1:$AQ$576,MATCH($M265,[1]RELAÇÃO!$AP$1:$AP$576,0),1)","v":"TATIANNA GOMES BEZERRA PEREIRA"},{"$f":"IF(E265=0,\"-\",LEFT(INDEX([1]RELAÇÃO!$A$1:$AQ$576,MATCH($M265,[1]RELAÇÃO!$AP$1:$AP$576,0),32),1))","v":"F"},{"$f":"IF(E265=0,\"-\",INDEX([1]RELAÇÃO!$A$1:$AQ$576,MATCH($M265,[1]RELAÇÃO!$AP$1:$AP$576,0),5))","v":"Sem Vínculo"},{"$f":"IF(E265=0,\"-\",INDEX([1]RELAÇÃO!$A$1:$AQ$576,MATCH($M265,[1]RELAÇÃO!$AP$1:$AP$576,0),6))","v":"Sem Vínculo"},{"$f":"IF(E265=0,\"-\",INDEX([1]RELAÇÃO!$A$1:$AQ$576,MATCH($M265,[1]RELAÇÃO!$AP$1:$AP$576,0),12)&INDEX([1]RELAÇÃO!$A$1:$AQ$576,MATCH($M265,[1]RELAÇÃO!$AP$1:$AP$576,0),13)&\", de \"&INDEX([1]RELAÇÃO!$A$1:$AQ$576,MATCH($M265,[1]RELAÇÃO!$AP$1:$AP$576,0),14)&\" - \"&INDEX([1]RELAÇÃO!$A$1:$AQ$576,MATCH($M265,[1]RELAÇÃO!$AP$1:$AP$576,0),16)&\" de \"&INDEX([1]RELAÇÃO!$A$1:$AQ$576,MATCH($M265,[1]RELAÇÃO!$AP$1:$AP$576,0),15))","v":"Portaria nº 524, de 03/11/2016 - BPE de 04/11/2016"},null,null,{"$f":"IF($E265=0,\"-\",IF(INDEX([1]RELAÇÃO!$A$1:$AQ$576,MATCH($M265,[1]RELAÇÃO!$AP$1:$AP$576,0),8)=\"12.000.000\",\"-\",INDEX([1]RELAÇÃO!$A$1:$AQ$576,MATCH($M265,[1]RELAÇÃO!$AP$1:$AP$576,0),7)))","v":"SEE / CHEFIA DE GABINETE SEE"},"SEE08"]
[null,"Assistente","DAS 102.2","ASS",{"$f":"INDEX([1]RELAÇÃO!$A$1:$AQ$576,MATCH($M266,[1]RELAÇÃO!$AP$1:$AP$576,0),1)","v":"MARCOS JOSE ANTONIO PINHEIRO"},{"$f":"IF(E266=0,\"-\",LEFT(INDEX([1]RELAÇÃO!$A$1:$AQ$576,MATCH($M266,[1]RELAÇÃO!$AP$1:$AP$576,0),32),1))","v":"M"},{"$f":"IF(E266=0,\"-\",INDEX([1]RELAÇÃO!$A$1:$AQ$576,MATCH($M266,[1]RELAÇÃO!$AP$1:$AP$576,0),5))","v":"Sem Vínculo"},{"$f":"IF(E266=0,\"-\",INDEX([1]RELAÇÃO!$A$1:$AQ$576,MATCH($M266,[1]RELAÇÃO!$AP$1:$AP$576,0),6))","v":"Sem Vínculo"},{"$f":"IF(E266=0,\"-\",INDEX([1]RELAÇÃO!$A$1:$AQ$576,MATCH($M266,[1]RELAÇÃO!$AP$1:$AP$576,0),12)&INDEX([1]RELAÇÃO!$A$1:$AQ$576,MATCH($M266,[1]RELAÇÃO!$AP$1:$AP$576,0),13)&\", de \"&INDEX([1]RELAÇÃO!$A$1:$AQ$576,MATCH($M266,[1]RELAÇÃO!$AP$1:$AP$576,0),14)&\" - \"&INDEX([1]RELAÇÃO!$A$1:$AQ$576,MATCH($M266,[1]RELAÇÃO!$AP$1:$AP$576,0),16)&\" de \"&INDEX([1]RELAÇÃO!$A$1:$AQ$576,MATCH($M266,[1]RELAÇÃO!$AP$1:$AP$576,0),15))","v":"Portaria nº 524, de 03/11/2016 - BPE de 04/11/2016"},null,null,{"$f":"IF($E266=0,\"-\",IF(INDEX([1]RELAÇÃO!$A$1:$AQ$576,MATCH($M266,[1]RELAÇÃO!$AP$1:$AP$576,0),8)=\"12.000.000\",\"-\",INDEX([1]RELAÇÃO!$A$1:$AQ$576,MATCH($M266,[1]RELAÇÃO!$AP$1:$AP$576,0),7)))","v":"SEE / CHEFIA DE GABINETE SEE"},"SEE09"]
["Departamento de Gestão do Setor Elétrico","Diretor","DAS 101.5","GER",{"$f":"INDEX([1]RELAÇÃO!$A$1:$AQ$576,MATCH($M267,[1]RELAÇÃO!$AP$1:$AP$576,0),1)","v":"FABIANA GAZZONI CEPEDA"},{"$f":"IF(E267=0,\"-\",LEFT(INDEX([1]RELAÇÃO!$A$1:$AQ$576,MATCH($M267,[1]RELAÇÃO!$AP$1:$AP$576,0),32),1))","v":"F"},{"$f":"IF(E267=0,\"-\",INDEX([1]RELAÇÃO!$A$1:$AQ$576,MATCH($M267,[1]RELAÇÃO!$AP$1:$AP$576,0),5))","v":"Exercício Descentralizado"},{"$f":"IF(E267=0,\"-\",INDEX([1]RELAÇÃO!$A$1:$AQ$576,MATCH($M267,[1]RELAÇÃO!$AP$1:$AP$576,0),6))","v":"ME - Ministério da Economia"},{"$f":"IF(E267=0,\"-\",INDEX([1]RELAÇÃO!$A$1:$AQ$576,MATCH($M267,[1]RELAÇÃO!$AP$1:$AP$576,0),12)&INDEX([1]RELAÇÃO!$A$1:$AQ$576,MATCH($M267,[1]RELAÇÃO!$AP$1:$AP$576,0),13)&\", de \"&INDEX([1]RELAÇÃO!$A$1:$AQ$576,MATCH($M267,[1]RELAÇÃO!$AP$1:$AP$576,0),14)&\" - \"&INDEX([1]RELAÇÃO!$A$1:$AQ$576,MATCH($M267,[1]RELAÇÃO!$AP$1:$AP$576,0),16)&\" de \"&INDEX([1]RELAÇÃO!$A$1:$AQ$576,MATCH($M267,[1]RELAÇÃO!$AP$1:$AP$576,0),15))","v":"Portaria nº 50, de 18/01/2018 - DOU de 19/01/2018"},{"$f":"INDEX([1]RELAÇÃO!$A$1:$AQ$576,MATCH($N267,[1]RELAÇÃO!$AQ$1:$AQ$576,0),1)","v":"FABRÍCIO DAIREL DE CAMPOS LACERDA"},{"$f":"IF(J267=0,\"-\",INDEX([1]RELAÇÃO!$A$1:$AQ$576,MATCH($N267,[1]RELAÇÃO!$AQ$1:$AQ$576,0),27)&INDEX([1]RELAÇÃO!$A$1:$AQ$576,MATCH($N267,[1]RELAÇÃO!$AQ$1:$AQ$576,0),28)&\", de \"&INDEX([1]RELAÇÃO!$A$1:$AQ$576,MATCH($N267,[1]RELAÇÃO!$AQ$1:$AQ$576,0),29)&\" - \"&INDEX([1]RELAÇÃO!$A$1:$AQ$576,MATCH($N267,[1]RELAÇÃO!$AQ$1:$AQ$576,0),31)&\" de \"&INDEX([1]RELAÇÃO!$A$1:$AQ$576,MATCH($N267,[1]RELAÇÃO!$AQ$1:$AQ$576,0),30))","v":"Portaria nº 167, de 18/03/2019 - DOU de 20/03/2019"},{"$f":"IF($E267=0,\"-\",IF(INDEX([1]RELAÇÃO!$A$1:$AQ$576,MATCH($M267,[1]RELAÇÃO!$AP$1:$AP$576,0),8)=\"12.101.000\",\"-\",INDEX([1]RELAÇÃO!$A$1:$AQ$576,MATCH($M267,[1]RELAÇÃO!$AP$1:$AP$576,0),7)))","v":"-"},"SEE10","SEE04S"]
["Coordenação-Geral de Gestão da Política Tarifária","Coordenador-Geral","  DAS 101.4",null,"Excluído pelo Dec. 9675/2019"]
[null,"Assistente","DAS 102.2","ASS",{"$f":"INDEX([1]RELAÇÃO!$A$1:$AQ$576,MATCH($M269,[1]RELAÇÃO!$AP$1:$AP$576,0),1)","v":"PATRICIA SALLES MERGULHAO"},{"$f":"IF(E269=0,\"-\",LEFT(INDEX([1]RELAÇÃO!$A$1:$AQ$576,MATCH($M269,[1]RELAÇÃO!$AP$1:$AP$576,0),32),1))","v":"F"},{"$f":"IF(E269=0,\"-\",INDEX([1]RELAÇÃO!$A$1:$AQ$576,MATCH($M269,[1]RELAÇÃO!$AP$1:$AP$576,0),5))","v":"Sem Vínculo"},{"$f":"IF(E269=0,\"-\",INDEX([1]RELAÇÃO!$A$1:$AQ$576,MATCH($M269,[1]RELAÇÃO!$AP$1:$AP$576,0),6))","v":"Sem Vínculo"},{"$f":"IF(E269=0,\"-\",INDEX([1]RELAÇÃO!$A$1:$AQ$576,MATCH($M269,[1]RELAÇÃO!$AP$1:$AP$576,0),12)&INDEX([1]RELAÇÃO!$A$1:$AQ$576,MATCH($M269,[1]RELAÇÃO!$AP$1:$AP$576,0),13)&\", de \"&INDEX([1]RELAÇÃO!$A$1:$AQ$576,MATCH($M269,[1]RELAÇÃO!$AP$1:$AP$576,0),14)&\" - \"&INDEX([1]RELAÇÃO!$A$1:$AQ$576,MATCH($M269,[1]RELAÇÃO!$AP$1:$AP$576,0),16)&\" de \"&INDEX([1]RELAÇÃO!$A$1:$AQ$576,MATCH($M269,[1]RELAÇÃO!$AP$1:$AP$576,0),15))","v":"Portaria nº 524, de 03/11/2016 - BPE de 04/11/2016"},null,null,{"$f":"IF($E269=0,\"-\",IF(INDEX([1]RELAÇÃO!$A$1:$AQ$576,MATCH($M269,[1]RELAÇÃO!$AP$1:$AP$576,0),8)=\"12.101.000\",\"-\",INDEX([1]RELAÇÃO!$A$1:$AQ$576,MATCH($M269,[1]RELAÇÃO!$AP$1:$AP$576,0),7)))","v":"SEE / DEPARTAMENTO DE POLÍTICAS SOCIAIS E UNIVERSALIZAÇÃO DO ACESSO À ENERGIA ELÉTRICA - DPUE"},"SEE11"]
["Coordenação-Geral de Gestão da Comercialização de Energia","Coordenador-Geral","DAS 101.4","GER",{"$f":"INDEX([1]RELAÇÃO!$A$1:$AQ$576,MATCH($M270,[1]RELAÇÃO!$AP$1:$AP$576,0),1)","v":"FABRÍCIO DAIREL DE CAMPOS LACERDA"},{"$f":"IF(E270=0,\"-\",LEFT(INDEX([1]RELAÇÃO!$A$1:$AQ$576,MATCH($M270,[1]RELAÇÃO!$AP$1:$AP$576,0),32),1))","v":"M"},{"$f":"IF(E270=0,\"-\",INDEX([1]RELAÇÃO!$A$1:$AQ$576,MATCH($M270,[1]RELAÇÃO!$AP$1:$AP$576,0),5))","v":"Exercício Descentralizado"},{"$f":"IF(E270=0,\"-\",INDEX([1]RELAÇÃO!$A$1:$AQ$576,MATCH($M270,[1]RELAÇÃO!$AP$1:$AP$576,0),6))","v":"ME - Ministério da Economia"},{"$f":"IF(E270=0,\"-\",INDEX([1]RELAÇÃO!$A$1:$AQ$576,MATCH($M270,[1]RELAÇÃO!$AP$1:$AP$576,0),12)&INDEX([1]RELAÇÃO!$A$1:$AQ$576,MATCH($M270,[1]RELAÇÃO!$AP$1:$AP$576,0),13)&\", de \"&INDEX([1]RELAÇÃO!$A$1:$AQ$576,MATCH($M270,[1]RELAÇÃO!$AP$1:$AP$576,0),14)&\" - \"&INDEX([1]RELAÇÃO!$A$1:$AQ$576,MATCH($M270,[1]RELAÇÃO!$AP$1:$AP$576,0),16)&\" de \"&INDEX([1]RELAÇÃO!$A$1:$AQ$576,MATCH($M270,[1]RELAÇÃO!$AP$1:$AP$576,0),15))","v":"Portaria nº 12, de 15/01/2018 - DOU de 16/01/2018"},{"$f":"INDEX([1]RELAÇÃO!$A$1:$AQ$576,MATCH($N270,[1]RELAÇÃO!$AQ$1:$AQ$576,0),1)","v":"VANIALUCIA LINS SOUTO"},{"$f":"IF(J270=0,\"-\",INDEX([1]RELAÇÃO!$A$1:$AQ$576,MATCH($N270,[1]RELAÇÃO!$AQ$1:$AQ$576,0),27)&INDEX([1]RELAÇÃO!$A$1:$AQ$576,MATCH($N270,[1]RELAÇÃO!$AQ$1:$AQ$576,0),28)&\", de \"&INDEX([1]RELAÇÃO!$A$1:$AQ$576,MATCH($N270,[1]RELAÇÃO!$AQ$1:$AQ$576,0),29)&\" - \"&INDEX([1]RELAÇÃO!$A$1:$AQ$576,MATCH($N270,[1]RELAÇÃO!$AQ$1:$AQ$576,0),31)&\" de \"&INDEX([1]RELAÇÃO!$A$1:$AQ$576,MATCH($N270,[1]RELAÇÃO!$AQ$1:$AQ$576,0),30))","v":"Portaria nº 397, de 03/11/2020 - DOU de 04/11/2020"},{"$f":"IF($E270=0,\"-\",IF(INDEX([1]RELAÇÃO!$A$1:$AQ$576,MATCH($M270,[1]RELAÇÃO!$AP$1:$AP$576,0),8)=\"12.101.100\",\"-\",INDEX([1]RELAÇÃO!$A$1:$AQ$576,MATCH($M270,[1]RELAÇÃO!$AP$1:$AP$576,0),7)))","v":"-"},"SEE12","SEE05S"]
[null,"Assistente","DAS 102.2","ASS",{"$f":"INDEX([1]RELAÇÃO!$A$1:$AQ$576,MATCH($M271,[1]RELAÇÃO!$AP$1:$AP$576,0),1)","v":"VANIALUCIA LINS SOUTO"},{"$f":"IF(E271=0,\"-\",LEFT(INDEX([1]RELAÇÃO!$A$1:$AQ$576,MATCH($M271,[1]RELAÇÃO!$AP$1:$AP$576,0),32),1))","v":"F"},{"$f":"IF(E271=0,\"-\",INDEX([1]RELAÇÃO!$A$1:$AQ$576,MATCH($M271,[1]RELAÇÃO!$AP$1:$AP$576,0),5))","v":"Exercício Descentralizado"},{"$f":"IF(E271=0,\"-\",INDEX([1]RELAÇÃO!$A$1:$AQ$576,MATCH($M271,[1]RELAÇÃO!$AP$1:$AP$576,0),6))","v":"ME - Ministério da Economia"},{"$f":"IF(E271=0,\"-\",INDEX([1]RELAÇÃO!$A$1:$AQ$576,MATCH($M271,[1]RELAÇÃO!$AP$1:$AP$576,0),12)&INDEX([1]RELAÇÃO!$A$1:$AQ$576,MATCH($M271,[1]RELAÇÃO!$AP$1:$AP$576,0),13)&\", de \"&INDEX([1]RELAÇÃO!$A$1:$AQ$576,MATCH($M271,[1]RELAÇÃO!$AP$1:$AP$576,0),14)&\" - \"&INDEX([1]RELAÇÃO!$A$1:$AQ$576,MATCH($M271,[1]RELAÇÃO!$AP$1:$AP$576,0),16)&\" de \"&INDEX([1]RELAÇÃO!$A$1:$AQ$576,MATCH($M271,[1]RELAÇÃO!$AP$1:$AP$576,0),15))","v":"Portaria nº 373, de 08/10/2020 - DOU de 13/10/2020"},null,null,{"$f":"IF($E271=0,\"-\",IF(INDEX([1]RELAÇÃO!$A$1:$AQ$576,MATCH($M271,[1]RELAÇÃO!$AP$1:$AP$576,0),8)=\"12.101.100\",\"-\",INDEX([1]RELAÇÃO!$A$1:$AQ$576,MATCH($M271,[1]RELAÇÃO!$AP$1:$AP$576,0),7)))","v":"-"},"SEE13"]
["Coordenação-Geral Gestão de Programas e Regulamentação","Coordenador-Geral","DAS 101.4","GER",{"$f":"INDEX([1]RELAÇÃO!$A$1:$AQ$576,MATCH($M272,[1]RELAÇÃO!$AP$1:$AP$576,0),1)","v":"ADRIMAR VENANCIO DO NASCIMENTO"},{"$f":"IF(E272=0,\"-\",LEFT(INDEX([1]RELAÇÃO!$A$1:$AQ$576,MATCH($M272,[1]RELAÇÃO!$AP$1:$AP$576,0),32),1))","v":"M"},{"$f":"IF(E272=0,\"-\",INDEX([1]RELAÇÃO!$A$1:$AQ$576,MATCH($M272,[1]RELAÇÃO!$AP$1:$AP$576,0),5))","v":"Exercício Descentralizado"},{"$f":"IF(E272=0,\"-\",INDEX([1]RELAÇÃO!$A$1:$AQ$576,MATCH($M272,[1]RELAÇÃO!$AP$1:$AP$576,0),6))","v":"ME - Ministério da Economia"},{"$f":"IF(E272=0,\"-\",INDEX([1]RELAÇÃO!$A$1:$AQ$576,MATCH($M272,[1]RELAÇÃO!$AP$1:$AP$576,0),12)&INDEX([1]RELAÇÃO!$A$1:$AQ$576,MATCH($M272,[1]RELAÇÃO!$AP$1:$AP$576,0),13)&\", de \"&INDEX([1]RELAÇÃO!$A$1:$AQ$576,MATCH($M272,[1]RELAÇÃO!$AP$1:$AP$576,0),14)&\" - \"&INDEX([1]RELAÇÃO!$A$1:$AQ$576,MATCH($M272,[1]RELAÇÃO!$AP$1:$AP$576,0),16)&\" de \"&INDEX([1]RELAÇÃO!$A$1:$AQ$576,MATCH($M272,[1]RELAÇÃO!$AP$1:$AP$576,0),15))","v":"Portaria nº 290, de 22/07/2019 - DOU de 25/07/2019"},{"$f":"INDEX([1]RELAÇÃO!$A$1:$AQ$576,MATCH($N272,[1]RELAÇÃO!$AQ$1:$AQ$576,0),1)","v":0},{"$f":"IF(J272=0,\"-\",INDEX([1]RELAÇÃO!$A$1:$AQ$576,MATCH($N272,[1]RELAÇÃO!$AQ$1:$AQ$576,0),27)&INDEX([1]RELAÇÃO!$A$1:$AQ$576,MATCH($N272,[1]RELAÇÃO!$AQ$1:$AQ$576,0),28)&\", de \"&INDEX([1]RELAÇÃO!$A$1:$AQ$576,MATCH($N272,[1]RELAÇÃO!$AQ$1:$AQ$576,0),29)&\" - \"&INDEX([1]RELAÇÃO!$A$1:$AQ$576,MATCH($N272,[1]RELAÇÃO!$AQ$1:$AQ$576,0),31)&\" de \"&INDEX([1]RELAÇÃO!$A$1:$AQ$576,MATCH($N272,[1]RELAÇÃO!$AQ$1:$AQ$576,0),30))","v":"-"},{"$f":"IF($E272=0,\"-\",IF(INDEX([1]RELAÇÃO!$A$1:$AQ$576,MATCH($M272,[1]RELAÇÃO!$AP$1:$AP$576,0),8)=\"12.101.200\",\"-\",INDEX([1]RELAÇÃO!$A$1:$AQ$576,MATCH($M272,[1]RELAÇÃO!$AP$1:$AP$576,0),7)))","v":"-"},"SEE14","SEE06S"]
[null,"Assessor Técnico","FCPE 102.3","ASS",{"$f":"INDEX([1]RELAÇÃO!$A$1:$AQ$576,MATCH($M273,[1]RELAÇÃO!$AP$1:$AP$576,0),1)","v":"ANDRÉ LUIZ DIAS DE OLIVEIRA"},{"$f":"IF(E273=0,\"-\",LEFT(INDEX([1]RELAÇÃO!$A$1:$AQ$576,MATCH($M273,[1]RELAÇÃO!$AP$1:$AP$576,0),32),1))","v":"M"},{"$f":"IF(E273=0,\"-\",INDEX([1]RELAÇÃO!$A$1:$AQ$576,MATCH($M273,[1]RELAÇÃO!$AP$1:$AP$576,0),5))","v":"Exercício Descentralizado"},{"$f":"IF(E273=0,\"-\",INDEX([1]RELAÇÃO!$A$1:$AQ$576,MATCH($M273,[1]RELAÇÃO!$AP$1:$AP$576,0),6))","v":"ME - Ministério da Economia"},{"$f":"IF(E273=0,\"-\",INDEX([1]RELAÇÃO!$A$1:$AQ$576,MATCH($M273,[1]RELAÇÃO!$AP$1:$AP$576,0),12)&INDEX([1]RELAÇÃO!$A$1:$AQ$576,MATCH($M273,[1]RELAÇÃO!$AP$1:$AP$576,0),13)&\", de \"&INDEX([1]RELAÇÃO!$A$1:$AQ$576,MATCH($M273,[1]RELAÇÃO!$AP$1:$AP$576,0),14)&\" - \"&INDEX([1]RELAÇÃO!$A$1:$AQ$576,MATCH($M273,[1]RELAÇÃO!$AP$1:$AP$576,0),16)&\" de \"&INDEX([1]RELAÇÃO!$A$1:$AQ$576,MATCH($M273,[1]RELAÇÃO!$AP$1:$AP$576,0),15))","v":"Portaria nº 260, de 29/06/2020 - DOU de 30/06/2020"},null,null,{"$f":"IF($E273=0,\"-\",IF(INDEX([1]RELAÇÃO!$A$1:$AQ$576,MATCH($M273,[1]RELAÇÃO!$AP$1:$AP$576,0),8)=\"12.101.200\",\"-\",INDEX([1]RELAÇÃO!$A$1:$AQ$576,MATCH($M273,[1]RELAÇÃO!$AP$1:$AP$576,0),7)))","v":"-"},"SEE15"]
["Departamento de Monitoramento do Sistema Elétrico","Diretor","DAS 101.5","GER",{"$f":"INDEX([1]RELAÇÃO!$A$1:$AQ$576,MATCH($M274,[1]RELAÇÃO!$AP$1:$AP$576,0),1)","v":"GUILHERME SILVA DE GODOI"},{"$f":"IF(E274=0,\"-\",LEFT(INDEX([1]RELAÇÃO!$A$1:$AQ$576,MATCH($M274,[1]RELAÇÃO!$AP$1:$AP$576,0),32),1))","v":"M"},{"$f":"IF(E274=0,\"-\",INDEX([1]RELAÇÃO!$A$1:$AQ$576,MATCH($M274,[1]RELAÇÃO!$AP$1:$AP$576,0),5))","v":"Exercício Descentralizado"},{"$f":"IF(E274=0,\"-\",INDEX([1]RELAÇÃO!$A$1:$AQ$576,MATCH($M274,[1]RELAÇÃO!$AP$1:$AP$576,0),6))","v":"ME - Ministério da Economia"},{"$f":"IF(E274=0,\"-\",INDEX([1]RELAÇÃO!$A$1:$AQ$576,MATCH($M274,[1]RELAÇÃO!$AP$1:$AP$576,0),12)&INDEX([1]RELAÇÃO!$A$1:$AQ$576,MATCH($M274,[1]RELAÇÃO!$AP$1:$AP$576,0),13)&\", de \"&INDEX([1]RELAÇÃO!$A$1:$AQ$576,MATCH($M274,[1]RELAÇÃO!$AP$1:$AP$576,0),14)&\" - \"&INDEX([1]RELAÇÃO!$A$1:$AQ$576,MATCH($M274,[1]RELAÇÃO!$AP$1:$AP$576,0),16)&\" de \"&INDEX([1]RELAÇÃO!$A$1:$AQ$576,MATCH($M274,[1]RELAÇÃO!$AP$1:$AP$576,0),15))","v":"Portaria nº 570, de 01/06/2018 - DOU de 04/06/2018"},{"$f":"INDEX([1]RELAÇÃO!$A$1:$AQ$576,MATCH($N274,[1]RELAÇÃO!$AQ$1:$AQ$576,0),1)","v":"IGOR SOUZA RIBEIRO"},{"$f":"IF(J274=0,\"-\",INDEX([1]RELAÇÃO!$A$1:$AQ$576,MATCH($N274,[1]RELAÇÃO!$AQ$1:$AQ$576,0),27)&INDEX([1]RELAÇÃO!$A$1:$AQ$576,MATCH($N274,[1]RELAÇÃO!$AQ$1:$AQ$576,0),28)&\", de \"&INDEX([1]RELAÇÃO!$A$1:$AQ$576,MATCH($N274,[1]RELAÇÃO!$AQ$1:$AQ$576,0),29)&\" - \"&INDEX([1]RELAÇÃO!$A$1:$AQ$576,MATCH($N274,[1]RELAÇÃO!$AQ$1:$AQ$576,0),31)&\" de \"&INDEX([1]RELAÇÃO!$A$1:$AQ$576,MATCH($N274,[1]RELAÇÃO!$AQ$1:$AQ$576,0),30))","v":"Portaria nº 224, de 27/05/2020 - DOU de 02/06/2020"},{"$f":"IF($E274=0,\"-\",IF(INDEX([1]RELAÇÃO!$A$1:$AQ$576,MATCH($M274,[1]RELAÇÃO!$AP$1:$AP$576,0),8)=\"12.102.000\",\"-\",INDEX([1]RELAÇÃO!$A$1:$AQ$576,MATCH($M274,[1]RELAÇÃO!$AP$1:$AP$576,0),7)))","v":"-"},"SEE16","SEE07S"]
[null,"Gerente de Projeto","  DAS 101.4",null,"Excluído pelo Dec. 9675/2019"]
[null,"Assistente","DAS 102.2","ASS",{"$f":"INDEX([1]RELAÇÃO!$A$1:$AQ$576,MATCH($M276,[1]RELAÇÃO!$AP$1:$AP$576,0),1)","v":"BEATRIZ BARBOSA DE MELO"},{"$f":"IF(E276=0,\"-\",LEFT(INDEX([1]RELAÇÃO!$A$1:$AQ$576,MATCH($M276,[1]RELAÇÃO!$AP$1:$AP$576,0),32),1))","v":"F"},{"$f":"IF(E276=0,\"-\",INDEX([1]RELAÇÃO!$A$1:$AQ$576,MATCH($M276,[1]RELAÇÃO!$AP$1:$AP$576,0),5))","v":"Sem Vínculo"},{"$f":"IF(E276=0,\"-\",INDEX([1]RELAÇÃO!$A$1:$AQ$576,MATCH($M276,[1]RELAÇÃO!$AP$1:$AP$576,0),6))","v":"Sem Vínculo"},{"$f":"IF(E276=0,\"-\",INDEX([1]RELAÇÃO!$A$1:$AQ$576,MATCH($M276,[1]RELAÇÃO!$AP$1:$AP$576,0),12)&INDEX([1]RELAÇÃO!$A$1:$AQ$576,MATCH($M276,[1]RELAÇÃO!$AP$1:$AP$576,0),13)&\", de \"&INDEX([1]RELAÇÃO!$A$1:$AQ$576,MATCH($M276,[1]RELAÇÃO!$AP$1:$AP$576,0),14)&\" - \"&INDEX([1]RELAÇÃO!$A$1:$AQ$576,MATCH($M276,[1]RELAÇÃO!$AP$1:$AP$576,0),16)&\" de \"&INDEX([1]RELAÇÃO!$A$1:$AQ$576,MATCH($M276,[1]RELAÇÃO!$AP$1:$AP$576,0),15))","v":"Portaria nº 524, de 03/11/2016 - BPE de 04/11/2016"},null,null,{"$f":"IF($E276=0,\"-\",IF(INDEX([1]RELAÇÃO!$A$1:$AQ$576,MATCH($M276,[1]RELAÇÃO!$AP$1:$AP$576,0),8)=\"12.102.000\",\"-\",INDEX([1]RELAÇÃO!$A$1:$AQ$576,MATCH($M276,[1]RELAÇÃO!$AP$1:$AP$576,0),7)))","v":"-"},"SEE17"]
[null,"Assistente","DAS 102.2","ASS",{"$f":"INDEX([1]RELAÇÃO!$A$1:$AQ$576,MATCH($M277,[1]RELAÇÃO!$AP$1:$AP$576,0),1)","v":"FABIANA ANGELICA AIRES"},{"$f":"IF(E277=0,\"-\",LEFT(INDEX([1]RELAÇÃO!$A$1:$AQ$576,MATCH($M277,[1]RELAÇÃO!$AP$1:$AP$576,0),32),1))","v":"F"},{"$f":"IF(E277=0,\"-\",INDEX([1]RELAÇÃO!$A$1:$AQ$576,MATCH($M277,[1]RELAÇÃO!$AP$1:$AP$576,0),5))","v":"Sem Vínculo"},{"$f":"IF(E277=0,\"-\",INDEX([1]RELAÇÃO!$A$1:$AQ$576,MATCH($M277,[1]RELAÇÃO!$AP$1:$AP$576,0),6))","v":"Sem Vínculo"},{"$f":"IF(E277=0,\"-\",INDEX([1]RELAÇÃO!$A$1:$AQ$576,MATCH($M277,[1]RELAÇÃO!$AP$1:$AP$576,0),12)&INDEX([1]RELAÇÃO!$A$1:$AQ$576,MATCH($M277,[1]RELAÇÃO!$AP$1:$AP$576,0),13)&\", de \"&INDEX([1]RELAÇÃO!$A$1:$AQ$576,MATCH($M277,[1]RELAÇÃO!$AP$1:$AP$576,0),14)&\" - \"&INDEX([1]RELAÇÃO!$A$1:$AQ$576,MATCH($M277,[1]RELAÇÃO!$AP$1:$AP$576,0),16)&\" de \"&INDEX([1]RELAÇÃO!$A$1:$AQ$576,MATCH($M277,[1]RELAÇÃO!$AP$1:$AP$576,0),15))","v":"Portaria nº 524, de 03/11/2016 - BPE de 04/11/2016"},null,null,{"$f":"IF($E277=0,\"-\",IF(INDEX([1]RELAÇÃO!$A$1:$AQ$576,MATCH($M277,[1]RELAÇÃO!$AP$1:$AP$576,0),8)=\"12.102.000\",\"-\",INDEX([1]RELAÇÃO!$A$1:$AQ$576,MATCH($M277,[1]RELAÇÃO!$AP$1:$AP$576,0),7)))","v":"-"},"SEE18"]
["Coordenação-Geral de Monitoramento da Expansão da Geração","Coordenador-Geral","DAS 101.4","GER",{"$f":"INDEX([1]RELAÇÃO!$A$1:$AQ$576,MATCH($M278,[1]RELAÇÃO!$AP$1:$AP$576,0),1)","v":"BIANCA MARIA MATOS DE ALENCAR BRAGA"},{"$f":"IF(E278=0,\"-\",LEFT(INDEX([1]RELAÇÃO!$A$1:$AQ$576,MATCH($M278,[1]RELAÇÃO!$AP$1:$AP$576,0),32),1))","v":"F"},{"$f":"IF(E278=0,\"-\",INDEX([1]RELAÇÃO!$A$1:$AQ$576,MATCH($M278,[1]RELAÇÃO!$AP$1:$AP$576,0),5))","v":"Exercício Descentralizado"},{"$f":"IF(E278=0,\"-\",INDEX([1]RELAÇÃO!$A$1:$AQ$576,MATCH($M278,[1]RELAÇÃO!$AP$1:$AP$576,0),6))","v":"ME - Ministério da Economia"},{"$f":"IF(E278=0,\"-\",INDEX([1]RELAÇÃO!$A$1:$AQ$576,MATCH($M278,[1]RELAÇÃO!$AP$1:$AP$576,0),12)&INDEX([1]RELAÇÃO!$A$1:$AQ$576,MATCH($M278,[1]RELAÇÃO!$AP$1:$AP$576,0),13)&\", de \"&INDEX([1]RELAÇÃO!$A$1:$AQ$576,MATCH($M278,[1]RELAÇÃO!$AP$1:$AP$576,0),14)&\" - \"&INDEX([1]RELAÇÃO!$A$1:$AQ$576,MATCH($M278,[1]RELAÇÃO!$AP$1:$AP$576,0),16)&\" de \"&INDEX([1]RELAÇÃO!$A$1:$AQ$576,MATCH($M278,[1]RELAÇÃO!$AP$1:$AP$576,0),15))","v":"Portaria nº 242, de 12/06/2020 - DOU de 15/06/2020"},{"$f":"INDEX([1]RELAÇÃO!$A$1:$AQ$576,MATCH($N278,[1]RELAÇÃO!$AQ$1:$AQ$576,0),1)","v":"TARCISIO TADEU DE CASTRO"},{"$f":"IF(J278=0,\"-\",INDEX([1]RELAÇÃO!$A$1:$AQ$576,MATCH($N278,[1]RELAÇÃO!$AQ$1:$AQ$576,0),27)&INDEX([1]RELAÇÃO!$A$1:$AQ$576,MATCH($N278,[1]RELAÇÃO!$AQ$1:$AQ$576,0),28)&\", de \"&INDEX([1]RELAÇÃO!$A$1:$AQ$576,MATCH($N278,[1]RELAÇÃO!$AQ$1:$AQ$576,0),29)&\" - \"&INDEX([1]RELAÇÃO!$A$1:$AQ$576,MATCH($N278,[1]RELAÇÃO!$AQ$1:$AQ$576,0),31)&\" de \"&INDEX([1]RELAÇÃO!$A$1:$AQ$576,MATCH($N278,[1]RELAÇÃO!$AQ$1:$AQ$576,0),30))","v":"Portaria nº 259, de 26/06/2020 - DOU de 30/06/2020"},{"$f":"IF($E278=0,\"-\",IF(INDEX([1]RELAÇÃO!$A$1:$AQ$576,MATCH($M278,[1]RELAÇÃO!$AP$1:$AP$576,0),8)=\"12.102.000\",\"-\",INDEX([1]RELAÇÃO!$A$1:$AQ$576,MATCH($M278,[1]RELAÇÃO!$AP$1:$AP$576,0),7)))","v":"SEE / DMSE / COORDENAÇÃO GERAL DE MONITORAMENTO DO DESEMPENHO DO SISTEMA ELÉTRICO"},"SEE19","SEE08S"]
[null,"Gerente de Projeto","DAS 101.4","GER",{"$f":"INDEX([1]RELAÇÃO!$A$1:$AQ$576,MATCH($M279,[1]RELAÇÃO!$AP$1:$AP$576,0),1)","v":"FERNANDO ANTONIO GIFFONI NORONHA LUZ"},{"$f":"IF(E279=0,\"-\",LEFT(INDEX([1]RELAÇÃO!$A$1:$AQ$576,MATCH($M279,[1]RELAÇÃO!$AP$1:$AP$576,0),32),1))","v":"M"},{"$f":"IF(E279=0,\"-\",INDEX([1]RELAÇÃO!$A$1:$AQ$576,MATCH($M279,[1]RELAÇÃO!$AP$1:$AP$576,0),5))","v":"Sem Vínculo"},{"$f":"IF(E279=0,\"-\",INDEX([1]RELAÇÃO!$A$1:$AQ$576,MATCH($M279,[1]RELAÇÃO!$AP$1:$AP$576,0),6))","v":"Sem Vínculo"},{"$f":"IF(E279=0,\"-\",INDEX([1]RELAÇÃO!$A$1:$AQ$576,MATCH($M279,[1]RELAÇÃO!$AP$1:$AP$576,0),12)&INDEX([1]RELAÇÃO!$A$1:$AQ$576,MATCH($M279,[1]RELAÇÃO!$AP$1:$AP$576,0),13)&\", de \"&INDEX([1]RELAÇÃO!$A$1:$AQ$576,MATCH($M279,[1]RELAÇÃO!$AP$1:$AP$576,0),14)&\" - \"&INDEX([1]RELAÇÃO!$A$1:$AQ$576,MATCH($M279,[1]RELAÇÃO!$AP$1:$AP$576,0),16)&\" de \"&INDEX([1]RELAÇÃO!$A$1:$AQ$576,MATCH($M279,[1]RELAÇÃO!$AP$1:$AP$576,0),15))","v":"Portaria nº 578, de 03/11/2016 - DOU de 04/11/2016"},{"$f":"INDEX([1]RELAÇÃO!$A$1:$AQ$576,MATCH($N279,[1]RELAÇÃO!$AQ$1:$AQ$576,0),1)","v":0},{"$f":"IF(J279=0,\"-\",INDEX([1]RELAÇÃO!$A$1:$AQ$576,MATCH($N279,[1]RELAÇÃO!$AQ$1:$AQ$576,0),27)&INDEX([1]RELAÇÃO!$A$1:$AQ$576,MATCH($N279,[1]RELAÇÃO!$AQ$1:$AQ$576,0),28)&\", de \"&INDEX([1]RELAÇÃO!$A$1:$AQ$576,MATCH($N279,[1]RELAÇÃO!$AQ$1:$AQ$576,0),29)&\" - \"&INDEX([1]RELAÇÃO!$A$1:$AQ$576,MATCH($N279,[1]RELAÇÃO!$AQ$1:$AQ$576,0),31)&\" de \"&INDEX([1]RELAÇÃO!$A$1:$AQ$576,MATCH($N279,[1]RELAÇÃO!$AQ$1:$AQ$576,0),30))","v":"-"},{"$f":"IF($E279=0,\"-\",IF(INDEX([1]RELAÇÃO!$A$1:$AQ$576,MATCH($M279,[1]RELAÇÃO!$AP$1:$AP$576,0),8)=\"12.102.100\",\"-\",INDEX([1]RELAÇÃO!$A$1:$AQ$576,MATCH($M279,[1]RELAÇÃO!$AP$1:$AP$576,0),7)))","v":"-"},"SEE20","SEE09S"]
[null,"Assistente","DAS 102.2","ASS",{"$f":"INDEX([1]RELAÇÃO!$A$1:$AQ$576,MATCH($M280,[1]RELAÇÃO!$AP$1:$AP$576,0),1)","v":"LUIZ AUGUSTO GOMES DE OLIVEIRA"},{"$f":"IF(E280=0,\"-\",LEFT(INDEX([1]RELAÇÃO!$A$1:$AQ$576,MATCH($M280,[1]RELAÇÃO!$AP$1:$AP$576,0),32),1))","v":"M"},{"$f":"IF(E280=0,\"-\",INDEX([1]RELAÇÃO!$A$1:$AQ$576,MATCH($M280,[1]RELAÇÃO!$AP$1:$AP$576,0),5))","v":"Sem Vínculo"},{"$f":"IF(E280=0,\"-\",INDEX([1]RELAÇÃO!$A$1:$AQ$576,MATCH($M280,[1]RELAÇÃO!$AP$1:$AP$576,0),6))","v":"Sem Vínculo"},{"$f":"IF(E280=0,\"-\",INDEX([1]RELAÇÃO!$A$1:$AQ$576,MATCH($M280,[1]RELAÇÃO!$AP$1:$AP$576,0),12)&INDEX([1]RELAÇÃO!$A$1:$AQ$576,MATCH($M280,[1]RELAÇÃO!$AP$1:$AP$576,0),13)&\", de \"&INDEX([1]RELAÇÃO!$A$1:$AQ$576,MATCH($M280,[1]RELAÇÃO!$AP$1:$AP$576,0),14)&\" - \"&INDEX([1]RELAÇÃO!$A$1:$AQ$576,MATCH($M280,[1]RELAÇÃO!$AP$1:$AP$576,0),16)&\" de \"&INDEX([1]RELAÇÃO!$A$1:$AQ$576,MATCH($M280,[1]RELAÇÃO!$AP$1:$AP$576,0),15))","v":"Portaria nº 524, de 03/11/2016 - BPE de 04/11/2016"},null,null,{"$f":"IF($E280=0,\"-\",IF(INDEX([1]RELAÇÃO!$A$1:$AQ$576,MATCH($M280,[1]RELAÇÃO!$AP$1:$AP$576,0),8)=\"12.102.100\",\"-\",INDEX([1]RELAÇÃO!$A$1:$AQ$576,MATCH($M280,[1]RELAÇÃO!$AP$1:$AP$576,0),7)))","v":"-"},"SEE21"]
["Coordenação-Geral de Monitoramento da Expansão da Transmissão ","Coordenador-Geral"," FCPE 101.4","GER",{"$f":"INDEX([1]RELAÇÃO!$A$1:$AQ$576,MATCH($M281,[1]RELAÇÃO!$AP$1:$AP$576,0),1)","v":"ANDRÉ GROBÉRIO LOPES PERIM"},{"$f":"IF(E281=0,\"-\",LEFT(INDEX([1]RELAÇÃO!$A$1:$AQ$576,MATCH($M281,[1]RELAÇÃO!$AP$1:$AP$576,0),32),1))","v":"M"},{"$f":"IF(E281=0,\"-\",INDEX([1]RELAÇÃO!$A$1:$AQ$576,MATCH($M281,[1]RELAÇÃO!$AP$1:$AP$576,0),5))","v":"Exercício Descentralizado"},{"$f":"IF(E281=0,\"-\",INDEX([1]RELAÇÃO!$A$1:$AQ$576,MATCH($M281,[1]RELAÇÃO!$AP$1:$AP$576,0),6))","v":"ME - Ministério da Economia"},{"$f":"IF(E281=0,\"-\",INDEX([1]RELAÇÃO!$A$1:$AQ$576,MATCH($M281,[1]RELAÇÃO!$AP$1:$AP$576,0),12)&INDEX([1]RELAÇÃO!$A$1:$AQ$576,MATCH($M281,[1]RELAÇÃO!$AP$1:$AP$576,0),13)&\", de \"&INDEX([1]RELAÇÃO!$A$1:$AQ$576,MATCH($M281,[1]RELAÇÃO!$AP$1:$AP$576,0),14)&\" - \"&INDEX([1]RELAÇÃO!$A$1:$AQ$576,MATCH($M281,[1]RELAÇÃO!$AP$1:$AP$576,0),16)&\" de \"&INDEX([1]RELAÇÃO!$A$1:$AQ$576,MATCH($M281,[1]RELAÇÃO!$AP$1:$AP$576,0),15))","v":"Portaria nº 170, de 19/03/2019 - DOU de 20/03/2019"},{"$f":"INDEX([1]RELAÇÃO!$A$1:$AQ$576,MATCH($N281,[1]RELAÇÃO!$AQ$1:$AQ$576,0),1)","v":"JOÃO ALOÍSIO VIEIRA"},{"$f":"IF(J281=0,\"-\",INDEX([1]RELAÇÃO!$A$1:$AQ$576,MATCH($N281,[1]RELAÇÃO!$AQ$1:$AQ$576,0),27)&INDEX([1]RELAÇÃO!$A$1:$AQ$576,MATCH($N281,[1]RELAÇÃO!$AQ$1:$AQ$576,0),28)&\", de \"&INDEX([1]RELAÇÃO!$A$1:$AQ$576,MATCH($N281,[1]RELAÇÃO!$AQ$1:$AQ$576,0),29)&\" - \"&INDEX([1]RELAÇÃO!$A$1:$AQ$576,MATCH($N281,[1]RELAÇÃO!$AQ$1:$AQ$576,0),31)&\" de \"&INDEX([1]RELAÇÃO!$A$1:$AQ$576,MATCH($N281,[1]RELAÇÃO!$AQ$1:$AQ$576,0),30))","v":"Portaria nº 350, de 10/09/2019 - DOU de 13/09/2019"},{"$f":"IF($E281=0,\"-\",IF(INDEX([1]RELAÇÃO!$A$1:$AQ$576,MATCH($M281,[1]RELAÇÃO!$AP$1:$AP$576,0),8)=\"12.102.200\",\"-\",INDEX([1]RELAÇÃO!$A$1:$AQ$576,MATCH($M281,[1]RELAÇÃO!$AP$1:$AP$576,0),7)))","v":"-"},"SEE22","SEE10S"]
[null,"Assessor Técnico","DAS 102.3","ASS",{"$f":"INDEX([1]RELAÇÃO!$A$1:$AQ$576,MATCH($M282,[1]RELAÇÃO!$AP$1:$AP$576,0),1)","v":"EMANOELLE DE OLIVEIRA LIMA"},{"$f":"IF(E282=0,\"-\",LEFT(INDEX([1]RELAÇÃO!$A$1:$AQ$576,MATCH($M282,[1]RELAÇÃO!$AP$1:$AP$576,0),32),1))","v":"F"},{"$f":"IF(E282=0,\"-\",INDEX([1]RELAÇÃO!$A$1:$AQ$576,MATCH($M282,[1]RELAÇÃO!$AP$1:$AP$576,0),5))","v":"Sem Vínculo"},{"$f":"IF(E282=0,\"-\",INDEX([1]RELAÇÃO!$A$1:$AQ$576,MATCH($M282,[1]RELAÇÃO!$AP$1:$AP$576,0),6))","v":"Sem Vínculo"},{"$f":"IF(E282=0,\"-\",INDEX([1]RELAÇÃO!$A$1:$AQ$576,MATCH($M282,[1]RELAÇÃO!$AP$1:$AP$576,0),12)&INDEX([1]RELAÇÃO!$A$1:$AQ$576,MATCH($M282,[1]RELAÇÃO!$AP$1:$AP$576,0),13)&\", de \"&INDEX([1]RELAÇÃO!$A$1:$AQ$576,MATCH($M282,[1]RELAÇÃO!$AP$1:$AP$576,0),14)&\" - \"&INDEX([1]RELAÇÃO!$A$1:$AQ$576,MATCH($M282,[1]RELAÇÃO!$AP$1:$AP$576,0),16)&\" de \"&INDEX([1]RELAÇÃO!$A$1:$AQ$576,MATCH($M282,[1]RELAÇÃO!$AP$1:$AP$576,0),15))","v":"Portaria nº 524, de 03/11/2016 - BPE de 04/11/2016"},null,null,{"$f":"IF($E282=0,\"-\",IF(INDEX([1]RELAÇÃO!$A$1:$AQ$576,MATCH($M282,[1]RELAÇÃO!$AP$1:$AP$576,0),8)=\"12.102.200\",\"-\",INDEX([1]RELAÇÃO!$A$1:$AQ$576,MATCH($M282,[1]RELAÇÃO!$AP$1:$AP$576,0),7)))","v":"-"},"SEE23"]
["Coordenação-Geral de Monitoramento da Distribuição","Coordenador-Geral","DAS 101.4","GER",{"$f":"INDEX([1]RELAÇÃO!$A$1:$AQ$576,MATCH($M283,[1]RELAÇÃO!$AP$1:$AP$576,0),1)","v":"VICTOR PROTAZIO DA SILVA"},{"$f":"IF(E283=0,\"-\",LEFT(INDEX([1]RELAÇÃO!$A$1:$AQ$576,MATCH($M283,[1]RELAÇÃO!$AP$1:$AP$576,0),32),1))","v":"M"},{"$f":"IF(E283=0,\"-\",INDEX([1]RELAÇÃO!$A$1:$AQ$576,MATCH($M283,[1]RELAÇÃO!$AP$1:$AP$576,0),5))","v":"Exercício Descentralizado"},{"$f":"IF(E283=0,\"-\",INDEX([1]RELAÇÃO!$A$1:$AQ$576,MATCH($M283,[1]RELAÇÃO!$AP$1:$AP$576,0),6))","v":"ME - Ministério da Economia"},{"$f":"IF(E283=0,\"-\",INDEX([1]RELAÇÃO!$A$1:$AQ$576,MATCH($M283,[1]RELAÇÃO!$AP$1:$AP$576,0),12)&INDEX([1]RELAÇÃO!$A$1:$AQ$576,MATCH($M283,[1]RELAÇÃO!$AP$1:$AP$576,0),13)&\", de \"&INDEX([1]RELAÇÃO!$A$1:$AQ$576,MATCH($M283,[1]RELAÇÃO!$AP$1:$AP$576,0),14)&\" - \"&INDEX([1]RELAÇÃO!$A$1:$AQ$576,MATCH($M283,[1]RELAÇÃO!$AP$1:$AP$576,0),16)&\" de \"&INDEX([1]RELAÇÃO!$A$1:$AQ$576,MATCH($M283,[1]RELAÇÃO!$AP$1:$AP$576,0),15))","v":"Portaria nº 53, de 17/02/2020 - DOU de 20/02/2020"},{"$f":"INDEX([1]RELAÇÃO!$A$1:$AQ$576,MATCH($N283,[1]RELAÇÃO!$AQ$1:$AQ$576,0),1)","v":"EUCIMAR KWIATKOWSKI AUGUSTINHAK"},{"$f":"IF(J283=0,\"-\",INDEX([1]RELAÇÃO!$A$1:$AQ$576,MATCH($N283,[1]RELAÇÃO!$AQ$1:$AQ$576,0),27)&INDEX([1]RELAÇÃO!$A$1:$AQ$576,MATCH($N283,[1]RELAÇÃO!$AQ$1:$AQ$576,0),28)&\", de \"&INDEX([1]RELAÇÃO!$A$1:$AQ$576,MATCH($N283,[1]RELAÇÃO!$AQ$1:$AQ$576,0),29)&\" - \"&INDEX([1]RELAÇÃO!$A$1:$AQ$576,MATCH($N283,[1]RELAÇÃO!$AQ$1:$AQ$576,0),31)&\" de \"&INDEX([1]RELAÇÃO!$A$1:$AQ$576,MATCH($N283,[1]RELAÇÃO!$AQ$1:$AQ$576,0),30))","v":"Portaria nº 256, de 24/06/2020 - DOU de 25/06/2020"},{"$f":"IF($E283=0,\"-\",IF(INDEX([1]RELAÇÃO!$A$1:$AQ$576,MATCH($M283,[1]RELAÇÃO!$AP$1:$AP$576,0),8)=\"12.102.300\",\"-\",INDEX([1]RELAÇÃO!$A$1:$AQ$576,MATCH($M283,[1]RELAÇÃO!$AP$1:$AP$576,0),7)))","v":"-"},"SEE24","SEE11S"]
["Coordenação-Geral Monitoramento do Desempenho do Sistema Elétrico","Coordenador-Geral","  FCPE 101.4","GER",{"$f":"INDEX([1]RELAÇÃO!$A$1:$AQ$576,MATCH($M284,[1]RELAÇÃO!$AP$1:$AP$576,0),1)","v":"IGOR SOUZA RIBEIRO"},{"$f":"IF(E284=0,\"-\",LEFT(INDEX([1]RELAÇÃO!$A$1:$AQ$576,MATCH($M284,[1]RELAÇÃO!$AP$1:$AP$576,0),32),1))","v":"M"},{"$f":"IF(E284=0,\"-\",INDEX([1]RELAÇÃO!$A$1:$AQ$576,MATCH($M284,[1]RELAÇÃO!$AP$1:$AP$576,0),5))","v":"Exercício Descentralizado"},{"$f":"IF(E284=0,\"-\",INDEX([1]RELAÇÃO!$A$1:$AQ$576,MATCH($M284,[1]RELAÇÃO!$AP$1:$AP$576,0),6))","v":"ME - Ministério da Economia"},{"$f":"IF(E284=0,\"-\",INDEX([1]RELAÇÃO!$A$1:$AQ$576,MATCH($M284,[1]RELAÇÃO!$AP$1:$AP$576,0),12)&INDEX([1]RELAÇÃO!$A$1:$AQ$576,MATCH($M284,[1]RELAÇÃO!$AP$1:$AP$576,0),13)&\", de \"&INDEX([1]RELAÇÃO!$A$1:$AQ$576,MATCH($M284,[1]RELAÇÃO!$AP$1:$AP$576,0),14)&\" - \"&INDEX([1]RELAÇÃO!$A$1:$AQ$576,MATCH($M284,[1]RELAÇÃO!$AP$1:$AP$576,0),16)&\" de \"&INDEX([1]RELAÇÃO!$A$1:$AQ$576,MATCH($M284,[1]RELAÇÃO!$AP$1:$AP$576,0),15))","v":"Portaria nº 218, de 04/06/2018 - DOU de 06/06/2018"},{"$f":"INDEX([1]RELAÇÃO!$A$1:$AQ$576,MATCH($N284,[1]RELAÇÃO!$AQ$1:$AQ$576,0),1)","v":"MARLIAN LEAO DE OLIVEIRA"},{"$f":"IF(J284=0,\"-\",INDEX([1]RELAÇÃO!$A$1:$AQ$576,MATCH($N284,[1]RELAÇÃO!$AQ$1:$AQ$576,0),27)&INDEX([1]RELAÇÃO!$A$1:$AQ$576,MATCH($N284,[1]RELAÇÃO!$AQ$1:$AQ$576,0),28)&\", de \"&INDEX([1]RELAÇÃO!$A$1:$AQ$576,MATCH($N284,[1]RELAÇÃO!$AQ$1:$AQ$576,0),29)&\" - \"&INDEX([1]RELAÇÃO!$A$1:$AQ$576,MATCH($N284,[1]RELAÇÃO!$AQ$1:$AQ$576,0),31)&\" de \"&INDEX([1]RELAÇÃO!$A$1:$AQ$576,MATCH($N284,[1]RELAÇÃO!$AQ$1:$AQ$576,0),30))","v":"Portaria nº 329, de 03/09/2020 - DOU de 08/09/2020"},{"$f":"IF($E284=0,\"-\",IF(INDEX([1]RELAÇÃO!$A$1:$AQ$576,MATCH($M284,[1]RELAÇÃO!$AP$1:$AP$576,0),8)=\"12.102.400\",\"-\",INDEX([1]RELAÇÃO!$A$1:$AQ$576,MATCH($M284,[1]RELAÇÃO!$AP$1:$AP$576,0),7)))","v":"-"},"SEE25","SEE12S"]
[null,"Gerente de Projeto","DAS 101.4","GER",{"$f":"INDEX([1]RELAÇÃO!$A$1:$AQ$576,MATCH($M285,[1]RELAÇÃO!$AP$1:$AP$576,0),1)","v":"ISAAC PINTO AVERBUCH"},{"$f":"IF(E285=0,\"-\",LEFT(INDEX([1]RELAÇÃO!$A$1:$AQ$576,MATCH($M285,[1]RELAÇÃO!$AP$1:$AP$576,0),32),1))","v":"M"},{"$f":"IF(E285=0,\"-\",INDEX([1]RELAÇÃO!$A$1:$AQ$576,MATCH($M285,[1]RELAÇÃO!$AP$1:$AP$576,0),5))","v":"Exercício Descentralizado"},{"$f":"IF(E285=0,\"-\",INDEX([1]RELAÇÃO!$A$1:$AQ$576,MATCH($M285,[1]RELAÇÃO!$AP$1:$AP$576,0),6))","v":"ME - Ministério da Economia"},{"$f":"IF(E285=0,\"-\",INDEX([1]RELAÇÃO!$A$1:$AQ$576,MATCH($M285,[1]RELAÇÃO!$AP$1:$AP$576,0),12)&INDEX([1]RELAÇÃO!$A$1:$AQ$576,MATCH($M285,[1]RELAÇÃO!$AP$1:$AP$576,0),13)&\", de \"&INDEX([1]RELAÇÃO!$A$1:$AQ$576,MATCH($M285,[1]RELAÇÃO!$AP$1:$AP$576,0),14)&\" - \"&INDEX([1]RELAÇÃO!$A$1:$AQ$576,MATCH($M285,[1]RELAÇÃO!$AP$1:$AP$576,0),16)&\" de \"&INDEX([1]RELAÇÃO!$A$1:$AQ$576,MATCH($M285,[1]RELAÇÃO!$AP$1:$AP$576,0),15))","v":"Portaria nº 227, de 29/05/2020 - DOU de 02/06/2020"},{"$f":"INDEX([1]RELAÇÃO!$A$1:$AQ$576,MATCH($N285,[1]RELAÇÃO!$AQ$1:$AQ$576,0),1)","v":0},{"$f":"IF(J285=0,\"-\",INDEX([1]RELAÇÃO!$A$1:$AQ$576,MATCH($N285,[1]RELAÇÃO!$AQ$1:$AQ$576,0),27)&INDEX([1]RELAÇÃO!$A$1:$AQ$576,MATCH($N285,[1]RELAÇÃO!$AQ$1:$AQ$576,0),28)&\", de \"&INDEX([1]RELAÇÃO!$A$1:$AQ$576,MATCH($N285,[1]RELAÇÃO!$AQ$1:$AQ$576,0),29)&\" - \"&INDEX([1]RELAÇÃO!$A$1:$AQ$576,MATCH($N285,[1]RELAÇÃO!$AQ$1:$AQ$576,0),31)&\" de \"&INDEX([1]RELAÇÃO!$A$1:$AQ$576,MATCH($N285,[1]RELAÇÃO!$AQ$1:$AQ$576,0),30))","v":"-"},{"$f":"IF($E285=0,\"-\",IF(INDEX([1]RELAÇÃO!$A$1:$AQ$576,MATCH($M285,[1]RELAÇÃO!$AP$1:$AP$576,0),8)=\"12.102.400\",\"-\",INDEX([1]RELAÇÃO!$A$1:$AQ$576,MATCH($M285,[1]RELAÇÃO!$AP$1:$AP$576,0),7)))","v":"-"},"SEE26","SEE13S"]
["Departamento de Políticas Sociais e Universalização do Acesso à Energia","Diretor","DAS 101.5","GER",{"$f":"INDEX([1]RELAÇÃO!$A$1:$AQ$576,MATCH($M286,[1]RELAÇÃO!$AP$1:$AP$576,0),1)","v":"RODRIGO SANTANA"},{"$f":"IF(E286=0,\"-\",LEFT(INDEX([1]RELAÇÃO!$A$1:$AQ$576,MATCH($M286,[1]RELAÇÃO!$AP$1:$AP$576,0),32),1))","v":"M"},{"$f":"IF(E286=0,\"-\",INDEX([1]RELAÇÃO!$A$1:$AQ$576,MATCH($M286,[1]RELAÇÃO!$AP$1:$AP$576,0),5))","v":"Requisitado de Órgãos"},{"$f":"IF(E286=0,\"-\",INDEX([1]RELAÇÃO!$A$1:$AQ$576,MATCH($M286,[1]RELAÇÃO!$AP$1:$AP$576,0),6))","v":"ANEEL - Agência Nacional de Energia Elétrica"},{"$f":"IF(E286=0,\"-\",INDEX([1]RELAÇÃO!$A$1:$AQ$576,MATCH($M286,[1]RELAÇÃO!$AP$1:$AP$576,0),12)&INDEX([1]RELAÇÃO!$A$1:$AQ$576,MATCH($M286,[1]RELAÇÃO!$AP$1:$AP$576,0),13)&\", de \"&INDEX([1]RELAÇÃO!$A$1:$AQ$576,MATCH($M286,[1]RELAÇÃO!$AP$1:$AP$576,0),14)&\" - \"&INDEX([1]RELAÇÃO!$A$1:$AQ$576,MATCH($M286,[1]RELAÇÃO!$AP$1:$AP$576,0),16)&\" de \"&INDEX([1]RELAÇÃO!$A$1:$AQ$576,MATCH($M286,[1]RELAÇÃO!$AP$1:$AP$576,0),15))","v":"Portaria nº 197, de 27/04/2020 - DOU de 28/04/2020"},{"$f":"INDEX([1]RELAÇÃO!$A$1:$AQ$576,MATCH($N286,[1]RELAÇÃO!$AQ$1:$AQ$576,0),1)","v":"PAULO GONÇALVES CERQUEIRA"},{"$f":"IF(J286=0,\"-\",INDEX([1]RELAÇÃO!$A$1:$AQ$576,MATCH($N286,[1]RELAÇÃO!$AQ$1:$AQ$576,0),27)&INDEX([1]RELAÇÃO!$A$1:$AQ$576,MATCH($N286,[1]RELAÇÃO!$AQ$1:$AQ$576,0),28)&\", de \"&INDEX([1]RELAÇÃO!$A$1:$AQ$576,MATCH($N286,[1]RELAÇÃO!$AQ$1:$AQ$576,0),29)&\" - \"&INDEX([1]RELAÇÃO!$A$1:$AQ$576,MATCH($N286,[1]RELAÇÃO!$AQ$1:$AQ$576,0),31)&\" de \"&INDEX([1]RELAÇÃO!$A$1:$AQ$576,MATCH($N286,[1]RELAÇÃO!$AQ$1:$AQ$576,0),30))","v":"Portaria nº 675, de 05/12/2016 - DOU de 06/12/2016"},{"$f":"IF($E286=0,\"-\",IF(INDEX([1]RELAÇÃO!$A$1:$AQ$576,MATCH($M286,[1]RELAÇÃO!$AP$1:$AP$576,0),8)=\"12.103.000\",\"-\",INDEX([1]RELAÇÃO!$A$1:$AQ$576,MATCH($M286,[1]RELAÇÃO!$AP$1:$AP$576,0),7)))","v":"-"},"SEE27","SEE14S"]
[null,"Assistente","DAS 102.2","ASS",{"$f":"INDEX([1]RELAÇÃO!$A$1:$AQ$576,MATCH($M287,[1]RELAÇÃO!$AP$1:$AP$576,0),1)","v":0},{"$f":"IF(E287=0,\"-\",LEFT(INDEX([1]RELAÇÃO!$A$1:$AQ$576,MATCH($M287,[1]RELAÇÃO!$AP$1:$AP$576,0),32),1))","v":"-"},{"$f":"IF(E287=0,\"-\",INDEX([1]RELAÇÃO!$A$1:$AQ$576,MATCH($M287,[1]RELAÇÃO!$AP$1:$AP$576,0),5))","v":"-"},{"$f":"IF(E287=0,\"-\",INDEX([1]RELAÇÃO!$A$1:$AQ$576,MATCH($M287,[1]RELAÇÃO!$AP$1:$AP$576,0),6))","v":"-"},{"$f":"IF(E287=0,\"-\",INDEX([1]RELAÇÃO!$A$1:$AQ$576,MATCH($M287,[1]RELAÇÃO!$AP$1:$AP$576,0),12)&INDEX([1]RELAÇÃO!$A$1:$AQ$576,MATCH($M287,[1]RELAÇÃO!$AP$1:$AP$576,0),13)&\", de \"&INDEX([1]RELAÇÃO!$A$1:$AQ$576,MATCH($M287,[1]RELAÇÃO!$AP$1:$AP$576,0),14)&\" - \"&INDEX([1]RELAÇÃO!$A$1:$AQ$576,MATCH($M287,[1]RELAÇÃO!$AP$1:$AP$576,0),16)&\" de \"&INDEX([1]RELAÇÃO!$A$1:$AQ$576,MATCH($M287,[1]RELAÇÃO!$AP$1:$AP$576,0),15))","v":"-"},null,null,{"$f":"IF($E287=0,\"-\",IF(INDEX([1]RELAÇÃO!$A$1:$AQ$576,MATCH($M287,[1]RELAÇÃO!$AP$1:$AP$576,0),8)=\"12.103.000\",\"-\",INDEX([1]RELAÇÃO!$A$1:$AQ$576,MATCH($M287,[1]RELAÇÃO!$AP$1:$AP$576,0),7)))","v":"-"},"SEE28"]
["Coordenação-Geral de Desenvolvimento de Políticas Sociais","Coordenador-Geral","DAS 101.4","GER",{"$f":"INDEX([1]RELAÇÃO!$A$1:$AQ$576,MATCH($M288,[1]RELAÇÃO!$AP$1:$AP$576,0),1)","v":"PAULO GONÇALVES CERQUEIRA"},{"$f":"IF(E288=0,\"-\",LEFT(INDEX([1]RELAÇÃO!$A$1:$AQ$576,MATCH($M288,[1]RELAÇÃO!$AP$1:$AP$576,0),32),1))","v":"M"},{"$f":"IF(E288=0,\"-\",INDEX([1]RELAÇÃO!$A$1:$AQ$576,MATCH($M288,[1]RELAÇÃO!$AP$1:$AP$576,0),5))","v":"Requisitado de Empresa"},{"$f":"IF(E288=0,\"-\",INDEX([1]RELAÇÃO!$A$1:$AQ$576,MATCH($M288,[1]RELAÇÃO!$AP$1:$AP$576,0),6))","v":"FURNAS - Centrais Elétricas S/A"},{"$f":"IF(E288=0,\"-\",INDEX([1]RELAÇÃO!$A$1:$AQ$576,MATCH($M288,[1]RELAÇÃO!$AP$1:$AP$576,0),12)&INDEX([1]RELAÇÃO!$A$1:$AQ$576,MATCH($M288,[1]RELAÇÃO!$AP$1:$AP$576,0),13)&\", de \"&INDEX([1]RELAÇÃO!$A$1:$AQ$576,MATCH($M288,[1]RELAÇÃO!$AP$1:$AP$576,0),14)&\" - \"&INDEX([1]RELAÇÃO!$A$1:$AQ$576,MATCH($M288,[1]RELAÇÃO!$AP$1:$AP$576,0),16)&\" de \"&INDEX([1]RELAÇÃO!$A$1:$AQ$576,MATCH($M288,[1]RELAÇÃO!$AP$1:$AP$576,0),15))","v":"Portaria nº 524, de 03/11/2016 - BPE de 04/11/2016"},{"$f":"INDEX([1]RELAÇÃO!$A$1:$AQ$576,MATCH($N288,[1]RELAÇÃO!$AQ$1:$AQ$576,0),1)","v":"ANDRÉ LUIZ DIAS DE OLIVEIRA"},{"$f":"IF(J288=0,\"-\",INDEX([1]RELAÇÃO!$A$1:$AQ$576,MATCH($N288,[1]RELAÇÃO!$AQ$1:$AQ$576,0),27)&INDEX([1]RELAÇÃO!$A$1:$AQ$576,MATCH($N288,[1]RELAÇÃO!$AQ$1:$AQ$576,0),28)&\", de \"&INDEX([1]RELAÇÃO!$A$1:$AQ$576,MATCH($N288,[1]RELAÇÃO!$AQ$1:$AQ$576,0),29)&\" - \"&INDEX([1]RELAÇÃO!$A$1:$AQ$576,MATCH($N288,[1]RELAÇÃO!$AQ$1:$AQ$576,0),31)&\" de \"&INDEX([1]RELAÇÃO!$A$1:$AQ$576,MATCH($N288,[1]RELAÇÃO!$AQ$1:$AQ$576,0),30))","v":"Portaria nº 454, de 06/12/2019 - DOU de 11/12/2019"},{"$f":"IF($E288=0,\"-\",IF(INDEX([1]RELAÇÃO!$A$1:$AQ$576,MATCH($M288,[1]RELAÇÃO!$AP$1:$AP$576,0),8)=\"12.103.100\",\"-\",INDEX([1]RELAÇÃO!$A$1:$AQ$576,MATCH($M288,[1]RELAÇÃO!$AP$1:$AP$576,0),7)))","v":"-"},"SEE29","SEE15S"]
["Coordenação-Geral de Universalização do Acesso à Energia","Coordenador-Geral","DAS 101.4","GER",{"$f":"INDEX([1]RELAÇÃO!$A$1:$AQ$576,MATCH($M289,[1]RELAÇÃO!$AP$1:$AP$576,0),1)","v":"CONCEICAO CRISTINA ARAUJO LIMA"},{"$f":"IF(E289=0,\"-\",LEFT(INDEX([1]RELAÇÃO!$A$1:$AQ$576,MATCH($M289,[1]RELAÇÃO!$AP$1:$AP$576,0),32),1))","v":"F"},{"$f":"IF(E289=0,\"-\",INDEX([1]RELAÇÃO!$A$1:$AQ$576,MATCH($M289,[1]RELAÇÃO!$AP$1:$AP$576,0),5))","v":"Sem Vínculo"},{"$f":"IF(E289=0,\"-\",INDEX([1]RELAÇÃO!$A$1:$AQ$576,MATCH($M289,[1]RELAÇÃO!$AP$1:$AP$576,0),6))","v":"Sem Vínculo"},{"$f":"IF(E289=0,\"-\",INDEX([1]RELAÇÃO!$A$1:$AQ$576,MATCH($M289,[1]RELAÇÃO!$AP$1:$AP$576,0),12)&INDEX([1]RELAÇÃO!$A$1:$AQ$576,MATCH($M289,[1]RELAÇÃO!$AP$1:$AP$576,0),13)&\", de \"&INDEX([1]RELAÇÃO!$A$1:$AQ$576,MATCH($M289,[1]RELAÇÃO!$AP$1:$AP$576,0),14)&\" - \"&INDEX([1]RELAÇÃO!$A$1:$AQ$576,MATCH($M289,[1]RELAÇÃO!$AP$1:$AP$576,0),16)&\" de \"&INDEX([1]RELAÇÃO!$A$1:$AQ$576,MATCH($M289,[1]RELAÇÃO!$AP$1:$AP$576,0),15))","v":"Portaria nº 619, de 16/11/2016 - DOU de 17/11/2016"},{"$f":"INDEX([1]RELAÇÃO!$A$1:$AQ$576,MATCH($N289,[1]RELAÇÃO!$AQ$1:$AQ$576,0),1)","v":"HAMILTON CHIARINI DE ALCÂNTARA"},{"$f":"IF(J289=0,\"-\",INDEX([1]RELAÇÃO!$A$1:$AQ$576,MATCH($N289,[1]RELAÇÃO!$AQ$1:$AQ$576,0),27)&INDEX([1]RELAÇÃO!$A$1:$AQ$576,MATCH($N289,[1]RELAÇÃO!$AQ$1:$AQ$576,0),28)&\", de \"&INDEX([1]RELAÇÃO!$A$1:$AQ$576,MATCH($N289,[1]RELAÇÃO!$AQ$1:$AQ$576,0),29)&\" - \"&INDEX([1]RELAÇÃO!$A$1:$AQ$576,MATCH($N289,[1]RELAÇÃO!$AQ$1:$AQ$576,0),31)&\" de \"&INDEX([1]RELAÇÃO!$A$1:$AQ$576,MATCH($N289,[1]RELAÇÃO!$AQ$1:$AQ$576,0),30))","v":"Portaria nº 677, de 05/12/2016 - DOU de 06/12/2016"},{"$f":"IF($E289=0,\"-\",IF(INDEX([1]RELAÇÃO!$A$1:$AQ$576,MATCH($M289,[1]RELAÇÃO!$AP$1:$AP$576,0),8)=\"12.103.200\",\"-\",INDEX([1]RELAÇÃO!$A$1:$AQ$576,MATCH($M289,[1]RELAÇÃO!$AP$1:$AP$576,0),7)))","v":"-"},"SEE30","SEE16S"]
[null,"Assessor Técnico","DAS 102.3","ASS",{"$f":"INDEX([1]RELAÇÃO!$A$1:$AQ$576,MATCH($M290,[1]RELAÇÃO!$AP$1:$AP$576,0),1)","v":"RUTH BERNADETE ARAUJO DE PAULA"},{"$f":"IF(E290=0,\"-\",LEFT(INDEX([1]RELAÇÃO!$A$1:$AQ$576,MATCH($M290,[1]RELAÇÃO!$AP$1:$AP$576,0),32),1))","v":"F"},{"$f":"IF(E290=0,\"-\",INDEX([1]RELAÇÃO!$A$1:$AQ$576,MATCH($M290,[1]RELAÇÃO!$AP$1:$AP$576,0),5))","v":"Anistiado MME"},{"$f":"IF(E290=0,\"-\",INDEX([1]RELAÇÃO!$A$1:$AQ$576,MATCH($M290,[1]RELAÇÃO!$AP$1:$AP$576,0),6))","v":"MME - Ministério de Minas e Energia"},{"$f":"IF(E290=0,\"-\",INDEX([1]RELAÇÃO!$A$1:$AQ$576,MATCH($M290,[1]RELAÇÃO!$AP$1:$AP$576,0),12)&INDEX([1]RELAÇÃO!$A$1:$AQ$576,MATCH($M290,[1]RELAÇÃO!$AP$1:$AP$576,0),13)&\", de \"&INDEX([1]RELAÇÃO!$A$1:$AQ$576,MATCH($M290,[1]RELAÇÃO!$AP$1:$AP$576,0),14)&\" - \"&INDEX([1]RELAÇÃO!$A$1:$AQ$576,MATCH($M290,[1]RELAÇÃO!$AP$1:$AP$576,0),16)&\" de \"&INDEX([1]RELAÇÃO!$A$1:$AQ$576,MATCH($M290,[1]RELAÇÃO!$AP$1:$AP$576,0),15))","v":"Portaria nº 524, de 03/11/2016 - BPE de 04/11/2016"},null,null,{"$f":"IF($E290=0,\"-\",IF(INDEX([1]RELAÇÃO!$A$1:$AQ$576,MATCH($M290,[1]RELAÇÃO!$AP$1:$AP$576,0),8)=\"12.103.200\",\"-\",INDEX([1]RELAÇÃO!$A$1:$AQ$576,MATCH($M290,[1]RELAÇÃO!$AP$1:$AP$576,0),7)))","v":"SEE / CHEFIA DE GABINETE SEE"},"SEE31"]
[null,"Assistente","DAS 102.2","ASS",{"$f":"INDEX([1]RELAÇÃO!$A$1:$AQ$576,MATCH($M291,[1]RELAÇÃO!$AP$1:$AP$576,0),1)","v":"KISNEY VIEIRA DOS SANTOS"},{"$f":"IF(E291=0,\"-\",LEFT(INDEX([1]RELAÇÃO!$A$1:$AQ$576,MATCH($M291,[1]RELAÇÃO!$AP$1:$AP$576,0),32),1))","v":"M"},{"$f":"IF(E291=0,\"-\",INDEX([1]RELAÇÃO!$A$1:$AQ$576,MATCH($M291,[1]RELAÇÃO!$AP$1:$AP$576,0),5))","v":"Sem Vínculo"},{"$f":"IF(E291=0,\"-\",INDEX([1]RELAÇÃO!$A$1:$AQ$576,MATCH($M291,[1]RELAÇÃO!$AP$1:$AP$576,0),6))","v":"Sem Vínculo"},{"$f":"IF(E291=0,\"-\",INDEX([1]RELAÇÃO!$A$1:$AQ$576,MATCH($M291,[1]RELAÇÃO!$AP$1:$AP$576,0),12)&INDEX([1]RELAÇÃO!$A$1:$AQ$576,MATCH($M291,[1]RELAÇÃO!$AP$1:$AP$576,0),13)&\", de \"&INDEX([1]RELAÇÃO!$A$1:$AQ$576,MATCH($M291,[1]RELAÇÃO!$AP$1:$AP$576,0),14)&\" - \"&INDEX([1]RELAÇÃO!$A$1:$AQ$576,MATCH($M291,[1]RELAÇÃO!$AP$1:$AP$576,0),16)&\" de \"&INDEX([1]RELAÇÃO!$A$1:$AQ$576,MATCH($M291,[1]RELAÇÃO!$AP$1:$AP$576,0),15))","v":"Portaria nº 524, de 03/11/2016 - BPE de 04/11/2016"},null,null,{"$f":"IF($E291=0,\"-\",IF(INDEX([1]RELAÇÃO!$A$1:$AQ$576,MATCH($M291,[1]RELAÇÃO!$AP$1:$AP$576,0),8)=\"12.103.200\",\"-\",INDEX([1]RELAÇÃO!$A$1:$AQ$576,MATCH($M291,[1]RELAÇÃO!$AP$1:$AP$576,0),7)))","v":"SEE / DPUE / COORDENAÇÃO GERAL DE DESENVOLVIMENTO DE POLÍTICAS SOCIAIS"},"SEE32"]
[]
["SECRETARIA DE PETRÓLEO, GÁS NATURAL E BIOCOMBUSTÍVEIS - SPG"]
["UNIDADE","DENOMINAÇÃO CARGO/FUNÇÃO","NE/DAS/FCPE","NÍVEL DA FUNÇÃO","SERVIDOR","SEXO","SITUAÇÃO","ORIGEM","ATO DE NOMEAÇÃO","SUBSTITUTO EVENTUAL","DESIGNAÇÃO","Alteração de local de exercício","ID FUNÇÃO","ID SUBSTITUIÇÃO"]
["SECRETARIA DE PETRÓLEO, GÁS NATURAL E BIOCOMBUSTÍVEIS","Secretário","DAS 101.6","GER",{"$f":"INDEX([1]RELAÇÃO!$A$1:$AQ$576,MATCH($M295,[1]RELAÇÃO!$AP$1:$AP$576,0),1)","v":"JOSE MAURO FERREIRA COELHO"},{"$f":"IF(E295=0,\"-\",LEFT(INDEX([1]RELAÇÃO!$A$1:$AQ$576,MATCH($M295,[1]RELAÇÃO!$AP$1:$AP$576,0),32),1))","v":"M"},{"$f":"IF(E295=0,\"-\",INDEX([1]RELAÇÃO!$A$1:$AQ$576,MATCH($M295,[1]RELAÇÃO!$AP$1:$AP$576,0),5))","v":"Requisitado de Órgãos"},{"$f":"IF(E295=0,\"-\",INDEX([1]RELAÇÃO!$A$1:$AQ$576,MATCH($M295,[1]RELAÇÃO!$AP$1:$AP$576,0),6))","v":"EPE - Empresa de Pesquisa Energética"},{"$f":"IF(E295=0,\"-\",INDEX([1]RELAÇÃO!$A$1:$AQ$576,MATCH($M295,[1]RELAÇÃO!$AP$1:$AP$576,0),12)&INDEX([1]RELAÇÃO!$A$1:$AQ$576,MATCH($M295,[1]RELAÇÃO!$AP$1:$AP$576,0),13)&\", de \"&INDEX([1]RELAÇÃO!$A$1:$AQ$576,MATCH($M295,[1]RELAÇÃO!$AP$1:$AP$576,0),14)&\" - \"&INDEX([1]RELAÇÃO!$A$1:$AQ$576,MATCH($M295,[1]RELAÇÃO!$AP$1:$AP$576,0),16)&\" de \"&INDEX([1]RELAÇÃO!$A$1:$AQ$576,MATCH($M295,[1]RELAÇÃO!$AP$1:$AP$576,0),15))","v":"Portaria nº 169, de 03/04/2020 - DOU de 06/04/2020"},{"$f":"INDEX([1]RELAÇÃO!$A$1:$AQ$576,MATCH($N295,[1]RELAÇÃO!$AQ$1:$AQ$576,0),1)","v":"JOÃO JOSÉ DE NORA SOUTO"},{"$f":"IF(J295=0,\"-\",INDEX([1]RELAÇÃO!$A$1:$AQ$576,MATCH($N295,[1]RELAÇÃO!$AQ$1:$AQ$576,0),27)&INDEX([1]RELAÇÃO!$A$1:$AQ$576,MATCH($N295,[1]RELAÇÃO!$AQ$1:$AQ$576,0),28)&\", de \"&INDEX([1]RELAÇÃO!$A$1:$AQ$576,MATCH($N295,[1]RELAÇÃO!$AQ$1:$AQ$576,0),29)&\" - \"&INDEX([1]RELAÇÃO!$A$1:$AQ$576,MATCH($N295,[1]RELAÇÃO!$AQ$1:$AQ$576,0),31)&\" de \"&INDEX([1]RELAÇÃO!$A$1:$AQ$576,MATCH($N295,[1]RELAÇÃO!$AQ$1:$AQ$576,0),30))","v":"Portaria nº 108 - Anexo X, Art. 18, II do RI da SPG, de 14/03/2017 - DOU de 16/03/2017 -Ret. 17/03/2017"},{"$f":"IF($E295=0,\"-\",IF(INDEX([1]RELAÇÃO!$A$1:$AQ$576,MATCH($M295,[1]RELAÇÃO!$AP$1:$AP$576,0),8)=\"11.000.000\",\"-\",INDEX([1]RELAÇÃO!$A$1:$AQ$576,MATCH($M295,[1]RELAÇÃO!$AP$1:$AP$576,0),7)))","v":"-"},"SPG01","SPG01S"]
[null,"Secretário-Adjunto","DAS 101.5","GER",{"$f":"INDEX([1]RELAÇÃO!$A$1:$AQ$576,MATCH($M296,[1]RELAÇÃO!$AP$1:$AP$576,0),1)","v":"JOÃO JOSÉ DE NORA SOUTO"},{"$f":"IF(E296=0,\"-\",LEFT(INDEX([1]RELAÇÃO!$A$1:$AQ$576,MATCH($M296,[1]RELAÇÃO!$AP$1:$AP$576,0),32),1))","v":"M"},{"$f":"IF(E296=0,\"-\",INDEX([1]RELAÇÃO!$A$1:$AQ$576,MATCH($M296,[1]RELAÇÃO!$AP$1:$AP$576,0),5))","v":"Sem Vínculo"},{"$f":"IF(E296=0,\"-\",INDEX([1]RELAÇÃO!$A$1:$AQ$576,MATCH($M296,[1]RELAÇÃO!$AP$1:$AP$576,0),6))","v":"Sem Vínculo"},{"$f":"IF(E296=0,\"-\",INDEX([1]RELAÇÃO!$A$1:$AQ$576,MATCH($M296,[1]RELAÇÃO!$AP$1:$AP$576,0),12)&INDEX([1]RELAÇÃO!$A$1:$AQ$576,MATCH($M296,[1]RELAÇÃO!$AP$1:$AP$576,0),13)&\", de \"&INDEX([1]RELAÇÃO!$A$1:$AQ$576,MATCH($M296,[1]RELAÇÃO!$AP$1:$AP$576,0),14)&\" - \"&INDEX([1]RELAÇÃO!$A$1:$AQ$576,MATCH($M296,[1]RELAÇÃO!$AP$1:$AP$576,0),16)&\" de \"&INDEX([1]RELAÇÃO!$A$1:$AQ$576,MATCH($M296,[1]RELAÇÃO!$AP$1:$AP$576,0),15))","v":"Portaria nº 405, de 30/10/2019 - DOU de 06/11/2019"},{"$f":"INDEX([1]RELAÇÃO!$A$1:$AQ$576,MATCH($N296,[1]RELAÇÃO!$AQ$1:$AQ$576,0),1)","v":0},{"$f":"IF(J296=0,\"-\",INDEX([1]RELAÇÃO!$A$1:$AQ$576,MATCH($N296,[1]RELAÇÃO!$AQ$1:$AQ$576,0),27)&INDEX([1]RELAÇÃO!$A$1:$AQ$576,MATCH($N296,[1]RELAÇÃO!$AQ$1:$AQ$576,0),28)&\", de \"&INDEX([1]RELAÇÃO!$A$1:$AQ$576,MATCH($N296,[1]RELAÇÃO!$AQ$1:$AQ$576,0),29)&\" - \"&INDEX([1]RELAÇÃO!$A$1:$AQ$576,MATCH($N296,[1]RELAÇÃO!$AQ$1:$AQ$576,0),31)&\" de \"&INDEX([1]RELAÇÃO!$A$1:$AQ$576,MATCH($N296,[1]RELAÇÃO!$AQ$1:$AQ$576,0),30))","v":"-"},{"$f":"IF($E296=0,\"-\",IF(INDEX([1]RELAÇÃO!$A$1:$AQ$576,MATCH($M296,[1]RELAÇÃO!$AP$1:$AP$576,0),8)=\"11.000.000\",\"-\",INDEX([1]RELAÇÃO!$A$1:$AQ$576,MATCH($M296,[1]RELAÇÃO!$AP$1:$AP$576,0),7)))","v":"SPG / CHEFIA DE GABINETE SPG"},"SPG02","SPG02S"]
[null,"Assessor","DAS 102.4","ASS",{"$f":"INDEX([1]RELAÇÃO!$A$1:$AQ$576,MATCH($M297,[1]RELAÇÃO!$AP$1:$AP$576,0),1)","v":"THEREZA CHRISTINA DE ALMEIDA CASTRO"},{"$f":"IF(E297=0,\"-\",LEFT(INDEX([1]RELAÇÃO!$A$1:$AQ$576,MATCH($M297,[1]RELAÇÃO!$AP$1:$AP$576,0),32),1))","v":"F"},{"$f":"IF(E297=0,\"-\",INDEX([1]RELAÇÃO!$A$1:$AQ$576,MATCH($M297,[1]RELAÇÃO!$AP$1:$AP$576,0),5))","v":"Requisitado de Órgãos"},{"$f":"IF(E297=0,\"-\",INDEX([1]RELAÇÃO!$A$1:$AQ$576,MATCH($M297,[1]RELAÇÃO!$AP$1:$AP$576,0),6))","v":"ME - Ministério da Economia"},{"$f":"IF(E297=0,\"-\",INDEX([1]RELAÇÃO!$A$1:$AQ$576,MATCH($M297,[1]RELAÇÃO!$AP$1:$AP$576,0),12)&INDEX([1]RELAÇÃO!$A$1:$AQ$576,MATCH($M297,[1]RELAÇÃO!$AP$1:$AP$576,0),13)&\", de \"&INDEX([1]RELAÇÃO!$A$1:$AQ$576,MATCH($M297,[1]RELAÇÃO!$AP$1:$AP$576,0),14)&\" - \"&INDEX([1]RELAÇÃO!$A$1:$AQ$576,MATCH($M297,[1]RELAÇÃO!$AP$1:$AP$576,0),16)&\" de \"&INDEX([1]RELAÇÃO!$A$1:$AQ$576,MATCH($M297,[1]RELAÇÃO!$AP$1:$AP$576,0),15))","v":"Portaria nº 582, de 03/11/2016 - DOU de 04/11/2016"},null,null,{"$f":"IF($E297=0,\"-\",IF(INDEX([1]RELAÇÃO!$A$1:$AQ$576,MATCH($M297,[1]RELAÇÃO!$AP$1:$AP$576,0),8)=\"11.000.000\",\"-\",INDEX([1]RELAÇÃO!$A$1:$AQ$576,MATCH($M297,[1]RELAÇÃO!$AP$1:$AP$576,0),7)))","v":"SPG / CHEFIA DE GABINETE SPG"},"SPG03"]
[null,"Assessor","DAS 102.4","ASS",{"$f":"INDEX([1]RELAÇÃO!$A$1:$AQ$576,MATCH($M298,[1]RELAÇÃO!$AP$1:$AP$576,0),1)","v":"RENATA BECKERT ISFER"},{"$f":"IF(E298=0,\"-\",LEFT(INDEX([1]RELAÇÃO!$A$1:$AQ$576,MATCH($M298,[1]RELAÇÃO!$AP$1:$AP$576,0),32),1))","v":"F"},{"$f":"IF(E298=0,\"-\",INDEX([1]RELAÇÃO!$A$1:$AQ$576,MATCH($M298,[1]RELAÇÃO!$AP$1:$AP$576,0),5))","v":"Exercício Descentralizado"},{"$f":"IF(E298=0,\"-\",INDEX([1]RELAÇÃO!$A$1:$AQ$576,MATCH($M298,[1]RELAÇÃO!$AP$1:$AP$576,0),6))","v":"AGU - Advocacia Geral da União"},{"$f":"IF(E298=0,\"-\",INDEX([1]RELAÇÃO!$A$1:$AQ$576,MATCH($M298,[1]RELAÇÃO!$AP$1:$AP$576,0),12)&INDEX([1]RELAÇÃO!$A$1:$AQ$576,MATCH($M298,[1]RELAÇÃO!$AP$1:$AP$576,0),13)&\", de \"&INDEX([1]RELAÇÃO!$A$1:$AQ$576,MATCH($M298,[1]RELAÇÃO!$AP$1:$AP$576,0),14)&\" - \"&INDEX([1]RELAÇÃO!$A$1:$AQ$576,MATCH($M298,[1]RELAÇÃO!$AP$1:$AP$576,0),16)&\" de \"&INDEX([1]RELAÇÃO!$A$1:$AQ$576,MATCH($M298,[1]RELAÇÃO!$AP$1:$AP$576,0),15))","v":"Portaria nº 151, de 05/04/2020 - DOU de 07/04/2020"},null,null,{"$f":"IF($E298=0,\"-\",IF(INDEX([1]RELAÇÃO!$A$1:$AQ$576,MATCH($M298,[1]RELAÇÃO!$AP$1:$AP$576,0),8)=\"11.000.000\",\"-\",INDEX([1]RELAÇÃO!$A$1:$AQ$576,MATCH($M298,[1]RELAÇÃO!$AP$1:$AP$576,0),7)))","v":"SPG / CHEFIA DE GABINETE SPG"},"SPG04"]
[null,"Assessor Técnico","DAS 102.3","ASS",{"$f":"INDEX([1]RELAÇÃO!$A$1:$AQ$576,MATCH($M299,[1]RELAÇÃO!$AP$1:$AP$576,0),1)","v":"CARLOS JORGE PAVAO DIAS"},{"$f":"IF(E299=0,\"-\",LEFT(INDEX([1]RELAÇÃO!$A$1:$AQ$576,MATCH($M299,[1]RELAÇÃO!$AP$1:$AP$576,0),32),1))","v":"M"},{"$f":"IF(E299=0,\"-\",INDEX([1]RELAÇÃO!$A$1:$AQ$576,MATCH($M299,[1]RELAÇÃO!$AP$1:$AP$576,0),5))","v":"Sem Vínculo"},{"$f":"IF(E299=0,\"-\",INDEX([1]RELAÇÃO!$A$1:$AQ$576,MATCH($M299,[1]RELAÇÃO!$AP$1:$AP$576,0),6))","v":"Sem Vínculo"},{"$f":"IF(E299=0,\"-\",INDEX([1]RELAÇÃO!$A$1:$AQ$576,MATCH($M299,[1]RELAÇÃO!$AP$1:$AP$576,0),12)&INDEX([1]RELAÇÃO!$A$1:$AQ$576,MATCH($M299,[1]RELAÇÃO!$AP$1:$AP$576,0),13)&\", de \"&INDEX([1]RELAÇÃO!$A$1:$AQ$576,MATCH($M299,[1]RELAÇÃO!$AP$1:$AP$576,0),14)&\" - \"&INDEX([1]RELAÇÃO!$A$1:$AQ$576,MATCH($M299,[1]RELAÇÃO!$AP$1:$AP$576,0),16)&\" de \"&INDEX([1]RELAÇÃO!$A$1:$AQ$576,MATCH($M299,[1]RELAÇÃO!$AP$1:$AP$576,0),15))","v":"Portaria nº 289, de 03/07/2018 - DOU de 05/07/2018"},null,null,{"$f":"IF($E299=0,\"-\",IF(INDEX([1]RELAÇÃO!$A$1:$AQ$576,MATCH($M299,[1]RELAÇÃO!$AP$1:$AP$576,0),8)=\"11.000.000\",\"-\",INDEX([1]RELAÇÃO!$A$1:$AQ$576,MATCH($M299,[1]RELAÇÃO!$AP$1:$AP$576,0),7)))","v":"SPG / CHEFIA DE GABINETE SPG"},"SPG05"]
[null,"Assistente","DAS 102.2","ASS",{"$f":"INDEX([1]RELAÇÃO!$A$1:$AQ$576,MATCH($M300,[1]RELAÇÃO!$AP$1:$AP$576,0),1)","v":"ESDRAS GODINHO RAMOS"},{"$f":"IF(E300=0,\"-\",LEFT(INDEX([1]RELAÇÃO!$A$1:$AQ$576,MATCH($M300,[1]RELAÇÃO!$AP$1:$AP$576,0),32),1))","v":"M"},{"$f":"IF(E300=0,\"-\",INDEX([1]RELAÇÃO!$A$1:$AQ$576,MATCH($M300,[1]RELAÇÃO!$AP$1:$AP$576,0),5))","v":"Requisitado de Órgãos"},{"$f":"IF(E300=0,\"-\",INDEX([1]RELAÇÃO!$A$1:$AQ$576,MATCH($M300,[1]RELAÇÃO!$AP$1:$AP$576,0),6))","v":"ME - Ministério da Economia"},{"$f":"IF(E300=0,\"-\",INDEX([1]RELAÇÃO!$A$1:$AQ$576,MATCH($M300,[1]RELAÇÃO!$AP$1:$AP$576,0),12)&INDEX([1]RELAÇÃO!$A$1:$AQ$576,MATCH($M300,[1]RELAÇÃO!$AP$1:$AP$576,0),13)&\", de \"&INDEX([1]RELAÇÃO!$A$1:$AQ$576,MATCH($M300,[1]RELAÇÃO!$AP$1:$AP$576,0),14)&\" - \"&INDEX([1]RELAÇÃO!$A$1:$AQ$576,MATCH($M300,[1]RELAÇÃO!$AP$1:$AP$576,0),16)&\" de \"&INDEX([1]RELAÇÃO!$A$1:$AQ$576,MATCH($M300,[1]RELAÇÃO!$AP$1:$AP$576,0),15))","v":"Portaria nº 394, de 21/10/2019 - DOU de 23/10/2019"},null,null,{"$f":"IF($E300=0,\"-\",IF(INDEX([1]RELAÇÃO!$A$1:$AQ$576,MATCH($M300,[1]RELAÇÃO!$AP$1:$AP$576,0),8)=\"11.000.000\",\"-\",INDEX([1]RELAÇÃO!$A$1:$AQ$576,MATCH($M300,[1]RELAÇÃO!$AP$1:$AP$576,0),7)))","v":"SPG / CHEFIA DE GABINETE SPG"},"SPG06"]
[null,"Assistente"," DAS 102.2",null,"Excluído pelo Dec. 9675/2019"]
[null,"Assistente","DAS 102.2","ASS",{"$f":"INDEX([1]RELAÇÃO!$A$1:$AQ$576,MATCH($M302,[1]RELAÇÃO!$AP$1:$AP$576,0),1)","v":"IZILDINHA SOUSA SALES"},{"$f":"IF(E302=0,\"-\",LEFT(INDEX([1]RELAÇÃO!$A$1:$AQ$576,MATCH($M302,[1]RELAÇÃO!$AP$1:$AP$576,0),32),1))","v":"F"},{"$f":"IF(E302=0,\"-\",INDEX([1]RELAÇÃO!$A$1:$AQ$576,MATCH($M302,[1]RELAÇÃO!$AP$1:$AP$576,0),5))","v":"Sem Vínculo"},{"$f":"IF(E302=0,\"-\",INDEX([1]RELAÇÃO!$A$1:$AQ$576,MATCH($M302,[1]RELAÇÃO!$AP$1:$AP$576,0),6))","v":"Sem Vínculo"},{"$f":"IF(E302=0,\"-\",INDEX([1]RELAÇÃO!$A$1:$AQ$576,MATCH($M302,[1]RELAÇÃO!$AP$1:$AP$576,0),12)&INDEX([1]RELAÇÃO!$A$1:$AQ$576,MATCH($M302,[1]RELAÇÃO!$AP$1:$AP$576,0),13)&\", de \"&INDEX([1]RELAÇÃO!$A$1:$AQ$576,MATCH($M302,[1]RELAÇÃO!$AP$1:$AP$576,0),14)&\" - \"&INDEX([1]RELAÇÃO!$A$1:$AQ$576,MATCH($M302,[1]RELAÇÃO!$AP$1:$AP$576,0),16)&\" de \"&INDEX([1]RELAÇÃO!$A$1:$AQ$576,MATCH($M302,[1]RELAÇÃO!$AP$1:$AP$576,0),15))","v":"Portaria nº 284, de 14/07/2020 - DOU de 15/07/2020"},null,null,{"$f":"IF($E302=0,\"-\",IF(INDEX([1]RELAÇÃO!$A$1:$AQ$576,MATCH($M302,[1]RELAÇÃO!$AP$1:$AP$576,0),8)=\"11.000.000\",\"-\",INDEX([1]RELAÇÃO!$A$1:$AQ$576,MATCH($M302,[1]RELAÇÃO!$AP$1:$AP$576,0),7)))","v":"SPG / CHEFIA DE GABINETE SPG"},"SPG07"]
[null,"Assistente Técnico","DAS 102.1","ASS",{"$f":"INDEX([1]RELAÇÃO!$A$1:$AQ$576,MATCH($M303,[1]RELAÇÃO!$AP$1:$AP$576,0),1)","v":0},{"$f":"IF(E303=0,\"-\",LEFT(INDEX([1]RELAÇÃO!$A$1:$AQ$576,MATCH($M303,[1]RELAÇÃO!$AP$1:$AP$576,0),32),1))","v":"-"},{"$f":"IF(E303=0,\"-\",INDEX([1]RELAÇÃO!$A$1:$AQ$576,MATCH($M303,[1]RELAÇÃO!$AP$1:$AP$576,0),5))","v":"-"},{"$f":"IF(E303=0,\"-\",INDEX([1]RELAÇÃO!$A$1:$AQ$576,MATCH($M303,[1]RELAÇÃO!$AP$1:$AP$576,0),6))","v":"-"},{"$f":"IF(E303=0,\"-\",INDEX([1]RELAÇÃO!$A$1:$AQ$576,MATCH($M303,[1]RELAÇÃO!$AP$1:$AP$576,0),12)&INDEX([1]RELAÇÃO!$A$1:$AQ$576,MATCH($M303,[1]RELAÇÃO!$AP$1:$AP$576,0),13)&\", de \"&INDEX([1]RELAÇÃO!$A$1:$AQ$576,MATCH($M303,[1]RELAÇÃO!$AP$1:$AP$576,0),14)&\" - \"&INDEX([1]RELAÇÃO!$A$1:$AQ$576,MATCH($M303,[1]RELAÇÃO!$AP$1:$AP$576,0),16)&\" de \"&INDEX([1]RELAÇÃO!$A$1:$AQ$576,MATCH($M303,[1]RELAÇÃO!$AP$1:$AP$576,0),15))","v":"-"},null,null,{"$f":"IF($E303=0,\"-\",IF(INDEX([1]RELAÇÃO!$A$1:$AQ$576,MATCH($M303,[1]RELAÇÃO!$AP$1:$AP$576,0),8)=\"11.000.000\",\"-\",INDEX([1]RELAÇÃO!$A$1:$AQ$576,MATCH($M303,[1]RELAÇÃO!$AP$1:$AP$576,0),7)))","v":"-"},"SPG08"]
["Departamento de Política de Exploração e Produção de Petróleo e Gás Natural","Diretor","DAS 101.5","GER",{"$f":"INDEX([1]RELAÇÃO!$A$1:$AQ$576,MATCH($M304,[1]RELAÇÃO!$AP$1:$AP$576,0),1)","v":"RAFAEL BASTOS DA SILVA"},{"$f":"IF(E304=0,\"-\",LEFT(INDEX([1]RELAÇÃO!$A$1:$AQ$576,MATCH($M304,[1]RELAÇÃO!$AP$1:$AP$576,0),32),1))","v":"M"},{"$f":"IF(E304=0,\"-\",INDEX([1]RELAÇÃO!$A$1:$AQ$576,MATCH($M304,[1]RELAÇÃO!$AP$1:$AP$576,0),5))","v":"Requisitado de Órgãos"},{"$f":"IF(E304=0,\"-\",INDEX([1]RELAÇÃO!$A$1:$AQ$576,MATCH($M304,[1]RELAÇÃO!$AP$1:$AP$576,0),6))","v":"ANP - Agência Nacional do Petróleo, Gás Natural e Biocombustíveis"},{"$f":"IF(E304=0,\"-\",INDEX([1]RELAÇÃO!$A$1:$AQ$576,MATCH($M304,[1]RELAÇÃO!$AP$1:$AP$576,0),12)&INDEX([1]RELAÇÃO!$A$1:$AQ$576,MATCH($M304,[1]RELAÇÃO!$AP$1:$AP$576,0),13)&\", de \"&INDEX([1]RELAÇÃO!$A$1:$AQ$576,MATCH($M304,[1]RELAÇÃO!$AP$1:$AP$576,0),14)&\" - \"&INDEX([1]RELAÇÃO!$A$1:$AQ$576,MATCH($M304,[1]RELAÇÃO!$AP$1:$AP$576,0),16)&\" de \"&INDEX([1]RELAÇÃO!$A$1:$AQ$576,MATCH($M304,[1]RELAÇÃO!$AP$1:$AP$576,0),15))","v":"Portaria nº 458, de 09/12/2019 - DOU de 11/12/2019"},{"$f":"INDEX([1]RELAÇÃO!$A$1:$AQ$576,MATCH($N304,[1]RELAÇÃO!$AQ$1:$AQ$576,0),1)","v":"CARLOS AGENOR ONOFRE CABRAL"},{"$f":"IF(J304=0,\"-\",INDEX([1]RELAÇÃO!$A$1:$AQ$576,MATCH($N304,[1]RELAÇÃO!$AQ$1:$AQ$576,0),27)&INDEX([1]RELAÇÃO!$A$1:$AQ$576,MATCH($N304,[1]RELAÇÃO!$AQ$1:$AQ$576,0),28)&\", de \"&INDEX([1]RELAÇÃO!$A$1:$AQ$576,MATCH($N304,[1]RELAÇÃO!$AQ$1:$AQ$576,0),29)&\" - \"&INDEX([1]RELAÇÃO!$A$1:$AQ$576,MATCH($N304,[1]RELAÇÃO!$AQ$1:$AQ$576,0),31)&\" de \"&INDEX([1]RELAÇÃO!$A$1:$AQ$576,MATCH($N304,[1]RELAÇÃO!$AQ$1:$AQ$576,0),30))","v":"Portaria nº 36, de 10/02/2020 - DOU de 12/02/2020"},{"$f":"IF($E304=0,\"-\",IF(INDEX([1]RELAÇÃO!$A$1:$AQ$576,MATCH($M304,[1]RELAÇÃO!$AP$1:$AP$576,0),8)=\"11.101.000\",\"-\",INDEX([1]RELAÇÃO!$A$1:$AQ$576,MATCH($M304,[1]RELAÇÃO!$AP$1:$AP$576,0),7)))","v":"-"},"SPG09","SPG03S"]
[null,"Gerente de Projeto","DAS 101.4","GER",{"$f":"INDEX([1]RELAÇÃO!$A$1:$AQ$576,MATCH($M305,[1]RELAÇÃO!$AP$1:$AP$576,0),1)","v":"CARLOS AGENOR ONOFRE CABRAL"},{"$f":"IF(E305=0,\"-\",LEFT(INDEX([1]RELAÇÃO!$A$1:$AQ$576,MATCH($M305,[1]RELAÇÃO!$AP$1:$AP$576,0),32),1))","v":"M"},{"$f":"IF(E305=0,\"-\",INDEX([1]RELAÇÃO!$A$1:$AQ$576,MATCH($M305,[1]RELAÇÃO!$AP$1:$AP$576,0),5))","v":"Requisitado de Órgãos"},{"$f":"IF(E305=0,\"-\",INDEX([1]RELAÇÃO!$A$1:$AQ$576,MATCH($M305,[1]RELAÇÃO!$AP$1:$AP$576,0),6))","v":"ANP - Agência Nacional do Petróleo, Gás Natural e Biocombustíveis"},{"$f":"IF(E305=0,\"-\",INDEX([1]RELAÇÃO!$A$1:$AQ$576,MATCH($M305,[1]RELAÇÃO!$AP$1:$AP$576,0),12)&INDEX([1]RELAÇÃO!$A$1:$AQ$576,MATCH($M305,[1]RELAÇÃO!$AP$1:$AP$576,0),13)&\", de \"&INDEX([1]RELAÇÃO!$A$1:$AQ$576,MATCH($M305,[1]RELAÇÃO!$AP$1:$AP$576,0),14)&\" - \"&INDEX([1]RELAÇÃO!$A$1:$AQ$576,MATCH($M305,[1]RELAÇÃO!$AP$1:$AP$576,0),16)&\" de \"&INDEX([1]RELAÇÃO!$A$1:$AQ$576,MATCH($M305,[1]RELAÇÃO!$AP$1:$AP$576,0),15))","v":"Portaria nº 473, de 18/12/2019 - DOU de 23/12/2019"},{"$f":"INDEX([1]RELAÇÃO!$A$1:$AQ$576,MATCH($N305,[1]RELAÇÃO!$AQ$1:$AQ$576,0),1)","v":"ESDRAS GODINHO RAMOS"},{"$f":"IF(J305=0,\"-\",INDEX([1]RELAÇÃO!$A$1:$AQ$576,MATCH($N305,[1]RELAÇÃO!$AQ$1:$AQ$576,0),27)&INDEX([1]RELAÇÃO!$A$1:$AQ$576,MATCH($N305,[1]RELAÇÃO!$AQ$1:$AQ$576,0),28)&\", de \"&INDEX([1]RELAÇÃO!$A$1:$AQ$576,MATCH($N305,[1]RELAÇÃO!$AQ$1:$AQ$576,0),29)&\" - \"&INDEX([1]RELAÇÃO!$A$1:$AQ$576,MATCH($N305,[1]RELAÇÃO!$AQ$1:$AQ$576,0),31)&\" de \"&INDEX([1]RELAÇÃO!$A$1:$AQ$576,MATCH($N305,[1]RELAÇÃO!$AQ$1:$AQ$576,0),30))","v":"Portaria nº 338, de 10/09/2020 - DOU de 16/09/2020"},{"$f":"IF($E305=0,\"-\",IF(INDEX([1]RELAÇÃO!$A$1:$AQ$576,MATCH($M305,[1]RELAÇÃO!$AP$1:$AP$576,0),8)=\"11.101.000\",\"-\",INDEX([1]RELAÇÃO!$A$1:$AQ$576,MATCH($M305,[1]RELAÇÃO!$AP$1:$AP$576,0),7)))","v":"-"},"SPG10","SPG04S"]
[null,"Assistente","FCPE 102.2","ASS",{"$f":"INDEX([1]RELAÇÃO!$A$1:$AQ$576,MATCH($M306,[1]RELAÇÃO!$AP$1:$AP$576,0),1)","v":"DIOGO SANTOS BALEEIRO"},{"$f":"IF(E306=0,\"-\",LEFT(INDEX([1]RELAÇÃO!$A$1:$AQ$576,MATCH($M306,[1]RELAÇÃO!$AP$1:$AP$576,0),32),1))","v":"M"},{"$f":"IF(E306=0,\"-\",INDEX([1]RELAÇÃO!$A$1:$AQ$576,MATCH($M306,[1]RELAÇÃO!$AP$1:$AP$576,0),5))","v":"Exercício Descentralizado"},{"$f":"IF(E306=0,\"-\",INDEX([1]RELAÇÃO!$A$1:$AQ$576,MATCH($M306,[1]RELAÇÃO!$AP$1:$AP$576,0),6))","v":"ME - Ministério da Economia"},{"$f":"IF(E306=0,\"-\",INDEX([1]RELAÇÃO!$A$1:$AQ$576,MATCH($M306,[1]RELAÇÃO!$AP$1:$AP$576,0),12)&INDEX([1]RELAÇÃO!$A$1:$AQ$576,MATCH($M306,[1]RELAÇÃO!$AP$1:$AP$576,0),13)&\", de \"&INDEX([1]RELAÇÃO!$A$1:$AQ$576,MATCH($M306,[1]RELAÇÃO!$AP$1:$AP$576,0),14)&\" - \"&INDEX([1]RELAÇÃO!$A$1:$AQ$576,MATCH($M306,[1]RELAÇÃO!$AP$1:$AP$576,0),16)&\" de \"&INDEX([1]RELAÇÃO!$A$1:$AQ$576,MATCH($M306,[1]RELAÇÃO!$AP$1:$AP$576,0),15))","v":"Portaria nº 524, de 03/11/2016 - BPE de 04/11/2016"},null,null,{"$f":"IF($E306=0,\"-\",IF(INDEX([1]RELAÇÃO!$A$1:$AQ$576,MATCH($M306,[1]RELAÇÃO!$AP$1:$AP$576,0),8)=\"11.101.000\",\"-\",INDEX([1]RELAÇÃO!$A$1:$AQ$576,MATCH($M306,[1]RELAÇÃO!$AP$1:$AP$576,0),7)))","v":"-"},"SPG11"]
["Coordenação-Geral de Reserva, Exploração e Produção de Petróleo e Gás Natural","Coordenador-Geral","DAS 101.4","GER",{"$f":"INDEX([1]RELAÇÃO!$A$1:$AQ$576,MATCH($M307,[1]RELAÇÃO!$AP$1:$AP$576,0),1)","v":"JAIR RODRIGUES DOS ANJOS"},{"$f":"IF(E307=0,\"-\",LEFT(INDEX([1]RELAÇÃO!$A$1:$AQ$576,MATCH($M307,[1]RELAÇÃO!$AP$1:$AP$576,0),32),1))","v":"M"},{"$f":"IF(E307=0,\"-\",INDEX([1]RELAÇÃO!$A$1:$AQ$576,MATCH($M307,[1]RELAÇÃO!$AP$1:$AP$576,0),5))","v":"Requisitado de Órgãos"},{"$f":"IF(E307=0,\"-\",INDEX([1]RELAÇÃO!$A$1:$AQ$576,MATCH($M307,[1]RELAÇÃO!$AP$1:$AP$576,0),6))","v":"ME - Ministério da Economia"},{"$f":"IF(E307=0,\"-\",INDEX([1]RELAÇÃO!$A$1:$AQ$576,MATCH($M307,[1]RELAÇÃO!$AP$1:$AP$576,0),12)&INDEX([1]RELAÇÃO!$A$1:$AQ$576,MATCH($M307,[1]RELAÇÃO!$AP$1:$AP$576,0),13)&\", de \"&INDEX([1]RELAÇÃO!$A$1:$AQ$576,MATCH($M307,[1]RELAÇÃO!$AP$1:$AP$576,0),14)&\" - \"&INDEX([1]RELAÇÃO!$A$1:$AQ$576,MATCH($M307,[1]RELAÇÃO!$AP$1:$AP$576,0),16)&\" de \"&INDEX([1]RELAÇÃO!$A$1:$AQ$576,MATCH($M307,[1]RELAÇÃO!$AP$1:$AP$576,0),15))","v":"Portaria nº 125, de 23/03/2020 - DOU de 24/03/2020"},{"$f":"INDEX([1]RELAÇÃO!$A$1:$AQ$576,MATCH($N307,[1]RELAÇÃO!$AQ$1:$AQ$576,0),1)","v":"ANTONIO HENRIQUE GODOY RAMOS"},{"$f":"IF(J307=0,\"-\",INDEX([1]RELAÇÃO!$A$1:$AQ$576,MATCH($N307,[1]RELAÇÃO!$AQ$1:$AQ$576,0),27)&INDEX([1]RELAÇÃO!$A$1:$AQ$576,MATCH($N307,[1]RELAÇÃO!$AQ$1:$AQ$576,0),28)&\", de \"&INDEX([1]RELAÇÃO!$A$1:$AQ$576,MATCH($N307,[1]RELAÇÃO!$AQ$1:$AQ$576,0),29)&\" - \"&INDEX([1]RELAÇÃO!$A$1:$AQ$576,MATCH($N307,[1]RELAÇÃO!$AQ$1:$AQ$576,0),31)&\" de \"&INDEX([1]RELAÇÃO!$A$1:$AQ$576,MATCH($N307,[1]RELAÇÃO!$AQ$1:$AQ$576,0),30))","v":"Portaria nº 715, de 27/12/2016 - DOU de 28/12/2016"},{"$f":"IF($E307=0,\"-\",IF(INDEX([1]RELAÇÃO!$A$1:$AQ$576,MATCH($M307,[1]RELAÇÃO!$AP$1:$AP$576,0),8)=\"11.101.100\",\"-\",INDEX([1]RELAÇÃO!$A$1:$AQ$576,MATCH($M307,[1]RELAÇÃO!$AP$1:$AP$576,0),7)))","v":"-"},"SPG12","SPG05S"]
["Coordenação-Geral de Política de Concessão de Blocos Exploratórios","Coordenador-Geral","DAS 101.4","GER",{"$f":"INDEX([1]RELAÇÃO!$A$1:$AQ$576,MATCH($M308,[1]RELAÇÃO!$AP$1:$AP$576,0),1)","v":"CLAYTON DE SOUZA PONTES"},{"$f":"IF(E308=0,\"-\",LEFT(INDEX([1]RELAÇÃO!$A$1:$AQ$576,MATCH($M308,[1]RELAÇÃO!$AP$1:$AP$576,0),32),1))","v":"M"},{"$f":"IF(E308=0,\"-\",INDEX([1]RELAÇÃO!$A$1:$AQ$576,MATCH($M308,[1]RELAÇÃO!$AP$1:$AP$576,0),5))","v":"Sem Vínculo"},{"$f":"IF(E308=0,\"-\",INDEX([1]RELAÇÃO!$A$1:$AQ$576,MATCH($M308,[1]RELAÇÃO!$AP$1:$AP$576,0),6))","v":"Sem Vínculo"},{"$f":"IF(E308=0,\"-\",INDEX([1]RELAÇÃO!$A$1:$AQ$576,MATCH($M308,[1]RELAÇÃO!$AP$1:$AP$576,0),12)&INDEX([1]RELAÇÃO!$A$1:$AQ$576,MATCH($M308,[1]RELAÇÃO!$AP$1:$AP$576,0),13)&\", de \"&INDEX([1]RELAÇÃO!$A$1:$AQ$576,MATCH($M308,[1]RELAÇÃO!$AP$1:$AP$576,0),14)&\" - \"&INDEX([1]RELAÇÃO!$A$1:$AQ$576,MATCH($M308,[1]RELAÇÃO!$AP$1:$AP$576,0),16)&\" de \"&INDEX([1]RELAÇÃO!$A$1:$AQ$576,MATCH($M308,[1]RELAÇÃO!$AP$1:$AP$576,0),15))","v":"Portaria nº 78, de 28/01/2019 - DOU de 31/01/2019"},{"$f":"INDEX([1]RELAÇÃO!$A$1:$AQ$576,MATCH($N308,[1]RELAÇÃO!$AQ$1:$AQ$576,0),1)","v":"DIOGO SANTOS BALEEIRO"},{"$f":"IF(J308=0,\"-\",INDEX([1]RELAÇÃO!$A$1:$AQ$576,MATCH($N308,[1]RELAÇÃO!$AQ$1:$AQ$576,0),27)&INDEX([1]RELAÇÃO!$A$1:$AQ$576,MATCH($N308,[1]RELAÇÃO!$AQ$1:$AQ$576,0),28)&\", de \"&INDEX([1]RELAÇÃO!$A$1:$AQ$576,MATCH($N308,[1]RELAÇÃO!$AQ$1:$AQ$576,0),29)&\" - \"&INDEX([1]RELAÇÃO!$A$1:$AQ$576,MATCH($N308,[1]RELAÇÃO!$AQ$1:$AQ$576,0),31)&\" de \"&INDEX([1]RELAÇÃO!$A$1:$AQ$576,MATCH($N308,[1]RELAÇÃO!$AQ$1:$AQ$576,0),30))","v":"Portaria nº 640, de 23/11/2016 - DOU de 24/11/2016"},{"$f":"IF($E308=0,\"-\",IF(INDEX([1]RELAÇÃO!$A$1:$AQ$576,MATCH($M308,[1]RELAÇÃO!$AP$1:$AP$576,0),8)=\"11.101.200\",\"-\",INDEX([1]RELAÇÃO!$A$1:$AQ$576,MATCH($M308,[1]RELAÇÃO!$AP$1:$AP$576,0),7)))","v":"-"},"SPG13","SPG06S"]
["Departamento de Gás Natural","Diretor","DAS 101.5","GER",{"$f":"INDEX([1]RELAÇÃO!$A$1:$AQ$576,MATCH($M309,[1]RELAÇÃO!$AP$1:$AP$576,0),1)","v":"SYMONE CHRISTINE DE SANTANA ARAUJO"},{"$f":"IF(E309=0,\"-\",LEFT(INDEX([1]RELAÇÃO!$A$1:$AQ$576,MATCH($M309,[1]RELAÇÃO!$AP$1:$AP$576,0),32),1))","v":"F"},{"$f":"IF(E309=0,\"-\",INDEX([1]RELAÇÃO!$A$1:$AQ$576,MATCH($M309,[1]RELAÇÃO!$AP$1:$AP$576,0),5))","v":"Exercício Descentralizado"},{"$f":"IF(E309=0,\"-\",INDEX([1]RELAÇÃO!$A$1:$AQ$576,MATCH($M309,[1]RELAÇÃO!$AP$1:$AP$576,0),6))","v":"ME - Ministério da Economia"},{"$f":"IF(E309=0,\"-\",INDEX([1]RELAÇÃO!$A$1:$AQ$576,MATCH($M309,[1]RELAÇÃO!$AP$1:$AP$576,0),12)&INDEX([1]RELAÇÃO!$A$1:$AQ$576,MATCH($M309,[1]RELAÇÃO!$AP$1:$AP$576,0),13)&\", de \"&INDEX([1]RELAÇÃO!$A$1:$AQ$576,MATCH($M309,[1]RELAÇÃO!$AP$1:$AP$576,0),14)&\" - \"&INDEX([1]RELAÇÃO!$A$1:$AQ$576,MATCH($M309,[1]RELAÇÃO!$AP$1:$AP$576,0),16)&\" de \"&INDEX([1]RELAÇÃO!$A$1:$AQ$576,MATCH($M309,[1]RELAÇÃO!$AP$1:$AP$576,0),15))","v":"Portaria nº 524, de 03/11/2016 - BPE de 04/11/2016"},{"$f":"INDEX([1]RELAÇÃO!$A$1:$AQ$576,MATCH($N309,[1]RELAÇÃO!$AQ$1:$AQ$576,0),1)","v":"ALDO BARROSO CORES JUNIOR"},{"$f":"IF(J309=0,\"-\",INDEX([1]RELAÇÃO!$A$1:$AQ$576,MATCH($N309,[1]RELAÇÃO!$AQ$1:$AQ$576,0),27)&INDEX([1]RELAÇÃO!$A$1:$AQ$576,MATCH($N309,[1]RELAÇÃO!$AQ$1:$AQ$576,0),28)&\", de \"&INDEX([1]RELAÇÃO!$A$1:$AQ$576,MATCH($N309,[1]RELAÇÃO!$AQ$1:$AQ$576,0),29)&\" - \"&INDEX([1]RELAÇÃO!$A$1:$AQ$576,MATCH($N309,[1]RELAÇÃO!$AQ$1:$AQ$576,0),31)&\" de \"&INDEX([1]RELAÇÃO!$A$1:$AQ$576,MATCH($N309,[1]RELAÇÃO!$AQ$1:$AQ$576,0),30))","v":"Portaria nº 551, de 27/09/2012 - DOU de 01/10/2012"},{"$f":"IF($E309=0,\"-\",IF(INDEX([1]RELAÇÃO!$A$1:$AQ$576,MATCH($M309,[1]RELAÇÃO!$AP$1:$AP$576,0),8)=\"11.102.000\",\"-\",INDEX([1]RELAÇÃO!$A$1:$AQ$576,MATCH($M309,[1]RELAÇÃO!$AP$1:$AP$576,0),7)))","v":"-"},"SPG14","SPG07S"]
[null,"Gerente de Projeto","DAS 101.4","GER",{"$f":"INDEX([1]RELAÇÃO!$A$1:$AQ$576,MATCH($M310,[1]RELAÇÃO!$AP$1:$AP$576,0),1)","v":"FERNANDO MASSAHARU MATSUMOTO"},{"$f":"IF(E310=0,\"-\",LEFT(INDEX([1]RELAÇÃO!$A$1:$AQ$576,MATCH($M310,[1]RELAÇÃO!$AP$1:$AP$576,0),32),1))","v":"M"},{"$f":"IF(E310=0,\"-\",INDEX([1]RELAÇÃO!$A$1:$AQ$576,MATCH($M310,[1]RELAÇÃO!$AP$1:$AP$576,0),5))","v":"Requisitado de Órgãos"},{"$f":"IF(E310=0,\"-\",INDEX([1]RELAÇÃO!$A$1:$AQ$576,MATCH($M310,[1]RELAÇÃO!$AP$1:$AP$576,0),6))","v":"ME - Ministério da Economia"},{"$f":"IF(E310=0,\"-\",INDEX([1]RELAÇÃO!$A$1:$AQ$576,MATCH($M310,[1]RELAÇÃO!$AP$1:$AP$576,0),12)&INDEX([1]RELAÇÃO!$A$1:$AQ$576,MATCH($M310,[1]RELAÇÃO!$AP$1:$AP$576,0),13)&\", de \"&INDEX([1]RELAÇÃO!$A$1:$AQ$576,MATCH($M310,[1]RELAÇÃO!$AP$1:$AP$576,0),14)&\" - \"&INDEX([1]RELAÇÃO!$A$1:$AQ$576,MATCH($M310,[1]RELAÇÃO!$AP$1:$AP$576,0),16)&\" de \"&INDEX([1]RELAÇÃO!$A$1:$AQ$576,MATCH($M310,[1]RELAÇÃO!$AP$1:$AP$576,0),15))","v":"Portaria nº 524, de 03/11/2016 - BPE de 04/11/2016"},{"$f":"INDEX([1]RELAÇÃO!$A$1:$AQ$576,MATCH($N310,[1]RELAÇÃO!$AQ$1:$AQ$576,0),1)","v":"DANIEL LOPES PÊGO"},{"$f":"IF(J310=0,\"-\",INDEX([1]RELAÇÃO!$A$1:$AQ$576,MATCH($N310,[1]RELAÇÃO!$AQ$1:$AQ$576,0),27)&INDEX([1]RELAÇÃO!$A$1:$AQ$576,MATCH($N310,[1]RELAÇÃO!$AQ$1:$AQ$576,0),28)&\", de \"&INDEX([1]RELAÇÃO!$A$1:$AQ$576,MATCH($N310,[1]RELAÇÃO!$AQ$1:$AQ$576,0),29)&\" - \"&INDEX([1]RELAÇÃO!$A$1:$AQ$576,MATCH($N310,[1]RELAÇÃO!$AQ$1:$AQ$576,0),31)&\" de \"&INDEX([1]RELAÇÃO!$A$1:$AQ$576,MATCH($N310,[1]RELAÇÃO!$AQ$1:$AQ$576,0),30))","v":"Portaria nº 326, de 15/08/2019 - DOU de 16/08/2019"},{"$f":"IF($E310=0,\"-\",IF(INDEX([1]RELAÇÃO!$A$1:$AQ$576,MATCH($M310,[1]RELAÇÃO!$AP$1:$AP$576,0),8)=\"11.102.000\",\"-\",INDEX([1]RELAÇÃO!$A$1:$AQ$576,MATCH($M310,[1]RELAÇÃO!$AP$1:$AP$576,0),7)))","v":"-"},"SPG15","SPG08S"]
[null,"Assistente","FCPE 102.2","ASS",{"$f":"INDEX([1]RELAÇÃO!$A$1:$AQ$576,MATCH($M311,[1]RELAÇÃO!$AP$1:$AP$576,0),1)","v":"DANIEL LOPES PÊGO"},{"$f":"IF(E311=0,\"-\",LEFT(INDEX([1]RELAÇÃO!$A$1:$AQ$576,MATCH($M311,[1]RELAÇÃO!$AP$1:$AP$576,0),32),1))","v":"M"},{"$f":"IF(E311=0,\"-\",INDEX([1]RELAÇÃO!$A$1:$AQ$576,MATCH($M311,[1]RELAÇÃO!$AP$1:$AP$576,0),5))","v":"Exercício Descentralizado"},{"$f":"IF(E311=0,\"-\",INDEX([1]RELAÇÃO!$A$1:$AQ$576,MATCH($M311,[1]RELAÇÃO!$AP$1:$AP$576,0),6))","v":"ME - Ministério da Economia"},{"$f":"IF(E311=0,\"-\",INDEX([1]RELAÇÃO!$A$1:$AQ$576,MATCH($M311,[1]RELAÇÃO!$AP$1:$AP$576,0),12)&INDEX([1]RELAÇÃO!$A$1:$AQ$576,MATCH($M311,[1]RELAÇÃO!$AP$1:$AP$576,0),13)&\", de \"&INDEX([1]RELAÇÃO!$A$1:$AQ$576,MATCH($M311,[1]RELAÇÃO!$AP$1:$AP$576,0),14)&\" - \"&INDEX([1]RELAÇÃO!$A$1:$AQ$576,MATCH($M311,[1]RELAÇÃO!$AP$1:$AP$576,0),16)&\" de \"&INDEX([1]RELAÇÃO!$A$1:$AQ$576,MATCH($M311,[1]RELAÇÃO!$AP$1:$AP$576,0),15))","v":"Portaria nº 369, de 07/10/2020 - DOU de 13/10/2020"},null,null,{"$f":"IF($E311=0,\"-\",IF(INDEX([1]RELAÇÃO!$A$1:$AQ$576,MATCH($M311,[1]RELAÇÃO!$AP$1:$AP$576,0),8)=\"11.102.000\",\"-\",INDEX([1]RELAÇÃO!$A$1:$AQ$576,MATCH($M311,[1]RELAÇÃO!$AP$1:$AP$576,0),7)))","v":"-"},"SPG16"]
["Coordenação-Geral de Acompanhamento, Desenvolvimento de Mercado e Produção","Coordenador-Geral","DAS 101.4","GER",{"$f":"INDEX([1]RELAÇÃO!$A$1:$AQ$576,MATCH($M312,[1]RELAÇÃO!$AP$1:$AP$576,0),1)","v":"JAQUELINE MENEGHEL RODRIGUES"},{"$f":"IF(E312=0,\"-\",LEFT(INDEX([1]RELAÇÃO!$A$1:$AQ$576,MATCH($M312,[1]RELAÇÃO!$AP$1:$AP$576,0),32),1))","v":"F"},{"$f":"IF(E312=0,\"-\",INDEX([1]RELAÇÃO!$A$1:$AQ$576,MATCH($M312,[1]RELAÇÃO!$AP$1:$AP$576,0),5))","v":"Exercício Descentralizado"},{"$f":"IF(E312=0,\"-\",INDEX([1]RELAÇÃO!$A$1:$AQ$576,MATCH($M312,[1]RELAÇÃO!$AP$1:$AP$576,0),6))","v":"ME - Ministério da Economia"},{"$f":"IF(E312=0,\"-\",INDEX([1]RELAÇÃO!$A$1:$AQ$576,MATCH($M312,[1]RELAÇÃO!$AP$1:$AP$576,0),12)&INDEX([1]RELAÇÃO!$A$1:$AQ$576,MATCH($M312,[1]RELAÇÃO!$AP$1:$AP$576,0),13)&\", de \"&INDEX([1]RELAÇÃO!$A$1:$AQ$576,MATCH($M312,[1]RELAÇÃO!$AP$1:$AP$576,0),14)&\" - \"&INDEX([1]RELAÇÃO!$A$1:$AQ$576,MATCH($M312,[1]RELAÇÃO!$AP$1:$AP$576,0),16)&\" de \"&INDEX([1]RELAÇÃO!$A$1:$AQ$576,MATCH($M312,[1]RELAÇÃO!$AP$1:$AP$576,0),15))","v":"Portaria nº 322, de 15/08/2019 - DOU de 16/08/2019"},{"$f":"INDEX([1]RELAÇÃO!$A$1:$AQ$576,MATCH($N312,[1]RELAÇÃO!$AQ$1:$AQ$576,0),1)","v":0},{"$f":"IF(J312=0,\"-\",INDEX([1]RELAÇÃO!$A$1:$AQ$576,MATCH($N312,[1]RELAÇÃO!$AQ$1:$AQ$576,0),27)&INDEX([1]RELAÇÃO!$A$1:$AQ$576,MATCH($N312,[1]RELAÇÃO!$AQ$1:$AQ$576,0),28)&\", de \"&INDEX([1]RELAÇÃO!$A$1:$AQ$576,MATCH($N312,[1]RELAÇÃO!$AQ$1:$AQ$576,0),29)&\" - \"&INDEX([1]RELAÇÃO!$A$1:$AQ$576,MATCH($N312,[1]RELAÇÃO!$AQ$1:$AQ$576,0),31)&\" de \"&INDEX([1]RELAÇÃO!$A$1:$AQ$576,MATCH($N312,[1]RELAÇÃO!$AQ$1:$AQ$576,0),30))","v":"-"},{"$f":"IF($E312=0,\"-\",IF(INDEX([1]RELAÇÃO!$A$1:$AQ$576,MATCH($M312,[1]RELAÇÃO!$AP$1:$AP$576,0),8)=\"11.102.100\",\"-\",INDEX([1]RELAÇÃO!$A$1:$AQ$576,MATCH($M312,[1]RELAÇÃO!$AP$1:$AP$576,0),7)))","v":"-"},"SPG17","SPG09S"]
["Coordenação-Geral de Processamento de Infraestrutura e Logística","Coordenador-Geral","DAS 101.4","GER",{"$f":"INDEX([1]RELAÇÃO!$A$1:$AQ$576,MATCH($M313,[1]RELAÇÃO!$AP$1:$AP$576,0),1)","v":"ALDO BARROSO CORES JUNIOR"},{"$f":"IF(E313=0,\"-\",LEFT(INDEX([1]RELAÇÃO!$A$1:$AQ$576,MATCH($M313,[1]RELAÇÃO!$AP$1:$AP$576,0),32),1))","v":"M"},{"$f":"IF(E313=0,\"-\",INDEX([1]RELAÇÃO!$A$1:$AQ$576,MATCH($M313,[1]RELAÇÃO!$AP$1:$AP$576,0),5))","v":"Exercício Descentralizado"},{"$f":"IF(E313=0,\"-\",INDEX([1]RELAÇÃO!$A$1:$AQ$576,MATCH($M313,[1]RELAÇÃO!$AP$1:$AP$576,0),6))","v":"ME - Ministério da Economia"},{"$f":"IF(E313=0,\"-\",INDEX([1]RELAÇÃO!$A$1:$AQ$576,MATCH($M313,[1]RELAÇÃO!$AP$1:$AP$576,0),12)&INDEX([1]RELAÇÃO!$A$1:$AQ$576,MATCH($M313,[1]RELAÇÃO!$AP$1:$AP$576,0),13)&\", de \"&INDEX([1]RELAÇÃO!$A$1:$AQ$576,MATCH($M313,[1]RELAÇÃO!$AP$1:$AP$576,0),14)&\" - \"&INDEX([1]RELAÇÃO!$A$1:$AQ$576,MATCH($M313,[1]RELAÇÃO!$AP$1:$AP$576,0),16)&\" de \"&INDEX([1]RELAÇÃO!$A$1:$AQ$576,MATCH($M313,[1]RELAÇÃO!$AP$1:$AP$576,0),15))","v":"Portaria nº 524, de 03/11/2016 - BPE de 04/11/2016"},{"$f":"INDEX([1]RELAÇÃO!$A$1:$AQ$576,MATCH($N313,[1]RELAÇÃO!$AQ$1:$AQ$576,0),1)","v":0},{"$f":"IF(J313=0,\"-\",INDEX([1]RELAÇÃO!$A$1:$AQ$576,MATCH($N313,[1]RELAÇÃO!$AQ$1:$AQ$576,0),27)&INDEX([1]RELAÇÃO!$A$1:$AQ$576,MATCH($N313,[1]RELAÇÃO!$AQ$1:$AQ$576,0),28)&\", de \"&INDEX([1]RELAÇÃO!$A$1:$AQ$576,MATCH($N313,[1]RELAÇÃO!$AQ$1:$AQ$576,0),29)&\" - \"&INDEX([1]RELAÇÃO!$A$1:$AQ$576,MATCH($N313,[1]RELAÇÃO!$AQ$1:$AQ$576,0),31)&\" de \"&INDEX([1]RELAÇÃO!$A$1:$AQ$576,MATCH($N313,[1]RELAÇÃO!$AQ$1:$AQ$576,0),30))","v":"-"},{"$f":"IF($E313=0,\"-\",IF(INDEX([1]RELAÇÃO!$A$1:$AQ$576,MATCH($M313,[1]RELAÇÃO!$AP$1:$AP$576,0),8)=\"11.102.200\",\"-\",INDEX([1]RELAÇÃO!$A$1:$AQ$576,MATCH($M313,[1]RELAÇÃO!$AP$1:$AP$576,0),7)))","v":"-"},"SPG18","SPG10S"]
["Departamento de Combustíveis Derivados de Petróleo ","Diretor","DAS 101.5","GER",{"$f":"INDEX([1]RELAÇÃO!$A$1:$AQ$576,MATCH($M314,[1]RELAÇÃO!$AP$1:$AP$576,0),1)","v":"MARISA MAIA DE BARROS"},{"$f":"IF(E314=0,\"-\",LEFT(INDEX([1]RELAÇÃO!$A$1:$AQ$576,MATCH($M314,[1]RELAÇÃO!$AP$1:$AP$576,0),32),1))","v":"F"},{"$f":"IF(E314=0,\"-\",INDEX([1]RELAÇÃO!$A$1:$AQ$576,MATCH($M314,[1]RELAÇÃO!$AP$1:$AP$576,0),5))","v":"Requisitado de Órgãos"},{"$f":"IF(E314=0,\"-\",INDEX([1]RELAÇÃO!$A$1:$AQ$576,MATCH($M314,[1]RELAÇÃO!$AP$1:$AP$576,0),6))","v":"EPE - Empresa de Pesquisa Energética"},{"$f":"IF(E314=0,\"-\",INDEX([1]RELAÇÃO!$A$1:$AQ$576,MATCH($M314,[1]RELAÇÃO!$AP$1:$AP$576,0),12)&INDEX([1]RELAÇÃO!$A$1:$AQ$576,MATCH($M314,[1]RELAÇÃO!$AP$1:$AP$576,0),13)&\", de \"&INDEX([1]RELAÇÃO!$A$1:$AQ$576,MATCH($M314,[1]RELAÇÃO!$AP$1:$AP$576,0),14)&\" - \"&INDEX([1]RELAÇÃO!$A$1:$AQ$576,MATCH($M314,[1]RELAÇÃO!$AP$1:$AP$576,0),16)&\" de \"&INDEX([1]RELAÇÃO!$A$1:$AQ$576,MATCH($M314,[1]RELAÇÃO!$AP$1:$AP$576,0),15))","v":"Portaria nº 373, de 30/09/2019 - DOU de 02/10/2019"},{"$f":"INDEX([1]RELAÇÃO!$A$1:$AQ$576,MATCH($N314,[1]RELAÇÃO!$AQ$1:$AQ$576,0),1)","v":"DEIVSON MATOS TIMBÓ"},{"$f":"IF(J314=0,\"-\",INDEX([1]RELAÇÃO!$A$1:$AQ$576,MATCH($N314,[1]RELAÇÃO!$AQ$1:$AQ$576,0),27)&INDEX([1]RELAÇÃO!$A$1:$AQ$576,MATCH($N314,[1]RELAÇÃO!$AQ$1:$AQ$576,0),28)&\", de \"&INDEX([1]RELAÇÃO!$A$1:$AQ$576,MATCH($N314,[1]RELAÇÃO!$AQ$1:$AQ$576,0),29)&\" - \"&INDEX([1]RELAÇÃO!$A$1:$AQ$576,MATCH($N314,[1]RELAÇÃO!$AQ$1:$AQ$576,0),31)&\" de \"&INDEX([1]RELAÇÃO!$A$1:$AQ$576,MATCH($N314,[1]RELAÇÃO!$AQ$1:$AQ$576,0),30))","v":"Portaria nº 386, de 09/10/2019 - DOU de 14/10/2019"},{"$f":"IF($E314=0,\"-\",IF(INDEX([1]RELAÇÃO!$A$1:$AQ$576,MATCH($M314,[1]RELAÇÃO!$AP$1:$AP$576,0),8)=\"11.103.000\",\"-\",INDEX([1]RELAÇÃO!$A$1:$AQ$576,MATCH($M314,[1]RELAÇÃO!$AP$1:$AP$576,0),7)))","v":"-"},"SPG19","SPG11S"]
[null,"Assistente","FCPE 102.2","ASS",{"$f":"INDEX([1]RELAÇÃO!$A$1:$AQ$576,MATCH($M315,[1]RELAÇÃO!$AP$1:$AP$576,0),1)","v":"PEDRO HENRIQUE MILHOMEM COUTINHO"},{"$f":"IF(E315=0,\"-\",LEFT(INDEX([1]RELAÇÃO!$A$1:$AQ$576,MATCH($M315,[1]RELAÇÃO!$AP$1:$AP$576,0),32),1))","v":"M"},{"$f":"IF(E315=0,\"-\",INDEX([1]RELAÇÃO!$A$1:$AQ$576,MATCH($M315,[1]RELAÇÃO!$AP$1:$AP$576,0),5))","v":"Exercício Descentralizado"},{"$f":"IF(E315=0,\"-\",INDEX([1]RELAÇÃO!$A$1:$AQ$576,MATCH($M315,[1]RELAÇÃO!$AP$1:$AP$576,0),6))","v":"ME - Ministério da Economia"},{"$f":"IF(E315=0,\"-\",INDEX([1]RELAÇÃO!$A$1:$AQ$576,MATCH($M315,[1]RELAÇÃO!$AP$1:$AP$576,0),12)&INDEX([1]RELAÇÃO!$A$1:$AQ$576,MATCH($M315,[1]RELAÇÃO!$AP$1:$AP$576,0),13)&\", de \"&INDEX([1]RELAÇÃO!$A$1:$AQ$576,MATCH($M315,[1]RELAÇÃO!$AP$1:$AP$576,0),14)&\" - \"&INDEX([1]RELAÇÃO!$A$1:$AQ$576,MATCH($M315,[1]RELAÇÃO!$AP$1:$AP$576,0),16)&\" de \"&INDEX([1]RELAÇÃO!$A$1:$AQ$576,MATCH($M315,[1]RELAÇÃO!$AP$1:$AP$576,0),15))","v":"Portaria nº 277, de 04/07/2019 - DOU de 08/07/2019"},null,null,{"$f":"IF($E315=0,\"-\",IF(INDEX([1]RELAÇÃO!$A$1:$AQ$576,MATCH($M315,[1]RELAÇÃO!$AP$1:$AP$576,0),8)=\"11.103.000\",\"-\",INDEX([1]RELAÇÃO!$A$1:$AQ$576,MATCH($M315,[1]RELAÇÃO!$AP$1:$AP$576,0),7)))","v":"-"},"SPG20"]
["Coordenação-Geral de Acompanhamento do Mercado","Coordenador-Geral","DAS 101.4","GER",{"$f":"INDEX([1]RELAÇÃO!$A$1:$AQ$576,MATCH($M316,[1]RELAÇÃO!$AP$1:$AP$576,0),1)","v":"DEIVSON MATOS TIMBÓ"},{"$f":"IF(E316=0,\"-\",LEFT(INDEX([1]RELAÇÃO!$A$1:$AQ$576,MATCH($M316,[1]RELAÇÃO!$AP$1:$AP$576,0),32),1))","v":"M"},{"$f":"IF(E316=0,\"-\",INDEX([1]RELAÇÃO!$A$1:$AQ$576,MATCH($M316,[1]RELAÇÃO!$AP$1:$AP$576,0),5))","v":"Exercício Descentralizado"},{"$f":"IF(E316=0,\"-\",INDEX([1]RELAÇÃO!$A$1:$AQ$576,MATCH($M316,[1]RELAÇÃO!$AP$1:$AP$576,0),6))","v":"ME - Ministério da Economia"},{"$f":"IF(E316=0,\"-\",INDEX([1]RELAÇÃO!$A$1:$AQ$576,MATCH($M316,[1]RELAÇÃO!$AP$1:$AP$576,0),12)&INDEX([1]RELAÇÃO!$A$1:$AQ$576,MATCH($M316,[1]RELAÇÃO!$AP$1:$AP$576,0),13)&\", de \"&INDEX([1]RELAÇÃO!$A$1:$AQ$576,MATCH($M316,[1]RELAÇÃO!$AP$1:$AP$576,0),14)&\" - \"&INDEX([1]RELAÇÃO!$A$1:$AQ$576,MATCH($M316,[1]RELAÇÃO!$AP$1:$AP$576,0),16)&\" de \"&INDEX([1]RELAÇÃO!$A$1:$AQ$576,MATCH($M316,[1]RELAÇÃO!$AP$1:$AP$576,0),15))","v":"Portaria nº 588, de 03/11/2016 - DOU de 04/11/2016"},{"$f":"INDEX([1]RELAÇÃO!$A$1:$AQ$576,MATCH($N316,[1]RELAÇÃO!$AQ$1:$AQ$576,0),1)","v":0},{"$f":"IF(J316=0,\"-\",INDEX([1]RELAÇÃO!$A$1:$AQ$576,MATCH($N316,[1]RELAÇÃO!$AQ$1:$AQ$576,0),27)&INDEX([1]RELAÇÃO!$A$1:$AQ$576,MATCH($N316,[1]RELAÇÃO!$AQ$1:$AQ$576,0),28)&\", de \"&INDEX([1]RELAÇÃO!$A$1:$AQ$576,MATCH($N316,[1]RELAÇÃO!$AQ$1:$AQ$576,0),29)&\" - \"&INDEX([1]RELAÇÃO!$A$1:$AQ$576,MATCH($N316,[1]RELAÇÃO!$AQ$1:$AQ$576,0),31)&\" de \"&INDEX([1]RELAÇÃO!$A$1:$AQ$576,MATCH($N316,[1]RELAÇÃO!$AQ$1:$AQ$576,0),30))","v":"-"},{"$f":"IF($E316=0,\"-\",IF(INDEX([1]RELAÇÃO!$A$1:$AQ$576,MATCH($M316,[1]RELAÇÃO!$AP$1:$AP$576,0),8)=\"11.103.100\",\"-\",INDEX([1]RELAÇÃO!$A$1:$AQ$576,MATCH($M316,[1]RELAÇÃO!$AP$1:$AP$576,0),7)))","v":"-"},"SPG21","SPG12S"]
["Coordenação-Geral de Refino, Abastecimento e Infraestrutura","Coordenador-Geral","DAS 101.4","GER",{"$f":"INDEX([1]RELAÇÃO!$A$1:$AQ$576,MATCH($M317,[1]RELAÇÃO!$AP$1:$AP$576,0),1)","v":"DANIELLE LANCHARES ORNELAS"},{"$f":"IF(E317=0,\"-\",LEFT(INDEX([1]RELAÇÃO!$A$1:$AQ$576,MATCH($M317,[1]RELAÇÃO!$AP$1:$AP$576,0),32),1))","v":"F"},{"$f":"IF(E317=0,\"-\",INDEX([1]RELAÇÃO!$A$1:$AQ$576,MATCH($M317,[1]RELAÇÃO!$AP$1:$AP$576,0),5))","v":"Requisitado de Órgãos"},{"$f":"IF(E317=0,\"-\",INDEX([1]RELAÇÃO!$A$1:$AQ$576,MATCH($M317,[1]RELAÇÃO!$AP$1:$AP$576,0),6))","v":"ANP - Agência Nacional do Petróleo, Gás Natural e Biocombustíveis"},{"$f":"IF(E317=0,\"-\",INDEX([1]RELAÇÃO!$A$1:$AQ$576,MATCH($M317,[1]RELAÇÃO!$AP$1:$AP$576,0),12)&INDEX([1]RELAÇÃO!$A$1:$AQ$576,MATCH($M317,[1]RELAÇÃO!$AP$1:$AP$576,0),13)&\", de \"&INDEX([1]RELAÇÃO!$A$1:$AQ$576,MATCH($M317,[1]RELAÇÃO!$AP$1:$AP$576,0),14)&\" - \"&INDEX([1]RELAÇÃO!$A$1:$AQ$576,MATCH($M317,[1]RELAÇÃO!$AP$1:$AP$576,0),16)&\" de \"&INDEX([1]RELAÇÃO!$A$1:$AQ$576,MATCH($M317,[1]RELAÇÃO!$AP$1:$AP$576,0),15))","v":"Portaria nº 478, de 23/12/2019 - DOU de 30/12/2019"},{"$f":"INDEX([1]RELAÇÃO!$A$1:$AQ$576,MATCH($N317,[1]RELAÇÃO!$AQ$1:$AQ$576,0),1)","v":"PEDRO HENRIQUE MILHOMEM COUTINHO"},{"$f":"IF(J317=0,\"-\",INDEX([1]RELAÇÃO!$A$1:$AQ$576,MATCH($N317,[1]RELAÇÃO!$AQ$1:$AQ$576,0),27)&INDEX([1]RELAÇÃO!$A$1:$AQ$576,MATCH($N317,[1]RELAÇÃO!$AQ$1:$AQ$576,0),28)&\", de \"&INDEX([1]RELAÇÃO!$A$1:$AQ$576,MATCH($N317,[1]RELAÇÃO!$AQ$1:$AQ$576,0),29)&\" - \"&INDEX([1]RELAÇÃO!$A$1:$AQ$576,MATCH($N317,[1]RELAÇÃO!$AQ$1:$AQ$576,0),31)&\" de \"&INDEX([1]RELAÇÃO!$A$1:$AQ$576,MATCH($N317,[1]RELAÇÃO!$AQ$1:$AQ$576,0),30))","v":"Portaria nº 77, de 03/03/2020 - DOU de 05/03/2020"},{"$f":"IF($E317=0,\"-\",IF(INDEX([1]RELAÇÃO!$A$1:$AQ$576,MATCH($M317,[1]RELAÇÃO!$AP$1:$AP$576,0),8)=\"11.103.200\",\"-\",INDEX([1]RELAÇÃO!$A$1:$AQ$576,MATCH($M317,[1]RELAÇÃO!$AP$1:$AP$576,0),7)))","v":"-"},"SPG22","SPG13S"]
["Departamento de Biocombustíveis","Diretor","DAS 101.5","GER",{"$f":"INDEX([1]RELAÇÃO!$A$1:$AQ$576,MATCH($M318,[1]RELAÇÃO!$AP$1:$AP$576,0),1)","v":0},{"$f":"IF(E318=0,\"-\",LEFT(INDEX([1]RELAÇÃO!$A$1:$AQ$576,MATCH($M318,[1]RELAÇÃO!$AP$1:$AP$576,0),32),1))","v":"-"},{"$f":"IF(E318=0,\"-\",INDEX([1]RELAÇÃO!$A$1:$AQ$576,MATCH($M318,[1]RELAÇÃO!$AP$1:$AP$576,0),5))","v":"-"},{"$f":"IF(E318=0,\"-\",INDEX([1]RELAÇÃO!$A$1:$AQ$576,MATCH($M318,[1]RELAÇÃO!$AP$1:$AP$576,0),6))","v":"-"},{"$f":"IF(E318=0,\"-\",INDEX([1]RELAÇÃO!$A$1:$AQ$576,MATCH($M318,[1]RELAÇÃO!$AP$1:$AP$576,0),12)&INDEX([1]RELAÇÃO!$A$1:$AQ$576,MATCH($M318,[1]RELAÇÃO!$AP$1:$AP$576,0),13)&\", de \"&INDEX([1]RELAÇÃO!$A$1:$AQ$576,MATCH($M318,[1]RELAÇÃO!$AP$1:$AP$576,0),14)&\" - \"&INDEX([1]RELAÇÃO!$A$1:$AQ$576,MATCH($M318,[1]RELAÇÃO!$AP$1:$AP$576,0),16)&\" de \"&INDEX([1]RELAÇÃO!$A$1:$AQ$576,MATCH($M318,[1]RELAÇÃO!$AP$1:$AP$576,0),15))","v":"-"},{"$f":"INDEX([1]RELAÇÃO!$A$1:$AQ$576,MATCH($N318,[1]RELAÇÃO!$AQ$1:$AQ$576,0),1)","v":"GUSTAVO LUIS DE SOUZA MOTTA"},{"$f":"IF(J318=0,\"-\",INDEX([1]RELAÇÃO!$A$1:$AQ$576,MATCH($N318,[1]RELAÇÃO!$AQ$1:$AQ$576,0),27)&INDEX([1]RELAÇÃO!$A$1:$AQ$576,MATCH($N318,[1]RELAÇÃO!$AQ$1:$AQ$576,0),28)&\", de \"&INDEX([1]RELAÇÃO!$A$1:$AQ$576,MATCH($N318,[1]RELAÇÃO!$AQ$1:$AQ$576,0),29)&\" - \"&INDEX([1]RELAÇÃO!$A$1:$AQ$576,MATCH($N318,[1]RELAÇÃO!$AQ$1:$AQ$576,0),31)&\" de \"&INDEX([1]RELAÇÃO!$A$1:$AQ$576,MATCH($N318,[1]RELAÇÃO!$AQ$1:$AQ$576,0),30))","v":"Portaria nº 319, de 15/08/2019 - DOU de 16/08/2019"},{"$f":"IF($E318=0,\"-\",IF(INDEX([1]RELAÇÃO!$A$1:$AQ$576,MATCH($M318,[1]RELAÇÃO!$AP$1:$AP$576,0),8)=\"11.104.000\",\"-\",INDEX([1]RELAÇÃO!$A$1:$AQ$576,MATCH($M318,[1]RELAÇÃO!$AP$1:$AP$576,0),7)))","v":"-"},"SPG23","SPG14S"]
[null,"Assistente","FCPE 102.2","ASS",{"$f":"INDEX([1]RELAÇÃO!$A$1:$AQ$576,MATCH($M319,[1]RELAÇÃO!$AP$1:$AP$576,0),1)","v":"GUSTAVO LUIS DE SOUZA MOTTA"},{"$f":"IF(E319=0,\"-\",LEFT(INDEX([1]RELAÇÃO!$A$1:$AQ$576,MATCH($M319,[1]RELAÇÃO!$AP$1:$AP$576,0),32),1))","v":"M"},{"$f":"IF(E319=0,\"-\",INDEX([1]RELAÇÃO!$A$1:$AQ$576,MATCH($M319,[1]RELAÇÃO!$AP$1:$AP$576,0),5))","v":"Exercício Descentralizado"},{"$f":"IF(E319=0,\"-\",INDEX([1]RELAÇÃO!$A$1:$AQ$576,MATCH($M319,[1]RELAÇÃO!$AP$1:$AP$576,0),6))","v":"ME - Ministério da Economia"},{"$f":"IF(E319=0,\"-\",INDEX([1]RELAÇÃO!$A$1:$AQ$576,MATCH($M319,[1]RELAÇÃO!$AP$1:$AP$576,0),12)&INDEX([1]RELAÇÃO!$A$1:$AQ$576,MATCH($M319,[1]RELAÇÃO!$AP$1:$AP$576,0),13)&\", de \"&INDEX([1]RELAÇÃO!$A$1:$AQ$576,MATCH($M319,[1]RELAÇÃO!$AP$1:$AP$576,0),14)&\" - \"&INDEX([1]RELAÇÃO!$A$1:$AQ$576,MATCH($M319,[1]RELAÇÃO!$AP$1:$AP$576,0),16)&\" de \"&INDEX([1]RELAÇÃO!$A$1:$AQ$576,MATCH($M319,[1]RELAÇÃO!$AP$1:$AP$576,0),15))","v":"Portaria nº 318, de 15/08/2019 - DOU de 16/08/2019"},null,null,{"$f":"IF($E319=0,\"-\",IF(INDEX([1]RELAÇÃO!$A$1:$AQ$576,MATCH($M319,[1]RELAÇÃO!$AP$1:$AP$576,0),8)=\"11.104.000\",\"-\",INDEX([1]RELAÇÃO!$A$1:$AQ$576,MATCH($M319,[1]RELAÇÃO!$AP$1:$AP$576,0),7)))","v":"SPG / DBIO / COORDENAÇÃO GERAL DE BIODIESEL E OUTROS BIOCOMBUSTÍVEIS"},"SPG24"]
["Coordenação-Geral de Biodiesel e outros BIocombustíveis","Coordenador-Geral","DAS 101.4","GER",{"$f":"INDEX([1]RELAÇÃO!$A$1:$AQ$576,MATCH($M320,[1]RELAÇÃO!$AP$1:$AP$576,0),1)","v":"PAULO ROBERTO MACHADO FERNANDES COSTA"},{"$f":"IF(E320=0,\"-\",LEFT(INDEX([1]RELAÇÃO!$A$1:$AQ$576,MATCH($M320,[1]RELAÇÃO!$AP$1:$AP$576,0),32),1))","v":"M"},{"$f":"IF(E320=0,\"-\",INDEX([1]RELAÇÃO!$A$1:$AQ$576,MATCH($M320,[1]RELAÇÃO!$AP$1:$AP$576,0),5))","v":"Exercício Descentralizado"},{"$f":"IF(E320=0,\"-\",INDEX([1]RELAÇÃO!$A$1:$AQ$576,MATCH($M320,[1]RELAÇÃO!$AP$1:$AP$576,0),6))","v":"ME - Ministério da Economia"},{"$f":"IF(E320=0,\"-\",INDEX([1]RELAÇÃO!$A$1:$AQ$576,MATCH($M320,[1]RELAÇÃO!$AP$1:$AP$576,0),12)&INDEX([1]RELAÇÃO!$A$1:$AQ$576,MATCH($M320,[1]RELAÇÃO!$AP$1:$AP$576,0),13)&\", de \"&INDEX([1]RELAÇÃO!$A$1:$AQ$576,MATCH($M320,[1]RELAÇÃO!$AP$1:$AP$576,0),14)&\" - \"&INDEX([1]RELAÇÃO!$A$1:$AQ$576,MATCH($M320,[1]RELAÇÃO!$AP$1:$AP$576,0),16)&\" de \"&INDEX([1]RELAÇÃO!$A$1:$AQ$576,MATCH($M320,[1]RELAÇÃO!$AP$1:$AP$576,0),15))","v":"Portaria nº 317, de 15/08/2019 - DOU de 16/08/2019"},{"$f":"INDEX([1]RELAÇÃO!$A$1:$AQ$576,MATCH($N320,[1]RELAÇÃO!$AQ$1:$AQ$576,0),1)","v":"UMBERTO MATTEI"},{"$f":"IF(J320=0,\"-\",INDEX([1]RELAÇÃO!$A$1:$AQ$576,MATCH($N320,[1]RELAÇÃO!$AQ$1:$AQ$576,0),27)&INDEX([1]RELAÇÃO!$A$1:$AQ$576,MATCH($N320,[1]RELAÇÃO!$AQ$1:$AQ$576,0),28)&\", de \"&INDEX([1]RELAÇÃO!$A$1:$AQ$576,MATCH($N320,[1]RELAÇÃO!$AQ$1:$AQ$576,0),29)&\" - \"&INDEX([1]RELAÇÃO!$A$1:$AQ$576,MATCH($N320,[1]RELAÇÃO!$AQ$1:$AQ$576,0),31)&\" de \"&INDEX([1]RELAÇÃO!$A$1:$AQ$576,MATCH($N320,[1]RELAÇÃO!$AQ$1:$AQ$576,0),30))","v":"Portaria nº 321, de 15/08/2019 - DOU de 16/08/2019"},{"$f":"IF($E320=0,\"-\",IF(INDEX([1]RELAÇÃO!$A$1:$AQ$576,MATCH($M320,[1]RELAÇÃO!$AP$1:$AP$576,0),8)=\"11.104.100\",\"-\",INDEX([1]RELAÇÃO!$A$1:$AQ$576,MATCH($M320,[1]RELAÇÃO!$AP$1:$AP$576,0),7)))","v":"-"},"SPG25","SPG15S"]
["Coordenação-Geral de Etanol","Coordenador-Geral","DAS 101.4","GER",{"$f":"INDEX([1]RELAÇÃO!$A$1:$AQ$576,MATCH($M321,[1]RELAÇÃO!$AP$1:$AP$576,0),1)","v":"MARLON ARRAES JARDIM LEAL"},{"$f":"IF(E321=0,\"-\",LEFT(INDEX([1]RELAÇÃO!$A$1:$AQ$576,MATCH($M321,[1]RELAÇÃO!$AP$1:$AP$576,0),32),1))","v":"M"},{"$f":"IF(E321=0,\"-\",INDEX([1]RELAÇÃO!$A$1:$AQ$576,MATCH($M321,[1]RELAÇÃO!$AP$1:$AP$576,0),5))","v":"Exercício Descentralizado"},{"$f":"IF(E321=0,\"-\",INDEX([1]RELAÇÃO!$A$1:$AQ$576,MATCH($M321,[1]RELAÇÃO!$AP$1:$AP$576,0),6))","v":"ME - Ministério da Economia"},{"$f":"IF(E321=0,\"-\",INDEX([1]RELAÇÃO!$A$1:$AQ$576,MATCH($M321,[1]RELAÇÃO!$AP$1:$AP$576,0),12)&INDEX([1]RELAÇÃO!$A$1:$AQ$576,MATCH($M321,[1]RELAÇÃO!$AP$1:$AP$576,0),13)&\", de \"&INDEX([1]RELAÇÃO!$A$1:$AQ$576,MATCH($M321,[1]RELAÇÃO!$AP$1:$AP$576,0),14)&\" - \"&INDEX([1]RELAÇÃO!$A$1:$AQ$576,MATCH($M321,[1]RELAÇÃO!$AP$1:$AP$576,0),16)&\" de \"&INDEX([1]RELAÇÃO!$A$1:$AQ$576,MATCH($M321,[1]RELAÇÃO!$AP$1:$AP$576,0),15))","v":"Portaria nº 590, de 03/11/2016 - DOU de 04/11/2016"},{"$f":"INDEX([1]RELAÇÃO!$A$1:$AQ$576,MATCH($N321,[1]RELAÇÃO!$AQ$1:$AQ$576,0),1)","v":"MARCOS CARVALHO DE SANT'ANA"},{"$f":"IF(J321=0,\"-\",INDEX([1]RELAÇÃO!$A$1:$AQ$576,MATCH($N321,[1]RELAÇÃO!$AQ$1:$AQ$576,0),27)&INDEX([1]RELAÇÃO!$A$1:$AQ$576,MATCH($N321,[1]RELAÇÃO!$AQ$1:$AQ$576,0),28)&\", de \"&INDEX([1]RELAÇÃO!$A$1:$AQ$576,MATCH($N321,[1]RELAÇÃO!$AQ$1:$AQ$576,0),29)&\" - \"&INDEX([1]RELAÇÃO!$A$1:$AQ$576,MATCH($N321,[1]RELAÇÃO!$AQ$1:$AQ$576,0),31)&\" de \"&INDEX([1]RELAÇÃO!$A$1:$AQ$576,MATCH($N321,[1]RELAÇÃO!$AQ$1:$AQ$576,0),30))","v":"Portaria nº 320, de 15/08/2019 - DOU de 16/08/2019"},{"$f":"IF($E321=0,\"-\",IF(INDEX([1]RELAÇÃO!$A$1:$AQ$576,MATCH($M321,[1]RELAÇÃO!$AP$1:$AP$576,0),8)=\"11.104.200\",\"-\",INDEX([1]RELAÇÃO!$A$1:$AQ$576,MATCH($M321,[1]RELAÇÃO!$AP$1:$AP$576,0),7)))","v":"-"},"SPG26","SPG16S"]
[]
["SECRETARIA DE GEOLOGIA, MINERAÇÃO E TRANSFORMAÇÃO MINERAL - SGM"]
["UNIDADE","DENOMINAÇÃO CARGO/FUNÇÃO","NE/DAS/FCPE","NÍVEL DA FUNÇÃO","SERVIDOR","SEXO","SITUAÇÃO","ORIGEM","ATO DE NOMEAÇÃO","SUBSTITUTO EVENTUAL","DESIGNAÇÃO","Alteração de local de exercício","ID FUNÇÃO","ID SUBSTITUIÇÃO"]
["SECRETARIA DE GEOLOGIA, MINERAÇÃO E TRANSFORMAÇÃO MINERAL","Secretário","DAS 101.6","GER",{"$f":"INDEX([1]RELAÇÃO!$A$1:$AQ$576,MATCH($M325,[1]RELAÇÃO!$AP$1:$AP$576,0),1)","v":"ALEXANDRE VIDIGAL DE OLIVEIRA"},{"$f":"IF(E325=0,\"-\",LEFT(INDEX([1]RELAÇÃO!$A$1:$AQ$576,MATCH($M325,[1]RELAÇÃO!$AP$1:$AP$576,0),32),1))","v":"M"},{"$f":"IF(E325=0,\"-\",INDEX([1]RELAÇÃO!$A$1:$AQ$576,MATCH($M325,[1]RELAÇÃO!$AP$1:$AP$576,0),5))","v":"Sem Vínculo"},{"$f":"IF(E325=0,\"-\",INDEX([1]RELAÇÃO!$A$1:$AQ$576,MATCH($M325,[1]RELAÇÃO!$AP$1:$AP$576,0),6))","v":"Sem Vínculo"},{"$f":"IF(E325=0,\"-\",INDEX([1]RELAÇÃO!$A$1:$AQ$576,MATCH($M325,[1]RELAÇÃO!$AP$1:$AP$576,0),12)&INDEX([1]RELAÇÃO!$A$1:$AQ$576,MATCH($M325,[1]RELAÇÃO!$AP$1:$AP$576,0),13)&\", de \"&INDEX([1]RELAÇÃO!$A$1:$AQ$576,MATCH($M325,[1]RELAÇÃO!$AP$1:$AP$576,0),14)&\" - \"&INDEX([1]RELAÇÃO!$A$1:$AQ$576,MATCH($M325,[1]RELAÇÃO!$AP$1:$AP$576,0),16)&\" de \"&INDEX([1]RELAÇÃO!$A$1:$AQ$576,MATCH($M325,[1]RELAÇÃO!$AP$1:$AP$576,0),15))","v":"Portaria nº 688, de 18/01/2019 - DOU de 21/01/2019"},{"$f":"INDEX([1]RELAÇÃO!$A$1:$AQ$576,MATCH($N325,[1]RELAÇÃO!$AQ$1:$AQ$576,0),1)","v":"LILIA MASCARENHAS SANT'AGOSTINO"},{"$f":"IF(J325=0,\"-\",INDEX([1]RELAÇÃO!$A$1:$AQ$576,MATCH($N325,[1]RELAÇÃO!$AQ$1:$AQ$576,0),27)&INDEX([1]RELAÇÃO!$A$1:$AQ$576,MATCH($N325,[1]RELAÇÃO!$AQ$1:$AQ$576,0),28)&\", de \"&INDEX([1]RELAÇÃO!$A$1:$AQ$576,MATCH($N325,[1]RELAÇÃO!$AQ$1:$AQ$576,0),29)&\" - \"&INDEX([1]RELAÇÃO!$A$1:$AQ$576,MATCH($N325,[1]RELAÇÃO!$AQ$1:$AQ$576,0),31)&\" de \"&INDEX([1]RELAÇÃO!$A$1:$AQ$576,MATCH($N325,[1]RELAÇÃO!$AQ$1:$AQ$576,0),30))","v":"Portaria nº 108 - Anexo XI, Art. 18, II do RI da SGM, de 14/03/2017 - DOU de 16/03/2017 - Ret. 17/03/2017"},{"$f":"IF($E325=0,\"-\",IF(INDEX([1]RELAÇÃO!$A$1:$AQ$576,MATCH($M325,[1]RELAÇÃO!$AP$1:$AP$576,0),8)=\"9.000.000\",\"-\",INDEX([1]RELAÇÃO!$A$1:$AQ$576,MATCH($M325,[1]RELAÇÃO!$AP$1:$AP$576,0),7)))","v":"-"},"SGM01","SGM01S"]
[null,"Secretário-Adjunto","DAS 101.5","GER",{"$f":"INDEX([1]RELAÇÃO!$A$1:$AQ$576,MATCH($M326,[1]RELAÇÃO!$AP$1:$AP$576,0),1)","v":"LILIA MASCARENHAS SANT'AGOSTINO"},{"$f":"IF(E326=0,\"-\",LEFT(INDEX([1]RELAÇÃO!$A$1:$AQ$576,MATCH($M326,[1]RELAÇÃO!$AP$1:$AP$576,0),32),1))","v":"F"},{"$f":"IF(E326=0,\"-\",INDEX([1]RELAÇÃO!$A$1:$AQ$576,MATCH($M326,[1]RELAÇÃO!$AP$1:$AP$576,0),5))","v":"Sem Vínculo"},{"$f":"IF(E326=0,\"-\",INDEX([1]RELAÇÃO!$A$1:$AQ$576,MATCH($M326,[1]RELAÇÃO!$AP$1:$AP$576,0),6))","v":"Sem Vínculo"},{"$f":"IF(E326=0,\"-\",INDEX([1]RELAÇÃO!$A$1:$AQ$576,MATCH($M326,[1]RELAÇÃO!$AP$1:$AP$576,0),12)&INDEX([1]RELAÇÃO!$A$1:$AQ$576,MATCH($M326,[1]RELAÇÃO!$AP$1:$AP$576,0),13)&\", de \"&INDEX([1]RELAÇÃO!$A$1:$AQ$576,MATCH($M326,[1]RELAÇÃO!$AP$1:$AP$576,0),14)&\" - \"&INDEX([1]RELAÇÃO!$A$1:$AQ$576,MATCH($M326,[1]RELAÇÃO!$AP$1:$AP$576,0),16)&\" de \"&INDEX([1]RELAÇÃO!$A$1:$AQ$576,MATCH($M326,[1]RELAÇÃO!$AP$1:$AP$576,0),15))","v":"Portaria nº 1795, de 22/05/2019 - DOU de 23/05/2019"},{"$f":"INDEX([1]RELAÇÃO!$A$1:$AQ$576,MATCH($N326,[1]RELAÇÃO!$AQ$1:$AQ$576,0),1)","v":"RICARDO DE PAULA MONTEIRO"},{"$f":"IF(J326=0,\"-\",INDEX([1]RELAÇÃO!$A$1:$AQ$576,MATCH($N326,[1]RELAÇÃO!$AQ$1:$AQ$576,0),27)&INDEX([1]RELAÇÃO!$A$1:$AQ$576,MATCH($N326,[1]RELAÇÃO!$AQ$1:$AQ$576,0),28)&\", de \"&INDEX([1]RELAÇÃO!$A$1:$AQ$576,MATCH($N326,[1]RELAÇÃO!$AQ$1:$AQ$576,0),29)&\" - \"&INDEX([1]RELAÇÃO!$A$1:$AQ$576,MATCH($N326,[1]RELAÇÃO!$AQ$1:$AQ$576,0),31)&\" de \"&INDEX([1]RELAÇÃO!$A$1:$AQ$576,MATCH($N326,[1]RELAÇÃO!$AQ$1:$AQ$576,0),30))","v":"Portaria nº 22, de 27/01/2020 - DOU de 29/01/2020"},{"$f":"IF($E326=0,\"-\",IF(INDEX([1]RELAÇÃO!$A$1:$AQ$576,MATCH($M326,[1]RELAÇÃO!$AP$1:$AP$576,0),8)=\"9.000.000\",\"-\",INDEX([1]RELAÇÃO!$A$1:$AQ$576,MATCH($M326,[1]RELAÇÃO!$AP$1:$AP$576,0),7)))","v":"SGM / CHEFIA DE GABINETE SGM"},"SGM02","SGM02S"]
[null,"Assessor Técnico","DAS 102.3","ASS",{"$f":"INDEX([1]RELAÇÃO!$A$1:$AQ$576,MATCH($M327,[1]RELAÇÃO!$AP$1:$AP$576,0),1)","v":"PATRICIA NOLETO CRESTANI"},{"$f":"IF(E327=0,\"-\",LEFT(INDEX([1]RELAÇÃO!$A$1:$AQ$576,MATCH($M327,[1]RELAÇÃO!$AP$1:$AP$576,0),32),1))","v":"F"},{"$f":"IF(E327=0,\"-\",INDEX([1]RELAÇÃO!$A$1:$AQ$576,MATCH($M327,[1]RELAÇÃO!$AP$1:$AP$576,0),5))","v":"Sem Vínculo"},{"$f":"IF(E327=0,\"-\",INDEX([1]RELAÇÃO!$A$1:$AQ$576,MATCH($M327,[1]RELAÇÃO!$AP$1:$AP$576,0),6))","v":"Sem Vínculo"},{"$f":"IF(E327=0,\"-\",INDEX([1]RELAÇÃO!$A$1:$AQ$576,MATCH($M327,[1]RELAÇÃO!$AP$1:$AP$576,0),12)&INDEX([1]RELAÇÃO!$A$1:$AQ$576,MATCH($M327,[1]RELAÇÃO!$AP$1:$AP$576,0),13)&\", de \"&INDEX([1]RELAÇÃO!$A$1:$AQ$576,MATCH($M327,[1]RELAÇÃO!$AP$1:$AP$576,0),14)&\" - \"&INDEX([1]RELAÇÃO!$A$1:$AQ$576,MATCH($M327,[1]RELAÇÃO!$AP$1:$AP$576,0),16)&\" de \"&INDEX([1]RELAÇÃO!$A$1:$AQ$576,MATCH($M327,[1]RELAÇÃO!$AP$1:$AP$576,0),15))","v":"Portaria nº 524, de 03/11/2016 - BPE de 04/11/2016"},null,null,{"$f":"IF($E327=0,\"-\",IF(INDEX([1]RELAÇÃO!$A$1:$AQ$576,MATCH($M327,[1]RELAÇÃO!$AP$1:$AP$576,0),8)=\"9.000.000\",\"-\",INDEX([1]RELAÇÃO!$A$1:$AQ$576,MATCH($M327,[1]RELAÇÃO!$AP$1:$AP$576,0),7)))","v":"SGM / CHEFIA DE GABINETE SGM"},"SGM03"]
[null,"Assessor Técnico","FCPE 102.3","ASS",{"$f":"INDEX([1]RELAÇÃO!$A$1:$AQ$576,MATCH($M328,[1]RELAÇÃO!$AP$1:$AP$576,0),1)","v":"JOAO ALBERTO CHAVES ALMEIDA"},{"$f":"IF(E328=0,\"-\",LEFT(INDEX([1]RELAÇÃO!$A$1:$AQ$576,MATCH($M328,[1]RELAÇÃO!$AP$1:$AP$576,0),32),1))","v":"M"},{"$f":"IF(E328=0,\"-\",INDEX([1]RELAÇÃO!$A$1:$AQ$576,MATCH($M328,[1]RELAÇÃO!$AP$1:$AP$576,0),5))","v":"Ativo Permanente"},{"$f":"IF(E328=0,\"-\",INDEX([1]RELAÇÃO!$A$1:$AQ$576,MATCH($M328,[1]RELAÇÃO!$AP$1:$AP$576,0),6))","v":"MME - Ministério de Minas e Energia"},{"$f":"IF(E328=0,\"-\",INDEX([1]RELAÇÃO!$A$1:$AQ$576,MATCH($M328,[1]RELAÇÃO!$AP$1:$AP$576,0),12)&INDEX([1]RELAÇÃO!$A$1:$AQ$576,MATCH($M328,[1]RELAÇÃO!$AP$1:$AP$576,0),13)&\", de \"&INDEX([1]RELAÇÃO!$A$1:$AQ$576,MATCH($M328,[1]RELAÇÃO!$AP$1:$AP$576,0),14)&\" - \"&INDEX([1]RELAÇÃO!$A$1:$AQ$576,MATCH($M328,[1]RELAÇÃO!$AP$1:$AP$576,0),16)&\" de \"&INDEX([1]RELAÇÃO!$A$1:$AQ$576,MATCH($M328,[1]RELAÇÃO!$AP$1:$AP$576,0),15))","v":"Portaria nº 524, de 03/11/2016 - BPE de 04/11/2016"},null,null,{"$f":"IF($E328=0,\"-\",IF(INDEX([1]RELAÇÃO!$A$1:$AQ$576,MATCH($M328,[1]RELAÇÃO!$AP$1:$AP$576,0),8)=\"9.000.000\",\"-\",INDEX([1]RELAÇÃO!$A$1:$AQ$576,MATCH($M328,[1]RELAÇÃO!$AP$1:$AP$576,0),7)))","v":"SGM / CHEFIA DE GABINETE SGM"},"SGM04"]
[null,"Assessor Técnico","FCPE 102.3","ASS",{"$f":"INDEX([1]RELAÇÃO!$A$1:$AQ$576,MATCH($M329,[1]RELAÇÃO!$AP$1:$AP$576,0),1)","v":"PEDRO ELCIO DOS SANTOS"},{"$f":"IF(E329=0,\"-\",LEFT(INDEX([1]RELAÇÃO!$A$1:$AQ$576,MATCH($M329,[1]RELAÇÃO!$AP$1:$AP$576,0),32),1))","v":"M"},{"$f":"IF(E329=0,\"-\",INDEX([1]RELAÇÃO!$A$1:$AQ$576,MATCH($M329,[1]RELAÇÃO!$AP$1:$AP$576,0),5))","v":"Ativo Permanente"},{"$f":"IF(E329=0,\"-\",INDEX([1]RELAÇÃO!$A$1:$AQ$576,MATCH($M329,[1]RELAÇÃO!$AP$1:$AP$576,0),6))","v":"MME - Ministério de Minas e Energia"},{"$f":"IF(E329=0,\"-\",INDEX([1]RELAÇÃO!$A$1:$AQ$576,MATCH($M329,[1]RELAÇÃO!$AP$1:$AP$576,0),12)&INDEX([1]RELAÇÃO!$A$1:$AQ$576,MATCH($M329,[1]RELAÇÃO!$AP$1:$AP$576,0),13)&\", de \"&INDEX([1]RELAÇÃO!$A$1:$AQ$576,MATCH($M329,[1]RELAÇÃO!$AP$1:$AP$576,0),14)&\" - \"&INDEX([1]RELAÇÃO!$A$1:$AQ$576,MATCH($M329,[1]RELAÇÃO!$AP$1:$AP$576,0),16)&\" de \"&INDEX([1]RELAÇÃO!$A$1:$AQ$576,MATCH($M329,[1]RELAÇÃO!$AP$1:$AP$576,0),15))","v":"Portaria nº 524, de 03/11/2016 - BPE de 04/11/2016"},null,null,{"$f":"IF($E329=0,\"-\",IF(INDEX([1]RELAÇÃO!$A$1:$AQ$576,MATCH($M329,[1]RELAÇÃO!$AP$1:$AP$576,0),8)=\"9.000.000\",\"-\",INDEX([1]RELAÇÃO!$A$1:$AQ$576,MATCH($M329,[1]RELAÇÃO!$AP$1:$AP$576,0),7)))","v":"SGM / CHEFIA DE GABINETE SGM"},"SGM05"]
[null,"Assistente","DAS 102.2","ASS",{"$f":"INDEX([1]RELAÇÃO!$A$1:$AQ$576,MATCH($M330,[1]RELAÇÃO!$AP$1:$AP$576,0),1)","v":"LORENA LOPES DE MORAES"},{"$f":"IF(E330=0,\"-\",LEFT(INDEX([1]RELAÇÃO!$A$1:$AQ$576,MATCH($M330,[1]RELAÇÃO!$AP$1:$AP$576,0),32),1))","v":"F"},{"$f":"IF(E330=0,\"-\",INDEX([1]RELAÇÃO!$A$1:$AQ$576,MATCH($M330,[1]RELAÇÃO!$AP$1:$AP$576,0),5))","v":"Sem Vínculo"},{"$f":"IF(E330=0,\"-\",INDEX([1]RELAÇÃO!$A$1:$AQ$576,MATCH($M330,[1]RELAÇÃO!$AP$1:$AP$576,0),6))","v":"Sem Vínculo"},{"$f":"IF(E330=0,\"-\",INDEX([1]RELAÇÃO!$A$1:$AQ$576,MATCH($M330,[1]RELAÇÃO!$AP$1:$AP$576,0),12)&INDEX([1]RELAÇÃO!$A$1:$AQ$576,MATCH($M330,[1]RELAÇÃO!$AP$1:$AP$576,0),13)&\", de \"&INDEX([1]RELAÇÃO!$A$1:$AQ$576,MATCH($M330,[1]RELAÇÃO!$AP$1:$AP$576,0),14)&\" - \"&INDEX([1]RELAÇÃO!$A$1:$AQ$576,MATCH($M330,[1]RELAÇÃO!$AP$1:$AP$576,0),16)&\" de \"&INDEX([1]RELAÇÃO!$A$1:$AQ$576,MATCH($M330,[1]RELAÇÃO!$AP$1:$AP$576,0),15))","v":"Portaria nº 524, de 03/11/2016 - BPE de 04/11/2016"},null,null,{"$f":"IF($E330=0,\"-\",IF(INDEX([1]RELAÇÃO!$A$1:$AQ$576,MATCH($M330,[1]RELAÇÃO!$AP$1:$AP$576,0),8)=\"9.000.000\",\"-\",INDEX([1]RELAÇÃO!$A$1:$AQ$576,MATCH($M330,[1]RELAÇÃO!$AP$1:$AP$576,0),7)))","v":"SGM / DDM / COORDENAÇÃO GERAL DE DESENVOLVIMENTO SOCIOAMBIENTAL NA MINERAÇÃO"},"SGM06"]
[null,"Assistente Técnico"," DAS 102.1",null,"Excluído pelo Dec. 9675/2019"]
[null,"Assistente Técnico","DAS 102.1","ASS",{"$f":"INDEX([1]RELAÇÃO!$A$1:$AQ$576,MATCH($M332,[1]RELAÇÃO!$AP$1:$AP$576,0),1)","v":"FRANCIMAR SOUSA DE LIMA SAKAMOTO"},{"$f":"IF(E332=0,\"-\",LEFT(INDEX([1]RELAÇÃO!$A$1:$AQ$576,MATCH($M332,[1]RELAÇÃO!$AP$1:$AP$576,0),32),1))","v":"F"},{"$f":"IF(E332=0,\"-\",INDEX([1]RELAÇÃO!$A$1:$AQ$576,MATCH($M332,[1]RELAÇÃO!$AP$1:$AP$576,0),5))","v":"Sem Vínculo"},{"$f":"IF(E332=0,\"-\",INDEX([1]RELAÇÃO!$A$1:$AQ$576,MATCH($M332,[1]RELAÇÃO!$AP$1:$AP$576,0),6))","v":"Sem Vínculo"},{"$f":"IF(E332=0,\"-\",INDEX([1]RELAÇÃO!$A$1:$AQ$576,MATCH($M332,[1]RELAÇÃO!$AP$1:$AP$576,0),12)&INDEX([1]RELAÇÃO!$A$1:$AQ$576,MATCH($M332,[1]RELAÇÃO!$AP$1:$AP$576,0),13)&\", de \"&INDEX([1]RELAÇÃO!$A$1:$AQ$576,MATCH($M332,[1]RELAÇÃO!$AP$1:$AP$576,0),14)&\" - \"&INDEX([1]RELAÇÃO!$A$1:$AQ$576,MATCH($M332,[1]RELAÇÃO!$AP$1:$AP$576,0),16)&\" de \"&INDEX([1]RELAÇÃO!$A$1:$AQ$576,MATCH($M332,[1]RELAÇÃO!$AP$1:$AP$576,0),15))","v":"Portaria nº 524, de 03/11/2016 - BPE de 04/11/2016"},null,null,{"$f":"IF($E332=0,\"-\",IF(INDEX([1]RELAÇÃO!$A$1:$AQ$576,MATCH($M332,[1]RELAÇÃO!$AP$1:$AP$576,0),8)=\"9.000.000\",\"-\",INDEX([1]RELAÇÃO!$A$1:$AQ$576,MATCH($M332,[1]RELAÇÃO!$AP$1:$AP$576,0),7)))","v":"SGM / CHEFIA DE GABINETE SGM"},"SGM07"]
["Departamento de Gestão das Políticas de Geologia, Mineração e Transformação Mineral","Diretor","DAS 101.5","GER",{"$f":"INDEX([1]RELAÇÃO!$A$1:$AQ$576,MATCH($M333,[1]RELAÇÃO!$AP$1:$AP$576,0),1)","v":"RICARDO DE PAULA MONTEIRO"},{"$f":"IF(E333=0,\"-\",LEFT(INDEX([1]RELAÇÃO!$A$1:$AQ$576,MATCH($M333,[1]RELAÇÃO!$AP$1:$AP$576,0),32),1))","v":"M"},{"$f":"IF(E333=0,\"-\",INDEX([1]RELAÇÃO!$A$1:$AQ$576,MATCH($M333,[1]RELAÇÃO!$AP$1:$AP$576,0),5))","v":"Sem Vínculo"},{"$f":"IF(E333=0,\"-\",INDEX([1]RELAÇÃO!$A$1:$AQ$576,MATCH($M333,[1]RELAÇÃO!$AP$1:$AP$576,0),6))","v":"Sem Vínculo"},{"$f":"IF(E333=0,\"-\",INDEX([1]RELAÇÃO!$A$1:$AQ$576,MATCH($M333,[1]RELAÇÃO!$AP$1:$AP$576,0),12)&INDEX([1]RELAÇÃO!$A$1:$AQ$576,MATCH($M333,[1]RELAÇÃO!$AP$1:$AP$576,0),13)&\", de \"&INDEX([1]RELAÇÃO!$A$1:$AQ$576,MATCH($M333,[1]RELAÇÃO!$AP$1:$AP$576,0),14)&\" - \"&INDEX([1]RELAÇÃO!$A$1:$AQ$576,MATCH($M333,[1]RELAÇÃO!$AP$1:$AP$576,0),16)&\" de \"&INDEX([1]RELAÇÃO!$A$1:$AQ$576,MATCH($M333,[1]RELAÇÃO!$AP$1:$AP$576,0),15))","v":"Portaria nº 1252, de 19/02/2019 - DOU de 20/02/2019"},{"$f":"INDEX([1]RELAÇÃO!$A$1:$AQ$576,MATCH($N333,[1]RELAÇÃO!$AQ$1:$AQ$576,0),1)","v":"PATRICIA DA SILVA PEGO"},{"$f":"IF(J333=0,\"-\",INDEX([1]RELAÇÃO!$A$1:$AQ$576,MATCH($N333,[1]RELAÇÃO!$AQ$1:$AQ$576,0),27)&INDEX([1]RELAÇÃO!$A$1:$AQ$576,MATCH($N333,[1]RELAÇÃO!$AQ$1:$AQ$576,0),28)&\", de \"&INDEX([1]RELAÇÃO!$A$1:$AQ$576,MATCH($N333,[1]RELAÇÃO!$AQ$1:$AQ$576,0),29)&\" - \"&INDEX([1]RELAÇÃO!$A$1:$AQ$576,MATCH($N333,[1]RELAÇÃO!$AQ$1:$AQ$576,0),31)&\" de \"&INDEX([1]RELAÇÃO!$A$1:$AQ$576,MATCH($N333,[1]RELAÇÃO!$AQ$1:$AQ$576,0),30))","v":"Portaria nº 6, de 09/01/2017 - DOU de 11/01/2017"},{"$f":"IF($E333=0,\"-\",IF(INDEX([1]RELAÇÃO!$A$1:$AQ$576,MATCH($M333,[1]RELAÇÃO!$AP$1:$AP$576,0),8)=\"9.101.000\",\"-\",INDEX([1]RELAÇÃO!$A$1:$AQ$576,MATCH($M333,[1]RELAÇÃO!$AP$1:$AP$576,0),7)))","v":"-"},"SGM08","SGM03S"]
[null,"Assessor Técnico","DAS 102.3","ASS",{"$f":"INDEX([1]RELAÇÃO!$A$1:$AQ$576,MATCH($M334,[1]RELAÇÃO!$AP$1:$AP$576,0),1)","v":"MONICA DOS SANTOS COELHO BARBOSA"},{"$f":"IF(E334=0,\"-\",LEFT(INDEX([1]RELAÇÃO!$A$1:$AQ$576,MATCH($M334,[1]RELAÇÃO!$AP$1:$AP$576,0),32),1))","v":"F"},{"$f":"IF(E334=0,\"-\",INDEX([1]RELAÇÃO!$A$1:$AQ$576,MATCH($M334,[1]RELAÇÃO!$AP$1:$AP$576,0),5))","v":"Sem Vínculo"},{"$f":"IF(E334=0,\"-\",INDEX([1]RELAÇÃO!$A$1:$AQ$576,MATCH($M334,[1]RELAÇÃO!$AP$1:$AP$576,0),6))","v":"Sem Vínculo"},{"$f":"IF(E334=0,\"-\",INDEX([1]RELAÇÃO!$A$1:$AQ$576,MATCH($M334,[1]RELAÇÃO!$AP$1:$AP$576,0),12)&INDEX([1]RELAÇÃO!$A$1:$AQ$576,MATCH($M334,[1]RELAÇÃO!$AP$1:$AP$576,0),13)&\", de \"&INDEX([1]RELAÇÃO!$A$1:$AQ$576,MATCH($M334,[1]RELAÇÃO!$AP$1:$AP$576,0),14)&\" - \"&INDEX([1]RELAÇÃO!$A$1:$AQ$576,MATCH($M334,[1]RELAÇÃO!$AP$1:$AP$576,0),16)&\" de \"&INDEX([1]RELAÇÃO!$A$1:$AQ$576,MATCH($M334,[1]RELAÇÃO!$AP$1:$AP$576,0),15))","v":"Portaria nº 524, de 03/11/2016 - BPE de 04/11/2016"},null,null,{"$f":"IF($E334=0,\"-\",IF(INDEX([1]RELAÇÃO!$A$1:$AQ$576,MATCH($M334,[1]RELAÇÃO!$AP$1:$AP$576,0),8)=\"9.101.000\",\"-\",INDEX([1]RELAÇÃO!$A$1:$AQ$576,MATCH($M334,[1]RELAÇÃO!$AP$1:$AP$576,0),7)))","v":"-"},"SGM09"]
[null,"Assitente","DAS 102.2","ASS",{"$f":"INDEX([1]RELAÇÃO!$A$1:$AQ$576,MATCH($M335,[1]RELAÇÃO!$AP$1:$AP$576,0),1)","v":"ANAHIDES SANTOS BUCAR"},{"$f":"IF(E335=0,\"-\",LEFT(INDEX([1]RELAÇÃO!$A$1:$AQ$576,MATCH($M335,[1]RELAÇÃO!$AP$1:$AP$576,0),32),1))","v":"F"},{"$f":"IF(E335=0,\"-\",INDEX([1]RELAÇÃO!$A$1:$AQ$576,MATCH($M335,[1]RELAÇÃO!$AP$1:$AP$576,0),5))","v":"Sem Vínculo"},{"$f":"IF(E335=0,\"-\",INDEX([1]RELAÇÃO!$A$1:$AQ$576,MATCH($M335,[1]RELAÇÃO!$AP$1:$AP$576,0),6))","v":"Sem Vínculo"},{"$f":"IF(E335=0,\"-\",INDEX([1]RELAÇÃO!$A$1:$AQ$576,MATCH($M335,[1]RELAÇÃO!$AP$1:$AP$576,0),12)&INDEX([1]RELAÇÃO!$A$1:$AQ$576,MATCH($M335,[1]RELAÇÃO!$AP$1:$AP$576,0),13)&\", de \"&INDEX([1]RELAÇÃO!$A$1:$AQ$576,MATCH($M335,[1]RELAÇÃO!$AP$1:$AP$576,0),14)&\" - \"&INDEX([1]RELAÇÃO!$A$1:$AQ$576,MATCH($M335,[1]RELAÇÃO!$AP$1:$AP$576,0),16)&\" de \"&INDEX([1]RELAÇÃO!$A$1:$AQ$576,MATCH($M335,[1]RELAÇÃO!$AP$1:$AP$576,0),15))","v":"Portaria nº 603, de 09/11/2016 - DOU de 10/11/2016"},null,null,{"$f":"IF($E335=0,\"-\",IF(INDEX([1]RELAÇÃO!$A$1:$AQ$576,MATCH($M335,[1]RELAÇÃO!$AP$1:$AP$576,0),8)=\"9.101.000\",\"-\",INDEX([1]RELAÇÃO!$A$1:$AQ$576,MATCH($M335,[1]RELAÇÃO!$AP$1:$AP$576,0),7)))","v":"-"},"SGM10"]
["Coordenação-Geral de Política e Programas para Mineração","Coordenador-Geral","FCPE 101.4","GER",{"$f":"INDEX([1]RELAÇÃO!$A$1:$AQ$576,MATCH($M336,[1]RELAÇÃO!$AP$1:$AP$576,0),1)","v":"DANIEL ALVES LIMA"},{"$f":"IF(E336=0,\"-\",LEFT(INDEX([1]RELAÇÃO!$A$1:$AQ$576,MATCH($M336,[1]RELAÇÃO!$AP$1:$AP$576,0),32),1))","v":"M"},{"$f":"IF(E336=0,\"-\",INDEX([1]RELAÇÃO!$A$1:$AQ$576,MATCH($M336,[1]RELAÇÃO!$AP$1:$AP$576,0),5))","v":"Requisitado de Órgãos"},{"$f":"IF(E336=0,\"-\",INDEX([1]RELAÇÃO!$A$1:$AQ$576,MATCH($M336,[1]RELAÇÃO!$AP$1:$AP$576,0),6))","v":"ME - Ministério da Economia"},{"$f":"IF(E336=0,\"-\",INDEX([1]RELAÇÃO!$A$1:$AQ$576,MATCH($M336,[1]RELAÇÃO!$AP$1:$AP$576,0),12)&INDEX([1]RELAÇÃO!$A$1:$AQ$576,MATCH($M336,[1]RELAÇÃO!$AP$1:$AP$576,0),13)&\", de \"&INDEX([1]RELAÇÃO!$A$1:$AQ$576,MATCH($M336,[1]RELAÇÃO!$AP$1:$AP$576,0),14)&\" - \"&INDEX([1]RELAÇÃO!$A$1:$AQ$576,MATCH($M336,[1]RELAÇÃO!$AP$1:$AP$576,0),16)&\" de \"&INDEX([1]RELAÇÃO!$A$1:$AQ$576,MATCH($M336,[1]RELAÇÃO!$AP$1:$AP$576,0),15))","v":"Portaria nº 148, de 28/02/2019 - DOU de 06/03/2019"},{"$f":"INDEX([1]RELAÇÃO!$A$1:$AQ$576,MATCH($N336,[1]RELAÇÃO!$AQ$1:$AQ$576,0),1)","v":"ROBSON REIS CANEDO"},{"$f":"IF(J336=0,\"-\",INDEX([1]RELAÇÃO!$A$1:$AQ$576,MATCH($N336,[1]RELAÇÃO!$AQ$1:$AQ$576,0),27)&INDEX([1]RELAÇÃO!$A$1:$AQ$576,MATCH($N336,[1]RELAÇÃO!$AQ$1:$AQ$576,0),28)&\", de \"&INDEX([1]RELAÇÃO!$A$1:$AQ$576,MATCH($N336,[1]RELAÇÃO!$AQ$1:$AQ$576,0),29)&\" - \"&INDEX([1]RELAÇÃO!$A$1:$AQ$576,MATCH($N336,[1]RELAÇÃO!$AQ$1:$AQ$576,0),31)&\" de \"&INDEX([1]RELAÇÃO!$A$1:$AQ$576,MATCH($N336,[1]RELAÇÃO!$AQ$1:$AQ$576,0),30))","v":"Portaria nº 96, de 10/03/2020 - DOU de 11/03/2020"},{"$f":"IF($E336=0,\"-\",IF(INDEX([1]RELAÇÃO!$A$1:$AQ$576,MATCH($M336,[1]RELAÇÃO!$AP$1:$AP$576,0),8)=\"9.101.100\",\"-\",INDEX([1]RELAÇÃO!$A$1:$AQ$576,MATCH($M336,[1]RELAÇÃO!$AP$1:$AP$576,0),7)))","v":"-"},"SGM11","SGM04S"]
["Coordenação-Geral de Monitoramento e Controle da Gestão de Programa","Coordenador-Geral","DAS 101.4","GER",{"$f":"INDEX([1]RELAÇÃO!$A$1:$AQ$576,MATCH($M337,[1]RELAÇÃO!$AP$1:$AP$576,0),1)","v":"ERLENE MARIA LIMA"},{"$f":"IF(E337=0,\"-\",LEFT(INDEX([1]RELAÇÃO!$A$1:$AQ$576,MATCH($M337,[1]RELAÇÃO!$AP$1:$AP$576,0),32),1))","v":"F"},{"$f":"IF(E337=0,\"-\",INDEX([1]RELAÇÃO!$A$1:$AQ$576,MATCH($M337,[1]RELAÇÃO!$AP$1:$AP$576,0),5))","v":"Sem Vínculo"},{"$f":"IF(E337=0,\"-\",INDEX([1]RELAÇÃO!$A$1:$AQ$576,MATCH($M337,[1]RELAÇÃO!$AP$1:$AP$576,0),6))","v":"Sem Vínculo"},{"$f":"IF(E337=0,\"-\",INDEX([1]RELAÇÃO!$A$1:$AQ$576,MATCH($M337,[1]RELAÇÃO!$AP$1:$AP$576,0),12)&INDEX([1]RELAÇÃO!$A$1:$AQ$576,MATCH($M337,[1]RELAÇÃO!$AP$1:$AP$576,0),13)&\", de \"&INDEX([1]RELAÇÃO!$A$1:$AQ$576,MATCH($M337,[1]RELAÇÃO!$AP$1:$AP$576,0),14)&\" - \"&INDEX([1]RELAÇÃO!$A$1:$AQ$576,MATCH($M337,[1]RELAÇÃO!$AP$1:$AP$576,0),16)&\" de \"&INDEX([1]RELAÇÃO!$A$1:$AQ$576,MATCH($M337,[1]RELAÇÃO!$AP$1:$AP$576,0),15))","v":"Portaria nº 127, de 12/02/2019 - DOU de 14/02/2019"},{"$f":"INDEX([1]RELAÇÃO!$A$1:$AQ$576,MATCH($N337,[1]RELAÇÃO!$AQ$1:$AQ$576,0),1)","v":"RAQUEL VILELA CORRÊA"},{"$f":"IF(J337=0,\"-\",INDEX([1]RELAÇÃO!$A$1:$AQ$576,MATCH($N337,[1]RELAÇÃO!$AQ$1:$AQ$576,0),27)&INDEX([1]RELAÇÃO!$A$1:$AQ$576,MATCH($N337,[1]RELAÇÃO!$AQ$1:$AQ$576,0),28)&\", de \"&INDEX([1]RELAÇÃO!$A$1:$AQ$576,MATCH($N337,[1]RELAÇÃO!$AQ$1:$AQ$576,0),29)&\" - \"&INDEX([1]RELAÇÃO!$A$1:$AQ$576,MATCH($N337,[1]RELAÇÃO!$AQ$1:$AQ$576,0),31)&\" de \"&INDEX([1]RELAÇÃO!$A$1:$AQ$576,MATCH($N337,[1]RELAÇÃO!$AQ$1:$AQ$576,0),30))","v":"Portaria nº 19, de 20/01/2020 - DOU de 22/01/2020"},{"$f":"IF($E337=0,\"-\",IF(INDEX([1]RELAÇÃO!$A$1:$AQ$576,MATCH($M337,[1]RELAÇÃO!$AP$1:$AP$576,0),8)=\"9.101.200\",\"-\",INDEX([1]RELAÇÃO!$A$1:$AQ$576,MATCH($M337,[1]RELAÇÃO!$AP$1:$AP$576,0),7)))","v":"-"},"SGM12","SGM05S"]
[null,"Assistente","DAS 102.2","ASS",{"$f":"INDEX([1]RELAÇÃO!$A$1:$AQ$576,MATCH($M338,[1]RELAÇÃO!$AP$1:$AP$576,0),1)","v":"JACQUELINE QUINTAS"},{"$f":"IF(E338=0,\"-\",LEFT(INDEX([1]RELAÇÃO!$A$1:$AQ$576,MATCH($M338,[1]RELAÇÃO!$AP$1:$AP$576,0),32),1))","v":"F"},{"$f":"IF(E338=0,\"-\",INDEX([1]RELAÇÃO!$A$1:$AQ$576,MATCH($M338,[1]RELAÇÃO!$AP$1:$AP$576,0),5))","v":"Sem Vínculo"},{"$f":"IF(E338=0,\"-\",INDEX([1]RELAÇÃO!$A$1:$AQ$576,MATCH($M338,[1]RELAÇÃO!$AP$1:$AP$576,0),6))","v":"Sem Vínculo"},{"$f":"IF(E338=0,\"-\",INDEX([1]RELAÇÃO!$A$1:$AQ$576,MATCH($M338,[1]RELAÇÃO!$AP$1:$AP$576,0),12)&INDEX([1]RELAÇÃO!$A$1:$AQ$576,MATCH($M338,[1]RELAÇÃO!$AP$1:$AP$576,0),13)&\", de \"&INDEX([1]RELAÇÃO!$A$1:$AQ$576,MATCH($M338,[1]RELAÇÃO!$AP$1:$AP$576,0),14)&\" - \"&INDEX([1]RELAÇÃO!$A$1:$AQ$576,MATCH($M338,[1]RELAÇÃO!$AP$1:$AP$576,0),16)&\" de \"&INDEX([1]RELAÇÃO!$A$1:$AQ$576,MATCH($M338,[1]RELAÇÃO!$AP$1:$AP$576,0),15))","v":"Portaria nº 41, de 17/01/2019 - DOU de 21/01/2019"},null,null,{"$f":"IF($E338=0,\"-\",IF(INDEX([1]RELAÇÃO!$A$1:$AQ$576,MATCH($M338,[1]RELAÇÃO!$AP$1:$AP$576,0),8)=\"9.101.200\",\"-\",INDEX([1]RELAÇÃO!$A$1:$AQ$576,MATCH($M338,[1]RELAÇÃO!$AP$1:$AP$576,0),7)))","v":"-"},"SGM13"]
["Coordenação-Geral de Economia Mineral","Coordenador-Geral","FCPE 101.4","GER",{"$f":"INDEX([1]RELAÇÃO!$A$1:$AQ$576,MATCH($M339,[1]RELAÇÃO!$AP$1:$AP$576,0),1)","v":"PATRICIA DA SILVA PEGO"},{"$f":"IF(E339=0,\"-\",LEFT(INDEX([1]RELAÇÃO!$A$1:$AQ$576,MATCH($M339,[1]RELAÇÃO!$AP$1:$AP$576,0),32),1))","v":"F"},{"$f":"IF(E339=0,\"-\",INDEX([1]RELAÇÃO!$A$1:$AQ$576,MATCH($M339,[1]RELAÇÃO!$AP$1:$AP$576,0),5))","v":"Requisitado de Órgãos"},{"$f":"IF(E339=0,\"-\",INDEX([1]RELAÇÃO!$A$1:$AQ$576,MATCH($M339,[1]RELAÇÃO!$AP$1:$AP$576,0),6))","v":"ME - Ministério da Economia"},{"$f":"IF(E339=0,\"-\",INDEX([1]RELAÇÃO!$A$1:$AQ$576,MATCH($M339,[1]RELAÇÃO!$AP$1:$AP$576,0),12)&INDEX([1]RELAÇÃO!$A$1:$AQ$576,MATCH($M339,[1]RELAÇÃO!$AP$1:$AP$576,0),13)&\", de \"&INDEX([1]RELAÇÃO!$A$1:$AQ$576,MATCH($M339,[1]RELAÇÃO!$AP$1:$AP$576,0),14)&\" - \"&INDEX([1]RELAÇÃO!$A$1:$AQ$576,MATCH($M339,[1]RELAÇÃO!$AP$1:$AP$576,0),16)&\" de \"&INDEX([1]RELAÇÃO!$A$1:$AQ$576,MATCH($M339,[1]RELAÇÃO!$AP$1:$AP$576,0),15))","v":"Portaria nº 524, de 03/11/2016 - BPE de 04/11/2016"},{"$f":"INDEX([1]RELAÇÃO!$A$1:$AQ$576,MATCH($N339,[1]RELAÇÃO!$AQ$1:$AQ$576,0),1)","v":0},{"$f":"IF(J339=0,\"-\",INDEX([1]RELAÇÃO!$A$1:$AQ$576,MATCH($N339,[1]RELAÇÃO!$AQ$1:$AQ$576,0),27)&INDEX([1]RELAÇÃO!$A$1:$AQ$576,MATCH($N339,[1]RELAÇÃO!$AQ$1:$AQ$576,0),28)&\", de \"&INDEX([1]RELAÇÃO!$A$1:$AQ$576,MATCH($N339,[1]RELAÇÃO!$AQ$1:$AQ$576,0),29)&\" - \"&INDEX([1]RELAÇÃO!$A$1:$AQ$576,MATCH($N339,[1]RELAÇÃO!$AQ$1:$AQ$576,0),31)&\" de \"&INDEX([1]RELAÇÃO!$A$1:$AQ$576,MATCH($N339,[1]RELAÇÃO!$AQ$1:$AQ$576,0),30))","v":"-"},{"$f":"IF($E339=0,\"-\",IF(INDEX([1]RELAÇÃO!$A$1:$AQ$576,MATCH($M339,[1]RELAÇÃO!$AP$1:$AP$576,0),8)=\"9.101.300\",\"-\",INDEX([1]RELAÇÃO!$A$1:$AQ$576,MATCH($M339,[1]RELAÇÃO!$AP$1:$AP$576,0),7)))","v":"-"},"SGM14","SGM06S"]
["Departamento de Geologia e Produção Mineral","Diretor","DAS 101.5","GER",{"$f":"INDEX([1]RELAÇÃO!$A$1:$AQ$576,MATCH($M340,[1]RELAÇÃO!$AP$1:$AP$576,0),1)","v":"FREDERICO BEDRAN OLIVEIRA"},{"$f":"IF(E340=0,\"-\",LEFT(INDEX([1]RELAÇÃO!$A$1:$AQ$576,MATCH($M340,[1]RELAÇÃO!$AP$1:$AP$576,0),32),1))","v":"M"},{"$f":"IF(E340=0,\"-\",INDEX([1]RELAÇÃO!$A$1:$AQ$576,MATCH($M340,[1]RELAÇÃO!$AP$1:$AP$576,0),5))","v":"Exercício Descentralizado"},{"$f":"IF(E340=0,\"-\",INDEX([1]RELAÇÃO!$A$1:$AQ$576,MATCH($M340,[1]RELAÇÃO!$AP$1:$AP$576,0),6))","v":"ME - Ministério da Economia"},{"$f":"IF(E340=0,\"-\",INDEX([1]RELAÇÃO!$A$1:$AQ$576,MATCH($M340,[1]RELAÇÃO!$AP$1:$AP$576,0),12)&INDEX([1]RELAÇÃO!$A$1:$AQ$576,MATCH($M340,[1]RELAÇÃO!$AP$1:$AP$576,0),13)&\", de \"&INDEX([1]RELAÇÃO!$A$1:$AQ$576,MATCH($M340,[1]RELAÇÃO!$AP$1:$AP$576,0),14)&\" - \"&INDEX([1]RELAÇÃO!$A$1:$AQ$576,MATCH($M340,[1]RELAÇÃO!$AP$1:$AP$576,0),16)&\" de \"&INDEX([1]RELAÇÃO!$A$1:$AQ$576,MATCH($M340,[1]RELAÇÃO!$AP$1:$AP$576,0),15))","v":"Portaria nº 1255, de 19/02/2019 - DOU de 20/02/2019"},{"$f":"INDEX([1]RELAÇÃO!$A$1:$AQ$576,MATCH($N340,[1]RELAÇÃO!$AQ$1:$AQ$576,0),1)","v":"JOSE LUIZ UBALDINO DE LIMA"},{"$f":"IF(J340=0,\"-\",INDEX([1]RELAÇÃO!$A$1:$AQ$576,MATCH($N340,[1]RELAÇÃO!$AQ$1:$AQ$576,0),27)&INDEX([1]RELAÇÃO!$A$1:$AQ$576,MATCH($N340,[1]RELAÇÃO!$AQ$1:$AQ$576,0),28)&\", de \"&INDEX([1]RELAÇÃO!$A$1:$AQ$576,MATCH($N340,[1]RELAÇÃO!$AQ$1:$AQ$576,0),29)&\" - \"&INDEX([1]RELAÇÃO!$A$1:$AQ$576,MATCH($N340,[1]RELAÇÃO!$AQ$1:$AQ$576,0),31)&\" de \"&INDEX([1]RELAÇÃO!$A$1:$AQ$576,MATCH($N340,[1]RELAÇÃO!$AQ$1:$AQ$576,0),30))","v":"Portaria nº 561, de 10/06/2010 - DOU de 11/06/2010"},{"$f":"IF($E340=0,\"-\",IF(INDEX([1]RELAÇÃO!$A$1:$AQ$576,MATCH($M340,[1]RELAÇÃO!$AP$1:$AP$576,0),8)=\"9.102.000\",\"-\",INDEX([1]RELAÇÃO!$A$1:$AQ$576,MATCH($M340,[1]RELAÇÃO!$AP$1:$AP$576,0),7)))","v":"-"},"SGM15","SGM07S"]
[null,"Assistente","DAS 102.2","ASS",{"$f":"INDEX([1]RELAÇÃO!$A$1:$AQ$576,MATCH($M341,[1]RELAÇÃO!$AP$1:$AP$576,0),1)","v":"SANDRA MARIA MONTEIRO DE ALMEIDA ANGELO"},{"$f":"IF(E341=0,\"-\",LEFT(INDEX([1]RELAÇÃO!$A$1:$AQ$576,MATCH($M341,[1]RELAÇÃO!$AP$1:$AP$576,0),32),1))","v":"F"},{"$f":"IF(E341=0,\"-\",INDEX([1]RELAÇÃO!$A$1:$AQ$576,MATCH($M341,[1]RELAÇÃO!$AP$1:$AP$576,0),5))","v":"Sem Vínculo"},{"$f":"IF(E341=0,\"-\",INDEX([1]RELAÇÃO!$A$1:$AQ$576,MATCH($M341,[1]RELAÇÃO!$AP$1:$AP$576,0),6))","v":"Sem Vínculo"},{"$f":"IF(E341=0,\"-\",INDEX([1]RELAÇÃO!$A$1:$AQ$576,MATCH($M341,[1]RELAÇÃO!$AP$1:$AP$576,0),12)&INDEX([1]RELAÇÃO!$A$1:$AQ$576,MATCH($M341,[1]RELAÇÃO!$AP$1:$AP$576,0),13)&\", de \"&INDEX([1]RELAÇÃO!$A$1:$AQ$576,MATCH($M341,[1]RELAÇÃO!$AP$1:$AP$576,0),14)&\" - \"&INDEX([1]RELAÇÃO!$A$1:$AQ$576,MATCH($M341,[1]RELAÇÃO!$AP$1:$AP$576,0),16)&\" de \"&INDEX([1]RELAÇÃO!$A$1:$AQ$576,MATCH($M341,[1]RELAÇÃO!$AP$1:$AP$576,0),15))","v":"Portaria nº 594, de 03/11/2016 - DOU de 04/11/2016"},null,null,{"$f":"IF($E341=0,\"-\",IF(INDEX([1]RELAÇÃO!$A$1:$AQ$576,MATCH($M341,[1]RELAÇÃO!$AP$1:$AP$576,0),8)=\"9.102.000\",\"-\",INDEX([1]RELAÇÃO!$A$1:$AQ$576,MATCH($M341,[1]RELAÇÃO!$AP$1:$AP$576,0),7)))","v":"-"},"SGM16"]
[null,"Assistente","FCPE 102.2","ASS",{"$f":"INDEX([1]RELAÇÃO!$A$1:$AQ$576,MATCH($M342,[1]RELAÇÃO!$AP$1:$AP$576,0),1)","v":"RAIMUNDA ALVES DE SOUSA OLIVEIRA"},{"$f":"IF(E342=0,\"-\",LEFT(INDEX([1]RELAÇÃO!$A$1:$AQ$576,MATCH($M342,[1]RELAÇÃO!$AP$1:$AP$576,0),32),1))","v":"F"},{"$f":"IF(E342=0,\"-\",INDEX([1]RELAÇÃO!$A$1:$AQ$576,MATCH($M342,[1]RELAÇÃO!$AP$1:$AP$576,0),5))","v":"Requisitado de Órgãos"},{"$f":"IF(E342=0,\"-\",INDEX([1]RELAÇÃO!$A$1:$AQ$576,MATCH($M342,[1]RELAÇÃO!$AP$1:$AP$576,0),6))","v":"MAPA - Ministério da Agricultura, Pecuário e Abastecimento"},{"$f":"IF(E342=0,\"-\",INDEX([1]RELAÇÃO!$A$1:$AQ$576,MATCH($M342,[1]RELAÇÃO!$AP$1:$AP$576,0),12)&INDEX([1]RELAÇÃO!$A$1:$AQ$576,MATCH($M342,[1]RELAÇÃO!$AP$1:$AP$576,0),13)&\", de \"&INDEX([1]RELAÇÃO!$A$1:$AQ$576,MATCH($M342,[1]RELAÇÃO!$AP$1:$AP$576,0),14)&\" - \"&INDEX([1]RELAÇÃO!$A$1:$AQ$576,MATCH($M342,[1]RELAÇÃO!$AP$1:$AP$576,0),16)&\" de \"&INDEX([1]RELAÇÃO!$A$1:$AQ$576,MATCH($M342,[1]RELAÇÃO!$AP$1:$AP$576,0),15))","v":"Portaria nº 524, de 03/11/2016 - BPE de 04/11/2016"},null,null,{"$f":"IF($E342=0,\"-\",IF(INDEX([1]RELAÇÃO!$A$1:$AQ$576,MATCH($M342,[1]RELAÇÃO!$AP$1:$AP$576,0),8)=\"9.102.000\",\"-\",INDEX([1]RELAÇÃO!$A$1:$AQ$576,MATCH($M342,[1]RELAÇÃO!$AP$1:$AP$576,0),7)))","v":"SE / SPOA / CGCC / COORDENAÇÃO DE LICITAÇÕES E COMPRA - CLC"},"SGM17"]
["Coordenação-Geral de Geologia e Recursos Minerais","Coordenador-Geral","FCPE 101.4","GER",{"$f":"INDEX([1]RELAÇÃO!$A$1:$AQ$576,MATCH($M343,[1]RELAÇÃO!$AP$1:$AP$576,0),1)","v":"JOSE LUIZ UBALDINO DE LIMA"},{"$f":"IF(E343=0,\"-\",LEFT(INDEX([1]RELAÇÃO!$A$1:$AQ$576,MATCH($M343,[1]RELAÇÃO!$AP$1:$AP$576,0),32),1))","v":"M"},{"$f":"IF(E343=0,\"-\",INDEX([1]RELAÇÃO!$A$1:$AQ$576,MATCH($M343,[1]RELAÇÃO!$AP$1:$AP$576,0),5))","v":"Exercício Descentralizado"},{"$f":"IF(E343=0,\"-\",INDEX([1]RELAÇÃO!$A$1:$AQ$576,MATCH($M343,[1]RELAÇÃO!$AP$1:$AP$576,0),6))","v":"ME - Ministério da Economia"},{"$f":"IF(E343=0,\"-\",INDEX([1]RELAÇÃO!$A$1:$AQ$576,MATCH($M343,[1]RELAÇÃO!$AP$1:$AP$576,0),12)&INDEX([1]RELAÇÃO!$A$1:$AQ$576,MATCH($M343,[1]RELAÇÃO!$AP$1:$AP$576,0),13)&\", de \"&INDEX([1]RELAÇÃO!$A$1:$AQ$576,MATCH($M343,[1]RELAÇÃO!$AP$1:$AP$576,0),14)&\" - \"&INDEX([1]RELAÇÃO!$A$1:$AQ$576,MATCH($M343,[1]RELAÇÃO!$AP$1:$AP$576,0),16)&\" de \"&INDEX([1]RELAÇÃO!$A$1:$AQ$576,MATCH($M343,[1]RELAÇÃO!$AP$1:$AP$576,0),15))","v":"Portaria nº 524, de 03/11/2016 - BPE de 04/11/2016"},{"$f":"INDEX([1]RELAÇÃO!$A$1:$AQ$576,MATCH($N343,[1]RELAÇÃO!$AQ$1:$AQ$576,0),1)","v":"MARIANA CLARA DE FREITAS FONTINELI"},{"$f":"IF(J343=0,\"-\",INDEX([1]RELAÇÃO!$A$1:$AQ$576,MATCH($N343,[1]RELAÇÃO!$AQ$1:$AQ$576,0),27)&INDEX([1]RELAÇÃO!$A$1:$AQ$576,MATCH($N343,[1]RELAÇÃO!$AQ$1:$AQ$576,0),28)&\", de \"&INDEX([1]RELAÇÃO!$A$1:$AQ$576,MATCH($N343,[1]RELAÇÃO!$AQ$1:$AQ$576,0),29)&\" - \"&INDEX([1]RELAÇÃO!$A$1:$AQ$576,MATCH($N343,[1]RELAÇÃO!$AQ$1:$AQ$576,0),31)&\" de \"&INDEX([1]RELAÇÃO!$A$1:$AQ$576,MATCH($N343,[1]RELAÇÃO!$AQ$1:$AQ$576,0),30))","v":"Portaria nº 98, de 10/03/2020 - DOU de 11/03/2020"},{"$f":"IF($E343=0,\"-\",IF(INDEX([1]RELAÇÃO!$A$1:$AQ$576,MATCH($M343,[1]RELAÇÃO!$AP$1:$AP$576,0),8)=\"9.102.100\",\"-\",INDEX([1]RELAÇÃO!$A$1:$AQ$576,MATCH($M343,[1]RELAÇÃO!$AP$1:$AP$576,0),7)))","v":"-"},"SGM18","SGM08S"]
["Coordenação-Geral de Monitoramento e Controle de Concessões Minerais","Coordenador-Geral","DAS 101.4","GER",{"$f":"INDEX([1]RELAÇÃO!$A$1:$AQ$576,MATCH($M344,[1]RELAÇÃO!$AP$1:$AP$576,0),1)","v":"LUIZ CARLOS DE MOURA ADAMI"},{"$f":"IF(E344=0,\"-\",LEFT(INDEX([1]RELAÇÃO!$A$1:$AQ$576,MATCH($M344,[1]RELAÇÃO!$AP$1:$AP$576,0),32),1))","v":"M"},{"$f":"IF(E344=0,\"-\",INDEX([1]RELAÇÃO!$A$1:$AQ$576,MATCH($M344,[1]RELAÇÃO!$AP$1:$AP$576,0),5))","v":"Sem Vínculo"},{"$f":"IF(E344=0,\"-\",INDEX([1]RELAÇÃO!$A$1:$AQ$576,MATCH($M344,[1]RELAÇÃO!$AP$1:$AP$576,0),6))","v":"Sem Vínculo"},{"$f":"IF(E344=0,\"-\",INDEX([1]RELAÇÃO!$A$1:$AQ$576,MATCH($M344,[1]RELAÇÃO!$AP$1:$AP$576,0),12)&INDEX([1]RELAÇÃO!$A$1:$AQ$576,MATCH($M344,[1]RELAÇÃO!$AP$1:$AP$576,0),13)&\", de \"&INDEX([1]RELAÇÃO!$A$1:$AQ$576,MATCH($M344,[1]RELAÇÃO!$AP$1:$AP$576,0),14)&\" - \"&INDEX([1]RELAÇÃO!$A$1:$AQ$576,MATCH($M344,[1]RELAÇÃO!$AP$1:$AP$576,0),16)&\" de \"&INDEX([1]RELAÇÃO!$A$1:$AQ$576,MATCH($M344,[1]RELAÇÃO!$AP$1:$AP$576,0),15))","v":"Portaria nº 524, de 03/11/2016 - BPE de 04/11/2016"},{"$f":"INDEX([1]RELAÇÃO!$A$1:$AQ$576,MATCH($N344,[1]RELAÇÃO!$AQ$1:$AQ$576,0),1)","v":"PEDRO EVANGELISTA HONORATO"},{"$f":"IF(J344=0,\"-\",INDEX([1]RELAÇÃO!$A$1:$AQ$576,MATCH($N344,[1]RELAÇÃO!$AQ$1:$AQ$576,0),27)&INDEX([1]RELAÇÃO!$A$1:$AQ$576,MATCH($N344,[1]RELAÇÃO!$AQ$1:$AQ$576,0),28)&\", de \"&INDEX([1]RELAÇÃO!$A$1:$AQ$576,MATCH($N344,[1]RELAÇÃO!$AQ$1:$AQ$576,0),29)&\" - \"&INDEX([1]RELAÇÃO!$A$1:$AQ$576,MATCH($N344,[1]RELAÇÃO!$AQ$1:$AQ$576,0),31)&\" de \"&INDEX([1]RELAÇÃO!$A$1:$AQ$576,MATCH($N344,[1]RELAÇÃO!$AQ$1:$AQ$576,0),30))","v":"Portaria nº 97, de 10/03/2020 - DOU de 11/03/2020"},{"$f":"IF($E344=0,\"-\",IF(INDEX([1]RELAÇÃO!$A$1:$AQ$576,MATCH($M344,[1]RELAÇÃO!$AP$1:$AP$576,0),8)=\"9.102.200\",\"-\",INDEX([1]RELAÇÃO!$A$1:$AQ$576,MATCH($M344,[1]RELAÇÃO!$AP$1:$AP$576,0),7)))","v":"-"},"SGM19","SGM09S"]
["Departamento de Transformação e Tecnologia Mineral","Diretor","DAS 101.5","GER",{"$f":"INDEX([1]RELAÇÃO!$A$1:$AQ$576,MATCH($M345,[1]RELAÇÃO!$AP$1:$AP$576,0),1)","v":"ENIR SEBASTIAO MENDES"},{"$f":"IF(E345=0,\"-\",LEFT(INDEX([1]RELAÇÃO!$A$1:$AQ$576,MATCH($M345,[1]RELAÇÃO!$AP$1:$AP$576,0),32),1))","v":"M"},{"$f":"IF(E345=0,\"-\",INDEX([1]RELAÇÃO!$A$1:$AQ$576,MATCH($M345,[1]RELAÇÃO!$AP$1:$AP$576,0),5))","v":"Exercício Descentralizado"},{"$f":"IF(E345=0,\"-\",INDEX([1]RELAÇÃO!$A$1:$AQ$576,MATCH($M345,[1]RELAÇÃO!$AP$1:$AP$576,0),6))","v":"ME - Ministério da Economia"},{"$f":"IF(E345=0,\"-\",INDEX([1]RELAÇÃO!$A$1:$AQ$576,MATCH($M345,[1]RELAÇÃO!$AP$1:$AP$576,0),12)&INDEX([1]RELAÇÃO!$A$1:$AQ$576,MATCH($M345,[1]RELAÇÃO!$AP$1:$AP$576,0),13)&\", de \"&INDEX([1]RELAÇÃO!$A$1:$AQ$576,MATCH($M345,[1]RELAÇÃO!$AP$1:$AP$576,0),14)&\" - \"&INDEX([1]RELAÇÃO!$A$1:$AQ$576,MATCH($M345,[1]RELAÇÃO!$AP$1:$AP$576,0),16)&\" de \"&INDEX([1]RELAÇÃO!$A$1:$AQ$576,MATCH($M345,[1]RELAÇÃO!$AP$1:$AP$576,0),15))","v":"Portaria nº 1794, de 22/05/2019 - DOU de 23/05/2019"},{"$f":"INDEX([1]RELAÇÃO!$A$1:$AQ$576,MATCH($N345,[1]RELAÇÃO!$AQ$1:$AQ$576,0),1)","v":"DANIEL ALVES LIMA"},{"$f":"IF(J345=0,\"-\",INDEX([1]RELAÇÃO!$A$1:$AQ$576,MATCH($N345,[1]RELAÇÃO!$AQ$1:$AQ$576,0),27)&INDEX([1]RELAÇÃO!$A$1:$AQ$576,MATCH($N345,[1]RELAÇÃO!$AQ$1:$AQ$576,0),28)&\", de \"&INDEX([1]RELAÇÃO!$A$1:$AQ$576,MATCH($N345,[1]RELAÇÃO!$AQ$1:$AQ$576,0),29)&\" - \"&INDEX([1]RELAÇÃO!$A$1:$AQ$576,MATCH($N345,[1]RELAÇÃO!$AQ$1:$AQ$576,0),31)&\" de \"&INDEX([1]RELAÇÃO!$A$1:$AQ$576,MATCH($N345,[1]RELAÇÃO!$AQ$1:$AQ$576,0),30))","v":"Portaria nº 232, de 23/05/2019 - DOU de 27/05/2019"},{"$f":"IF($E345=0,\"-\",IF(INDEX([1]RELAÇÃO!$A$1:$AQ$576,MATCH($M345,[1]RELAÇÃO!$AP$1:$AP$576,0),8)=\"9.103.000\",\"-\",INDEX([1]RELAÇÃO!$A$1:$AQ$576,MATCH($M345,[1]RELAÇÃO!$AP$1:$AP$576,0),7)))","v":"-"},"SGM20","SGM10S"]
[null,"Assistente","DAS 102.2","ASS",{"$f":"INDEX([1]RELAÇÃO!$A$1:$AQ$576,MATCH($M346,[1]RELAÇÃO!$AP$1:$AP$576,0),1)","v":"RAQUEL VILELA CORRÊA"},{"$f":"IF(E346=0,\"-\",LEFT(INDEX([1]RELAÇÃO!$A$1:$AQ$576,MATCH($M346,[1]RELAÇÃO!$AP$1:$AP$576,0),32),1))","v":"F"},{"$f":"IF(E346=0,\"-\",INDEX([1]RELAÇÃO!$A$1:$AQ$576,MATCH($M346,[1]RELAÇÃO!$AP$1:$AP$576,0),5))","v":"Sem Vínculo"},{"$f":"IF(E346=0,\"-\",INDEX([1]RELAÇÃO!$A$1:$AQ$576,MATCH($M346,[1]RELAÇÃO!$AP$1:$AP$576,0),6))","v":"Sem Vínculo"},{"$f":"IF(E346=0,\"-\",INDEX([1]RELAÇÃO!$A$1:$AQ$576,MATCH($M346,[1]RELAÇÃO!$AP$1:$AP$576,0),12)&INDEX([1]RELAÇÃO!$A$1:$AQ$576,MATCH($M346,[1]RELAÇÃO!$AP$1:$AP$576,0),13)&\", de \"&INDEX([1]RELAÇÃO!$A$1:$AQ$576,MATCH($M346,[1]RELAÇÃO!$AP$1:$AP$576,0),14)&\" - \"&INDEX([1]RELAÇÃO!$A$1:$AQ$576,MATCH($M346,[1]RELAÇÃO!$AP$1:$AP$576,0),16)&\" de \"&INDEX([1]RELAÇÃO!$A$1:$AQ$576,MATCH($M346,[1]RELAÇÃO!$AP$1:$AP$576,0),15))","v":"Portaria nº 524, de 03/11/2016 - BPE de 04/11/2016"},null,null,{"$f":"IF($E346=0,\"-\",IF(INDEX([1]RELAÇÃO!$A$1:$AQ$576,MATCH($M346,[1]RELAÇÃO!$AP$1:$AP$576,0),8)=\"9.103.000\",\"-\",INDEX([1]RELAÇÃO!$A$1:$AQ$576,MATCH($M346,[1]RELAÇÃO!$AP$1:$AP$576,0),7)))","v":"-"},"SGM21"]
[null,"Assistente","FCPE 102.2","ASS",{"$f":"INDEX([1]RELAÇÃO!$A$1:$AQ$576,MATCH($M347,[1]RELAÇÃO!$AP$1:$AP$576,0),1)","v":"MARIANA CLARA DE FREITAS FONTINELI"},{"$f":"IF(E347=0,\"-\",LEFT(INDEX([1]RELAÇÃO!$A$1:$AQ$576,MATCH($M347,[1]RELAÇÃO!$AP$1:$AP$576,0),32),1))","v":"F"},{"$f":"IF(E347=0,\"-\",INDEX([1]RELAÇÃO!$A$1:$AQ$576,MATCH($M347,[1]RELAÇÃO!$AP$1:$AP$576,0),5))","v":"Exercício Descentralizado"},{"$f":"IF(E347=0,\"-\",INDEX([1]RELAÇÃO!$A$1:$AQ$576,MATCH($M347,[1]RELAÇÃO!$AP$1:$AP$576,0),6))","v":"ME - Ministério da Economia"},{"$f":"IF(E347=0,\"-\",INDEX([1]RELAÇÃO!$A$1:$AQ$576,MATCH($M347,[1]RELAÇÃO!$AP$1:$AP$576,0),12)&INDEX([1]RELAÇÃO!$A$1:$AQ$576,MATCH($M347,[1]RELAÇÃO!$AP$1:$AP$576,0),13)&\", de \"&INDEX([1]RELAÇÃO!$A$1:$AQ$576,MATCH($M347,[1]RELAÇÃO!$AP$1:$AP$576,0),14)&\" - \"&INDEX([1]RELAÇÃO!$A$1:$AQ$576,MATCH($M347,[1]RELAÇÃO!$AP$1:$AP$576,0),16)&\" de \"&INDEX([1]RELAÇÃO!$A$1:$AQ$576,MATCH($M347,[1]RELAÇÃO!$AP$1:$AP$576,0),15))","v":"Portaria nº 129, de 12/02/2019 - DOU de 14/02/2019"},null,null,{"$f":"IF($E347=0,\"-\",IF(INDEX([1]RELAÇÃO!$A$1:$AQ$576,MATCH($M347,[1]RELAÇÃO!$AP$1:$AP$576,0),8)=\"9.103.000\",\"-\",INDEX([1]RELAÇÃO!$A$1:$AQ$576,MATCH($M347,[1]RELAÇÃO!$AP$1:$AP$576,0),7)))","v":"-"},"SGM22"]
[null,"Assistente","FCPE 102.2","ASS",{"$f":"INDEX([1]RELAÇÃO!$A$1:$AQ$576,MATCH($M348,[1]RELAÇÃO!$AP$1:$AP$576,0),1)","v":"ROBSON REIS CANEDO"},{"$f":"IF(E348=0,\"-\",LEFT(INDEX([1]RELAÇÃO!$A$1:$AQ$576,MATCH($M348,[1]RELAÇÃO!$AP$1:$AP$576,0),32),1))","v":"M"},{"$f":"IF(E348=0,\"-\",INDEX([1]RELAÇÃO!$A$1:$AQ$576,MATCH($M348,[1]RELAÇÃO!$AP$1:$AP$576,0),5))","v":"Ativo Permanente"},{"$f":"IF(E348=0,\"-\",INDEX([1]RELAÇÃO!$A$1:$AQ$576,MATCH($M348,[1]RELAÇÃO!$AP$1:$AP$576,0),6))","v":"MME - Ministério de Minas e Energia"},{"$f":"IF(E348=0,\"-\",INDEX([1]RELAÇÃO!$A$1:$AQ$576,MATCH($M348,[1]RELAÇÃO!$AP$1:$AP$576,0),12)&INDEX([1]RELAÇÃO!$A$1:$AQ$576,MATCH($M348,[1]RELAÇÃO!$AP$1:$AP$576,0),13)&\", de \"&INDEX([1]RELAÇÃO!$A$1:$AQ$576,MATCH($M348,[1]RELAÇÃO!$AP$1:$AP$576,0),14)&\" - \"&INDEX([1]RELAÇÃO!$A$1:$AQ$576,MATCH($M348,[1]RELAÇÃO!$AP$1:$AP$576,0),16)&\" de \"&INDEX([1]RELAÇÃO!$A$1:$AQ$576,MATCH($M348,[1]RELAÇÃO!$AP$1:$AP$576,0),15))","v":"Portaria nº 595, de 03/11/2016 - DOU de 04/11/2016"},null,null,{"$f":"IF($E348=0,\"-\",IF(INDEX([1]RELAÇÃO!$A$1:$AQ$576,MATCH($M348,[1]RELAÇÃO!$AP$1:$AP$576,0),8)=\"9.103.000\",\"-\",INDEX([1]RELAÇÃO!$A$1:$AQ$576,MATCH($M348,[1]RELAÇÃO!$AP$1:$AP$576,0),7)))","v":"-"},"SGM23"]
["Coordenação-Geral de Capacitação e Desenvolvimento Tecnológico","Coordenador-Geral","DAS 101.4","GER",{"$f":"INDEX([1]RELAÇÃO!$A$1:$AQ$576,MATCH($M349,[1]RELAÇÃO!$AP$1:$AP$576,0),1)","v":"SAMIR NAHASS"},{"$f":"IF(E349=0,\"-\",LEFT(INDEX([1]RELAÇÃO!$A$1:$AQ$576,MATCH($M349,[1]RELAÇÃO!$AP$1:$AP$576,0),32),1))","v":"M"},{"$f":"IF(E349=0,\"-\",INDEX([1]RELAÇÃO!$A$1:$AQ$576,MATCH($M349,[1]RELAÇÃO!$AP$1:$AP$576,0),5))","v":"Sem Vínculo"},{"$f":"IF(E349=0,\"-\",INDEX([1]RELAÇÃO!$A$1:$AQ$576,MATCH($M349,[1]RELAÇÃO!$AP$1:$AP$576,0),6))","v":"Sem Vínculo"},{"$f":"IF(E349=0,\"-\",INDEX([1]RELAÇÃO!$A$1:$AQ$576,MATCH($M349,[1]RELAÇÃO!$AP$1:$AP$576,0),12)&INDEX([1]RELAÇÃO!$A$1:$AQ$576,MATCH($M349,[1]RELAÇÃO!$AP$1:$AP$576,0),13)&\", de \"&INDEX([1]RELAÇÃO!$A$1:$AQ$576,MATCH($M349,[1]RELAÇÃO!$AP$1:$AP$576,0),14)&\" - \"&INDEX([1]RELAÇÃO!$A$1:$AQ$576,MATCH($M349,[1]RELAÇÃO!$AP$1:$AP$576,0),16)&\" de \"&INDEX([1]RELAÇÃO!$A$1:$AQ$576,MATCH($M349,[1]RELAÇÃO!$AP$1:$AP$576,0),15))","v":"Portaria nº 524, de 03/11/2016 - BPE de 04/11/2016"},{"$f":"INDEX([1]RELAÇÃO!$A$1:$AQ$576,MATCH($N349,[1]RELAÇÃO!$AQ$1:$AQ$576,0),1)","v":0},{"$f":"IF(J349=0,\"-\",INDEX([1]RELAÇÃO!$A$1:$AQ$576,MATCH($N349,[1]RELAÇÃO!$AQ$1:$AQ$576,0),27)&INDEX([1]RELAÇÃO!$A$1:$AQ$576,MATCH($N349,[1]RELAÇÃO!$AQ$1:$AQ$576,0),28)&\", de \"&INDEX([1]RELAÇÃO!$A$1:$AQ$576,MATCH($N349,[1]RELAÇÃO!$AQ$1:$AQ$576,0),29)&\" - \"&INDEX([1]RELAÇÃO!$A$1:$AQ$576,MATCH($N349,[1]RELAÇÃO!$AQ$1:$AQ$576,0),31)&\" de \"&INDEX([1]RELAÇÃO!$A$1:$AQ$576,MATCH($N349,[1]RELAÇÃO!$AQ$1:$AQ$576,0),30))","v":"-"},{"$f":"IF($E349=0,\"-\",IF(INDEX([1]RELAÇÃO!$A$1:$AQ$576,MATCH($M349,[1]RELAÇÃO!$AP$1:$AP$576,0),8)=\"9.103.100\",\"-\",INDEX([1]RELAÇÃO!$A$1:$AQ$576,MATCH($M349,[1]RELAÇÃO!$AP$1:$AP$576,0),7)))","v":"-"},"SGM24","SGM11S"]
["Departamento de Desenvolvimento Sustentável na Mineração","Diretor","DAS 101.5","GER",{"$f":"INDEX([1]RELAÇÃO!$A$1:$AQ$576,MATCH($M350,[1]RELAÇÃO!$AP$1:$AP$576,0),1)","v":"GABRIEL MOTA MALDONADO"},{"$f":"IF(E350=0,\"-\",LEFT(INDEX([1]RELAÇÃO!$A$1:$AQ$576,MATCH($M350,[1]RELAÇÃO!$AP$1:$AP$576,0),32),1))","v":"M"},{"$f":"IF(E350=0,\"-\",INDEX([1]RELAÇÃO!$A$1:$AQ$576,MATCH($M350,[1]RELAÇÃO!$AP$1:$AP$576,0),5))","v":"Sem Vínculo"},{"$f":"IF(E350=0,\"-\",INDEX([1]RELAÇÃO!$A$1:$AQ$576,MATCH($M350,[1]RELAÇÃO!$AP$1:$AP$576,0),6))","v":"Sem Vínculo"},{"$f":"IF(E350=0,\"-\",INDEX([1]RELAÇÃO!$A$1:$AQ$576,MATCH($M350,[1]RELAÇÃO!$AP$1:$AP$576,0),12)&INDEX([1]RELAÇÃO!$A$1:$AQ$576,MATCH($M350,[1]RELAÇÃO!$AP$1:$AP$576,0),13)&\", de \"&INDEX([1]RELAÇÃO!$A$1:$AQ$576,MATCH($M350,[1]RELAÇÃO!$AP$1:$AP$576,0),14)&\" - \"&INDEX([1]RELAÇÃO!$A$1:$AQ$576,MATCH($M350,[1]RELAÇÃO!$AP$1:$AP$576,0),16)&\" de \"&INDEX([1]RELAÇÃO!$A$1:$AQ$576,MATCH($M350,[1]RELAÇÃO!$AP$1:$AP$576,0),15))","v":"Portaria nº 1254, de 19/02/2019 - DOU de 20/02/2019"},{"$f":"INDEX([1]RELAÇÃO!$A$1:$AQ$576,MATCH($N350,[1]RELAÇÃO!$AQ$1:$AQ$576,0),1)","v":"DIONE MACEDO"},{"$f":"IF(J350=0,\"-\",INDEX([1]RELAÇÃO!$A$1:$AQ$576,MATCH($N350,[1]RELAÇÃO!$AQ$1:$AQ$576,0),27)&INDEX([1]RELAÇÃO!$A$1:$AQ$576,MATCH($N350,[1]RELAÇÃO!$AQ$1:$AQ$576,0),28)&\", de \"&INDEX([1]RELAÇÃO!$A$1:$AQ$576,MATCH($N350,[1]RELAÇÃO!$AQ$1:$AQ$576,0),29)&\" - \"&INDEX([1]RELAÇÃO!$A$1:$AQ$576,MATCH($N350,[1]RELAÇÃO!$AQ$1:$AQ$576,0),31)&\" de \"&INDEX([1]RELAÇÃO!$A$1:$AQ$576,MATCH($N350,[1]RELAÇÃO!$AQ$1:$AQ$576,0),30))","v":"Portaria nº 384, de 24/03/2010 - DOU de 26/03/2010"},{"$f":"IF($E350=0,\"-\",IF(INDEX([1]RELAÇÃO!$A$1:$AQ$576,MATCH($M350,[1]RELAÇÃO!$AP$1:$AP$576,0),8)=\"9.104.000\",\"-\",INDEX([1]RELAÇÃO!$A$1:$AQ$576,MATCH($M350,[1]RELAÇÃO!$AP$1:$AP$576,0),7)))","v":"-"},"SGM25","SGM12S"]
[null,"Assistente","DAS 102.2","ASS",{"$f":"INDEX([1]RELAÇÃO!$A$1:$AQ$576,MATCH($M351,[1]RELAÇÃO!$AP$1:$AP$576,0),1)","v":"HENRIQUE LIBANIO PINHEIRO ROCHA"},{"$f":"IF(E351=0,\"-\",LEFT(INDEX([1]RELAÇÃO!$A$1:$AQ$576,MATCH($M351,[1]RELAÇÃO!$AP$1:$AP$576,0),32),1))","v":"M"},{"$f":"IF(E351=0,\"-\",INDEX([1]RELAÇÃO!$A$1:$AQ$576,MATCH($M351,[1]RELAÇÃO!$AP$1:$AP$576,0),5))","v":"Sem Vínculo"},{"$f":"IF(E351=0,\"-\",INDEX([1]RELAÇÃO!$A$1:$AQ$576,MATCH($M351,[1]RELAÇÃO!$AP$1:$AP$576,0),6))","v":"Sem Vínculo"},{"$f":"IF(E351=0,\"-\",INDEX([1]RELAÇÃO!$A$1:$AQ$576,MATCH($M351,[1]RELAÇÃO!$AP$1:$AP$576,0),12)&INDEX([1]RELAÇÃO!$A$1:$AQ$576,MATCH($M351,[1]RELAÇÃO!$AP$1:$AP$576,0),13)&\", de \"&INDEX([1]RELAÇÃO!$A$1:$AQ$576,MATCH($M351,[1]RELAÇÃO!$AP$1:$AP$576,0),14)&\" - \"&INDEX([1]RELAÇÃO!$A$1:$AQ$576,MATCH($M351,[1]RELAÇÃO!$AP$1:$AP$576,0),16)&\" de \"&INDEX([1]RELAÇÃO!$A$1:$AQ$576,MATCH($M351,[1]RELAÇÃO!$AP$1:$AP$576,0),15))","v":"Portaria nº 524, de 03/11/2016 - BPE de 04/11/2016"},null,null,{"$f":"IF($E351=0,\"-\",IF(INDEX([1]RELAÇÃO!$A$1:$AQ$576,MATCH($M351,[1]RELAÇÃO!$AP$1:$AP$576,0),8)=\"9.104.000\",\"-\",INDEX([1]RELAÇÃO!$A$1:$AQ$576,MATCH($M351,[1]RELAÇÃO!$AP$1:$AP$576,0),7)))","v":"-"},"SGM26"]
["Coordenação-Geral de Desenvolvimento Sócio Ambiental na Mineração","Coordenador-Geral","DAS 101.4","GER",{"$f":"INDEX([1]RELAÇÃO!$A$1:$AQ$576,MATCH($M352,[1]RELAÇÃO!$AP$1:$AP$576,0),1)","v":"DIONE MACEDO"},{"$f":"IF(E352=0,\"-\",LEFT(INDEX([1]RELAÇÃO!$A$1:$AQ$576,MATCH($M352,[1]RELAÇÃO!$AP$1:$AP$576,0),32),1))","v":"F"},{"$f":"IF(E352=0,\"-\",INDEX([1]RELAÇÃO!$A$1:$AQ$576,MATCH($M352,[1]RELAÇÃO!$AP$1:$AP$576,0),5))","v":"Sem Vínculo"},{"$f":"IF(E352=0,\"-\",INDEX([1]RELAÇÃO!$A$1:$AQ$576,MATCH($M352,[1]RELAÇÃO!$AP$1:$AP$576,0),6))","v":"Sem Vínculo"},{"$f":"IF(E352=0,\"-\",INDEX([1]RELAÇÃO!$A$1:$AQ$576,MATCH($M352,[1]RELAÇÃO!$AP$1:$AP$576,0),12)&INDEX([1]RELAÇÃO!$A$1:$AQ$576,MATCH($M352,[1]RELAÇÃO!$AP$1:$AP$576,0),13)&\", de \"&INDEX([1]RELAÇÃO!$A$1:$AQ$576,MATCH($M352,[1]RELAÇÃO!$AP$1:$AP$576,0),14)&\" - \"&INDEX([1]RELAÇÃO!$A$1:$AQ$576,MATCH($M352,[1]RELAÇÃO!$AP$1:$AP$576,0),16)&\" de \"&INDEX([1]RELAÇÃO!$A$1:$AQ$576,MATCH($M352,[1]RELAÇÃO!$AP$1:$AP$576,0),15))","v":"Portaria nº 524, de 03/11/2016 - BPE de 04/11/2016"},{"$f":"INDEX([1]RELAÇÃO!$A$1:$AQ$576,MATCH($N352,[1]RELAÇÃO!$AQ$1:$AQ$576,0),1)","v":"CRISTIANO MASAYOSHI MENEZES FURUHASHI"},{"$f":"IF(J352=0,\"-\",INDEX([1]RELAÇÃO!$A$1:$AQ$576,MATCH($N352,[1]RELAÇÃO!$AQ$1:$AQ$576,0),27)&INDEX([1]RELAÇÃO!$A$1:$AQ$576,MATCH($N352,[1]RELAÇÃO!$AQ$1:$AQ$576,0),28)&\", de \"&INDEX([1]RELAÇÃO!$A$1:$AQ$576,MATCH($N352,[1]RELAÇÃO!$AQ$1:$AQ$576,0),29)&\" - \"&INDEX([1]RELAÇÃO!$A$1:$AQ$576,MATCH($N352,[1]RELAÇÃO!$AQ$1:$AQ$576,0),31)&\" de \"&INDEX([1]RELAÇÃO!$A$1:$AQ$576,MATCH($N352,[1]RELAÇÃO!$AQ$1:$AQ$576,0),30))","v":"Portaria nº 606, de 24/10/2011 - DOU de 25/10/2011"},{"$f":"IF($E352=0,\"-\",IF(INDEX([1]RELAÇÃO!$A$1:$AQ$576,MATCH($M352,[1]RELAÇÃO!$AP$1:$AP$576,0),8)=\"9.104.100\",\"-\",INDEX([1]RELAÇÃO!$A$1:$AQ$576,MATCH($M352,[1]RELAÇÃO!$AP$1:$AP$576,0),7)))","v":"-"},"SGM27","SGM13S"]
[null,"Assistente","DAS 102.2","ASS",{"$f":"INDEX([1]RELAÇÃO!$A$1:$AQ$576,MATCH($M353,[1]RELAÇÃO!$AP$1:$AP$576,0),1)","v":"ANTONIO CARLOS DE ANDRADE REZENDE"},{"$f":"IF(E353=0,\"-\",LEFT(INDEX([1]RELAÇÃO!$A$1:$AQ$576,MATCH($M353,[1]RELAÇÃO!$AP$1:$AP$576,0),32),1))","v":"M"},{"$f":"IF(E353=0,\"-\",INDEX([1]RELAÇÃO!$A$1:$AQ$576,MATCH($M353,[1]RELAÇÃO!$AP$1:$AP$576,0),5))","v":"Sem Vínculo"},{"$f":"IF(E353=0,\"-\",INDEX([1]RELAÇÃO!$A$1:$AQ$576,MATCH($M353,[1]RELAÇÃO!$AP$1:$AP$576,0),6))","v":"Sem Vínculo"},{"$f":"IF(E353=0,\"-\",INDEX([1]RELAÇÃO!$A$1:$AQ$576,MATCH($M353,[1]RELAÇÃO!$AP$1:$AP$576,0),12)&INDEX([1]RELAÇÃO!$A$1:$AQ$576,MATCH($M353,[1]RELAÇÃO!$AP$1:$AP$576,0),13)&\", de \"&INDEX([1]RELAÇÃO!$A$1:$AQ$576,MATCH($M353,[1]RELAÇÃO!$AP$1:$AP$576,0),14)&\" - \"&INDEX([1]RELAÇÃO!$A$1:$AQ$576,MATCH($M353,[1]RELAÇÃO!$AP$1:$AP$576,0),16)&\" de \"&INDEX([1]RELAÇÃO!$A$1:$AQ$576,MATCH($M353,[1]RELAÇÃO!$AP$1:$AP$576,0),15))","v":"Portaria nº 524, de 03/11/2016 - BPE de 04/11/2016"},null,null,{"$f":"IF($E353=0,\"-\",IF(INDEX([1]RELAÇÃO!$A$1:$AQ$576,MATCH($M353,[1]RELAÇÃO!$AP$1:$AP$576,0),8)=\"9.104.100\",\"-\",INDEX([1]RELAÇÃO!$A$1:$AQ$576,MATCH($M353,[1]RELAÇÃO!$AP$1:$AP$576,0),7)))","v":"-"},"SGM28"]
["Coordenação-Geral de Mineração em Áreas de Conservação e Conflito","Coordenador-Geral","FCPE 101.4","GER",{"$f":"INDEX([1]RELAÇÃO!$A$1:$AQ$576,MATCH($M354,[1]RELAÇÃO!$AP$1:$AP$576,0),1)","v":"MARIA RITA SILVA FONTES FARIA"},{"$f":"IF(E354=0,\"-\",LEFT(INDEX([1]RELAÇÃO!$A$1:$AQ$576,MATCH($M354,[1]RELAÇÃO!$AP$1:$AP$576,0),32),1))","v":"F"},{"$f":"IF(E354=0,\"-\",INDEX([1]RELAÇÃO!$A$1:$AQ$576,MATCH($M354,[1]RELAÇÃO!$AP$1:$AP$576,0),5))","v":"Requisitado de Órgãos"},{"$f":"IF(E354=0,\"-\",INDEX([1]RELAÇÃO!$A$1:$AQ$576,MATCH($M354,[1]RELAÇÃO!$AP$1:$AP$576,0),6))","v":"MRE - Ministério das Relações Exteriores"},{"$f":"IF(E354=0,\"-\",INDEX([1]RELAÇÃO!$A$1:$AQ$576,MATCH($M354,[1]RELAÇÃO!$AP$1:$AP$576,0),12)&INDEX([1]RELAÇÃO!$A$1:$AQ$576,MATCH($M354,[1]RELAÇÃO!$AP$1:$AP$576,0),13)&\", de \"&INDEX([1]RELAÇÃO!$A$1:$AQ$576,MATCH($M354,[1]RELAÇÃO!$AP$1:$AP$576,0),14)&\" - \"&INDEX([1]RELAÇÃO!$A$1:$AQ$576,MATCH($M354,[1]RELAÇÃO!$AP$1:$AP$576,0),16)&\" de \"&INDEX([1]RELAÇÃO!$A$1:$AQ$576,MATCH($M354,[1]RELAÇÃO!$AP$1:$AP$576,0),15))","v":"Portaria nº 372, de 30/09/2019 - DOU de 02/10/2019"},{"$f":"INDEX([1]RELAÇÃO!$A$1:$AQ$576,MATCH($N354,[1]RELAÇÃO!$AQ$1:$AQ$576,0),1)","v":0},{"$f":"IF(J354=0,\"-\",INDEX([1]RELAÇÃO!$A$1:$AQ$576,MATCH($N354,[1]RELAÇÃO!$AQ$1:$AQ$576,0),27)&INDEX([1]RELAÇÃO!$A$1:$AQ$576,MATCH($N354,[1]RELAÇÃO!$AQ$1:$AQ$576,0),28)&\", de \"&INDEX([1]RELAÇÃO!$A$1:$AQ$576,MATCH($N354,[1]RELAÇÃO!$AQ$1:$AQ$576,0),29)&\" - \"&INDEX([1]RELAÇÃO!$A$1:$AQ$576,MATCH($N354,[1]RELAÇÃO!$AQ$1:$AQ$576,0),31)&\" de \"&INDEX([1]RELAÇÃO!$A$1:$AQ$576,MATCH($N354,[1]RELAÇÃO!$AQ$1:$AQ$576,0),30))","v":"-"},{"$f":"IF($E354=0,\"-\",IF(INDEX([1]RELAÇÃO!$A$1:$AQ$576,MATCH($M354,[1]RELAÇÃO!$AP$1:$AP$576,0),8)=\"9.104.200\",\"-\",INDEX([1]RELAÇÃO!$A$1:$AQ$576,MATCH($M354,[1]RELAÇÃO!$AP$1:$AP$576,0),7)))","v":"-"},"SGM29","SGM14S"]
[null,"Assistente","FCPE 102.2","ASS",{"$f":"INDEX([1]RELAÇÃO!$A$1:$AQ$576,MATCH($M355,[1]RELAÇÃO!$AP$1:$AP$576,0),1)","v":"RANIELLE NOLETO PAZ ARAUJO"},{"$f":"IF(E355=0,\"-\",LEFT(INDEX([1]RELAÇÃO!$A$1:$AQ$576,MATCH($M355,[1]RELAÇÃO!$AP$1:$AP$576,0),32),1))","v":"F"},{"$f":"IF(E355=0,\"-\",INDEX([1]RELAÇÃO!$A$1:$AQ$576,MATCH($M355,[1]RELAÇÃO!$AP$1:$AP$576,0),5))","v":"Exercício Descentralizado"},{"$f":"IF(E355=0,\"-\",INDEX([1]RELAÇÃO!$A$1:$AQ$576,MATCH($M355,[1]RELAÇÃO!$AP$1:$AP$576,0),6))","v":"ME - Ministério da Economia"},{"$f":"IF(E355=0,\"-\",INDEX([1]RELAÇÃO!$A$1:$AQ$576,MATCH($M355,[1]RELAÇÃO!$AP$1:$AP$576,0),12)&INDEX([1]RELAÇÃO!$A$1:$AQ$576,MATCH($M355,[1]RELAÇÃO!$AP$1:$AP$576,0),13)&\", de \"&INDEX([1]RELAÇÃO!$A$1:$AQ$576,MATCH($M355,[1]RELAÇÃO!$AP$1:$AP$576,0),14)&\" - \"&INDEX([1]RELAÇÃO!$A$1:$AQ$576,MATCH($M355,[1]RELAÇÃO!$AP$1:$AP$576,0),16)&\" de \"&INDEX([1]RELAÇÃO!$A$1:$AQ$576,MATCH($M355,[1]RELAÇÃO!$AP$1:$AP$576,0),15))","v":"Portaria nº 524, de 03/11/2016 - BPE de 04/11/2016"},null,null,{"$f":"IF($E355=0,\"-\",IF(INDEX([1]RELAÇÃO!$A$1:$AQ$576,MATCH($M355,[1]RELAÇÃO!$AP$1:$AP$576,0),8)=\"9.104.200\",\"-\",INDEX([1]RELAÇÃO!$A$1:$AQ$576,MATCH($M355,[1]RELAÇÃO!$AP$1:$AP$576,0),7)))","v":"-"},"SGM30"]

{"sheet":"PCOMID","index":13,"n_rows":315,"n_cols":7,"rows_kept":315,"merged":[[0,0,0,7],[6,0,9,0],[7,4,9,4],[7,6,9,6],[11,0,20,0],[11,4,15,4],[11,6,15,6],[18,4,27,4],[18,6,27,6],[28,0,33,0],[29,4,33,4],[29,6,33,6],[34,0,35,0],[36,0,42,0],[37,4,42,4],[37,6,42,6],[43,0,48,0],[44,4,48,4],[44,6,48,6],[49,0,53,0],[50,4,53,4],[50,6,53,6],[54,0,58,0],[55,4,58,4],[55,6,58,6],[59,0,61,0],[60,4,61,4],[60,6,61,6],[63,0,74,0],[67,4,74,4],[67,6,74,6],[75,0,81,0],[76,4,81,4],[76,6,81,6],[82,0,84,0],[83,4,84,4],[83,6,84,6],[88,4,89,4],[88,6,89,6],[90,0,91,0],[97,0,98,0],[101,0,105,0],[102,4,105,4],[102,6,105,6],[106,0,109,0],[107,4,109,4],[107,6,109,6],[110,0,121,0],[120,4,121,4],[120,6,121,6],[122,0,132,0],[133,0,140,0],[137,4,140,4],[137,6,140,6],[141,0,145,0],[144,4,145,4],[144,6,145,6],[146,0,153,0],[149,4,153,4],[149,6,153,6],[155,0,163,0],[156,4,163,4],[156,6,163,6],[167,0,168,0],[170,0,178,0],[171,4,178,4],[171,6,178,6],[180,0,183,0],[181,4,183,4],[181,6,183,6],[185,0,187,0],[186,4,187,4],[186,6,187,6],[189,0,192,0],[190,4,192,4],[190,6,192,6],[194,0,201,0],[196,4,201,4],[196,6,201,6],[202,0,205,0],[203,4,205,4],[203,6,205,6],[209,0,211,0],[210,4,211,4],[210,6,211,6],[215,0,217,0],[216,4,217,4],[216,6,217,6],[220,0,221,0],[222,0,223,0],[225,0,233,0],[228,4,233,4],[228,6,233,6],[234,0,235,0],[236,0,237,0],[238,0,239,0],[240,0,242,0],[241,4,242,4],[241,6,242,6],[243,0,245,0],[246,0,247,0],[249,0,250,0],[254,0,256,0],[255,4,256,4],[255,6,256,6],[258,0,265,0],[260,4,265,4],[260,6,265,6],[266,0,268,0],[271,0,273,0],[276,0,277,0],[280,0,281,0],[285,0,291,0],[287,4,291,4],[287,6,291,6],[292,0,294,0],[293,4,294,4],[293,6,294,6],[296,0,297,0],[299,0,301,0],[300,4,301,4],[300,6,301,6],[304,0,307,0],[305,4,307,4],[305,6,307,6],[309,0,310,0],[311,0,312,0],[313,0,314,0]]}
["SITUAÇÃO DE OCUPAÇÃO DAS FUNÇÕES"]
[]
[{"$f":"[1]IDFUNÇÃO!A3","v":"UNIDADE"},{"$f":"[1]IDFUNÇÃO!B3","v":"DENOMINAÇÃO CARGO/FUNÇÃO"},{"$f":"[1]IDFUNÇÃO!C3","v":"NE/DAS/FCPE"},{"$f":"[1]IDFUNÇÃO!D3","v":"ID FUNÇÃO"},{"$f":"[1]IDFUNÇÃO!E3","v":"ID SUBSTITUIÇÃO"},{"$f":"[1]IDFUNÇÃO!F3","v":"OBSERVAÇÃO           ID FUNÇÃO"},{"$f":"[1]IDFUNÇÃO!G3","v":"OBSERVAÇÃO           ID SUBSTITUIÇÃO"}]
[]
[{"$f":"[1]IDFUNÇÃO!A5","v":"MME"},{"$f":"[1]IDFUNÇÃO!B5","v":"Ministro de Estado"},{"$f":"[1]IDFUNÇÃO!C5","v":"NE"},{"$f":"[1]IDFUNÇÃO!D5","v":"MIN01"},{"$f":"[1]IDFUNÇÃO!E5","v":"MIN01S"},{"$f":"[1]IDFUNÇÃO!F5","v":"OCUPADA"},{"$f":"[1]IDFUNÇÃO!G5","v":"OCUPADA"}]
[]
[{"$f":"[1]IDFUNÇÃO!A7","v":"ESCRITÓRIO RIO DE JANEIRO/RJ"},{"$f":"[1]IDFUNÇÃO!B7","v":"Chefe de Escritório"},{"$f":"[1]IDFUNÇÃO!C7","v":"DAS 101.4"},{"$f":"[1]IDFUNÇÃO!D7","v":"TEMP01"},{"$f":"[1]IDFUNÇÃO!E7","v":"TEMP01S"},{"$f":"[1]IDFUNÇÃO!F7","v":"OCUPADA"},{"$f":"[1]IDFUNÇÃO!G7","v":"VAZIA"}]
[null,{"$f":"[1]IDFUNÇÃO!B8","v":"Assessor Técnico"},{"$f":"[1]IDFUNÇÃO!C8","v":"DAS 102.3"},{"$f":"[1]IDFUNÇÃO!D8","v":"TEMP02"},null,{"$f":"[1]IDFUNÇÃO!F8","v":"OCUPADA"}]
[null,{"$f":"[1]IDFUNÇÃO!B9","v":"Assessor Técnico"},{"$f":"[1]IDFUNÇÃO!C9","v":"DAS 102.3"},{"$f":"[1]IDFUNÇÃO!D9","v":"TEMP03"},null,{"$f":"[1]IDFUNÇÃO!F9","v":"OCUPADA"}]
[null,{"$f":"[1]IDFUNÇÃO!B10","v":"Assessor Técnico"},{"$f":"[1]IDFUNÇÃO!C10","v":"DAS 102.3"},{"$f":"[1]IDFUNÇÃO!D10","v":"TEMP04"},null,{"$f":"[1]IDFUNÇÃO!F10","v":"OCUPADA"}]
[]
[{"$f":"[1]IDFUNÇÃO!A12","v":"ASSESSORES DO MINISTRO"},{"$f":"[1]IDFUNÇÃO!B12","v":"Assessor Especial"},{"$f":"[1]IDFUNÇÃO!C12","v":"DAS 102.5"},{"$f":"[1]IDFUNÇÃO!D12","v":"GM01"},null,{"$f":"[1]IDFUNÇÃO!F12","v":"OCUPADA"}]
[null,{"$f":"[1]IDFUNÇÃO!B13","v":"Assessor Especial"},{"$f":"[1]IDFUNÇÃO!C13","v":"DAS 102.5"},{"$f":"[1]IDFUNÇÃO!D13","v":"GM02"},null,{"$f":"[1]IDFUNÇÃO!F13","v":"OCUPADA"}]
[null,{"$f":"[1]IDFUNÇÃO!B14","v":"Assessor Especial"},{"$f":"[1]IDFUNÇÃO!C14","v":"DAS 102.5"},{"$f":"[1]IDFUNÇÃO!D14","v":"GM03"},null,{"$f":"[1]IDFUNÇÃO!F14","v":"OCUPADA"}]
[null,{"$f":"[1]IDFUNÇÃO!B15","v":"Assessor Especial"},{"$f":"[1]IDFUNÇÃO!C15","v":"DAS 102.5"},{"$f":"[1]IDFUNÇÃO!D15","v":"GM04"},null,{"$f":"[1]IDFUNÇÃO!F15","v":"OCUPADA"}]
[null,{"$f":"[1]IDFUNÇÃO!B16","v":"Assessor Especial"},{"$f":"[1]IDFUNÇÃO!C16","v":"DAS 102.5"},{"$f":"[1]IDFUNÇÃO!D16","v":"GM05"},null,{"$f":"[1]IDFUNÇÃO!F16","v":"OCUPADA"}]
[null,{"$f":"[1]IDFUNÇÃO!B17","v":"Diretor de Programa"},{"$f":"[1]IDFUNÇÃO!C17","v":"DAS 101.5"},{"$f":"[1]IDFUNÇÃO!D17","v":"GM06"},{"$f":"[1]IDFUNÇÃO!E17","v":"GM01S"},{"$f":"[1]IDFUNÇÃO!F17","v":"OCUPADA"},{"$f":"[1]IDFUNÇÃO!G17","v":"VAZIA"}]
[null,{"$f":"[1]IDFUNÇÃO!B18","v":"Diretor de Programa"},{"$f":"[1]IDFUNÇÃO!C18","v":"DAS 101.5"},{"$f":"[1]IDFUNÇÃO!D18","v":"GM07"},{"$f":"[1]IDFUNÇÃO!E18","v":"GM02S"},{"$f":"[1]IDFUNÇÃO!F18","v":"VAZIA"},{"$f":"[1]IDFUNÇÃO!G18","v":"VAZIA"}]
[null,{"$f":"[1]IDFUNÇÃO!B19","v":"Assessor"},{"$f":"[1]IDFUNÇÃO!C19","v":"DAS 102.4"},{"$f":"[1]IDFUNÇÃO!D19","v":"GM08"},null,{"$f":"[1]IDFUNÇÃO!F19","v":"OCUPADA"}]
[null,{"$f":"[1]IDFUNÇÃO!B20","v":"Assessor"},{"$f":"[1]IDFUNÇÃO!C20","v":"DAS 102.4"},{"$f":"[1]IDFUNÇÃO!D20","v":"GM09"},null,{"$f":"[1]IDFUNÇÃO!F20","v":"OCUPADA"}]
[null,{"$f":"[1]IDFUNÇÃO!B21","v":"Assessor"},{"$f":"[1]IDFUNÇÃO!C21","v":"DAS 102.4"},{"$f":"[1]IDFUNÇÃO!D21","v":"GM10"},null,{"$f":"[1]IDFUNÇÃO!F21","v":"OCUPADA"}]
[null,{"$f":"[1]IDFUNÇÃO!B22","v":"Assessor"},{"$f":"[1]IDFUNÇÃO!C22","v":"DAS 102.4"},{"$f":"[1]IDFUNÇÃO!D22","v":"GM45"},null,{"$f":"[1]IDFUNÇÃO!F22","v":"OCUPADA"}]
[null,{"$f":"[1]IDFUNÇÃO!B23","v":"Assessor"},{"$f":"[1]IDFUNÇÃO!C23","v":"DAS 102.4"},{"$f":"[1]IDFUNÇÃO!D23","v":"GM46"},null,{"$f":"[1]IDFUNÇÃO!F23","v":"OCUPADA"}]
[null,{"$f":"[1]IDFUNÇÃO!B24","v":"Assessor"},{"$f":"[1]IDFUNÇÃO!C24","v":"DAS 102.4"},{"$f":"[1]IDFUNÇÃO!D24","v":"GM47"},null,{"$f":"[1]IDFUNÇÃO!F24","v":"VAZIA"}]
[null,{"$f":"[1]IDFUNÇÃO!B25","v":"Assessor"},{"$f":"[1]IDFUNÇÃO!C25","v":"DAS 102.4"},{"$f":"[1]IDFUNÇÃO!D25","v":"GM48"},null,{"$f":"[1]IDFUNÇÃO!F25","v":"VAZIA"}]
[null,{"$f":"[1]IDFUNÇÃO!B26","v":"Assessor Técnico"},{"$f":"[1]IDFUNÇÃO!C26","v":"DAS 102.3"},{"$f":"[1]IDFUNÇÃO!D26","v":"GM49"},null,{"$f":"[1]IDFUNÇÃO!F26","v":"VAZIA"}]
[null,{"$f":"[1]IDFUNÇÃO!B27","v":"Assessor Técnico"},{"$f":"[1]IDFUNÇÃO!C27","v":"DAS 102.3"},{"$f":"[1]IDFUNÇÃO!D27","v":"GM50"},null,{"$f":"[1]IDFUNÇÃO!F27","v":"OCUPADA"}]
[null,{"$f":"[1]IDFUNÇÃO!B28","v":"Assessor Técnico"},{"$f":"[1]IDFUNÇÃO!C28","v":"DAS 102.3"},{"$f":"[1]IDFUNÇÃO!D28","v":"GM51"},null,{"$f":"[1]IDFUNÇÃO!F28","v":"VAZIA"}]
[{"$f":"[1]IDFUNÇÃO!A29","v":"GABINETE DO MINISTRO"},{"$f":"[1]IDFUNÇÃO!B29","v":"Chefe de Gabinete"},{"$f":"[1]IDFUNÇÃO!C29","v":"DAS 101.5"},{"$f":"[1]IDFUNÇÃO!D29","v":"GM11"},{"$f":"[1]IDFUNÇÃO!E29","v":"GM03S"},{"$f":"[1]IDFUNÇÃO!F29","v":"OCUPADA"},{"$f":"[1]IDFUNÇÃO!G29","v":"OCUPADA"}]
[null,{"$f":"[1]IDFUNÇÃO!B30","v":"Assessor Técnico"},{"$f":"[1]IDFUNÇÃO!C30","v":"DAS 102.3"},{"$f":"[1]IDFUNÇÃO!D30","v":"GM12"},null,{"$f":"[1]IDFUNÇÃO!F30","v":"OCUPADA"}]
[null,{"$f":"[1]IDFUNÇÃO!B31","v":"Assistente"},{"$f":"[1]IDFUNÇÃO!C31","v":"DAS 102.2"},{"$f":"[1]IDFUNÇÃO!D31","v":"GM13"},null,{"$f":"[1]IDFUNÇÃO!F31","v":"OCUPADA"}]
[null,{"$f":"[1]IDFUNÇÃO!B32","v":"Assistente"},{"$f":"[1]IDFUNÇÃO!C32","v":"FCPE 102.2"},{"$f":"[1]IDFUNÇÃO!D32","v":"GM14"},null,{"$f":"[1]IDFUNÇÃO!F32","v":"OCUPADA"}]
[null,{"$f":"[1]IDFUNÇÃO!B33","v":"Assistente"},{"$f":"[1]IDFUNÇÃO!C33","v":"FCPE 102.2"},{"$f":"[1]IDFUNÇÃO!D33","v":"GM15"},null,{"$f":"[1]IDFUNÇÃO!F33","v":"OCUPADA"}]
[null,{"$f":"[1]IDFUNÇÃO!B34","v":"Assistente"},{"$f":"[1]IDFUNÇÃO!C34","v":"FCPE 102.2"},{"$f":"[1]IDFUNÇÃO!D34","v":"GM16"},null,{"$f":"[1]IDFUNÇÃO!F34","v":"OCUPADA"}]
[{"$f":"[1]IDFUNÇÃO!A35","v":"Assessoria Técncia e Administrativa do GM"},{"$f":"[1]IDFUNÇÃO!B35","v":"Chefe de Assessoria"},{"$f":"[1]IDFUNÇÃO!C35","v":"DAS 101.4"},{"$f":"[1]IDFUNÇÃO!D35","v":"GM17"},{"$f":"[1]IDFUNÇÃO!E35","v":"GM04S"},{"$f":"[1]IDFUNÇÃO!F35","v":"OCUPADA"},{"$f":"[1]IDFUNÇÃO!G35","v":"OCUPADA"}]
[null,{"$f":"[1]IDFUNÇÃO!B36","v":"Assessor Técnico"},{"$f":"[1]IDFUNÇÃO!C36","v":"FCPE 102.3"},{"$f":"[1]IDFUNÇÃO!D36","v":"GM18"},null,{"$f":"[1]IDFUNÇÃO!F36","v":"OCUPADA"}]
[{"$f":"[1]IDFUNÇÃO!A37","v":"Coordenação de Atividades Administrativas do GM"},{"$f":"[1]IDFUNÇÃO!B37","v":"Coordenador"},{"$f":"[1]IDFUNÇÃO!C37","v":"FCPE 101.3"},{"$f":"[1]IDFUNÇÃO!D37","v":"GM19"},{"$f":"[1]IDFUNÇÃO!E37","v":"GM05S"},{"$f":"[1]IDFUNÇÃO!F37","v":"OCUPADA"},{"$f":"[1]IDFUNÇÃO!G37","v":"VAZIA"}]
[null,{"$f":"[1]IDFUNÇÃO!B38","v":"Assistente"},{"$f":"[1]IDFUNÇÃO!C38","v":"DAS 102.2"},{"$f":"[1]IDFUNÇÃO!D38","v":"GM20"},null,{"$f":"[1]IDFUNÇÃO!F38","v":"OCUPADA"}]
[null,{"$f":"[1]IDFUNÇÃO!B39","v":"Assistente Técnico"},{"$f":"[1]IDFUNÇÃO!C39","v":"DAS 102.1"},{"$f":"[1]IDFUNÇÃO!D39","v":"GM21"},null,{"$f":"[1]IDFUNÇÃO!F39","v":"OCUPADA"}]
[null,{"$f":"[1]IDFUNÇÃO!B40","v":"Assistente Técnico"},{"$f":"[1]IDFUNÇÃO!C40","v":"FCPE 102.1"},{"$f":"[1]IDFUNÇÃO!D40","v":"GM22"},null,{"$f":"[1]IDFUNÇÃO!F40","v":"OCUPADA"}]
[null,{"$f":"[1]IDFUNÇÃO!B41","v":"Assistente Técnico"},{"$f":"[1]IDFUNÇÃO!C41","v":"FCPE 102.1"},{"$f":"[1]IDFUNÇÃO!D41","v":"GM23"},null,{"$f":"[1]IDFUNÇÃO!F41","v":"OCUPADA"}]
[null,{"$f":"[1]IDFUNÇÃO!B42","v":"Assistente Técnico"},{"$f":"[1]IDFUNÇÃO!C42","v":"FCPE 102.1"},{"$f":"[1]IDFUNÇÃO!D42","v":"GM24"},null,{"$f":"[1]IDFUNÇÃO!F42","v":"OCUPADA"}]
[null,{"$f":"[1]IDFUNÇÃO!B43","v":"Assistente Técnico"},{"$f":"[1]IDFUNÇÃO!C43","v":"FCPE 102.1"},{"$f":"[1]IDFUNÇÃO!D43","v":"GM25"},null,{"$f":"[1]IDFUNÇÃO!F43","v":"OCUPADA"}]
[{"$f":"[1]IDFUNÇÃO!A44","v":"Assessoria Parlamentar"},{"$f":"[1]IDFUNÇÃO!B44","v":"Chefe de Assessoria"},{"$f":"[1]IDFUNÇÃO!C44","v":"DAS 101.4"},{"$f":"[1]IDFUNÇÃO!D44","v":"GM26"},{"$f":"[1]IDFUNÇÃO!E44","v":"GM06S"},{"$f":"[1]IDFUNÇÃO!F44","v":"OCUPADA"},{"$f":"[1]IDFUNÇÃO!G44","v":"VAZIA"}]
[null,{"$f":"[1]IDFUNÇÃO!B45","v":"Assessor Técnico"},{"$f":"[1]IDFUNÇÃO!C45","v":"DAS 102.3"},{"$f":"[1]IDFUNÇÃO!D45","v":"GM27"},null,{"$f":"[1]IDFUNÇÃO!F45","v":"OCUPADA"}]
[null,{"$f":"[1]IDFUNÇÃO!B46","v":"Assistente Técnico"},{"$f":"[1]IDFUNÇÃO!C46","v":"DAS 102.1"},{"$f":"[1]IDFUNÇÃO!D46","v":"GM28"},null,{"$f":"[1]IDFUNÇÃO!F46","v":"OCUPADA"}]
[null,{"$f":"[1]IDFUNÇÃO!B47","v":"Assistente Técnico"},{"$f":"[1]IDFUNÇÃO!C47","v":"DAS 102.1"},{"$f":"[1]IDFUNÇÃO!D47","v":"GM29"},null,{"$f":"[1]IDFUNÇÃO!F47","v":"OCUPADA"}]
[null,{"$f":"[1]IDFUNÇÃO!B48","v":"Assistente Técnico"},{"$f":"[1]IDFUNÇÃO!C48","v":"DAS 102.1"},{"$f":"[1]IDFUNÇÃO!D48","v":"GM30"},null,{"$f":"[1]IDFUNÇÃO!F48","v":"OCUPADA"}]
[null,{"$f":"[1]IDFUNÇÃO!B49","v":"Assistente Técnico"},{"$f":"[1]IDFUNÇÃO!C49","v":"DAS 102.1"},{"$f":"[1]IDFUNÇÃO!D49","v":"GM31"},null,{"$f":"[1]IDFUNÇÃO!F49","v":"OCUPADA"}]
[{"$f":"[1]IDFUNÇÃO!A50","v":"Assessoria de Comunicação Social"},{"$f":"[1]IDFUNÇÃO!B50","v":"Chefe de Assessoria"},{"$f":"[1]IDFUNÇÃO!C50","v":"DAS 101.4"},{"$f":"[1]IDFUNÇÃO!D50","v":"GM32"},{"$f":"[1]IDFUNÇÃO!E50","v":"GM07S"},{"$f":"[1]IDFUNÇÃO!F50","v":"OCUPADA"},{"$f":"[1]IDFUNÇÃO!G50","v":"VAZIA"}]
[null,{"$f":"[1]IDFUNÇÃO!B51","v":"Assessor Técnico"},{"$f":"[1]IDFUNÇÃO!C51","v":"DAS 102.3"},{"$f":"[1]IDFUNÇÃO!D51","v":"GM33"},null,{"$f":"[1]IDFUNÇÃO!F51","v":"OCUPADA"}]
[null,{"$f":"[1]IDFUNÇÃO!B52","v":"Assistente"},{"$f":"[1]IDFUNÇÃO!C52","v":"DAS 102.2"},{"$f":"[1]IDFUNÇÃO!D52","v":"GM34"},null,{"$f":"[1]IDFUNÇÃO!F52","v":"OCUPADA"}]
[null,{"$f":"[1]IDFUNÇÃO!B53","v":"Assistente"},{"$f":"[1]IDFUNÇÃO!C53","v":"DAS 102.2"},{"$f":"[1]IDFUNÇÃO!D53","v":"GM35"},null,{"$f":"[1]IDFUNÇÃO!F53","v":"OCUPADA"}]
[null,{"$f":"[1]IDFUNÇÃO!B54","v":"Assistente"},{"$f":"[1]IDFUNÇÃO!C54","v":"DAS 102.2"},{"$f":"[1]IDFUNÇÃO!D54","v":"GM36"},null,{"$f":"[1]IDFUNÇÃO!F54","v":"OCUPADA"}]
[{"$f":"[1]IDFUNÇÃO!A55","v":"Assessoria de Apoio ao Ministro"},{"$f":"[1]IDFUNÇÃO!B55","v":"Chefe de Assessoria"},{"$f":"[1]IDFUNÇÃO!C55","v":"DAS 101.4"},{"$f":"[1]IDFUNÇÃO!D55","v":"GM37"},{"$f":"[1]IDFUNÇÃO!E55","v":"GM08S"},{"$f":"[1]IDFUNÇÃO!F55","v":"OCUPADA"},{"$f":"[1]IDFUNÇÃO!G55","v":"VAZIA"}]
[null,{"$f":"[1]IDFUNÇÃO!B56","v":"Assessor"},{"$f":"[1]IDFUNÇÃO!C56","v":"DAS 102.4"},{"$f":"[1]IDFUNÇÃO!D56","v":"GM38"},null,{"$f":"[1]IDFUNÇÃO!F56","v":"OCUPADA"}]
[null,{"$f":"[1]IDFUNÇÃO!B57","v":"Assessor Técnico"},{"$f":"[1]IDFUNÇÃO!C57","v":"DAS 102.3"},{"$f":"[1]IDFUNÇÃO!D57","v":"GM39"},null,{"$f":"[1]IDFUNÇÃO!F57","v":"OCUPADA"}]
[null,{"$f":"[1]IDFUNÇÃO!B58","v":"Assistente"},{"$f":"[1]IDFUNÇÃO!C58","v":"DAS 102.2"},{"$f":"[1]IDFUNÇÃO!D58","v":"GM40"},null,{"$f":"[1]IDFUNÇÃO!F58","v":"OCUPADA"}]
[null,{"$f":"[1]IDFUNÇÃO!B59","v":"Assistente Técnico"},{"$f":"[1]IDFUNÇÃO!C59","v":"DAS 102.1"},{"$f":"[1]IDFUNÇÃO!D59","v":"GM41"},null,{"$f":"[1]IDFUNÇÃO!F59","v":"OCUPADA"}]
[{"$f":"[1]IDFUNÇÃO!A60","v":"Ouvidoria-Geral"},{"$f":"[1]IDFUNÇÃO!B60","v":"Ouvidor-Geral"},{"$f":"[1]IDFUNÇÃO!C60","v":"FCPE 101.4"},{"$f":"[1]IDFUNÇÃO!D60","v":"GM42"},{"$f":"[1]IDFUNÇÃO!E60","v":"GM09S"},{"$f":"[1]IDFUNÇÃO!F60","v":"OCUPADA"},{"$f":"[1]IDFUNÇÃO!G60","v":"OCUPADA"}]
[null,{"$f":"[1]IDFUNÇÃO!B61","v":"Assistente"},{"$f":"[1]IDFUNÇÃO!C61","v":"DAS 102.2"},{"$f":"[1]IDFUNÇÃO!D61","v":"GM43"},null,{"$f":"[1]IDFUNÇÃO!F61","v":"OCUPADA"}]
[null,{"$f":"[1]IDFUNÇÃO!B62","v":"Assistente Técnico"},{"$f":"[1]IDFUNÇÃO!C62","v":"FCPE 102.1"},{"$f":"[1]IDFUNÇÃO!D62","v":"GM44"},null,{"$f":"[1]IDFUNÇÃO!F62","v":"OCUPADA"}]
[]
[{"$f":"[1]IDFUNÇÃO!A64","v":"SECRETARIA-EXECUTIVA"},{"$f":"[1]IDFUNÇÃO!B64","v":"Secretário-Executivo"},{"$f":"[1]IDFUNÇÃO!C64","v":"NE"},{"$f":"[1]IDFUNÇÃO!D64","v":"SE01"},{"$f":"[1]IDFUNÇÃO!E64","v":"SE01S"},{"$f":"[1]IDFUNÇÃO!F64","v":"OCUPADA"},{"$f":"[1]IDFUNÇÃO!G64","v":"OCUPADA"}]
[null,{"$f":"[1]IDFUNÇÃO!B65","v":"Secretário-Executivo Adjunto"},{"$f":"[1]IDFUNÇÃO!C65","v":"DAS 101.6"},{"$f":"[1]IDFUNÇÃO!D65","v":"SE02"},{"$f":"[1]IDFUNÇÃO!E65","v":"SE02S"},{"$f":"[1]IDFUNÇÃO!F65","v":"OCUPADA"},{"$f":"[1]IDFUNÇÃO!G65","v":"VAZIA"}]
[null,{"$f":"[1]IDFUNÇÃO!B66","v":"Diretor de Programa"},{"$f":"[1]IDFUNÇÃO!C66","v":"DAS 101.5"},{"$f":"[1]IDFUNÇÃO!D66","v":"SE03"},{"$f":"[1]IDFUNÇÃO!E66","v":"SE03S"},{"$f":"[1]IDFUNÇÃO!F66","v":"OCUPADA"},{"$f":"[1]IDFUNÇÃO!G66","v":"VAZIA"}]
[null,{"$f":"[1]IDFUNÇÃO!B67","v":"Diretor de Programa"},{"$f":"[1]IDFUNÇÃO!C67","v":"DAS 101.5"},{"$f":"[1]IDFUNÇÃO!D67","v":"SE04"},{"$f":"[1]IDFUNÇÃO!E67","v":"SE04S"},{"$f":"[1]IDFUNÇÃO!F67","v":"OCUPADA"},{"$f":"[1]IDFUNÇÃO!G67","v":"VAZIA"}]
[null,{"$f":"[1]IDFUNÇÃO!B68","v":"Assessor"},{"$f":"[1]IDFUNÇÃO!C68","v":"DAS 102.4"},{"$f":"[1]IDFUNÇÃO!D68","v":"SE05"},null,{"$f":"[1]IDFUNÇÃO!F68","v":"OCUPADA"}]
[null,{"$f":"[1]IDFUNÇÃO!B69","v":"Assessor"},{"$f":"[1]IDFUNÇÃO!C69","v":"DAS 102.4"},{"$f":"[1]IDFUNÇÃO!D69","v":"SE06"},null,{"$f":"[1]IDFUNÇÃO!F69","v":"OCUPADA"}]
[null,{"$f":"[1]IDFUNÇÃO!B70","v":"Assessor"},{"$f":"[1]IDFUNÇÃO!C70","v":"DAS 102.4"},{"$f":"[1]IDFUNÇÃO!D70","v":"SE07"},null,{"$f":"[1]IDFUNÇÃO!F70","v":"OCUPADA"}]
[null,{"$f":"[1]IDFUNÇÃO!B71","v":"Assessor"},{"$f":"[1]IDFUNÇÃO!C71","v":"DAS 102.4"},{"$f":"[1]IDFUNÇÃO!D71","v":"SE08"},null,{"$f":"[1]IDFUNÇÃO!F71","v":"OCUPADA"}]
[null,{"$f":"[1]IDFUNÇÃO!B72","v":"Assessor Técnico"},{"$f":"[1]IDFUNÇÃO!C72","v":"DAS 102.3"},{"$f":"[1]IDFUNÇÃO!D72","v":"SE09"},null,{"$f":"[1]IDFUNÇÃO!F72","v":"OCUPADA"}]
[null,{"$f":"[1]IDFUNÇÃO!B73","v":"Assessor Técnico"},{"$f":"[1]IDFUNÇÃO!C73","v":"DAS 102.3"},{"$f":"[1]IDFUNÇÃO!D73","v":"SE10"},null,{"$f":"[1]IDFUNÇÃO!F73","v":"OCUPADA"}]
[null,{"$f":"[1]IDFUNÇÃO!B74","v":"Assessor Técnico"},{"$f":"[1]IDFUNÇÃO!C74","v":"DAS 102.3"},{"$f":"[1]IDFUNÇÃO!D74","v":"SE11"},null,{"$f":"[1]IDFUNÇÃO!F74","v":"OCUPADA"}]
[null,{"$f":"[1]IDFUNÇÃO!B75","v":"Assessor Técnico"},{"$f":"[1]IDFUNÇÃO!C75","v":"DAS 102.3"},{"$f":"[1]IDFUNÇÃO!D75","v":"SE12"},null,{"$f":"[1]IDFUNÇÃO!F75","v":"OCUPADA"}]
[{"$f":"[1]IDFUNÇÃO!A76","v":"GABINETE DA SECRETARIA EXECUTIVA"},{"$f":"[1]IDFUNÇÃO!B76","v":"Chefe de Gabinete"},{"$f":"[1]IDFUNÇÃO!C76","v":"DAS 101.4"},{"$f":"[1]IDFUNÇÃO!D76","v":"SE13"},{"$f":"[1]IDFUNÇÃO!E76","v":"SE05S"},{"$f":"[1]IDFUNÇÃO!F76","v":"OCUPADA"},{"$f":"[1]IDFUNÇÃO!G76","v":"VAZIA"}]
[null,{"$f":"[1]IDFUNÇÃO!B77","v":"Assistente"},{"$f":"[1]IDFUNÇÃO!C77","v":"DAS 102.2"},{"$f":"[1]IDFUNÇÃO!D77","v":"SE14"},null,{"$f":"[1]IDFUNÇÃO!F77","v":"OCUPADA"}]
[null,{"$f":"[1]IDFUNÇÃO!B78","v":"Assistente"},{"$f":"[1]IDFUNÇÃO!C78","v":"DAS 102.2"},{"$f":"[1]IDFUNÇÃO!D78","v":"SE15"},null,{"$f":"[1]IDFUNÇÃO!F78","v":"OCUPADA"}]
[null,{"$f":"[1]IDFUNÇÃO!B79","v":"Assistente"},{"$f":"[1]IDFUNÇÃO!C79","v":"DAS 102.2"},{"$f":"[1]IDFUNÇÃO!D79","v":"SE16"},null,{"$f":"[1]IDFUNÇÃO!F79","v":"OCUPADA"}]
[null,{"$f":"[1]IDFUNÇÃO!B80","v":"Assistente Técnico"},{"$f":"[1]IDFUNÇÃO!C80","v":"FCPE 102.1"},{"$f":"[1]IDFUNÇÃO!D80","v":"SE17"},null,{"$f":"[1]IDFUNÇÃO!F80","v":"OCUPADA"}]
[null,{"$f":"[1]IDFUNÇÃO!B81","v":"Assistente Técnico"},{"$f":"[1]IDFUNÇÃO!C81","v":"FCPE 102.1"},{"$f":"[1]IDFUNÇÃO!D81","v":"SE18"},null,{"$f":"[1]IDFUNÇÃO!F81","v":"OCUPADA"}]
[null,{"$f":"[1]IDFUNÇÃO!B82","v":"Assistente Técnico"},{"$f":"[1]IDFUNÇÃO!C82","v":"FCPE 102.1"},{"$f":"[1]IDFUNÇÃO!D82","v":"SE19"},null,{"$f":"[1]IDFUNÇÃO!F82","v":"OCUPADA"}]
[{"$f":"[1]IDFUNÇÃO!A83","v":"ASSESSORIA ESPECIAL DE GESTÃO ESTRATÉGICA"},{"$f":"[1]IDFUNÇÃO!B83","v":"Chefe da Assessoria Especial"},{"$f":"[1]IDFUNÇÃO!C83","v":"DAS 101.5"},{"$f":"[1]IDFUNÇÃO!D83","v":"SE20"},{"$f":"[1]IDFUNÇÃO!E83","v":"SE06S"},{"$f":"[1]IDFUNÇÃO!F83","v":"OCUPADA"},{"$f":"[1]IDFUNÇÃO!G83","v":"OCUPADA"}]
[null,{"$f":"[1]IDFUNÇÃO!B84","v":"Assessor Técnico"},{"$f":"[1]IDFUNÇÃO!C84","v":"DAS 102.3"},{"$f":"[1]IDFUNÇÃO!D84","v":"SE21"},null,{"$f":"[1]IDFUNÇÃO!F84","v":"OCUPADA"}]
[null,{"$f":"[1]IDFUNÇÃO!B85","v":"Assistente"},{"$f":"[1]IDFUNÇÃO!C85","v":"DAS 102.2"},{"$f":"[1]IDFUNÇÃO!D85","v":"SE22"},null,{"$f":"[1]IDFUNÇÃO!F85","v":"OCUPADA"}]
[{"$f":"[1]IDFUNÇÃO!A86","v":"Coordenação-Geral de Planejamento Estratégico, Supervisão e Avaliação da Gestão"},{"$f":"[1]IDFUNÇÃO!B86","v":"Coordenador-Geral"},{"$f":"[1]IDFUNÇÃO!C86","v":"DAS 101.4"},{"$f":"[1]IDFUNÇÃO!D86","v":"SE23"},{"$f":"[1]IDFUNÇÃO!E86","v":"SE07S"},{"$f":"[1]IDFUNÇÃO!F86","v":"OCUPADA"},{"$f":"[1]IDFUNÇÃO!G86","v":"OCUPADA"}]
[{"$f":"[1]IDFUNÇÃO!A87","v":"Coordenação de Supervisão e Avalliação da Gestão"},{"$f":"[1]IDFUNÇÃO!B87","v":"Coordenador"},{"$f":"[1]IDFUNÇÃO!C87","v":"DAS 101.3"},{"$f":"[1]IDFUNÇÃO!D87","v":"SE24"},{"$f":"[1]IDFUNÇÃO!E87","v":"SE08S"},{"$f":"[1]IDFUNÇÃO!F87","v":"OCUPADA"},{"$f":"[1]IDFUNÇÃO!G87","v":"VAZIA"}]
[{"$f":"[1]IDFUNÇÃO!A88","v":"Coordenação de Planejamento Estratégico e Orçamento"},{"$f":"[1]IDFUNÇÃO!B88","v":"Coordenador"},{"$f":"[1]IDFUNÇÃO!C88","v":"FCPE 101.3"},{"$f":"[1]IDFUNÇÃO!D88","v":"SE25"},{"$f":"[1]IDFUNÇÃO!E88","v":"SE09S"},{"$f":"[1]IDFUNÇÃO!F88","v":"OCUPADA"},{"$f":"[1]IDFUNÇÃO!G88","v":"VAZIA"}]
[null,{"$f":"[1]IDFUNÇÃO!B89","v":"Assistente"},{"$f":"[1]IDFUNÇÃO!C89","v":"DAS 102.2"},{"$f":"[1]IDFUNÇÃO!D89","v":"SE26"},null,{"$f":"[1]IDFUNÇÃO!F89","v":"OCUPADA"}]
[null,{"$f":"[1]IDFUNÇÃO!B90","v":"Assistente Técnico"},{"$f":"[1]IDFUNÇÃO!C90","v":"DAS 102.1"},{"$f":"[1]IDFUNÇÃO!D90","v":"SE27"},null,{"$f":"[1]IDFUNÇÃO!F90","v":"OCUPADA"}]
[{"$f":"[1]IDFUNÇÃO!A91","v":"ASSESSORIA ESPECIAL EM ASSUNTOS REGULATÓRIOS"},{"$f":"[1]IDFUNÇÃO!B91","v":"Chefe da Assessoria Especial"},{"$f":"[1]IDFUNÇÃO!C91","v":"DAS 101.5"},{"$f":"[1]IDFUNÇÃO!D91","v":"SE28"},{"$f":"[1]IDFUNÇÃO!E91","v":"SE10S"},{"$f":"[1]IDFUNÇÃO!F91","v":"OCUPADA"},{"$f":"[1]IDFUNÇÃO!G91","v":"VAZIA"}]
[null,{"$f":"[1]IDFUNÇÃO!B92","v":"Assistente"},{"$f":"[1]IDFUNÇÃO!C92","v":"FCPE 102.2"},{"$f":"[1]IDFUNÇÃO!D92","v":"SE29"},null,{"$f":"[1]IDFUNÇÃO!F92","v":"OCUPADA"}]
[{"$f":"[1]IDFUNÇÃO!A93","v":"ASSESSORIA ESPECIAL DE GESTÃO DE PROJETOS"},{"$f":"[1]IDFUNÇÃO!B93","v":"Chefe da Assessoria Especial"},{"$f":"[1]IDFUNÇÃO!C93","v":"DAS 101.5"},{"$f":"[1]IDFUNÇÃO!D93","v":"SE30"},{"$f":"[1]IDFUNÇÃO!E93","v":"SE11S"},{"$f":"[1]IDFUNÇÃO!F93","v":"OCUPADA"},{"$f":"[1]IDFUNÇÃO!G93","v":"VAZIA"}]
[{"$f":"[1]IDFUNÇÃO!A94","v":"Coordenação-Geral de Planejamento, Finanças e Controle"},{"$f":"[1]IDFUNÇÃO!B94","v":"Coordenador-Geral"},{"$f":"[1]IDFUNÇÃO!C94","v":"FCPE 101.4"},{"$f":"[1]IDFUNÇÃO!D94","v":"SE31"},{"$f":"[1]IDFUNÇÃO!E94","v":"SE12S"},{"$f":"[1]IDFUNÇÃO!F94","v":"OCUPADA"},{"$f":"[1]IDFUNÇÃO!G94","v":"VAZIA"}]
[{"$f":"[1]IDFUNÇÃO!A95","v":"Coordenação Administrativa"},{"$f":"[1]IDFUNÇÃO!B95","v":"Coordenador"},{"$f":"[1]IDFUNÇÃO!C95","v":"DAS 101.3"},{"$f":"[1]IDFUNÇÃO!D95","v":"SE32"},{"$f":"[1]IDFUNÇÃO!E95","v":"SE13S"},{"$f":"[1]IDFUNÇÃO!F95","v":"OCUPADA"},{"$f":"[1]IDFUNÇÃO!G95","v":"OCUPADA"}]
[{"$f":"[1]IDFUNÇÃO!A96","v":"Coordenação-Geral de Gestão de Projetos"},{"$f":"[1]IDFUNÇÃO!B96","v":"Coordenador-Geral"},{"$f":"[1]IDFUNÇÃO!C96","v":"FCPE 101.4"},{"$f":"[1]IDFUNÇÃO!D96","v":"SE33"},{"$f":"[1]IDFUNÇÃO!E96","v":"SE14S"},{"$f":"[1]IDFUNÇÃO!F96","v":"OCUPADA"},{"$f":"[1]IDFUNÇÃO!G96","v":"OCUPADA"}]
[{"$f":"[1]IDFUNÇÃO!A97","v":"Coordenação de Licitação"},{"$f":"[1]IDFUNÇÃO!B97","v":"Coordenador"},{"$f":"[1]IDFUNÇÃO!C97","v":"FCPE 101.3"},{"$f":"[1]IDFUNÇÃO!D97","v":"SE34"},{"$f":"[1]IDFUNÇÃO!E97","v":"SE15S"},{"$f":"[1]IDFUNÇÃO!F97","v":"OCUPADA"},{"$f":"[1]IDFUNÇÃO!G97","v":"VAZIA"}]
[{"$f":"[1]IDFUNÇÃO!A98","v":"ASSESSORIA ESPECIAL DE MEIO AMBIENTE"},{"$f":"[1]IDFUNÇÃO!B98","v":"Chefe da Assessoria Especial"},{"$f":"[1]IDFUNÇÃO!C98","v":"DAS 101.5"},{"$f":"[1]IDFUNÇÃO!D98","v":"SE35"},{"$f":"[1]IDFUNÇÃO!E98","v":"SE16S"},{"$f":"[1]IDFUNÇÃO!F98","v":"OCUPADA"},{"$f":"[1]IDFUNÇÃO!G98","v":"OCUPADA"}]
[null,{"$f":"[1]IDFUNÇÃO!B99","v":"Assistente"},{"$f":"[1]IDFUNÇÃO!C99","v":"DAS 102.2"},{"$f":"[1]IDFUNÇÃO!D99","v":"SE36"},null,{"$f":"[1]IDFUNÇÃO!F99","v":"OCUPADA"}]
[{"$f":"[1]IDFUNÇÃO!A100","v":"Coordenação-Geral de Avaliação Ambiental e Acompanhamento de Licenciamento"},{"$f":"[1]IDFUNÇÃO!B100","v":"Coordenador-Geral"},{"$f":"[1]IDFUNÇÃO!C100","v":"DAS 101.4"},{"$f":"[1]IDFUNÇÃO!D100","v":"SE37"},{"$f":"[1]IDFUNÇÃO!E100","v":"SE17S"},{"$f":"[1]IDFUNÇÃO!F100","v":"OCUPADA"},{"$f":"[1]IDFUNÇÃO!G100","v":"OCUPADA"}]
[{"$f":"[1]IDFUNÇÃO!A101","v":"Coordenação-Geral de Articulação Institucional em Meio Ambiente"},{"$f":"[1]IDFUNÇÃO!B101","v":"Coordenador-Geral"},{"$f":"[1]IDFUNÇÃO!C101","v":"FCPE 101.4"},{"$f":"[1]IDFUNÇÃO!D101","v":"SE38"},{"$f":"[1]IDFUNÇÃO!E101","v":"SE18S"},{"$f":"[1]IDFUNÇÃO!F101","v":"OCUPADA"},{"$f":"[1]IDFUNÇÃO!G101","v":"OCUPADA"}]
[{"$f":"[1]IDFUNÇÃO!A102","v":"Subsecretaria de Planejamento, Orçamento e Administração"},{"$f":"[1]IDFUNÇÃO!B102","v":"Subsecretário"},{"$f":"[1]IDFUNÇÃO!C102","v":"DAS 101.5"},{"$f":"[1]IDFUNÇÃO!D102","v":"SE39"},{"$f":"[1]IDFUNÇÃO!E102","v":"SE19S"},{"$f":"[1]IDFUNÇÃO!F102","v":"OCUPADA"},{"$f":"[1]IDFUNÇÃO!G102","v":"OCUPADA"}]
[null,{"$f":"[1]IDFUNÇÃO!B103","v":"Assessor"},{"$f":"[1]IDFUNÇÃO!C103","v":"DAS 102.4"},{"$f":"[1]IDFUNÇÃO!D103","v":"SE40"},null,{"$f":"[1]IDFUNÇÃO!F103","v":"OCUPADA"}]
[null,{"$f":"[1]IDFUNÇÃO!B104","v":"Assistente"},{"$f":"[1]IDFUNÇÃO!C104","v":"DAS 102.2"},{"$f":"[1]IDFUNÇÃO!D104","v":"SE41"},null,{"$f":"[1]IDFUNÇÃO!F104","v":"OCUPADA"}]
[null,{"$f":"[1]IDFUNÇÃO!B105","v":"Assistente"},{"$f":"[1]IDFUNÇÃO!C105","v":"DAS 102.2"},{"$f":"[1]IDFUNÇÃO!D105","v":"SE42"},null,{"$f":"[1]IDFUNÇÃO!F105","v":"OCUPADA"}]
[null,{"$f":"[1]IDFUNÇÃO!B106","v":"Assistente Técnico"},{"$f":"[1]IDFUNÇÃO!C106","v":"DAS 102.1"},{"$f":"[1]IDFUNÇÃO!D106","v":"SE43"},null,{"$f":"[1]IDFUNÇÃO!F106","v":"OCUPADA"}]
[{"$f":"[1]IDFUNÇÃO!A107","v":"Coordenação de Modernização Administrativa"},{"$f":"[1]IDFUNÇÃO!B107","v":"Coordenador"},{"$f":"[1]IDFUNÇÃO!C107","v":"DAS 101.3"},{"$f":"[1]IDFUNÇÃO!D107","v":"SE44"},{"$f":"[1]IDFUNÇÃO!E107","v":"SE20S"},{"$f":"[1]IDFUNÇÃO!F107","v":"OCUPADA"},{"$f":"[1]IDFUNÇÃO!G107","v":"OCUPADA"}]
[null,{"$f":"[1]IDFUNÇÃO!B108","v":"Assistente Técnico"},{"$f":"[1]IDFUNÇÃO!C108","v":"FCPE 102.1"},{"$f":"[1]IDFUNÇÃO!D108","v":"SE45"},null,{"$f":"[1]IDFUNÇÃO!F108","v":"OCUPADA"}]
[null,{"$f":"[1]IDFUNÇÃO!B109","v":"Assistente Técnico"},{"$f":"[1]IDFUNÇÃO!C109","v":"FCPE 102.1"},{"$f":"[1]IDFUNÇÃO!D109","v":"SE46"},null,{"$f":"[1]IDFUNÇÃO!F109","v":"OCUPADA"}]
[null,{"$f":"[1]IDFUNÇÃO!B110","v":"Assistente Técnico"},{"$f":"[1]IDFUNÇÃO!C110","v":"FCPE 102.1"},{"$f":"[1]IDFUNÇÃO!D110","v":"SE47"},null,{"$f":"[1]IDFUNÇÃO!F110","v":"OCUPADA"}]
[{"$f":"[1]IDFUNÇÃO!A111","v":"Coordenação-Geral de Recursos Logísticos"},{"$f":"[1]IDFUNÇÃO!B111","v":"Coordenador-Geral"},{"$f":"[1]IDFUNÇÃO!C111","v":"DAS 101.4"},{"$f":"[1]IDFUNÇÃO!D111","v":"SE48"},{"$f":"[1]IDFUNÇÃO!E111","v":"SE21S"},{"$f":"[1]IDFUNÇÃO!F111","v":"OCUPADA"},{"$f":"[1]IDFUNÇÃO!G111","v":"OCUPADA"}]
[null,{"$f":"[1]IDFUNÇÃO!B112","v":"Coordenador de Administração de Material e Execução Financeira"},{"$f":"[1]IDFUNÇÃO!C112","v":"DAS 101.3"},{"$f":"[1]IDFUNÇÃO!D112","v":"SE49"},{"$f":"[1]IDFUNÇÃO!E112","v":"SE22S"},{"$f":"[1]IDFUNÇÃO!F112","v":"OCUPADA"},{"$f":"[1]IDFUNÇÃO!G112","v":"OCUPADA"}]
[null,{"$f":"[1]IDFUNÇÃO!B113","v":"Chefe de Serviço de Gestão de Patrimônio"},{"$f":"[1]IDFUNÇÃO!C113","v":"DAS 101.1"},{"$f":"[1]IDFUNÇÃO!D113","v":"SE50"},{"$f":"[1]IDFUNÇÃO!E113","v":"SE23S"},{"$f":"[1]IDFUNÇÃO!F113","v":"OCUPADA"},{"$f":"[1]IDFUNÇÃO!G113","v":"OCUPADA"}]
[null,{"$f":"[1]IDFUNÇÃO!B114","v":"Chefe de Serviço de Almoxarifado"},{"$f":"[1]IDFUNÇÃO!C114","v":"DAS 101.1"},{"$f":"[1]IDFUNÇÃO!D114","v":"SE51"},{"$f":"[1]IDFUNÇÃO!E114","v":"SE24S"},{"$f":"[1]IDFUNÇÃO!F114","v":"VAZIA"},{"$f":"[1]IDFUNÇÃO!G114","v":"OCUPADA"}]
[null,{"$f":"[1]IDFUNÇÃO!B115","v":"Chefe da Divisão de Controle de Diárias e Passagens"},{"$f":"[1]IDFUNÇÃO!C115","v":"DAS 101.2"},{"$f":"[1]IDFUNÇÃO!D115","v":"SE52"},{"$f":"[1]IDFUNÇÃO!E115","v":"SE25S"},{"$f":"[1]IDFUNÇÃO!F115","v":"OCUPADA"},{"$f":"[1]IDFUNÇÃO!G115","v":"OCUPADA"}]
[null,{"$f":"[1]IDFUNÇÃO!B116","v":"Chefe da Divisão de Execução Orçamentária e Financeira"},{"$f":"[1]IDFUNÇÃO!C116","v":"DAS 101.2"},{"$f":"[1]IDFUNÇÃO!D116","v":"SE53"},{"$f":"[1]IDFUNÇÃO!E116","v":"SE26S"},{"$f":"[1]IDFUNÇÃO!F116","v":"OCUPADA"},{"$f":"[1]IDFUNÇÃO!G116","v":"VAZIA"}]
[null,{"$f":"[1]IDFUNÇÃO!B117","v":"Coordenador de Atividades Gerais"},{"$f":"[1]IDFUNÇÃO!C117","v":"DAS 101.3"},{"$f":"[1]IDFUNÇÃO!D117","v":"SE54"},{"$f":"[1]IDFUNÇÃO!E117","v":"SE27S"},{"$f":"[1]IDFUNÇÃO!F117","v":"OCUPADA"},{"$f":"[1]IDFUNÇÃO!G117","v":"OCUPADA"}]
[null,{"$f":"[1]IDFUNÇÃO!B118","v":"Chefe da Divisão de Gestão de Documentos e Informação Bibliográfica"},{"$f":"[1]IDFUNÇÃO!C118","v":"DAS 101.2"},{"$f":"[1]IDFUNÇÃO!D118","v":"SE55"},{"$f":"[1]IDFUNÇÃO!E118","v":"SE28S"},{"$f":"[1]IDFUNÇÃO!F118","v":"OCUPADA"},{"$f":"[1]IDFUNÇÃO!G118","v":"OCUPADA"}]
[null,{"$f":"[1]IDFUNÇÃO!B119","v":"Chefe da Divisão de Administração de Transporte"},{"$f":"[1]IDFUNÇÃO!C119","v":"DAS 101.2"},{"$f":"[1]IDFUNÇÃO!D119","v":"SE56"},{"$f":"[1]IDFUNÇÃO!E119","v":"SE29S"},{"$f":"[1]IDFUNÇÃO!F119","v":"OCUPADA"},{"$f":"[1]IDFUNÇÃO!G119","v":"OCUPADA"}]
[null,{"$f":"[1]IDFUNÇÃO!B120","v":"Chefe da Divisão de Segurança"},{"$f":"[1]IDFUNÇÃO!C120","v":"DAS 101.2"},{"$f":"[1]IDFUNÇÃO!D120","v":"SE57"},{"$f":"[1]IDFUNÇÃO!E120","v":"SE30S"},{"$f":"[1]IDFUNÇÃO!F120","v":"OCUPADA"},{"$f":"[1]IDFUNÇÃO!G120","v":"OCUPADA"}]
[null,{"$f":"[1]IDFUNÇÃO!B121","v":"Assistente Técnico"},{"$f":"[1]IDFUNÇÃO!C121","v":"DAS 102.1"},{"$f":"[1]IDFUNÇÃO!D121","v":"SE58"},null,{"$f":"[1]IDFUNÇÃO!F121","v":"OCUPADA"}]
[null,{"$f":"[1]IDFUNÇÃO!B122","v":"Assistente Técnico"},{"$f":"[1]IDFUNÇÃO!C122","v":"DAS 102.1"},{"$f":"[1]IDFUNÇÃO!D122","v":"SE59"},null,{"$f":"[1]IDFUNÇÃO!F122","v":"OCUPADA"}]
[{"$f":"[1]IDFUNÇÃO!A123","v":"Coordenação-Geral de Recursos Humanos"},{"$f":"[1]IDFUNÇÃO!B123","v":"Coordenador-Geral"},{"$f":"[1]IDFUNÇÃO!C123","v":"DAS 101.4"},{"$f":"[1]IDFUNÇÃO!D123","v":"SE60"},{"$f":"[1]IDFUNÇÃO!E123","v":"SE31S"},{"$f":"[1]IDFUNÇÃO!F123","v":"OCUPADA"},{"$f":"[1]IDFUNÇÃO!G123","v":"OCUPADA"}]
[null,{"$f":"[1]IDFUNÇÃO!B124","v":"Coordenador de Administração de Pessoal"},{"$f":"[1]IDFUNÇÃO!C124","v":"DAS 101.3"},{"$f":"[1]IDFUNÇÃO!D124","v":"SE61"},{"$f":"[1]IDFUNÇÃO!E124","v":"SE32S"},{"$f":"[1]IDFUNÇÃO!F124","v":"OCUPADA"},{"$f":"[1]IDFUNÇÃO!G124","v":"OCUPADA"}]
[null,{"$f":"[1]IDFUNÇÃO!B125","v":"Coordenador de Desenvolvimento e Seguridade Social"},{"$f":"[1]IDFUNÇÃO!C125","v":"DAS 101.3"},{"$f":"[1]IDFUNÇÃO!D125","v":"SE62"},{"$f":"[1]IDFUNÇÃO!E125","v":"SE33S"},{"$f":"[1]IDFUNÇÃO!F125","v":"OCUPADA"},{"$f":"[1]IDFUNÇÃO!G125","v":"OCUPADA"}]
[null,{"$f":"[1]IDFUNÇÃO!B126","v":"Assistente"},{"$f":"[1]IDFUNÇÃO!C126","v":"DAS 102.2"},{"$f":"[1]IDFUNÇÃO!D126","v":"SE63"},null,{"$f":"[1]IDFUNÇÃO!F126","v":"OCUPADA"}]
[null,{"$f":"[1]IDFUNÇÃO!B127","v":"Chefe de Divisão de Gestão de Estágio"},{"$f":"[1]IDFUNÇÃO!C127","v":"DAS 101.2"},{"$f":"[1]IDFUNÇÃO!D127","v":"SE64"},{"$f":"[1]IDFUNÇÃO!E127","v":"SE34S"},{"$f":"[1]IDFUNÇÃO!F127","v":"OCUPADA"},{"$f":"[1]IDFUNÇÃO!G127","v":"VAZIA"}]
[null,{"$f":"[1]IDFUNÇÃO!B128","v":"Chefe de Divisão de Execução Orçamentária e Financeira de Despesas Diversas"},{"$f":"[1]IDFUNÇÃO!C128","v":"DAS 101.2"},{"$f":"[1]IDFUNÇÃO!D128","v":"SE65"},{"$f":"[1]IDFUNÇÃO!E128","v":"SE35S"},{"$f":"[1]IDFUNÇÃO!F128","v":"OCUPADA"},{"$f":"[1]IDFUNÇÃO!G128","v":"OCUPADA"}]
[null,{"$f":"[1]IDFUNÇÃO!B129","v":"Chefe de Divisão de Concessão e Atualização dos Registros de Pagamento de Aposentados"},{"$f":"[1]IDFUNÇÃO!C129","v":"DAS 101.2"},{"$f":"[1]IDFUNÇÃO!D129","v":"SE66"},{"$f":"[1]IDFUNÇÃO!E129","v":"SE36S"},{"$f":"[1]IDFUNÇÃO!F129","v":"OCUPADA"},{"$f":"[1]IDFUNÇÃO!G129","v":"OCUPADA"}]
[null,{"$f":"[1]IDFUNÇÃO!B130","v":"Chefe de Divisão de Concessão e Atualização dos Registros de Pagamento de Pensionista"},{"$f":"[1]IDFUNÇÃO!C130","v":"DAS 101.2"},{"$f":"[1]IDFUNÇÃO!D130","v":"SE67"},{"$f":"[1]IDFUNÇÃO!E130","v":"SE37S"},{"$f":"[1]IDFUNÇÃO!F130","v":"OCUPADA"},{"$f":"[1]IDFUNÇÃO!G130","v":"OCUPADA"}]
[null,{"$f":"[1]IDFUNÇÃO!B131","v":"Chefe de Divisão de Treinamento e Desenvolvimento"},{"$f":"[1]IDFUNÇÃO!C131","v":"DAS 101.2"},{"$f":"[1]IDFUNÇÃO!D131","v":"SE68"},{"$f":"[1]IDFUNÇÃO!E131","v":"SE38S"},{"$f":"[1]IDFUNÇÃO!F131","v":"OCUPADA"},{"$f":"[1]IDFUNÇÃO!G131","v":"OCUPADA"}]
[null,{"$f":"[1]IDFUNÇÃO!B132","v":"Chefe de Divisão de Execução Orçamentária e Financeira da Folha de Pagamento de Pessoal"},{"$f":"[1]IDFUNÇÃO!C132","v":"FCPE 101.2"},{"$f":"[1]IDFUNÇÃO!D132","v":"SE69"},{"$f":"[1]IDFUNÇÃO!E132","v":"SE39S"},{"$f":"[1]IDFUNÇÃO!F132","v":"OCUPADA"},{"$f":"[1]IDFUNÇÃO!G132","v":"OCUPADA"}]
[null,{"$f":"[1]IDFUNÇÃO!B133","v":"Chefe de Divisão de Cadastro e Controle de Pessoal"},{"$f":"[1]IDFUNÇÃO!C133","v":"FCPE 101.2"},{"$f":"[1]IDFUNÇÃO!D133","v":"SE70"},{"$f":"[1]IDFUNÇÃO!E133","v":"SE40S"},{"$f":"[1]IDFUNÇÃO!F133","v":"OCUPADA"},{"$f":"[1]IDFUNÇÃO!G133","v":"OCUPADA"}]
[{"$f":"[1]IDFUNÇÃO!A134","v":"Coordenação-Geral de Orçamento e Finanças"},{"$f":"[1]IDFUNÇÃO!B134","v":"Coordenador-Geral"},{"$f":"[1]IDFUNÇÃO!C134","v":"DAS 101.4"},{"$f":"[1]IDFUNÇÃO!D134","v":"SE71"},{"$f":"[1]IDFUNÇÃO!E134","v":"SE41S"},{"$f":"[1]IDFUNÇÃO!F134","v":"OCUPADA"},{"$f":"[1]IDFUNÇÃO!G134","v":"OCUPADA"}]
[null,{"$f":"[1]IDFUNÇÃO!B135","v":"Coordenador de Administração Financeira"},{"$f":"[1]IDFUNÇÃO!C135","v":"DAS 101.3"},{"$f":"[1]IDFUNÇÃO!D135","v":"SE72"},{"$f":"[1]IDFUNÇÃO!E135","v":"SE42S"},{"$f":"[1]IDFUNÇÃO!F135","v":"OCUPADA"},{"$f":"[1]IDFUNÇÃO!G135","v":"OCUPADA"}]
[null,{"$f":"[1]IDFUNÇÃO!B136","v":"Coordenador de Contabilidade"},{"$f":"[1]IDFUNÇÃO!C136","v":"DAS 101.3"},{"$f":"[1]IDFUNÇÃO!D136","v":"SE73"},{"$f":"[1]IDFUNÇÃO!E136","v":"SE43S"},{"$f":"[1]IDFUNÇÃO!F136","v":"OCUPADA"},{"$f":"[1]IDFUNÇÃO!G136","v":"VAZIA"}]
[null,{"$f":"[1]IDFUNÇÃO!B137","v":"Coordenador de Orçamento"},{"$f":"[1]IDFUNÇÃO!C137","v":"DAS 101.3"},{"$f":"[1]IDFUNÇÃO!D137","v":"SE74"},{"$f":"[1]IDFUNÇÃO!E137","v":"SE44S"},{"$f":"[1]IDFUNÇÃO!F137","v":"OCUPADA"},{"$f":"[1]IDFUNÇÃO!G137","v":"OCUPADA"}]
[null,{"$f":"[1]IDFUNÇÃO!B138","v":"Assistente"},{"$f":"[1]IDFUNÇÃO!C138","v":"DAS 102.2"},{"$f":"[1]IDFUNÇÃO!D138","v":"SE75"},null,{"$f":"[1]IDFUNÇÃO!F138","v":"OCUPADA"}]
[null,{"$f":"[1]IDFUNÇÃO!B139","v":"Assistente Técnico"},{"$f":"[1]IDFUNÇÃO!C139","v":"DAS 102.1"},{"$f":"[1]IDFUNÇÃO!D139","v":"SE76"},null,{"$f":"[1]IDFUNÇÃO!F139","v":"OCUPADA"}]
[null,{"$f":"[1]IDFUNÇÃO!B140","v":"Assistente Técnico"},{"$f":"[1]IDFUNÇÃO!C140","v":"FCPE 102.1"},{"$f":"[1]IDFUNÇÃO!D140","v":"SE77"},null,{"$f":"[1]IDFUNÇÃO!F140","v":"OCUPADA"}]
[null,{"$f":"[1]IDFUNÇÃO!B141","v":"Assistente Técnico"},{"$f":"[1]IDFUNÇÃO!C141","v":"FCPE 102.1"},{"$f":"[1]IDFUNÇÃO!D141","v":"SE78"},null,{"$f":"[1]IDFUNÇÃO!F141","v":"OCUPADA"}]
[{"$f":"[1]IDFUNÇÃO!A142","v":"Coordenação-Geral de Tecnologia da Informação"},{"$f":"[1]IDFUNÇÃO!B142","v":"Coordenador-Geral"},{"$f":"[1]IDFUNÇÃO!C142","v":"DAS 101.4"},{"$f":"[1]IDFUNÇÃO!D142","v":"SE79"},{"$f":"[1]IDFUNÇÃO!E142","v":"SE45S"},{"$f":"[1]IDFUNÇÃO!F142","v":"OCUPADA"},{"$f":"[1]IDFUNÇÃO!G142","v":"OCUPADA"}]
[null,{"$f":"[1]IDFUNÇÃO!B143","v":"Coordenador de Infraestrutura Tecnológica"},{"$f":"[1]IDFUNÇÃO!C143","v":"DAS 101.3"},{"$f":"[1]IDFUNÇÃO!D143","v":"SE80"},{"$f":"[1]IDFUNÇÃO!E143","v":"SE46S"},{"$f":"[1]IDFUNÇÃO!F143","v":"OCUPADA"},{"$f":"[1]IDFUNÇÃO!G143","v":"OCUPADA"}]
[null,{"$f":"[1]IDFUNÇÃO!B144","v":"Coordenador de Tecnologia de Sistemas de Informação"},{"$f":"[1]IDFUNÇÃO!C144","v":"DAS 101.3"},{"$f":"[1]IDFUNÇÃO!D144","v":"SE81"},{"$f":"[1]IDFUNÇÃO!E144","v":"SE47S"},{"$f":"[1]IDFUNÇÃO!F144","v":"OCUPADA"},{"$f":"[1]IDFUNÇÃO!G144","v":"OCUPADA"}]
[null,{"$f":"[1]IDFUNÇÃO!B145","v":"Assistente"},{"$f":"[1]IDFUNÇÃO!C145","v":"DAS 102.2"},{"$f":"[1]IDFUNÇÃO!D145","v":"SE82"},null,{"$f":"[1]IDFUNÇÃO!F145","v":"OCUPADA"}]
[null,{"$f":"[1]IDFUNÇÃO!B146","v":"Assistente"},{"$f":"[1]IDFUNÇÃO!C146","v":"DAS 102.2"},{"$f":"[1]IDFUNÇÃO!D146","v":"SE83"},null,{"$f":"[1]IDFUNÇÃO!F146","v":"OCUPADA"}]
[{"$f":"[1]IDFUNÇÃO!A147","v":"Coordenação-Geral de Compras e Contratos"},{"$f":"[1]IDFUNÇÃO!B147","v":"Coordenador-Geral"},{"$f":"[1]IDFUNÇÃO!C147","v":"DAS 101.4"},{"$f":"[1]IDFUNÇÃO!D147","v":"SE84"},{"$f":"[1]IDFUNÇÃO!E147","v":"SE48S"},{"$f":"[1]IDFUNÇÃO!F147","v":"OCUPADA"},{"$f":"[1]IDFUNÇÃO!G147","v":"OCUPADA"}]
[null,{"$f":"[1]IDFUNÇÃO!B148","v":"Coordenador de Administração de Contratos"},{"$f":"[1]IDFUNÇÃO!C148","v":"DAS 101.3"},{"$f":"[1]IDFUNÇÃO!D148","v":"SE85"},{"$f":"[1]IDFUNÇÃO!E148","v":"SE49S"},{"$f":"[1]IDFUNÇÃO!F148","v":"OCUPADA"},{"$f":"[1]IDFUNÇÃO!G148","v":"OCUPADA"}]
[null,{"$f":"[1]IDFUNÇÃO!B149","v":"Coordenador de Licitações e Compras"},{"$f":"[1]IDFUNÇÃO!C149","v":"DAS 101.3"},{"$f":"[1]IDFUNÇÃO!D149","v":"SE86"},{"$f":"[1]IDFUNÇÃO!E149","v":"SE50S"},{"$f":"[1]IDFUNÇÃO!F149","v":"VAZIA"},{"$f":"[1]IDFUNÇÃO!G149","v":"OCUPADA"}]
[null,{"$f":"[1]IDFUNÇÃO!B150","v":"Assistente"},{"$f":"[1]IDFUNÇÃO!C150","v":"DAS 102.2"},{"$f":"[1]IDFUNÇÃO!D150","v":"SE87"},null,{"$f":"[1]IDFUNÇÃO!F150","v":"OCUPADA"}]
[null,{"$f":"[1]IDFUNÇÃO!B151","v":"Assistente"},{"$f":"[1]IDFUNÇÃO!C151","v":"DAS 102.2"},{"$f":"[1]IDFUNÇÃO!D151","v":"SE88"},null,{"$f":"[1]IDFUNÇÃO!F151","v":"OCUPADA"}]
[null,{"$f":"[1]IDFUNÇÃO!B152","v":"Assistente"},{"$f":"[1]IDFUNÇÃO!C152","v":"FCPE 102.2"},{"$f":"[1]IDFUNÇÃO!D152","v":"SE89"},null,{"$f":"[1]IDFUNÇÃO!F152","v":"OCUPADA"}]
[null,{"$f":"[1]IDFUNÇÃO!B153","v":"Assistente"},{"$f":"[1]IDFUNÇÃO!C153","v":"FCPE 102.2"},{"$f":"[1]IDFUNÇÃO!D153","v":"SE90"},null,{"$f":"[1]IDFUNÇÃO!F153","v":"OCUPADA"}]
[null,{"$f":"[1]IDFUNÇÃO!B154","v":"Assistente Técnico"},{"$f":"[1]IDFUNÇÃO!C154","v":"DAS 102.1"},{"$f":"[1]IDFUNÇÃO!D154","v":"SE91"},null,{"$f":"[1]IDFUNÇÃO!F154","v":"VAZIA"}]
[]
[{"$f":"[1]IDFUNÇÃO!A156","v":"CONSULTORIA JURÍDICA"},{"$f":"[1]IDFUNÇÃO!B156","v":"Consultor Jurídico"},{"$f":"[1]IDFUNÇÃO!C156","v":"DAS 101.5"},{"$f":"[1]IDFUNÇÃO!D156","v":"CONJUR01"},{"$f":"[1]IDFUNÇÃO!E156","v":"CONJUR01S"},{"$f":"[1]IDFUNÇÃO!F156","v":"OCUPADA"},{"$f":"[1]IDFUNÇÃO!G156","v":"OCUPADA"}]
[null,{"$f":"[1]IDFUNÇÃO!B157","v":"Assessor"},{"$f":"[1]IDFUNÇÃO!C157","v":"DAS 102.4"},{"$f":"[1]IDFUNÇÃO!D157","v":"CONJUR02"},null,{"$f":"[1]IDFUNÇÃO!F157","v":"OCUPADA"}]
[null,{"$f":"[1]IDFUNÇÃO!B158","v":"Assessor Técnico"},{"$f":"[1]IDFUNÇÃO!C158","v":"FCPE 102.3"},{"$f":"[1]IDFUNÇÃO!D158","v":"CONJUR03"},null,{"$f":"[1]IDFUNÇÃO!F158","v":"OCUPADA"}]
[null,{"$f":"[1]IDFUNÇÃO!B159","v":"Assistente"},{"$f":"[1]IDFUNÇÃO!C159","v":"FCPE 102.2"},{"$f":"[1]IDFUNÇÃO!D159","v":"CONJUR04"},null,{"$f":"[1]IDFUNÇÃO!F159","v":"OCUPADA"}]
[null,{"$f":"[1]IDFUNÇÃO!B160","v":"Assistente"},{"$f":"[1]IDFUNÇÃO!C160","v":"DAS 102.2"},{"$f":"[1]IDFUNÇÃO!D160","v":"CONJUR05"},null,{"$f":"[1]IDFUNÇÃO!F160","v":"OCUPADA"}]
[null,{"$f":"[1]IDFUNÇÃO!B161","v":"Assistente"},{"$f":"[1]IDFUNÇÃO!C161","v":"DAS 102.2"},{"$f":"[1]IDFUNÇÃO!D161","v":"CONJUR06"},null,{"$f":"[1]IDFUNÇÃO!F161","v":"OCUPADA"}]
[null,{"$f":"[1]IDFUNÇÃO!B162","v":"Assistente"},{"$f":"[1]IDFUNÇÃO!C162","v":"DAS 102.2"},{"$f":"[1]IDFUNÇÃO!D162","v":"CONJUR07"},null,{"$f":"[1]IDFUNÇÃO!F162","v":"OCUPADA"}]
[null,{"$f":"[1]IDFUNÇÃO!B163","v":"Assistente"},{"$f":"[1]IDFUNÇÃO!C163","v":"DAS 102.2"},{"$f":"[1]IDFUNÇÃO!D163","v":"CONJUR08"},null,{"$f":"[1]IDFUNÇÃO!F163","v":"OCUPADA"}]
[null,{"$f":"[1]IDFUNÇÃO!B164","v":"Assistente"},{"$f":"[1]IDFUNÇÃO!C164","v":"DAS 102.2"},{"$f":"[1]IDFUNÇÃO!D164","v":"CONJUR09"},null,{"$f":"[1]IDFUNÇÃO!F164","v":"OCUPADA"}]
[{"$f":"[1]IDFUNÇÃO!A165","v":"Coordenação-Geral de Assuntos de Petróleo e Mineração"},{"$f":"[1]IDFUNÇÃO!B165","v":"Coordenador-Geral"},{"$f":"[1]IDFUNÇÃO!C165","v":"FCPE 101.4"},{"$f":"[1]IDFUNÇÃO!D165","v":"CONJUR10"},{"$f":"[1]IDFUNÇÃO!E165","v":"CONJUR02S"},{"$f":"[1]IDFUNÇÃO!F165","v":"OCUPADA"},{"$f":"[1]IDFUNÇÃO!G165","v":"OCUPADA"}]
[{"$f":"[1]IDFUNÇÃO!A166","v":"Coordenação-Geral de Assuntos de Energia"},{"$f":"[1]IDFUNÇÃO!B166","v":"Coordenador-Geral"},{"$f":"[1]IDFUNÇÃO!C166","v":"FCPE 101.4"},{"$f":"[1]IDFUNÇÃO!D166","v":"CONJUR11"},{"$f":"[1]IDFUNÇÃO!E166","v":"CONJUR03S"},{"$f":"[1]IDFUNÇÃO!F166","v":"OCUPADA"},{"$f":"[1]IDFUNÇÃO!G166","v":"OCUPADA"}]
[{"$f":"[1]IDFUNÇÃO!A167","v":"Coordenação-Geral de Assuntos Administrativos"},{"$f":"[1]IDFUNÇÃO!B167","v":"Coordenador-Geral"},{"$f":"[1]IDFUNÇÃO!C167","v":"FCPE 101.4"},{"$f":"[1]IDFUNÇÃO!D167","v":"CONJUR12"},{"$f":"[1]IDFUNÇÃO!E167","v":"CONJUR04S"},{"$f":"[1]IDFUNÇÃO!F167","v":"OCUPADA"},{"$f":"[1]IDFUNÇÃO!G167","v":"VAZIA"}]
[{"$f":"[1]IDFUNÇÃO!A168","v":"Coordenação de Apoio Administrativo"},{"$f":"[1]IDFUNÇÃO!B168","v":"Coordenador"},{"$f":"[1]IDFUNÇÃO!C168","v":"FCPE 101.3"},{"$f":"[1]IDFUNÇÃO!D168","v":"CONJUR13"},{"$f":"[1]IDFUNÇÃO!E168","v":"CONJUR05S"},{"$f":"[1]IDFUNÇÃO!F168","v":"OCUPADA"},{"$f":"[1]IDFUNÇÃO!G168","v":"OCUPADA"}]
[null,{"$f":"[1]IDFUNÇÃO!B169","v":"Assistente Técnico"},{"$f":"[1]IDFUNÇÃO!C169","v":"DAS 102.1"},{"$f":"[1]IDFUNÇÃO!D169","v":"CONJUR14"},null,{"$f":"[1]IDFUNÇÃO!F169","v":"OCUPADA"}]
[]
[{"$f":"[1]IDFUNÇÃO!A171","v":"ASSESSORIA ECONÔMICA"},{"$f":"[1]IDFUNÇÃO!B171","v":"Chefe de Assessoria Econômica"},{"$f":"[1]IDFUNÇÃO!C171","v":"DAS 101.5"},{"$f":"[1]IDFUNÇÃO!D171","v":"ASSEC01"},{"$f":"[1]IDFUNÇÃO!E171","v":"ASSEC01S"},{"$f":"[1]IDFUNÇÃO!F171","v":"OCUPADA"},{"$f":"[1]IDFUNÇÃO!G171","v":"OCUPADA"}]
[null,{"$f":"[1]IDFUNÇÃO!B172","v":"Assessor"},{"$f":"[1]IDFUNÇÃO!C172","v":"DAS 102.4"},{"$f":"[1]IDFUNÇÃO!D172","v":"ASSEC02"},null,{"$f":"[1]IDFUNÇÃO!F172","v":"OCUPADA"}]
[null,{"$f":"[1]IDFUNÇÃO!B173","v":"Assessor"},{"$f":"[1]IDFUNÇÃO!C173","v":"DAS 102.4"},{"$f":"[1]IDFUNÇÃO!D173","v":"ASSEC03"},null,{"$f":"[1]IDFUNÇÃO!F173","v":"OCUPADA"}]
[null,{"$f":"[1]IDFUNÇÃO!B174","v":"Assessor"},{"$f":"[1]IDFUNÇÃO!C174","v":"DAS 102.4"},{"$f":"[1]IDFUNÇÃO!D174","v":"ASSEC04"},null,{"$f":"[1]IDFUNÇÃO!F174","v":"OCUPADA"}]
[null,{"$f":"[1]IDFUNÇÃO!B175","v":"Assessor"},{"$f":"[1]IDFUNÇÃO!C175","v":"DAS 102.4"},{"$f":"[1]IDFUNÇÃO!D175","v":"ASSEC05"},null,{"$f":"[1]IDFUNÇÃO!F175","v":"OCUPADA"}]
[null,{"$f":"[1]IDFUNÇÃO!B176","v":"Assessor"},{"$f":"[1]IDFUNÇÃO!C176","v":"DAS 102.4"},{"$f":"[1]IDFUNÇÃO!D176","v":"ASSEC06"},null,{"$f":"[1]IDFUNÇÃO!F176","v":"OCUPADA"}]
[null,{"$f":"[1]IDFUNÇÃO!B177","v":"Assessor Técnico"},{"$f":"[1]IDFUNÇÃO!C177","v":"DAS 102.3"},{"$f":"[1]IDFUNÇÃO!D177","v":"ASSEC07"},null,{"$f":"[1]IDFUNÇÃO!F177","v":"OCUPADA"}]
[null,{"$f":"[1]IDFUNÇÃO!B178","v":"Assessor Técnico"},{"$f":"[1]IDFUNÇÃO!C178","v":"DAS 102.3"},{"$f":"[1]IDFUNÇÃO!D178","v":"ASSEC08"},null,{"$f":"[1]IDFUNÇÃO!F178","v":"OCUPADA"}]
[null,{"$f":"[1]IDFUNÇÃO!B179","v":"Assessor Técnico"},{"$f":"[1]IDFUNÇÃO!C179","v":"DAS 102.3"},{"$f":"[1]IDFUNÇÃO!D179","v":"ASSEC09"},null,{"$f":"[1]IDFUNÇÃO!F179","v":"OCUPADA"}]
[]
[{"$f":"[1]IDFUNÇÃO!A181","v":"ASSESSORIA ESPECIAL DE RELAÇÕES INTERNACIONAIS"},{"$f":"[1]IDFUNÇÃO!B181","v":"Chefe da Assessoria Especial de Relações Internacionais"},{"$f":"[1]IDFUNÇÃO!C181","v":"DAS 101.5"},{"$f":"[1]IDFUNÇÃO!D181","v":"ASSINT01"},{"$f":"[1]IDFUNÇÃO!E181","v":"ASSINT01S"},{"$f":"[1]IDFUNÇÃO!F181","v":"OCUPADA"},{"$f":"[1]IDFUNÇÃO!G181","v":"OCUPADA"}]
[null,{"$f":"[1]IDFUNÇÃO!B182","v":"Assessor"},{"$f":"[1]IDFUNÇÃO!C182","v":"DAS 102.4"},{"$f":"[1]IDFUNÇÃO!D182","v":"ASSINT02"},null,{"$f":"[1]IDFUNÇÃO!F182","v":"OCUPADA"}]
[null,{"$f":"[1]IDFUNÇÃO!B183","v":"Assistente"},{"$f":"[1]IDFUNÇÃO!C183","v":"FCPE 102.2"},{"$f":"[1]IDFUNÇÃO!D183","v":"ASSINT03"},null,{"$f":"[1]IDFUNÇÃO!F183","v":"OCUPADA"}]
[null,{"$f":"[1]IDFUNÇÃO!B184","v":"Assitente"},{"$f":"[1]IDFUNÇÃO!C184","v":"DAS 102.2"},{"$f":"[1]IDFUNÇÃO!D184","v":"ASSINT04"},null,{"$f":"[1]IDFUNÇÃO!F184","v":"OCUPADA"}]
[]
[{"$f":"[1]IDFUNÇÃO!A186","v":"ASSESSORIA ESPECIAL DE CONTROLE INTERNO"},{"$f":"[1]IDFUNÇÃO!B186","v":"Chefe da Assessoria Especial "},{"$f":"[1]IDFUNÇÃO!C186","v":"DAS 101.5"},{"$f":"[1]IDFUNÇÃO!D186","v":"AECI01"},{"$f":"[1]IDFUNÇÃO!E186","v":"AECI01S"},{"$f":"[1]IDFUNÇÃO!F186","v":"OCUPADA"},{"$f":"[1]IDFUNÇÃO!G186","v":"OCUPADA"}]
[null,{"$f":"[1]IDFUNÇÃO!B187","v":"Assessor"},{"$f":"[1]IDFUNÇÃO!C187","v":"FCPE 102.4"},{"$f":"[1]IDFUNÇÃO!D187","v":"AECI02"},null,{"$f":"[1]IDFUNÇÃO!F187","v":"OCUPADA"}]
[null,{"$f":"[1]IDFUNÇÃO!B188","v":"Assintente"},{"$f":"[1]IDFUNÇÃO!C188","v":"FCPE 102.2"},{"$f":"[1]IDFUNÇÃO!D188","v":"AECI03"},null,{"$f":"[1]IDFUNÇÃO!F188","v":"OCUPADA"}]
[]
[{"$f":"[1]IDFUNÇÃO!A190","v":"ASSESSORIA ESPECIAL DE ACOMPANHAMENTO DE POLÍTICAS, ESTRATÉGIAS E DESEMPENHO SETORIAIS"},{"$f":"[1]IDFUNÇÃO!B190","v":"Chefe da Assessoria Especial "},{"$f":"[1]IDFUNÇÃO!C190","v":"DAS 101.5"},{"$f":"[1]IDFUNÇÃO!D190","v":"AEPED01"},{"$f":"[1]IDFUNÇÃO!E190","v":"AEPED01S"},{"$f":"[1]IDFUNÇÃO!F190","v":"OCUPADA"},{"$f":"[1]IDFUNÇÃO!G190","v":"OCUPADA"}]
[null,{"$f":"[1]IDFUNÇÃO!B191","v":"Assessor"},{"$f":"[1]IDFUNÇÃO!C191","v":"DAS 102.4"},{"$f":"[1]IDFUNÇÃO!D191","v":"AEPED02"},null,{"$f":"[1]IDFUNÇÃO!F191","v":"OCUPADA"}]
[null,{"$f":"[1]IDFUNÇÃO!B192","v":"Assessor"},{"$f":"[1]IDFUNÇÃO!C192","v":"FCPE 102.4"},{"$f":"[1]IDFUNÇÃO!D192","v":"AEPED03"},null,{"$f":"[1]IDFUNÇÃO!F192","v":"OCUPADA"}]
[null,{"$f":"[1]IDFUNÇÃO!B193","v":"Assessor Técnico"},{"$f":"[1]IDFUNÇÃO!C193","v":"DAS 102.3"},{"$f":"[1]IDFUNÇÃO!D193","v":"AEPED04"},null,{"$f":"[1]IDFUNÇÃO!F193","v":"OCUPADA"}]
[]
[{"$f":"[1]IDFUNÇÃO!A195","v":"SECRETARIA DE PLANEJAMENTO E DESENVOLVIMENTO ENERGÉTICO"},{"$f":"[1]IDFUNÇÃO!B195","v":"Secretário"},{"$f":"[1]IDFUNÇÃO!C195","v":"DAS 101.6"},{"$f":"[1]IDFUNÇÃO!D195","v":"SPE01"},{"$f":"[1]IDFUNÇÃO!E195","v":"SPE01S"},{"$f":"[1]IDFUNÇÃO!F195","v":"VAZIA"},{"$f":"[1]IDFUNÇÃO!G195","v":"OCUPADA"}]
[null,{"$f":"[1]IDFUNÇÃO!B196","v":"Secretário-Adjunto"},{"$f":"[1]IDFUNÇÃO!C196","v":"DAS 101.5"},{"$f":"[1]IDFUNÇÃO!D196","v":"SPE02"},{"$f":"[1]IDFUNÇÃO!E196","v":"SPE02S"},{"$f":"[1]IDFUNÇÃO!F196","v":"OCUPADA"},{"$f":"[1]IDFUNÇÃO!G196","v":"VAZIA"}]
[null,{"$f":"[1]IDFUNÇÃO!B197","v":"Assessor"},{"$f":"[1]IDFUNÇÃO!C197","v":"DAS 102.4"},{"$f":"[1]IDFUNÇÃO!D197","v":"SPE03"},null,{"$f":"[1]IDFUNÇÃO!F197","v":"OCUPADA"}]
[null,{"$f":"[1]IDFUNÇÃO!B198","v":"Assessor"},{"$f":"[1]IDFUNÇÃO!C198","v":"DAS 102.4"},{"$f":"[1]IDFUNÇÃO!D198","v":"SPE04"},null,{"$f":"[1]IDFUNÇÃO!F198","v":"OCUPADA"}]
[null,{"$f":"[1]IDFUNÇÃO!B199","v":"Assessor Técnico"},{"$f":"[1]IDFUNÇÃO!C199","v":"FCPE 102.3"},{"$f":"[1]IDFUNÇÃO!D199","v":"SPE05"},null,{"$f":"[1]IDFUNÇÃO!F199","v":"OCUPADA"}]
[null,{"$f":"[1]IDFUNÇÃO!B200","v":"Assistente"},{"$f":"[1]IDFUNÇÃO!C200","v":"DAS 102.2"},{"$f":"[1]IDFUNÇÃO!D200","v":"SPE06"},null,{"$f":"[1]IDFUNÇÃO!F200","v":"OCUPADA"}]
[null,{"$f":"[1]IDFUNÇÃO!B201","v":"Assistente"},{"$f":"[1]IDFUNÇÃO!C201","v":"DAS 102.2"},{"$f":"[1]IDFUNÇÃO!D201","v":"SPE07"},null,{"$f":"[1]IDFUNÇÃO!F201","v":"OCUPADA"}]
[null,{"$f":"[1]IDFUNÇÃO!B202","v":"Assistente"},{"$f":"[1]IDFUNÇÃO!C202","v":"DAS 102.2"},{"$f":"[1]IDFUNÇÃO!D202","v":"SPE08"},null,{"$f":"[1]IDFUNÇÃO!F202","v":"OCUPADA"}]
[{"$f":"[1]IDFUNÇÃO!A203","v":"Departamento de Planejamento Energético"},{"$f":"[1]IDFUNÇÃO!B203","v":"Diretor"},{"$f":"[1]IDFUNÇÃO!C203","v":"DAS 101.5"},{"$f":"[1]IDFUNÇÃO!D203","v":"SPE09"},{"$f":"[1]IDFUNÇÃO!E203","v":"SPE03S"},{"$f":"[1]IDFUNÇÃO!F203","v":"OCUPADA"},{"$f":"[1]IDFUNÇÃO!G203","v":"VAZIA"}]
[null,{"$f":"[1]IDFUNÇÃO!B204","v":"Assessor"},{"$f":"[1]IDFUNÇÃO!C204","v":"DAS 102.4"},{"$f":"[1]IDFUNÇÃO!D204","v":"SPE10"},null,{"$f":"[1]IDFUNÇÃO!F204","v":"OCUPADA"}]
[null,{"$f":"[1]IDFUNÇÃO!B205","v":"Assessor Técnico"},{"$f":"[1]IDFUNÇÃO!C205","v":"DAS 102.3"},{"$f":"[1]IDFUNÇÃO!D205","v":"SPE11"},null,{"$f":"[1]IDFUNÇÃO!F205","v":"OCUPADA"}]
[null,{"$f":"[1]IDFUNÇÃO!B206","v":"Assistente"},{"$f":"[1]IDFUNÇÃO!C206","v":"FCPE 102.2"},{"$f":"[1]IDFUNÇÃO!D206","v":"SPE12"},null,{"$f":"[1]IDFUNÇÃO!F206","v":"OCUPADA"}]
[{"$f":"[1]IDFUNÇÃO!A207","v":"Coordenação-Geral de Planejamento da Transmissão"},{"$f":"[1]IDFUNÇÃO!B207","v":"Coordenador-Geral"},{"$f":"[1]IDFUNÇÃO!C207","v":"DAS 101.4"},{"$f":"[1]IDFUNÇÃO!D207","v":"SPE13"},{"$f":"[1]IDFUNÇÃO!E207","v":"SPE04S"},{"$f":"[1]IDFUNÇÃO!F207","v":"OCUPADA"},{"$f":"[1]IDFUNÇÃO!G207","v":"OCUPADA"}]
[{"$f":"[1]IDFUNÇÃO!A208","v":"Coordenação-Geral de Planejamento da Geração"},{"$f":"[1]IDFUNÇÃO!B208","v":"Coordenador-Geral"},{"$f":"[1]IDFUNÇÃO!C208","v":"DAS 101.4"},{"$f":"[1]IDFUNÇÃO!D208","v":"SPE14"},{"$f":"[1]IDFUNÇÃO!E208","v":"SPE05S"},{"$f":"[1]IDFUNÇÃO!F208","v":"OCUPADA"},{"$f":"[1]IDFUNÇÃO!G208","v":"OCUPADA"}]
[{"$f":"[1]IDFUNÇÃO!A209","v":"Coordenação-Geral da Expansão Eletroenergética"},{"$f":"[1]IDFUNÇÃO!B209","v":"Coordenador-Geral"},{"$f":"[1]IDFUNÇÃO!C209","v":"DAS 101.4"},{"$f":"[1]IDFUNÇÃO!D209","v":"SPE15"},{"$f":"[1]IDFUNÇÃO!E209","v":"SPE06S"},{"$f":"[1]IDFUNÇÃO!F209","v":"OCUPADA"},{"$f":"[1]IDFUNÇÃO!G209","v":"OCUPADA"}]
[{"$f":"[1]IDFUNÇÃO!A210","v":"Departamento de Desenvolvimento Energético"},{"$f":"[1]IDFUNÇÃO!B210","v":"Diretor"},{"$f":"[1]IDFUNÇÃO!C210","v":"DAS 101.5"},{"$f":"[1]IDFUNÇÃO!D210","v":"SPE16"},{"$f":"[1]IDFUNÇÃO!E210","v":"SPE07S"},{"$f":"[1]IDFUNÇÃO!F210","v":"OCUPADA"},{"$f":"[1]IDFUNÇÃO!G210","v":"OCUPADA"}]
[null,{"$f":"[1]IDFUNÇÃO!B211","v":"Assistente"},{"$f":"[1]IDFUNÇÃO!C211","v":"DAS 102.2"},{"$f":"[1]IDFUNÇÃO!D211","v":"SPE17"},null,{"$f":"[1]IDFUNÇÃO!F211","v":"OCUPADA"}]
[null,{"$f":"[1]IDFUNÇÃO!B212","v":"Assistente"},{"$f":"[1]IDFUNÇÃO!C212","v":"FCPE 102.2"},{"$f":"[1]IDFUNÇÃO!D212","v":"SPE18"},null,{"$f":"[1]IDFUNÇÃO!F212","v":"OCUPADA"}]
[{"$f":"[1]IDFUNÇÃO!A213","v":"Coordenação-Geral de Eficiência Energética"},{"$f":"[1]IDFUNÇÃO!B213","v":"Coordenador-Geral"},{"$f":"[1]IDFUNÇÃO!C213","v":"DAS 101.4"},{"$f":"[1]IDFUNÇÃO!D213","v":"SPE19"},{"$f":"[1]IDFUNÇÃO!E213","v":"SPE08S"},{"$f":"[1]IDFUNÇÃO!F213","v":"OCUPADA"},{"$f":"[1]IDFUNÇÃO!G213","v":"OCUPADA"}]
[{"$f":"[1]IDFUNÇÃO!A214","v":"Coordenação-Geral Sustentabilidade Ambiental do Setor Energético"},{"$f":"[1]IDFUNÇÃO!B214","v":"Coordenador-Geral"},{"$f":"[1]IDFUNÇÃO!C214","v":"FCPE 101.4"},{"$f":"[1]IDFUNÇÃO!D214","v":"SPE20"},{"$f":"[1]IDFUNÇÃO!E214","v":"SPE09S"},{"$f":"[1]IDFUNÇÃO!F214","v":"OCUPADA"},{"$f":"[1]IDFUNÇÃO!G214","v":"OCUPADA"}]
[{"$f":"[1]IDFUNÇÃO!A215","v":"Coordenação-Geral de Fontes Alternativas"},{"$f":"[1]IDFUNÇÃO!B215","v":"Coordenador-Geral"},{"$f":"[1]IDFUNÇÃO!C215","v":"DAS 101.4"},{"$f":"[1]IDFUNÇÃO!D215","v":"SPE21"},{"$f":"[1]IDFUNÇÃO!E215","v":"SPE10S"},{"$f":"[1]IDFUNÇÃO!F215","v":"OCUPADA"},{"$f":"[1]IDFUNÇÃO!G215","v":"VAZIA"}]
[{"$f":"[1]IDFUNÇÃO!A216","v":"Departamento de Outorgas de Concessões, Permissões e Autorizações"},{"$f":"[1]IDFUNÇÃO!B216","v":"Diretor"},{"$f":"[1]IDFUNÇÃO!C216","v":"DAS 101.5"},{"$f":"[1]IDFUNÇÃO!D216","v":"SPE22"},{"$f":"[1]IDFUNÇÃO!E216","v":"SPE11S"},{"$f":"[1]IDFUNÇÃO!F216","v":"OCUPADA"},{"$f":"[1]IDFUNÇÃO!G216","v":"OCUPADA"}]
[null,{"$f":"[1]IDFUNÇÃO!B217","v":"Assistente"},{"$f":"[1]IDFUNÇÃO!C217","v":"DAS 102.2"},{"$f":"[1]IDFUNÇÃO!D217","v":"SPE23"},null,{"$f":"[1]IDFUNÇÃO!F217","v":"OCUPADA"}]
[null,{"$f":"[1]IDFUNÇÃO!B218","v":"Assistente"},{"$f":"[1]IDFUNÇÃO!C218","v":"FCPE 102.2"},{"$f":"[1]IDFUNÇÃO!D218","v":"SPE24"},null,{"$f":"[1]IDFUNÇÃO!F218","v":"OCUPADA"}]
[{"$f":"[1]IDFUNÇÃO!A219","v":"Coordenação-Geral de Outorgas de Geração de Energia Elétrica"},{"$f":"[1]IDFUNÇÃO!B219","v":"Coordenador-Geral"},{"$f":"[1]IDFUNÇÃO!C219","v":"DAS 101.4"},{"$f":"[1]IDFUNÇÃO!D219","v":"SPE25"},{"$f":"[1]IDFUNÇÃO!E219","v":"SPE12S"},{"$f":"[1]IDFUNÇÃO!F219","v":"OCUPADA"},{"$f":"[1]IDFUNÇÃO!G219","v":"OCUPADA"}]
[{"$f":"[1]IDFUNÇÃO!A220","v":"Coordenação-Geral de Outorgas de Serviços de Transmissão e Distribuição de Energia Elétrica"},{"$f":"[1]IDFUNÇÃO!B220","v":"Coordenador-Geral"},{"$f":"[1]IDFUNÇÃO!C220","v":"DAS 101.4"},{"$f":"[1]IDFUNÇÃO!D220","v":"SPE26"},{"$f":"[1]IDFUNÇÃO!E220","v":"SPE13S"},{"$f":"[1]IDFUNÇÃO!F220","v":"OCUPADA"},{"$f":"[1]IDFUNÇÃO!G220","v":"OCUPADA"}]
[{"$f":"[1]IDFUNÇÃO!A221","v":"Departamento de Informações e Estudos Energéticos"},{"$f":"[1]IDFUNÇÃO!B221","v":"Diretor"},{"$f":"[1]IDFUNÇÃO!C221","v":"DAS 101.5"},{"$f":"[1]IDFUNÇÃO!D221","v":"SPE27"},{"$f":"[1]IDFUNÇÃO!E221","v":"SPE14S"},{"$f":"[1]IDFUNÇÃO!F221","v":"OCUPADA"},{"$f":"[1]IDFUNÇÃO!G221","v":"OCUPADA"}]
[null,{"$f":"[1]IDFUNÇÃO!B222","v":"Assistente"},{"$f":"[1]IDFUNÇÃO!C222","v":"DAS 102.2"},{"$f":"[1]IDFUNÇÃO!D222","v":"SPE28"},null,{"$f":"[1]IDFUNÇÃO!F222","v":"OCUPADA"}]
[{"$f":"[1]IDFUNÇÃO!A223","v":"Coordenação-Geral de Informações Energéticas"},{"$f":"[1]IDFUNÇÃO!B223","v":"Coordenador-Geral"},{"$f":"[1]IDFUNÇÃO!C223","v":"DAS 101.4"},{"$f":"[1]IDFUNÇÃO!D223","v":"SPE29"},{"$f":"[1]IDFUNÇÃO!E223","v":"SPE15S"},{"$f":"[1]IDFUNÇÃO!F223","v":"OCUPADA"},{"$f":"[1]IDFUNÇÃO!G223","v":"VAZIA"}]
[null,{"$f":"[1]IDFUNÇÃO!B224","v":"Assessor Técnico"},{"$f":"[1]IDFUNÇÃO!C224","v":"DAS 102.3"},{"$f":"[1]IDFUNÇÃO!D224","v":"SPE30"},null,{"$f":"[1]IDFUNÇÃO!F224","v":"OCUPADA"}]
[]
[{"$f":"[1]IDFUNÇÃO!A226","v":"SECRETARIA DE ENERGIA ELÉTRICA"},{"$f":"[1]IDFUNÇÃO!B226","v":"Secretário"},{"$f":"[1]IDFUNÇÃO!C226","v":"DAS 101.6"},{"$f":"[1]IDFUNÇÃO!D226","v":"SEE01"},{"$f":"[1]IDFUNÇÃO!E226","v":"SEE01S"},{"$f":"[1]IDFUNÇÃO!F226","v":"OCUPADA"},{"$f":"[1]IDFUNÇÃO!G226","v":"OCUPADA"}]
[null,{"$f":"[1]IDFUNÇÃO!B227","v":"Secretário-Adjunto"},{"$f":"[1]IDFUNÇÃO!C227","v":"DAS 101.5"},{"$f":"[1]IDFUNÇÃO!D227","v":"SEE02"},{"$f":"[1]IDFUNÇÃO!E227","v":"SEE02S"},{"$f":"[1]IDFUNÇÃO!F227","v":"OCUPADA"},{"$f":"[1]IDFUNÇÃO!G227","v":"OCUPADA"}]
[null,{"$f":"[1]IDFUNÇÃO!B228","v":"Diretor de Programa"},{"$f":"[1]IDFUNÇÃO!C228","v":"DAS 101.5"},{"$f":"[1]IDFUNÇÃO!D228","v":"SEE03"},{"$f":"[1]IDFUNÇÃO!E228","v":"SEE03S"},{"$f":"[1]IDFUNÇÃO!F228","v":"OCUPADA"},{"$f":"[1]IDFUNÇÃO!G228","v":"OCUPADA"}]
[null,{"$f":"[1]IDFUNÇÃO!B229","v":"Assessor"},{"$f":"[1]IDFUNÇÃO!C229","v":"DAS 102.4"},{"$f":"[1]IDFUNÇÃO!D229","v":"SEE04"},null,{"$f":"[1]IDFUNÇÃO!F229","v":"OCUPADA"}]
[null,{"$f":"[1]IDFUNÇÃO!B230","v":"Assessor Técnico"},{"$f":"[1]IDFUNÇÃO!C230","v":"FCPE 102.3"},{"$f":"[1]IDFUNÇÃO!D230","v":"SEE05"},null,{"$f":"[1]IDFUNÇÃO!F230","v":"OCUPADA"}]
[null,{"$f":"[1]IDFUNÇÃO!B231","v":"Assistente"},{"$f":"[1]IDFUNÇÃO!C231","v":"DAS 102.2"},{"$f":"[1]IDFUNÇÃO!D231","v":"SEE06"},null,{"$f":"[1]IDFUNÇÃO!F231","v":"OCUPADA"}]
[null,{"$f":"[1]IDFUNÇÃO!B232","v":"Assistente"},{"$f":"[1]IDFUNÇÃO!C232","v":"DAS 102.2"},{"$f":"[1]IDFUNÇÃO!D232","v":"SEE07"},null,{"$f":"[1]IDFUNÇÃO!F232","v":"OCUPADA"}]
[null,{"$f":"[1]IDFUNÇÃO!B233","v":"Assistente"},{"$f":"[1]IDFUNÇÃO!C233","v":"DAS 102.2"},{"$f":"[1]IDFUNÇÃO!D233","v":"SEE08"},null,{"$f":"[1]IDFUNÇÃO!F233","v":"OCUPADA"}]
[null,{"$f":"[1]IDFUNÇÃO!B234","v":"Assistente"},{"$f":"[1]IDFUNÇÃO!C234","v":"DAS 102.2"},{"$f":"[1]IDFUNÇÃO!D234","v":"SEE09"},null,{"$f":"[1]IDFUNÇÃO!F234","v":"OCUPADA"}]
[{"$f":"[1]IDFUNÇÃO!A235","v":"Departamento de Gestão do Setor Elétrico"},{"$f":"[1]IDFUNÇÃO!B235","v":"Diretor"},{"$f":"[1]IDFUNÇÃO!C235","v":"DAS 101.5"},{"$f":"[1]IDFUNÇÃO!D235","v":"SEE10"},{"$f":"[1]IDFUNÇÃO!E235","v":"SEE04S"},{"$f":"[1]IDFUNÇÃO!F235","v":"OCUPADA"},{"$f":"[1]IDFUNÇÃO!G235","v":"OCUPADA"}]
[null,{"$f":"[1]IDFUNÇÃO!B236","v":"Assistente"},{"$f":"[1]IDFUNÇÃO!C236","v":"DAS 102.2"},{"$f":"[1]IDFUNÇÃO!D236","v":"SEE11"},null,{"$f":"[1]IDFUNÇÃO!F236","v":"OCUPADA"}]
[{"$f":"[1]IDFUNÇÃO!A237","v":"Coordenação-Geral de Gestão da Comercialização de Energia"},{"$f":"[1]IDFUNÇÃO!B237","v":"Coordenador-Geral"},{"$f":"[1]IDFUNÇÃO!C237","v":"DAS 101.4"},{"$f":"[1]IDFUNÇÃO!D237","v":"SEE12"},{"$f":"[1]IDFUNÇÃO!E237","v":"SEE05S"},{"$f":"[1]IDFUNÇÃO!F237","v":"OCUPADA"},{"$f":"[1]IDFUNÇÃO!G237","v":"OCUPADA"}]
[null,{"$f":"[1]IDFUNÇÃO!B238","v":"Assistente"},{"$f":"[1]IDFUNÇÃO!C238","v":"DAS 102.2"},{"$f":"[1]IDFUNÇÃO!D238","v":"SEE13"},null,{"$f":"[1]IDFUNÇÃO!F238","v":"OCUPADA"}]
[{"$f":"[1]IDFUNÇÃO!A239","v":"Coordenação-Geral Gestão de Programas e Regulamentação"},{"$f":"[1]IDFUNÇÃO!B239","v":"Coordenador-Geral"},{"$f":"[1]IDFUNÇÃO!C239","v":"DAS 101.4"},{"$f":"[1]IDFUNÇÃO!D239","v":"SEE14"},{"$f":"[1]IDFUNÇÃO!E239","v":"SEE06S"},{"$f":"[1]IDFUNÇÃO!F239","v":"OCUPADA"},{"$f":"[1]IDFUNÇÃO!G239","v":"VAZIA"}]
[null,{"$f":"[1]IDFUNÇÃO!B240","v":"Assessor Técnico"},{"$f":"[1]IDFUNÇÃO!C240","v":"FCPE 102.3"},{"$f":"[1]IDFUNÇÃO!D240","v":"SEE15"},null,{"$f":"[1]IDFUNÇÃO!F240","v":"OCUPADA"}]
[{"$f":"[1]IDFUNÇÃO!A241","v":"Departamento de Monitoramento do Sistema Elétrico"},{"$f":"[1]IDFUNÇÃO!B241","v":"Diretor"},{"$f":"[1]IDFUNÇÃO!C241","v":"DAS 101.5"},{"$f":"[1]IDFUNÇÃO!D241","v":"SEE16"},{"$f":"[1]IDFUNÇÃO!E241","v":"SEE07S"},{"$f":"[1]IDFUNÇÃO!F241","v":"OCUPADA"},{"$f":"[1]IDFUNÇÃO!G241","v":"OCUPADA"}]
[null,{"$f":"[1]IDFUNÇÃO!B242","v":"Assistente"},{"$f":"[1]IDFUNÇÃO!C242","v":"DAS 102.2"},{"$f":"[1]IDFUNÇÃO!D242","v":"SEE17"},null,{"$f":"[1]IDFUNÇÃO!F242","v":"OCUPADA"}]
[null,{"$f":"[1]IDFUNÇÃO!B243","v":"Assistente"},{"$f":"[1]IDFUNÇÃO!C243","v":"DAS 102.2"},{"$f":"[1]IDFUNÇÃO!D243","v":"SEE18"},null,{"$f":"[1]IDFUNÇÃO!F243","v":"OCUPADA"}]
[{"$f":"[1]IDFUNÇÃO!A244","v":"Coordenação-Geral de Monitoramento da Expansão da Geração"},{"$f":"[1]IDFUNÇÃO!B244","v":"Coordenador-Geral"},{"$f":"[1]IDFUNÇÃO!C244","v":"DAS 101.4"},{"$f":"[1]IDFUNÇÃO!D244","v":"SEE19"},{"$f":"[1]IDFUNÇÃO!E244","v":"SEE08S"},{"$f":"[1]IDFUNÇÃO!F244","v":"OCUPADA"},{"$f":"[1]IDFUNÇÃO!G244","v":"OCUPADA"}]
[null,{"$f":"[1]IDFUNÇÃO!B245","v":"Gerente de Projeto"},{"$f":"[1]IDFUNÇÃO!C245","v":"DAS 101.4"},{"$f":"[1]IDFUNÇÃO!D245","v":"SEE20"},{"$f":"[1]IDFUNÇÃO!E245","v":"SEE09S"},{"$f":"[1]IDFUNÇÃO!F245","v":"OCUPADA"},{"$f":"[1]IDFUNÇÃO!G245","v":"VAZIA"}]
[null,{"$f":"[1]IDFUNÇÃO!B246","v":"Assistente"},{"$f":"[1]IDFUNÇÃO!C246","v":"DAS 102.2"},{"$f":"[1]IDFUNÇÃO!D246","v":"SEE21"},null,{"$f":"[1]IDFUNÇÃO!F246","v":"OCUPADA"}]
[{"$f":"[1]IDFUNÇÃO!A247","v":"Coordenação-Geral de Monitoramento da Expansão da Transmissão "},{"$f":"[1]IDFUNÇÃO!B247","v":"Coordenador-Geral"},{"$f":"[1]IDFUNÇÃO!C247","v":" FCPE 101.4"},{"$f":"[1]IDFUNÇÃO!D247","v":"SEE22"},{"$f":"[1]IDFUNÇÃO!E247","v":"SEE10S"},{"$f":"[1]IDFUNÇÃO!F247","v":"OCUPADA"},{"$f":"[1]IDFUNÇÃO!G247","v":"OCUPADA"}]
[null,{"$f":"[1]IDFUNÇÃO!B248","v":"Assessor Técnico"},{"$f":"[1]IDFUNÇÃO!C248","v":"DAS 102.3"},{"$f":"[1]IDFUNÇÃO!D248","v":"SEE23"},null,{"$f":"[1]IDFUNÇÃO!F248","v":"OCUPADA"}]
[{"$f":"[1]IDFUNÇÃO!A249","v":"Coordenação-Geral de Monitoramento da Distribuição"},{"$f":"[1]IDFUNÇÃO!B249","v":"Coordenador-Geral"},{"$f":"[1]IDFUNÇÃO!C249","v":"DAS 101.4"},{"$f":"[1]IDFUNÇÃO!D249","v":"SEE24"},{"$f":"[1]IDFUNÇÃO!E249","v":"SEE11S"},{"$f":"[1]IDFUNÇÃO!F249","v":"OCUPADA"},{"$f":"[1]IDFUNÇÃO!G249","v":"OCUPADA"}]
[{"$f":"[1]IDFUNÇÃO!A250","v":"Coordenação-Geral Monitoramento do Desempenho do Sistema Elétrico"},{"$f":"[1]IDFUNÇÃO!B250","v":"Coordenador-Geral"},{"$f":"[1]IDFUNÇÃO!C250","v":"  FCPE 101.4"},{"$f":"[1]IDFUNÇÃO!D250","v":"SEE25"},{"$f":"[1]IDFUNÇÃO!E250","v":"SEE12S"},{"$f":"[1]IDFUNÇÃO!F250","v":"OCUPADA"},{"$f":"[1]IDFUNÇÃO!G250","v":"OCUPADA"}]
[null,{"$f":"[1]IDFUNÇÃO!B251","v":"Gerente de Projeto"},{"$f":"[1]IDFUNÇÃO!C251","v":"DAS 101.4"},{"$f":"[1]IDFUNÇÃO!D251","v":"SEE26"},{"$f":"[1]IDFUNÇÃO!E251","v":"SEE13S"},{"$f":"[1]IDFUNÇÃO!F251","v":"OCUPADA"},{"$f":"[1]IDFUNÇÃO!G251","v":"VAZIA"}]
[{"$f":"[1]IDFUNÇÃO!A252","v":"Departamento de Políticas Sociais e Universalização do Acesso à Energia"},{"$f":"[1]IDFUNÇÃO!B252","v":"Diretor"},{"$f":"[1]IDFUNÇÃO!C252","v":"DAS 101.5"},{"$f":"[1]IDFUNÇÃO!D252","v":"SEE27"},{"$f":"[1]IDFUNÇÃO!E252","v":"SEE14S"},{"$f":"[1]IDFUNÇÃO!F252","v":"OCUPADA"},{"$f":"[1]IDFUNÇÃO!G252","v":"OCUPADA"}]
[null,{"$f":"[1]IDFUNÇÃO!B253","v":"Assistente"},{"$f":"[1]IDFUNÇÃO!C253","v":"DAS 102.2"},{"$f":"[1]IDFUNÇÃO!D253","v":"SEE28"},null,{"$f":"[1]IDFUNÇÃO!F253","v":"VAZIA"}]
[{"$f":"[1]IDFUNÇÃO!A254","v":"Coordenação-Geral de Desenvolvimento de Políticas Sociais"},{"$f":"[1]IDFUNÇÃO!B254","v":"Coordenador-Geral"},{"$f":"[1]IDFUNÇÃO!C254","v":"DAS 101.4"},{"$f":"[1]IDFUNÇÃO!D254","v":"SEE29"},{"$f":"[1]IDFUNÇÃO!E254","v":"SEE15S"},{"$f":"[1]IDFUNÇÃO!F254","v":"OCUPADA"},{"$f":"[1]IDFUNÇÃO!G254","v":"OCUPADA"}]
[{"$f":"[1]IDFUNÇÃO!A255","v":"Coordenação-Geral de Universalização do Acesso à Energia"},{"$f":"[1]IDFUNÇÃO!B255","v":"Coordenador-Geral"},{"$f":"[1]IDFUNÇÃO!C255","v":"DAS 101.4"},{"$f":"[1]IDFUNÇÃO!D255","v":"SEE30"},{"$f":"[1]IDFUNÇÃO!E255","v":"SEE16S"},{"$f":"[1]IDFUNÇÃO!F255","v":"OCUPADA"},{"$f":"[1]IDFUNÇÃO!G255","v":"OCUPADA"}]
[null,{"$f":"[1]IDFUNÇÃO!B256","v":"Assessor Técnico"},{"$f":"[1]IDFUNÇÃO!C256","v":"DAS 102.3"},{"$f":"[1]IDFUNÇÃO!D256","v":"SEE31"},null,{"$f":"[1]IDFUNÇÃO!F256","v":"OCUPADA"}]
[null,{"$f":"[1]IDFUNÇÃO!B257","v":"Assistente"},{"$f":"[1]IDFUNÇÃO!C257","v":"DAS 102.2"},{"$f":"[1]IDFUNÇÃO!D257","v":"SEE32"},null,{"$f":"[1]IDFUNÇÃO!F257","v":"OCUPADA"}]
[]
[{"$f":"[1]IDFUNÇÃO!A259","v":"SECRETARIA DE PETRÓLEO, GÁS NATURAL E BIOCOMBUSTÍVEIS"},{"$f":"[1]IDFUNÇÃO!B259","v":"Secretário"},{"$f":"[1]IDFUNÇÃO!C259","v":"DAS 101.6"},{"$f":"[1]IDFUNÇÃO!D259","v":"SPG01"},{"$f":"[1]IDFUNÇÃO!E259","v":"SPG01S"},{"$f":"[1]IDFUNÇÃO!F259","v":"OCUPADA"},{"$f":"[1]IDFUNÇÃO!G259","v":"OCUPADA"}]
[null,{"$f":"[1]IDFUNÇÃO!B260","v":"Secretário-Adjunto"},{"$f":"[1]IDFUNÇÃO!C260","v":"DAS 101.5"},{"$f":"[1]IDFUNÇÃO!D260","v":"SPG02"},{"$f":"[1]IDFUNÇÃO!E260","v":"SPG02S"},{"$f":"[1]IDFUNÇÃO!F260","v":"OCUPADA"},{"$f":"[1]IDFUNÇÃO!G260","v":"VAZIA"}]
[null,{"$f":"[1]IDFUNÇÃO!B261","v":"Assessor"},{"$f":"[1]IDFUNÇÃO!C261","v":"DAS 102.4"},{"$f":"[1]IDFUNÇÃO!D261","v":"SPG03"},null,{"$f":"[1]IDFUNÇÃO!F261","v":"OCUPADA"}]
[null,{"$f":"[1]IDFUNÇÃO!B262","v":"Assessor"},{"$f":"[1]IDFUNÇÃO!C262","v":"DAS 102.4"},{"$f":"[1]IDFUNÇÃO!D262","v":"SPG04"},null,{"$f":"[1]IDFUNÇÃO!F262","v":"OCUPADA"}]
[null,{"$f":"[1]IDFUNÇÃO!B263","v":"Assessor Técnico"},{"$f":"[1]IDFUNÇÃO!C263","v":"DAS 102.3"},{"$f":"[1]IDFUNÇÃO!D263","v":"SPG05"},null,{"$f":"[1]IDFUNÇÃO!F263","v":"OCUPADA"}]
[null,{"$f":"[1]IDFUNÇÃO!B264","v":"Assistente"},{"$f":"[1]IDFUNÇÃO!C264","v":"DAS 102.2"},{"$f":"[1]IDFUNÇÃO!D264","v":"SPG06"},null,{"$f":"[1]IDFUNÇÃO!F264","v":"OCUPADA"}]
[null,{"$f":"[1]IDFUNÇÃO!B265","v":"Assistente"},{"$f":"[1]IDFUNÇÃO!C265","v":"DAS 102.2"},{"$f":"[1]IDFUNÇÃO!D265","v":"SPG07"},null,{"$f":"[1]IDFUNÇÃO!F265","v":"OCUPADA"}]
[null,{"$f":"[1]IDFUNÇÃO!B266","v":"Assistente Técnico"},{"$f":"[1]IDFUNÇÃO!C266","v":"DAS 102.1"},{"$f":"[1]IDFUNÇÃO!D266","v":"SPG08"},null,{"$f":"[1]IDFUNÇÃO!F266","v":"VAZIA"}]
[{"$f":"[1]IDFUNÇÃO!A267","v":"Departamento de Política de Exploração e Produção de Petróleo e Gás Natural"},{"$f":"[1]IDFUNÇÃO!B267","v":"Diretor"},{"$f":"[1]IDFUNÇÃO!C267","v":"DAS 101.5"},{"$f":"[1]IDFUNÇÃO!D267","v":"SPG09"},{"$f":"[1]IDFUNÇÃO!E267","v":"SPG03S"},{"$f":"[1]IDFUNÇÃO!F267","v":"OCUPADA"},{"$f":"[1]IDFUNÇÃO!G267","v":"OCUPADA"}]
[null,{"$f":"[1]IDFUNÇÃO!B268","v":"Gerente de Projeto"},{"$f":"[1]IDFUNÇÃO!C268","v":"DAS 101.4"},{"$f":"[1]IDFUNÇÃO!D268","v":"SPG10"},{"$f":"[1]IDFUNÇÃO!E268","v":"SPG04S"},{"$f":"[1]IDFUNÇÃO!F268","v":"OCUPADA"},{"$f":"[1]IDFUNÇÃO!G268","v":"OCUPADA"}]
[null,{"$f":"[1]IDFUNÇÃO!B269","v":"Assistente"},{"$f":"[1]IDFUNÇÃO!C269","v":"FCPE 102.2"},{"$f":"[1]IDFUNÇÃO!D269","v":"SPG11"},null,{"$f":"[1]IDFUNÇÃO!F269","v":"OCUPADA"}]
[{"$f":"[1]IDFUNÇÃO!A270","v":"Coordenação-Geral de Reserva, Exploração e Produção de Petróleo e Gás Natural"},{"$f":"[1]IDFUNÇÃO!B270","v":"Coordenador-Geral"},{"$f":"[1]IDFUNÇÃO!C270","v":"DAS 101.4"},{"$f":"[1]IDFUNÇÃO!D270","v":"SPG12"},{"$f":"[1]IDFUNÇÃO!E270","v":"SPG05S"},{"$f":"[1]IDFUNÇÃO!F270","v":"OCUPADA"},{"$f":"[1]IDFUNÇÃO!G270","v":"OCUPADA"}]
[{"$f":"[1]IDFUNÇÃO!A271","v":"Coordenação-Geral de Política de Concessão de Blocos Exploratórios"},{"$f":"[1]IDFUNÇÃO!B271","v":"Coordenador-Geral"},{"$f":"[1]IDFUNÇÃO!C271","v":"DAS 101.4"},{"$f":"[1]IDFUNÇÃO!D271","v":"SPG13"},{"$f":"[1]IDFUNÇÃO!E271","v":"SPG06S"},{"$f":"[1]IDFUNÇÃO!F271","v":"OCUPADA"},{"$f":"[1]IDFUNÇÃO!G271","v":"OCUPADA"}]
[{"$f":"[1]IDFUNÇÃO!A272","v":"Departamento de Gás Natural"},{"$f":"[1]IDFUNÇÃO!B272","v":"Diretor"},{"$f":"[1]IDFUNÇÃO!C272","v":"DAS 101.5"},{"$f":"[1]IDFUNÇÃO!D272","v":"SPG14"},{"$f":"[1]IDFUNÇÃO!E272","v":"SPG07S"},{"$f":"[1]IDFUNÇÃO!F272","v":"OCUPADA"},{"$f":"[1]IDFUNÇÃO!G272","v":"OCUPADA"}]
[null,{"$f":"[1]IDFUNÇÃO!B273","v":"Gerente de Projeto"},{"$f":"[1]IDFUNÇÃO!C273","v":"DAS 101.4"},{"$f":"[1]IDFUNÇÃO!D273","v":"SPG15"},{"$f":"[1]IDFUNÇÃO!E273","v":"SPG08S"},{"$f":"[1]IDFUNÇÃO!F273","v":"OCUPADA"},{"$f":"[1]IDFUNÇÃO!G273","v":"OCUPADA"}]
[null,{"$f":"[1]IDFUNÇÃO!B274","v":"Assistente"},{"$f":"[1]IDFUNÇÃO!C274","v":"FCPE 102.2"},{"$f":"[1]IDFUNÇÃO!D274","v":"SPG16"},null,{"$f":"[1]IDFUNÇÃO!F274","v":"OCUPADA"}]
[{"$f":"[1]IDFUNÇÃO!A275","v":"Coordenação-Geral de Acompanhamento, Desenvolvimento de Mercado e Produção"},{"$f":"[1]IDFUNÇÃO!B275","v":"Coordenador-Geral"},{"$f":"[1]IDFUNÇÃO!C275","v":"DAS 101.4"},{"$f":"[1]IDFUNÇÃO!D275","v":"SPG17"},{"$f":"[1]IDFUNÇÃO!E275","v":"SPG09S"},{"$f":"[1]IDFUNÇÃO!F275","v":"OCUPADA"},{"$f":"[1]IDFUNÇÃO!G275","v":"VAZIA"}]
[{"$f":"[1]IDFUNÇÃO!A276","v":"Coordenação-Geral de Processamento de Infraestrutura e Logística"},{"$f":"[1]IDFUNÇÃO!B276","v":"Coordenador-Geral"},{"$f":"[1]IDFUNÇÃO!C276","v":"DAS 101.4"},{"$f":"[1]IDFUNÇÃO!D276","v":"SPG18"},{"$f":"[1]IDFUNÇÃO!E276","v":"SPG10S"},{"$f":"[1]IDFUNÇÃO!F276","v":"OCUPADA"},{"$f":"[1]IDFUNÇÃO!G276","v":"VAZIA"}]
[{"$f":"[1]IDFUNÇÃO!A277","v":"Departamento de Combustíveis Derivados de Petróleo "},{"$f":"[1]IDFUNÇÃO!B277","v":"Diretor"},{"$f":"[1]IDFUNÇÃO!C277","v":"DAS 101.5"},{"$f":"[1]IDFUNÇÃO!D277","v":"SPG19"},{"$f":"[1]IDFUNÇÃO!E277","v":"SPG11S"},{"$f":"[1]IDFUNÇÃO!F277","v":"OCUPADA"},{"$f":"[1]IDFUNÇÃO!G277","v":"OCUPADA"}]
[null,{"$f":"[1]IDFUNÇÃO!B278","v":"Assistente"},{"$f":"[1]IDFUNÇÃO!C278","v":"FCPE 102.2"},{"$f":"[1]IDFUNÇÃO!D278","v":"SPG20"},null,{"$f":"[1]IDFUNÇÃO!F278","v":"OCUPADA"}]
[{"$f":"[1]IDFUNÇÃO!A279","v":"Coordenação-Geral de Acompanhamento do Mercado"},{"$f":"[1]IDFUNÇÃO!B279","v":"Coordenador-Geral"},{"$f":"[1]IDFUNÇÃO!C279","v":"DAS 101.4"},{"$f":"[1]IDFUNÇÃO!D279","v":"SPG21"},{"$f":"[1]IDFUNÇÃO!E279","v":"SPG12S"},{"$f":"[1]IDFUNÇÃO!F279","v":"OCUPADA"},{"$f":"[1]IDFUNÇÃO!G279","v":"VAZIA"}]
[{"$f":"[1]IDFUNÇÃO!A280","v":"Coordenação-Geral de Refino, Abastecimento e Infraestrutura"},{"$f":"[1]IDFUNÇÃO!B280","v":"Coordenador-Geral"},{"$f":"[1]IDFUNÇÃO!C280","v":"DAS 101.4"},{"$f":"[1]IDFUNÇÃO!D280","v":"SPG22"},{"$f":"[1]IDFUNÇÃO!E280","v":"SPG13S"},{"$f":"[1]IDFUNÇÃO!F280","v":"OCUPADA"},{"$f":"[1]IDFUNÇÃO!G280","v":"OCUPADA"}]
[{"$f":"[1]IDFUNÇÃO!A281","v":"Departamento de Biocombustíveis"},{"$f":"[1]IDFUNÇÃO!B281","v":"Diretor"},{"$f":"[1]IDFUNÇÃO!C281","v":"DAS 101.5"},{"$f":"[1]IDFUNÇÃO!D281","v":"SPG23"},{"$f":"[1]IDFUNÇÃO!E281","v":"SPG14S"},{"$f":"[1]IDFUNÇÃO!F281","v":"VAZIA"},{"$f":"[1]IDFUNÇÃO!G281","v":"OCUPADA"}]
[null,{"$f":"[1]IDFUNÇÃO!B282","v":"Assistente"},{"$f":"[1]IDFUNÇÃO!C282","v":"FCPE 102.2"},{"$f":"[1]IDFUNÇÃO!D282","v":"SPG24"},null,{"$f":"[1]IDFUNÇÃO!F282","v":"OCUPADA"}]
[{"$f":"[1]IDFUNÇÃO!A283","v":"Coordenação-Geral de Biodiesel e outros BIocombustíveis"},{"$f":"[1]IDFUNÇÃO!B283","v":"Coordenador-Geral"},{"$f":"[1]IDFUNÇÃO!C283","v":"DAS 101.4"},{"$f":"[1]IDFUNÇÃO!D283","v":"SPG25"},{"$f":"[1]IDFUNÇÃO!E283","v":"SPG15S"},{"$f":"[1]IDFUNÇÃO!F283","v":"OCUPADA"},{"$f":"[1]IDFUNÇÃO!G283","v":"OCUPADA"}]
[{"$f":"[1]IDFUNÇÃO!A284","v":"Coordenação-Geral de Etanol"},{"$f":"[1]IDFUNÇÃO!B284","v":"Coordenador-Geral"},{"$f":"[1]IDFUNÇÃO!C284","v":"DAS 101.4"},{"$f":"[1]IDFUNÇÃO!D284","v":"SPG26"},{"$f":"[1]IDFUNÇÃO!E284","v":"SPG16S"},{"$f":"[1]IDFUNÇÃO!F284","v":"OCUPADA"},{"$f":"[1]IDFUNÇÃO!G284","v":"OCUPADA"}]
[]
[{"$f":"[1]IDFUNÇÃO!A286","v":"SECRETARIA DE GEOLOGIA, MINERAÇÃO E TRANSFORMAÇÃO MINERAL"},{"$f":"[1]IDFUNÇÃO!B286","v":"Secretário"},{"$f":"[1]IDFUNÇÃO!C286","v":"DAS 101.6"},{"$f":"[1]IDFUNÇÃO!D286","v":"SGM01"},{"$f":"[1]IDFUNÇÃO!E286","v":"SGM01S"},{"$f":"[1]IDFUNÇÃO!F286","v":"OCUPADA"},{"$f":"[1]IDFUNÇÃO!G286","v":"OCUPADA"}]
[null,{"$f":"[1]IDFUNÇÃO!B287","v":"Secretário-Adjunto"},{"$f":"[1]IDFUNÇÃO!C287","v":"DAS 101.5"},{"$f":"[1]IDFUNÇÃO!D287","v":"SGM02"},{"$f":"[1]IDFUNÇÃO!E287","v":"SGM02S"},{"$f":"[1]IDFUNÇÃO!F287","v":"OCUPADA"},{"$f":"[1]IDFUNÇÃO!G287","v":"OCUPADA"}]
[null,{"$f":"[1]IDFUNÇÃO!B288","v":"Assessor Técnico"},{"$f":"[1]IDFUNÇÃO!C288","v":"DAS 102.3"},{"$f":"[1]IDFUNÇÃO!D288","v":"SGM03"},null,{"$f":"[1]IDFUNÇÃO!F288","v":"OCUPADA"}]
[null,{"$f":"[1]IDFUNÇÃO!B289","v":"Assessor Técnico"},{"$f":"[1]IDFUNÇÃO!C289","v":"FCPE 102.3"},{"$f":"[1]IDFUNÇÃO!D289","v":"SGM04"},null,{"$f":"[1]IDFUNÇÃO!F289","v":"OCUPADA"}]
[null,{"$f":"[1]IDFUNÇÃO!B290","v":"Assessor Técnico"},{"$f":"[1]IDFUNÇÃO!C290","v":"FCPE 102.3"},{"$f":"[1]IDFUNÇÃO!D290","v":"SGM05"},null,{"$f":"[1]IDFUNÇÃO!F290","v":"OCUPADA"}]
[null,{"$f":"[1]IDFUNÇÃO!B291","v":"Assistente"},{"$f":"[1]IDFUNÇÃO!C291","v":"DAS 102.2"},{"$f":"[1]IDFUNÇÃO!D291","v":"SGM06"},null,{"$f":"[1]IDFUNÇÃO!F291","v":"OCUPADA"}]
[null,{"$f":"[1]IDFUNÇÃO!B292","v":"Assistente Técnico"},{"$f":"[1]IDFUNÇÃO!C292","v":"DAS 102.1"},{"$f":"[1]IDFUNÇÃO!D292","v":"SGM07"},null,{"$f":"[1]IDFUNÇÃO!F292","v":"OCUPADA"}]
[{"$f":"[1]IDFUNÇÃO!A293","v":"Departamento de Gestão das Políticas de Geologia, Mineração e Transformação Mineral"},{"$f":"[1]IDFUNÇÃO!B293","v":"Diretor"},{"$f":"[1]IDFUNÇÃO!C293","v":"DAS 101.5"},{"$f":"[1]IDFUNÇÃO!D293","v":"SGM08"},{"$f":"[1]IDFUNÇÃO!E293","v":"SGM03S"},{"$f":"[1]IDFUNÇÃO!F293","v":"OCUPADA"},{"$f":"[1]IDFUNÇÃO!G293","v":"OCUPADA"}]
[null,{"$f":"[1]IDFUNÇÃO!B294","v":"Assessor Técnico"},{"$f":"[1]IDFUNÇÃO!C294","v":"DAS 102.3"},{"$f":"[1]IDFUNÇÃO!D294","v":"SGM09"},null,{"$f":"[1]IDFUNÇÃO!F294","v":"OCUPADA"}]
[null,{"$f":"[1]IDFUNÇÃO!B295","v":"Assitente"},{"$f":"[1]IDFUNÇÃO!C295","v":"DAS 102.2"},{"$f":"[1]IDFUNÇÃO!D295","v":"SGM10"},null,{"$f":"[1]IDFUNÇÃO!F295","v":"OCUPADA"}]
[{"$f":"[1]IDFUNÇÃO!A296","v":"Coordenação-Geral de Política e Programas para Mineração"},{"$f":"[1]IDFUNÇÃO!B296","v":"Coordenador-Geral"},{"$f":"[1]IDFUNÇÃO!C296","v":"FCPE 101.4"},{"$f":"[1]IDFUNÇÃO!D296","v":"SGM11"},{"$f":"[1]IDFUNÇÃO!E296","v":"SGM04S"},{"$f":"[1]IDFUNÇÃO!F296","v":"OCUPADA"},{"$f":"[1]IDFUNÇÃO!G296","v":"OCUPADA"}]
[{"$f":"[1]IDFUNÇÃO!A297","v":"Coordenação-Geral de Monitoramento e Controle da Gestão de Programa"},{"$f":"[1]IDFUNÇÃO!B297","v":"Coordenador-Geral"},{"$f":"[1]IDFUNÇÃO!C297","v":"DAS 101.4"},{"$f":"[1]IDFUNÇÃO!D297","v":"SGM12"},{"$f":"[1]IDFUNÇÃO!E297","v":"SGM05S"},{"$f":"[1]IDFUNÇÃO!F297","v":"OCUPADA"},{"$f":"[1]IDFUNÇÃO!G297","v":"OCUPADA"}]
[null,{"$f":"[1]IDFUNÇÃO!B298","v":"Assistente"},{"$f":"[1]IDFUNÇÃO!C298","v":"DAS 102.2"},{"$f":"[1]IDFUNÇÃO!D298","v":"SGM13"},null,{"$f":"[1]IDFUNÇÃO!F298","v":"OCUPADA"}]
[{"$f":"[1]IDFUNÇÃO!A299","v":"Coordenação-Geral de Economia Mineral"},{"$f":"[1]IDFUNÇÃO!B299","v":"Coordenador-Geral"},{"$f":"[1]IDFUNÇÃO!C299","v":"FCPE 101.4"},{"$f":"[1]IDFUNÇÃO!D299","v":"SGM14"},{"$f":"[1]IDFUNÇÃO!E299","v":"SGM06S"},{"$f":"[1]IDFUNÇÃO!F299","v":"OCUPADA"},{"$f":"[1]IDFUNÇÃO!G299","v":"VAZIA"}]
[{"$f":"[1]IDFUNÇÃO!A300","v":"Departamento de Geologia e Produção Mineral"},{"$f":"[1]IDFUNÇÃO!B300","v":"Diretor"},{"$f":"[1]IDFUNÇÃO!C300","v":"DAS 101.5"},{"$f":"[1]IDFUNÇÃO!D300","v":"SGM15"},{"$f":"[1]IDFUNÇÃO!E300","v":"SGM07S"},{"$f":"[1]IDFUNÇÃO!F300","v":"OCUPADA"},{"$f":"[1]IDFUNÇÃO!G300","v":"OCUPADA"}]
[null,{"$f":"[1]IDFUNÇÃO!B301","v":"Assistente"},{"$f":"[1]IDFUNÇÃO!C301","v":"DAS 102.2"},{"$f":"[1]IDFUNÇÃO!D301","v":"SGM16"},null,{"$f":"[1]IDFUNÇÃO!F301","v":"OCUPADA"}]
[null,{"$f":"[1]IDFUNÇÃO!B302","v":"Assistente"},{"$f":"[1]IDFUNÇÃO!C302","v":"FCPE 102.2"},{"$f":"[1]IDFUNÇÃO!D302","v":"SGM17"},null,{"$f":"[1]IDFUNÇÃO!F302","v":"OCUPADA"}]
[{"$f":"[1]IDFUNÇÃO!A303","v":"Coordenação-Geral de Geologia e Recursos Minerais"},{"$f":"[1]IDFUNÇÃO!B303","v":"Coordenador-Geral"},{"$f":"[1]IDFUNÇÃO!C303","v":"FCPE 101.4"},{"$f":"[1]IDFUNÇÃO!D303","v":"SGM18"},{"$f":"[1]IDFUNÇÃO!E303","v":"SGM08S"},{"$f":"[1]IDFUNÇÃO!F303","v":"OCUPADA"},{"$f":"[1]IDFUNÇÃO!G303","v":"OCUPADA"}]
[{"$f":"[1]IDFUNÇÃO!A304","v":"Coordenação-Geral de Monitoramento e Controle de Concessões Minerais"},{"$f":"[1]IDFUNÇÃO!B304","v":"Coordenador-Geral"},{"$f":"[1]IDFUNÇÃO!C304","v":"DAS 101.4"},{"$f":"[1]IDFUNÇÃO!D304","v":"SGM19"},{"$f":"[1]IDFUNÇÃO!E304","v":"SGM09S"},{"$f":"[1]IDFUNÇÃO!F304","v":"OCUPADA"},{"$f":"[1]IDFUNÇÃO!G304","v":"OCUPADA"}]
[{"$f":"[1]IDFUNÇÃO!A305","v":"Departamento de Transformação e Tecnologia Mineral"},{"$f":"[1]IDFUNÇÃO!B305","v":"Diretor"},{"$f":"[1]IDFUNÇÃO!C305","v":"DAS 101.5"},{"$f":"[1]IDFUNÇÃO!D305","v":"SGM20"},{"$f":"[1]IDFUNÇÃO!E305","v":"SGM10S"},{"$f":"[1]IDFUNÇÃO!F305","v":"OCUPADA"},{"$f":"[1]IDFUNÇÃO!G305","v":"OCUPADA"}]
[null,{"$f":"[1]IDFUNÇÃO!B306","v":"Assistente"},{"$f":"[1]IDFUNÇÃO!C306","v":"DAS 102.2"},{"$f":"[1]IDFUNÇÃO!D306","v":"SGM21"},null,{"$f":"[1]IDFUNÇÃO!F306","v":"OCUPADA"}]
[null,{"$f":"[1]IDFUNÇÃO!B307","v":"Assistente"},{"$f":"[1]IDFUNÇÃO!C307","v":"FCPE 102.2"},{"$f":"[1]IDFUNÇÃO!D307","v":"SGM22"},null,{"$f":"[1]IDFUNÇÃO!F307","v":"OCUPADA"}]
[null,{"$f":"[1]IDFUNÇÃO!B308","v":"Assistente"},{"$f":"[1]IDFUNÇÃO!C308","v":"FCPE 102.2"},{"$f":"[1]IDFUNÇÃO!D308","v":"SGM23"},null,{"$f":"[1]IDFUNÇÃO!F308","v":"OCUPADA"}]
[{"$f":"[1]IDFUNÇÃO!A309","v":"Coordenação-Geral de Capacitação e Desenvolvimento Tecnológico"},{"$f":"[1]IDFUNÇÃO!B309","v":"Coordenador-Geral"},{"$f":"[1]IDFUNÇÃO!C309","v":"DAS 101.4"},{"$f":"[1]IDFUNÇÃO!D309","v":"SGM24"},{"$f":"[1]IDFUNÇÃO!E309","v":"SGM11S"},{"$f":"[1]IDFUNÇÃO!F309","v":"OCUPADA"},{"$f":"[1]IDFUNÇÃO!G309","v":"VAZIA"}]
[{"$f":"[1]IDFUNÇÃO!A310","v":"Departamento de Desenvolvimento Sustentável na Mineração"},{"$f":"[1]IDFUNÇÃO!B310","v":"Diretor"},{"$f":"[1]IDFUNÇÃO!C310","v":"DAS 101.5"},{"$f":"[1]IDFUNÇÃO!D310","v":"SGM25"},{"$f":"[1]IDFUNÇÃO!E310","v":"SGM12S"},{"$f":"[1]IDFUNÇÃO!F310","v":"OCUPADA"},{"$f":"[1]IDFUNÇÃO!G310","v":"OCUPADA"}]
[null,{"$f":"[1]IDFUNÇÃO!B311","v":"Assistente"},{"$f":"[1]IDFUNÇÃO!C311","v":"DAS 102.2"},{"$f":"[1]IDFUNÇÃO!D311","v":"SGM26"},null,{"$f":"[1]IDFUNÇÃO!F311","v":"OCUPADA"}]
[{"$f":"[1]IDFUNÇÃO!A312","v":"Coordenação-Geral de Desenvolvimento Sócio Ambiental na Mineração"},{"$f":"[1]IDFUNÇÃO!B312","v":"Coordenador-Geral"},{"$f":"[1]IDFUNÇÃO!C312","v":"DAS 101.4"},{"$f":"[1]IDFUNÇÃO!D312","v":"SGM27"},{"$f":"[1]IDFUNÇÃO!E312","v":"SGM13S"},{"$f":"[1]IDFUNÇÃO!F312","v":"OCUPADA"},{"$f":"[1]IDFUNÇÃO!G312","v":"OCUPADA"}]
[null,{"$f":"[1]IDFUNÇÃO!B313","v":"Assistente"},{"$f":"[1]IDFUNÇÃO!C313","v":"DAS 102.2"},{"$f":"[1]IDFUNÇÃO!D313","v":"SGM28"},null,{"$f":"[1]IDFUNÇÃO!F313","v":"OCUPADA"}]
[{"$f":"[1]IDFUNÇÃO!A314","v":"Coordenação-Geral de Mineração em Áreas de Conservação e Conflito"},{"$f":"[1]IDFUNÇÃO!B314","v":"Coordenador-Geral"},{"$f":"[1]IDFUNÇÃO!C314","v":"FCPE 101.4"},{"$f":"[1]IDFUNÇÃO!D314","v":"SGM29"},{"$f":"[1]IDFUNÇÃO!E314","v":"SGM14S"},{"$f":"[1]IDFUNÇÃO!F314","v":"OCUPADA"},{"$f":"[1]IDFUNÇÃO!G314","v":"VAZIA"}]
[null,{"$f":"[1]IDFUNÇÃO!B315","v":"Assistente"},{"$f":"[1]IDFUNÇÃO!C315","v":"FCPE 102.2"},{"$f":"[1]IDFUNÇÃO!D315","v":"SGM30"},null,{"$f":"[1]IDFUNÇÃO!F315","v":"OCUPADA"}]

{"sheet":"PCOMUNIDADES","index":14,"n_rows":57,"n_cols":49,"rows_kept":57,"merged":[[0,0,0,27],[2,0,3,0],[2,1,3,1],[2,2,2,8],[2,9,2,11],[2,13,3,13],[2,14,3,14],[2,21,3,21],[2,22,2,24],[2,25,2,27],[17,2,17,8],[17,9,17,11],[17,15,17,16],[17,17,17,19],[17,22,17,24],[17,25,17,27],[20,0,21,0],[20,1,21,1],[20,2,20,7],[20,9,21,9],[20,10,21,10],[20,11,20,16],[20,18,21,18],[20,19,20,21],[20,22,20,24],[35,2,35,7],[35,11,35,16],[35,19,35,21],[35,22,35,24],[39,0,42,0],[39,1,42,1],[39,2,39,48],[40,2,40,5],[40,6,40,7],[40,8,40,11],[40,12,40,15],[40,16,40,19],[40,20,40,23],[40,24,40,27],[40,28,40,31],[40,32,40,35],[40,36,40,37],[40,38,40,39],[40,40,41,42],[40,43,41,45],[40,46,41,48],[41,2,41,3],[41,4,41,5],[41,6,41,7],[41,8,41,9],[41,10,41,11],[41,12,41,13],[41,14,41,15],[41,16,41,17],[41,18,41,19],[41,20,41,21],[41,22,41,23],[41,24,41,25],[41,26,41,27],[41,28,41,29],[41,30,41,31],[41,32,41,33],[41,34,41,35],[41,36,41,37],[41,38,41,39],[56,0,56,1],[56,2,56,3],[56,4,56,5],[56,6,56,7],[56,8,56,9],[56,10,56,11],[56,12,56,13],[56,14,56,15],[56,16,56,17],[56,18,56,19],[56,20,56,21],[56,22,56,23],[56,24,56,25],[56,26,56,27],[56,28,56,29],[56,30,56,31],[56,32,56,33],[56,34,56,35],[56,36,56,37],[56,38,56,39]]}
["QUANTITATIVO E NÍVEL DAS/FCPE - OCUPADO x VAGO"]
[]
["Unidade","Total de DAS / FCPE na Unidade","Situação",{"$nulls":6},"Imposto de Renda",{"$nulls":3},"Unidade","Total de DAS / FCPE na Unidade",{"$nulls":6},"Unidade","SITUAÇÃO DAS / FCPE POR SEXO",null,null,"DAS / FCPE GERENCIAL POR SEXO"]
[null,null,"Ativo Permanente","Requisitado Órgãos","Requisitado Empresa","S/Vínculo","Exercício Descentralizado","Anistiado","Vago","Formulário de Autorização","Declaração de IR","Vago",{"$nulls":3},"DAS / FCPE Gerencial","DAS / FCPE Assessoria / Assistência","DAS / FCPE Gerencial ocupado por Servidores do MME","DAS /FCPE Gerencial ocupados por Requisitados e S/Vínculo","DAS /FCPE Gerencial vagos",null,null,"MASCULINO","FEMININO","VAGO","MASCULINO","FEMININO","VAGO"]
["GM",51,{"$f":"COUNTIF([1]GM!$G$3:$G$53,\"ATIVO PERMANENTE\")","v":9},{"$f":"COUNTIF([1]GM!$G$3:$G$53,\"requisitado de órgãos\")+COUNTIF([1]GM!$G$3:$G$53,\"requisitado militar\")","v":10},{"$f":"COUNTIF([1]GM!$G$3:$G$53,\"requisitado de empresa\")","v":0},{"$f":"COUNTIF([1]GM!$G$3:$G$53,\"Sem Vínculo\")","v":25},{"$f":"COUNTIF([1]GM!$G$3:$G$53,\"EXERCÍCIO DESCENTRALIZADO\")","v":2},{"$f":"COUNTIF([1]GM!$G$3:$G$53,\"anistiado mme\")","v":0},{"$f":"COUNTIF([1]GM!$G$3:$G$53,\"-\")","v":5},{"$f":"COUNTIF([1]GM!$M$3:$M$53,\"FA\")","v":41},{"$f":"COUNTIF([1]GM!$M$3:$M$53,\"DIR\")","v":5},{"$f":"COUNTIF([1]GM!$M$3:$M$53,\"-\")","v":5},null,"GM",51,9,{"$f":"O5-P5","v":42},{"$f":"COUNTIFS([1]GM!$D$3:$D$53,\"GER\",[1]GM!$G$3:$G$53,\"ATIVO PERMANENTE\")+COUNTIFS([1]GM!$D$3:$D$53,\"GER\",[1]GM!$G$3:$G$53,\"ANISTIADO mme\")","v":1},{"$f":"P5-R5-T5","v":7},{"$f":"COUNTIFS([1]GM!$D$3:$D$53,\"GER\",[1]GM!$G$3:$G$53,\"-\")","v":1},null,"GM",{"$f":"COUNTIF([1]GM!$F$3:$F$53,\"M\")","v":26},{"$f":"COUNTIF([1]GM!$F$3:$F$53,\"F\")","v":20},{"$f":"COUNTIF([1]GM!$F$3:$F$53,\"-\")","v":5},{"$f":"COUNTIFS([1]GM!$D$3:$D$53,\"GER\",[1]GM!$F$3:$F$53,\"M\")","v":4},{"$f":"COUNTIFS([1]GM!$D$3:$D$53,\"GER\",[1]GM!$F$3:$F$53,\"F\")","v":4},{"$f":"COUNTIFS([1]GM!$D$3:$D$53,\"GER\",[1]GM!$F$3:$F$53,\"-\")","v":1}]
["SE",91,{"$f":"COUNTIF([1]SE!$G$3:$G$98,\"ATIVO PERMANENTE\")","v":21},{"$f":"COUNTIF([1]SE!$G$3:$G$98,\"requisitado de órgãos\")+COUNTIF([1]SE!$G$3:$G$98,\"requisitado militar\")","v":12},{"$f":"COUNTIF([1]SE!$G$3:$G$98,\"requisitado de empresa\")","v":1},{"$f":"COUNTIF([1]SE!$G$3:$G$98,\"Sem Vínculo\")","v":34},{"$f":"COUNTIF([1]SE!$G$3:$G$98,\"EXERCÍCIO DESCENTRALIZADO\")","v":10},{"$f":"COUNTIF([1]SE!$G$3:$G$98,\"anistiado mme\")","v":10},{"$f":"COUNTIF([1]SE!$G$3:$G$98,\"-\")","v":3},{"$f":"COUNTIF([1]SE!$M$3:$M$98,\"FA\")","v":87},{"$f":"COUNTIF([1]SE!$M$3:$M$98,\"DIR\")","v":1},{"$f":"COUNTIF([1]SE!$M$3:$M$98,\"-\")","v":3},null,"SE",91,50,{"$f":"O6-P6","v":41},{"$f":"COUNTIFS([1]SE!$D$3:$D$98,\"GER\",[1]SE!$G$3:$G$98,\"ATIVO PERMANENTE\")+COUNTIFS([1]SE!$D$3:$D$98,\"GER\",[1]SE!$G$3:$G$98,\"ANISTIADO mme\")","v":15},{"$f":"P6-R6-T6","v":33},{"$f":"COUNTIFS([1]SE!$D$3:$D$98,\"GER\",[1]SE!$G$3:$G$98,\"-\")","v":2},null,"SE",{"$f":"COUNTIF([1]SE!$F$3:$F$98,\"M\")","v":45},{"$f":"COUNTIF([1]SE!$F$3:$F$98,\"F\")","v":43},{"$f":"COUNTIF([1]SE!$F$3:$F$98,\"-\")","v":3},{"$f":"COUNTIFS([1]SE!$D$3:$D$98,\"GER\",[1]SE!$F$3:$F$98,\"M\")","v":25},{"$f":"COUNTIFS([1]SE!$D$3:$D$98,\"GER\",[1]SE!$F$3:$F$98,\"F\")","v":23},{"$f":"COUNTIFS([1]SE!$D$3:$D$98,\"GER\",[1]SE!$F$3:$F$98,\"-\")","v":2}]
["CONJUR",14,{"$f":"COUNTIF([1]CONJUR!$G$3:$G$16,\"ATIVO PERMANENTE\")","v":1},{"$f":"COUNTIF([1]CONJUR!$G$3:$G$16,\"requisitado de órgãos\")+COUNTIF([1]CONJUR!$G$3:$G$16,\"requisitado militar\")","v":0},{"$f":"COUNTIF([1]CONJUR!$G$3:$G$16,\"requisitado de empresa\")","v":0},{"$f":"COUNTIF([1]CONJUR!$G$3:$G$16,\"Sem Vínculo\")","v":7},{"$f":"COUNTIF([1]CONJUR!$G$3:$G$16,\"EXERCÍCIO DESCENTRALIZADO\")","v":6},{"$f":"COUNTIF([1]CONJUR!$G$3:$G$16,\"anistiado mme\")","v":0},{"$f":"COUNTIF([1]CONJUR!$G$3:$G$16,\"-\")","v":0},{"$f":"COUNTIF([1]CONJUR!$M$3:$M$16,\"FA\")","v":14},{"$f":"COUNTIF([1]CONJUR!$M$3:$M$16,\"DIR\")","v":0},{"$f":"COUNTIF([1]CONJUR!$M$3:$M$16,\"-\")","v":0},null,"CONJUR",14,5,9,{"$f":"COUNTIFS([1]CONJUR!$D$3:$D$16,\"GER\",[1]CONJUR!$G$3:$G$16,\"ATIVO PERMANENTE\")+COUNTIFS([1]CONJUR!$D$3:$D$16,\"GER\",[1]CONJUR!$G$3:$G$16,\"ANISTIADO mme\")","v":1},4,{"$f":"COUNTIFS([1]CONJUR!$D$3:$D$16,\"GER\",[1]CONJUR!$G$3:$G$16,\"-\")","v":0},null,"CONJUR",{"$f":"COUNTIF([1]CONJUR!$F$3:$F$16,\"M\")","v":6},{"$f":"COUNTIF([1]CONJUR!$F$3:$F$16,\"F\")","v":8},{"$f":"COUNTIF([1]CONJUR!$F$3:$F$16,\"-\")","v":0},{"$f":"COUNTIFS([1]CONJUR!$D$3:$D$16,\"GER\",[1]CONJUR!$F$3:$F$16,\"M\")","v":3},{"$f":"COUNTIFS([1]CONJUR!$D$3:$D$16,\"GER\",[1]CONJUR!$F$3:$F$16,\"F\")","v":2},{"$f":"COUNTIFS([1]CONJUR!$D$3:$D$16,\"GER\",[1]CONJUR!$F$3:$F$16,\"-\")","v":0}]
["ASSEC",9,{"$f":"COUNTIF([1]ASSEC!$G$3:$G$11,\"ATIVO PERMANENTE\")","v":0},{"$f":"COUNTIF([1]ASSEC!$G$3:$G$11,\"requisitado de órgãos\")+COUNTIF([1]ASSEC!$G$3:$G$11,\"requisitado militar\")","v":5},{"$f":"COUNTIF([1]ASSEC!$G$3:$G$11,\"requisitado de empresa\")","v":0},{"$f":"COUNTIF([1]ASSEC!$G$3:$G$11,\"Sem Vínculo\")","v":4},{"$f":"COUNTIF([1]ASSEC!$G$3:$G$11,\"EXERCÍCIO DESCENTRALIZADO\")","v":0},{"$f":"COUNTIF([1]ASSEC!$G$3:$G$11,\"anistiado mme\")","v":0},{"$f":"COUNTIF([1]ASSEC!$G$3:$G$11,\"-\")","v":0},{"$f":"COUNTIF([1]ASSEC!$M$3:$M$11,\"FA\")","v":9},{"$f":"COUNTIF([1]ASSEC!$M$3:$M$11,\"DIR\")","v":0},{"$f":"COUNTIF([1]ASSEC!$M$3:$M$11,\"-\")","v":0},null,"ASSEC",9,1,8,{"$f":"COUNTIFS([1]ASSEC!$D$3:$D$11,\"GER\",[1]ASSEC!$G$3:$G$11,\"ATIVO PERMANENTE\")+COUNTIFS([1]ASSEC!$D$3:$D$11,\"GER\",[1]ASSEC!$G$3:$G$11,\"ANISTIADO mme\")","v":0},1,{"$f":"COUNTIFS([1]ASSEC!$D$3:$D$11,\"GER\",[1]ASSEC!$G$3:$G$11,\"-\")","v":0},null,"ASSEC",{"$f":"COUNTIF([1]ASSEC!$F$3:$F$11,\"M\")","v":3},{"$f":"COUNTIF([1]ASSEC!$F$3:$F$11,\"F\")","v":6},{"$f":"COUNTIF([1]ASSEC!$F$3:$F$11,\"-\")","v":0},{"$f":"COUNTIFS([1]ASSEC!$D$3:$D$11,\"GER\",[1]ASSEC!$F$3:$F$11,\"M\")","v":1},{"$f":"COUNTIFS([1]ASSEC!$D$3:$D$11,\"GER\",[1]ASSEC!$F$3:$F$11,\"F\")","v":0},{"$f":"COUNTIFS([1]ASSEC!$D$3:$D$11,\"GER\",[1]ASSEC!$F$3:$F$11,\"-\")","v":0}]
["ASSINT",4,{"$f":"COUNTIF([1]ASSINT!$G$3:$G$6,\"ATIVO PERMANENTE\")","v":1},{"$f":"COUNTIF([1]ASSINT!$G$3:$G$6,\"requisitado de órgãos\")+COUNTIF([1]ASSINT!$G$3:$G$6,\"requisitado militar\")","v":1},{"$f":"COUNTIF([1]ASSINT!$G$3:$G$6,\"requisitado de empresa\")","v":0},{"$f":"COUNTIF([1]ASSINT!$G$3:$G$6,\"Sem Vínculo\")","v":2},{"$f":"COUNTIF([1]ASSINT!$G$3:$G$6,\"EXERCÍCIO DESCENTRALIZADO\")","v":0},{"$f":"COUNTIF([1]ASSINT!$G$3:$G$6,\"anistiado mme\")","v":0},{"$f":"COUNTIF([1]ASSINT!$G$3:$G$6,\"-\")","v":0},{"$f":"COUNTIF([1]ASSINT!$M$3:$M$6,\"FA\")","v":4},{"$f":"COUNTIF([1]ASSINT!$M$3:$M$6,\"DIR\")","v":0},{"$f":"COUNTIF([1]ASSINT!$M$3:$M$6,\"-\")","v":0},null,"ASSINT",4,1,3,{"$f":"COUNTIFS([1]ASSINT!$D$3:$D$6,\"GER\",[1]ASSINT!$G$3:$G$6,\"ATIVO PERMANENTE\")+COUNTIFS([1]ASSINT!$D$3:$D$6,\"GER\",[1]ASSINT!$G$3:$G$6,\"ANISTIADO mme\")","v":0},1,{"$f":"COUNTIFS([1]ASSINT!$D$3:$D$6,\"GER\",[1]ASSINT!$G$3:$G$6,\"-\")","v":0},null,"ASSINT",{"$f":"COUNTIF([1]ASSINT!$F$3:$F$6,\"M\")","v":3},{"$f":"COUNTIF([1]ASSINT!$F$3:$F$6,\"F\")","v":1},{"$f":"COUNTIF([1]ASSINT!$F$3:$F$6,\"-\")","v":0},{"$f":"COUNTIFS([1]ASSINT!$D$3:$D$6,\"GER\",[1]ASSINT!$F$3:$F$6,\"M\")","v":1},{"$f":"COUNTIFS([1]ASSINT!$D$3:$D$6,\"GER\",[1]ASSINT!$F$3:$F$6,\"F\")","v":0},{"$f":"COUNTIFS([1]ASSINT!$D$3:$D$6,\"GER\",[1]ASSINT!$F$3:$F$6,\"-\")","v":0}]
["AECI",3,{"$f":"COUNTIF([1]AECI!$G$3:$G$5,\"ATIVO PERMANENTE\")","v":1},{"$f":"COUNTIF([1]AECI!$G$3:$G$5,\"requisitado de órgãos\")+COUNTIF([1]AECI!$G$3:$G$5,\"requisitado militar\")","v":1},{"$f":"COUNTIF([1]AECI!$G$3:$G$5,\"requisitado de empresa\")","v":0},{"$f":"COUNTIF([1]AECI!$G$3:$G$5,\"Sem Vínculo\")","v":1},{"$f":"COUNTIF([1]AECI!$G$3:$G$5,\"EXERCÍCIO DESCENTRALIZADO\")","v":0},{"$f":"COUNTIF([1]AECI!$G$3:$G$5,\"anistiado mme\")","v":0},{"$f":"COUNTIF([1]AECI!$G$3:$G$5,\"-\")","v":0},{"$f":"COUNTIF([1]AECI!$M$3:$M$5,\"FA\")","v":2},{"$f":"COUNTIF([1]AECI!$M$3:$M$5,\"DIR\")","v":1},{"$f":"COUNTIF([1]AECI!$M$3:$M$5,\"-\")","v":0},null,"AECI",3,1,2,{"$f":"COUNTIFS([1]AECI!$D$3:$D$5,\"GER\",[1]AECI!$G$3:$G$5,\"ATIVO PERMANENTE\")+COUNTIFS([1]AECI!$D$3:$D$5,\"GER\",[1]AECI!$G$3:$G$5,\"ANISTIADO mme\")","v":0},1,{"$f":"COUNTIFS([1]AECI!$D$3:$D$5,\"GER\",[1]AECI!$G$3:$G$5,\"-\")","v":0},null,"AECI",{"$f":"COUNTIF([1]AECI!$F$3:$F$5,\"M\")","v":1},{"$f":"COUNTIF([1]AECI!$F$3:$F$5,\"F\")","v":2},{"$f":"COUNTIF([1]AECI!$F$3:$F$5,\"-\")","v":0},{"$f":"COUNTIFS([1]AECI!$D$3:$D$5,\"GER\",[1]AECI!$F$3:$F$5,\"M\")","v":1},{"$f":"COUNTIFS([1]AECI!$D$3:$D$5,\"GER\",[1]AECI!$F$3:$F$5,\"F\")","v":0},{"$f":"COUNTIFS([1]AECI!$D$3:$D$5,\"GER\",[1]AECI!$F$3:$F$5,\"-\")","v":0}]
["AEPED",4,{"$f":"COUNTIF([1]AEPED!$G$3:$G$6,\"ATIVO PERMANENTE\")","v":1},{"$f":"COUNTIF([1]AEPED!$G$3:$G$6,\"requisitado de órgãos\")+COUNTIF([1]AEPED!$G$3:$G$6,\"requisitado militar\")","v":1},{"$f":"COUNTIF([1]AEPED!$G$3:$G$6,\"requisitado de empresa\")","v":0},{"$f":"COUNTIF([1]AEPED!$G$3:$G$6,\"Sem Vínculo\")","v":2},{"$f":"COUNTIF([1]AEPED!$G$3:$G$6,\"EXERCÍCIO DESCENTRALIZADO\")","v":0},{"$f":"COUNTIF([1]AEPED!$G$3:$G$6,\"anistiado mme\")","v":0},{"$f":"COUNTIF([1]AEPED!$G$3:$G$6,\"-\")","v":0},{"$f":"COUNTIF([1]AEPED!M3:$M$6,\"FA\")","v":4},{"$f":"COUNTIF([1]AEPED!$M3:N$6,\"DIR\")","v":0},{"$f":"COUNTIF([1]AEPED!$M3:M$6,\"-\")","v":0},null,"AEPED",4,1,3,{"$f":"COUNTIFS([1]AEPED!$D$3:$D$6,\"GER\",[1]AEPED!$G$3:$G$6,\"ATIVO PERMANENTE\")+COUNTIFS([1]AEPED!$D$3:$D$6,\"GER\",[1]AEPED!$G$3:$G$6,\"ANISTIADO mme\")","v":0},1,{"$f":"COUNTIFS([1]AEPED!$D$3:$D$6,\"GER\",[1]AEPED!$G$3:$G$6,\"-\")","v":0},null,"AEPED",{"$f":"COUNTIF([1]AEPED!$F$3:$F$6,\"M\")","v":4},{"$f":"COUNTIF([1]AEPED!$F$3:$F$6,\"F\")","v":0},{"$f":"COUNTIF([1]AEPED!$F$3:$F$6,\"-\")","v":0},{"$f":"COUNTIFS([1]AEPED!$D$3:$D$6,\"GER\",[1]AEPED!$F$3:$F$6,\"M\")","v":1},{"$f":"COUNTIFS([1]AEPED!$D$3:$D$6,\"GER\",[1]AEPED!$F$3:$F$6,\"F\")","v":0},{"$f":"COUNTIFS([1]AEPED!$D$3:$D$6,\"GER\",[1]AEPED!$F$3:$F$6,\"-\")","v":0}]
["SPE",30,{"$f":"COUNTIF([1]SPE!$G$3:$G$35,\"ATIVO PERMANENTE\")","v":3},{"$f":"COUNTIF([1]SPE!$G$3:$G$35,\"requisitado de órgãos\")+COUNTIF([1]SPE!$G$3:$G$35,\"requisitado militar\")","v":6},{"$f":"COUNTIF([1]SPE!$G$3:$G$35,\"requisitado de empresa\")","v":0},{"$f":"COUNTIF([1]SPE!$G$3:$G$35,\"Sem Vínculo\")","v":11},{"$f":"COUNTIF([1]SPE!$G$3:$G$35,\"EXERCÍCIO DESCENTRALIZADO\")","v":9},{"$f":"COUNTIF([1]SPE!$G$3:$G$35,\"anistiado mme\")","v":0},{"$f":"COUNTIF([1]SPE!$G$3:$G$35,\"-\")","v":1},{"$f":"COUNTIF([1]SPE!$M$3:$M$35,\"FA\")","v":29},{"$f":"COUNTIF([1]SPE!$M$3:$M$35,\"DIR\")","v":0},{"$f":"COUNTIF([1]SPE!$M$3:$M$35,\"-\")","v":1},null,"SPE",30,15,15,{"$f":"COUNTIFS([1]SPE!$D$3:$D$35,\"GER\",[1]SPE!$G$3:$G$35,\"ATIVO PERMANENTE\")+COUNTIFS([1]SPE!$D$3:$D$35,\"GER\",[1]SPE!$G$3:$G$35,\"ANISTIADO mme\")","v":0},14,{"$f":"COUNTIFS([1]SPE!$D$3:$D$35,\"GER\",[1]SPE!$G$3:$G$35,\"-\")","v":1},null,"SPE",{"$f":"COUNTIF([1]SPE!$F$3:$F$35,\"M\")","v":16},{"$f":"COUNTIF([1]SPE!$F$3:$F$35,\"F\")","v":13},{"$f":"COUNTIF([1]SPE!$F$3:$F$35,\"-\")","v":1},{"$f":"COUNTIFS([1]SPE!$D$3:$D$35,\"GER\",[1]SPE!$F$3:$F$35,\"M\")","v":12},{"$f":"COUNTIFS([1]SPE!$D$3:$D$35,\"GER\",[1]SPE!$F$3:$F$35,\"F\")","v":2},{"$f":"COUNTIFS([1]SPE!$D$3:$D$35,\"GER\",[1]SPE!$F$3:$F$35,\"-\")","v":1}]
["SEE",32,{"$f":"COUNTIF([1]SEE!$G$3:$G$39,\"ATIVO PERMANENTE\")","v":0},{"$f":"COUNTIF([1]SEE!$G$3:$G$39,\"requisitado de órgãos\")+COUNTIF([1]SEE!$G$3:$G$39,\"requisitado de militar\")","v":2},{"$f":"COUNTIF([1]SEE!$G$3:$G$39,\"requisitado de empresa\")","v":4},{"$f":"COUNTIF([1]SEE!$G$3:$G$39,\"Sem Vínculo\")","v":12},{"$f":"COUNTIF([1]SEE!$G$3:$G$39,\"EXERCÍCIO DESCENTRALIZADO\")","v":12},{"$f":"COUNTIF([1]SEE!$G$3:$G$39,\"anistiado mme\")","v":1},{"$f":"COUNTIF([1]SEE!$G$3:$G$39,\"-\")","v":1},{"$f":"COUNTIF([1]SEE!$M$3:$M$39,\"FA\")","v":31},{"$f":"COUNTIF([1]SEE!$M$3:$M$39,\"DIR\")","v":0},{"$f":"COUNTIF([1]SEE!$M$3:$M$39,\"-\")","v":1},null,"SEE",32,16,16,{"$f":"COUNTIFS([1]SEE!$D$3:$D$39,\"GER\",[1]SEE!$G$3:$G$39,\"ATIVO PERMANENTE\")+COUNTIFS([1]SEE!$D$3:$D$39,\"GER\",[1]SEE!$G$3:$G$39,\"ANISTIADO mme\")","v":0},16,{"$f":"COUNTIFS([1]SEE!$D$3:$D$39,\"GER\",[1]SEE!$G$3:$G$39,\"-\")","v":0},null,"SEE",{"$f":"COUNTIF([1]SEE!$F$3:$F$39,\"M\")","v":19},{"$f":"COUNTIF([1]SEE!$F$3:$F$39,\"F\")","v":12},{"$f":"COUNTIF([1]SEE!$F$3:$F$39,\"-\")","v":1},{"$f":"COUNTIFS([1]SEE!$D$3:$D$39,\"GER\",[1]SEE!$F$3:$F$39,\"M\")","v":13},{"$f":"COUNTIFS([1]SEE!$D$3:$D$39,\"GER\",[1]SEE!$F$3:$F$39,\"F\")","v":3},{"$f":"COUNTIFS([1]SEE!$D$3:$D$39,\"GER\",[1]SEE!$F$3:$F$39,\"-\")","v":0}]
["SPG",26,{"$f":"COUNTIF([1]SPG!$G$3:$G$29,\"ATIVO PERMANENTE\")","v":0},{"$f":"COUNTIF([1]SPG!$G$3:$G$29,\"requisitado de órgãos\")+COUNTIF([1]SPG!$G$3:$G$29,\"requisitado de militar\")","v":9},{"$f":"COUNTIF([1]SPG!$G$3:$G$29,\"requisitado de empresa\")","v":0},{"$f":"COUNTIF([1]SPG!$G$3:$G$29,\"Sem Vínculo\")","v":4},{"$f":"COUNTIF([1]SPG!$G$3:$G$29,\"EXERCÍCIO DESCENTRALIZADO\")","v":11},{"$f":"COUNTIF([1]SPG!$G$3:$G$29,\"anistiado mme\")","v":0},{"$f":"COUNTIF([1]SPG!$G$3:$G$29,\"-\")","v":2},{"$f":"COUNTIF([1]SPG!$M$3:$M$29,\"FA\")","v":24},{"$f":"COUNTIF([1]SPG!$M$3:$M$29,\"DIR\")","v":0},{"$f":"COUNTIF([1]SPG!$M$3:$M$29,\"-\")","v":2},null,"SPG",26,16,10,{"$f":"COUNTIFS([1]SPG!$D$3:$D$29,\"GER\",[1]SPG!$G$3:$G$29,\"ATIVO PERMANENTE\")+COUNTIFS([1]SPG!$D$3:$D$29,\"GER\",[1]SPG!$G$3:$G$29,\"ANISTIADO mme\")","v":0},15,{"$f":"COUNTIFS([1]SPG!$D$3:$D$29,\"GER\",[1]SPG!$G$3:$G$29,\"-\")","v":1},null,"SPG",{"$f":"COUNTIF([1]SPG!$F$3:$F$29,\"M\")","v":17},{"$f":"COUNTIF([1]SPG!$F$3:$F$29,\"F\")","v":7},{"$f":"COUNTIF([1]SPG!$F$3:$F$29,\"-\")","v":2},{"$f":"COUNTIFS([1]SPG!$D$3:$D$29,\"GER\",[1]SPG!$F$3:$F$29,\"M\")","v":11},{"$f":"COUNTIFS([1]SPG!$D$3:$D$29,\"GER\",[1]SPG!$F$3:$F$29,\"F\")","v":4},{"$f":"COUNTIFS([1]SPG!$D$3:$D$29,\"GER\",[1]SPG!$F$3:$F$29,\"-\")","v":1}]
["SGM",30,{"$f":"COUNTIF([1]SGM!$G$3:$G$33,\"ATIVO PERMANENTE\")","v":3},{"$f":"COUNTIF([1]SGM!$G$3:$G$33,\"requisitado de órgãos\")+COUNTIF([1]SGM!$G$3:$G$33,\"requisitado militar\")","v":4},{"$f":"COUNTIF([1]SGM!$G$3:$G$33,\"requisitado de empresa\")","v":0},{"$f":"COUNTIF([1]SGM!$G$3:$G$33,\"Sem Vínculo\")","v":18},{"$f":"COUNTIF([1]SGM!$G$3:$G$33,\"EXERCÍCIO DESCENTRALIZADO\")","v":5},{"$f":"COUNTIF([1]SGM!$G$3:$G$33,\"anistiado mme\")","v":0},{"$f":"COUNTIF([1]SGM!$G$3:$G$33,\"-\")","v":0},{"$f":"COUNTIF([1]SGM!$M$3:$M$33,\"FA\")","v":30},{"$f":"COUNTIF([1]SGM!$M$3:$M$33,\"DIR\")","v":0},{"$f":"COUNTIF([1]SGM!$M$3:$M$33,\"-\")","v":0},null,"SGM",30,14,16,{"$f":"COUNTIFS([1]SGM!$D$3:$D$33,\"GER\",[1]SGM!$G$3:$G$33,\"ATIVO PERMANENTE\")+COUNTIFS([1]SGM!$D$3:$D$33,\"GER\",[1]SGM!$G$3:$G$33,\"ANISTIADO\")","v":0},14,{"$f":"COUNTIFS([1]SGM!$D$3:$D$33,\"GER\",[1]SGM!$G$3:$G$33,\"-\")","v":0},null,"SGM",{"$f":"COUNTIF([1]SGM!$F$3:$F$33,\"M\")","v":14},{"$f":"COUNTIF([1]SGM!$F$3:$F$33,\"F\")","v":16},{"$f":"COUNTIF([1]SGM!$F$3:$F$33,\"-\")","v":0},{"$f":"COUNTIFS([1]SGM!$D$3:$D$33,\"GER\",[1]SGM!$F$3:$F$33,\"M\")","v":9},{"$f":"COUNTIFS([1]SGM!$D$3:$D$33,\"GER\",[1]SGM!$F$3:$F$33,\"F\")","v":5},{"$f":"COUNTIFS([1]SGM!$D$3:$D$33,\"GER\",[1]SGM!$F$3:$F$33,\"-\")","v":0}]
["ESCRITÓRIO RJ",4,{"$f":"COUNTIF([1]TEMPORÁRIO!$G$3:$G$6,\"ATIVO PERMANENTE\")","v":0},{"$f":"COUNTIF([1]TEMPORÁRIO!$G$3:$G$6,\"requisitado de órgãos\")+COUNTIF([1]TEMPORÁRIO!$G$3:$G$6,\"requisitado militar\")","v":4},{"$f":"COUNTIF([1]TEMPORÁRIO!$G$3:$G$6,\"requisitado de empresa\")","v":0},{"$f":"COUNTIF([1]TEMPORÁRIO!$G$3:$G$6,\"Sem Vínculo\")","v":0},{"$f":"COUNTIF([1]TEMPORÁRIO!$G$3:$G$6,\"EXERCÍCIO DESCENTRALIZADO\")","v":0},{"$f":"COUNTIF([1]TEMPORÁRIO!$G$3:$G$6,\"anistiado mme\")","v":0},{"$f":"COUNTIF([1]TEMPORÁRIO!$G$3:$G$6,\"-\")","v":0},{"$f":"COUNTIF([1]TEMPORÁRIO!$M$3:$M$6,\"FA\")","v":4},{"$f":"COUNTIF([1]TEMPORÁRIO!$M$3:$M$6,\"DIR\")","v":0},{"$f":"COUNTIF([1]TEMPORÁRIO!$M$3:$M$6,\"-\")","v":0},null,"ESCRITÓRIO RJ",4,1,3,{"$f":"COUNTIFS([1]TEMPORÁRIO!$D$3:$D$6,\"GER\",[1]TEMPORÁRIO!$G$3:$G$6,\"ATIVO PERMANENTE\")+COUNTIFS([1]TEMPORÁRIO!$D$3:$D$6,\"GER\",[1]TEMPORÁRIO!$G$3:$G$6,\"ANISTIADO\")","v":0},1,{"$f":"COUNTIFS([1]TEMPORÁRIO!$D$3:$D$6,\"GER\",[1]TEMPORÁRIO!$G$3:$G$6,\"-\")","v":0},null,"ESCRITÓRIO RJ",{"$f":"COUNTIF([1]TEMPORÁRIO!$F$3:$F$6,\"M\")","v":3},{"$f":"COUNTIF([1]TEMPORÁRIO!$F$3:$F$6,\"F\")","v":1},{"$f":"COUNTIF([1]TEMPORÁRIO!$F$3:$F$6,\"-\")","v":0},{"$f":"COUNTIFS([1]TEMPORÁRIO!$D$3:$D$6,\"GER\",[1]TEMPORÁRIO!$F$3:$F$6,\"M\")","v":1},{"$f":"COUNTIFS([1]TEMPORÁRIO!$D$3:$D$6,\"GER\",[1]TEMPORÁRIO!$F$3:$F$6,\"F\")","v":0},{"$f":"COUNTIFS([1]TEMPORÁRIO!$D$3:$D$6,\"GER\",[1]TEMPORÁRIO!$F$3:$F$6,\"-\")","v":0}]
["TOTAL",{"$f":"SUM(B5:B16)","v":298},{"$f":"SUM(C5:C16)","v":40},{"$f":"SUM(D5:D16)","v":55},{"$f":"SUM(E5:E16)","v":5},{"$f":"SUM(F5:F16)","v":120},{"$f":"SUM(G5:G15)","v":55},{"$f":"SUM(H5:H16)","v":11},{"$f":"SUM(I5:I16)","v":12},{"$f":"SUM(J5:J16)","v":279},{"$f":"SUM(K5:K16)","v":7},{"$f":"SUM(L5:L16)","v":12},null,"TOTAL",{"$f":"SUM(O5:O16)","v":298},130,168,17,108,5,null,"TOTAL",{"$f":"SUM(W5:W16)","v":157},129,12,82,43,5]
[null,null,{"$f":"SUM(C17:I17)","v":298},{"$nulls":6},{"$f":"SUM(J17:L17)","v":298},{"$nulls":5},{"$f":"SUM(P17:Q17)","v":298},null,{"$f":"SUM(R17:T17)","v":130},{"$nulls":4},{"$f":"SUM(W17:Y17)","v":298},null,null,{"$f":"SUM(Z17:AB17)","v":130}]
[]
[]
["Unidade","Total de DAS/FCPE na Unidade","Situação DAS/FCPE por COR",{"$nulls":6},"Unidade","Total de DAS/FCPE Gerencial na Unidade","Situação DAS/FCPE gerencial por COR",{"$nulls":6},"Unidade","SITUAÇÃO DAS / FCPE POR SEXO",null,null,"DAS / FCPE GERENCIAL POR SEXO"]
[null,null,"BRANCA ","AMARELA","PARDA ","INDIGENA","PRETA ","S / INFORMAÇÃO",{"$nulls":3},"BRANCA ","AMARELA","PARDA ","INDIGENA","PRETA ","S / INFORMAÇÃO",null,null,"MASCULINO","FEMININO","VAGO","MASCULINO","FEMININO","VAGO"]
["GM",51,{"$f":"COUNTIF([1]GM!$O$3:$O$53,\"BRANCA\")","v":23},{"$f":"COUNTIF([1]GM!$O$3:$O$53,\"AMARELA\")","v":0},{"$f":"COUNTIF([1]GM!$O$3:$O$53,\"PARDA\")","v":21},{"$f":"COUNTIF([1]GM!$O$3:$O$53,\"INDIGINA\")","v":0},{"$f":"COUNTIF([1]GM!$O$3:$O$53,\"PRETA\")","v":2},{"$f":"COUNTIF([1]GM!$O$3:$O$53,\"-\")+COUNTIF([1]GM!$O$3:$O$53,\"não informado\")","v":5},null,"GM",9,{"$f":"COUNTIFS([1]GM!$D$3:$D$53,\"GER\",[1]GM!$O$3:$O$53,\"BRANCA\")","v":6},{"$f":"COUNTIFS([1]GM!$D$3:$D$53,\"GER\",[1]GM!$O$3:$O$53,\"AMARELA\")","v":0},{"$f":"COUNTIFS([1]GM!$D$3:$D$53,\"GER\",[1]GM!$O$3:$O$53,\"PARDA\")","v":2},{"$f":"COUNTIFS([1]GM!$D$3:$D$53,\"GER\",[1]GM!$O$3:$O$53,\"INDIGINA\")","v":0},{"$f":"COUNTIFS([1]GM!$D$3:$D$53,\"GER\",[1]GM!$O$3:$O$53,\"PRETA\")","v":0},{"$f":"COUNTIFS([1]GM!$D$3:$D$53,\"GER\",[1]GM!$O$3:$O$53,\"-\")+COUNTIFS([1]GM!$D$3:$D$53,\"GER\",[1]GM!$O$3:$O$53,\"não informado\")","v":1},null,"GM",{"$f":"COUNTIF([1]GM!$F$3:$F$53,\"M\")","v":26},{"$f":"COUNTIF([1]GM!$F$3:$F$53,\"F\")","v":20},{"$f":"COUNTIF([1]GM!$F$3:$F$53,\"-\")","v":5},{"$f":"COUNTIFS([1]GM!$D$3:$D$53,\"GER\",[1]GM!$F$3:$F$53,\"M\")","v":4},{"$f":"COUNTIFS([1]GM!$D$3:$D$53,\"GER\",[1]GM!$F$3:$F$53,\"F\")","v":4},{"$f":"COUNTIFS([1]GM!$D$3:$D$53,\"GER\",[1]GM!$F$3:$F$53,\"-\")","v":1}]
["SE",91,{"$f":"COUNTIF([1]SE!$O$3:$O$98,\"BRANCA\")","v":60},{"$f":"COUNTIF([1]SE!$O$3:$O$98,\"AMARELA\")","v":3},{"$f":"COUNTIF([1]SE!$O$3:$O$98,\"PARDA\")","v":23},{"$f":"COUNTIF([1]SE!$O$3:$O$98,\"INDIGENA\")","v":0},{"$f":"COUNTIF([1]SE!$O$3:$O$98,\"PRETA\")","v":2},{"$f":"COUNTIF([1]SE!$O$3:$O$98,\"-\")+COUNTIF([1]SE!$O$3:$O$98,\"não informado\")","v":3},null,"SE",50,{"$f":"COUNTIFS([1]SE!$D$3:$D$98,\"GER\",[1]SE!$O$3:$O$98,\"BRANCA\")","v":31},{"$f":"COUNTIFS([1]SE!$D$3:$D$98,\"GER\",[1]SE!$O$3:$O$98,\"AMARELA\")","v":2},{"$f":"COUNTIFS([1]SE!$D$3:$D$98,\"GER\",[1]SE!$O$3:$O$98,\"PARDA\")","v":14},{"$f":"COUNTIFS([1]SE!$D$3:$D$98,\"GER\",[1]SE!$O$3:$O$98,\"INDIGINA\")","v":0},{"$f":"COUNTIFS([1]SE!$D$3:$D$98,\"GER\",[1]SE!$O$3:$O$98,\"PRETA\")","v":1},{"$f":"COUNTIFS([1]SE!$D$3:$D$98,\"GER\",[1]SE!$O$3:$O$98,\"-\")+COUNTIFS([1]SE!$D$3:$D$98,\"GER\",[1]SE!$O$3:$O$98,\"não informado\")","v":2},null,"SE",{"$f":"COUNTIF([1]SE!$F$3:$F$98,\"M\")","v":45},{"$f":"COUNTIF([1]SE!$F$3:$F$98,\"F\")","v":43},{"$f":"COUNTIF([1]SE!$F$3:$F$98,\"-\")","v":3},{"$f":"COUNTIFS([1]SE!$D$3:$D$98,\"GER\",[1]SE!$F$3:$F$98,\"M\")","v":25},{"$f":"COUNTIFS([1]SE!$D$3:$D$98,\"GER\",[1]SE!$F$3:$F$98,\"F\")","v":23},{"$f":"COUNTIFS([1]SE!$D$3:$D$98,\"GER\",[1]SE!$F$3:$F$98,\"-\")","v":2}]
["CONJUR",14,{"$f":"COUNTIF([1]CONJUR!$O$3:$O$16,\"BRANCA\")","v":10},{"$f":"COUNTIF([1]CONJUR!$O$3:$O$16,\"AMARELA\")","v":0},{"$f":"COUNTIF([1]CONJUR!$O$3:$O$16,\"PARDA\")","v":4},{"$f":"COUNTIF([1]CONJUR!$O$3:$O$16,\"INDIGINA\")","v":0},{"$f":"COUNTIF([1]CONJUR!$O$3:$O$16,\"PRETA\")","v":0},{"$f":"COUNTIF([1]CONJUR!$O$3:$O$16,\"-\")+COUNTIF([1]CONJUR!$O$3:$O$16,\"não informado\")","v":0},null,"CONJUR",5,{"$f":"COUNTIFS([1]CONJUR!$D$3:$D$16,\"GER\",[1]CONJUR!$O$3:$O$16,\"BRANCA\")","v":4},{"$f":"COUNTIFS([1]CONJUR!$D$3:$D$16,\"GER\",[1]CONJUR!$O$3:$O$16,\"AMARELA\")","v":0},{"$f":"COUNTIFS([1]CONJUR!$D$3:$D$16,\"GER\",[1]CONJUR!$O$3:$O$16,\"PARDA\")","v":1},{"$f":"COUNTIFS([1]CONJUR!$D$3:$D$16,\"GER\",[1]CONJUR!$O$3:$O$16,\"INDIGINA\")","v":0},{"$f":"COUNTIFS([1]CONJUR!$D$3:$D$16,\"GER\",[1]CONJUR!$O$3:$O$16,\"PRETA\")","v":0},{"$f":"COUNTIFS([1]CONJUR!$D$3:$D$16,\"GER\",[1]CONJUR!$O$3:$O$16,\"-\")+COUNTIFS([1]CONJUR!$D$3:$D$16,\"GER\",[1]CONJUR!$O$3:$O$16,\"não informado\")","v":0},null,"CONJUR",{"$f":"COUNTIF([1]CONJUR!$F$3:$F$16,\"M\")","v":6},{"$f":"COUNTIF([1]CONJUR!$F$3:$F$16,\"F\")","v":8},{"$f":"COUNTIF([1]CONJUR!$F$3:$F$16,\"-\")","v":0},{"$f":"COUNTIFS([1]CONJUR!$D$3:$D$16,\"GER\",[1]CONJUR!$F$3:$F$16,\"M\")","v":3},{"$f":"COUNTIFS([1]CONJUR!$D$3:$D$16,\"GER\",[1]CONJUR!$F$3:$F$16,\"F\")","v":2},{"$f":"COUNTIFS([1]CONJUR!$D$3:$D$16,\"GER\",[1]CONJUR!$F$3:$F$16,\"-\")","v":0}]
["ASSEC",9,{"$f":"COUNTIF([1]ASSEC!$O$3:$O$11,\"BRANCA\")","v":5},{"$f":"COUNTIF([1]ASSEC!$O$3:$O$11,\"AMARELA\")","v":0},{"$f":"COUNTIF([1]ASSEC!$O$3:$O$11,\"PARDA\")","v":3},{"$f":"COUNTIF([1]ASSEC!$O$3:$O$11,\"INDIGINA\")","v":0},{"$f":"COUNTIF([1]ASSEC!$O$3:$O$11,\"PRETA\")","v":1},{"$f":"COUNTIF([1]ASSEC!$O$3:$O$11,\"-\")+COUNTIF([1]ASSEC!$O$3:$O$11,\"não informado\")","v":0},null,"ASSEC",1,{"$f":"COUNTIFS([1]ASSEC!$D$3:$D$11,\"GER\",[1]ASSEC!$O$3:$O$11,\"BRANCA\")","v":1},{"$f":"COUNTIFS([1]ASSEC!$D$3:$D$11,\"GER\",[1]ASSEC!$O$3:$O$11,\"AMARELA\")","v":0},{"$f":"COUNTIFS([1]ASSEC!$D$3:$D$11,\"GER\",[1]ASSEC!$O$3:$O$11,\"PARDA\")","v":0},{"$f":"COUNTIFS([1]ASSEC!$D$3:$D$11,\"GER\",[1]ASSEC!$O$3:$O$11,\"INDIGINA\")","v":0},{"$f":"COUNTIFS([1]ASSEC!$D$3:$D$11,\"GER\",[1]ASSEC!$O$3:$O$11,\"PRETA\")","v":0},{"$f":"COUNTIFS([1]ASSEC!$D$3:$D$11,\"GER\",[1]ASSEC!$O$3:$O$11,\"-\")+COUNTIFS([1]ASSEC!$D$3:$D$11,\"GER\",[1]ASSEC!$O$3:$O$11,\"não informado\")","v":0},null,"ASSEC",{"$f":"COUNTIF([1]ASSEC!$F$3:$F$11,\"M\")","v":3},{"$f":"COUNTIF([1]ASSEC!$F$3:$F$11,\"F\")","v":6},{"$f":"COUNTIF([1]ASSEC!$F$3:$F$11,\"-\")","v":0},{"$f":"COUNTIFS([1]ASSEC!$D$3:$D$11,\"GER\",[1]ASSEC!$F$3:$F$11,\"M\")","v":1},{"$f":"COUNTIFS([1]ASSEC!$D$3:$D$11,\"GER\",[1]ASSEC!$F$3:$F$11,\"F\")","v":0},{"$f":"COUNTIFS([1]ASSEC!$D$3:$D$11,\"GER\",[1]ASSEC!$F$3:$F$11,\"-\")","v":0}]
["ASSINT",4,{"$f":"COUNTIF([1]ASSINT!$O$3:$O$6,\"BRANCA\")","v":3},{"$f":"COUNTIF([1]ASSINT!$O$3:$O$6,\"AMARELA\")","v":1},{"$f":"COUNTIF([1]ASSINT!$O$3:$O$6,\"PARDA\")","v":0},{"$f":"COUNTIF([1]ASSINT!$O$3:$O$6,\"INDIGINA\")","v":0},{"$f":"COUNTIF([1]ASSINT!$O$3:$O$6,\"PRETA\")","v":0},{"$f":"COUNTIF([1]ASSINT!$O$3:$O$6,\"-\")+COUNTIF([1]ASSINT!$O$3:$O$6,\"não informado\")","v":0},null,"ASSINT",1,{"$f":"COUNTIFS([1]ASSINT!$D$3:$D$6,\"GER\",[1]ASSINT!$O$3:$O$6,\"BRANCA\")","v":1},{"$f":"COUNTIFS([1]ASSINT!$D$3:$D$6,\"GER\",[1]ASSINT!$O$3:$O$6,\"AMARELA\")","v":0},{"$f":"COUNTIFS([1]ASSINT!$D$3:$D$6,\"GER\",[1]ASSINT!$O$3:$O$6,\"PARDA\")","v":0},{"$f":"COUNTIFS([1]ASSINT!$D$3:$D$6,\"GER\",[1]ASSINT!$O$3:$O$6,\"INDIGINA\")","v":0},{"$f":"COUNTIFS([1]ASSINT!$D$3:$D$6,\"GER\",[1]ASSINT!$O$3:$O$6,\"PRETA\")","v":0},{"$f":"COUNTIFS([1]ASSINT!$D$3:$D$6,\"GER\",[1]ASSINT!$O$3:$O$6,\"-\")+COUNTIFS([1]ASSINT!$D$3:$D$6,\"GER\",[1]ASSINT!$O$3:$O$6,\"não informado\")","v":0},null,"ASSINT",{"$f":"COUNTIF([1]ASSINT!$F$3:$F$6,\"M\")","v":3},{"$f":"COUNTIF([1]ASSINT!$F$3:$F$6,\"F\")","v":1},{"$f":"COUNTIF([1]ASSINT!$F$3:$F$6,\"-\")","v":0},{"$f":"COUNTIFS([1]ASSINT!$D$3:$D$6,\"GER\",[1]ASSINT!$F$3:$F$6,\"M\")","v":1},{"$f":"COUNTIFS([1]ASSINT!$D$3:$D$6,\"GER\",[1]ASSINT!$F$3:$F$6,\"F\")","v":0},{"$f":"COUNTIFS([1]ASSINT!$D$3:$D$6,\"GER\",[1]ASSINT!$F$3:$F$6,\"-\")","v":0}]
["AECI",3,{"$f":"COUNTIF([1]AECI!$O$3:$O$5,\"BRANCA\")","v":1},{"$f":"COUNTIF([1]AECI!$O$3:$O$5,\"AMARELA\")","v":0},{"$f":"COUNTIF([1]AECI!$O$3:$O$5,\"PARDA\")","v":1},{"$f":"COUNTIF([1]AECI!$O$3:$O$5,\"INDIGINA\")","v":0},{"$f":"COUNTIF([1]AECI!$O$3:$O$5,\"PRETA\")","v":1},{"$f":"COUNTIF([1]AECI!$O$3:$O$5,\"-\")+COUNTIF([1]AECI!$O$3:$O$5,\"não informado\")","v":0},null,"AECI",1,{"$f":"COUNTIFS([1]AECI!$D$3:$D$5,\"GER\",[1]AECI!$O$3:$O$5,\"BRANCA\")","v":1},{"$f":"COUNTIFS([1]AECI!$D$3:$D$5,\"GER\",[1]AECI!$O$3:$O$5,\"AMARELA\")","v":0},{"$f":"COUNTIFS([1]AECI!$D$3:$D$5,\"GER\",[1]AECI!$O$3:$O$5,\"PARDA\")","v":0},{"$f":"COUNTIFS([1]AECI!$D$3:$D$5,\"GER\",[1]AECI!$O$3:$O$5,\"INDIGINA\")","v":0},{"$f":"COUNTIFS([1]AECI!$D$3:$D$5,\"GER\",[1]AECI!$O$3:$O$5,\"PRETA\")","v":0},{"$f":"COUNTIFS([1]AECI!$D$3:$D$5,\"GER\",[1]AECI!$O$3:$O$5,\"-\")+COUNTIFS([1]AECI!$D$3:$D$5,\"GER\",[1]AECI!$O$3:$O$5,\"não informado\")","v":0},null,"AECI",{"$f":"COUNTIF([1]AECI!$F$3:$F$5,\"M\")","v":1},{"$f":"COUNTIF([1]AECI!$F$3:$F$5,\"F\")","v":2},{"$f":"COUNTIF([1]AECI!$F$3:$F$5,\"-\")","v":0},{"$f":"COUNTIFS([1]AECI!$D$3:$D$5,\"GER\",[1]AECI!$F$3:$F$5,\"M\")","v":1},{"$f":"COUNTIFS([1]AECI!$D$3:$D$5,\"GER\",[1]AECI!$F$3:$F$5,\"F\")","v":0},{"$f":"COUNTIFS([1]AECI!$D$3:$D$5,\"GER\",[1]AECI!$F$3:$F$5,\"-\")","v":0}]
["AEPED",4,{"$f":"COUNTIF([1]AEPED!$O$3:$O$6,\"BRANCA\")","v":2},{"$f":"COUNTIF([1]AEPED!$O$3:$O$6,\"AMARELA\")","v":0},{"$f":"COUNTIF([1]AEPED!$O$3:$O$6,\"PARDA\")","v":2},{"$f":"COUNTIF([1]AEPED!$O$3:$O$6,\"INDIGINA\")","v":0},{"$f":"COUNTIF([1]AEPED!$O$3:$O$6,\"PRETA\")","v":0},{"$f":"COUNTIF([1]AEPED!$O$3:$O$6,\"-\")+COUNTIF([1]AEPED!$O$3:$O$6,\"não informado\")","v":0},null,"AEPED",1,{"$f":"COUNTIFS([1]AEPED!$D$3:$D$6,\"GER\",[1]AEPED!$O$3:$O$6,\"BRANCA\")","v":1},{"$f":"COUNTIFS([1]AEPED!$D$3:$D$6,\"GER\",[1]AEPED!$O$3:$O$6,\"AMARELA\")","v":0},{"$f":"COUNTIFS([1]AEPED!$D$3:$D$6,\"GER\",[1]AEPED!$O$3:$O$6,\"PARDA\")","v":0},{"$f":"COUNTIFS([1]AEPED!$D$3:$D$6,\"GER\",[1]AEPED!$O$3:$O$6,\"INDIGINA\")","v":0},{"$f":"COUNTIFS([1]AEPED!$D$3:$D$6,\"GER\",[1]AEPED!$O$3:$O$6,\"PRETA\")","v":0},{"$f":"COUNTIFS([1]AEPED!$D$3:$D$6,\"GER\",[1]AEPED!$O$3:$O$6,\"-\")+COUNTIFS([1]AEPED!$D$3:$D$6,\"GER\",[1]AEPED!$O$3:$O$6,\"não informado\")","v":0},null,"AEPED",{"$f":"COUNTIF([1]AEPED!$F$3:$F$6,\"M\")","v":4},{"$f":"COUNTIF([1]AEPED!$F$3:$F$6,\"F\")","v":0},{"$f":"COUNTIF([1]AEPED!$F$3:$F$6,\"-\")","v":0},{"$f":"COUNTIFS([1]AEPED!$D$3:$D$6,\"GER\",[1]AEPED!$F$3:$F$6,\"M\")","v":1},{"$f":"COUNTIFS([1]AEPED!$D$3:$D$6,\"GER\",[1]AEPED!$F$3:$F$6,\"F\")","v":0},{"$f":"COUNTIFS([1]AEPED!$D$3:$D$6,\"GER\",[1]AEPED!$F$3:$F$6,\"-\")","v":0}]
["SPE",30,{"$f":"COUNTIF([1]SPE!$O$3:$O$35,\"BRANCA\")","v":17},{"$f":"COUNTIF([1]SPE!$O$3:$O$35,\"AMARELA\")","v":0},{"$f":"COUNTIF([1]SPE!$O$3:$O$35,\"PARDA\")","v":11},{"$f":"COUNTIF([1]SPE!$O$3:$O$35,\"INDIGINA\")","v":0},{"$f":"COUNTIF([1]SPE!$O$3:$O$35,\"PRETA\")","v":1},{"$f":"COUNTIF([1]SPE!$O$3:$O$35,\"-\")+COUNTIF([1]SPE!$O$3:$O$35,\"não informado\")","v":1},null,"SPE",15,{"$f":"COUNTIFS([1]SPE!$D$3:$D$35,\"GER\",[1]SPE!$O$3:$O$35,\"BRANCA\")","v":10},{"$f":"COUNTIFS([1]SPE!$D$3:$D$35,\"GER\",[1]SPE!$O$3:$O$35,\"AMARELA\")","v":0},{"$f":"COUNTIFS([1]SPE!$D$3:$D$35,\"GER\",[1]SPE!$O$3:$O$35,\"PARDA\")","v":4},{"$f":"COUNTIFS([1]SPE!$D$3:$D$35,\"GER\",[1]SPE!$O$3:$O$35,\"INDIGINA\")","v":0},{"$f":"COUNTIFS([1]SPE!$D$3:$D$35,\"GER\",[1]SPE!$O$3:$O$35,\"PRETA\")","v":0},{"$f":"COUNTIFS([1]SPE!$D$3:$D$35,\"GER\",[1]SPE!$O$3:$O$35,\"-\")+COUNTIFS([1]SPE!$D$3:$D$35,\"GER\",[1]SPE!$O$3:$O$35,\"não informado\")","v":1},null,"SPE",{"$f":"COUNTIF([1]SPE!$F$3:$F$35,\"M\")","v":16},{"$f":"COUNTIF([1]SPE!$F$3:$F$35,\"F\")","v":13},{"$f":"COUNTIF([1]SPE!$F$3:$F$35,\"-\")","v":1},{"$f":"COUNTIFS([1]SPE!$D$3:$D$35,\"GER\",[1]SPE!$F$3:$F$35,\"M\")","v":12},{"$f":"COUNTIFS([1]SPE!$D$3:$D$35,\"GER\",[1]SPE!$F$3:$F$35,\"F\")","v":2},{"$f":"COUNTIFS([1]SPE!$D$3:$D$35,\"GER\",[1]SPE!$F$3:$F$35,\"-\")","v":1}]
["SEE",32,{"$f":"COUNTIF([1]SEE!$O$3:$O$39,\"BRANCA\")","v":18},{"$f":"COUNTIF([1]SEE!$O$3:$O$39,\"AMARELA\")","v":1},{"$f":"COUNTIF([1]SEE!$O$3:$O$39,\"PARDA\")","v":12},{"$f":"COUNTIF([1]SEE!$O$3:$O$39,\"INDIGINA\")","v":0},{"$f":"COUNTIF([1]SEE!$O$3:$O$39,\"PRETA\")","v":0},{"$f":"COUNTIF([1]SEE!$O$3:$O$39,\"-\")+COUNTIF([1]SEE!$O$3:$O$39,\"não informado\")","v":1},null,"SEE",16,{"$f":"COUNTIFS([1]SEE!$D$3:$D$39,\"GER\",[1]SEE!$O$3:$O$39,\"BRANCA\")","v":12},{"$f":"COUNTIFS([1]SEE!$D$3:$D$39,\"GER\",[1]SEE!$O$3:$O$39,\"AMARELA\")","v":0},{"$f":"COUNTIFS([1]SEE!$D$3:$D$39,\"GER\",[1]SEE!$O$3:$O$39,\"PARDA\")","v":4},{"$f":"COUNTIFS([1]SEE!$D$3:$D$39,\"GER\",[1]SEE!$O$3:$O$39,\"INDIGINA\")","v":0},{"$f":"COUNTIFS([1]SEE!$D$3:$D$39,\"GER\",[1]SEE!$O$3:$O$39,\"PRETA\")","v":0},{"$f":"COUNTIFS([1]SEE!$D$3:$D$39,\"GER\",[1]SEE!$O$3:$O$39,\"-\")+COUNTIFS([1]SEE!$D$3:$D$39,\"GER\",[1]SEE!$O$3:$O$39,\"não informado\")","v":0},null,"SEE",{"$f":"COUNTIF([1]SEE!$F$3:$F$39,\"M\")","v":19},{"$f":"COUNTIF([1]SEE!$F$3:$F$39,\"F\")","v":12},{"$f":"COUNTIF([1]SEE!$F$3:$F$39,\"-\")","v":1},{"$f":"COUNTIFS([1]SEE!$D$3:$D$39,\"GER\",[1]SEE!$F$3:$F$39,\"M\")","v":13},{"$f":"COUNTIFS([1]SEE!$D$3:$D$39,\"GER\",[1]SEE!$F$3:$F$39,\"F\")","v":3},{"$f":"COUNTIFS([1]SEE!$D$3:$D$39,\"GER\",[1]SEE!$F$3:$F$39,\"-\")","v":0}]
["SPG",26,{"$f":"COUNTIF([1]SPG!$O$3:$O$29,\"BRANCA\")","v":17},{"$f":"COUNTIF([1]SPG!$O$3:$O$29,\"AMARELA\")","v":1},{"$f":"COUNTIF([1]SPG!$O$3:$O$29,\"PARDA\")","v":5},{"$f":"COUNTIF([1]SPG!$O$3:$O$29,\"INDIGINA\")","v":0},{"$f":"COUNTIF([1]SPG!$O$3:$O$29,\"PRETA\")","v":1},{"$f":"COUNTIF([1]SPG!$O$3:$O$29,\"-\")+COUNTIF([1]SPG!$O$3:$O$29,\"não informado\")","v":2},null,"SPG",16,{"$f":"COUNTIFS([1]SPG!$D$3:$D$29,\"GER\",[1]SPG!$O$3:$O$29,\"BRANCA\")","v":10},{"$f":"COUNTIFS([1]SPG!$D$3:$D$29,\"GER\",[1]SPG!$O$3:$O$29,\"AMARELA\")","v":1},{"$f":"COUNTIFS([1]SPG!$D$3:$D$29,\"GER\",[1]SPG!$O$3:$O$29,\"PARDA\")","v":4},{"$f":"COUNTIFS([1]SPG!$D$3:$D$29,\"GER\",[1]SPG!$O$3:$O$29,\"INDIGINA\")","v":0},{"$f":"COUNTIFS([1]SPG!$D$3:$D$29,\"GER\",[1]SPG!$O$3:$O$29,\"PRETA\")","v":0},{"$f":"COUNTIFS([1]SPG!$D$3:$D$29,\"GER\",[1]SPG!$O$3:$O$29,\"-\")+COUNTIFS([1]SPG!$D$3:$D$29,\"GER\",[1]SPG!$O$3:$O$29,\"não informado\")","v":1},null,"SPG",{"$f":"COUNTIF([1]SPG!$F$3:$F$29,\"M\")","v":17},{"$f":"COUNTIF([1]SPG!$F$3:$F$29,\"F\")","v":7},{"$f":"COUNTIF([1]SPG!$F$3:$F$29,\"-\")","v":2},{"$f":"COUNTIFS([1]SPG!$D$3:$D$29,\"GER\",[1]SPG!$F$3:$F$29,\"M\")","v":11},{"$f":"COUNTIFS([1]SPG!$D$3:$D$29,\"GER\",[1]SPG!$F$3:$F$29,\"F\")","v":4},{"$f":"COUNTIFS([1]SPG!$D$3:$D$29,\"GER\",[1]SPG!$F$3:$F$29,\"-\")","v":1}]
["SGM",30,{"$f":"COUNTIF([1]SGM!$O$3:$O$33,\"BRANCA\")","v":21},{"$f":"COUNTIF([1]SGM!$O$3:$O$33,\"AMARELA\")","v":0},{"$f":"COUNTIF([1]SGM!$O$3:$O$33,\"PARDA\")","v":8},{"$f":"COUNTIF([1]SGM!$O$3:$O$33,\"INDIGINA\")","v":0},{"$f":"COUNTIF([1]SGM!$O$3:$O$33,\"PRETA\")","v":1},{"$f":"COUNTIF([1]SGM!$O$3:$O$33,\"-\")+COUNTIF([1]SGM!$O$3:$O$33,\"não informado\")","v":0},null,"SGM",14,{"$f":"COUNTIFS([1]SGM!$D$3:$D$33,\"GER\",[1]SGM!$O$3:$O$33,\"BRANCA\")","v":10},{"$f":"COUNTIFS([1]SGM!$D$3:$D$33,\"GER\",[1]SGM!$O$3:$O$33,\"AMARELA\")","v":0},{"$f":"COUNTIFS([1]SGM!$D$3:$D$33,\"GER\",[1]SGM!$O$3:$O$33,\"PARDA\")","v":4},{"$f":"COUNTIFS([1]SGM!$D$3:$D$33,\"GER\",[1]SGM!$O$3:$O$33,\"INDIGINA\")","v":0},{"$f":"COUNTIFS([1]SGM!$D$3:$D$33,\"GER\",[1]SGM!$O$3:$O$33,\"PRETA\")","v":0},{"$f":"COUNTIFS([1]SGM!$D$3:$D$33,\"GER\",[1]SGM!$O$3:$O$33,\"-\")+COUNTIFS([1]SGM!$D$3:$D$33,\"GER\",[1]SGM!$O$3:$O$33,\"não informado\")","v":0},null,"SGM",{"$f":"COUNTIF([1]SGM!$F$3:$F$33,\"M\")","v":14},{"$f":"COUNTIF([1]SGM!$F$3:$F$33,\"F\")","v":16},{"$f":"COUNTIF([1]SGM!$F$3:$F$33,\"-\")","v":0},{"$f":"COUNTIFS([1]SGM!$D$3:$D$33,\"GER\",[1]SGM!$F$3:$F$33,\"M\")","v":9},{"$f":"COUNTIFS([1]SGM!$D$3:$D$33,\"GER\",[1]SGM!$F$3:$F$33,\"F\")","v":5},{"$f":"COUNTIFS([1]SGM!$D$3:$D$33,\"GER\",[1]SGM!$F$3:$F$33,\"-\")","v":0}]
["ESCRITÓRIO RJ",4,{"$f":"COUNTIF([1]TEMPORÁRIO!$O$3:$O$6,\"BRANCA\")","v":2},{"$f":"COUNTIF([1]TEMPORÁRIO!$O$3:$O$6,\"AMARELA\")","v":0},{"$f":"COUNTIF([1]TEMPORÁRIO!$O$3:$O$6,\"PARDA\")","v":2},{"$f":"COUNTIF([1]TEMPORÁRIO!$O$3:$O$6,\"INDIGINA\")","v":0},{"$f":"COUNTIF([1]TEMPORÁRIO!$O$3:$O$6,\"PRETA\")","v":0},{"$f":"COUNTIF([1]TEMPORÁRIO!$O$3:$O$6,\"-\")+COUNTIF([1]TEMPORÁRIO!$O$3:$O$6,\"não informado\")","v":0},null,"ESCRITÓRIO RJ",1,{"$f":"COUNTIFS([1]TEMPORÁRIO!$D$3:$D$6,\"GER\",[1]TEMPORÁRIO!$O$3:$O$6,\"BRANCA\")","v":0},{"$f":"COUNTIFS([1]TEMPORÁRIO!$D$3:$D$6,\"GER\",[1]TEMPORÁRIO!$O$3:$O$6,\"AMARELA\")","v":0},{"$f":"COUNTIFS([1]TEMPORÁRIO!$D$3:$D$6,\"GER\",[1]TEMPORÁRIO!$O$3:$O$6,\"PARDA\")","v":1},{"$f":"COUNTIFS([1]TEMPORÁRIO!$D$3:$D$6,\"GER\",[1]TEMPORÁRIO!$O$3:$O$6,\"INDIGINA\")","v":0},{"$f":"COUNTIFS([1]TEMPORÁRIO!$D$3:$D$6,\"GER\",[1]TEMPORÁRIO!$O$3:$O$6,\"PRETA\")","v":0},{"$f":"COUNTIFS([1]TEMPORÁRIO!$D$3:$D$6,\"GER\",[1]SGM!$O$3:$O$6,\"-\")+COUNTIFS([1]TEMPORÁRIO!$D$3:$D$6,\"GER\",[1]TEMPORÁRIO!$O$3:$O$6,\"não informado\")","v":0},null,"ESCRITÓRIO RJ",{"$f":"COUNTIF([1]TEMPORÁRIO!$F$3:$F$6,\"M\")","v":3},{"$f":"COUNTIF([1]TEMPORÁRIO!$F$3:$F$6,\"F\")","v":1},{"$f":"COUNTIF([1]TEMPORÁRIO!$F$3:$F$6,\"-\")","v":0},{"$f":"COUNTIFS([1]TEMPORÁRIO!$D$3:$D$6,\"GER\",[1]TEMPORÁRIO!$F$3:$F$6,\"M\")","v":1},{"$f":"COUNTIFS([1]TEMPORÁRIO!$D$3:$D$6,\"GER\",[1]TEMPORÁRIO!$F$3:$F$6,\"F\")","v":0},{"$f":"COUNTIFS([1]TEMPORÁRIO!$D$3:$D$6,\"GER\",[1]TEMPORÁRIO!$F$3:$F$6,\"-\")","v":0}]
["Total",{"$f":"SUM(B23:B34)","v":298},179,6,92,0,9,12,null,"Total",{"$f":"SUM(K23:K34)","v":130},87,3,34,0,1,5,null,"TOTAL",{"$f":"SUM(T23:T34)","v":157},129,12,82,43,5]
[null,null,{"$f":"SUM(C35:H35)","v":298},{"$nulls":8},{"$f":"SUM(L35:Q35)","v":130},{"$nulls":7},{"$f":"SUM(T35:V35)","v":298},null,null,{"$f":"SUM(W35:Y35)","v":130}]
[]
[]
[]
[{"$f":"[1]NIVEL4!A4","v":"Unidade"},{"$f":"[1]NIVEL4!B4","v":"Total de DAS na Unidade Estrutura Nova"},{"$f":"[1]NIVEL4!C4","v":"Nível (Quantitativo) MME"}]
[null,null,{"$f":"[1]NIVEL4!C5","v":"DAS 1"},{"$nulls":3},{"$f":"[1]NIVEL4!G5","v":"FCPE 1"},null,{"$f":"[1]NIVEL4!I5","v":"DAS 2"},{"$nulls":3},{"$f":"[1]NIVEL4!M5","v":"FCPE 2"},{"$nulls":3},{"$f":"[1]NIVEL4!Q5","v":"DAS 3"},{"$nulls":3},{"$f":"[1]NIVEL4!U5","v":"FCPE 3"},{"$nulls":3},{"$f":"[1]NIVEL4!Y5","v":"DAS 4"},{"$nulls":3},{"$f":"[1]NIVEL4!AC5","v":"FCPE 4"},{"$nulls":3},{"$f":"[1]NIVEL4!AG5","v":"DAS 5"},{"$nulls":3},{"$f":"[1]NIVEL4!AK5","v":"DAS 6"},null,{"$f":"[1]NIVEL4!AM5","v":"NES"},null,{"$f":"[1]NIVEL4!AO5","v":"TOTAL DAS + FCPE"},null,null,{"$f":"[1]NIVEL4!AR5","v":"TOTAL      DAS"},null,null,{"$f":"[1]NIVEL4!AU5","v":"TOTAL     FCPE"}]
[null,null,{"$f":"[1]NIVEL4!C6","v":"101.1"},null,{"$f":"[1]NIVEL4!E6","v":"102.1"},null,{"$f":"[1]NIVEL4!G6","v":"102.1"},null,{"$f":"[1]NIVEL4!I6","v":"101.2"},null,{"$f":"[1]NIVEL4!K6","v":"102.2"},null,{"$f":"[1]NIVEL4!M6","v":"101.2"},null,{"$f":"[1]NIVEL4!O6","v":"102.2"},null,{"$f":"[1]NIVEL4!Q6","v":"101.3"},null,{"$f":"[1]NIVEL4!S6","v":"102.3"},null,{"$f":"[1]NIVEL4!U6","v":"101.3"},null,{"$f":"[1]NIVEL4!W6","v":"102.3"},null,{"$f":"[1]NIVEL4!Y6","v":"101.4"},null,{"$f":"[1]NIVEL4!AA6","v":"102.4"},null,{"$f":"[1]NIVEL4!AC6","v":"101.4"},null,{"$f":"[1]NIVEL4!AE6","v":"102.4"},null,{"$f":"[1]NIVEL4!AG6","v":"101.5"},null,{"$f":"[1]NIVEL4!AI6","v":"102.5"},null,{"$f":"[1]NIVEL4!AK6","v":"101.6"},null,{"$f":"[1]NIVEL4!AM6","v":"Secretário Executivo"}]
[null,null,{"$f":"[1]NIVEL4!C7","v":"Ocupado"},{"$f":"[1]NIVEL4!D7","v":"Vago"},{"$f":"[1]NIVEL4!E7","v":"Ocupado"},{"$f":"[1]NIVEL4!F7","v":"Vago"},{"$f":"[1]NIVEL4!G7","v":"Ocupado"},{"$f":"[1]NIVEL4!H7","v":"Vago"},{"$f":"[1]NIVEL4!I7","v":"Ocupado"},{"$f":"[1]NIVEL4!J7","v":"Vago"},{"$f":"[1]NIVEL4!K7","v":"Ocupado"},{"$f":"[1]NIVEL4!L7","v":"Vago"},{"$f":"[1]NIVEL4!M7","v":"Ocupado"},{"$f":"[1]NIVEL4!N7","v":"Vago"},{"$f":"[1]NIVEL4!O7","v":"Ocupado"},{"$f":"[1]NIVEL4!P7","v":"Vago"},{"$f":"[1]NIVEL4!Q7","v":"Ocupado"},{"$f":"[1]NIVEL4!R7","v":"Vago"},{"$f":"[1]NIVEL4!S7","v":"Ocupado"},{"$f":"[1]NIVEL4!T7","v":"Vago"},{"$f":"[1]NIVEL4!U7","v":"Ocupado"},{"$f":"[1]NIVEL4!V7","v":"Vago"},{"$f":"[1]NIVEL4!W7","v":"Ocupado"},{"$f":"[1]NIVEL4!X7","v":"Vago"},{"$f":"[1]NIVEL4!Y7","v":"Ocupado"},{"$f":"[1]NIVEL4!Z7","v":"Vago"},{"$f":"[1]NIVEL4!AA7","v":"Ocupado"},{"$f":"[1]NIVEL4!AB7","v":"Vago"},{"$f":"[1]NIVEL4!AC7","v":"Ocupado"},{"$f":"[1]NIVEL4!AD7","v":"Vago"},{"$f":"[1]NIVEL4!AE7","v":"Ocupado"},{"$f":"[1]NIVEL4!AF7","v":"Vago"},{"$f":"[1]NIVEL4!AG7","v":"Ocupado"},{"$f":"[1]NIVEL4!AH7","v":"Vago"},{"$f":"[1]NIVEL4!AI7","v":"Ocupado"},{"$f":"[1]NIVEL4!AJ7","v":"Vago"},{"$f":"[1]NIVEL4!AK7","v":"Ocupado"},{"$f":"[1]NIVEL4!AL7","v":"Vago"},{"$f":"[1]NIVEL4!AM7","v":"Ocupado"},{"$f":"[1]NIVEL4!AN7","v":"Vago"},{"$f":"[1]NIVEL4!AO7","v":"Ocupado"},{"$f":"[1]NIVEL4!AP7","v":"Vago"},{"$f":"[1]NIVEL4!AQ7","v":"Total"},{"$f":"[1]NIVEL4!AR7","v":"Ocupado"},{"$f":"[1]NIVEL4!AS7","v":"Vago"},{"$f":"[1]NIVEL4!AT7","v":"Total"},{"$f":"[1]NIVEL4!AU7","v":"Ocupado"},{"$f":"[1]NIVEL4!AV7","v":"Vago"},{"$f":"[1]NIVEL4!AW7","v":"Total"}]
[{"$f":"[1]NIVEL4!A8","v":"GM "},{"$f":"[1]NIVEL4!B8","v":51},{"$f":"[1]NIVEL4!C8","v":0},{"$f":"[1]NIVEL4!D8","v":0},{"$f":"[1]NIVEL4!E8","v":6},{"$f":"[1]NIVEL4!F8","v":0},{"$f":"[1]NIVEL4!G8","v":5},{"$f":"[1]NIVEL4!H8","v":0},{"$f":"[1]NIVEL4!I8","v":0},{"$f":"[1]NIVEL4!J8","v":0},{"$f":"[1]NIVEL4!K8","v":7},{"$f":"[1]NIVEL4!L8","v":0},{"$f":"[1]NIVEL4!M8","v":0},{"$f":"[1]NIVEL4!N8","v":0},{"$f":"[1]NIVEL4!O8","v":3},{"$f":"[1]NIVEL4!P8","v":0},{"$f":"[1]NIVEL4!Q8","v":0},{"$f":"[1]NIVEL4!R8","v":0},{"$f":"[1]NIVEL4!S8","v":5},{"$f":"[1]NIVEL4!T8","v":2},{"$f":"[1]NIVEL4!U8","v":1},{"$f":"[1]NIVEL4!V8","v":0},{"$f":"[1]NIVEL4!W8","v":1},{"$f":"[1]NIVEL4!X8","v":0},{"$f":"[1]NIVEL4!Y8","v":4},{"$f":"[1]NIVEL4!Z8","v":0},{"$f":"[1]NIVEL4!AA8","v":6},{"$f":"[1]NIVEL4!AB8","v":2},{"$f":"[1]NIVEL4!AC8","v":1},{"$f":"[1]NIVEL4!AD8","v":0},{"$f":"[1]NIVEL4!AE8","v":0},{"$f":"[1]NIVEL4!AF8","v":0},{"$f":"[1]NIVEL4!AG8","v":2},{"$f":"[1]NIVEL4!AH8","v":1},{"$f":"[1]NIVEL4!AI8","v":5},{"$f":"[1]NIVEL4!AJ8","v":0},{"$f":"[1]NIVEL4!AK8","v":0},{"$f":"[1]NIVEL4!AL8","v":0},{"$f":"[1]NIVEL4!AM8","v":0},{"$f":"[1]NIVEL4!AN8","v":0},{"$f":"[1]NIVEL4!AO8","v":46},{"$f":"[1]NIVEL4!AP8","v":5},{"$f":"[1]NIVEL4!AQ8","v":51},{"$f":"[1]NIVEL4!AR8","v":35},{"$f":"[1]NIVEL4!AS8","v":5},{"$f":"[1]NIVEL4!AT8","v":40},{"$f":"[1]NIVEL4!AU8","v":11},{"$f":"[1]NIVEL4!AV8","v":0},{"$f":"[1]NIVEL4!AW8","v":11}]
[{"$f":"[1]NIVEL4!A9","v":"SE"},{"$f":"[1]NIVEL4!B9","v":91},{"$f":"[1]NIVEL4!C9","v":1},{"$f":"[1]NIVEL4!D9","v":1},{"$f":"[1]NIVEL4!E9","v":5},{"$f":"[1]NIVEL4!F9","v":1},{"$f":"[1]NIVEL4!G9","v":8},{"$f":"[1]NIVEL4!H9","v":0},{"$f":"[1]NIVEL4!I9","v":10},{"$f":"[1]NIVEL4!J9","v":0},{"$f":"[1]NIVEL4!K9","v":14},{"$f":"[1]NIVEL4!L9","v":0},{"$f":"[1]NIVEL4!M9","v":2},{"$f":"[1]NIVEL4!N9","v":0},{"$f":"[1]NIVEL4!O9","v":3},{"$f":"[1]NIVEL4!P9","v":0},{"$f":"[1]NIVEL4!Q9","v":13},{"$f":"[1]NIVEL4!R9","v":1},{"$f":"[1]NIVEL4!S9","v":5},{"$f":"[1]NIVEL4!T9","v":0},{"$f":"[1]NIVEL4!U9","v":2},{"$f":"[1]NIVEL4!V9","v":0},{"$f":"[1]NIVEL4!W9","v":0},{"$f":"[1]NIVEL4!X9","v":0},{"$f":"[1]NIVEL4!Y9","v":8},{"$f":"[1]NIVEL4!Z9","v":0},{"$f":"[1]NIVEL4!AA9","v":5},{"$f":"[1]NIVEL4!AB9","v":0},{"$f":"[1]NIVEL4!AC9","v":3},{"$f":"[1]NIVEL4!AD9","v":0},{"$f":"[1]NIVEL4!AE9","v":0},{"$f":"[1]NIVEL4!AF9","v":0},{"$f":"[1]NIVEL4!AG9","v":7},{"$f":"[1]NIVEL4!AH9","v":0},{"$f":"[1]NIVEL4!AI9","v":0},{"$f":"[1]NIVEL4!AJ9","v":0},{"$f":"[1]NIVEL4!AK9","v":1},{"$f":"[1]NIVEL4!AL9","v":0},{"$f":"[1]NIVEL4!AM9","v":1},{"$f":"[1]NIVEL4!AN9","v":0},{"$f":"[1]NIVEL4!AO9","v":88},{"$f":"[1]NIVEL4!AP9","v":3},{"$f":"[1]NIVEL4!AQ9","v":91},{"$f":"[1]NIVEL4!AR9","v":70},{"$f":"[1]NIVEL4!AS9","v":3},{"$f":"[1]NIVEL4!AT9","v":73},{"$f":"[1]NIVEL4!AU9","v":18},{"$f":"[1]NIVEL4!AV9","v":0},{"$f":"[1]NIVEL4!AW9","v":18}]
[{"$f":"[1]NIVEL4!A10","v":"CONJUR"},{"$f":"[1]NIVEL4!B10","v":14},{"$f":"[1]NIVEL4!C10","v":0},{"$f":"[1]NIVEL4!D10","v":0},{"$f":"[1]NIVEL4!E10","v":1},{"$f":"[1]NIVEL4!F10","v":0},{"$f":"[1]NIVEL4!G10","v":0},{"$f":"[1]NIVEL4!H10","v":0},{"$f":"[1]NIVEL4!I10","v":0},{"$f":"[1]NIVEL4!J10","v":0},{"$f":"[1]NIVEL4!K10","v":5},{"$f":"[1]NIVEL4!L10","v":0},{"$f":"[1]NIVEL4!M10","v":0},{"$f":"[1]NIVEL4!N10","v":0},{"$f":"[1]NIVEL4!O10","v":1},{"$f":"[1]NIVEL4!P10","v":0},{"$f":"[1]NIVEL4!Q10","v":0},{"$f":"[1]NIVEL4!R10","v":0},{"$f":"[1]NIVEL4!S10","v":0},{"$f":"[1]NIVEL4!T10","v":0},{"$f":"[1]NIVEL4!U10","v":1},{"$f":"[1]NIVEL4!V10","v":0},{"$f":"[1]NIVEL4!W10","v":1},{"$f":"[1]NIVEL4!X10","v":0},{"$f":"[1]NIVEL4!Y10","v":0},{"$f":"[1]NIVEL4!Z10","v":0},{"$f":"[1]NIVEL4!AA10","v":1},{"$f":"[1]NIVEL4!AB10","v":0},{"$f":"[1]NIVEL4!AC10","v":3},{"$f":"[1]NIVEL4!AD10","v":0},{"$f":"[1]NIVEL4!AE10","v":0},{"$f":"[1]NIVEL4!AF10","v":0},{"$f":"[1]NIVEL4!AG10","v":1},{"$f":"[1]NIVEL4!AH10","v":0},{"$f":"[1]NIVEL4!AI10","v":0},{"$f":"[1]NIVEL4!AJ10","v":0},{"$f":"[1]NIVEL4!AK10","v":0},{"$f":"[1]NIVEL4!AL10","v":0},{"$f":"[1]NIVEL4!AM10","v":0},{"$f":"[1]NIVEL4!AN10","v":0},{"$f":"[1]NIVEL4!AO10","v":14},{"$f":"[1]NIVEL4!AP10","v":0},{"$f":"[1]NIVEL4!AQ10","v":14},{"$f":"[1]NIVEL4!AR10","v":8},{"$f":"[1]NIVEL4!AS10","v":0},{"$f":"[1]NIVEL4!AT10","v":8},{"$f":"[1]NIVEL4!AU10","v":6},{"$f":"[1]NIVEL4!AV10","v":0},{"$f":"[1]NIVEL4!AW10","v":6}]
[{"$f":"[1]NIVEL4!A11","v":"ASSEC"},{"$f":"[1]NIVEL4!B11","v":9},{"$f":"[1]NIVEL4!C11","v":0},{"$f":"[1]NIVEL4!D11","v":0},{"$f":"[1]NIVEL4!E11","v":0},{"$f":"[1]NIVEL4!F11","v":0},{"$f":"[1]NIVEL4!G11","v":0},{"$f":"[1]NIVEL4!H11","v":0},{"$f":"[1]NIVEL4!I11","v":0},{"$f":"[1]NIVEL4!J11","v":0},{"$f":"[1]NIVEL4!K11","v":0},{"$f":"[1]NIVEL4!L11","v":0},{"$f":"[1]NIVEL4!M11","v":0},{"$f":"[1]NIVEL4!N11","v":0},{"$f":"[1]NIVEL4!O11","v":0},{"$f":"[1]NIVEL4!P11","v":0},{"$f":"[1]NIVEL4!Q11","v":0},{"$f":"[1]NIVEL4!R11","v":0},{"$f":"[1]NIVEL4!S11","v":3},{"$f":"[1]NIVEL4!T11","v":0},{"$f":"[1]NIVEL4!U11","v":0},{"$f":"[1]NIVEL4!V11","v":0},{"$f":"[1]NIVEL4!W11","v":0},{"$f":"[1]NIVEL4!X11","v":0},{"$f":"[1]NIVEL4!Y11","v":0},{"$f":"[1]NIVEL4!Z11","v":0},{"$f":"[1]NIVEL4!AA11","v":5},{"$f":"[1]NIVEL4!AB11","v":0},{"$f":"[1]NIVEL4!AC11","v":0},{"$f":"[1]NIVEL4!AD11","v":0},{"$f":"[1]NIVEL4!AE11","v":0},{"$f":"[1]NIVEL4!AF11","v":0},{"$f":"[1]NIVEL4!AG11","v":1},{"$f":"[1]NIVEL4!AH11","v":0},{"$f":"[1]NIVEL4!AI11","v":0},{"$f":"[1]NIVEL4!AJ11","v":0},{"$f":"[1]NIVEL4!AK11","v":0},{"$f":"[1]NIVEL4!AL11","v":0},{"$f":"[1]NIVEL4!AM11","v":0},{"$f":"[1]NIVEL4!AN11","v":0},{"$f":"[1]NIVEL4!AO11","v":9},{"$f":"[1]NIVEL4!AP11","v":0},{"$f":"[1]NIVEL4!AQ11","v":9},{"$f":"[1]NIVEL4!AR11","v":9},{"$f":"[1]NIVEL4!AS11","v":0},{"$f":"[1]NIVEL4!AT11","v":9},{"$f":"[1]NIVEL4!AU11","v":0},{"$f":"[1]NIVEL4!AV11","v":0},{"$f":"[1]NIVEL4!AW11","v":0}]
[{"$f":"[1]NIVEL4!A12","v":"ASSINT"},{"$f":"[1]NIVEL4!B12","v":4},{"$f":"[1]NIVEL4!C12","v":0},{"$f":"[1]NIVEL4!D12","v":0},{"$f":"[1]NIVEL4!E12","v":0},{"$f":"[1]NIVEL4!F12","v":0},{"$f":"[1]NIVEL4!G12","v":0},{"$f":"[1]NIVEL4!H12","v":0},{"$f":"[1]NIVEL4!I12","v":0},{"$f":"[1]NIVEL4!J12","v":0},{"$f":"[1]NIVEL4!K12","v":1},{"$f":"[1]NIVEL4!L12","v":0},{"$f":"[1]NIVEL4!M12","v":0},{"$f":"[1]NIVEL4!N12","v":0},{"$f":"[1]NIVEL4!O12","v":1},{"$f":"[1]NIVEL4!P12","v":0},{"$f":"[1]NIVEL4!Q12","v":0},{"$f":"[1]NIVEL4!R12","v":0},{"$f":"[1]NIVEL4!S12","v":0},{"$f":"[1]NIVEL4!T12","v":0},{"$f":"[1]NIVEL4!U12","v":0},{"$f":"[1]NIVEL4!V12","v":0},{"$f":"[1]NIVEL4!W12","v":0},{"$f":"[1]NIVEL4!X12","v":0},{"$f":"[1]NIVEL4!Y12","v":0},{"$f":"[1]NIVEL4!Z12","v":0},{"$f":"[1]NIVEL4!AA12","v":1},{"$f":"[1]NIVEL4!AB12","v":0},{"$f":"[1]NIVEL4!AC12","v":0},{"$f":"[1]NIVEL4!AD12","v":0},{"$f":"[1]NIVEL4!AE12","v":0},{"$f":"[1]NIVEL4!AF12","v":0},{"$f":"[1]NIVEL4!AG12","v":1},{"$f":"[1]NIVEL4!AH12","v":0},{"$f":"[1]NIVEL4!AI12","v":0},{"$f":"[1]NIVEL4!AJ12","v":0},{"$f":"[1]NIVEL4!AK12","v":0},{"$f":"[1]NIVEL4!AL12","v":0},{"$f":"[1]NIVEL4!AM12","v":0},{"$f":"[1]NIVEL4!AN12","v":0},{"$f":"[1]NIVEL4!AO12","v":4},{"$f":"[1]NIVEL4!AP12","v":0},{"$f":"[1]NIVEL4!AQ12","v":4},{"$f":"[1]NIVEL4!AR12","v":3},{"$f":"[1]NIVEL4!AS12","v":0},{"$f":"[1]NIVEL4!AT12","v":3},{"$f":"[1]NIVEL4!AU12","v":1},{"$f":"[1]NIVEL4!AV12","v":0},{"$f":"[1]NIVEL4!AW12","v":1}]
[{"$f":"[1]NIVEL4!A13","v":"AECI"},{"$f":"[1]NIVEL4!B13","v":3},{"$f":"[1]NIVEL4!C13","v":0},{"$f":"[1]NIVEL4!D13","v":0},{"$f":"[1]NIVEL4!E13","v":0},{"$f":"[1]NIVEL4!F13","v":0},{"$f":"[1]NIVEL4!G13","v":0},{"$f":"[1]NIVEL4!H13","v":0},{"$f":"[1]NIVEL4!I13","v":0},{"$f":"[1]NIVEL4!J13","v":0},{"$f":"[1]NIVEL4!K13","v":0},{"$f":"[1]NIVEL4!L13","v":0},{"$f":"[1]NIVEL4!M13","v":0},{"$f":"[1]NIVEL4!N13","v":0},{"$f":"[1]NIVEL4!O13","v":1},{"$f":"[1]NIVEL4!P13","v":0},{"$f":"[1]NIVEL4!Q13","v":0},{"$f":"[1]NIVEL4!R13","v":0},{"$f":"[1]NIVEL4!S13","v":0},{"$f":"[1]NIVEL4!T13","v":0},{"$f":"[1]NIVEL4!U13","v":0},{"$f":"[1]NIVEL4!V13","v":0},{"$f":"[1]NIVEL4!W13","v":0},{"$f":"[1]NIVEL4!X13","v":0},{"$f":"[1]NIVEL4!Y13","v":0},{"$f":"[1]NIVEL4!Z13","v":0},{"$f":"[1]NIVEL4!AA13","v":0},{"$f":"[1]NIVEL4!AB13","v":0},{"$f":"[1]NIVEL4!AC13","v":0},{"$f":"[1]NIVEL4!AD13","v":0},{"$f":"[1]NIVEL4!AE13","v":1},{"$f":"[1]NIVEL4!AF13","v":0},{"$f":"[1]NIVEL4!AG13","v":1},{"$f":"[1]NIVEL4!AH13","v":0},{"$f":"[1]NIVEL4!AI13","v":0},{"$f":"[1]NIVEL4!AJ13","v":0},{"$f":"[1]NIVEL4!AK13","v":0},{"$f":"[1]NIVEL4!AL13","v":0},{"$f":"[1]NIVEL4!AM13","v":0},{"$f":"[1]NIVEL4!AN13","v":0},{"$f":"[1]NIVEL4!AO13","v":3},{"$f":"[1]NIVEL4!AP13","v":0},{"$f":"[1]NIVEL4!AQ13","v":3},{"$f":"[1]NIVEL4!AR13","v":1},{"$f":"[1]NIVEL4!AS13","v":0},{"$f":"[1]NIVEL4!AT13","v":1},{"$f":"[1]NIVEL4!AU13","v":2},{"$f":"[1]NIVEL4!AV13","v":0},{"$f":"[1]NIVEL4!AW13","v":2}]
[{"$f":"[1]NIVEL4!A14","v":"AEPED"},{"$f":"[1]NIVEL4!B14","v":4},{"$f":"[1]NIVEL4!C14","v":0},{"$f":"[1]NIVEL4!D14","v":0},{"$f":"[1]NIVEL4!E14","v":0},{"$f":"[1]NIVEL4!F14","v":0},{"$f":"[1]NIVEL4!G14","v":0},{"$f":"[1]NIVEL4!H14","v":0},{"$f":"[1]NIVEL4!I14","v":0},{"$f":"[1]NIVEL4!J14","v":0},{"$f":"[1]NIVEL4!K14","v":0},{"$f":"[1]NIVEL4!L14","v":0},{"$f":"[1]NIVEL4!M14","v":0},{"$f":"[1]NIVEL4!N14","v":0},{"$f":"[1]NIVEL4!O14","v":0},{"$f":"[1]NIVEL4!P14","v":0},{"$f":"[1]NIVEL4!Q14","v":0},{"$f":"[1]NIVEL4!R14","v":0},{"$f":"[1]NIVEL4!S14","v":1},{"$f":"[1]NIVEL4!T14","v":0},{"$f":"[1]NIVEL4!U14","v":0},{"$f":"[1]NIVEL4!V14","v":0},{"$f":"[1]NIVEL4!W14","v":0},{"$f":"[1]NIVEL4!X14","v":0},{"$f":"[1]NIVEL4!Y14","v":0},{"$f":"[1]NIVEL4!Z14","v":0},{"$f":"[1]NIVEL4!AA14","v":1},{"$f":"[1]NIVEL4!AB14","v":0},{"$f":"[1]NIVEL4!AC14","v":0},{"$f":"[1]NIVEL4!AD14","v":0},{"$f":"[1]NIVEL4!AE14","v":1},{"$f":"[1]NIVEL4!AF14","v":0},{"$f":"[1]NIVEL4!AG14","v":1},{"$f":"[1]NIVEL4!AH14","v":0},{"$f":"[1]NIVEL4!AI14","v":0},{"$f":"[1]NIVEL4!AJ14","v":0},{"$f":"[1]NIVEL4!AK14","v":0},{"$f":"[1]NIVEL4!AL14","v":0},{"$f":"[1]NIVEL4!AM14","v":0},{"$f":"[1]NIVEL4!AN14","v":0},{"$f":"[1]NIVEL4!AO14","v":4},{"$f":"[1]NIVEL4!AP14","v":0},{"$f":"[1]NIVEL4!AQ14","v":4},{"$f":"[1]NIVEL4!AR14","v":3},{"$f":"[1]NIVEL4!AS14","v":0},{"$f":"[1]NIVEL4!AT14","v":3},{"$f":"[1]NIVEL4!AU14","v":1},{"$f":"[1]NIVEL4!AV14","v":0},{"$f":"[1]NIVEL4!AW14","v":1}]
[{"$f":"[1]NIVEL4!A15","v":"SPE"},{"$f":"[1]NIVEL4!B15","v":30},{"$f":"[1]NIVEL4!C15","v":0},{"$f":"[1]NIVEL4!D15","v":0},{"$f":"[1]NIVEL4!E15","v":0},{"$f":"[1]NIVEL4!F15","v":0},{"$f":"[1]NIVEL4!G15","v":0},{"$f":"[1]NIVEL4!H15","v":0},{"$f":"[1]NIVEL4!I15","v":0},{"$f":"[1]NIVEL4!J15","v":0},{"$f":"[1]NIVEL4!K15","v":6},{"$f":"[1]NIVEL4!L15","v":0},{"$f":"[1]NIVEL4!M15","v":0},{"$f":"[1]NIVEL4!N15","v":0},{"$f":"[1]NIVEL4!O15","v":3},{"$f":"[1]NIVEL4!P15","v":0},{"$f":"[1]NIVEL4!Q15","v":0},{"$f":"[1]NIVEL4!R15","v":0},{"$f":"[1]NIVEL4!S15","v":2},{"$f":"[1]NIVEL4!T15","v":0},{"$f":"[1]NIVEL4!U15","v":0},{"$f":"[1]NIVEL4!V15","v":0},{"$f":"[1]NIVEL4!W15","v":1},{"$f":"[1]NIVEL4!X15","v":0},{"$f":"[1]NIVEL4!Y15","v":8},{"$f":"[1]NIVEL4!Z15","v":0},{"$f":"[1]NIVEL4!AA15","v":3},{"$f":"[1]NIVEL4!AB15","v":0},{"$f":"[1]NIVEL4!AC15","v":1},{"$f":"[1]NIVEL4!AD15","v":0},{"$f":"[1]NIVEL4!AE15","v":0},{"$f":"[1]NIVEL4!AF15","v":0},{"$f":"[1]NIVEL4!AG15","v":5},{"$f":"[1]NIVEL4!AH15","v":0},{"$f":"[1]NIVEL4!AI15","v":0},{"$f":"[1]NIVEL4!AJ15","v":0},{"$f":"[1]NIVEL4!AK15","v":0},{"$f":"[1]NIVEL4!AL15","v":1},{"$f":"[1]NIVEL4!AM15","v":0},{"$f":"[1]NIVEL4!AN15","v":0},{"$f":"[1]NIVEL4!AO15","v":29},{"$f":"[1]NIVEL4!AP15","v":1},{"$f":"[1]NIVEL4!AQ15","v":30},{"$f":"[1]NIVEL4!AR15","v":24},{"$f":"[1]NIVEL4!AS15","v":1},{"$f":"[1]NIVEL4!AT15","v":25},{"$f":"[1]NIVEL4!AU15","v":5},{"$f":"[1]NIVEL4!AV15","v":0},{"$f":"[1]NIVEL4!AW15","v":5}]
[{"$f":"[1]NIVEL4!A16","v":"SEE"},{"$f":"[1]NIVEL4!B16","v":32},{"$f":"[1]NIVEL4!C16","v":0},{"$f":"[1]NIVEL4!D16","v":0},{"$f":"[1]NIVEL4!E16","v":0},{"$f":"[1]NIVEL4!F16","v":0},{"$f":"[1]NIVEL4!G16","v":0},{"$f":"[1]NIVEL4!H16","v":0},{"$f":"[1]NIVEL4!I16","v":0},{"$f":"[1]NIVEL4!J16","v":0},{"$f":"[1]NIVEL4!K16","v":10},{"$f":"[1]NIVEL4!L16","v":1},{"$f":"[1]NIVEL4!M16","v":0},{"$f":"[1]NIVEL4!N16","v":0},{"$f":"[1]NIVEL4!O16","v":0},{"$f":"[1]NIVEL4!P16","v":0},{"$f":"[1]NIVEL4!Q16","v":0},{"$f":"[1]NIVEL4!R16","v":0},{"$f":"[1]NIVEL4!S16","v":2},{"$f":"[1]NIVEL4!T16","v":0},{"$f":"[1]NIVEL4!U16","v":0},{"$f":"[1]NIVEL4!V16","v":0},{"$f":"[1]NIVEL4!W16","v":2},{"$f":"[1]NIVEL4!X16","v":0},{"$f":"[1]NIVEL4!Y16","v":8},{"$f":"[1]NIVEL4!Z16","v":0},{"$f":"[1]NIVEL4!AA16","v":1},{"$f":"[1]NIVEL4!AB16","v":0},{"$f":"[1]NIVEL4!AC16","v":2},{"$f":"[1]NIVEL4!AD16","v":0},{"$f":"[1]NIVEL4!AE16","v":0},{"$f":"[1]NIVEL4!AF16","v":0},{"$f":"[1]NIVEL4!AG16","v":5},{"$f":"[1]NIVEL4!AH16","v":0},{"$f":"[1]NIVEL4!AI16","v":0},{"$f":"[1]NIVEL4!AJ16","v":0},{"$f":"[1]NIVEL4!AK16","v":1},{"$f":"[1]NIVEL4!AL16","v":0},{"$f":"[1]NIVEL4!AM16","v":0},{"$f":"[1]NIVEL4!AN16","v":0},{"$f":"[1]NIVEL4!AO16","v":31},{"$f":"[1]NIVEL4!AP16","v":1},{"$f":"[1]NIVEL4!AQ16","v":32},{"$f":"[1]NIVEL4!AR16","v":27},{"$f":"[1]NIVEL4!AS16","v":1},{"$f":"[1]NIVEL4!AT16","v":28},{"$f":"[1]NIVEL4!AU16","v":4},{"$f":"[1]NIVEL4!AV16","v":0},{"$f":"[1]NIVEL4!AW16","v":4}]
[{"$f":"[1]NIVEL4!A17","v":"SPG"},{"$f":"[1]NIVEL4!B17","v":26},{"$f":"[1]NIVEL4!C17","v":0},{"$f":"[1]NIVEL4!D17","v":0},{"$f":"[1]NIVEL4!E17","v":0},{"$f":"[1]NIVEL4!F17","v":1},{"$f":"[1]NIVEL4!G17","v":0},{"$f":"[1]NIVEL4!H17","v":0},{"$f":"[1]NIVEL4!I17","v":0},{"$f":"[1]NIVEL4!J17","v":0},{"$f":"[1]NIVEL4!K17","v":2},{"$f":"[1]NIVEL4!L17","v":0},{"$f":"[1]NIVEL4!M17","v":0},{"$f":"[1]NIVEL4!N17","v":0},{"$f":"[1]NIVEL4!O17","v":4},{"$f":"[1]NIVEL4!P17","v":0},{"$f":"[1]NIVEL4!Q17","v":0},{"$f":"[1]NIVEL4!R17","v":0},{"$f":"[1]NIVEL4!S17","v":1},{"$f":"[1]NIVEL4!T17","v":0},{"$f":"[1]NIVEL4!U17","v":0},{"$f":"[1]NIVEL4!V17","v":0},{"$f":"[1]NIVEL4!W17","v":0},{"$f":"[1]NIVEL4!X17","v":0},{"$f":"[1]NIVEL4!Y17","v":10},{"$f":"[1]NIVEL4!Z17","v":0},{"$f":"[1]NIVEL4!AA17","v":2},{"$f":"[1]NIVEL4!AB17","v":0},{"$f":"[1]NIVEL4!AC17","v":0},{"$f":"[1]NIVEL4!AD17","v":0},{"$f":"[1]NIVEL4!AE17","v":0},{"$f":"[1]NIVEL4!AF17","v":0},{"$f":"[1]NIVEL4!AG17","v":4},{"$f":"[1]NIVEL4!AH17","v":1},{"$f":"[1]NIVEL4!AI17","v":0},{"$f":"[1]NIVEL4!AJ17","v":0},{"$f":"[1]NIVEL4!AK17","v":1},{"$f":"[1]NIVEL4!AL17","v":0},{"$f":"[1]NIVEL4!AM17","v":0},{"$f":"[1]NIVEL4!AN17","v":0},{"$f":"[1]NIVEL4!AO17","v":24},{"$f":"[1]NIVEL4!AP17","v":2},{"$f":"[1]NIVEL4!AQ17","v":26},{"$f":"[1]NIVEL4!AR17","v":20},{"$f":"[1]NIVEL4!AS17","v":2},{"$f":"[1]NIVEL4!AT17","v":22},{"$f":"[1]NIVEL4!AU17","v":4},{"$f":"[1]NIVEL4!AV17","v":0},{"$f":"[1]NIVEL4!AW17","v":4}]
[{"$f":"[1]NIVEL4!A18","v":"SGM"},{"$f":"[1]NIVEL4!B18","v":30},{"$f":"[1]NIVEL4!C18","v":0},{"$f":"[1]NIVEL4!D18","v":0},{"$f":"[1]NIVEL4!E18","v":1},{"$f":"[1]NIVEL4!F18","v":0},{"$f":"[1]NIVEL4!G18","v":0},{"$f":"[1]NIVEL4!H18","v":0},{"$f":"[1]NIVEL4!I18","v":0},{"$f":"[1]NIVEL4!J18","v":0},{"$f":"[1]NIVEL4!K18","v":7},{"$f":"[1]NIVEL4!L18","v":0},{"$f":"[1]NIVEL4!M18","v":0},{"$f":"[1]NIVEL4!N18","v":0},{"$f":"[1]NIVEL4!O18","v":4},{"$f":"[1]NIVEL4!P18","v":0},{"$f":"[1]NIVEL4!Q18","v":0},{"$f":"[1]NIVEL4!R18","v":0},{"$f":"[1]NIVEL4!S18","v":2},{"$f":"[1]NIVEL4!T18","v":0},{"$f":"[1]NIVEL4!U18","v":0},{"$f":"[1]NIVEL4!V18","v":0},{"$f":"[1]NIVEL4!W18","v":2},{"$f":"[1]NIVEL4!X18","v":0},{"$f":"[1]NIVEL4!Y18","v":4},{"$f":"[1]NIVEL4!Z18","v":0},{"$f":"[1]NIVEL4!AA18","v":0},{"$f":"[1]NIVEL4!AB18","v":0},{"$f":"[1]NIVEL4!AC18","v":4},{"$f":"[1]NIVEL4!AD18","v":0},{"$f":"[1]NIVEL4!AE18","v":0},{"$f":"[1]NIVEL4!AF18","v":0},{"$f":"[1]NIVEL4!AG18","v":5},{"$f":"[1]NIVEL4!AH18","v":0},{"$f":"[1]NIVEL4!AI18","v":0},{"$f":"[1]NIVEL4!AJ18","v":0},{"$f":"[1]NIVEL4!AK18","v":1},{"$f":"[1]NIVEL4!AL18","v":0},{"$f":"[1]NIVEL4!AM18","v":0},{"$f":"[1]NIVEL4!AN18","v":0},{"$f":"[1]NIVEL4!AO18","v":30},{"$f":"[1]NIVEL4!AP18","v":0},{"$f":"[1]NIVEL4!AQ18","v":30},{"$f":"[1]NIVEL4!AR18","v":20},{"$f":"[1]NIVEL4!AS18","v":0},{"$f":"[1]NIVEL4!AT18","v":20},{"$f":"[1]NIVEL4!AU18","v":10},{"$f":"[1]NIVEL4!AV18","v":0},{"$f":"[1]NIVEL4!AW18","v":10}]
[{"$f":"[1]NIVEL4!A19","v":"ESCRITÓRIO RJ"},{"$f":"[1]NIVEL4!B19","v":4},{"$f":"[1]NIVEL4!C19","v":0},{"$f":"[1]NIVEL4!D19","v":0},{"$f":"[1]NIVEL4!E19","v":0},{"$f":"[1]NIVEL4!F19","v":0},{"$f":"[1]NIVEL4!G19","v":0},{"$f":"[1]NIVEL4!H19","v":0},{"$f":"[1]NIVEL4!I19","v":0},{"$f":"[1]NIVEL4!J19","v":0},{"$f":"[1]NIVEL4!K19","v":0},{"$f":"[1]NIVEL4!L19","v":0},{"$f":"[1]NIVEL4!M19","v":0},{"$f":"[1]NIVEL4!N19","v":0},{"$f":"[1]NIVEL4!O19","v":0},{"$f":"[1]NIVEL4!P19","v":0},{"$f":"[1]NIVEL4!Q19","v":0},{"$f":"[1]NIVEL4!R19","v":0},{"$f":"[1]NIVEL4!S19","v":3},{"$f":"[1]NIVEL4!T19","v":0},{"$f":"[1]NIVEL4!U19","v":0},{"$f":"[1]NIVEL4!V19","v":0},{"$f":"[1]NIVEL4!W19","v":0},{"$f":"[1]NIVEL4!X19","v":0},{"$f":"[1]NIVEL4!Y19","v":1},{"$f":"[1]NIVEL4!Z19","v":0},{"$f":"[1]NIVEL4!AA19","v":0},{"$f":"[1]NIVEL4!AB19","v":0},{"$f":"[1]NIVEL4!AC19","v":0},{"$f":"[1]NIVEL4!AD19","v":0},{"$f":"[1]NIVEL4!AE19","v":0},{"$f":"[1]NIVEL4!AF19","v":0},{"$f":"[1]NIVEL4!AG19","v":0},{"$f":"[1]NIVEL4!AH19","v":0},{"$f":"[1]NIVEL4!AI19","v":0},{"$f":"[1]NIVEL4!AJ19","v":0},{"$f":"[1]NIVEL4!AK19","v":0},{"$f":"[1]NIVEL4!AL19","v":0},{"$f":"[1]NIVEL4!AM19","v":0},{"$f":"[1]NIVEL4!AN19","v":0},{"$f":"[1]NIVEL4!AO19","v":4},{"$f":"[1]NIVEL4!AP19","v":0},{"$f":"[1]NIVEL4!AQ19","v":4},{"$f":"[1]NIVEL4!AR19","v":4},{"$f":"[1]NIVEL4!AS19","v":0},{"$f":"[1]NIVEL4!AT19","v":4},{"$f":"[1]NIVEL4!AU19","v":0},{"$f":"[1]NIVEL4!AV19","v":0},{"$f":"[1]NIVEL4!AW19","v":0}]
[{"$f":"[1]NIVEL4!A21","v":"TOTAL"},{"$f":"[1]NIVEL4!B21","v":298},{"$f":"[1]NIVEL4!C21","v":1},{"$f":"[1]NIVEL4!D21","v":1},{"$f":"[1]NIVEL4!E21","v":13},{"$f":"[1]NIVEL4!F21","v":2},{"$f":"[1]NIVEL4!G21","v":13},{"$f":"[1]NIVEL4!H21","v":0},{"$f":"[1]NIVEL4!I21","v":10},{"$f":"[1]NIVEL4!J21","v":0},{"$f":"[1]NIVEL4!K21","v":52},{"$f":"[1]NIVEL4!L21","v":1},{"$f":"[1]NIVEL4!M21","v":2},{"$f":"[1]NIVEL4!N21","v":0},{"$f":"[1]NIVEL4!O21","v":20},{"$f":"[1]NIVEL4!P21","v":0},{"$f":"[1]NIVEL4!Q21","v":13},{"$f":"[1]NIVEL4!R21","v":1},{"$f":"[1]NIVEL4!S21","v":24},{"$f":"[1]NIVEL4!T21","v":2},{"$f":"[1]NIVEL4!U21","v":4},{"$f":"[1]NIVEL4!V21","v":0},{"$f":"[1]NIVEL4!W21","v":7},{"$f":"[1]NIVEL4!X21","v":0},{"$f":"[1]NIVEL4!Y21","v":43},{"$f":"[1]NIVEL4!Z21","v":0},{"$f":"[1]NIVEL4!AA21","v":25},{"$f":"[1]NIVEL4!AB21","v":2},{"$f":"[1]NIVEL4!AC21","v":14},{"$f":"[1]NIVEL4!AD21","v":0},{"$f":"[1]NIVEL4!AE21","v":2},{"$f":"[1]NIVEL4!AF21","v":0},{"$f":"[1]NIVEL4!AG21","v":33},{"$f":"[1]NIVEL4!AH21","v":2},{"$f":"[1]NIVEL4!AI21","v":5},{"$f":"[1]NIVEL4!AJ21","v":0},{"$f":"[1]NIVEL4!AK21","v":4},{"$f":"[1]NIVEL4!AL21","v":1},{"$f":"[1]NIVEL4!AM21","v":1},{"$f":"[1]NIVEL4!AN21","v":0},{"$f":"[1]NIVEL4!AO21","v":286},{"$f":"[1]NIVEL4!AP21","v":12},{"$f":"[1]NIVEL4!AQ21","v":298},{"$f":"[1]NIVEL4!AR21","v":224},{"$f":"[1]NIVEL4!AS21","v":12},{"$f":"[1]NIVEL4!AT21","v":236},{"$f":"[1]NIVEL4!AU21","v":62},{"$f":"[1]NIVEL4!AV21","v":0},{"$f":"[1]NIVEL4!AW21","v":62}]
[{"$f":"[1]NIVEL4!A22","v":"TOTAL"},null,{"$f":"[1]NIVEL4!C22","v":2},null,{"$f":"[1]NIVEL4!E22","v":15},null,{"$f":"[1]NIVEL4!G22","v":13},null,{"$f":"[1]NIVEL4!I22","v":10},null,{"$f":"[1]NIVEL4!K22","v":53},null,{"$f":"[1]NIVEL4!M22","v":2},null,{"$f":"[1]NIVEL4!O22","v":20},null,{"$f":"[1]NIVEL4!Q22","v":14},null,{"$f":"[1]NIVEL4!S22","v":26},null,{"$f":"[1]NIVEL4!U22","v":4},null,{"$f":"[1]NIVEL4!W22","v":7},null,{"$f":"[1]NIVEL4!Y22","v":43},null,{"$f":"[1]NIVEL4!AA22","v":27},null,{"$f":"[1]NIVEL4!AC22","v":14},null,{"$f":"[1]NIVEL4!AE22","v":2},null,{"$f":"[1]NIVEL4!AG22","v":35},null,{"$f":"[1]NIVEL4!AI22","v":5},null,{"$f":"[1]NIVEL4!AK22","v":5},null,{"$f":"[1]NIVEL4!AM22","v":1}]

{"sheet":"PCOMVUNITARIO","index":15,"n_rows":50,"n_cols":40,"rows_kept":50,"merged":[[0,0,0,22],[2,1,3,1],[2,2,2,4],[2,8,2,13],[3,8,4,8],[3,9,4,9],[3,10,4,10],[3,11,4,11],[3,12,4,12],[3,13,4,13],[11,0,11,4],[17,0,17,1],[22,0,22,4],[27,0,27,1],[29,0,29,1],[31,0,31,1],[34,0,36,0],[34,1,34,39],[35,1,35,3],[35,4,35,6],[35,7,35,9],[35,10,35,12],[35,13,35,15],[35,16,35,18],[35,19,35,21],[35,22,35,24],[35,25,35,27],[35,28,35,30],[35,31,35,33],[35,34,36,34],[35,35,36,35],[35,36,36,36],[35,37,36,37],[35,38,36,38],[35,39,36,39]]}
["VALOR UNITÁRIO DE FUNÇÕES"]
[]
[null,{"$f":"[1]UNITÁRIO!B2","v":"DAS/FCPE UNITÁRIO"},{"$f":"[1]UNITÁRIO!C2","v":"SITUAÇÃO ATUAL"},{"$nulls":4},{"$f":"[1]UNITÁRIO!A60","v":"Unidade"},{"$f":"[1]UNITÁRIO!B60","v":"QUADRO RESUMO"}]
[{"$f":"[1]UNITÁRIO!A3","v":"CÓDIGO"},null,{"$f":"[1]UNITÁRIO!C3","v":"QTD."},{"$f":"[1]UNITÁRIO!D3","v":"% QTD."},{"$f":"[1]UNITÁRIO!E3","v":"VALOR TOTAL"},{"$f":"[1]UNITÁRIO!F3","v":"% VALOR TOTAL"},null,null,{"$f":"[1]UNITÁRIO!B61","v":"Total Custo Unitário DAS/FCPE"},{"$f":"[1]UNITÁRIO!C61","v":"% Total Custo Unitário DAS/FCPE"},{"$f":"[1]UNITÁRIO!D61","v":"TOTAL DAS + FCPE"},{"$f":"[1]UNITÁRIO!E61","v":"% TOTAL DAS + FCPE"},{"$f":"[1]UNITÁRIO!F61","v":"TOTAL      DAS"},{"$f":"[1]UNITÁRIO!G61","v":"TOTAL     FCPE"}]
[{"$f":"[1]UNITÁRIO!A4","v":"NE"},{"$f":"[1]UNITÁRIO!B4","v":6.41},{"$f":"[1]UNITÁRIO!C4","v":1},{"$f":"[1]UNITÁRIO!D4","v":{"v":2.6666666666666666E-3,"d":"0.27%"}},{"$f":"[1]UNITÁRIO!E4","v":6.41},{"$f":"[1]UNITÁRIO!F4","v":{"v":0.008220583520359093,"d":"0.82%"}}]
[{"$f":"[1]UNITÁRIO!A5","v":"DAS 101.6"},{"$f":"[1]UNITÁRIO!B5","v":6.27},{"$f":"[1]UNITÁRIO!C5","v":5},{"$f":"[1]UNITÁRIO!D5","v":{"v":0.013333333333333334,"d":"1.33%"}},{"$f":"[1]UNITÁRIO!E5","v":{"v":31.349999999999998,"d":"31.35"}},{"$f":"[1]UNITÁRIO!F5","v":{"v":0.04020519397242707,"d":"4.02%"}},null,{"$f":"[1]UNITÁRIO!A63","v":"GM "},{"$f":"[1]UNITÁRIO!B63","v":126.09},{"$f":"[1]UNITÁRIO!C63","v":{"v":16.496369464250673,"d":"16.50"}},{"$f":"[1]UNITÁRIO!D63","v":51},{"$f":"[1]UNITÁRIO!E63","v":{"v":17.114093959731544,"d":"17.11"}},{"$f":"[1]UNITÁRIO!F63","v":40},{"$f":"[1]UNITÁRIO!G63","v":11}]
[{"$f":"[1]UNITÁRIO!A6","v":"DAS 101.5"},{"$f":"[1]UNITÁRIO!B6","v":5.04},{"$f":"[1]UNITÁRIO!C6","v":35},{"$f":"[1]UNITÁRIO!D6","v":{"v":0.09333333333333334,"d":"9.33%"}},{"$f":"[1]UNITÁRIO!E6","v":{"v":176.4,"d":"176.40"}},{"$f":"[1]UNITÁRIO!F6","v":{"v":0.22622635460083368,"d":"22.62%"}},null,{"$f":"[1]UNITÁRIO!A64","v":"SE"},{"$f":"[1]UNITÁRIO!B64","v":194.28},{"$f":"[1]UNITÁRIO!C64","v":{"v":25.41767514881926,"d":"25.42"}},{"$f":"[1]UNITÁRIO!D64","v":91},{"$f":"[1]UNITÁRIO!E64","v":{"v":30.536912751677853,"d":"30.54"}},{"$f":"[1]UNITÁRIO!F64","v":73},{"$f":"[1]UNITÁRIO!G64","v":18}]
[{"$f":"[1]UNITÁRIO!A7","v":"DAS 101.4"},{"$f":"[1]UNITÁRIO!B7","v":3.84},{"$f":"[1]UNITÁRIO!C7","v":43},{"$f":"[1]UNITÁRIO!D7","v":{"v":0.11466666666666667,"d":"11.47%"}},{"$f":"[1]UNITÁRIO!E7","v":165.12},{"$f":"[1]UNITÁRIO!F7","v":{"v":0.21176017954472595,"d":"21.18%"}},null,{"$f":"[1]UNITÁRIO!A65","v":"CONJUR"},{"$f":"[1]UNITÁRIO!B65","v":{"v":26.409999999999997,"d":"26.41"}},{"$f":"[1]UNITÁRIO!C65","v":{"v":3.4552233924249363,"d":"3.46"}},{"$f":"[1]UNITÁRIO!D65","v":14},{"$f":"[1]UNITÁRIO!E65","v":{"v":4.697986577181208,"d":"4.70"}},{"$f":"[1]UNITÁRIO!F65","v":8},{"$f":"[1]UNITÁRIO!G65","v":6}]
[{"$f":"[1]UNITÁRIO!A8","v":"DAS 101.3"},{"$f":"[1]UNITÁRIO!B8","v":{"v":2.1,"d":"2.10"}},{"$f":"[1]UNITÁRIO!C8","v":14},{"$f":"[1]UNITÁRIO!D8","v":{"v":0.037333333333333336,"d":"3.73%"}},{"$f":"[1]UNITÁRIO!E8","v":{"v":29.400000000000002,"d":"29.40"}},{"$f":"[1]UNITÁRIO!F8","v":{"v":0.03770439243347228,"d":"3.77%"}},null,{"$f":"[1]UNITÁRIO!A66","v":"ASSEC"},{"$f":"[1]UNITÁRIO!B66","v":30.54},{"$f":"[1]UNITÁRIO!C66","v":{"v":3.99555177601884,"d":"4.00"}},{"$f":"[1]UNITÁRIO!D66","v":9},{"$f":"[1]UNITÁRIO!E66","v":{"v":3.0201342281879193,"d":"3.02"}},{"$f":"[1]UNITÁRIO!F66","v":9},{"$f":"[1]UNITÁRIO!G66","v":0}]
[{"$f":"[1]UNITÁRIO!A9","v":"DAS 101.2"},{"$f":"[1]UNITÁRIO!B9","v":1.27},{"$f":"[1]UNITÁRIO!C9","v":10},{"$f":"[1]UNITÁRIO!D9","v":{"v":0.02666666666666667,"d":"2.67%"}},{"$f":"[1]UNITÁRIO!E9","v":{"v":12.7,"d":"12.70"}},{"$f":"[1]UNITÁRIO!F9","v":{"v":0.01628727156139789,"d":"1.63%"}},null,{"$f":"[1]UNITÁRIO!A67","v":"ASSINT"},{"$f":"[1]UNITÁRIO!B67","v":10.91},{"$f":"[1]UNITÁRIO!C67","v":{"v":1.427356577484137,"d":"1.43"}},{"$f":"[1]UNITÁRIO!D67","v":4},{"$f":"[1]UNITÁRIO!E67","v":{"v":1.342281879194631,"d":"1.34"}},{"$f":"[1]UNITÁRIO!F67","v":3},{"$f":"[1]UNITÁRIO!G67","v":1}]
[{"$f":"[1]UNITÁRIO!A10","v":"DAS 101.1"},{"$f":"[1]UNITÁRIO!B10","v":{"v":1,"d":"1.00"}},{"$f":"[1]UNITÁRIO!C10","v":2},{"$f":"[1]UNITÁRIO!D10","v":{"v":0.005333333333333333,"d":"0.53%"}},{"$f":"[1]UNITÁRIO!E10","v":{"v":2,"d":"2.00"}},{"$f":"[1]UNITÁRIO!F10","v":{"v":2.5649246553382504E-3,"d":"0.26%"}},null,{"$f":"[1]UNITÁRIO!A68","v":"AECI"},{"$f":"[1]UNITÁRIO!B68","v":{"v":8.1,"d":"8.10"}},{"$f":"[1]UNITÁRIO!C68","v":{"v":1.059723948452934,"d":"1.06"}},{"$f":"[1]UNITÁRIO!D68","v":3},{"$f":"[1]UNITÁRIO!E68","v":{"v":1.0067114093959733,"d":"1.01"}},{"$f":"[1]UNITÁRIO!F68","v":1},{"$f":"[1]UNITÁRIO!G68","v":2}]
[{"$nulls":7},{"$f":"[1]UNITÁRIO!A69","v":"AEPED"},{"$f":"[1]UNITÁRIO!B69","v":{"v":13.279999999999998,"d":"13.28"}},{"$f":"[1]UNITÁRIO!C69","v":{"v":1.7374239549944397,"d":"1.74"}},{"$f":"[1]UNITÁRIO!D69","v":4},{"$f":"[1]UNITÁRIO!E69","v":{"v":1.342281879194631,"d":"1.34"}},{"$f":"[1]UNITÁRIO!F69","v":3},{"$f":"[1]UNITÁRIO!G69","v":1}]
[{"$f":"[1]UNITÁRIO!A12","v":"DAS 102.5"},{"$f":"[1]UNITÁRIO!B12","v":5.04},{"$f":"[1]UNITÁRIO!C12","v":5},{"$f":"[1]UNITÁRIO!D12","v":{"v":0.013333333333333334,"d":"1.33%"}},{"$f":"[1]UNITÁRIO!E12","v":{"v":25.2,"d":"25.20"}},{"$f":"[1]UNITÁRIO!F12","v":{"v":0.032318050657261954,"d":"3.23%"}},null,{"$f":"[1]UNITÁRIO!A70","v":"SPE"},{"$f":"[1]UNITÁRIO!B70","v":{"v":91.36999999999999,"d":"91.37"}},{"$f":"[1]UNITÁRIO!C70","v":{"v":11.953947798783279,"d":"11.95"}},{"$f":"[1]UNITÁRIO!D70","v":30},{"$f":"[1]UNITÁRIO!E70","v":{"v":10.06711409395973,"d":"10.07"}},{"$f":"[1]UNITÁRIO!F70","v":25},{"$f":"[1]UNITÁRIO!G70","v":5}]
[{"$f":"[1]UNITÁRIO!A13","v":"DAS 102.4"},{"$f":"[1]UNITÁRIO!B13","v":3.84},{"$f":"[1]UNITÁRIO!C13","v":27},{"$f":"[1]UNITÁRIO!D13","v":{"v":0.072,"d":"7.20%"}},{"$f":"[1]UNITÁRIO!E13","v":{"v":103.67999999999999,"d":"103.68"}},{"$f":"[1]UNITÁRIO!F13","v":{"v":0.13296569413273487,"d":"13.30%"}},null,{"$f":"[1]UNITÁRIO!A71","v":"SEE"},{"$f":"[1]UNITÁRIO!B71","v":91.32},{"$f":"[1]UNITÁRIO!C71","v":{"v":11.947406292928633,"d":"11.95"}},{"$f":"[1]UNITÁRIO!D71","v":32},{"$f":"[1]UNITÁRIO!E71","v":{"v":10.738255033557047,"d":"10.74"}},{"$f":"[1]UNITÁRIO!F71","v":28},{"$f":"[1]UNITÁRIO!G71","v":4}]
[{"$f":"[1]UNITÁRIO!A14","v":"DAS 102.3"},{"$f":"[1]UNITÁRIO!B14","v":{"v":2.1,"d":"2.10"}},{"$f":"[1]UNITÁRIO!C14","v":26},{"$f":"[1]UNITÁRIO!D14","v":{"v":0.06933333333333333,"d":"6.93%"}},{"$f":"[1]UNITÁRIO!E14","v":{"v":54.6,"d":"54.60"}},{"$f":"[1]UNITÁRIO!F14","v":{"v":0.07002244309073423,"d":"7.00%"}},null,{"$f":"[1]UNITÁRIO!A72","v":"SPG"},{"$f":"[1]UNITÁRIO!B72","v":{"v":86.22999999999999,"d":"86.23"}},{"$f":"[1]UNITÁRIO!C72","v":{"v":11.281480996925492,"d":"11.28"}},{"$f":"[1]UNITÁRIO!D72","v":26},{"$f":"[1]UNITÁRIO!E72","v":{"v":8.724832214765101,"d":"8.72"}},{"$f":"[1]UNITÁRIO!F72","v":22},{"$f":"[1]UNITÁRIO!G72","v":4}]
[{"$f":"[1]UNITÁRIO!A15","v":"DAS 102.2"},{"$f":"[1]UNITÁRIO!B15","v":1.27},{"$f":"[1]UNITÁRIO!C15","v":53},{"$f":"[1]UNITÁRIO!D15","v":{"v":0.14133333333333334,"d":"14.13%"}},{"$f":"[1]UNITÁRIO!E15","v":67.31},{"$f":"[1]UNITÁRIO!F15","v":{"v":0.08632253927540881,"d":"8.63%"}},null,{"$f":"[1]UNITÁRIO!A73","v":"SGM"},{"$f":"[1]UNITÁRIO!B73","v":{"v":75.67999999999999,"d":"75.68"}},{"$f":"[1]UNITÁRIO!C73","v":{"v":9.901223261594819,"d":"9.90"}},{"$f":"[1]UNITÁRIO!D73","v":30},{"$f":"[1]UNITÁRIO!E73","v":{"v":10.06711409395973,"d":"10.07"}},{"$f":"[1]UNITÁRIO!F73","v":20},{"$f":"[1]UNITÁRIO!G73","v":10}]
[{"$f":"[1]UNITÁRIO!A16","v":"DAS 102.1"},{"$f":"[1]UNITÁRIO!B16","v":{"v":1,"d":"1.00"}},{"$f":"[1]UNITÁRIO!C16","v":15},{"$f":"[1]UNITÁRIO!D16","v":{"v":0.04,"d":"4.00%"}},{"$f":"[1]UNITÁRIO!E16","v":{"v":15,"d":"15.00"}},{"$f":"[1]UNITÁRIO!F16","v":{"v":0.019236934915036877,"d":"1.92%"}},null,{"$f":"[1]UNITÁRIO!A74","v":"ESCRITÓRIO RJ"},{"$f":"[1]UNITÁRIO!B74","v":10.14},{"$f":"[1]UNITÁRIO!C74","v":{"v":1.3266173873225617,"d":"1.33"}},{"$f":"[1]UNITÁRIO!D74","v":4},{"$f":"[1]UNITÁRIO!E74","v":{"v":1.342281879194631,"d":"1.34"}},{"$f":"[1]UNITÁRIO!F74","v":4},{"$f":"[1]UNITÁRIO!G74","v":0}]
[{"$f":"[1]UNITÁRIO!A17","v":"SUBTOTAL DAS"},null,{"$f":"[1]UNITÁRIO!C17","v":236},{"$f":"[1]UNITÁRIO!D17","v":{"v":0.6293333333333333,"d":"62.93%"}},{"$f":"[1]UNITÁRIO!E17","v":{"v":689.1699999999998,"d":"689.17"}},null,null,{"$f":"[1]UNITÁRIO!A76","v":"TOTAL"},{"$f":"[1]UNITÁRIO!B76","v":{"v":764.3499999999999,"d":"764.35"}},{"$f":"[1]UNITÁRIO!C76","v":{"v":100.00000000000001,"d":"100"}},{"$f":"[1]UNITÁRIO!D76","v":298},{"$f":"[1]UNITÁRIO!E76","v":{"v":100.00000000000001,"d":"100"}},{"$f":"[1]UNITÁRIO!F76","v":236},{"$f":"[1]UNITÁRIO!G76","v":62}]
[{"$f":"[1]UNITÁRIO!A18","v":"FCPE 101.4"},{"$f":"[1]UNITÁRIO!B18","v":{"v":2.3,"d":"2.30"}},{"$f":"[1]UNITÁRIO!C18","v":14},{"$f":"[1]UNITÁRIO!D18","v":{"v":0.037333333333333336,"d":"3.73%"}},{"$f":"[1]UNITÁRIO!E18","v":{"v":32.199999999999996,"d":"32.20"}},{"$f":"[1]UNITÁRIO!F18","v":{"v":0.04129528695094582,"d":"4.13%"}}]
[{"$f":"[1]UNITÁRIO!A19","v":"FCPE 101.3"},{"$f":"[1]UNITÁRIO!B19","v":1.26},{"$f":"[1]UNITÁRIO!C19","v":4},{"$f":"[1]UNITÁRIO!D19","v":{"v":0.010666666666666666,"d":"1.07%"}},{"$f":"[1]UNITÁRIO!E19","v":5.04},{"$f":"[1]UNITÁRIO!F19","v":{"v":6.4636101314523905E-3,"d":"0.65%"}}]
[{"$f":"[1]UNITÁRIO!A20","v":"FCPE 101.2"},{"$f":"[1]UNITÁRIO!B20","v":0.76},{"$f":"[1]UNITÁRIO!C20","v":2},{"$f":"[1]UNITÁRIO!D20","v":{"v":0.005333333333333333,"d":"0.53%"}},{"$f":"[1]UNITÁRIO!E20","v":1.52},{"$f":"[1]UNITÁRIO!F20","v":{"v":0.00194934273805707,"d":"0.19%"}}]
[{"$f":"[1]UNITÁRIO!A21","v":"FCPE 101.1"},{"$f":"[1]UNITÁRIO!B21","v":{"v":0.6,"d":"0.60"}},{"$f":"[1]UNITÁRIO!C21","v":0},{"$f":"[1]UNITÁRIO!D21","v":{"v":0,"d":"0.00%"}},{"$f":"[1]UNITÁRIO!E21","v":{"v":0,"d":"0.00"}},{"$f":"[1]UNITÁRIO!F21","v":{"v":0,"d":"0.00%"}}]
[]
[{"$f":"[1]UNITÁRIO!A23","v":"FCPE 102.4"},{"$f":"[1]UNITÁRIO!B23","v":{"v":2.3,"d":"2.30"}},{"$f":"[1]UNITÁRIO!C23","v":2},{"$f":"[1]UNITÁRIO!D23","v":{"v":0.005333333333333333,"d":"0.53%"}},{"$f":"[1]UNITÁRIO!E23","v":{"v":4.6,"d":"4.60"}},{"$f":"[1]UNITÁRIO!F23","v":{"v":0.005899326707277975,"d":"0.59%"}}]
[{"$f":"[1]UNITÁRIO!A24","v":"FCPE 102.3"},{"$f":"[1]UNITÁRIO!B24","v":1.26},{"$f":"[1]UNITÁRIO!C24","v":7},{"$f":"[1]UNITÁRIO!D24","v":{"v":0.018666666666666668,"d":"1.87%"}},{"$f":"[1]UNITÁRIO!E24","v":8.82},{"$f":"[1]UNITÁRIO!F24","v":{"v":0.011311317730041683,"d":"1.13%"}}]
[{"$f":"[1]UNITÁRIO!A25","v":"FCPE 102.2"},{"$f":"[1]UNITÁRIO!B25","v":0.76},{"$f":"[1]UNITÁRIO!C25","v":20},{"$f":"[1]UNITÁRIO!D25","v":{"v":0.05333333333333334,"d":"5.33%"}},{"$f":"[1]UNITÁRIO!E25","v":{"v":15.2,"d":"15.20"}},{"$f":"[1]UNITÁRIO!F25","v":{"v":0.0194934273805707,"d":"1.95%"}}]
[{"$f":"[1]UNITÁRIO!A26","v":"FCPE 102.1"},{"$f":"[1]UNITÁRIO!B26","v":{"v":0.6,"d":"0.60"}},{"$f":"[1]UNITÁRIO!C26","v":13},{"$f":"[1]UNITÁRIO!D26","v":{"v":0.034666666666666665,"d":"3.47%"}},{"$f":"[1]UNITÁRIO!E26","v":{"v":7.8,"d":"7.80"}},{"$f":"[1]UNITÁRIO!F26","v":{"v":0.010003206155819176,"d":"1.00%"}}]
[{"$f":"[1]UNITÁRIO!A27","v":"SUBTOTAL FCPE"},null,{"$f":"[1]UNITÁRIO!C27","v":62},{"$f":"[1]UNITÁRIO!D27","v":{"v":0.16533333333333333,"d":"16.53%"}},{"$f":"[1]UNITÁRIO!E27","v":{"v":75.17999999999999,"d":"75.18"}}]
[{"$f":"[1]UNITÁRIO!A28","v":"FG-1"},{"$f":"[1]UNITÁRIO!B28","v":{"v":0.2,"d":"0.20"}},{"$f":"[1]UNITÁRIO!C28","v":77},{"$f":"[1]UNITÁRIO!D28","v":{"v":0.20533333333333334,"d":"20.53%"}},{"$f":"[1]UNITÁRIO!E28","v":{"v":15.4,"d":"15.40"}},{"$f":"[1]UNITÁRIO!F28","v":{"v":0.019749919846104528,"d":"1.97%"}}]
[{"$f":"[1]UNITÁRIO!A29","v":"SUBTOTAL FG"},null,{"$f":"[1]UNITÁRIO!C29","v":77},{"$f":"[1]UNITÁRIO!D29","v":{"v":0.20533333333333334,"d":"20.53%"}},{"$f":"[1]UNITÁRIO!E29","v":{"v":15.4,"d":"15.40"}}]
[]
[{"$f":"[1]UNITÁRIO!A31","v":"TOTAL"},null,{"$f":"[1]UNITÁRIO!C31","v":375},{"$f":"[1]UNITÁRIO!D31","v":{"v":1,"d":"100.00%"}},{"$f":"[1]UNITÁRIO!E31","v":{"v":779.7499999999998,"d":"779.75"}},{"$f":"[1]UNITÁRIO!F31","v":{"v":1.0000000000000002,"d":"100.00%"}}]
[]
[]
[{"$f":"[1]UNITÁRIO!A38","v":"Unidade"},{"$f":"[1]UNITÁRIO!B38","v":"Quadro Geral"}]
[null,{"$f":"[1]UNITÁRIO!B39","v":"DAS 1"},null,null,{"$f":"[1]UNITÁRIO!E39","v":"FCPE 1"},null,null,{"$f":"[1]UNITÁRIO!H39","v":"DAS 2"},null,null,{"$f":"[1]UNITÁRIO!K39","v":"FCPE 2"},null,null,{"$f":"[1]UNITÁRIO!N39","v":"DAS 3"},null,null,{"$f":"[1]UNITÁRIO!Q39","v":"FCPE 3"},null,null,{"$f":"[1]UNITÁRIO!T39","v":"DAS 4"},null,null,{"$f":"[1]UNITÁRIO!W39","v":"FCPE 4"},null,null,{"$f":"[1]UNITÁRIO!Z39","v":"DAS 5"},null,null,{"$f":"[1]UNITÁRIO!AC39","v":"DAS 6"},null,null,{"$f":"[1]UNITÁRIO!AF39","v":"NES"},null,null,{"$f":"[1]UNITÁRIO!AI39","v":"Total Custo Unitário DAS/FCPE"},{"$f":"[1]UNITÁRIO!AJ39","v":"% Total Custo Unitário DAS/FCPE"},{"$f":"[1]UNITÁRIO!AK39","v":"TOTAL DAS + FCPE"},{"$f":"[1]UNITÁRIO!AL39","v":"% TOTAL DAS + FCPE"},{"$f":"[1]UNITÁRIO!AM39","v":"TOTAL      DAS"},{"$f":"[1]UNITÁRIO!AN39","v":"TOTAL     FCPE"}]
[null,{"$f":"[1]UNITÁRIO!B40","v":"QTD"},{"$f":"[1]UNITÁRIO!C40","v":"Valor Unitário"},{"$f":"[1]UNITÁRIO!D40","v":"% Valor Unitário ou QTD"},{"$f":"[1]UNITÁRIO!E40","v":"QTD"},{"$f":"[1]UNITÁRIO!F40","v":"Valor Unitário"},{"$f":"[1]UNITÁRIO!G40","v":"% Valor Unitário ou QTD"},{"$f":"[1]UNITÁRIO!H40","v":"QTD"},{"$f":"[1]UNITÁRIO!I40","v":"Valor Unitário"},{"$f":"[1]UNITÁRIO!J40","v":"% Valor Unitário ou QTD"},{"$f":"[1]UNITÁRIO!K40","v":"QTD"},{"$f":"[1]UNITÁRIO!L40","v":"Valor Unitário"},{"$f":"[1]UNITÁRIO!M40","v":"% Valor Unitário ou QTD"},{"$f":"[1]UNITÁRIO!N40","v":"QTD"},{"$f":"[1]UNITÁRIO!O40","v":"Valor Unitário"},{"$f":"[1]UNITÁRIO!P40","v":"% Valor Unitário ou QTD"},{"$f":"[1]UNITÁRIO!Q40","v":"QTD"},{"$f":"[1]UNITÁRIO!R40","v":"Valor Unitário"},{"$f":"[1]UNITÁRIO!S40","v":"% Valor Unitário ou QTD"},{"$f":"[1]UNITÁRIO!T40","v":"QTD"},{"$f":"[1]UNITÁRIO!U40","v":"Valor Unitário"},{"$f":"[1]UNITÁRIO!V40","v":"% Valor Unitário ou QTD"},{"$f":"[1]UNITÁRIO!W40","v":"QTD"},{"$f":"[1]UNITÁRIO!X40","v":"Valor Unitário"},{"$f":"[1]UNITÁRIO!Y40","v":"% Valor Unitário ou QTD"},{"$f":"[1]UNITÁRIO!Z40","v":"QTD"},{"$f":"[1]UNITÁRIO!AA40","v":"Valor Unitário"},{"$f":"[1]UNITÁRIO!AB40","v":"% Valor Unitário ou QTD"},{"$f":"[1]UNITÁRIO!AC40","v":"QTD"},{"$f":"[1]UNITÁRIO!AD40","v":"Valor Unitário"},{"$f":"[1]UNITÁRIO!AE40","v":"% Valor Unitário ou QTD"},{"$f":"[1]UNITÁRIO!AF40","v":"QTD"},{"$f":"[1]UNITÁRIO!AG40","v":"Valor Unitário"},{"$f":"[1]UNITÁRIO!AH40","v":"% Valor Unitário ou QTD"}]
[{"$f":"[1]UNITÁRIO!A41","v":"GM "},{"$f":"[1]UNITÁRIO!B41","v":6},{"$f":"[1]UNITÁRIO!C41","v":{"v":6,"d":"6.00"}},{"$f":"[1]UNITÁRIO!D41","v":{"v":35.294117647058826,"d":"35.29"}},{"$f":"[1]UNITÁRIO!E41","v":5},{"$f":"[1]UNITÁRIO!F41","v":{"v":3,"d":"3.00"}},{"$f":"[1]UNITÁRIO!G41","v":{"v":38.46153846153846,"d":"38.46"}},{"$f":"[1]UNITÁRIO!H41","v":7},{"$f":"[1]UNITÁRIO!I41","v":8.89},{"$f":"[1]UNITÁRIO!J41","v":{"v":11.111111111111109,"d":"11.11"}},{"$f":"[1]UNITÁRIO!K41","v":3},{"$f":"[1]UNITÁRIO!L41","v":{"v":2.2800000000000002,"d":"2.28"}},{"$f":"[1]UNITÁRIO!M41","v":{"v":13.636363636363638,"d":"13.64"}},{"$f":"[1]UNITÁRIO!N41","v":7},{"$f":"[1]UNITÁRIO!O41","v":{"v":14.700000000000001,"d":"14.70"}},{"$f":"[1]UNITÁRIO!P41","v":{"v":17.5,"d":"17.50"}},{"$f":"[1]UNITÁRIO!Q41","v":2},{"$f":"[1]UNITÁRIO!R41","v":2.52},{"$f":"[1]UNITÁRIO!S41","v":{"v":18.181818181818183,"d":"18.18"}},{"$f":"[1]UNITÁRIO!T41","v":12},{"$f":"[1]UNITÁRIO!U41","v":46.08},{"$f":"[1]UNITÁRIO!V41","v":{"v":17.142857142857142,"d":"17.14"}},{"$f":"[1]UNITÁRIO!W41","v":1},{"$f":"[1]UNITÁRIO!X41","v":{"v":2.3,"d":"2.30"}},{"$f":"[1]UNITÁRIO!Y41","v":6.25},{"$f":"[1]UNITÁRIO!Z41","v":8},{"$f":"[1]UNITÁRIO!AA41","v":40.32},{"$f":"[1]UNITÁRIO!AB41","v":{"v":20,"d":"20.00"}},{"$f":"[1]UNITÁRIO!AC41","v":0},{"$f":"[1]UNITÁRIO!AD41","v":{"v":0,"d":"0.00"}},{"$f":"[1]UNITÁRIO!AE41","v":{"v":0,"d":"0.00"}},{"$f":"[1]UNITÁRIO!AF41","v":0},{"$f":"[1]UNITÁRIO!AG41","v":{"v":0,"d":"0.00"}},{"$f":"[1]UNITÁRIO!AH41","v":{"v":0,"d":"0.00"}},{"$f":"[1]UNITÁRIO!AI41","v":126.09},{"$f":"[1]UNITÁRIO!AJ41","v":{"v":16.496369464250673,"d":"16.50"}},{"$f":"[1]UNITÁRIO!AK41","v":51},{"$f":"[1]UNITÁRIO!AL41","v":{"v":17.114093959731544,"d":"17.11"}},{"$f":"[1]UNITÁRIO!AM41","v":40},{"$f":"[1]UNITÁRIO!AN41","v":11}]
[{"$f":"[1]UNITÁRIO!A42","v":"SE"},{"$f":"[1]UNITÁRIO!B42","v":8},{"$f":"[1]UNITÁRIO!C42","v":{"v":8,"d":"8.00"}},{"$f":"[1]UNITÁRIO!D42","v":{"v":47.05882352941177,"d":"47.06"}},{"$f":"[1]UNITÁRIO!E42","v":8},{"$f":"[1]UNITÁRIO!F42","v":{"v":4.8,"d":"4.80"}},{"$f":"[1]UNITÁRIO!G42","v":{"v":61.53846153846154,"d":"61.54"}},{"$f":"[1]UNITÁRIO!H42","v":24},{"$f":"[1]UNITÁRIO!I42","v":30.48},{"$f":"[1]UNITÁRIO!J42","v":{"v":38.09523809523809,"d":"38.10"}},{"$f":"[1]UNITÁRIO!K42","v":5},{"$f":"[1]UNITÁRIO!L42","v":{"v":3.8,"d":"3.80"}},{"$f":"[1]UNITÁRIO!M42","v":{"v":22.72727272727273,"d":"22.73"}},{"$f":"[1]UNITÁRIO!N42","v":19},{"$f":"[1]UNITÁRIO!O42","v":{"v":39.9,"d":"39.90"}},{"$f":"[1]UNITÁRIO!P42","v":{"v":47.5,"d":"47.50"}},{"$f":"[1]UNITÁRIO!Q42","v":2},{"$f":"[1]UNITÁRIO!R42","v":2.52},{"$f":"[1]UNITÁRIO!S42","v":{"v":18.181818181818183,"d":"18.18"}},{"$f":"[1]UNITÁRIO!T42","v":13},{"$f":"[1]UNITÁRIO!U42","v":49.92},{"$f":"[1]UNITÁRIO!V42","v":{"v":18.57142857142857,"d":"18.57"}},{"$f":"[1]UNITÁRIO!W42","v":3},{"$f":"[1]UNITÁRIO!X42","v":{"v":6.8999999999999995,"d":"6.90"}},{"$f":"[1]UNITÁRIO!Y42","v":18.75},{"$f":"[1]UNITÁRIO!Z42","v":7},{"$f":"[1]UNITÁRIO!AA42","v":35.28},{"$f":"[1]UNITÁRIO!AB42","v":{"v":17.5,"d":"17.50"}},{"$f":"[1]UNITÁRIO!AC42","v":1},{"$f":"[1]UNITÁRIO!AD42","v":6.27},{"$f":"[1]UNITÁRIO!AE42","v":{"v":20,"d":"20.00"}},{"$f":"[1]UNITÁRIO!AF42","v":1},{"$f":"[1]UNITÁRIO!AG42","v":6.41},{"$f":"[1]UNITÁRIO!AH42","v":{"v":100,"d":"100.00"}},{"$f":"[1]UNITÁRIO!AI42","v":194.28},{"$f":"[1]UNITÁRIO!AJ42","v":{"v":25.41767514881926,"d":"25.42"}},{"$f":"[1]UNITÁRIO!AK42","v":91},{"$f":"[1]UNITÁRIO!AL42","v":{"v":30.536912751677853,"d":"30.54"}},{"$f":"[1]UNITÁRIO!AM42","v":73},{"$f":"[1]UNITÁRIO!AN42","v":18}]
[{"$f":"[1]UNITÁRIO!A43","v":"CONJUR"},{"$f":"[1]UNITÁRIO!B43","v":1},{"$f":"[1]UNITÁRIO!C43","v":{"v":1,"d":"1.00"}},{"$f":"[1]UNITÁRIO!D43","v":{"v":5.882352941176471,"d":"5.88"}},{"$f":"[1]UNITÁRIO!E43","v":0},{"$f":"[1]UNITÁRIO!F43","v":{"v":0,"d":"0.00"}},{"$f":"[1]UNITÁRIO!G43","v":{"v":0,"d":"0.00"}},{"$f":"[1]UNITÁRIO!H43","v":5},{"$f":"[1]UNITÁRIO!I43","v":6.35},{"$f":"[1]UNITÁRIO!J43","v":{"v":7.936507936507935,"d":"7.94"}},{"$f":"[1]UNITÁRIO!K43","v":1},{"$f":"[1]UNITÁRIO!L43","v":0.76},{"$f":"[1]UNITÁRIO!M43","v":{"v":4.545454545454546,"d":"4.55"}},{"$f":"[1]UNITÁRIO!N43","v":0},{"$f":"[1]UNITÁRIO!O43","v":{"v":0,"d":"0.00"}},{"$f":"[1]UNITÁRIO!P43","v":{"v":0,"d":"0.00"}},{"$f":"[1]UNITÁRIO!Q43","v":2},{"$f":"[1]UNITÁRIO!R43","v":2.52},{"$f":"[1]UNITÁRIO!S43","v":{"v":18.181818181818183,"d":"18.18"}},{"$f":"[1]UNITÁRIO!T43","v":1},{"$f":"[1]UNITÁRIO!U43","v":3.84},{"$f":"[1]UNITÁRIO!V43","v":{"v":1.4285714285714286,"d":"1.43"}},{"$f":"[1]UNITÁRIO!W43","v":3},{"$f":"[1]UNITÁRIO!X43","v":{"v":6.8999999999999995,"d":"6.90"}},{"$f":"[1]UNITÁRIO!Y43","v":18.75},{"$f":"[1]UNITÁRIO!Z43","v":1},{"$f":"[1]UNITÁRIO!AA43","v":5.04},{"$f":"[1]UNITÁRIO!AB43","v":{"v":2.5,"d":"2.50"}},{"$f":"[1]UNITÁRIO!AC43","v":0},{"$f":"[1]UNITÁRIO!AD43","v":{"v":0,"d":"0.00"}},{"$f":"[1]UNITÁRIO!AE43","v":{"v":0,"d":"0.00"}},{"$f":"[1]UNITÁRIO!AF43","v":0},{"$f":"[1]UNITÁRIO!AG43","v":{"v":0,"d":"0.00"}},{"$f":"[1]UNITÁRIO!AH43","v":{"v":0,"d":"0.00"}},{"$f":"[1]UNITÁRIO!AI43","v":{"v":26.409999999999997,"d":"26.41"}},{"$f":"[1]UNITÁRIO!AJ43","v":{"v":3.4552233924249363,"d":"3.46"}},{"$f":"[1]UNITÁRIO!AK43","v":14},{"$f":"[1]UNITÁRIO!AL43","v":{"v":4.697986577181208,"d":"4.70"}},{"$f":"[1]UNITÁRIO!AM43","v":8},{"$f":"[1]UNITÁRIO!AN43","v":6}]
[{"$f":"[1]UNITÁRIO!A44","v":"ASSEC"},{"$f":"[1]UNITÁRIO!B44","v":0},{"$f":"[1]UNITÁRIO!C44","v":{"v":0,"d":"0.00"}},{"$f":"[1]UNITÁRIO!D44","v":{"v":0,"d":"0.00"}},{"$f":"[1]UNITÁRIO!E44","v":0},{"$f":"[1]UNITÁRIO!F44","v":{"v":0,"d":"0.00"}},{"$f":"[1]UNITÁRIO!G44","v":{"v":0,"d":"0.00"}},{"$f":"[1]UNITÁRIO!H44","v":0},{"$f":"[1]UNITÁRIO!I44","v":{"v":0,"d":"0.00"}},{"$f":"[1]UNITÁRIO!J44","v":{"v":0,"d":"0.00"}},{"$f":"[1]UNITÁRIO!K44","v":0},{"$f":"[1]UNITÁRIO!L44","v":{"v":0,"d":"0.00"}},{"$f":"[1]UNITÁRIO!M44","v":{"v":0,"d":"0.00"}},{"$f":"[1]UNITÁRIO!N44","v":3},{"$f":"[1]UNITÁRIO!O44","v":{"v":6.300000000000001,"d":"6.30"}},{"$f":"[1]UNITÁRIO!P44","v":{"v":7.500000000000002,"d":"7.50"}},{"$f":"[1]UNITÁRIO!Q44","v":0},{"$f":"[1]UNITÁRIO!R44","v":{"v":0,"d":"0.00"}},{"$f":"[1]UNITÁRIO!S44","v":{"v":0,"d":"0.00"}},{"$f":"[1]UNITÁRIO!T44","v":5},{"$f":"[1]UNITÁRIO!U44","v":{"v":19.2,"d":"19.20"}},{"$f":"[1]UNITÁRIO!V44","v":{"v":7.142857142857142,"d":"7.14"}},{"$f":"[1]UNITÁRIO!W44","v":0},{"$f":"[1]UNITÁRIO!X44","v":{"v":0,"d":"0.00"}},{"$f":"[1]UNITÁRIO!Y44","v":{"v":0,"d":"0.00"}},{"$f":"[1]UNITÁRIO!Z44","v":1},{"$f":"[1]UNITÁRIO!AA44","v":5.04},{"$f":"[1]UNITÁRIO!AB44","v":{"v":2.5,"d":"2.50"}},{"$f":"[1]UNITÁRIO!AC44","v":0},{"$f":"[1]UNITÁRIO!AD44","v":{"v":0,"d":"0.00"}},{"$f":"[1]UNITÁRIO!AE44","v":{"v":0,"d":"0.00"}},{"$f":"[1]UNITÁRIO!AF44","v":0},{"$f":"[1]UNITÁRIO!AG44","v":{"v":0,"d":"0.00"}},{"$f":"[1]UNITÁRIO!AH44","v":{"v":0,"d":"0.00"}},{"$f":"[1]UNITÁRIO!AI44","v":30.54},{"$f":"[1]UNITÁRIO!AJ44","v":{"v":3.99555177601884,"d":"4.00"}},{"$f":"[1]UNITÁRIO!AK44","v":9},{"$f":"[1]UNITÁRIO!AL44","v":{"v":3.0201342281879193,"d":"3.02"}},{"$f":"[1]UNITÁRIO!AM44","v":9},{"$f":"[1]UNITÁRIO!AN44","v":0}]
[{"$f":"[1]UNITÁRIO!A45","v":"ASSINT"},{"$f":"[1]UNITÁRIO!B45","v":0},{"$f":"[1]UNITÁRIO!C45","v":{"v":0,"d":"0.00"}},{"$f":"[1]UNITÁRIO!D45","v":{"v":0,"d":"0.00"}},{"$f":"[1]UNITÁRIO!E45","v":0},{"$f":"[1]UNITÁRIO!F45","v":{"v":0,"d":"0.00"}},{"$f":"[1]UNITÁRIO!G45","v":{"v":0,"d":"0.00"}},{"$f":"[1]UNITÁRIO!H45","v":1},{"$f":"[1]UNITÁRIO!I45","v":1.27},{"$f":"[1]UNITÁRIO!J45","v":{"v":1.587301587301587,"d":"1.59"}},{"$f":"[1]UNITÁRIO!K45","v":1},{"$f":"[1]UNITÁRIO!L45","v":0.76},{"$f":"[1]UNITÁRIO!M45","v":{"v":4.545454545454546,"d":"4.55"}},{"$f":"[1]UNITÁRIO!N45","v":0},{"$f":"[1]UNITÁRIO!O45","v":{"v":0,"d":"0.00"}},{"$f":"[1]UNITÁRIO!P45","v":{"v":0,"d":"0.00"}},{"$f":"[1]UNITÁRIO!Q45","v":0},{"$f":"[1]UNITÁRIO!R45","v":{"v":0,"d":"0.00"}},{"$f":"[1]UNITÁRIO!S45","v":{"v":0,"d":"0.00"}},{"$f":"[1]UNITÁRIO!T45","v":1},{"$f":"[1]UNITÁRIO!U45","v":3.84},{"$f":"[1]UNITÁRIO!V45","v":{"v":1.4285714285714286,"d":"1.43"}},{"$f":"[1]UNITÁRIO!W45","v":0},{"$f":"[1]UNITÁRIO!X45","v":{"v":0,"d":"0.00"}},{"$f":"[1]UNITÁRIO!Y45","v":{"v":0,"d":"0.00"}},{"$f":"[1]UNITÁRIO!Z45","v":1},{"$f":"[1]UNITÁRIO!AA45","v":5.04},{"$f":"[1]UNITÁRIO!AB45","v":{"v":2.5,"d":"2.50"}},{"$f":"[1]UNITÁRIO!AC45","v":0},{"$f":"[1]UNITÁRIO!AD45","v":{"v":0,"d":"0.00"}},{"$f":"[1]UNITÁRIO!AE45","v":{"v":0,"d":"0.00"}},{"$f":"[1]UNITÁRIO!AF45","v":0},{"$f":"[1]UNITÁRIO!AG45","v":{"v":0,"d":"0.00"}},{"$f":"[1]UNITÁRIO!AH45","v":{"v":0,"d":"0.00"}},{"$f":"[1]UNITÁRIO!AI45","v":10.91},{"$f":"[1]UNITÁRIO!AJ45","v":{"v":1.427356577484137,"d":"1.43"}},{"$f":"[1]UNITÁRIO!AK45","v":4},{"$f":"[1]UNITÁRIO!AL45","v":{"v":1.342281879194631,"d":"1.34"}},{"$f":"[1]UNITÁRIO!AM45","v":3},{"$f":"[1]UNITÁRIO!AN45","v":1}]
[{"$f":"[1]UNITÁRIO!A46","v":"AECI"},{"$f":"[1]UNITÁRIO!B46","v":0},{"$f":"[1]UNITÁRIO!C46","v":{"v":0,"d":"0.00"}},{"$f":"[1]UNITÁRIO!D46","v":{"v":0,"d":"0.00"}},{"$f":"[1]UNITÁRIO!E46","v":0},{"$f":"[1]UNITÁRIO!F46","v":{"v":0,"d":"0.00"}},{"$f":"[1]UNITÁRIO!G46","v":{"v":0,"d":"0.00"}},{"$f":"[1]UNITÁRIO!H46","v":0},{"$f":"[1]UNITÁRIO!I46","v":{"v":0,"d":"0.00"}},{"$f":"[1]UNITÁRIO!J46","v":{"v":0,"d":"0.00"}},{"$f":"[1]UNITÁRIO!K46","v":1},{"$f":"[1]UNITÁRIO!L46","v":0.76},{"$f":"[1]UNITÁRIO!M46","v":{"v":4.545454545454546,"d":"4.55"}},{"$f":"[1]UNITÁRIO!N46","v":0},{"$f":"[1]UNITÁRIO!O46","v":{"v":0,"d":"0.00"}},{"$f":"[1]UNITÁRIO!P46","v":{"v":0,"d":"0.00"}},{"$f":"[1]UNITÁRIO!Q46","v":0},{"$f":"[1]UNITÁRIO!R46","v":{"v":0,"d":"0.00"}},{"$f":"[1]UNITÁRIO!S46","v":{"v":0,"d":"0.00"}},{"$f":"[1]UNITÁRIO!T46","v":0},{"$f":"[1]UNITÁRIO!U46","v":{"v":0,"d":"0.00"}},{"$f":"[1]UNITÁRIO!V46","v":{"v":0,"d":"0.00"}},{"$f":"[1]UNITÁRIO!W46","v":1},{"$f":"[1]UNITÁRIO!X46","v":{"v":2.3,"d":"2.30"}},{"$f":"[1]UNITÁRIO!Y46","v":6.25},{"$f":"[1]UNITÁRIO!Z46","v":1},{"$f":"[1]UNITÁRIO!AA46","v":5.04},{"$f":"[1]UNITÁRIO!AB46","v":{"v":2.5,"d":"2.50"}},{"$f":"[1]UNITÁRIO!AC46","v":0},{"$f":"[1]UNITÁRIO!AD46","v":{"v":0,"d":"0.00"}},{"$f":"[1]UNITÁRIO!AE46","v":{"v":0,"d":"0.00"}},{"$f":"[1]UNITÁRIO!AF46","v":0},{"$f":"[1]UNITÁRIO!AG46","v":{"v":0,"d":"0.00"}},{"$f":"[1]UNITÁRIO!AH46","v":{"v":0,"d":"0.00"}},{"$f":"[1]UNITÁRIO!AI46","v":{"v":8.1,"d":"8.10"}},{"$f":"[1]UNITÁRIO!AJ46","v":{"v":1.059723948452934,"d":"1.06"}},{"$f":"[1]UNITÁRIO!AK46","v":3},{"$f":"[1]UNITÁRIO!AL46","v":{"v":1.0067114093959733,"d":"1.01"}},{"$f":"[1]UNITÁRIO!AM46","v":1},{"$f":"[1]UNITÁRIO!AN46","v":2}]
[{"$f":"[1]UNITÁRIO!A47","v":"AEPED"},{"$f":"[1]UNITÁRIO!B47","v":0},{"$f":"[1]UNITÁRIO!C47","v":{"v":0,"d":"0.00"}},{"$f":"[1]UNITÁRIO!D47","v":{"v":0,"d":"0.00"}},{"$f":"[1]UNITÁRIO!E47","v":0},{"$f":"[1]UNITÁRIO!F47","v":{"v":0,"d":"0.00"}},{"$f":"[1]UNITÁRIO!G47","v":{"v":0,"d":"0.00"}},{"$f":"[1]UNITÁRIO!H47","v":0},{"$f":"[1]UNITÁRIO!I47","v":{"v":0,"d":"0.00"}},{"$f":"[1]UNITÁRIO!J47","v":{"v":0,"d":"0.00"}},{"$f":"[1]UNITÁRIO!K47","v":0},{"$f":"[1]UNITÁRIO!L47","v":{"v":0,"d":"0.00"}},{"$f":"[1]UNITÁRIO!M47","v":{"v":0,"d":"0.00"}},{"$f":"[1]UNITÁRIO!N47","v":1},{"$f":"[1]UNITÁRIO!O47","v":{"v":2.1,"d":"2.10"}},{"$f":"[1]UNITÁRIO!P47","v":{"v":2.5,"d":"2.50"}},{"$f":"[1]UNITÁRIO!Q47","v":0},{"$f":"[1]UNITÁRIO!R47","v":{"v":0,"d":"0.00"}},{"$f":"[1]UNITÁRIO!S47","v":{"v":0,"d":"0.00"}},{"$f":"[1]UNITÁRIO!T47","v":1},{"$f":"[1]UNITÁRIO!U47","v":3.84},{"$f":"[1]UNITÁRIO!V47","v":{"v":1.4285714285714286,"d":"1.43"}},{"$f":"[1]UNITÁRIO!W47","v":1},{"$f":"[1]UNITÁRIO!X47","v":{"v":2.3,"d":"2.30"}},{"$f":"[1]UNITÁRIO!Y47","v":6.25},{"$f":"[1]UNITÁRIO!Z47","v":1},{"$f":"[1]UNITÁRIO!AA47","v":5.04},{"$f":"[1]UNITÁRIO!AB47","v":{"v":2.5,"d":"2.50"}},{"$f":"[1]UNITÁRIO!AC47","v":0},{"$f":"[1]UNITÁRIO!AD47","v":{"v":0,"d":"0.00"}},{"$f":"[1]UNITÁRIO!AE47","v":{"v":0,"d":"0.00"}},{"$f":"[1]UNITÁRIO!AF47","v":0},{"$f":"[1]UNITÁRIO!AG47","v":{"v":0,"d":"0.00"}},{"$f":"[1]UNITÁRIO!AH47","v":{"v":0,"d":"0.00"}},{"$f":"[1]UNITÁRIO!AI47","v":{"v":13.279999999999998,"d":"13.28"}},{"$f":"[1]UNITÁRIO!AJ47","v":{"v":1.7374239549944397,"d":"1.74"}},{"$f":"[1]UNITÁRIO!AK47","v":4},{"$f":"[1]UNITÁRIO!AL47","v":{"v":1.342281879194631,"d":"1.34"}},{"$f":"[1]UNITÁRIO!AM47","v":3},{"$f":"[1]UNITÁRIO!AN47","v":1}]
[{"$f":"[1]UNITÁRIO!A48","v":"SPE"},{"$f":"[1]UNITÁRIO!B48","v":0},{"$f":"[1]UNITÁRIO!C48","v":{"v":0,"d":"0.00"}},{"$f":"[1]UNITÁRIO!D48","v":{"v":0,"d":"0.00"}},{"$f":"[1]UNITÁRIO!E48","v":0},{"$f":"[1]UNITÁRIO!F48","v":{"v":0,"d":"0.00"}},{"$f":"[1]UNITÁRIO!G48","v":{"v":0,"d":"0.00"}},{"$f":"[1]UNITÁRIO!H48","v":6},{"$f":"[1]UNITÁRIO!I48","v":7.62},{"$f":"[1]UNITÁRIO!J48","v":{"v":9.523809523809522,"d":"9.52"}},{"$f":"[1]UNITÁRIO!K48","v":3},{"$f":"[1]UNITÁRIO!L48","v":{"v":2.2800000000000002,"d":"2.28"}},{"$f":"[1]UNITÁRIO!M48","v":{"v":13.636363636363638,"d":"13.64"}},{"$f":"[1]UNITÁRIO!N48","v":2},{"$f":"[1]UNITÁRIO!O48","v":{"v":4.2,"d":"4.20"}},{"$f":"[1]UNITÁRIO!P48","v":{"v":5,"d":"5.00"}},{"$f":"[1]UNITÁRIO!Q48","v":1},{"$f":"[1]UNITÁRIO!R48","v":1.26},{"$f":"[1]UNITÁRIO!S48","v":{"v":9.090909090909092,"d":"9.09"}},{"$f":"[1]UNITÁRIO!T48","v":11},{"$f":"[1]UNITÁRIO!U48","v":{"v":42.239999999999995,"d":"42.24"}},{"$f":"[1]UNITÁRIO!V48","v":{"v":15.71428571428571,"d":"15.71"}},{"$f":"[1]UNITÁRIO!W48","v":1},{"$f":"[1]UNITÁRIO!X48","v":{"v":2.3,"d":"2.30"}},{"$f":"[1]UNITÁRIO!Y48","v":6.25},{"$f":"[1]UNITÁRIO!Z48","v":5},{"$f":"[1]UNITÁRIO!AA48","v":{"v":25.2,"d":"25.20"}},{"$f":"[1]UNITÁRIO!AB48","v":{"v":12.5,"d":"12.50"}},{"$f":"[1]UNITÁRIO!AC48","v":1},{"$f":"[1]UNITÁRIO!AD48","v":6.27},{"$f":"[1]UNITÁRIO!AE48","v":{"v":20,"d":"20.00"}},{"$f":"[1]UNITÁRIO!AF48","v":0},{"$f":"[1]UNITÁRIO!AG48","v":{"v":0,"d":"0.00"}},{"$f":"[1]UNITÁRIO!AH48","v":{"v":0,"d":"0.00"}},{"$f":"[1]UNITÁRIO!AI48","v":{"v":91.36999999999999,"d":"91.37"}},{"$f":"[1]UNITÁRIO!AJ48","v":{"v":11.953947798783279,"d":"11.95"}},{"$f":"[1]UNITÁRIO!AK48","v":30},{"$f":"[1]UNITÁRIO!AL48","v":{"v":10.06711409395973,"d":"10.07"}},{"$f":"[1]UNITÁRIO!AM48","v":25},{"$f":"[1]UNITÁRIO!AN48","v":5}]
[{"$f":"[1]UNITÁRIO!A49","v":"SEE"},{"$f":"[1]UNITÁRIO!B49","v":0},{"$f":"[1]UNITÁRIO!C49","v":{"v":0,"d":"0.00"}},{"$f":"[1]UNITÁRIO!D49","v":{"v":0,"d":"0.00"}},{"$f":"[1]UNITÁRIO!E49","v":0},{"$f":"[1]UNITÁRIO!F49","v":{"v":0,"d":"0.00"}},{"$f":"[1]UNITÁRIO!G49","v":{"v":0,"d":"0.00"}},{"$f":"[1]UNITÁRIO!H49","v":11},{"$f":"[1]UNITÁRIO!I49","v":13.97},{"$f":"[1]UNITÁRIO!J49","v":{"v":17.460317460317455,"d":"17.46"}},{"$f":"[1]UNITÁRIO!K49","v":0},{"$f":"[1]UNITÁRIO!L49","v":{"v":0,"d":"0.00"}},{"$f":"[1]UNITÁRIO!M49","v":{"v":0,"d":"0.00"}},{"$f":"[1]UNITÁRIO!N49","v":2},{"$f":"[1]UNITÁRIO!O49","v":{"v":4.2,"d":"4.20"}},{"$f":"[1]UNITÁRIO!P49","v":{"v":5,"d":"5.00"}},{"$f":"[1]UNITÁRIO!Q49","v":2},{"$f":"[1]UNITÁRIO!R49","v":2.52},{"$f":"[1]UNITÁRIO!S49","v":{"v":18.181818181818183,"d":"18.18"}},{"$f":"[1]UNITÁRIO!T49","v":9},{"$f":"[1]UNITÁRIO!U49","v":34.56},{"$f":"[1]UNITÁRIO!V49","v":{"v":12.857142857142856,"d":"12.86"}},{"$f":"[1]UNITÁRIO!W49","v":2},{"$f":"[1]UNITÁRIO!X49","v":{"v":4.6,"d":"4.60"}},{"$f":"[1]UNITÁRIO!Y49","v":{"v":12.5,"d":"12.50"}},{"$f":"[1]UNITÁRIO!Z49","v":5},{"$f":"[1]UNITÁRIO!AA49","v":{"v":25.2,"d":"25.20"}},{"$f":"[1]UNITÁRIO!AB49","v":{"v":12.5,"d":"12.50"}},{"$f":"[1]UNITÁRIO!AC49","v":1},{"$f":"[1]UNITÁRIO!AD49","v":6.27},{"$f":"[1]UNITÁRIO!AE49","v":{"v":20,"d":"20.00"}},{"$f":"[1]UNITÁRIO!AF49","v":0},{"$f":"[1]UNITÁRIO!AG49","v":{"v":0,"d":"0.00"}},{"$f":"[1]UNITÁRIO!AH49","v":{"v":0,"d":"0.00"}},{"$f":"[1]UNITÁRIO!AI49","v":91.32},{"$f":"[1]UNITÁRIO!AJ49","v":{"v":11.947406292928633,"d":"11.95"}},{"$f":"[1]UNITÁRIO!AK49","v":32},{"$f":"[1]UNITÁRIO!AL49","v":{"v":10.738255033557047,"d":"10.74"}},{"$f":"[1]UNITÁRIO!AM49","v":28},{"$f":"[1]UNITÁRIO!AN49","v":4}]
[{"$f":"[1]UNITÁRIO!A50","v":"SPG"},{"$f":"[1]UNITÁRIO!B50","v":1},{"$f":"[1]UNITÁRIO!C50","v":{"v":1,"d":"1.00"}},{"$f":"[1]UNITÁRIO!D50","v":{"v":5.882352941176471,"d":"5.88"}},{"$f":"[1]UNITÁRIO!E50","v":0},{"$f":"[1]UNITÁRIO!F50","v":{"v":0,"d":"0.00"}},{"$f":"[1]UNITÁRIO!G50","v":{"v":0,"d":"0.00"}},{"$f":"[1]UNITÁRIO!H50","v":2},{"$f":"[1]UNITÁRIO!I50","v":2.54},{"$f":"[1]UNITÁRIO!J50","v":{"v":3.174603174603174,"d":"3.17"}},{"$f":"[1]UNITÁRIO!K50","v":4},{"$f":"[1]UNITÁRIO!L50","v":3.04},{"$f":"[1]UNITÁRIO!M50","v":{"v":18.181818181818183,"d":"18.18"}},{"$f":"[1]UNITÁRIO!N50","v":1},{"$f":"[1]UNITÁRIO!O50","v":{"v":2.1,"d":"2.10"}},{"$f":"[1]UNITÁRIO!P50","v":{"v":2.5,"d":"2.50"}},{"$f":"[1]UNITÁRIO!Q50","v":0},{"$f":"[1]UNITÁRIO!R50","v":{"v":0,"d":"0.00"}},{"$f":"[1]UNITÁRIO!S50","v":{"v":0,"d":"0.00"}},{"$f":"[1]UNITÁRIO!T50","v":12},{"$f":"[1]UNITÁRIO!U50","v":46.08},{"$f":"[1]UNITÁRIO!V50","v":{"v":17.142857142857142,"d":"17.14"}},{"$f":"[1]UNITÁRIO!W50","v":0},{"$f":"[1]UNITÁRIO!X50","v":{"v":0,"d":"0.00"}},{"$f":"[1]UNITÁRIO!Y50","v":{"v":0,"d":"0.00"}},{"$f":"[1]UNITÁRIO!Z50","v":5},{"$f":"[1]UNITÁRIO!AA50","v":{"v":25.2,"d":"25.20"}},{"$f":"[1]UNITÁRIO!AB50","v":{"v":12.5,"d":"12.50"}},{"$f":"[1]UNITÁRIO!AC50","v":1},{"$f":"[1]UNITÁRIO!AD50","v":6.27},{"$f":"[1]UNITÁRIO!AE50","v":{"v":20,"d":"20.00"}},{"$f":"[1]UNITÁRIO!AF50","v":0},{"$f":"[1]UNITÁRIO!AG50","v":{"v":0,"d":"0.00"}},{"$f":"[1]UNITÁRIO!AH50","v":{"v":0,"d":"0.00"}},{"$f":"[1]UNITÁRIO!AI50","v":{"v":86.22999999999999,"d":"86.23"}},{"$f":"[1]UNITÁRIO!AJ50","v":{"v":11.281480996925492,"d":"11.28"}},{"$f":"[1]UNITÁRIO!AK50","v":26},{"$f":"[1]UNITÁRIO!AL50","v":{"v":8.724832214765101,"d":"8.72"}},{"$f":"[1]UNITÁRIO!AM50","v":22},{"$f":"[1]UNITÁRIO!AN50","v":4}]
[{"$f":"[1]UNITÁRIO!A51","v":"SGM"},{"$f":"[1]UNITÁRIO!B51","v":1},{"$f":"[1]UNITÁRIO!C51","v":{"v":1,"d":"1.00"}},{"$f":"[1]UNITÁRIO!D51","v":{"v":5.882352941176471,"d":"5.88"}},{"$f":"[1]UNITÁRIO!E51","v":0},{"$f":"[1]UNITÁRIO!F51","v":{"v":0,"d":"0.00"}},{"$f":"[1]UNITÁRIO!G51","v":{"v":0,"d":"0.00"}},{"$f":"[1]UNITÁRIO!H51","v":7},{"$f":"[1]UNITÁRIO!I51","v":8.89},{"$f":"[1]UNITÁRIO!J51","v":{"v":11.111111111111109,"d":"11.11"}},{"$f":"[1]UNITÁRIO!K51","v":4},{"$f":"[1]UNITÁRIO!L51","v":3.04},{"$f":"[1]UNITÁRIO!M51","v":{"v":18.181818181818183,"d":"18.18"}},{"$f":"[1]UNITÁRIO!N51","v":2},{"$f":"[1]UNITÁRIO!O51","v":{"v":4.2,"d":"4.20"}},{"$f":"[1]UNITÁRIO!P51","v":{"v":5,"d":"5.00"}},{"$f":"[1]UNITÁRIO!Q51","v":2},{"$f":"[1]UNITÁRIO!R51","v":2.52},{"$f":"[1]UNITÁRIO!S51","v":{"v":18.181818181818183,"d":"18.18"}},{"$f":"[1]UNITÁRIO!T51","v":4},{"$f":"[1]UNITÁRIO!U51","v":15.36},{"$f":"[1]UNITÁRIO!V51","v":{"v":5.714285714285714,"d":"5.71"}},{"$f":"[1]UNITÁRIO!W51","v":4},{"$f":"[1]UNITÁRIO!X51","v":{"v":9.2,"d":"9.20"}},{"$f":"[1]UNITÁRIO!Y51","v":{"v":25,"d":"25.00"}},{"$f":"[1]UNITÁRIO!Z51","v":5},{"$f":"[1]UNITÁRIO!AA51","v":{"v":25.2,"d":"25.20"}},{"$f":"[1]UNITÁRIO!AB51","v":{"v":12.5,"d":"12.50"}},{"$f":"[1]UNITÁRIO!AC51","v":1},{"$f":"[1]UNITÁRIO!AD51","v":6.27},{"$f":"[1]UNITÁRIO!AE51","v":{"v":20,"d":"20.00"}},{"$f":"[1]UNITÁRIO!AF51","v":0},{"$f":"[1]UNITÁRIO!AG51","v":{"v":0,"d":"0.00"}},{"$f":"[1]UNITÁRIO!AH51","v":{"v":0,"d":"0.00"}},{"$f":"[1]UNITÁRIO!AI51","v":{"v":75.67999999999999,"d":"75.68"}},{"$f":"[1]UNITÁRIO!AJ51","v":{"v":9.901223261594819,"d":"9.90"}},{"$f":"[1]UNITÁRIO!AK51","v":30},{"$f":"[1]UNITÁRIO!AL51","v":{"v":10.06711409395973,"d":"10.07"}},{"$f":"[1]UNITÁRIO!AM51","v":20},{"$f":"[1]UNITÁRIO!AN51","v":10}]
[{"$f":"[1]UNITÁRIO!A52","v":"ESCRITÓRIO RJ"},{"$f":"[1]UNITÁRIO!B52","v":0},{"$f":"[1]UNITÁRIO!C52","v":{"v":0,"d":"0.00"}},{"$f":"[1]UNITÁRIO!D52","v":{"v":0,"d":"0.00"}},{"$f":"[1]UNITÁRIO!E52","v":0},{"$f":"[1]UNITÁRIO!F52","v":{"v":0,"d":"0.00"}},{"$f":"[1]UNITÁRIO!G52","v":{"v":0,"d":"0.00"}},{"$f":"[1]UNITÁRIO!H52","v":0},{"$f":"[1]UNITÁRIO!I52","v":{"v":0,"d":"0.00"}},{"$f":"[1]UNITÁRIO!J52","v":{"v":0,"d":"0.00"}},{"$f":"[1]UNITÁRIO!K52","v":0},{"$f":"[1]UNITÁRIO!L52","v":{"v":0,"d":"0.00"}},{"$f":"[1]UNITÁRIO!M52","v":{"v":0,"d":"0.00"}},{"$f":"[1]UNITÁRIO!N52","v":3},{"$f":"[1]UNITÁRIO!O52","v":{"v":6.300000000000001,"d":"6.30"}},{"$f":"[1]UNITÁRIO!P52","v":{"v":7.500000000000002,"d":"7.50"}},{"$f":"[1]UNITÁRIO!Q52","v":0},{"$f":"[1]UNITÁRIO!R52","v":{"v":0,"d":"0.00"}},{"$f":"[1]UNITÁRIO!S52","v":{"v":0,"d":"0.00"}},{"$f":"[1]UNITÁRIO!T52","v":1},{"$f":"[1]UNITÁRIO!U52","v":3.84},{"$f":"[1]UNITÁRIO!V52","v":{"v":1.4285714285714286,"d":"1.43"}},{"$f":"[1]UNITÁRIO!W52","v":0},{"$f":"[1]UNITÁRIO!X52","v":{"v":0,"d":"0.00"}},{"$f":"[1]UNITÁRIO!Y52","v":{"v":0,"d":"0.00"}},{"$f":"[1]UNITÁRIO!Z52","v":0},{"$f":"[1]UNITÁRIO!AA52","v":{"v":0,"d":"0.00"}},{"$f":"[1]UNITÁRIO!AB52","v":{"v":0,"d":"0.00"}},{"$f":"[1]UNITÁRIO!AC52","v":0},{"$f":"[1]UNITÁRIO!AD52","v":{"v":0,"d":"0.00"}},{"$f":"[1]UNITÁRIO!AE52","v":{"v":0,"d":"0.00"}},{"$f":"[1]UNITÁRIO!AF52","v":0},{"$f":"[1]UNITÁRIO!AG52","v":{"v":0,"d":"0.00"}},{"$f":"[1]UNITÁRIO!AH52","v":{"v":0,"d":"0.00"}},{"$f":"[1]UNITÁRIO!AI52","v":10.14},{"$f":"[1]UNITÁRIO!AJ52","v":{"v":1.3266173873225617,"d":"1.33"}},{"$f":"[1]UNITÁRIO!AK52","v":4},{"$f":"[1]UNITÁRIO!AL52","v":{"v":1.342281879194631,"d":"1.34"}},{"$f":"[1]UNITÁRIO!AM52","v":4},{"$f":"[1]UNITÁRIO!AN52","v":0}]
[{"$f":"[1]UNITÁRIO!A54","v":"TOTAL"},{"$f":"[1]UNITÁRIO!B54","v":17},{"$f":"[1]UNITÁRIO!C54","v":{"v":17,"d":"17.00"}},{"$f":"[1]UNITÁRIO!D54","v":100},{"$f":"[1]UNITÁRIO!E54","v":13},{"$f":"[1]UNITÁRIO!F54","v":{"v":7.8,"d":"7.80"}},{"$f":"[1]UNITÁRIO!G54","v":100},{"$f":"[1]UNITÁRIO!H54","v":63},{"$f":"[1]UNITÁRIO!I54","v":{"v":80.01000000000002,"d":"80.01"}},{"$f":"[1]UNITÁRIO!J54","v":{"v":99.99999999999999,"d":"100"}},{"$f":"[1]UNITÁRIO!K54","v":22},{"$f":"[1]UNITÁRIO!L54","v":16.72},{"$f":"[1]UNITÁRIO!M54","v":{"v":100.00000000000001,"d":"100"}},{"$f":"[1]UNITÁRIO!N54","v":40},{"$f":"[1]UNITÁRIO!O54","v":{"v":84,"d":"84.00"}},{"$f":"[1]UNITÁRIO!P54","v":100},{"$f":"[1]UNITÁRIO!Q54","v":11},{"$f":"[1]UNITÁRIO!R54","v":13.86},{"$f":"[1]UNITÁRIO!S54","v":{"v":100.00000000000001,"d":"100"}},{"$f":"[1]UNITÁRIO!T54","v":70},{"$f":"[1]UNITÁRIO!U54","v":{"v":268.8,"d":"268.80"}},{"$f":"[1]UNITÁRIO!V54","v":{"v":99.99999999999999,"d":"100"}},{"$f":"[1]UNITÁRIO!W54","v":16},{"$f":"[1]UNITÁRIO!X54","v":{"v":36.8,"d":"36.80"}},{"$f":"[1]UNITÁRIO!Y54","v":100},{"$f":"[1]UNITÁRIO!Z54","v":40},{"$f":"[1]UNITÁRIO!AA54","v":{"v":201.6,"d":"201.60"}},{"$f":"[1]UNITÁRIO!AB54","v":100},{"$f":"[1]UNITÁRIO!AC54","v":5},{"$f":"[1]UNITÁRIO!AD54","v":{"v":31.349999999999998,"d":"31.35"}},{"$f":"[1]UNITÁRIO!AE54","v":100},{"$f":"[1]UNITÁRIO!AF54","v":1},{"$f":"[1]UNITÁRIO!AG54","v":6.41},{"$f":"[1]UNITÁRIO!AH54","v":100},{"$f":"[1]UNITÁRIO!AI54","v":{"v":764.3499999999999,"d":"764.35"}},{"$f":"[1]UNITÁRIO!AJ54","v":{"v":100.00000000000001,"d":"100"}},{"$f":"[1]UNITÁRIO!AK54","v":298},{"$f":"[1]UNITÁRIO!AL54","v":{"v":100.00000000000001,"d":"100"}},{"$f":"[1]UNITÁRIO!AM54","v":236},{"$f":"[1]UNITÁRIO!AN54","v":62}]

{"sheet":"PCOMCUSTOS","index":16,"n_rows":60,"n_cols":20,"rows_kept":60,"merged":[[0,0,0,14],[2,0,2,3],[3,5,4,5],[4,0,4,2],[5,5,11,5],[12,5,18,5],[13,0,13,2],[14,0,14,2],[19,5,19,6],[23,5,25,5],[23,6,23,11],[23,14,24,15],[23,16,24,17],[23,18,24,19],[24,0,24,3],[24,6,25,6],[24,7,25,7],[24,8,25,8],[24,9,25,9],[24,10,25,10],[24,11,25,11],[25,0,26,0],[25,1,26,1],[25,3,26,3],[41,6,41,44],[42,9,42,11],[42,12,42,14],[42,15,42,17],[42,18,42,20],[42,21,42,23],[42,24,42,26],[42,27,42,29],[42,30,42,32],[42,33,42,35],[42,36,42,38],[42,39,43,39],[42,40,43,40],[42,41,43,41],[42,42,43,42],[42,43,43,43],[42,44,43,44],[43,5,45,5],[43,6,44,7],[43,8,44,9],[44,0,44,3],[45,0,46,0],[45,2,46,2],[45,3,46,3],[52,0,53,2],[54,0,55,0],[54,1,55,1],[54,2,55,2]]}
["VALORES E CUSTO DAS FUNÇÕES"]
[]
[{"$f":"'[1]VALOR FUNCAO'!A4","v":"REMUNERAÇÃO DE CARGOS E FUNÇÕES GRATIFICADAS"},{"$nulls":4},{"$f":"'[1]CUSTO ABSOLUTO'!A47","v":"FUNÇÃO"},{"$f":"'[1]CUSTO ABSOLUTO'!B47","v":"NÍVEL"},{"$f":"'[1]CUSTO ABSOLUTO'!C47","v":"CUSTO (R$)"},{"$f":"'[1]CUSTO ABSOLUTO'!D47","v":"% CUSTO ABSOLUTO"},null,{"$f":"'[1]CUSTO ABSOLUTO'!A82","v":"FUNÇÃO"},{"$f":"'[1]CUSTO ABSOLUTO'!B82","v":"CUSTO (R$)"},{"$f":"'[1]CUSTO ABSOLUTO'!C82","v":"% CUSTO ABSOLUTO"},{"$f":"'[1]CUSTO ABSOLUTO'!D82","v":"Quantitativo"},{"$f":"'[1]CUSTO ABSOLUTO'!E82","v":"% Quantitativo"}]
[{"$nulls":5},{"$f":"'[1]CUSTO ABSOLUTO'!A48","v":"NES"},{"$f":"'[1]CUSTO ABSOLUTO'!B48","v":"Secretário Executivo"},{"$f":"'[1]CUSTO ABSOLUTO'!C48","v":{"v":17327.65,"d":"R$17,327.65"}},{"$f":"'[1]CUSTO ABSOLUTO'!D48","v":{"v":0.008383682497167507,"d":"0.84%"}},null,{"$f":"'[1]CUSTO ABSOLUTO'!A83","v":"NES"},{"$f":"'[1]CUSTO ABSOLUTO'!B83","v":{"v":17327.65,"d":"R$17,327.65"}},{"$f":"'[1]CUSTO ABSOLUTO'!C83","v":{"v":0.008383682497167507,"d":"0.84%"}},{"$f":"'[1]CUSTO ABSOLUTO'!D83","v":1},{"$f":"'[1]CUSTO ABSOLUTO'!E83","v":{"v":0.003355704697986577,"d":"0.34%"}}]
[{"$f":"'[1]VALOR FUNCAO'!A12","v":"CARGO DE NATUREZA ESPECIAL - NES"},{"$nulls":5},{"$f":"'[1]CUSTO ABSOLUTO'!B49","v":"Subtotal NES"},{"$f":"'[1]CUSTO ABSOLUTO'!C49","v":{"v":17327.65,"d":"R$17,327.65"}},{"$f":"'[1]CUSTO ABSOLUTO'!D49","v":{"v":0.008383682497167507,"d":"0.84%"}},null,{"$f":"'[1]CUSTO ABSOLUTO'!A84","v":"DAS 6"},{"$f":"'[1]CUSTO ABSOLUTO'!B84","v":{"v":84724.5,"d":"R$84,724.50"}},{"$f":"'[1]CUSTO ABSOLUTO'!C84","v":{"v":0.0409924777873092,"d":"4.10%"}},{"$f":"'[1]CUSTO ABSOLUTO'!D84","v":5},{"$f":"'[1]CUSTO ABSOLUTO'!E84","v":{"v":0.016778523489932886,"d":"1.68%"}}]
[{"$f":"'[1]VALOR FUNCAO'!A6","v":"Denominação"},{"$f":"'[1]VALOR FUNCAO'!B6","v":"Retribuição"},{"$f":"'[1]VALOR FUNCAO'!C6","v":"Opção"},null,null,{"$f":"'[1]CUSTO ABSOLUTO'!A50","v":"DAS"},{"$f":"'[1]CUSTO ABSOLUTO'!B50","v":6},{"$f":"'[1]CUSTO ABSOLUTO'!C50","v":{"v":84724.5,"d":"R$84,724.50"}},{"$f":"'[1]CUSTO ABSOLUTO'!D50","v":{"v":0.0409924777873092,"d":"4.10%"}},null,{"$f":"'[1]CUSTO ABSOLUTO'!A85","v":"DAS 5 "},{"$f":"'[1]CUSTO ABSOLUTO'!B85","v":{"v":544935.6000000001,"d":"R$544,935.60"}},{"$f":"'[1]CUSTO ABSOLUTO'!C85","v":{"v":0.26365762534466436,"d":"26.37%"}},{"$f":"'[1]CUSTO ABSOLUTO'!D85","v":40},{"$f":"'[1]CUSTO ABSOLUTO'!E85","v":{"v":0.1342281879194631,"d":"13.42%"}}]
[{"$f":"'[1]VALOR FUNCAO'!A8","v":"MINISTRO DE ESTADO"},{"$f":"'[1]VALOR FUNCAO'!B8","v":{"v":30934.7,"d":"R$30,934.70"}},{"$f":"'[1]VALOR FUNCAO'!C8","v":"***************"},{"$nulls":3},{"$f":"'[1]CUSTO ABSOLUTO'!B51","v":5},{"$f":"'[1]CUSTO ABSOLUTO'!C51","v":{"v":544935.6000000001,"d":"R$544,935.60"}},{"$f":"'[1]CUSTO ABSOLUTO'!D51","v":{"v":0.26365762534466436,"d":"26.37%"}},null,{"$f":"'[1]CUSTO ABSOLUTO'!A86","v":"DAS 4"},{"$f":"'[1]CUSTO ABSOLUTO'!B86","v":{"v":726130.9999999999,"d":"R$726,131.00"}},{"$f":"'[1]CUSTO ABSOLUTO'!C86","v":{"v":0.35132587254190484,"d":"35.13%"}},{"$f":"'[1]CUSTO ABSOLUTO'!D86","v":70},{"$f":"'[1]CUSTO ABSOLUTO'!E86","v":{"v":0.2348993288590604,"d":"23.49%"}}]
[{"$f":"'[1]VALOR FUNCAO'!A10","v":"Obs: DECRETO LEGISLATIVO Nº 1658, DE 2014"},{"$nulls":5},{"$f":"'[1]CUSTO ABSOLUTO'!B52","v":4},{"$f":"'[1]CUSTO ABSOLUTO'!C52","v":{"v":726130.9999999999,"d":"R$726,131.00"}},{"$f":"'[1]CUSTO ABSOLUTO'!D52","v":{"v":0.35132587254190484,"d":"35.13%"}},null,{"$f":"'[1]CUSTO ABSOLUTO'!A87","v":"DAS 3"},{"$f":"'[1]CUSTO ABSOLUTO'!B87","v":{"v":227421.99999999997,"d":"R$227,422.00"}},{"$f":"'[1]CUSTO ABSOLUTO'!C87","v":{"v":0.11003418472042246,"d":"11.00%"}},{"$f":"'[1]CUSTO ABSOLUTO'!D87","v":40},{"$f":"'[1]CUSTO ABSOLUTO'!E87","v":{"v":0.1342281879194631,"d":"13.42%"}}]
[{"$nulls":6},{"$f":"'[1]CUSTO ABSOLUTO'!B53","v":3},{"$f":"'[1]CUSTO ABSOLUTO'!C53","v":{"v":227421.99999999997,"d":"R$227,422.00"}},{"$f":"'[1]CUSTO ABSOLUTO'!D53","v":{"v":0.11003418472042246,"d":"11.00%"}},null,{"$f":"'[1]CUSTO ABSOLUTO'!A88","v":"DAS 2"},{"$f":"'[1]CUSTO ABSOLUTO'!B88","v":{"v":216767.25,"d":"R$216,767.25"}},{"$f":"'[1]CUSTO ABSOLUTO'!C88","v":{"v":0.10487906898997458,"d":"10.49%"}},{"$f":"'[1]CUSTO ABSOLUTO'!D88","v":63},{"$f":"'[1]CUSTO ABSOLUTO'!E88","v":{"v":0.21140939597315436,"d":"21.14%"}}]
[{"$f":"'[1]VALOR FUNCAO'!A13","v":"Denominação"},{"$f":"'[1]VALOR FUNCAO'!B13","v":"Retribuição"},{"$f":"'[1]VALOR FUNCAO'!C13","v":"Opção (60%¨)"},{"$nulls":3},{"$f":"'[1]CUSTO ABSOLUTO'!B54","v":2},{"$f":"'[1]CUSTO ABSOLUTO'!C54","v":{"v":216767.25,"d":"R$216,767.25"}},{"$f":"'[1]CUSTO ABSOLUTO'!D54","v":{"v":0.10487906898997458,"d":"10.49%"}},null,{"$f":"'[1]CUSTO ABSOLUTO'!A89","v":"DAS 1"},{"$f":"'[1]CUSTO ABSOLUTO'!B89","v":{"v":45924.82,"d":"R$45,924.82"}},{"$f":"'[1]CUSTO ABSOLUTO'!C89","v":{"v":0.02221992651164862,"d":"2.22%"}},{"$f":"'[1]CUSTO ABSOLUTO'!D89","v":17},{"$f":"'[1]CUSTO ABSOLUTO'!E89","v":{"v":0.05704697986577181,"d":"5.70%"}}]
[{"$f":"'[1]VALOR FUNCAO'!A15","v":"SECRETÁRIO-EXECUTIVO"},{"$f":"'[1]VALOR FUNCAO'!B15","v":{"v":17327.65,"d":"R$17,327.65"}},{"$f":"'[1]VALOR FUNCAO'!C15","v":{"v":10396.59,"d":"R$10,396.59"}},{"$nulls":3},{"$f":"'[1]CUSTO ABSOLUTO'!B55","v":1},{"$f":"'[1]CUSTO ABSOLUTO'!C55","v":{"v":45924.82,"d":"R$45,924.82"}},{"$f":"'[1]CUSTO ABSOLUTO'!D55","v":{"v":0.02221992651164862,"d":"2.22%"}},null,{"$f":"'[1]CUSTO ABSOLUTO'!A90","v":"FCPE 6"},{"$f":"'[1]CUSTO ABSOLUTO'!B90","v":0},{"$f":"'[1]CUSTO ABSOLUTO'!C90","v":{"v":0,"d":"0.00%"}},{"$f":"'[1]CUSTO ABSOLUTO'!D90","v":0},{"$f":"'[1]CUSTO ABSOLUTO'!E90","v":{"v":0,"d":"0.00%"}}]
[{"$f":"'[1]VALOR FUNCAO'!A17","v":"Obs: A partir de janeiro/2017 (Lei nº 13.324, de 29/07/2016, D.O.U. de 29/07/2016)"},{"$nulls":5},{"$f":"'[1]CUSTO ABSOLUTO'!B56","v":"Subtotal DAS"},{"$f":"'[1]CUSTO ABSOLUTO'!C56","v":{"v":1845905.1700000002,"d":"R$1,845,905.17"}},{"$f":"'[1]CUSTO ABSOLUTO'!D56","v":{"v":0.8931091558959242,"d":"89.31%"}},null,{"$f":"'[1]CUSTO ABSOLUTO'!A91","v":"FCPE 5"},{"$f":"'[1]CUSTO ABSOLUTO'!B91","v":0},{"$f":"'[1]CUSTO ABSOLUTO'!C91","v":{"v":0,"d":"0.00%"}},{"$f":"'[1]CUSTO ABSOLUTO'!D91","v":0},{"$f":"'[1]CUSTO ABSOLUTO'!E91","v":{"v":0,"d":"0.00%"}}]
[{"$nulls":5},{"$f":"'[1]CUSTO ABSOLUTO'!A57","v":"FCPE"},{"$f":"'[1]CUSTO ABSOLUTO'!B57","v":6},{"$f":"'[1]CUSTO ABSOLUTO'!C57","v":0},{"$f":"'[1]CUSTO ABSOLUTO'!D57","v":{"v":0,"d":"0.00%"}},null,{"$f":"'[1]CUSTO ABSOLUTO'!A92","v":"FCPE 4"},{"$f":"'[1]CUSTO ABSOLUTO'!B92","v":{"v":99583.67999999998,"d":"R$99,583.68"}},{"$f":"'[1]CUSTO ABSOLUTO'!C92","v":{"v":0.048181833948604084,"d":"4.82%"}},{"$f":"'[1]CUSTO ABSOLUTO'!D92","v":16},{"$f":"'[1]CUSTO ABSOLUTO'!E92","v":{"v":0.053691275167785234,"d":"5.37%"}}]
[{"$f":"'[1]VALOR FUNCAO'!A19","v":"GRUPO-DIREÇÃO E ASSESSORAMENTO SUPERIORES - DAS e"},{"$nulls":5},{"$f":"'[1]CUSTO ABSOLUTO'!B58","v":5},{"$f":"'[1]CUSTO ABSOLUTO'!C58","v":0},{"$f":"'[1]CUSTO ABSOLUTO'!D58","v":{"v":0,"d":"0.00%"}},null,{"$f":"'[1]CUSTO ABSOLUTO'!A93","v":"FCPE 3"},{"$f":"'[1]CUSTO ABSOLUTO'!B93","v":{"v":37524.63,"d":"R$37,524.63"}},{"$f":"'[1]CUSTO ABSOLUTO'!C93","v":{"v":0.01815564047886971,"d":"1.82%"}},{"$f":"'[1]CUSTO ABSOLUTO'!D93","v":11},{"$f":"'[1]CUSTO ABSOLUTO'!E93","v":{"v":0.03691275167785235,"d":"3.69%"}}]
[{"$f":"'[1]VALOR FUNCAO'!A20","v":"FUNÇÃO COMISSIONADA DO PODER EXECUTIVO - FCPE"},{"$nulls":5},{"$f":"'[1]CUSTO ABSOLUTO'!B59","v":4},{"$f":"'[1]CUSTO ABSOLUTO'!C59","v":{"v":99583.67999999998,"d":"R$99,583.68"}},{"$f":"'[1]CUSTO ABSOLUTO'!D59","v":{"v":0.048181833948604084,"d":"4.82%"}},null,{"$f":"'[1]CUSTO ABSOLUTO'!A94","v":"FCPE 2"},{"$f":"'[1]CUSTO ABSOLUTO'!B94","v":{"v":45417.899999999994,"d":"R$45,417.90"}},{"$f":"'[1]CUSTO ABSOLUTO'!C94","v":{"v":0.02197466207408991,"d":"2.20%"}},{"$f":"'[1]CUSTO ABSOLUTO'!D94","v":22},{"$f":"'[1]CUSTO ABSOLUTO'!E94","v":{"v":0.0738255033557047,"d":"7.38%"}}]
[{"$f":"'[1]VALOR FUNCAO'!A21","v":"Denominação"},{"$f":"'[1]VALOR FUNCAO'!B21","v":"Retribuição"},{"$f":"'[1]VALOR FUNCAO'!C21","v":"Opção (60%)"},{"$nulls":3},{"$f":"'[1]CUSTO ABSOLUTO'!B60","v":3},{"$f":"'[1]CUSTO ABSOLUTO'!C60","v":{"v":37524.63,"d":"R$37,524.63"}},{"$f":"'[1]CUSTO ABSOLUTO'!D60","v":{"v":0.01815564047886971,"d":"1.82%"}},null,{"$f":"'[1]CUSTO ABSOLUTO'!A95","v":"FCPE 1"},{"$f":"'[1]CUSTO ABSOLUTO'!B95","v":{"v":21071.388,"d":"R$21,071.39"}},{"$f":"'[1]CUSTO ABSOLUTO'!C95","v":{"v":0.01019502510534466,"d":"1.02%"}},{"$f":"'[1]CUSTO ABSOLUTO'!D95","v":13},{"$f":"'[1]CUSTO ABSOLUTO'!E95","v":{"v":0.0436241610738255,"d":"4.36%"}}]
[{"$f":"'[1]VALOR FUNCAO'!A23","v":"DAS/FCPE - 6"},{"$f":"'[1]VALOR FUNCAO'!B23","v":{"v":16944.9,"d":"R$16,944.90"}},{"$f":"'[1]VALOR FUNCAO'!C23","v":{"v":10166.94,"d":"R$10,166.94"}},{"$nulls":3},{"$f":"'[1]CUSTO ABSOLUTO'!B61","v":2},{"$f":"'[1]CUSTO ABSOLUTO'!C61","v":{"v":45417.899999999994,"d":"R$45,417.90"}},{"$f":"'[1]CUSTO ABSOLUTO'!D61","v":{"v":0.02197466207408991,"d":"2.20%"}},null,{"$f":"'[1]CUSTO ABSOLUTO'!A96","v":"Total"},{"$f":"'[1]CUSTO ABSOLUTO'!B96","v":{"v":2066830.4179999998,"d":"R$2,066,830.42"}},{"$f":"'[1]CUSTO ABSOLUTO'!C96","v":{"v":1,"d":"100.00%"}},{"$f":"'[1]CUSTO ABSOLUTO'!D96","v":298},{"$f":"'[1]CUSTO ABSOLUTO'!E96","v":{"v":1,"d":"100.00%"}}]
[{"$f":"'[1]VALOR FUNCAO'!A24","v":"DAS/FCPE - 5"},{"$f":"'[1]VALOR FUNCAO'!B24","v":{"v":13623.39,"d":"R$13,623.39"}},{"$f":"'[1]VALOR FUNCAO'!C24","v":{"v":8174.034,"d":"R$8,174.03"}},{"$nulls":3},{"$f":"'[1]CUSTO ABSOLUTO'!B62","v":1},{"$f":"'[1]CUSTO ABSOLUTO'!C62","v":{"v":21071.388,"d":"R$21,071.39"}},{"$f":"'[1]CUSTO ABSOLUTO'!D62","v":{"v":0.01019502510534466,"d":"1.02%"}}]
[{"$f":"'[1]VALOR FUNCAO'!A25","v":"DAS/FCPE - 4"},{"$f":"'[1]VALOR FUNCAO'!B25","v":{"v":10373.3,"d":"R$10,373.30"}},{"$f":"'[1]VALOR FUNCAO'!C25","v":{"v":6223.98,"d":"R$6,223.98"}},{"$nulls":3},{"$f":"'[1]CUSTO ABSOLUTO'!B63","v":"Subtotal FCPE"},{"$f":"'[1]CUSTO ABSOLUTO'!C63","v":{"v":203597.59799999997,"d":"R$203,597.60"}},{"$f":"'[1]CUSTO ABSOLUTO'!D63","v":{"v":0.09850716160690837,"d":"9.85%"}}]
[{"$f":"'[1]VALOR FUNCAO'!A26","v":"DAS/FCPE - 3"},{"$f":"'[1]VALOR FUNCAO'!B26","v":{"v":5685.55,"d":"R$5,685.55"}},{"$f":"'[1]VALOR FUNCAO'!C26","v":{"v":3411.33,"d":"R$3,411.33"}},null,null,{"$f":"'[1]CUSTO ABSOLUTO'!A64","v":"Total Geral Custo (R$)"},null,{"$f":"'[1]CUSTO ABSOLUTO'!C64","v":{"v":2066830.418,"d":"R$2,066,830.42"}},{"$f":"'[1]CUSTO ABSOLUTO'!D64","v":{"v":1,"d":"100%"}}]
[{"$f":"'[1]VALOR FUNCAO'!A27","v":"DAS/FCPE - 2"},{"$f":"'[1]VALOR FUNCAO'!B27","v":{"v":3440.75,"d":"R$3,440.75"}},{"$f":"'[1]VALOR FUNCAO'!C27","v":{"v":2064.45,"d":"R$2,064.45"}}]
[{"$f":"'[1]VALOR FUNCAO'!A28","v":"DAS/FCPE - 1"},{"$f":"'[1]VALOR FUNCAO'!B28","v":{"v":2701.46,"d":"R$2,701.46"}},{"$f":"'[1]VALOR FUNCAO'!C28","v":{"v":1620.876,"d":"R$1,620.88"}}]
[{"$f":"'[1]VALOR FUNCAO'!A30","v":"Obs: A partir de janeiro/2017 (Lei nº 13.324, de 29/07/2016, D.O.U. de 29/07/2016)"}]
[{"$nulls":5},{"$f":"'[1]CUSTO ABSOLUTO'!A26","v":"Unidade"},{"$f":"'[1]CUSTO ABSOLUTO'!B26","v":"Custo Absoluto - Quadro Resumo"},{"$nulls":6},{"$f":"'[1]CUSTO RELATIVO'!A2","v":"Unidade"},{"$f":"'[1]CUSTO RELATIVO'!B2","v":"Custo Relativo - Função DAS/FCPE por Unidade"},null,{"$f":"'[1]CUSTO RELATIVO'!D2","v":"Custo Relativo - Função FCPE por Unidade"},null,{"$f":"'[1]CUSTO RELATIVO'!F2","v":"Custo Relativo - Função DAS por Unidade"}]
[{"$f":"'[1]VALOR FUNCAO'!A32","v":"FUNÇÕES COMISSIONADAS TÉCNICAS - FCT"},{"$nulls":5},{"$f":"'[1]CUSTO ABSOLUTO'!B27","v":"Total Custo Absoluto DAS/FCPE"},{"$f":"'[1]CUSTO ABSOLUTO'!C27","v":"% Total Custo Absoluto"},{"$f":"'[1]CUSTO ABSOLUTO'!D27","v":"TOTAL DAS + FCPE"},{"$f":"'[1]CUSTO ABSOLUTO'!E27","v":"% TOTAL DAS + FCPE"},{"$f":"'[1]CUSTO ABSOLUTO'!F27","v":"TOTAL      DAS"},{"$f":"'[1]CUSTO ABSOLUTO'!G27","v":"TOTAL     FCPE"}]
[{"$f":"'[1]VALOR FUNCAO'!A33","v":"Denominação"},{"$f":"'[1]VALOR FUNCAO'!B33","v":"Retribuição"},{"$f":"'[1]VALOR FUNCAO'!C33","v":"Opção"},{"$f":"'[1]VALOR FUNCAO'!D34","v":"%"},{"$nulls":10},{"$f":"'[1]CUSTO RELATIVO'!B4","v":"Valor"},{"$f":"'[1]CUSTO RELATIVO'!C4","v":"%"},{"$f":"'[1]CUSTO RELATIVO'!D4","v":"Valor"},{"$f":"'[1]CUSTO RELATIVO'!E4","v":"%"},{"$f":"'[1]CUSTO RELATIVO'!F4","v":"Valor"},{"$f":"'[1]CUSTO RELATIVO'!G4","v":"%"}]
[null,null,{"$f":"'[1]VALOR FUNCAO'!C34","v":"Valor"},null,null,{"$f":"'[1]CUSTO ABSOLUTO'!A29","v":"GM "},{"$f":"'[1]CUSTO ABSOLUTO'!B29","v":{"v":340903.94999999995,"d":"R$340,903.95"}},{"$f":"'[1]CUSTO ABSOLUTO'!C29","v":{"v":0.1649404552163892,"d":"16.49%"}},{"$f":"'[1]CUSTO ABSOLUTO'!D29","v":51},{"$f":"'[1]CUSTO ABSOLUTO'!E29","v":{"v":0.17114093959731544,"d":"17.11%"}},{"$f":"'[1]CUSTO ABSOLUTO'!F29","v":40},{"$f":"'[1]CUSTO ABSOLUTO'!G29","v":11},null,{"$f":"'[1]CUSTO RELATIVO'!A5","v":"GM"},{"$f":"'[1]CUSTO RELATIVO'!B5","v":{"v":251175.95399999982,"d":"R$251,175.95"}},{"$f":"'[1]CUSTO RELATIVO'!C5","v":{"v":16.328994315027362,"d":"16.33"}},{"$f":"'[1]CUSTO RELATIVO'!D5","v":{"v":27344.37,"d":"R$27,344.37"}},{"$f":"'[1]CUSTO RELATIVO'!E5","v":{"v":13.520036057424532,"d":"13.52"}},{"$f":"'[1]CUSTO RELATIVO'!F5","v":{"v":223831.58399999983,"d":"R$223,831.58"}},{"$f":"'[1]CUSTO RELATIVO'!G5","v":{"v":16.754238800653187,"d":"16.75"}}]
[{"$f":"'[1]VALOR FUNCAO'!A36","v":"FCT 1"},{"$f":"'[1]VALOR FUNCAO'!B36","v":{"v":6975.3,"d":"R$6,975.30"}},{"$f":"'[1]VALOR FUNCAO'!C36","v":{"v":2092.59,"d":"R$2,092.59"}},{"$f":"'[1]VALOR FUNCAO'!D36","v":{"v":0.3,"d":"30%"}},null,{"$f":"'[1]CUSTO ABSOLUTO'!A30","v":"SE"},{"$f":"'[1]CUSTO ABSOLUTO'!B30","v":{"v":525488.168,"d":"R$525,488.17"}},{"$f":"'[1]CUSTO ABSOLUTO'!C30","v":{"v":0.25424832314423584,"d":"25.42%"}},{"$f":"'[1]CUSTO ABSOLUTO'!D30","v":91},{"$f":"'[1]CUSTO ABSOLUTO'!E30","v":{"v":0.3053691275167785,"d":"30.54%"}},{"$f":"'[1]CUSTO ABSOLUTO'!F30","v":73},{"$f":"'[1]CUSTO ABSOLUTO'!G30","v":18},null,{"$f":"'[1]CUSTO RELATIVO'!A6","v":"SE"},{"$f":"'[1]CUSTO RELATIVO'!B6","v":{"v":389696.5900000002,"d":"R$389,696.59"}},{"$f":"'[1]CUSTO RELATIVO'!C6","v":{"v":25.33424597919734,"d":"25.33"}},{"$f":"'[1]CUSTO RELATIVO'!D6","v":{"v":47436.977999999974,"d":"R$47,436.98"}},{"$f":"'[1]CUSTO RELATIVO'!E6","v":{"v":23.454541209589173,"d":"23.45"}},{"$f":"'[1]CUSTO RELATIVO'!F6","v":{"v":342259.6120000002,"d":"R$342,259.61"}},{"$f":"'[1]CUSTO RELATIVO'!G6","v":{"v":25.618812004953295,"d":"25.62"}}]
[{"$f":"'[1]VALOR FUNCAO'!A37","v":"FCT 2"},{"$f":"'[1]VALOR FUNCAO'!B37","v":{"v":5850.43,"d":"R$5,850.43"}},{"$f":"'[1]VALOR FUNCAO'!C37","v":{"v":1755.1290000000001,"d":"R$1,755.13"}},{"$f":"'[1]VALOR FUNCAO'!D37","v":{"v":0.3,"d":"30%"}},null,{"$f":"'[1]CUSTO ABSOLUTO'!A31","v":"CONJUR"},{"$f":"'[1]CUSTO ABSOLUTO'!B31","v":{"v":71460.95,"d":"R$71,460.95"}},{"$f":"'[1]CUSTO ABSOLUTO'!C31","v":{"v":0.03457513948781066,"d":"3.46%"}},{"$f":"'[1]CUSTO ABSOLUTO'!D31","v":14},{"$f":"'[1]CUSTO ABSOLUTO'!E31","v":{"v":0.04697986577181208,"d":"4.70%"}},{"$f":"'[1]CUSTO ABSOLUTO'!F31","v":8},{"$f":"'[1]CUSTO ABSOLUTO'!G31","v":6},null,{"$f":"'[1]CUSTO RELATIVO'!A7","v":"CONJUR"},{"$f":"'[1]CUSTO RELATIVO'!B7","v":{"v":67311.62999999999,"d":"R$67,311.63"}},{"$f":"'[1]CUSTO RELATIVO'!C7","v":{"v":4.375941271851309,"d":"4.38"}},{"$f":"'[1]CUSTO RELATIVO'!D7","v":{"v":27559.049999999996,"d":"R$27,559.05"}},{"$f":"'[1]CUSTO RELATIVO'!E7","v":{"v":13.626181539686797,"d":"13.63"}},{"$f":"'[1]CUSTO RELATIVO'!F7","v":{"v":39752.579999999994,"d":"R$39,752.58"}},{"$f":"'[1]CUSTO RELATIVO'!G7","v":{"v":2.975559598693946,"d":"2.98"}}]
[{"$f":"'[1]VALOR FUNCAO'!A38","v":"FCT 3"},{"$f":"'[1]VALOR FUNCAO'!B38","v":{"v":4906.97,"d":"R$4,906.97"}},{"$f":"'[1]VALOR FUNCAO'!C38","v":{"v":1570.2304000000001,"d":"R$1,570.23"}},{"$f":"'[1]VALOR FUNCAO'!D38","v":{"v":0.32,"d":"32%"}},null,{"$f":"'[1]CUSTO ABSOLUTO'!A32","v":"ASSEC"},{"$f":"'[1]CUSTO ABSOLUTO'!B32","v":{"v":82546.54,"d":"R$82,546.54"}},{"$f":"'[1]CUSTO ABSOLUTO'!C32","v":{"v":0.03993870966921293,"d":"3.99%"}},{"$f":"'[1]CUSTO ABSOLUTO'!D32","v":9},{"$f":"'[1]CUSTO ABSOLUTO'!E32","v":{"v":0.030201342281879196,"d":"3.02%"}},{"$f":"'[1]CUSTO ABSOLUTO'!F32","v":9},{"$f":"'[1]CUSTO ABSOLUTO'!G32","v":0},null,{"$f":"'[1]CUSTO RELATIVO'!A8","v":"ASSEC"},{"$f":"'[1]CUSTO RELATIVO'!B8","v":{"v":60499.90400000001,"d":"R$60,499.90"}},{"$f":"'[1]CUSTO RELATIVO'!C8","v":{"v":3.9331097294277697,"d":"3.93"}},{"$f":"'[1]CUSTO RELATIVO'!D8","v":0},{"$f":"'[1]CUSTO RELATIVO'!E8","v":{"v":0,"d":"0.00"}},{"$f":"'[1]CUSTO RELATIVO'!F8","v":{"v":60499.90400000001,"d":"R$60,499.90"}},{"$f":"'[1]CUSTO RELATIVO'!G8","v":{"v":4.528538023626701,"d":"4.53"}}]
[{"$f":"'[1]VALOR FUNCAO'!A39","v":"FCT 4"},{"$f":"'[1]VALOR FUNCAO'!B39","v":{"v":4115.66,"d":"R$4,115.66"}},{"$f":"'[1]VALOR FUNCAO'!C39","v":{"v":1399.3244,"d":"R$1,399.32"}},{"$f":"'[1]VALOR FUNCAO'!D39","v":{"v":0.34,"d":"34%"}},null,{"$f":"'[1]CUSTO ABSOLUTO'!A33","v":"ASSINT"},{"$f":"'[1]CUSTO ABSOLUTO'!B33","v":{"v":29501.89,"d":"R$29,501.89"}},{"$f":"'[1]CUSTO ABSOLUTO'!C33","v":{"v":0.014273977072849525,"d":"1.43%"}},{"$f":"'[1]CUSTO ABSOLUTO'!D33","v":4},{"$f":"'[1]CUSTO ABSOLUTO'!E33","v":{"v":0.013422818791946308,"d":"1.34%"}},{"$f":"'[1]CUSTO ABSOLUTO'!F33","v":3},{"$f":"'[1]CUSTO ABSOLUTO'!G33","v":1},null,{"$f":"'[1]CUSTO RELATIVO'!A9","v":"AERINT"},{"$f":"'[1]CUSTO RELATIVO'!B9","v":{"v":24052.534,"d":"R$24,052.53"}},{"$f":"'[1]CUSTO RELATIVO'!C9","v":{"v":1.5636595967622067,"d":"1.56"}},{"$f":"'[1]CUSTO RELATIVO'!D9","v":{"v":2064.45,"d":"R$2,064.45"}},{"$f":"'[1]CUSTO RELATIVO'!E9","v":{"v":1.0207380326827815,"d":"1.02"}},{"$f":"'[1]CUSTO RELATIVO'!F9","v":{"v":21988.084,"d":"R$21,988.08"}},{"$f":"'[1]CUSTO RELATIVO'!G9","v":{"v":1.6458517762391467,"d":"1.65"}}]
[{"$f":"'[1]VALOR FUNCAO'!A40","v":"FCT 5"},{"$f":"'[1]VALOR FUNCAO'!B40","v":{"v":3451.94,"d":"R$3,451.94"}},{"$f":"'[1]VALOR FUNCAO'!C40","v":{"v":1277.2178,"d":"R$1,277.22"}},{"$f":"'[1]VALOR FUNCAO'!D40","v":{"v":0.37,"d":"37%"}},null,{"$f":"'[1]CUSTO ABSOLUTO'!A34","v":"AECI"},{"$f":"'[1]CUSTO ABSOLUTO'!B34","v":{"v":21911.82,"d":"R$21,911.82"}},{"$f":"'[1]CUSTO ABSOLUTO'!C34","v":{"v":0.010601653531499361,"d":"1.06%"}},{"$f":"'[1]CUSTO ABSOLUTO'!D34","v":3},{"$f":"'[1]CUSTO ABSOLUTO'!E34","v":{"v":0.010067114093959731,"d":"1.01%"}},{"$f":"'[1]CUSTO ABSOLUTO'!F34","v":1},{"$f":"'[1]CUSTO ABSOLUTO'!G34","v":2},null,{"$f":"'[1]CUSTO RELATIVO'!A10","v":"AECI"},{"$f":"'[1]CUSTO RELATIVO'!B10","v":{"v":21911.82,"d":"R$21,911.82"}},{"$f":"'[1]CUSTO RELATIVO'!C10","v":{"v":1.4244913914486539,"d":"1.42"}},{"$f":"'[1]CUSTO RELATIVO'!D10","v":{"v":8288.43,"d":"R$8,288.43"}},{"$f":"'[1]CUSTO RELATIVO'!E10","v":{"v":4.098096699958317,"d":"4.10"}},{"$f":"'[1]CUSTO RELATIVO'!F10","v":{"v":13623.39,"d":"R$13,623.39"}},{"$f":"'[1]CUSTO RELATIVO'!G10","v":{"v":1.0197378102566204,"d":"1.02"}}]
[{"$f":"'[1]VALOR FUNCAO'!A41","v":"FCT 6"},{"$f":"'[1]VALOR FUNCAO'!B41","v":{"v":2895.3,"d":"R$2,895.30"}},{"$f":"'[1]VALOR FUNCAO'!C41","v":{"v":1158.1200000000001,"d":"R$1,158.12"}},{"$f":"'[1]VALOR FUNCAO'!D41","v":{"v":0.4,"d":"40%"}},null,{"$f":"'[1]CUSTO ABSOLUTO'!A35","v":"AEPED"},{"$f":"'[1]CUSTO ABSOLUTO'!B35","v":{"v":35906.22,"d":"R$35,906.22"}},{"$f":"'[1]CUSTO ABSOLUTO'!C35","v":{"v":0.017372600909727854,"d":"1.74%"}},{"$f":"'[1]CUSTO ABSOLUTO'!D35","v":4},{"$f":"'[1]CUSTO ABSOLUTO'!E35","v":{"v":0.013422818791946308,"d":"1.34%"}},{"$f":"'[1]CUSTO ABSOLUTO'!F35","v":3},{"$f":"'[1]CUSTO ABSOLUTO'!G35","v":1},null,{"$f":"'[1]CUSTO RELATIVO'!A11","v":"AEPED"},{"$f":"'[1]CUSTO RELATIVO'!B11","v":{"v":33632,"d":"R$33,632.00"}},{"$f":"'[1]CUSTO RELATIVO'!C11","v":{"v":2.1864224184573042,"d":"2.19"}},{"$f":"'[1]CUSTO RELATIVO'!D11","v":{"v":6223.98,"d":"R$6,223.98"}},{"$f":"'[1]CUSTO RELATIVO'!E11","v":{"v":3.0773586672755355,"d":"3.08"}},{"$f":"'[1]CUSTO RELATIVO'!F11","v":{"v":27408.02,"d":"R$27,408.02"}},{"$f":"'[1]CUSTO RELATIVO'!G11","v":{"v":2.05154475488624,"d":"2.05"}}]
[{"$f":"'[1]VALOR FUNCAO'!A42","v":"FCT 7"},{"$f":"'[1]VALOR FUNCAO'!B42","v":{"v":2428.37,"d":"R$2,428.37"}},{"$f":"'[1]VALOR FUNCAO'!C42","v":{"v":1068.4828,"d":"R$1,068.48"}},{"$f":"'[1]VALOR FUNCAO'!D42","v":{"v":0.44,"d":"44%"}},null,{"$f":"'[1]CUSTO ABSOLUTO'!A36","v":"SPE"},{"$f":"'[1]CUSTO ABSOLUTO'!B36","v":{"v":247012.41,"d":"R$247,012.41"}},{"$f":"'[1]CUSTO ABSOLUTO'!C36","v":{"v":0.11951266434283726,"d":"11.95%"}},{"$f":"'[1]CUSTO ABSOLUTO'!D36","v":30},{"$f":"'[1]CUSTO ABSOLUTO'!E36","v":{"v":0.10067114093959731,"d":"10.07%"}},{"$f":"'[1]CUSTO ABSOLUTO'!F36","v":25},{"$f":"'[1]CUSTO ABSOLUTO'!G36","v":5},null,{"$f":"'[1]CUSTO RELATIVO'!A12","v":"SPE"},{"$f":"'[1]CUSTO RELATIVO'!B12","v":{"v":172801.30599999998,"d":"R$172,801.31"}},{"$f":"'[1]CUSTO RELATIVO'!C12","v":{"v":11.233844236949947,"d":"11.23"}},{"$f":"'[1]CUSTO RELATIVO'!D12","v":{"v":15828.66,"d":"R$15,828.66"}},{"$f":"'[1]CUSTO RELATIVO'!E12","v":{"v":7.8262565179125865,"d":"7.83"}},{"$f":"'[1]CUSTO RELATIVO'!F12","v":{"v":156972.64599999998,"d":"R$156,972.65"}},{"$f":"'[1]CUSTO RELATIVO'!G12","v":{"v":11.749714447155048,"d":"11.75"}}]
[{"$f":"'[1]VALOR FUNCAO'!A43","v":"FCT 8"},{"$f":"'[1]VALOR FUNCAO'!B43","v":{"v":2036.77,"d":"R$2,036.77"}},{"$f":"'[1]VALOR FUNCAO'!C43","v":{"v":998.0173,"d":"R$998.02"}},{"$f":"'[1]VALOR FUNCAO'!D43","v":{"v":0.49,"d":"49%"}},null,{"$f":"'[1]CUSTO ABSOLUTO'!A37","v":"SEE"},{"$f":"'[1]CUSTO ABSOLUTO'!B37","v":{"v":246911.52,"d":"R$246,911.52"}},{"$f":"'[1]CUSTO ABSOLUTO'!C37","v":{"v":0.11946385046864547,"d":"11.95%"}},{"$f":"'[1]CUSTO ABSOLUTO'!D37","v":32},{"$f":"'[1]CUSTO ABSOLUTO'!E37","v":{"v":0.10738255033557047,"d":"10.74%"}},{"$f":"'[1]CUSTO ABSOLUTO'!F37","v":28},{"$f":"'[1]CUSTO ABSOLUTO'!G37","v":4},null,{"$f":"'[1]CUSTO RELATIVO'!A13","v":"SEE"},{"$f":"'[1]CUSTO RELATIVO'!B13","v":{"v":176750.27000000002,"d":"R$176,750.27"}},{"$f":"'[1]CUSTO RELATIVO'!C13","v":{"v":11.490567102651685,"d":"11.49"}},{"$f":"'[1]CUSTO RELATIVO'!D13","v":{"v":19270.62,"d":"R$19,270.62"}},{"$f":"'[1]CUSTO RELATIVO'!E13","v":{"v":9.528084839728484,"d":"9.53"}},{"$f":"'[1]CUSTO RELATIVO'!F13","v":{"v":157479.65000000002,"d":"R$157,479.65"}},{"$f":"'[1]CUSTO RELATIVO'!G13","v":{"v":11.787664703937788,"d":"11.79"}}]
[{"$f":"'[1]VALOR FUNCAO'!A44","v":"FCT 9"},{"$f":"'[1]VALOR FUNCAO'!B44","v":{"v":1708.3,"d":"R$1,708.30"}},{"$f":"'[1]VALOR FUNCAO'!C44","v":{"v":939.565,"d":"R$939.57"}},{"$f":"'[1]VALOR FUNCAO'!D44","v":{"v":0.55,"d":"55%"}},null,{"$f":"'[1]CUSTO ABSOLUTO'!A38","v":"SPG"},{"$f":"'[1]CUSTO ABSOLUTO'!B38","v":{"v":233067.75999999998,"d":"R$233,067.76"}},{"$f":"'[1]CUSTO ABSOLUTO'!C38","v":{"v":0.11276578763802575,"d":"11.28%"}},{"$f":"'[1]CUSTO ABSOLUTO'!D38","v":26},{"$f":"'[1]CUSTO ABSOLUTO'!E38","v":{"v":0.087248322147651,"d":"8.72%"}},{"$f":"'[1]CUSTO ABSOLUTO'!F38","v":22},{"$f":"'[1]CUSTO ABSOLUTO'!G38","v":4},null,{"$f":"'[1]CUSTO RELATIVO'!A14","v":"SPG"},{"$f":"'[1]CUSTO RELATIVO'!B14","v":{"v":146598.062,"d":"R$146,598.06"}},{"$f":"'[1]CUSTO RELATIVO'!C14","v":{"v":9.530366593101624,"d":"9.53"}},{"$f":"'[1]CUSTO RELATIVO'!D14","v":{"v":8257.8,"d":"R$8,257.80"}},{"$f":"'[1]CUSTO RELATIVO'!E14","v":{"v":4.082952130731126,"d":"4.08"}},{"$f":"'[1]CUSTO RELATIVO'!F14","v":{"v":138340.26200000002,"d":"R$138,340.26"}},{"$f":"'[1]CUSTO RELATIVO'!G14","v":{"v":10.35504348346536,"d":"10.36"}}]
[{"$f":"'[1]VALOR FUNCAO'!A45","v":"FCT 10"},{"$f":"'[1]VALOR FUNCAO'!B45","v":{"v":1432.81,"d":"R$1,432.81"}},{"$f":"'[1]VALOR FUNCAO'!C45","v":{"v":888.3421999999999,"d":"R$888.34"}},{"$f":"'[1]VALOR FUNCAO'!D45","v":{"v":0.62,"d":"62%"}},null,{"$f":"'[1]CUSTO ABSOLUTO'!A39","v":"SGM"},{"$f":"'[1]CUSTO ABSOLUTO'!B39","v":{"v":204689.23999999996,"d":"R$204,689.24"}},{"$f":"'[1]CUSTO ABSOLUTO'!C39","v":{"v":0.09903533362842155,"d":"9.90%"}},{"$f":"'[1]CUSTO ABSOLUTO'!D39","v":30},{"$f":"'[1]CUSTO ABSOLUTO'!E39","v":{"v":0.10067114093959731,"d":"10.07%"}},{"$f":"'[1]CUSTO ABSOLUTO'!F39","v":20},{"$f":"'[1]CUSTO ABSOLUTO'!G39","v":10},null,{"$f":"'[1]CUSTO RELATIVO'!A15","v":"SGM"},{"$f":"'[1]CUSTO RELATIVO'!B15","v":{"v":193790.52800000002,"d":"R$193,790.53"}},{"$f":"'[1]CUSTO RELATIVO'!C15","v":{"v":12.59835736512482,"d":"12.60"}},{"$f":"'[1]CUSTO RELATIVO'!D15","v":{"v":39976.38,"d":"R$39,976.38"}},{"$f":"'[1]CUSTO RELATIVO'!E15","v":{"v":19.765754305010677,"d":"19.77"}},{"$f":"'[1]CUSTO RELATIVO'!F15","v":{"v":153814.14800000002,"d":"R$153,814.15"}},{"$f":"'[1]CUSTO RELATIVO'!G15","v":{"v":11.513294596132662,"d":"11.51"}}]
[{"$f":"'[1]VALOR FUNCAO'!A46","v":"FCT 11"},{"$f":"'[1]VALOR FUNCAO'!B46","v":{"v":1201.74,"d":"R$1,201.74"}},{"$f":"'[1]VALOR FUNCAO'!C46","v":{"v":841.218,"d":"R$841.22"}},{"$f":"'[1]VALOR FUNCAO'!D46","v":{"v":0.7,"d":"70%"}},null,{"$f":"'[1]CUSTO ABSOLUTO'!A40","v":"ESCRITÓRIO RJ"},{"$f":"'[1]CUSTO ABSOLUTO'!B40","v":{"v":27429.95,"d":"R$27,429.95"}},{"$f":"'[1]CUSTO ABSOLUTO'!C40","v":{"v":0.013271504890344614,"d":"1.33%"}},{"$f":"'[1]CUSTO ABSOLUTO'!D40","v":4},{"$f":"'[1]CUSTO ABSOLUTO'!E40","v":{"v":0.013422818791946308,"d":"1.34%"}},{"$f":"'[1]CUSTO ABSOLUTO'!F40","v":4},{"$f":"'[1]CUSTO ABSOLUTO'!G40","v":0},null,{"$f":"'[1]CUSTO RELATIVO'!A16","v":"ESCRITÓRIO RJ"},{"$f":"'[1]CUSTO RELATIVO'!B16","v":{"v":6223.98,"d":"R$6,223.98"}},{"$f":"'[1]CUSTO RELATIVO'!C16","v":{"v":0.404622068388139,"d":"0.40"}},{"$f":"'[1]CUSTO RELATIVO'!D16","v":0},{"$f":"'[1]CUSTO RELATIVO'!E16","v":{"v":0,"d":"0.00"}},{"$f":"'[1]CUSTO RELATIVO'!F16","v":{"v":6223.98,"d":"R$6,223.98"}},{"$f":"'[1]CUSTO RELATIVO'!G16","v":{"v":0.4658772696282643,"d":"0.47"}}]
[{"$f":"'[1]VALOR FUNCAO'!A47","v":"FCT 12"},{"$f":"'[1]VALOR FUNCAO'!B47","v":{"v":1007.96,"d":"R$1,007.96"}},{"$f":"'[1]VALOR FUNCAO'!C47","v":{"v":806.368,"d":"R$806.37"}},{"$f":"'[1]VALOR FUNCAO'!D47","v":{"v":0.8,"d":"80%"}},null,{"$f":"'[1]CUSTO ABSOLUTO'!A42","v":"TOTAL"},{"$f":"'[1]CUSTO ABSOLUTO'!B42","v":{"v":2066830.4179999998,"d":"2,066,830.42"}},{"$f":"'[1]CUSTO ABSOLUTO'!C42","v":{"v":0.9999999999999999,"d":"100%"}},{"$f":"'[1]CUSTO ABSOLUTO'!D42","v":298},{"$f":"'[1]CUSTO ABSOLUTO'!E42","v":{"v":0.9999999999999999,"d":"100%"}},{"$f":"'[1]CUSTO ABSOLUTO'!F42","v":236},{"$f":"'[1]CUSTO ABSOLUTO'!G42","v":62},null,{"$f":"'[1]CUSTO RELATIVO'!A17","v":"TOTAL"},{"$f":"'[1]CUSTO RELATIVO'!B17","v":{"v":1538220.5979999998,"d":"R$1,538,220.60"}},{"$f":"'[1]CUSTO RELATIVO'!C17","v":{"v":100.00000000000003,"d":"100.00"}},{"$f":"'[1]CUSTO RELATIVO'!D17","v":{"v":202250.71799999994,"d":"R$202,250.72"}},{"$f":"'[1]CUSTO RELATIVO'!E17","v":{"v":100,"d":"100.00"}},{"$f":"'[1]CUSTO RELATIVO'!F17","v":{"v":1335969.8800000001,"d":"R$1,335,969.88"}},{"$f":"'[1]CUSTO RELATIVO'!G17","v":{"v":100.00000000000001,"d":"100.00"}}]
[{"$f":"'[1]VALOR FUNCAO'!A48","v":"FCT 13"},{"$f":"'[1]VALOR FUNCAO'!B48","v":{"v":845.41,"d":"R$845.41"}},{"$f":"'[1]VALOR FUNCAO'!C48","v":{"v":760.869,"d":"R$760.87"}},{"$f":"'[1]VALOR FUNCAO'!D48","v":{"v":0.9,"d":"90%"}}]
[{"$f":"'[1]VALOR FUNCAO'!A49","v":"FCT 14"},{"$f":"'[1]VALOR FUNCAO'!B49","v":{"v":709.07,"d":"R$709.07"}},{"$f":"'[1]VALOR FUNCAO'!C49","v":{"v":709.07,"d":"R$709.07"}},{"$f":"'[1]VALOR FUNCAO'!D49","v":{"v":1,"d":"100%"}}]
[{"$f":"'[1]VALOR FUNCAO'!A50","v":"FCT 15"},{"$f":"'[1]VALOR FUNCAO'!B50","v":{"v":594.74,"d":"R$594.74"}},{"$f":"'[1]VALOR FUNCAO'!C50","v":{"v":594.74,"d":"R$594.74"}},{"$f":"'[1]VALOR FUNCAO'!D50","v":{"v":1,"d":"100%"}}]
[{"$f":"'[1]VALOR FUNCAO'!A52","v":"Obs: A partir de janeiro/2017 (Lei nº 13.324, de 29/07/2016, D.O.U. de 29/07/2016)"}]
[{"$nulls":5},{"$f":"'[1]CUSTO RELATIVO'!A95","v":"Unidade"},{"$f":"'[1]CUSTO RELATIVO'!B95","v":"Custo Relativo (R$)"},null,{"$f":"'[1]CUSTO RELATIVO'!D95","v":"Custo Absoluto (R$)"}]
[{"$f":"'[1]VALOR FUNCAO'!A54","v":"FUNÇÃO GRATIFICADA (Lei nº 8.216, de 1991)"}]
[{"$f":"'[1]VALOR FUNCAO'!A55","v":"Denominação"},{"$f":"'[1]VALOR FUNCAO'!B55","v":"Retribuição"},{"$f":"'[1]VALOR FUNCAO'!C56","v":"Grat. At. Des.Função"},{"$f":"'[1]VALOR FUNCAO'!D56","v":"Total"},null,null,{"$f":"'[1]CUSTO RELATIVO'!B97","v":"Valor"},{"$f":"'[1]CUSTO RELATIVO'!C97","v":"%"},{"$f":"'[1]CUSTO RELATIVO'!D97","v":"Valor"},{"$f":"'[1]CUSTO RELATIVO'!E97","v":"%"}]
[null,{"$f":"'[1]VALOR FUNCAO'!B56","v":"Vencimento"},{"$nulls":3},{"$f":"'[1]CUSTO RELATIVO'!A98","v":"GM"},{"$f":"'[1]CUSTO RELATIVO'!B98","v":{"v":251175.95399999982,"d":"R$251,175.95"}},{"$f":"'[1]CUSTO RELATIVO'!C98","v":{"v":0.1632899431502736,"d":"16.33%"}},{"$f":"'[1]CUSTO RELATIVO'!D98","v":{"v":340903.94999999995,"d":"R$340,903.95"}},{"$f":"'[1]CUSTO RELATIVO'!E98","v":{"v":0.16715890544750037,"d":"16.72%"}}]
[{"$f":"'[1]VALOR FUNCAO'!A58","v":"FG - 1"},{"$f":"'[1]VALOR FUNCAO'!B58","v":{"v":202.09,"d":"R$202.09"}},{"$f":"'[1]VALOR FUNCAO'!C58","v":{"v":335.46,"d":"R$335.46"}},{"$f":"'[1]VALOR FUNCAO'!D58","v":{"v":537.55,"d":"R$537.55"}},null,{"$f":"'[1]CUSTO RELATIVO'!A99","v":"SE"},{"$f":"'[1]CUSTO RELATIVO'!B99","v":{"v":389696.5900000002,"d":"R$389,696.59"}},{"$f":"'[1]CUSTO RELATIVO'!C99","v":{"v":0.2533424597919734,"d":"25.33%"}},{"$f":"'[1]CUSTO RELATIVO'!D99","v":{"v":525488.168,"d":"R$525,488.17"}},{"$f":"'[1]CUSTO RELATIVO'!E99","v":{"v":0.25766796479915294,"d":"25.77%"}}]
[{"$f":"'[1]VALOR FUNCAO'!A59","v":"FG - 2"},{"$f":"'[1]VALOR FUNCAO'!B59","v":{"v":155.47,"d":"R$155.47"}},{"$f":"'[1]VALOR FUNCAO'!C59","v":{"v":258.07,"d":"R$258.07"}},{"$f":"'[1]VALOR FUNCAO'!D59","v":{"v":413.53999999999996,"d":"R$413.54"}},null,{"$f":"'[1]CUSTO RELATIVO'!A100","v":"CONJUR"},{"$f":"'[1]CUSTO RELATIVO'!B100","v":{"v":67311.62999999999,"d":"R$67,311.63"}},{"$f":"'[1]CUSTO RELATIVO'!C100","v":{"v":0.04375941271851308,"d":"4.38%"}},{"$f":"'[1]CUSTO RELATIVO'!D100","v":{"v":71460.95,"d":"R$71,460.95"}},{"$f":"'[1]CUSTO RELATIVO'!E100","v":{"v":0.035040175346277305,"d":"3.50%"}}]
[{"$f":"'[1]VALOR FUNCAO'!A60","v":"FG - 3"},{"$f":"'[1]VALOR FUNCAO'!B60","v":{"v":119.57,"d":"R$119.57"}},{"$f":"'[1]VALOR FUNCAO'!C60","v":{"v":198.5,"d":"R$198.50"}},{"$f":"'[1]VALOR FUNCAO'!D60","v":{"v":318.07,"d":"R$318.07"}},null,{"$f":"'[1]CUSTO RELATIVO'!A101","v":"ASSEC"},{"$f":"'[1]CUSTO RELATIVO'!B101","v":{"v":60499.90400000001,"d":"R$60,499.90"}},{"$f":"'[1]CUSTO RELATIVO'!C101","v":{"v":0.039331097294277695,"d":"3.93%"}},{"$f":"'[1]CUSTO RELATIVO'!D101","v":{"v":82546.54,"d":"R$82,546.54"}},{"$f":"'[1]CUSTO RELATIVO'!E101","v":{"v":0.04047588558266429,"d":"4.05%"}}]
[{"$f":"'[1]VALOR FUNCAO'!A62","v":"Obs: A partir de janeiro/2017 (Lei nº 13.324, de 29/07/2016, D.O.U. de 29/07/2016)"},{"$nulls":4},{"$f":"'[1]CUSTO RELATIVO'!A102","v":"AERINT"},{"$f":"'[1]CUSTO RELATIVO'!B102","v":{"v":24052.534,"d":"R$24,052.53"}},{"$f":"'[1]CUSTO RELATIVO'!C102","v":{"v":0.015636595967622065,"d":"1.56%"}},{"$f":"'[1]CUSTO RELATIVO'!D102","v":{"v":29501.89,"d":"R$29,501.89"}},{"$f":"'[1]CUSTO RELATIVO'!E102","v":{"v":0.01446596216040488,"d":"1.45%"}}]
[{"$nulls":5},{"$f":"'[1]CUSTO RELATIVO'!A103","v":"AECI"},{"$f":"'[1]CUSTO RELATIVO'!B103","v":{"v":21911.82,"d":"R$21,911.82"}},{"$f":"'[1]CUSTO RELATIVO'!C103","v":{"v":0.014244913914486538,"d":"1.42%"}},{"$f":"'[1]CUSTO RELATIVO'!D103","v":{"v":21911.82,"d":"R$21,911.82"}},{"$f":"'[1]CUSTO RELATIVO'!E103","v":{"v":0.010744245842744408,"d":"1.07%"}}]
[{"$f":"'[1]VALOR FUNCAO'!A64","v":"Gratificações Temporárias das Unidades dos Sistemas Estruturadores da Administração Pública Federal - GSISTE"},{"$nulls":4},{"$f":"'[1]CUSTO RELATIVO'!A104","v":"AEPED"},{"$f":"'[1]CUSTO RELATIVO'!B104","v":{"v":33632,"d":"R$33,632.00"}},{"$f":"'[1]CUSTO RELATIVO'!C104","v":{"v":0.021864224184573042,"d":"2.19%"}},{"$f":"'[1]CUSTO RELATIVO'!D104","v":{"v":35906.22,"d":"R$35,906.22"}},{"$f":"'[1]CUSTO RELATIVO'!E104","v":{"v":0.01760626250871293,"d":"1.76%"}}]
[{"$nulls":5},{"$f":"'[1]CUSTO RELATIVO'!A105","v":"SPE"},{"$f":"'[1]CUSTO RELATIVO'!B105","v":{"v":172801.30599999998,"d":"R$172,801.31"}},{"$f":"'[1]CUSTO RELATIVO'!C105","v":{"v":0.11233844236949947,"d":"11.23%"}},{"$f":"'[1]CUSTO RELATIVO'!D105","v":{"v":247012.41,"d":"R$247,012.41"}},{"$f":"'[1]CUSTO RELATIVO'!E105","v":{"v":0.12112011048141037,"d":"12.11%"}}]
[{"$f":"'[1]VALOR FUNCAO'!A65","v":"Sistema Estruturador"},{"$f":"'[1]VALOR FUNCAO'!B65","v":"Nível"},{"$f":"'[1]VALOR FUNCAO'!C65","v":"Valor"},null,null,{"$f":"'[1]CUSTO RELATIVO'!A106","v":"SEE"},{"$f":"'[1]CUSTO RELATIVO'!B106","v":{"v":176750.27000000002,"d":"R$176,750.27"}},{"$f":"'[1]CUSTO RELATIVO'!C106","v":{"v":0.11490567102651686,"d":"11.49%"}},{"$f":"'[1]CUSTO RELATIVO'!D106","v":{"v":246911.52,"d":"R$246,911.52"}},{"$f":"'[1]CUSTO RELATIVO'!E106","v":{"v":0.12107064006028266,"d":"12.11%"}}]
[{"$nulls":5},{"$f":"'[1]CUSTO RELATIVO'!A107","v":"SPG"},{"$f":"'[1]CUSTO RELATIVO'!B107","v":{"v":146598.062,"d":"R$146,598.06"}},{"$f":"'[1]CUSTO RELATIVO'!C107","v":{"v":0.09530366593101625,"d":"9.53%"}},{"$f":"'[1]CUSTO RELATIVO'!D107","v":{"v":233067.75999999998,"d":"R$233,067.76"}},{"$f":"'[1]CUSTO RELATIVO'!E107","v":{"v":0.11428248823957807,"d":"11.43%"}}]
[{"$f":"'[1]VALOR FUNCAO'!A68","v":"SISG, SIPEC, SIGA, SPO, SCF, SAFF"},{"$f":"'[1]VALOR FUNCAO'!B68","v":"Intermediário"},{"$f":"'[1]VALOR FUNCAO'!C68","v":{"v":2022,"d":"R$2,022.00"}},null,null,{"$f":"'[1]CUSTO RELATIVO'!A108","v":"SGM"},{"$f":"'[1]CUSTO RELATIVO'!B108","v":{"v":193790.52800000002,"d":"R$193,790.53"}},{"$f":"'[1]CUSTO RELATIVO'!C108","v":{"v":0.1259835736512482,"d":"12.60%"}},{"$f":"'[1]CUSTO RELATIVO'!D108","v":{"v":204689.23999999996,"d":"R$204,689.24"}},{"$f":"'[1]CUSTO RELATIVO'!E108","v":{"v":0.10036735953127181,"d":"10.04%"}}]
[null,{"$f":"'[1]VALOR FUNCAO'!B69","v":"Superior"},{"$f":"'[1]VALOR FUNCAO'!C69","v":{"v":3158,"d":"R$3,158.00"}},null,null,{"$f":"'[1]CUSTO RELATIVO'!A109","v":"ESCRITÓRIO RJ"},{"$f":"'[1]CUSTO RELATIVO'!B109","v":{"v":6223.98,"d":"R$6,223.98"}},{"$f":"'[1]CUSTO RELATIVO'!C109","v":{"v":4.0462206838813896E-3,"d":"0.40%"}},{"$f":"'[1]CUSTO RELATIVO'!D109","v":{"v":27429.95,"d":"R$27,429.95"}},{"$f":"'[1]CUSTO RELATIVO'!E109","v":{"v":0.013450006720308353,"d":"1.35%"}}]
[{"$f":"'[1]VALOR FUNCAO'!A70","v":"SISP"},{"$f":"'[1]VALOR FUNCAO'!B70","v":"Intermediário"},{"$f":"'[1]VALOR FUNCAO'!C70","v":{"v":2751,"d":"R$2,751.00"}},null,null,{"$f":"'[1]CUSTO RELATIVO'!A111","v":"TOTAL"},{"$f":"'[1]CUSTO RELATIVO'!B111","v":{"v":1538220.5979999998,"d":"R$1,538,220.60"}},{"$f":"'[1]CUSTO RELATIVO'!C111","v":{"v":1.0000000000000002,"d":"1.00"}},{"$f":"'[1]CUSTO RELATIVO'!D111","v":{"v":2039400.4679999999,"d":"R$2,039,400.47"}},{"$f":"'[1]CUSTO RELATIVO'!E111","v":{"v":1,"d":"100%"}}]
[null,{"$f":"'[1]VALOR FUNCAO'!B71","v":"Superior"},{"$f":"'[1]VALOR FUNCAO'!C71","v":0}]

{"sheet":"PINDICADOR","index":17,"n_rows":12,"n_cols":13,"rows_kept":12,"merged":[[11,12,15,13],[29,9,30,13],[29,14,30,16],[34,9,35,13],[34,14,35,16],[39,9,40,16],[43,9,44,13],[43,14,44,16]]}
{"$rows_empty":11}
[{"$nulls":12},"       CGRH/MME"]

{"sheet":"PINDESCRI","index":18,"n_rows":81,"n_cols":22,"rows_kept":81,"merged":[[0,0,0,22],[2,0,4,0],[2,1,2,7],[2,8,4,10],[2,12,4,12],[2,13,2,19],[2,20,4,22],[3,1,3,7],[3,13,3,19],[4,1,4,7],[4,13,4,19],[5,0,5,10],[5,12,5,22],[6,0,6,10],[6,12,6,22],[7,0,7,3],[7,4,7,7],[7,8,7,10],[7,12,7,15],[7,16,7,19],[7,20,7,22],[8,0,8,3],[8,4,8,7],[8,8,8,10],[8,12,8,15],[8,16,8,19],[8,20,8,22],[9,0,9,3],[9,4,9,7],[9,9,9,10],[9,12,9,15],[9,16,9,19],[9,21,9,22],[10,0,10,3],[10,4,10,7],[10,9,10,10],[10,12,10,15],[10,16,10,19],[10,21,10,22],[11,0,11,3],[11,4,11,7],[11,8,11,10],[11,12,11,15],[11,16,11,19],[11,20,11,22],[12,0,12,3],[12,4,12,7],[12,8,12,10],[12,12,12,15],[12,16,12,19],[12,20,12,22],[13,0,13,7],[13,8,13,10],[13,12,13,19],[13,20,13,22],[14,0,14,7],[14,8,14,10],[14,12,14,19],[14,20,14,22],[15,0,15,10],[15,12,15,22],[16,0,16,10],[16,12,16,22],[17,0,17,10],[17,12,17,22],[18,0,18,10],[18,12,18,22],[19,0,19,4],[19,5,19,10],[19,12,19,16],[19,17,19,22],[20,0,20,4],[20,5,20,10],[20,12,20,16],[20,17,20,22],[22,0,24,0],[22,1,22,7],[22,8,24,10],[22,12,24,12],[22,13,22,19],[22,20,24,22],[23,1,23,7],[23,13,23,19],[24,1,24,7],[24,13,24,19],[25,0,25,10],[25,12,25,22],[26,0,26,10],[26,12,26,22],[27,0,27,3],[27,4,27,7],[27,8,27,10],[27,12,27,15],[27,16,27,19],[27,20,27,22],[28,0,28,3],[28,4,28,7],[28,8,28,10],[28,12,28,15],[28,16,28,19],[28,20,28,22],[29,0,29,3],[29,4,29,7],[29,9,29,10],[29,12,29,15],[29,16,29,19],[29,21,29,22],[30,0,30,3],[30,4,30,7],[30,9,30,10],[30,12,30,15],[30,16,30,19],[30,21,30,22],[31,0,31,3],[31,4,31,7],[31,8,31,10],[31,12,31,15],[31,16,31,19],[31,20,31,22],[32,0,32,3],[32,4,32,7],[32,8,32,10],[32,12,32,15],[32,16,32,19],[32,20,32,22],[33,0,33,7],[33,8,33,10],[33,12,33,19],[33,20,33,22],[34,0,34,7],[34,8,34,10],[34,12,34,19],[34,20,34,22],[35,0,35,10],[35,12,35,22],[36,0,36,10],[36,12,36,22],[37,0,37,10],[37,12,37,22],[38,0,38,10],[38,12,38,22],[39,0,39,4],[39,5,39,10],[39,12,39,16],[39,17,39,22],[40,0,40,4],[40,5,40,10],[40,12,40,16],[40,17,40,22],[42,0,44,0],[42,1,42,7],[42,8,44,10],[42,12,44,12],[42,13,42,19],[42,20,44,22],[43,1,43,7],[43,13,43,19],[44,1,44,7],[44,13,44,19],[45,0,45,10],[45,12,45,22],[46,0,46,10],[46,12,46,22],[47,0,47,3],[47,4,47,7],[47,8,47,10],[47,12,47,15],[47,16,47,19],[47,20,47,22],[48,0,48,3],[48,4,48,7],[48,8,48,10],[48,12,48,15],[48,16,48,19],[48,20,48,22],[49,0,49,3],[49,4,49,7],[49,9,49,10],[49,12,49,15],[49,16,49,19],[49,21,49,22],[50,0,50,3],[50,4,50,7],[50,9,50,10],[50,12,50,15],[50,16,50,19],[50,21,50,22],[51,0,51,3],[51,4,51,7],[51,8,51,10],[51,12,51,15],[51,16,51,19],[51,20,51,22],[52,0,52,3],[52,4,52,7],[52,8,52,10],[52,12,52,15],[52,16,52,19],[52,20,52,22],[53,0,53,7],[53,8,53,10],[53,12,53,19],[53,20,53,22],[54,0,54,7],[54,8,54,10],[54,12,54,19],[54,20,54,22],[55,0,55,10],[55,12,55,22],[56,0,56,10],[56,12,56,22],[57,0,57,10],[57,12,57,22],[58,0,58,10],[58,12,58,22],[59,0,59,4],[59,5,59,10],[59,12,59,16],[59,17,59,22],[60,0,60,4],[60,5,60,10],[60,12,60,16],[60,17,60,22],[62,0,64,0],[62,1,62,7],[62,8,64,10],[63,1,63,7],[64,1,64,7],[65,0,65,10],[66,0,66,10],[67,0,67,3],[67,4,67,7],[67,8,67,10],[68,0,68,3],[68,4,68,7],[68,8,68,10],[69,0,69,3],[69,4,69,7],[69,9,69,10],[70,0,70,3],[70,4,70,7],[70,9,70,10],[71,0,71,3],[71,4,71,7],[71,8,71,10],[72,0,72,3],[72,4,72,7],[72,8,72,10],[73,0,73,7],[73,8,73,10],[74,0,74,7],[74,8,74,10],[75,0,75,10],[76,0,76,10],[77,0,77,10],[78,0,78,10],[79,0,79,4],[79,5,79,10],[80,0,80,4],[80,5,80,10]]}
["INDICADORES CGRH"]
[]
["MME","SECRETARIA EXECUTIVA",{"$nulls":6},"INDICADOR CGRH",{"$nulls":3},"MME","SECRETARIA EXECUTIVA",{"$nulls":6},"INDICADOR CGRH"]
[null,"SUBSECRETARIA DE PLANEJAMENTO, ORÇAMENTO E ADMINISTRAÇÃO",{"$nulls":11},"SUBSECRETARIA DE PLANEJAMENTO, ORÇAMENTO E ADMINISTRAÇÃO"]
[null,"COORDENAÇÃO-GERAL DE RECURSOS HUMANOS",{"$nulls":11},"COORDENAÇÃO-GERAL DE RECURSOS HUMANOS"]
["1. NOME DO PROCESSO",{"$nulls":11},"1. NOME DO PROCESSO"]
["GESTÃO DE RECURSOS HUMANOS",{"$nulls":11},"GESTÃO DE RECURSOS HUMANOS"]
["2. NOME DO SUBPROCESSO",{"$nulls":3},"3. ÁREA RESPONSÁVEL",{"$nulls":3},"4. NOME DO RESPONSÁVEL",{"$nulls":3},"2. NOME DO SUBPROCESSO",{"$nulls":3},"3. ÁREA RESPONSÁVEL",{"$nulls":3},"4. NOME DO RESPONSÁVEL"]
["Concessão de Licença Médica",{"$nulls":3},"Coordenação-Geral de Recursos Humanos - CGRH",{"$nulls":3}," Área Médica",{"$nulls":3},"Concessão de Aposentadoria",{"$nulls":3},"Coordenação-Geral de Recursos Humanos - CGRH",{"$nulls":3},"Coordenador de Administração de Pessoal "]
["5. NOME DO INDICADOR",{"$nulls":3},"6. UNIDADE DE MEDIDA",{"$nulls":3},"7. TIPO","8. AJUSTE",null,null,"5. NOME DO INDICADOR",{"$nulls":3},"6. UNIDADE DE MEDIDA",{"$nulls":3},"7. TIPO","8. AJUSTE"]
["Média de Afastamento por Servidor (MAS)",{"$nulls":3},"Dias",{"$nulls":3},"Eficácia",2012,null,null,"Tempo Médio para Concessão de Aposentadoria",{"$nulls":3},"Dias",{"$nulls":3},"Eficácia",2012]
["9. DESCRIÇÃO DO INDICADOR",{"$nulls":3},"10. FÓRMULA DE CÁLCULO",{"$nulls":3},"11. ORIGEM DOS COMPONENTES DA FÓRMULA DE CÁLCULO",{"$nulls":3},"9. DESCRIÇÃO DO INDICADOR",{"$nulls":3},"10. FÓRMULA DE CÁLCULO",{"$nulls":3},"11. ORIGEM DOS COMPONENTES DA FÓRMULA DE CÁLCULO"]
["Demonstra a média aceitável de dias, em um ano, de afastamento de servidor por licença médica",{"$nulls":3},"          MAA= TLM/TS                                   ..                                                          MAS= média de dias de afastamento por servidor da sede                                                        TS= total de servidores na sede                                                         TLM= total de dias em licença médica",{"$nulls":3},"Boletim de Frequência   SGRH (Sistema)",{"$nulls":3},"Demonstrar o tempo médio gasto por processo de concessão de aposentadoria.",{"$nulls":3},"          TMA= PTA/PA                                   ..                                                          TMA= tempo médio de aposentadoria (dias)                                                        PTA= prazo dos trâmites da aposentadoria (*)                                     PA= número de processos de aposentadoria",{"$nulls":3},"Auto dos processos"]
["12. INTERPRETAÇÕES POSSÍVEIS",{"$nulls":7},"13. FAIXA DE ACEITAÇÃO",{"$nulls":3},"12. INTERPRETAÇÕES POSSÍVEIS",{"$nulls":7},"13. FAIXA DE ACEITAÇÃO"]
["Quanto menor o número de afastamento mais eficaz os programas voltados à atenção da saúde do servidor (Qualidade de Vida, Exame Médico Periódico, Vacinação, Campanhas, Palestras, etc). Para fixação da faixa de aceitação, foi observado o art. 75 do Regulamento da Previdência Social aprovado pelo Decreto nº 3.408, de 1999 (até 15 dias de licença no periódo de 60 dias, será pago pelo empregador e, a partir do 16º dia será pelo INSS), bem como o Manual de Perícia Oficial em Saúde do Servidor Público Federal, aprovado pela Portaria nº 797, de 22/03/2010 - DOU de 23 seguinte (até 14 dias em um período de 12 meses, consecutivos ou não, não existe a necessidade de perícia).",{"$nulls":7},"Dias de afastamento por servidor em um ano ≤ 15 dias.",{"$nulls":3},"Quanto menor o número de dias para a concessão maior a eficácia do processo.",{"$nulls":7},"Tempo médio de análise para concessão de aposentadoria ≥ 15 e ≤ 30 dias (*)."]
["14. OBJETIVO DO INDICADOR",{"$nulls":11},"14. OBJETIVO DO INDICADOR"]
["Medir a média de afastamento por servidor em relação ao total de dias de afastamento por licença médica dos servidores em exercício no Ministério.",{"$nulls":11},"Medir o prazo médio, em dias, para aposentadoria de um servidor do MME, desde a abertura do processo até a publicação da aposentadoria no DOU.                                                                                                                                       (*) Desconsiderar os prazos para complementação de documentos por parte do servidor, suspensão a pedido do interessado e Junta Médica Oficial."]
["15. META A SER ATINGIDA",{"$nulls":11},"15. META A SER ATINGIDA"]
["Até 10 dias",{"$nulls":11},"Até 20 dias"]
["16. PERIODICIDADE DE APLICAÇÃO",{"$nulls":4},"17. PERIODICIDADE DE AVALIAÇÃO",{"$nulls":6},"16. PERIODICIDADE DE APLICAÇÃO",{"$nulls":4},"17. PERIODICIDADE DE AVALIAÇÃO"]
["Após cada solicitação",{"$nulls":4},"Anual",{"$nulls":6},"Após cada solicitação",{"$nulls":4},"Anual"]
[]
["MME","SECRETARIA EXECUTIVA",{"$nulls":6},"INDICADOR CGRH",{"$nulls":3},"MME","SECRETARIA EXECUTIVA",{"$nulls":6},"INDICADOR CGRH"]
[null,"SUBSECRETARIA DE PLANEJAMENTO, ORÇAMENTO E ADMINISTRAÇÃO",{"$nulls":11},"SUBSECRETARIA DE PLANEJAMENTO, ORÇAMENTO E ADMINISTRAÇÃO"]
[null,"COORDENAÇÃO-GERAL DE RECURSOS HUMANOS",{"$nulls":11},"COORDENAÇÃO-GERAL DE RECURSOS HUMANOS"]
["1. NOME DO PROCESSO",{"$nulls":11},"1. NOME DO PROCESSO"]
["GESTÃO DE RECURSOS HUMANOS",{"$nulls":11},"GESTÃO DE RECURSOS HUMANOS"]
["2. NOME DO SUBPROCESSO",{"$nulls":3},"3. ÁREA RESPONSÁVEL",{"$nulls":3},"4. NOME DO RESPONSÁVEL",{"$nulls":3},"2. NOME DO SUBPROCESSO",{"$nulls":3},"3. ÁREA RESPONSÁVEL",{"$nulls":3},"4. NOME DO RESPONSÁVEL"]
["Capacitação de Servidor",{"$nulls":3},"Coordenação-Geral de Recursos Humanos - CGRH",{"$nulls":3},"Coordenador de Desenvolvimento e Seguridade Social",{"$nulls":3},"Capacitação de Servidor",{"$nulls":3},"Coordenação-Geral de Recursos Humanos CGRH",{"$nulls":3},"Coordenador de Desenvolvimento e Seguridade Social"]
["5. NOME DO INDICADOR",{"$nulls":3},"6. UNIDADE DE MEDIDA",{"$nulls":3},"7. TIPO","8. AJUSTE",null,null,"5. NOME DO INDICADOR",{"$nulls":3},"6. UNIDADE DE MEDIDA",{"$nulls":3},"7. TIPO","8. AJUSTE"]
["Percentual de Participação de Servidores no PADC",{"$nulls":3},"Percentual",{"$nulls":3},"Eficiência",2012,null,null,"Satisfação dos Servidores com Eventos de Capacitação",{"$nulls":3},"Percentual",{"$nulls":3},"Efetividade",2014]
["9. DESCRIÇÃO DO INDICADOR",{"$nulls":3},"10. FÓRMULA DE CÁLCULO",{"$nulls":3},"11. ORIGEM DOS COMPONENTES DA FÓRMULA DE CÁLCULO",{"$nulls":3},"9. DESCRIÇÃO DO INDICADOR",{"$nulls":3},"10. FÓRMULA DE CÁLCULO",{"$nulls":3},"11. ORIGEM DOS COMPONENTES DA FÓRMULA DE CÁLCULO"]
["Mede o percentual de participação de servidor em eventos de capacitação, em relação ao Plano Anual de Desenvolvimento e Capacitação (PADC)",{"$nulls":3},"          PPS= TP/TPP x 100                                   ..                                                          PPS= percentualde participação de servidores                                                        TP= total de participação de servidores                                   TPP= total de participação prevista",{"$nulls":3},"Sistema de Registro de Eventos/CGRH",{"$nulls":3},"Demonstra o percentual de servidores satisfeitos com eventos de capacitação eleborados pelo MME, a fim de orientar as futuras ações de capacitação.",{"$nulls":3},"(nº de participantes satisfeitos / total de participantes) x 100",{"$nulls":3},"Avaliação de reação mediante formulário preenchido pelo servidor treinado ao final do evento realizado."]
["12. INTERPRETAÇÕES POSSÍVEIS",{"$nulls":7},"13. FAIXA DE ACEITAÇÃO",{"$nulls":3},"12. INTERPRETAÇÕES POSSÍVEIS",{"$nulls":7},"13. FAIXA DE ACEITAÇÃO"]
["Valores a partir de 30% indicam a participação mínima em atividades de treinamento, para manter atualizado o quadro de pessoal do Ministério",{"$nulls":7},"Atingir 70% de participação de servidores em relação ao estabelecido no Plano Anual de Desenvolvimento e Capacitação (PADC)",{"$nulls":3},"Diante da faixa de aceitação estabelecida para verificar a satisfação nas avaliações de cursos fechados (60%), cabe considerar: 1)  abaixo de 60% o processo deve ser reestruturado; 2)  acima de 60% - o processo está alcançando todos os objetivos definidos desde a preparação até a realização do evento, podendo ser aprimorado.",{"$nulls":7},"Igual ou maior que 60 % de satisfação nas avaliações de cursos fechados e organizados pelo MME "]
["14. OBJETIVO DO INDICADOR",{"$nulls":11},"14. OBJETIVO DO INDICADOR"]
["Medir o percentual de participação de servidores em eventos de capacitação, conforme previsão no PADC/MME.",{"$nulls":11},"Aprimorar versões subsequentes de eventos realizados e aperfeiçoar o sistema instrucional como um todo."]
["15. META A SER ATINGIDA",{"$nulls":11},"15. META A SER ATINGIDA"]
[{"v":0.8,"d":"80%"},{"$nulls":11},"75% de servidores treinados satisfeitos."]
["16. PERIODICIDADE DE APLICAÇÃO",{"$nulls":4},"17. PERIODICIDADE DE AVALIAÇÃO",{"$nulls":6},"16. PERIODICIDADE DE APLICAÇÃO",{"$nulls":4},"17. PERIODICIDADE DE AVALIAÇÃO"]
["Após cada solicitação",{"$nulls":4},"Anual",{"$nulls":6},"Ao final do evento realizado",{"$nulls":4},"Quadrimestral"]
[]
["MME","SECRETARIA EXECUTIVA",{"$nulls":6},"INDICADOR CGRH",{"$nulls":3},"MME","SECRETARIA EXECUTIVA",{"$nulls":6},"INDICADOR CGRH"]
[null,"SUBSECRETARIA DE PLANEJAMENTO, ORÇAMENTO E ADMINISTRAÇÃO",{"$nulls":11},"SUBSECRETARIA DE PLANEJAMENTO, ORÇAMENTO E ADMINISTRAÇÃO"]
[null,"COORDENAÇÃO-GERAL DE RECURSOS HUMANOS",{"$nulls":11},"COORDENAÇÃO-GERAL DE RECURSOS HUMANOS"]
["1. NOME DO PROCESSO",{"$nulls":11},"1. NOME DO PROCESSO"]
["GESTÃO DE RECURSOS HUMANOS",{"$nulls":11},"GESTÃO DE RECURSOS HUMANOS"]
["2. NOME DO SUBPROCESSO",{"$nulls":3},"3. ÁREA RESPONSÁVEL",{"$nulls":3},"4. NOME DO RESPONSÁVEL",{"$nulls":3},"2. NOME DO SUBPROCESSO",{"$nulls":3},"3. ÁREA RESPONSÁVEL",{"$nulls":3},"4. NOME DO RESPONSÁVEL"]
["Capacitação de Servidor",{"$nulls":3},"Coordenação-Geral de Recursos Humanos",{"$nulls":3},"GAB/CGRH e CODES/CGRH",{"$nulls":3},"Frequência de Servidor",{"$nulls":3},"Coordenação-Geral de Recursos Humanos - CGRH",{"$nulls":3},"Coordenador Geral de Recursos Humanos"]
["5. NOME DO INDICADOR",{"$nulls":3},"6. UNIDADE DE MEDIDA",{"$nulls":3},"7. TIPO","8. AJUSTE",null,null,"5. NOME DO INDICADOR",{"$nulls":3},"6. UNIDADE DE MEDIDA",{"$nulls":3},"7. TIPO","8. AJUSTE"]
["Percentual de Servidores em Exercício no MME Capacitados ",{"$nulls":3},"Percentual",{"$nulls":3},"Eficiência",2011,null,null,"Índice de Absenteísmo",{"$nulls":3},"Percentual",{"$nulls":3},"Eficiência",2019]
["9. DESCRIÇÃO DO INDICADOR",{"$nulls":3},"10. FÓRMULA DE CÁLCULO",{"$nulls":3},"11. ORIGEM DOS COMPONENTES DA FÓRMULA DE CÁLCULO",{"$nulls":3},"9. DESCRIÇÃO DO INDICADOR",{"$nulls":3},"10. FÓRMULA DE CÁLCULO",{"$nulls":3},"11. ORIGEM DOS COMPONENTES DA FÓRMULA DE CÁLCULO"]
["Afere o percentual de servidores capacitados no período de Avaliação de Desempenho Indiviual e Institucional",{"$nulls":3},"          PSC= TSC/TSS                  ..                                                          PSC= % de servidores capacitados no período                                                        TSS= total de servidores na sede                                                       TSC= total de servidores capacitados no período",{"$nulls":3},"Sistema de Registro de Eventos/CGRH                                 SIAPE (Sistema)",{"$nulls":3},"Mede o percentual de ausência das horas de trabalho devidas pelos servidores",{"$nulls":3},"          Iabs(anual) = HPT/HTD x 100                                               ..                                                                                                        Iabs= índice de absenteísmo dos servidores                                                        HPT= horas perdidas de trabalho dos servidores                                                 HTD= horas de trabalho devida dos servidores",{"$nulls":3},"Boletim de Frequência  / SGRH (Sistema)"]
["12. INTERPRETAÇÕES POSSÍVEIS",{"$nulls":7},"13. FAIXA DE ACEITAÇÃO",{"$nulls":3},"12. INTERPRETAÇÕES POSSÍVEIS",{"$nulls":7},"13. FAIXA DE ACEITAÇÃO"]
["Percentual entre 30% e 35% equivale a 80% de servidores capacitados no período;                                                                                                                                                           Percentual acima de 35% equivale a 100% de servidores capacitados no período.",{"$nulls":7},{"v":0.3,"d":"30%"},{"$nulls":3},"Quanto menor o índice menor é a ausência dos servidores por motivo de faltas, licenças, enfermidades, doenças ocupacionais, sobrecarga de funções e más condições de trabalho.",{"$nulls":7},"Até 5%"]
[{"$nulls":12},"14. OBJETIVO DO INDICADOR"]
["Atingir, no mínimo, 35% dos servidores em exercício no MME, com um evento de capacitação, em observância ao disposto Decreto nº 5.507, de 23/02/2006, que institui a Política e as Diretrizes para o Desenvolvimento de Pessoal da Administração Pública Federal. \nContribuir para o alcance dos resultados da meta intermediária da SPOA que compõe a meta de Desempenho Institucional do MME, a que se refere Portaria MME nº 565, de 30/09/2011.\n",{"$nulls":11},"Medir o percentual de ausência das horas de trabalho devidas pelos servidores para ações de prevenção."]
["15. META A SER ATINGIDA",{"$nulls":11},"15. META A SER ATINGIDA"]
["Capacitar, no mínimo, 35% do total de servidores em exercício no Ministério, no período de Avaliação de Desempenho Individual e Institucioanl, ou seja, 12 meses.",{"$nulls":11},"1,5%"]
["16. PERIODICIDADE DE APLICAÇÃO",{"$nulls":4},"17. PERIODICIDADE DE AVALIAÇÃO",{"$nulls":6},"16. PERIODICIDADE DE APLICAÇÃO",{"$nulls":4},"17. PERIODICIDADE DE AVALIAÇÃO"]
["No periódo de avaliação",{"$nulls":4},"12 meses",{"$nulls":6},"Após cada solicitação",{"$nulls":4},"Anual/Mensal"]
[]
["MME","SECRETARIA EXECUTIVA",{"$nulls":6},"INDICADOR CGRH"]
[null,"SUBSECRETARIA DE PLANEJAMENTO, ORÇAMENTO E ADMINISTRAÇÃO"]
[null,"COORDENAÇÃO-GERAL DE RECURSOS HUMANOS"]
["1. NOME DO PROCESSO"]
["GESTÃO DE RECURSOS HUMANOS"]
["2. NOME DO SUBPROCESSO",{"$nulls":3},"3. ÁREA RESPONSÁVEL",{"$nulls":3},"4. NOME DO RESPONSÁVEL"]
["Movimentação de Servidor",{"$nulls":3},"Coordenação-Geral de Recursos Humanos - CGRH",{"$nulls":3},"Coordenador Geral de Recursos Humanos"]
["5. NOME DO INDICADOR",{"$nulls":3},"6. UNIDADE DE MEDIDA",{"$nulls":3},"7. TIPO","8. AJUSTE"]
["Índice de Perda",{"$nulls":3},"Percentual",{"$nulls":3},"Eficiência",2010]
["9. DESCRIÇÃO DO INDICADOR",{"$nulls":3},"10. FÓRMULA DE CÁLCULO",{"$nulls":3},"11. ORIGEM DOS COMPONENTES DA FÓRMULA DE CÁLCULO"]
["Mede o percentual de movimentação entre ingressos e egressos de servidores no MME, indicando ao final se houve perda ou ganho de servidores.",{"$nulls":3},"Iperda= EGRESSOS/(INGRESSOS + EGRESSOS) x 100                                   ..                                                                          Iperda= índice de perda de servidores(anual ou 12 meses)                                                        EGRESSOS= nº de saída de servidores do MME                            INGRESSO= nº de entrada de servidores no MME",{"$nulls":3},"SIAPE  / SGRH (Sistema)"]
["12. INTERPRETAÇÕES POSSÍVEIS",{"$nulls":7},"13. FAIXA DE ACEITAÇÃO"]
["Valores a partir de 50% indicam a perda de servidores em exercício no MME e, valores abaixo de 50% indicam o ganho de servidores no quadro de pessoal do Ministério",{"$nulls":7},"Atingir 50% do índice"]
["14. OBJETIVO DO INDICADOR"]
["Medir o percentual de perda de servidores, conforme a entrada e saída no MME."]
["15. META A SER ATINGIDA"]
["< = 50%"]
["16. PERIODICIDADE DE APLICAÇÃO",{"$nulls":4},"17. PERIODICIDADE DE AVALIAÇÃO"]
["Após cada solicitação",{"$nulls":4},"Anual/Mensal"]

{"sheet":"PCO","index":19,"n_rows":0,"n_cols":0,"rows_kept":0}

{"sheet":"PCOICO","index":20,"n_rows":284,"n_cols":13,"rows_kept":284,"merged":[[8,2,10,5],[8,6,10,6],[8,8,10,11],[8,12,10,12],[12,0,13,0],[12,2,17,2],[12,3,12,6],[12,8,17,8],[12,9,12,12],[14,6,16,6],[14,12,16,12],[19,0,20,0],[19,2,24,2],[19,3,19,6],[19,8,24,8],[19,9,19,12],[21,6,23,6],[21,12,23,12],[26,0,27,0],[26,2,31,2],[26,3,26,6],[26,8,31,8],[26,9,26,12],[28,6,30,6],[28,12,30,12],[33,0,34,0],[33,2,38,2],[33,3,33,6],[33,8,38,8],[33,9,33,12],[35,6,37,6],[35,12,37,12],[40,0,41,0],[40,2,45,2],[40,3,40,6],[40,8,45,8],[40,9,40,12],[42,6,44,6],[42,12,44,12],[47,0,48,0],[47,2,52,2],[47,3,47,6],[47,8,52,8],[47,9,47,12],[49,6,51,6],[49,12,51,12],[54,0,55,0],[54,2,59,2],[54,3,54,6],[54,8,59,8],[54,9,54,12],[56,6,58,6],[56,12,58,12],[61,0,62,0],[61,2,66,2],[61,3,61,6],[61,8,66,8],[61,9,61,12],[63,6,65,6],[63,12,65,12],[68,0,69,0],[68,2,73,2],[68,3,68,6],[68,8,73,8],[68,9,68,12],[70,6,72,6],[70,12,72,12],[75,0,76,0],[75,2,80,2],[75,3,75,6],[75,8,80,8],[75,9,75,12],[77,6,79,6],[77,12,79,12],[82,0,83,0],[82,2,87,2],[82,3,82,6],[82,8,87,8],[82,9,82,12],[84,6,86,6],[84,12,86,12],[89,0,90,0],[89,2,94,2],[89,3,89,6],[89,8,94,8],[89,9,89,12],[91,6,93,6],[91,12,93,12],[96,0,97,0],[96,2,101,2],[96,3,96,6],[96,8,101,8],[96,9,96,12],[98,6,100,6],[98,12,100,12],[103,0,104,0],[103,2,108,2],[103,3,103,6],[103,8,108,8],[103,9,103,12],[105,6,107,6],[105,12,107,12],[110,0,111,0],[110,2,115,2],[110,3,110,6],[110,8,115,8],[110,9,110,12],[112,6,114,6],[112,12,114,12],[117,0,118,0],[117,2,122,2],[117,3,117,6],[117,8,122,8],[117,9,117,12],[119,6,121,6],[119,12,121,12],[124,0,125,0],[124,2,129,2],[124,3,124,6],[124,8,129,8],[124,9,124,12],[126,6,128,6],[126,12,128,12],[131,0,132,0],[131,2,136,2],[131,3,131,6],[131,8,136,8],[131,9,131,12],[133,6,135,6],[133,12,135,12],[138,0,139,0],[138,2,143,2],[138,3,138,6],[138,8,143,8],[138,9,138,12],[140,6,142,6],[140,12,142,12],[145,0,146,0],[145,2,150,2],[145,3,145,6],[145,8,150,8],[145,9,145,12],[147,6,149,6],[147,12,149,12],[152,0,153,0],[152,2,157,2],[152,3,152,6],[152,8,157,8],[152,9,152,12],[154,6,156,6],[154,12,156,12],[159,0,160,0],[159,2,164,2],[159,3,159,6],[159,8,164,8],[159,9,159,12],[161,6,163,6],[161,12,163,12],[166,0,167,0],[166,2,171,2],[166,3,166,6],[166,8,171,8],[166,9,166,12],[168,6,170,6],[168,12,170,12],[173,0,174,0],[173,2,178,2],[173,3,173,6],[173,8,178,8],[173,9,173,12],[175,6,177,6],[175,12,177,12],[180,0,181,0],[180,2,185,2],[180,3,180,6],[180,8,185,8],[180,9,180,12],[182,6,184,6],[182,12,184,12],[187,0,188,0],[187,2,192,2],[187,3,187,6],[187,8,192,8],[187,9,187,12],[189,6,191,6],[189,12,191,12],[194,0,195,0],[194,2,199,2],[194,3,194,6],[194,8,199,8],[194,9,194,12],[196,6,198,6],[196,12,198,12],[201,0,202,0],[201,2,206,2],[201,3,201,6],[201,8,206,8],[201,9,201,12],[203,6,205,6],[203,12,205,12],[208,0,209,0],[208,2,213,2],[208,3,208,6],[208,8,213,8],[208,9,208,12],[210,6,212,6],[210,12,212,12],[215,0,216,0],[215,2,220,2],[215,3,215,6],[215,8,220,8],[215,9,215,12],[217,6,219,6],[217,12,219,12],[222,0,223,0],[222,2,227,2],[222,3,222,6],[222,8,227,8],[222,9,222,12],[224,6,226,6],[224,12,226,12],[229,0,230,0],[229,2,234,2],[229,3,229,6],[229,8,234,8],[229,9,229,12],[231,6,233,6],[231,12,233,12],[236,0,237,0],[236,2,241,2],[236,3,236,6],[236,8,241,8],[236,9,236,12],[238,6,240,6],[238,12,240,12],[243,0,244,0],[243,2,248,2],[243,3,243,6],[243,8,248,8],[243,9,243,12],[245,6,247,6],[245,12,247,12],[250,0,251,0],[250,2,255,2],[250,3,250,6],[250,8,255,8],[250,9,250,12],[252,6,254,6],[252,12,254,12],[257,0,258,0],[257,2,262,2],[257,3,257,6],[257,8,262,8],[257,9,257,12],[259,6,261,6],[259,12,261,12],[264,0,265,0],[264,2,269,2],[264,3,264,6],[264,8,269,8],[264,9,264,12],[266,6,268,6],[266,12,268,12],[271,0,272,0],[271,2,276,2],[271,3,271,6],[271,8,276,8],[271,9,271,12],[273,6,275,6],[273,12,275,12],[278,0,279,0],[278,2,283,2],[278,3,278,6],[278,8,283,8],[278,9,278,12],[280,6,282,6],[280,12,282,12]]}
{"$rows_empty":8}
[null,null,{"$f":"[4]INDICECLIMAORGANIZACIONAL!C1","v":"ÍNDICE DE CLIMA ORGANIZACIONAL   2020                                       (nº itens avaliados positivamente/nº total de itens)*100"},{"$nulls":3},{"$f":"[4]INDICECLIMAORGANIZACIONAL!G1","v":{"v":0.8888888888888888,"d":"88.89%"}},null,{"$f":"[4]INDICECLIMAORGANIZACIONAL!I1","v":"ÍNDICE DE CLIMA ORGANIZACIONAL  2018                                        (nº itens avaliados positivamente/nº total de itens)*100"},{"$nulls":3},{"$f":"[4]INDICECLIMAORGANIZACIONAL!M1","v":{"v":0.6875,"d":"68.75%"}}]
[]
[]
[]
[{"$f":"[4]INDICECLIMAORGANIZACIONAL!A5","v":"TENHO CONHECIMENTO DA MISSÃO, VISÃO E VALORES DO MME?"},null,{"$f":"[4]INDICECLIMAORGANIZACIONAL!C5","v":"ITEM 01"},{"$f":"[4]INDICECLIMAORGANIZACIONAL!D5","v":2020},{"$nulls":4},{"$f":"[4]INDICECLIMAORGANIZACIONAL!I5","v":"ITEM 01"},{"$f":"[4]INDICECLIMAORGANIZACIONAL!J5","v":2017}]
[{"$nulls":3},{"$f":"[4]INDICECLIMAORGANIZACIONAL!D6","v":"TOTAL"},{"$f":"[4]INDICECLIMAORGANIZACIONAL!E6","v":"%"},{"$f":"[4]INDICECLIMAORGANIZACIONAL!F6","v":"RESULTADO"},{"$f":"[4]INDICECLIMAORGANIZACIONAL!G6","v":"ITEM AVALIADO POSITIVAMENTE?             (1 - SIM / 0 - NÃO)"},null,null,{"$f":"[4]INDICECLIMAORGANIZACIONAL!J6","v":"TOTAL"},{"$f":"[4]INDICECLIMAORGANIZACIONAL!K6","v":"%"},{"$f":"[4]INDICECLIMAORGANIZACIONAL!L6","v":"RESULTADO"},{"$f":"[4]INDICECLIMAORGANIZACIONAL!M6","v":"ITEM AVALIADO POSITIVAMENTE?             (1 - SIM / 0 - NÃO)"}]
[{"$f":"[4]INDICECLIMAORGANIZACIONAL!A7","v":"SIM"},null,null,{"$f":"[4]INDICECLIMAORGANIZACIONAL!D7","v":136},{"$f":"[4]INDICECLIMAORGANIZACIONAL!E7","v":{"v":0.7083333333333334,"d":"70.83%"}},{"$f":"[4]INDICECLIMAORGANIZACIONAL!F7","v":"SATISFATÓRIO"},{"$f":"[4]INDICECLIMAORGANIZACIONAL!G7","v":1},null,null,{"$f":"[4]INDICECLIMAORGANIZACIONAL!J7","v":131},{"$f":"[4]INDICECLIMAORGANIZACIONAL!K7","v":{"v":0.7081081081081081,"d":"70.81%"}},{"$f":"[4]INDICECLIMAORGANIZACIONAL!L7","v":"SATISFATÓRIO"},{"$f":"[4]INDICECLIMAORGANIZACIONAL!M7","v":1}]
[{"$f":"[4]INDICECLIMAORGANIZACIONAL!A8","v":"PARCIAL"},null,null,{"$f":"[4]INDICECLIMAORGANIZACIONAL!D8","v":54},{"$f":"[4]INDICECLIMAORGANIZACIONAL!E8","v":{"v":0.28125,"d":"28.13%"}},{"$f":"[4]INDICECLIMAORGANIZACIONAL!F8","v":"SATISFATÓRIO"},{"$nulls":3},{"$f":"[4]INDICECLIMAORGANIZACIONAL!J8","v":45},{"$f":"[4]INDICECLIMAORGANIZACIONAL!K8","v":{"v":0.24324324324324326,"d":"24.32%"}},{"$f":"[4]INDICECLIMAORGANIZACIONAL!L8","v":"SATISFATÓRIO"}]
[{"$f":"[4]INDICECLIMAORGANIZACIONAL!A9","v":"NÃO"},null,null,{"$f":"[4]INDICECLIMAORGANIZACIONAL!D9","v":2},{"$f":"[4]INDICECLIMAORGANIZACIONAL!E9","v":{"v":0.010416666666666666,"d":"1.04%"}},{"$f":"[4]INDICECLIMAORGANIZACIONAL!F9","v":"DESEJÁVEL"},{"$nulls":3},{"$f":"[4]INDICECLIMAORGANIZACIONAL!J9","v":9},{"$f":"[4]INDICECLIMAORGANIZACIONAL!K9","v":{"v":0.04864864864864865,"d":"4.86%"}},{"$f":"[4]INDICECLIMAORGANIZACIONAL!L9","v":"DESEJÁVEL"}]
[{"$f":"[4]INDICECLIMAORGANIZACIONAL!A10","v":"TOTAL"},null,null,{"$f":"[4]INDICECLIMAORGANIZACIONAL!D10","v":192},{"$f":"[4]INDICECLIMAORGANIZACIONAL!E10","v":{"v":1,"d":"100.00%"}},{"$nulls":4},{"$f":"[4]INDICECLIMAORGANIZACIONAL!J10","v":185},{"$f":"[4]INDICECLIMAORGANIZACIONAL!K10","v":{"v":1,"d":"100.00%"}}]
[]
[{"$f":"[4]INDICECLIMAORGANIZACIONAL!A12","v":"TENHO INTERESSE EM CONHECER A MISSÃO, VISÃO E VALORES DO MME?"},null,{"$f":"[4]INDICECLIMAORGANIZACIONAL!C12","v":"ITEM 02"},{"$f":"[4]INDICECLIMAORGANIZACIONAL!D12","v":2020},{"$nulls":4},{"$f":"[4]INDICECLIMAORGANIZACIONAL!I12","v":"ITEM 02"},{"$f":"[4]INDICECLIMAORGANIZACIONAL!J12","v":2017}]
[{"$nulls":3},{"$f":"[4]INDICECLIMAORGANIZACIONAL!D13","v":"TOTAL"},{"$f":"[4]INDICECLIMAORGANIZACIONAL!E13","v":"%"},{"$f":"[4]INDICECLIMAORGANIZACIONAL!F13","v":"RESULTADO"},{"$f":"[4]INDICECLIMAORGANIZACIONAL!G13","v":"ITEM AVALIADO POSITIVAMENTE?             (1 - SIM / 0 - NÃO)"},null,null,{"$f":"[4]INDICECLIMAORGANIZACIONAL!J13","v":"TOTAL"},{"$f":"[4]INDICECLIMAORGANIZACIONAL!K13","v":"%"},{"$f":"[4]INDICECLIMAORGANIZACIONAL!L13","v":"RESULTADO"},{"$f":"[4]INDICECLIMAORGANIZACIONAL!M13","v":"ITEM AVALIADO POSITIVAMENTE?             (1 - SIM / 0 - NÃO)"}]
[{"$f":"[4]INDICECLIMAORGANIZACIONAL!A14","v":"SIM"},null,null,{"$f":"[4]INDICECLIMAORGANIZACIONAL!D14","v":168},{"$f":"[4]INDICECLIMAORGANIZACIONAL!E14","v":{"v":0.875,"d":"87.50%"}},{"$f":"[4]INDICECLIMAORGANIZACIONAL!F14","v":"DESEJÁVEL"},{"$f":"[4]INDICECLIMAORGANIZACIONAL!G14","v":1},null,null,{"$f":"[4]INDICECLIMAORGANIZACIONAL!J14","v":144},{"$f":"[4]INDICECLIMAORGANIZACIONAL!K14","v":{"v":0.7783783783783784,"d":"77.84%"}},{"$f":"[4]INDICECLIMAORGANIZACIONAL!L14","v":"SATISFATÓRIO"},{"$f":"[4]INDICECLIMAORGANIZACIONAL!M14","v":1}]
[{"$f":"[4]INDICECLIMAORGANIZACIONAL!A15","v":"PARCIAL"},null,null,{"$f":"[4]INDICECLIMAORGANIZACIONAL!D15","v":14},{"$f":"[4]INDICECLIMAORGANIZACIONAL!E15","v":{"v":0.07291666666666667,"d":"7.29%"}},{"$f":"[4]INDICECLIMAORGANIZACIONAL!F15","v":"SATISFATÓRIO"},{"$nulls":3},{"$f":"[4]INDICECLIMAORGANIZACIONAL!J15","v":26},{"$f":"[4]INDICECLIMAORGANIZACIONAL!K15","v":{"v":0.14054054054054055,"d":"14.05%"}},{"$f":"[4]INDICECLIMAORGANIZACIONAL!L15","v":"SATISFATÓRIO"}]
[{"$f":"[4]INDICECLIMAORGANIZACIONAL!A16","v":"NÃO"},null,null,{"$f":"[4]INDICECLIMAORGANIZACIONAL!D16","v":10},{"$f":"[4]INDICECLIMAORGANIZACIONAL!E16","v":{"v":0.052083333333333336,"d":"5.21%"}},{"$f":"[4]INDICECLIMAORGANIZACIONAL!F16","v":"DESEJÁVEL"},{"$nulls":3},{"$f":"[4]INDICECLIMAORGANIZACIONAL!J16","v":15},{"$f":"[4]INDICECLIMAORGANIZACIONAL!K16","v":{"v":0.08108108108108109,"d":"8.11%"}},{"$f":"[4]INDICECLIMAORGANIZACIONAL!L16","v":"SATISFATÓRIO"}]
[{"$f":"[4]INDICECLIMAORGANIZACIONAL!A17","v":"TOTAL"},null,null,{"$f":"[4]INDICECLIMAORGANIZACIONAL!D17","v":192},{"$f":"[4]INDICECLIMAORGANIZACIONAL!E17","v":{"v":1,"d":"100.00%"}},{"$nulls":4},{"$f":"[4]INDICECLIMAORGANIZACIONAL!J17","v":185},{"$f":"[4]INDICECLIMAORGANIZACIONAL!K17","v":{"v":1,"d":"100.00%"}}]
[]
[{"$f":"[4]INDICECLIMAORGANIZACIONAL!A19","v":"SOU VALORIZADO PROFISSIONALMENTE"},null,{"$f":"[4]INDICECLIMAORGANIZACIONAL!C19","v":"ITEM 03"},{"$f":"[4]INDICECLIMAORGANIZACIONAL!D19","v":2020},{"$nulls":4},{"$f":"[4]INDICECLIMAORGANIZACIONAL!I19","v":"ITEM 03"},{"$f":"[4]INDICECLIMAORGANIZACIONAL!J19","v":2017}]
[{"$nulls":3},{"$f":"[4]INDICECLIMAORGANIZACIONAL!D20","v":"TOTAL"},{"$f":"[4]INDICECLIMAORGANIZACIONAL!E20","v":"%"},{"$f":"[4]INDICECLIMAORGANIZACIONAL!F20","v":"RESULTADO"},{"$f":"[4]INDICECLIMAORGANIZACIONAL!G20","v":"ITEM AVALIADO POSITIVAMENTE?             (1 - SIM / 0 - NÃO)"},null,null,{"$f":"[4]INDICECLIMAORGANIZACIONAL!J20","v":"TOTAL"},{"$f":"[4]INDICECLIMAORGANIZACIONAL!K20","v":"%"},{"$f":"[4]INDICECLIMAORGANIZACIONAL!L20","v":"RESULTADO"},{"$f":"[4]INDICECLIMAORGANIZACIONAL!M20","v":"ITEM AVALIADO POSITIVAMENTE?             (1 - SIM / 0 - NÃO)"}]
[{"$f":"[4]INDICECLIMAORGANIZACIONAL!A21","v":"SIM"},null,null,{"$f":"[4]INDICECLIMAORGANIZACIONAL!D21","v":133},{"$f":"[4]INDICECLIMAORGANIZACIONAL!E21","v":{"v":0.6927083333333334,"d":"69.27%"}},{"$f":"[4]INDICECLIMAORGANIZACIONAL!F21","v":"SATISFATÓRIO"},{"$f":"[4]INDICECLIMAORGANIZACIONAL!G21","v":1},null,null,{"$f":"[4]INDICECLIMAORGANIZACIONAL!J21","v":68},{"$f":"[4]INDICECLIMAORGANIZACIONAL!K21","v":{"v":0.3695652173913043,"d":"36.96%"}},{"$f":"[4]INDICECLIMAORGANIZACIONAL!L21","v":"INSATISFATÓRIO"},{"$f":"[4]INDICECLIMAORGANIZACIONAL!M21","v":0}]
[{"$f":"[4]INDICECLIMAORGANIZACIONAL!A22","v":"PARCIAL"},null,null,{"$f":"[4]INDICECLIMAORGANIZACIONAL!D22","v":49},{"$f":"[4]INDICECLIMAORGANIZACIONAL!E22","v":{"v":0.2552083333333333,"d":"25.52%"}},{"$f":"[4]INDICECLIMAORGANIZACIONAL!F22","v":"SATISFATÓRIO"},{"$nulls":3},{"$f":"[4]INDICECLIMAORGANIZACIONAL!J22","v":81},{"$f":"[4]INDICECLIMAORGANIZACIONAL!K22","v":{"v":0.44021739130434784,"d":"44.02%"}},{"$f":"[4]INDICECLIMAORGANIZACIONAL!L22","v":"SATISFATÓRIO"}]
[{"$f":"[4]INDICECLIMAORGANIZACIONAL!A23","v":"NÃO"},null,null,{"$f":"[4]INDICECLIMAORGANIZACIONAL!D23","v":10},{"$f":"[4]INDICECLIMAORGANIZACIONAL!E23","v":{"v":0.052083333333333336,"d":"5.21%"}},{"$f":"[4]INDICECLIMAORGANIZACIONAL!F23","v":"DESEJÁVEL"},{"$nulls":3},{"$f":"[4]INDICECLIMAORGANIZACIONAL!J23","v":35},{"$f":"[4]INDICECLIMAORGANIZACIONAL!K23","v":{"v":0.19021739130434784,"d":"19.02%"}},{"$f":"[4]INDICECLIMAORGANIZACIONAL!L23","v":"INSATISFATÓRIO"}]
[{"$f":"[4]INDICECLIMAORGANIZACIONAL!A24","v":"TOTAL"},null,null,{"$f":"[4]INDICECLIMAORGANIZACIONAL!D24","v":192},{"$f":"[4]INDICECLIMAORGANIZACIONAL!E24","v":{"v":1,"d":"100.00%"}},{"$nulls":4},{"$f":"[4]INDICECLIMAORGANIZACIONAL!J24","v":184},{"$f":"[4]INDICECLIMAORGANIZACIONAL!K24","v":{"v":1,"d":"100.00%"}}]
[]
[{"$f":"[4]INDICECLIMAORGANIZACIONAL!A26","v":"SOU VALORIZADO PELO TRABALHO QUE EXECUTO"},null,{"$f":"[4]INDICECLIMAORGANIZACIONAL!C26","v":"ITEM **"},{"$f":"[4]INDICECLIMAORGANIZACIONAL!D26","v":2020},{"$nulls":4},{"$f":"[4]INDICECLIMAORGANIZACIONAL!I26","v":"ITEM 04"},{"$f":"[4]INDICECLIMAORGANIZACIONAL!J26","v":2017}]
[{"$nulls":3},{"$f":"[4]INDICECLIMAORGANIZACIONAL!D27","v":"TOTAL"},{"$f":"[4]INDICECLIMAORGANIZACIONAL!E27","v":"%"},{"$f":"[4]INDICECLIMAORGANIZACIONAL!F27","v":"RESULTADO"},{"$f":"[4]INDICECLIMAORGANIZACIONAL!G27","v":"ITEM AVALIADO POSITIVAMENTE?             (1 - SIM / 0 - NÃO)"},null,null,{"$f":"[4]INDICECLIMAORGANIZACIONAL!J27","v":"TOTAL"},{"$f":"[4]INDICECLIMAORGANIZACIONAL!K27","v":"%"},{"$f":"[4]INDICECLIMAORGANIZACIONAL!L27","v":"RESULTADO"},{"$f":"[4]INDICECLIMAORGANIZACIONAL!M27","v":"ITEM AVALIADO POSITIVAMENTE?             (1 - SIM / 0 - NÃO)"}]
[{"$f":"[4]INDICECLIMAORGANIZACIONAL!A28","v":"SIM"},null,null,{"$f":"[4]INDICECLIMAORGANIZACIONAL!D28","v":"*"},{"$f":"[4]INDICECLIMAORGANIZACIONAL!E28","v":"*"},{"$f":"[4]INDICECLIMAORGANIZACIONAL!F28","v":"*"},{"$f":"[4]INDICECLIMAORGANIZACIONAL!G28","v":"**"},null,null,{"$f":"[4]INDICECLIMAORGANIZACIONAL!J28","v":73},{"$f":"[4]INDICECLIMAORGANIZACIONAL!K28","v":{"v":0.3967391304347826,"d":"39.67%"}},{"$f":"[4]INDICECLIMAORGANIZACIONAL!L28","v":"INSATISFATÓRIO"},{"$f":"[4]INDICECLIMAORGANIZACIONAL!M28","v":0}]
[{"$f":"[4]INDICECLIMAORGANIZACIONAL!A29","v":"PARCIAL"},null,null,{"$f":"[4]INDICECLIMAORGANIZACIONAL!D29","v":"*"},{"$f":"[4]INDICECLIMAORGANIZACIONAL!E29","v":"*"},{"$f":"[4]INDICECLIMAORGANIZACIONAL!F29","v":"*"},{"$nulls":3},{"$f":"[4]INDICECLIMAORGANIZACIONAL!J29","v":71},{"$f":"[4]INDICECLIMAORGANIZACIONAL!K29","v":{"v":0.3858695652173913,"d":"38.59%"}},{"$f":"[4]INDICECLIMAORGANIZACIONAL!L29","v":"SATISFATÓRIO"}]
[{"$f":"[4]INDICECLIMAORGANIZACIONAL!A30","v":"NÃO"},null,null,{"$f":"[4]INDICECLIMAORGANIZACIONAL!D30","v":"*"},{"$f":"[4]INDICECLIMAORGANIZACIONAL!E30","v":"*"},{"$f":"[4]INDICECLIMAORGANIZACIONAL!F30","v":"*"},{"$nulls":3},{"$f":"[4]INDICECLIMAORGANIZACIONAL!J30","v":36},{"$f":"[4]INDICECLIMAORGANIZACIONAL!K30","v":{"v":0.1956521739130435,"d":"19.57%"}},{"$f":"[4]INDICECLIMAORGANIZACIONAL!L30","v":"INSATISFATÓRIO"}]
[{"$f":"[4]INDICECLIMAORGANIZACIONAL!A31","v":"TOTAL"},null,null,{"$f":"[4]INDICECLIMAORGANIZACIONAL!D31","v":"*"},{"$f":"[4]INDICECLIMAORGANIZACIONAL!E31","v":"*"},{"$nulls":4},{"$f":"[4]INDICECLIMAORGANIZACIONAL!J31","v":180},{"$f":"[4]INDICECLIMAORGANIZACIONAL!K31","v":{"v":0.9782608695652173,"d":"97.83%"}}]
[]
[{"$f":"[4]INDICECLIMAORGANIZACIONAL!A33","v":"TENHO OPORTUNIDADE DE DESENVOLVIMENTO NO SERVIÇO"},null,{"$f":"[4]INDICECLIMAORGANIZACIONAL!C33","v":"ITEM 04"},{"$f":"[4]INDICECLIMAORGANIZACIONAL!D33","v":2020},{"$nulls":4},{"$f":"[4]INDICECLIMAORGANIZACIONAL!I33","v":"ITEM 05"},{"$f":"[4]INDICECLIMAORGANIZACIONAL!J33","v":2017}]
[{"$nulls":3},{"$f":"[4]INDICECLIMAORGANIZACIONAL!D34","v":"TOTAL"},{"$f":"[4]INDICECLIMAORGANIZACIONAL!E34","v":"%"},{"$f":"[4]INDICECLIMAORGANIZACIONAL!F34","v":"RESULTADO"},{"$f":"[4]INDICECLIMAORGANIZACIONAL!G34","v":"ITEM AVALIADO POSITIVAMENTE?             (1 - SIM / 0 - NÃO)"},null,null,{"$f":"[4]INDICECLIMAORGANIZACIONAL!J34","v":"TOTAL"},{"$f":"[4]INDICECLIMAORGANIZACIONAL!K34","v":"%"},{"$f":"[4]INDICECLIMAORGANIZACIONAL!L34","v":"RESULTADO"},{"$f":"[4]INDICECLIMAORGANIZACIONAL!M34","v":"ITEM AVALIADO POSITIVAMENTE?             (1 - SIM / 0 - NÃO)"}]
[{"$f":"[4]INDICECLIMAORGANIZACIONAL!A35","v":"SIM"},null,null,{"$f":"[4]INDICECLIMAORGANIZACIONAL!D35","v":127},{"$f":"[4]INDICECLIMAORGANIZACIONAL!E35","v":{"v":0.6614583333333334,"d":"66.15%"}},{"$f":"[4]INDICECLIMAORGANIZACIONAL!F35","v":"SATISFATÓRIO"},{"$f":"[4]INDICECLIMAORGANIZACIONAL!G35","v":1},null,null,{"$f":"[4]INDICECLIMAORGANIZACIONAL!J35","v":74},{"$f":"[4]INDICECLIMAORGANIZACIONAL!K35","v":{"v":0.40217391304347827,"d":"40.22%"}},{"$f":"[4]INDICECLIMAORGANIZACIONAL!L35","v":"INSATISFATÓRIO"},{"$f":"[4]INDICECLIMAORGANIZACIONAL!M35","v":0}]
[{"$f":"[4]INDICECLIMAORGANIZACIONAL!A36","v":"PARCIAL"},null,null,{"$f":"[4]INDICECLIMAORGANIZACIONAL!D36","v":51},{"$f":"[4]INDICECLIMAORGANIZACIONAL!E36","v":{"v":0.265625,"d":"26.56%"}},{"$f":"[4]INDICECLIMAORGANIZACIONAL!F36","v":"SATISFATÓRIO"},{"$nulls":3},{"$f":"[4]INDICECLIMAORGANIZACIONAL!J36","v":70},{"$f":"[4]INDICECLIMAORGANIZACIONAL!K36","v":{"v":0.3804347826086957,"d":"38.04%"}},{"$f":"[4]INDICECLIMAORGANIZACIONAL!L36","v":"SATISFATÓRIO"}]
[{"$f":"[4]INDICECLIMAORGANIZACIONAL!A37","v":"NÃO"},null,null,{"$f":"[4]INDICECLIMAORGANIZACIONAL!D37","v":14},{"$f":"[4]INDICECLIMAORGANIZACIONAL!E37","v":{"v":0.07291666666666667,"d":"7.29%"}},{"$f":"[4]INDICECLIMAORGANIZACIONAL!F37","v":"SATISFATÓRIO"},{"$nulls":3},{"$f":"[4]INDICECLIMAORGANIZACIONAL!J37","v":40},{"$f":"[4]INDICECLIMAORGANIZACIONAL!K37","v":{"v":0.21739130434782608,"d":"21.74%"}},{"$f":"[4]INDICECLIMAORGANIZACIONAL!L37","v":"INSATISFATÓRIO"}]
[{"$f":"[4]INDICECLIMAORGANIZACIONAL!A38","v":"TOTAL"},null,null,{"$f":"[4]INDICECLIMAORGANIZACIONAL!D38","v":192},{"$f":"[4]INDICECLIMAORGANIZACIONAL!E38","v":{"v":1,"d":"100.00%"}},{"$nulls":4},{"$f":"[4]INDICECLIMAORGANIZACIONAL!J38","v":184},{"$f":"[4]INDICECLIMAORGANIZACIONAL!K38","v":{"v":1,"d":"100.00%"}}]
[]
[{"$f":"[4]INDICECLIMAORGANIZACIONAL!A40","v":"O MME INVESTE NO MEU CRESCIMENTO PROFISSIONAL?"},null,{"$f":"[4]INDICECLIMAORGANIZACIONAL!C40","v":"ITEM 05"},{"$f":"[4]INDICECLIMAORGANIZACIONAL!D40","v":2020},{"$nulls":4},{"$f":"[4]INDICECLIMAORGANIZACIONAL!I40","v":"ITEM 06"},{"$f":"[4]INDICECLIMAORGANIZACIONAL!J40","v":2017}]
[{"$nulls":3},{"$f":"[4]INDICECLIMAORGANIZACIONAL!D41","v":"TOTAL"},{"$f":"[4]INDICECLIMAORGANIZACIONAL!E41","v":"%"},{"$f":"[4]INDICECLIMAORGANIZACIONAL!F41","v":"RESULTADO"},{"$f":"[4]INDICECLIMAORGANIZACIONAL!G41","v":"ITEM AVALIADO POSITIVAMENTE?             (1 - SIM / 0 - NÃO)"},null,null,{"$f":"[4]INDICECLIMAORGANIZACIONAL!J41","v":"TOTAL"},{"$f":"[4]INDICECLIMAORGANIZACIONAL!K41","v":"%"},{"$f":"[4]INDICECLIMAORGANIZACIONAL!L41","v":"RESULTADO"},{"$f":"[4]INDICECLIMAORGANIZACIONAL!M41","v":"ITEM AVALIADO POSITIVAMENTE?             (1 - SIM / 0 - NÃO)"}]
[{"$f":"[4]INDICECLIMAORGANIZACIONAL!A42","v":"SIM"},null,null,{"$f":"[4]INDICECLIMAORGANIZACIONAL!D42","v":93},{"$f":"[4]INDICECLIMAORGANIZACIONAL!E42","v":{"v":0.484375,"d":"48.44%"}},{"$f":"[4]INDICECLIMAORGANIZACIONAL!F42","v":"INSATISFATÓRIO"},{"$f":"[4]INDICECLIMAORGANIZACIONAL!G42","v":0},null,null,{"$f":"[4]INDICECLIMAORGANIZACIONAL!J42","v":46},{"$f":"[4]INDICECLIMAORGANIZACIONAL!K42","v":{"v":0.2541436464088398,"d":"25.41%"}},{"$f":"[4]INDICECLIMAORGANIZACIONAL!L42","v":"INSATISFATÓRIO"},{"$f":"[4]INDICECLIMAORGANIZACIONAL!M42","v":0}]
[{"$f":"[4]INDICECLIMAORGANIZACIONAL!A43","v":"PARCIAL"},null,null,{"$f":"[4]INDICECLIMAORGANIZACIONAL!D43","v":75},{"$f":"[4]INDICECLIMAORGANIZACIONAL!E43","v":{"v":0.390625,"d":"39.06%"}},{"$f":"[4]INDICECLIMAORGANIZACIONAL!F43","v":"SATISFATÓRIO"},{"$nulls":3},{"$f":"[4]INDICECLIMAORGANIZACIONAL!J43","v":85},{"$f":"[4]INDICECLIMAORGANIZACIONAL!K43","v":{"v":0.4696132596685083,"d":"46.96%"}},{"$f":"[4]INDICECLIMAORGANIZACIONAL!L43","v":"SATISFATÓRIO"}]
[{"$f":"[4]INDICECLIMAORGANIZACIONAL!A44","v":"NÃO"},null,null,{"$f":"[4]INDICECLIMAORGANIZACIONAL!D44","v":24},{"$f":"[4]INDICECLIMAORGANIZACIONAL!E44","v":{"v":0.125,"d":"12.50%"}},{"$f":"[4]INDICECLIMAORGANIZACIONAL!F44","v":"INSATISFATÓRIO"},{"$nulls":3},{"$f":"[4]INDICECLIMAORGANIZACIONAL!J44","v":50},{"$f":"[4]INDICECLIMAORGANIZACIONAL!K44","v":{"v":0.27624309392265195,"d":"27.62%"}},{"$f":"[4]INDICECLIMAORGANIZACIONAL!L44","v":"INSATISFATÓRIO"}]
[{"$f":"[4]INDICECLIMAORGANIZACIONAL!A45","v":"TOTAL"},null,null,{"$f":"[4]INDICECLIMAORGANIZACIONAL!D45","v":192},{"$f":"[4]INDICECLIMAORGANIZACIONAL!E45","v":{"v":1,"d":"100.00%"}},{"$nulls":4},{"$f":"[4]INDICECLIMAORGANIZACIONAL!J45","v":181},{"$f":"[4]INDICECLIMAORGANIZACIONAL!K45","v":{"v":1,"d":"100.00%"}}]
[]
[{"$f":"[4]INDICECLIMAORGANIZACIONAL!A47","v":"SINTO ORGULHO DE SER SERVIDOR/EMPREGADO DO MME?"},null,{"$f":"[4]INDICECLIMAORGANIZACIONAL!C47","v":"ITEM 06"},{"$f":"[4]INDICECLIMAORGANIZACIONAL!D47","v":2020},{"$nulls":4},{"$f":"[4]INDICECLIMAORGANIZACIONAL!I47","v":"ITEM 07"},{"$f":"[4]INDICECLIMAORGANIZACIONAL!J47","v":2017}]
[{"$nulls":3},{"$f":"[4]INDICECLIMAORGANIZACIONAL!D48","v":"TOTAL"},{"$f":"[4]INDICECLIMAORGANIZACIONAL!E48","v":"%"},{"$f":"[4]INDICECLIMAORGANIZACIONAL!F48","v":"RESULTADO"},{"$f":"[4]INDICECLIMAORGANIZACIONAL!G48","v":"ITEM AVALIADO POSITIVAMENTE?             (1 - SIM / 0 - NÃO)"},null,null,{"$f":"[4]INDICECLIMAORGANIZACIONAL!J48","v":"TOTAL"},{"$f":"[4]INDICECLIMAORGANIZACIONAL!K48","v":"%"},{"$f":"[4]INDICECLIMAORGANIZACIONAL!L48","v":"RESULTADO"},{"$f":"[4]INDICECLIMAORGANIZACIONAL!M48","v":"ITEM AVALIADO POSITIVAMENTE?             (1 - SIM / 0 - NÃO)"}]
[{"$f":"[4]INDICECLIMAORGANIZACIONAL!A49","v":"SIM"},null,null,{"$f":"[4]INDICECLIMAORGANIZACIONAL!D49","v":161},{"$f":"[4]INDICECLIMAORGANIZACIONAL!E49","v":{"v":0.8385416666666666,"d":"83.85%"}},{"$f":"[4]INDICECLIMAORGANIZACIONAL!F49","v":"DESEJÁVEL"},{"$f":"[4]INDICECLIMAORGANIZACIONAL!G49","v":1},null,null,{"$f":"[4]INDICECLIMAORGANIZACIONAL!J49","v":114},{"$f":"[4]INDICECLIMAORGANIZACIONAL!K49","v":{"v":0.6333333333333333,"d":"63.33%"}},{"$f":"[4]INDICECLIMAORGANIZACIONAL!L49","v":"SATISFATÓRIO"},{"$f":"[4]INDICECLIMAORGANIZACIONAL!M49","v":1}]
[{"$f":"[4]INDICECLIMAORGANIZACIONAL!A50","v":"PARCIAL"},null,null,{"$f":"[4]INDICECLIMAORGANIZACIONAL!D50","v":26},{"$f":"[4]INDICECLIMAORGANIZACIONAL!E50","v":{"v":0.13541666666666666,"d":"13.54%"}},{"$f":"[4]INDICECLIMAORGANIZACIONAL!F50","v":"SATISFATÓRIO"},{"$nulls":3},{"$f":"[4]INDICECLIMAORGANIZACIONAL!J50","v":46},{"$f":"[4]INDICECLIMAORGANIZACIONAL!K50","v":{"v":0.25555555555555554,"d":"25.56%"}},{"$f":"[4]INDICECLIMAORGANIZACIONAL!L50","v":"SATISFATÓRIO"}]
[{"$f":"[4]INDICECLIMAORGANIZACIONAL!A51","v":"NÃO"},null,null,{"$f":"[4]INDICECLIMAORGANIZACIONAL!D51","v":5},{"$f":"[4]INDICECLIMAORGANIZACIONAL!E51","v":{"v":0.026041666666666668,"d":"2.60%"}},{"$f":"[4]INDICECLIMAORGANIZACIONAL!F51","v":"DESEJÁVEL"},{"$nulls":3},{"$f":"[4]INDICECLIMAORGANIZACIONAL!J51","v":20},{"$f":"[4]INDICECLIMAORGANIZACIONAL!K51","v":{"v":0.1111111111111111,"d":"11.11%"}},{"$f":"[4]INDICECLIMAORGANIZACIONAL!L51","v":"INSATISFATÓRIO"}]
[{"$f":"[4]INDICECLIMAORGANIZACIONAL!A52","v":"TOTAL"},null,null,{"$f":"[4]INDICECLIMAORGANIZACIONAL!D52","v":192},{"$f":"[4]INDICECLIMAORGANIZACIONAL!E52","v":{"v":0.9999999999999999,"d":"100.00%"}},{"$nulls":4},{"$f":"[4]INDICECLIMAORGANIZACIONAL!J52","v":180},{"$f":"[4]INDICECLIMAORGANIZACIONAL!K52","v":{"v":1,"d":"100.00%"}}]
[]
[{"$f":"[4]INDICECLIMAORGANIZACIONAL!A54","v":"CONFIO PLENAMENTE NA MINHA CHEFIA"},null,{"$f":"[4]INDICECLIMAORGANIZACIONAL!C54","v":"ITEM **"},{"$f":"[4]INDICECLIMAORGANIZACIONAL!D54","v":2020},{"$nulls":4},{"$f":"[4]INDICECLIMAORGANIZACIONAL!I54","v":"ITEM 08"},{"$f":"[4]INDICECLIMAORGANIZACIONAL!J54","v":2017}]
[{"$nulls":3},{"$f":"[4]INDICECLIMAORGANIZACIONAL!D55","v":"TOTAL"},{"$f":"[4]INDICECLIMAORGANIZACIONAL!E55","v":"%"},{"$f":"[4]INDICECLIMAORGANIZACIONAL!F55","v":"RESULTADO"},{"$f":"[4]INDICECLIMAORGANIZACIONAL!G55","v":"ITEM AVALIADO POSITIVAMENTE?             (1 - SIM / 0 - NÃO)"},null,null,{"$f":"[4]INDICECLIMAORGANIZACIONAL!J55","v":"TOTAL"},{"$f":"[4]INDICECLIMAORGANIZACIONAL!K55","v":"%"},{"$f":"[4]INDICECLIMAORGANIZACIONAL!L55","v":"RESULTADO"},{"$f":"[4]INDICECLIMAORGANIZACIONAL!M55","v":"ITEM AVALIADO POSITIVAMENTE?             (1 - SIM / 0 - NÃO)"}]
[{"$f":"[4]INDICECLIMAORGANIZACIONAL!A56","v":"SIM"},null,null,{"$f":"[4]INDICECLIMAORGANIZACIONAL!D56","v":"*"},{"$f":"[4]INDICECLIMAORGANIZACIONAL!E56","v":"*"},{"$f":"[4]INDICECLIMAORGANIZACIONAL!F56","v":"*"},{"$f":"[4]INDICECLIMAORGANIZACIONAL!G56","v":"**"},null,null,{"$f":"[4]INDICECLIMAORGANIZACIONAL!J56","v":113},{"$f":"[4]INDICECLIMAORGANIZACIONAL!K56","v":{"v":0.6141304347826086,"d":"61.41%"}},{"$f":"[4]INDICECLIMAORGANIZACIONAL!L56","v":"SATISFATÓRIO"},{"$f":"[4]INDICECLIMAORGANIZACIONAL!M56","v":1}]
[{"$f":"[4]INDICECLIMAORGANIZACIONAL!A57","v":"PARCIAL"},null,null,{"$f":"[4]INDICECLIMAORGANIZACIONAL!D57","v":"*"},{"$f":"[4]INDICECLIMAORGANIZACIONAL!E57","v":"*"},{"$f":"[4]INDICECLIMAORGANIZACIONAL!F57","v":"*"},{"$nulls":3},{"$f":"[4]INDICECLIMAORGANIZACIONAL!J57","v":48},{"$f":"[4]INDICECLIMAORGANIZACIONAL!K57","v":{"v":0.2608695652173913,"d":"26.09%"}},{"$f":"[4]INDICECLIMAORGANIZACIONAL!L57","v":"SATISFATÓRIO"}]
[{"$f":"[4]INDICECLIMAORGANIZACIONAL!A58","v":"NÃO"},null,null,{"$f":"[4]INDICECLIMAORGANIZACIONAL!D58","v":"*"},{"$f":"[4]INDICECLIMAORGANIZACIONAL!E58","v":"*"},{"$f":"[4]INDICECLIMAORGANIZACIONAL!F58","v":"*"},{"$nulls":3},{"$f":"[4]INDICECLIMAORGANIZACIONAL!J58","v":23},{"$f":"[4]INDICECLIMAORGANIZACIONAL!K58","v":{"v":0.125,"d":"12.50%"}},{"$f":"[4]INDICECLIMAORGANIZACIONAL!L58","v":"INSATISFATÓRIO"}]
[{"$f":"[4]INDICECLIMAORGANIZACIONAL!A59","v":"TOTAL"},null,null,{"$f":"[4]INDICECLIMAORGANIZACIONAL!D59","v":"*"},{"$f":"[4]INDICECLIMAORGANIZACIONAL!E59","v":"*"},{"$nulls":4},{"$f":"[4]INDICECLIMAORGANIZACIONAL!J59","v":184},{"$f":"[4]INDICECLIMAORGANIZACIONAL!K59","v":{"v":1,"d":"100.00%"}}]
[]
[{"$f":"[4]INDICECLIMAORGANIZACIONAL!A61","v":"MEU CHEFE TEM O PERFIL INDICADO PARA FUNÇÃO QUE OCUPA?"},null,{"$f":"[4]INDICECLIMAORGANIZACIONAL!C61","v":"ITEM 07"},{"$f":"[4]INDICECLIMAORGANIZACIONAL!D61","v":2020},{"$nulls":4},{"$f":"[4]INDICECLIMAORGANIZACIONAL!I61","v":"ITEM 09"},{"$f":"[4]INDICECLIMAORGANIZACIONAL!J61","v":2017}]
[{"$nulls":3},{"$f":"[4]INDICECLIMAORGANIZACIONAL!D62","v":"TOTAL"},{"$f":"[4]INDICECLIMAORGANIZACIONAL!E62","v":"%"},{"$f":"[4]INDICECLIMAORGANIZACIONAL!F62","v":"RESULTADO"},{"$f":"[4]INDICECLIMAORGANIZACIONAL!G62","v":"ITEM AVALIADO POSITIVAMENTE?             (1 - SIM / 0 - NÃO)"},null,null,{"$f":"[4]INDICECLIMAORGANIZACIONAL!J62","v":"TOTAL"},{"$f":"[4]INDICECLIMAORGANIZACIONAL!K62","v":"%"},{"$f":"[4]INDICECLIMAORGANIZACIONAL!L62","v":"RESULTADO"},{"$f":"[4]INDICECLIMAORGANIZACIONAL!M62","v":"ITEM AVALIADO POSITIVAMENTE?             (1 - SIM / 0 - NÃO)"}]
[{"$f":"[4]INDICECLIMAORGANIZACIONAL!A63","v":"SIM"},null,null,{"$f":"[4]INDICECLIMAORGANIZACIONAL!D63","v":166},{"$f":"[4]INDICECLIMAORGANIZACIONAL!E63","v":{"v":0.8645833333333334,"d":"86.46%"}},{"$f":"[4]INDICECLIMAORGANIZACIONAL!F63","v":"DESEJÁVEL"},{"$f":"[4]INDICECLIMAORGANIZACIONAL!G63","v":1},null,null,{"$f":"[4]INDICECLIMAORGANIZACIONAL!J63","v":132},{"$f":"[4]INDICECLIMAORGANIZACIONAL!K63","v":{"v":0.717391304347826,"d":"71.74%"}},{"$f":"[4]INDICECLIMAORGANIZACIONAL!L63","v":"SATISFATÓRIO"},{"$f":"[4]INDICECLIMAORGANIZACIONAL!M63","v":1}]
[{"$f":"[4]INDICECLIMAORGANIZACIONAL!A64","v":"PARCIAL"},null,null,{"$f":"[4]INDICECLIMAORGANIZACIONAL!D64","v":19},{"$f":"[4]INDICECLIMAORGANIZACIONAL!E64","v":{"v":0.09895833333333333,"d":"9.90%"}},{"$f":"[4]INDICECLIMAORGANIZACIONAL!F64","v":"SATISFATÓRIO"},{"$nulls":3},{"$f":"[4]INDICECLIMAORGANIZACIONAL!J64","v":39},{"$f":"[4]INDICECLIMAORGANIZACIONAL!K64","v":{"v":0.21195652173913043,"d":"21.20%"}},{"$f":"[4]INDICECLIMAORGANIZACIONAL!L64","v":"SATISFATÓRIO"}]
[{"$f":"[4]INDICECLIMAORGANIZACIONAL!A65","v":"NÃO"},null,null,{"$f":"[4]INDICECLIMAORGANIZACIONAL!D65","v":7},{"$f":"[4]INDICECLIMAORGANIZACIONAL!E65","v":{"v":0.036458333333333336,"d":"3.65%"}},{"$f":"[4]INDICECLIMAORGANIZACIONAL!F65","v":"DESEJÁVEL"},{"$nulls":3},{"$f":"[4]INDICECLIMAORGANIZACIONAL!J65","v":13},{"$f":"[4]INDICECLIMAORGANIZACIONAL!K65","v":{"v":0.07065217391304347,"d":"7.07%"}},{"$f":"[4]INDICECLIMAORGANIZACIONAL!L65","v":"SATISFATÓRIO"}]
[{"$f":"[4]INDICECLIMAORGANIZACIONAL!A66","v":"TOTAL"},null,null,{"$f":"[4]INDICECLIMAORGANIZACIONAL!D66","v":192},{"$f":"[4]INDICECLIMAORGANIZACIONAL!E66","v":{"v":1,"d":"100.00%"}},{"$nulls":4},{"$f":"[4]INDICECLIMAORGANIZACIONAL!J66","v":184},{"$f":"[4]INDICECLIMAORGANIZACIONAL!K66","v":{"v":1,"d":"100.00%"}}]
[]
[{"$f":"[4]INDICECLIMAORGANIZACIONAL!A68","v":"MEU CHEFE IMPULSIONA A EQUIPE PARA ALCANÇAR AS METAS"},null,{"$f":"[4]INDICECLIMAORGANIZACIONAL!C68","v":"ITEM 08"},{"$f":"[4]INDICECLIMAORGANIZACIONAL!D68","v":2020},{"$nulls":4},{"$f":"[4]INDICECLIMAORGANIZACIONAL!I68","v":"ITEM 10"},{"$f":"[4]INDICECLIMAORGANIZACIONAL!J68","v":2017}]
[{"$nulls":3},{"$f":"[4]INDICECLIMAORGANIZACIONAL!D69","v":"TOTAL"},{"$f":"[4]INDICECLIMAORGANIZACIONAL!E69","v":"%"},{"$f":"[4]INDICECLIMAORGANIZACIONAL!F69","v":"RESULTADO"},{"$f":"[4]INDICECLIMAORGANIZACIONAL!G69","v":"ITEM AVALIADO POSITIVAMENTE?             (1 - SIM / 0 - NÃO)"},null,null,{"$f":"[4]INDICECLIMAORGANIZACIONAL!J69","v":"TOTAL"},{"$f":"[4]INDICECLIMAORGANIZACIONAL!K69","v":"%"},{"$f":"[4]INDICECLIMAORGANIZACIONAL!L69","v":"RESULTADO"},{"$f":"[4]INDICECLIMAORGANIZACIONAL!M69","v":"ITEM AVALIADO POSITIVAMENTE?             (1 - SIM / 0 - NÃO)"}]
[{"$f":"[4]INDICECLIMAORGANIZACIONAL!A70","v":"SIM"},null,null,{"$f":"[4]INDICECLIMAORGANIZACIONAL!D70","v":163},{"$f":"[4]INDICECLIMAORGANIZACIONAL!E70","v":{"v":0.8489583333333334,"d":"84.90%"}},{"$f":"[4]INDICECLIMAORGANIZACIONAL!F70","v":"DESEJÁVEL"},{"$f":"[4]INDICECLIMAORGANIZACIONAL!G70","v":1},null,null,{"$f":"[4]INDICECLIMAORGANIZACIONAL!J70","v":112},{"$f":"[4]INDICECLIMAORGANIZACIONAL!K70","v":{"v":0.6086956521739131,"d":"60.87%"}},{"$f":"[4]INDICECLIMAORGANIZACIONAL!L70","v":"SATISFATÓRIO"},{"$f":"[4]INDICECLIMAORGANIZACIONAL!M70","v":1}]
[{"$f":"[4]INDICECLIMAORGANIZACIONAL!A71","v":"PARCIAL"},null,null,{"$f":"[4]INDICECLIMAORGANIZACIONAL!D71","v":23},{"$f":"[4]INDICECLIMAORGANIZACIONAL!E71","v":{"v":0.11979166666666667,"d":"11.98%"}},{"$f":"[4]INDICECLIMAORGANIZACIONAL!F71","v":"SATISFATÓRIO"},{"$nulls":3},{"$f":"[4]INDICECLIMAORGANIZACIONAL!J71","v":45},{"$f":"[4]INDICECLIMAORGANIZACIONAL!K71","v":{"v":0.24456521739130435,"d":"24.46%"}},{"$f":"[4]INDICECLIMAORGANIZACIONAL!L71","v":"SATISFATÓRIO"}]
[{"$f":"[4]INDICECLIMAORGANIZACIONAL!A72","v":"NÃO"},null,null,{"$f":"[4]INDICECLIMAORGANIZACIONAL!D72","v":6},{"$f":"[4]INDICECLIMAORGANIZACIONAL!E72","v":{"v":0.03125,"d":"3.13%"}},{"$f":"[4]INDICECLIMAORGANIZACIONAL!F72","v":"DESEJÁVEL"},{"$nulls":3},{"$f":"[4]INDICECLIMAORGANIZACIONAL!J72","v":27},{"$f":"[4]INDICECLIMAORGANIZACIONAL!K72","v":{"v":0.14673913043478262,"d":"14.67%"}},{"$f":"[4]INDICECLIMAORGANIZACIONAL!L72","v":"INSATISFATÓRIO"}]
[{"$f":"[4]INDICECLIMAORGANIZACIONAL!A73","v":"TOTAL"},null,null,{"$f":"[4]INDICECLIMAORGANIZACIONAL!D73","v":192},{"$f":"[4]INDICECLIMAORGANIZACIONAL!E73","v":{"v":1,"d":"100.00%"}},{"$nulls":4},{"$f":"[4]INDICECLIMAORGANIZACIONAL!J73","v":184},{"$f":"[4]INDICECLIMAORGANIZACIONAL!K73","v":{"v":1,"d":"100.00%"}}]
[]
[{"$f":"[4]INDICECLIMAORGANIZACIONAL!A75","v":"CONSIDERO A EQUIPE DO MEU SETOR/UNIDADE SUFICIENTE PARA O DESENVOLVIMENTO DAS ATIVIDADES?"},null,{"$f":"[4]INDICECLIMAORGANIZACIONAL!C75","v":"ITEM 09"},{"$f":"[4]INDICECLIMAORGANIZACIONAL!D75","v":2020},{"$nulls":4},{"$f":"[4]INDICECLIMAORGANIZACIONAL!I75","v":"ITEM 11"},{"$f":"[4]INDICECLIMAORGANIZACIONAL!J75","v":2017}]
[{"$nulls":3},{"$f":"[4]INDICECLIMAORGANIZACIONAL!D76","v":"TOTAL"},{"$f":"[4]INDICECLIMAORGANIZACIONAL!E76","v":"%"},{"$f":"[4]INDICECLIMAORGANIZACIONAL!F76","v":"RESULTADO"},{"$f":"[4]INDICECLIMAORGANIZACIONAL!G76","v":"ITEM AVALIADO POSITIVAMENTE?             (1 - SIM / 0 - NÃO)"},null,null,{"$f":"[4]INDICECLIMAORGANIZACIONAL!J76","v":"TOTAL"},{"$f":"[4]INDICECLIMAORGANIZACIONAL!K76","v":"%"},{"$f":"[4]INDICECLIMAORGANIZACIONAL!L76","v":"RESULTADO"},{"$f":"[4]INDICECLIMAORGANIZACIONAL!M76","v":"ITEM AVALIADO POSITIVAMENTE?             (1 - SIM / 0 - NÃO)"}]
[{"$f":"[4]INDICECLIMAORGANIZACIONAL!A77","v":"SIM"},null,null,{"$f":"[4]INDICECLIMAORGANIZACIONAL!D77","v":72},{"$f":"[4]INDICECLIMAORGANIZACIONAL!E77","v":{"v":0.375,"d":"37.50%"}},{"$f":"[4]INDICECLIMAORGANIZACIONAL!F77","v":"INSATISFATÓRIO"},{"$f":"[4]INDICECLIMAORGANIZACIONAL!G77","v":0},null,null,{"$f":"[4]INDICECLIMAORGANIZACIONAL!J77","v":68},{"$f":"[4]INDICECLIMAORGANIZACIONAL!K77","v":{"v":0.37158469945355194,"d":"37.16%"}},{"$f":"[4]INDICECLIMAORGANIZACIONAL!L77","v":"INSATISFATÓRIO"},{"$f":"[4]INDICECLIMAORGANIZACIONAL!M77","v":0}]
[{"$f":"[4]INDICECLIMAORGANIZACIONAL!A78","v":"PARCIAL"},null,null,{"$f":"[4]INDICECLIMAORGANIZACIONAL!D78","v":68},{"$f":"[4]INDICECLIMAORGANIZACIONAL!E78","v":{"v":0.3541666666666667,"d":"35.42%"}},{"$f":"[4]INDICECLIMAORGANIZACIONAL!F78","v":"SATISFATÓRIO"},{"$nulls":3},{"$f":"[4]INDICECLIMAORGANIZACIONAL!J78","v":67},{"$f":"[4]INDICECLIMAORGANIZACIONAL!K78","v":{"v":0.366120218579235,"d":"36.61%"}},{"$f":"[4]INDICECLIMAORGANIZACIONAL!L78","v":"SATISFATÓRIO"}]
[{"$f":"[4]INDICECLIMAORGANIZACIONAL!A79","v":"NÃO"},null,null,{"$f":"[4]INDICECLIMAORGANIZACIONAL!D79","v":52},{"$f":"[4]INDICECLIMAORGANIZACIONAL!E79","v":{"v":0.2708333333333333,"d":"27.08%"}},{"$f":"[4]INDICECLIMAORGANIZACIONAL!F79","v":"INSATISFATÓRIO"},{"$nulls":3},{"$f":"[4]INDICECLIMAORGANIZACIONAL!J79","v":48},{"$f":"[4]INDICECLIMAORGANIZACIONAL!K79","v":{"v":0.26229508196721313,"d":"26.23%"}},{"$f":"[4]INDICECLIMAORGANIZACIONAL!L79","v":"INSATISFATÓRIO"}]
[{"$f":"[4]INDICECLIMAORGANIZACIONAL!A80","v":"TOTAL"},null,null,{"$f":"[4]INDICECLIMAORGANIZACIONAL!D80","v":192},{"$f":"[4]INDICECLIMAORGANIZACIONAL!E80","v":{"v":1,"d":"100.00%"}},{"$nulls":4},{"$f":"[4]INDICECLIMAORGANIZACIONAL!J80","v":183},{"$f":"[4]INDICECLIMAORGANIZACIONAL!K80","v":{"v":1,"d":"100.00%"}}]
[]
[{"$f":"[4]INDICECLIMAORGANIZACIONAL!A82","v":"CONSIDERO ADEQUADA A DISTRIBUIÇÃO DAS TAREFAS NO SETOR/UNIDADE EM QUE ATUO?"},null,{"$f":"[4]INDICECLIMAORGANIZACIONAL!C82","v":"ITEM 10"},{"$f":"[4]INDICECLIMAORGANIZACIONAL!D82","v":2020},{"$nulls":4},{"$f":"[4]INDICECLIMAORGANIZACIONAL!I82","v":"ITEM 12"},{"$f":"[4]INDICECLIMAORGANIZACIONAL!J82","v":2017}]
[{"$nulls":3},{"$f":"[4]INDICECLIMAORGANIZACIONAL!D83","v":"TOTAL"},{"$f":"[4]INDICECLIMAORGANIZACIONAL!E83","v":"%"},{"$f":"[4]INDICECLIMAORGANIZACIONAL!F83","v":"RESULTADO"},{"$f":"[4]INDICECLIMAORGANIZACIONAL!G83","v":"ITEM AVALIADO POSITIVAMENTE?             (1 - SIM / 0 - NÃO)"},null,null,{"$f":"[4]INDICECLIMAORGANIZACIONAL!J83","v":"TOTAL"},{"$f":"[4]INDICECLIMAORGANIZACIONAL!K83","v":"%"},{"$f":"[4]INDICECLIMAORGANIZACIONAL!L83","v":"RESULTADO"},{"$f":"[4]INDICECLIMAORGANIZACIONAL!M83","v":"ITEM AVALIADO POSITIVAMENTE?             (1 - SIM / 0 - NÃO)"}]
[{"$f":"[4]INDICECLIMAORGANIZACIONAL!A84","v":"SIM"},null,null,{"$f":"[4]INDICECLIMAORGANIZACIONAL!D84","v":84},{"$f":"[4]INDICECLIMAORGANIZACIONAL!E84","v":{"v":0.4375,"d":"43.75%"}},{"$f":"[4]INDICECLIMAORGANIZACIONAL!F84","v":"INSATISFATÓRIO"},{"$f":"[4]INDICECLIMAORGANIZACIONAL!G84","v":0},null,null,{"$f":"[4]INDICECLIMAORGANIZACIONAL!J84","v":65},{"$f":"[4]INDICECLIMAORGANIZACIONAL!K84","v":{"v":0.3551912568306011,"d":"35.52%"}},{"$f":"[4]INDICECLIMAORGANIZACIONAL!L84","v":"INSATISFATÓRIO"},{"$f":"[4]INDICECLIMAORGANIZACIONAL!M84","v":0}]
[{"$f":"[4]INDICECLIMAORGANIZACIONAL!A85","v":"PARCIAL"},null,null,{"$f":"[4]INDICECLIMAORGANIZACIONAL!D85","v":73},{"$f":"[4]INDICECLIMAORGANIZACIONAL!E85","v":{"v":0.3802083333333333,"d":"38.02%"}},{"$f":"[4]INDICECLIMAORGANIZACIONAL!F85","v":"SATISFATÓRIO"},{"$nulls":3},{"$f":"[4]INDICECLIMAORGANIZACIONAL!J85","v":65},{"$f":"[4]INDICECLIMAORGANIZACIONAL!K85","v":{"v":0.3551912568306011,"d":"35.52%"}},{"$f":"[4]INDICECLIMAORGANIZACIONAL!L85","v":"SATISFATÓRIO"}]
[{"$f":"[4]INDICECLIMAORGANIZACIONAL!A86","v":"NÃO"},null,null,{"$f":"[4]INDICECLIMAORGANIZACIONAL!D86","v":35},{"$f":"[4]INDICECLIMAORGANIZACIONAL!E86","v":{"v":0.18229166666666666,"d":"18.23%"}},{"$f":"[4]INDICECLIMAORGANIZACIONAL!F86","v":"INSATISFATÓRIO"},{"$nulls":3},{"$f":"[4]INDICECLIMAORGANIZACIONAL!J86","v":53},{"$f":"[4]INDICECLIMAORGANIZACIONAL!K86","v":{"v":0.2896174863387978,"d":"28.96%"}},{"$f":"[4]INDICECLIMAORGANIZACIONAL!L86","v":"INSATISFATÓRIO"}]
[{"$f":"[4]INDICECLIMAORGANIZACIONAL!A87","v":"TOTAL"},null,null,{"$f":"[4]INDICECLIMAORGANIZACIONAL!D87","v":192},{"$f":"[4]INDICECLIMAORGANIZACIONAL!E87","v":{"v":0.9999999999999999,"d":"100.00%"}},{"$nulls":4},{"$f":"[4]INDICECLIMAORGANIZACIONAL!J87","v":183},{"$f":"[4]INDICECLIMAORGANIZACIONAL!K87","v":{"v":1,"d":"100.00%"}}]
[]
[{"$f":"[4]INDICECLIMAORGANIZACIONAL!A89","v":"MEU SALÁRIO É JUSTO E ADEQUADO A MINHA FUNÇÃO?"},null,{"$f":"[4]INDICECLIMAORGANIZACIONAL!C89","v":"ITEM 11"},{"$f":"[4]INDICECLIMAORGANIZACIONAL!D89","v":2020},{"$nulls":4},{"$f":"[4]INDICECLIMAORGANIZACIONAL!I89","v":"ITEM 13"},{"$f":"[4]INDICECLIMAORGANIZACIONAL!J89","v":2017}]
[{"$nulls":3},{"$f":"[4]INDICECLIMAORGANIZACIONAL!D90","v":"TOTAL"},{"$f":"[4]INDICECLIMAORGANIZACIONAL!E90","v":"%"},{"$f":"[4]INDICECLIMAORGANIZACIONAL!F90","v":"RESULTADO"},{"$f":"[4]INDICECLIMAORGANIZACIONAL!G90","v":"ITEM AVALIADO POSITIVAMENTE?             (1 - SIM / 0 - NÃO)"},null,null,{"$f":"[4]INDICECLIMAORGANIZACIONAL!J90","v":"TOTAL"},{"$f":"[4]INDICECLIMAORGANIZACIONAL!K90","v":"%"},{"$f":"[4]INDICECLIMAORGANIZACIONAL!L90","v":"RESULTADO"},{"$f":"[4]INDICECLIMAORGANIZACIONAL!M90","v":"ITEM AVALIADO POSITIVAMENTE?             (1 - SIM / 0 - NÃO)"}]
[{"$f":"[4]INDICECLIMAORGANIZACIONAL!A91","v":"SIM"},null,null,{"$f":"[4]INDICECLIMAORGANIZACIONAL!D91","v":90},{"$f":"[4]INDICECLIMAORGANIZACIONAL!E91","v":{"v":0.46875,"d":"46.88%"}},{"$f":"[4]INDICECLIMAORGANIZACIONAL!F91","v":"INSATISFATÓRIO"},{"$f":"[4]INDICECLIMAORGANIZACIONAL!G91","v":0},null,null,{"$f":"[4]INDICECLIMAORGANIZACIONAL!J91","v":61},{"$f":"[4]INDICECLIMAORGANIZACIONAL!K91","v":{"v":0.3333333333333333,"d":"33.33%"}},{"$f":"[4]INDICECLIMAORGANIZACIONAL!L91","v":"INSATISFATÓRIO"},{"$f":"[4]INDICECLIMAORGANIZACIONAL!M91","v":0}]
[{"$f":"[4]INDICECLIMAORGANIZACIONAL!A92","v":"PARCIAL"},null,null,{"$f":"[4]INDICECLIMAORGANIZACIONAL!D92","v":69},{"$f":"[4]INDICECLIMAORGANIZACIONAL!E92","v":{"v":0.359375,"d":"35.94%"}},{"$f":"[4]INDICECLIMAORGANIZACIONAL!F92","v":"SATISFATÓRIO"},{"$nulls":3},{"$f":"[4]INDICECLIMAORGANIZACIONAL!J92","v":58},{"$f":"[4]INDICECLIMAORGANIZACIONAL!K92","v":{"v":0.31693989071038253,"d":"31.69%"}},{"$f":"[4]INDICECLIMAORGANIZACIONAL!L92","v":"SATISFATÓRIO"}]
[{"$f":"[4]INDICECLIMAORGANIZACIONAL!A93","v":"NÃO"},null,null,{"$f":"[4]INDICECLIMAORGANIZACIONAL!D93","v":33},{"$f":"[4]INDICECLIMAORGANIZACIONAL!E93","v":{"v":0.171875,"d":"17.19%"}},{"$f":"[4]INDICECLIMAORGANIZACIONAL!F93","v":"INSATISFATÓRIO"},{"$nulls":3},{"$f":"[4]INDICECLIMAORGANIZACIONAL!J93","v":64},{"$f":"[4]INDICECLIMAORGANIZACIONAL!K93","v":{"v":0.34972677595628415,"d":"34.97%"}},{"$f":"[4]INDICECLIMAORGANIZACIONAL!L93","v":"CRÍTICO"}]
[{"$f":"[4]INDICECLIMAORGANIZACIONAL!A94","v":"TOTAL"},null,null,{"$f":"[4]INDICECLIMAORGANIZACIONAL!D94","v":192},{"$f":"[4]INDICECLIMAORGANIZACIONAL!E94","v":{"v":1,"d":"100.00%"}},{"$nulls":4},{"$f":"[4]INDICECLIMAORGANIZACIONAL!J94","v":183},{"$f":"[4]INDICECLIMAORGANIZACIONAL!K94","v":{"v":1,"d":"100.00%"}}]
[]
[{"$f":"[4]INDICECLIMAORGANIZACIONAL!A96","v":"MEU SALÁRIO E BENEFÍCIOS ESTÃO NA MÉDIA OU ACIMA DO QUE É OFERECIDO NO MERCADO?"},null,{"$f":"[4]INDICECLIMAORGANIZACIONAL!C96","v":"ITEM 12"},{"$f":"[4]INDICECLIMAORGANIZACIONAL!D96","v":2020},{"$nulls":4},{"$f":"[4]INDICECLIMAORGANIZACIONAL!I96","v":"ITEM **"},{"$f":"[4]INDICECLIMAORGANIZACIONAL!J96","v":2017}]
[{"$nulls":3},{"$f":"[4]INDICECLIMAORGANIZACIONAL!D97","v":"TOTAL"},{"$f":"[4]INDICECLIMAORGANIZACIONAL!E97","v":"%"},{"$f":"[4]INDICECLIMAORGANIZACIONAL!F97","v":"RESULTADO"},{"$f":"[4]INDICECLIMAORGANIZACIONAL!G97","v":"ITEM AVALIADO POSITIVAMENTE?             (1 - SIM / 0 - NÃO)"},null,null,{"$f":"[4]INDICECLIMAORGANIZACIONAL!J97","v":"TOTAL"},{"$f":"[4]INDICECLIMAORGANIZACIONAL!K97","v":"%"},{"$f":"[4]INDICECLIMAORGANIZACIONAL!L97","v":"RESULTADO"},{"$f":"[4]INDICECLIMAORGANIZACIONAL!M97","v":"ITEM AVALIADO POSITIVAMENTE?             (1 - SIM / 0 - NÃO)"}]
[{"$f":"[4]INDICECLIMAORGANIZACIONAL!A98","v":"SIM"},null,null,{"$f":"[4]INDICECLIMAORGANIZACIONAL!D98","v":55},{"$f":"[4]INDICECLIMAORGANIZACIONAL!E98","v":{"v":0.2864583333333333,"d":"28.65%"}},{"$f":"[4]INDICECLIMAORGANIZACIONAL!F98","v":"INSATISFATÓRIO"},{"$f":"[4]INDICECLIMAORGANIZACIONAL!G98","v":0},null,null,{"$f":"[4]INDICECLIMAORGANIZACIONAL!J98","v":"*"},{"$f":"[4]INDICECLIMAORGANIZACIONAL!K98","v":"*"},{"$f":"[4]INDICECLIMAORGANIZACIONAL!L98","v":"*"},{"$f":"[4]INDICECLIMAORGANIZACIONAL!M98","v":"**"}]
[{"$f":"[4]INDICECLIMAORGANIZACIONAL!A99","v":"PARCIAL"},null,null,{"$f":"[4]INDICECLIMAORGANIZACIONAL!D99","v":81},{"$f":"[4]INDICECLIMAORGANIZACIONAL!E99","v":{"v":0.421875,"d":"42.19%"}},{"$f":"[4]INDICECLIMAORGANIZACIONAL!F99","v":"SATISFATÓRIO"},{"$nulls":3},{"$f":"[4]INDICECLIMAORGANIZACIONAL!J99","v":"*"},{"$f":"[4]INDICECLIMAORGANIZACIONAL!K99","v":"*"},{"$f":"[4]INDICECLIMAORGANIZACIONAL!L99","v":"*"}]
[{"$f":"[4]INDICECLIMAORGANIZACIONAL!A100","v":"NÃO"},null,null,{"$f":"[4]INDICECLIMAORGANIZACIONAL!D100","v":56},{"$f":"[4]INDICECLIMAORGANIZACIONAL!E100","v":{"v":0.2916666666666667,"d":"29.17%"}},{"$f":"[4]INDICECLIMAORGANIZACIONAL!F100","v":"INSATISFATÓRIO"},{"$nulls":3},{"$f":"[4]INDICECLIMAORGANIZACIONAL!J100","v":"*"},{"$f":"[4]INDICECLIMAORGANIZACIONAL!K100","v":"*"},{"$f":"[4]INDICECLIMAORGANIZACIONAL!L100","v":"*"}]
[{"$f":"[4]INDICECLIMAORGANIZACIONAL!A101","v":"TOTAL"},null,null,{"$f":"[4]INDICECLIMAORGANIZACIONAL!D101","v":192},{"$f":"[4]INDICECLIMAORGANIZACIONAL!E101","v":{"v":1,"d":"100.00%"}},{"$nulls":4},{"$f":"[4]INDICECLIMAORGANIZACIONAL!J101","v":"*"},{"$f":"[4]INDICECLIMAORGANIZACIONAL!K101","v":"*"}]
[{"$f":"[4]INDICECLIMAORGANIZACIONAL!A102","v":0},null,{"$f":"[4]INDICECLIMAORGANIZACIONAL!C102","v":0},{"$f":"[4]INDICECLIMAORGANIZACIONAL!D102","v":0},{"$f":"[4]INDICECLIMAORGANIZACIONAL!E102","v":0},{"$f":"[4]INDICECLIMAORGANIZACIONAL!F102","v":0},{"$f":"[4]INDICECLIMAORGANIZACIONAL!G102","v":0},null,{"$f":"[4]INDICECLIMAORGANIZACIONAL!I102","v":0},{"$f":"[4]INDICECLIMAORGANIZACIONAL!J102","v":0},{"$f":"[4]INDICECLIMAORGANIZACIONAL!K102","v":0},{"$f":"[4]INDICECLIMAORGANIZACIONAL!L102","v":0},{"$f":"[4]INDICECLIMAORGANIZACIONAL!M102","v":0}]
[{"$f":"[4]INDICECLIMAORGANIZACIONAL!A103","v":"O RELACIONAMENTO COM OS COLEGAS DE TRABALHO FAVORECE A EXECUÇÃO DAS ATIVIDADES NA UNIDADE/SETOR?"},null,{"$f":"[4]INDICECLIMAORGANIZACIONAL!C103","v":"ITEM 13"},{"$f":"[4]INDICECLIMAORGANIZACIONAL!D103","v":2020},{"$nulls":4},{"$f":"[4]INDICECLIMAORGANIZACIONAL!I103","v":"ITEM 14"},{"$f":"[4]INDICECLIMAORGANIZACIONAL!J103","v":2017}]
[{"$nulls":3},{"$f":"[4]INDICECLIMAORGANIZACIONAL!D104","v":"TOTAL"},{"$f":"[4]INDICECLIMAORGANIZACIONAL!E104","v":"%"},{"$f":"[4]INDICECLIMAORGANIZACIONAL!F104","v":"RESULTADO"},{"$f":"[4]INDICECLIMAORGANIZACIONAL!G104","v":"ITEM AVALIADO POSITIVAMENTE?             (1 - SIM / 0 - NÃO)"},null,null,{"$f":"[4]INDICECLIMAORGANIZACIONAL!J104","v":"TOTAL"},{"$f":"[4]INDICECLIMAORGANIZACIONAL!K104","v":"%"},{"$f":"[4]INDICECLIMAORGANIZACIONAL!L104","v":"RESULTADO"},{"$f":"[4]INDICECLIMAORGANIZACIONAL!M104","v":"ITEM AVALIADO POSITIVAMENTE?             (1 - SIM / 0 - NÃO)"}]
[{"$f":"[4]INDICECLIMAORGANIZACIONAL!A105","v":"SIM"},null,null,{"$f":"[4]INDICECLIMAORGANIZACIONAL!D105","v":162},{"$f":"[4]INDICECLIMAORGANIZACIONAL!E105","v":{"v":0.84375,"d":"84.38%"}},{"$f":"[4]INDICECLIMAORGANIZACIONAL!F105","v":"DESEJÁVEL"},{"$f":"[4]INDICECLIMAORGANIZACIONAL!G105","v":1},null,null,{"$f":"[4]INDICECLIMAORGANIZACIONAL!J105","v":143},{"$f":"[4]INDICECLIMAORGANIZACIONAL!K105","v":{"v":0.7900552486187845,"d":"79.01%"}},{"$f":"[4]INDICECLIMAORGANIZACIONAL!L105","v":"SATISFATÓRIO"},{"$f":"[4]INDICECLIMAORGANIZACIONAL!M105","v":1}]
[{"$f":"[4]INDICECLIMAORGANIZACIONAL!A106","v":"PARCIAL"},null,null,{"$f":"[4]INDICECLIMAORGANIZACIONAL!D106","v":29},{"$f":"[4]INDICECLIMAORGANIZACIONAL!E106","v":{"v":0.15104166666666666,"d":"15.10%"}},{"$f":"[4]INDICECLIMAORGANIZACIONAL!F106","v":"SATISFATÓRIO"},{"$nulls":3},{"$f":"[4]INDICECLIMAORGANIZACIONAL!J106","v":35},{"$f":"[4]INDICECLIMAORGANIZACIONAL!K106","v":{"v":0.19337016574585636,"d":"19.34%"}},{"$f":"[4]INDICECLIMAORGANIZACIONAL!L106","v":"SATISFATÓRIO"}]
[{"$f":"[4]INDICECLIMAORGANIZACIONAL!A107","v":"NÃO"},null,null,{"$f":"[4]INDICECLIMAORGANIZACIONAL!D107","v":1},{"$f":"[4]INDICECLIMAORGANIZACIONAL!E107","v":{"v":5.208333333333333E-3,"d":"0.52%"}},{"$f":"[4]INDICECLIMAORGANIZACIONAL!F107","v":"DESEJÁVEL"},{"$nulls":3},{"$f":"[4]INDICECLIMAORGANIZACIONAL!J107","v":3},{"$f":"[4]INDICECLIMAORGANIZACIONAL!K107","v":{"v":0.016574585635359115,"d":"1.66%"}},{"$f":"[4]INDICECLIMAORGANIZACIONAL!L107","v":"DESEJÁVEL"}]
[{"$f":"[4]INDICECLIMAORGANIZACIONAL!A108","v":"TOTAL"},null,null,{"$f":"[4]INDICECLIMAORGANIZACIONAL!D108","v":192},{"$f":"[4]INDICECLIMAORGANIZACIONAL!E108","v":{"v":1,"d":"100.00%"}},{"$nulls":4},{"$f":"[4]INDICECLIMAORGANIZACIONAL!J108","v":181},{"$f":"[4]INDICECLIMAORGANIZACIONAL!K108","v":{"v":0.9999999999999999,"d":"100.00%"}}]
[]
[{"$f":"[4]INDICECLIMAORGANIZACIONAL!A110","v":"AS ATITUDES DOS MEUS COLEGAS DE TRABALHO SÃO ADEQUADAS E COMPATÍVEIS COM O AMBIENTE DE TRABALHO?"},null,{"$f":"[4]INDICECLIMAORGANIZACIONAL!C110","v":"ITEM 01"},{"$f":"[4]INDICECLIMAORGANIZACIONAL!D110","v":2020},{"$nulls":4},{"$f":"[4]INDICECLIMAORGANIZACIONAL!I110","v":"ITEM 15"},{"$f":"[4]INDICECLIMAORGANIZACIONAL!J110","v":2017}]
[{"$nulls":3},{"$f":"[4]INDICECLIMAORGANIZACIONAL!D111","v":"TOTAL"},{"$f":"[4]INDICECLIMAORGANIZACIONAL!E111","v":"%"},{"$f":"[4]INDICECLIMAORGANIZACIONAL!F111","v":"RESULTADO"},{"$f":"[4]INDICECLIMAORGANIZACIONAL!G111","v":"ITEM AVALIADO POSITIVAMENTE?             (1 - SIM / 0 - NÃO)"},null,null,{"$f":"[4]INDICECLIMAORGANIZACIONAL!J111","v":"TOTAL"},{"$f":"[4]INDICECLIMAORGANIZACIONAL!K111","v":"%"},{"$f":"[4]INDICECLIMAORGANIZACIONAL!L111","v":"RESULTADO"},{"$f":"[4]INDICECLIMAORGANIZACIONAL!M111","v":"ITEM AVALIADO POSITIVAMENTE?             (1 - SIM / 0 - NÃO)"}]
[{"$f":"[4]INDICECLIMAORGANIZACIONAL!A112","v":"SIM"},null,null,{"$f":"[4]INDICECLIMAORGANIZACIONAL!D112","v":147},{"$f":"[4]INDICECLIMAORGANIZACIONAL!E112","v":{"v":0.765625,"d":"76.56%"}},{"$f":"[4]INDICECLIMAORGANIZACIONAL!F112","v":"SATISFATÓRIO"},{"$f":"[4]INDICECLIMAORGANIZACIONAL!G112","v":1},null,null,{"$f":"[4]INDICECLIMAORGANIZACIONAL!J112","v":100},{"$f":"[4]INDICECLIMAORGANIZACIONAL!K112","v":{"v":0.5524861878453039,"d":"55.25%"}},{"$f":"[4]INDICECLIMAORGANIZACIONAL!L112","v":"SATISFATÓRIO"},{"$f":"[4]INDICECLIMAORGANIZACIONAL!M112","v":1}]
[{"$f":"[4]INDICECLIMAORGANIZACIONAL!A113","v":"PARCIAL"},null,null,{"$f":"[4]INDICECLIMAORGANIZACIONAL!D113","v":42},{"$f":"[4]INDICECLIMAORGANIZACIONAL!E113","v":{"v":0.21875,"d":"21.88%"}},{"$f":"[4]INDICECLIMAORGANIZACIONAL!F113","v":"SATISFATÓRIO"},{"$nulls":3},{"$f":"[4]INDICECLIMAORGANIZACIONAL!J113","v":72},{"$f":"[4]INDICECLIMAORGANIZACIONAL!K113","v":{"v":0.39779005524861877,"d":"39.78%"}},{"$f":"[4]INDICECLIMAORGANIZACIONAL!L113","v":"SATISFATÓRIO"}]
[{"$f":"[4]INDICECLIMAORGANIZACIONAL!A114","v":"NÃO"},null,null,{"$f":"[4]INDICECLIMAORGANIZACIONAL!D114","v":3},{"$f":"[4]INDICECLIMAORGANIZACIONAL!E114","v":{"v":0.015625,"d":"1.56%"}},{"$f":"[4]INDICECLIMAORGANIZACIONAL!F114","v":"DESEJÁVEL"},{"$nulls":3},{"$f":"[4]INDICECLIMAORGANIZACIONAL!J114","v":9},{"$f":"[4]INDICECLIMAORGANIZACIONAL!K114","v":{"v":0.049723756906077346,"d":"4.97%"}},{"$f":"[4]INDICECLIMAORGANIZACIONAL!L114","v":"DESEJÁVEL"}]
[{"$f":"[4]INDICECLIMAORGANIZACIONAL!A115","v":"TOTAL"},null,null,{"$f":"[4]INDICECLIMAORGANIZACIONAL!D115","v":192},{"$f":"[4]INDICECLIMAORGANIZACIONAL!E115","v":{"v":1,"d":"100.00%"}},{"$nulls":4},{"$f":"[4]INDICECLIMAORGANIZACIONAL!J115","v":181},{"$f":"[4]INDICECLIMAORGANIZACIONAL!K115","v":{"v":1,"d":"100.00%"}}]
[]
[{"$f":"[4]INDICECLIMAORGANIZACIONAL!A117","v":"CONSIDERO IMPORTANTE AS CAMPANHAS DE VACINAÇÃO, EXAMES PERIÓDICOS, ATENDIMENTOS MÉDICOS, ENFERMAGEM, PSICOLÓGICAS, ODONTOLÓGICAS MASSAGEM EXPRESSA E EVENTOS COMEMORATIVOS?"},null,{"$f":"[4]INDICECLIMAORGANIZACIONAL!C117","v":"ITEM 14"},{"$f":"[4]INDICECLIMAORGANIZACIONAL!D117","v":2020},{"$nulls":4},{"$f":"[4]INDICECLIMAORGANIZACIONAL!I117","v":"ITEM 16"},{"$f":"[4]INDICECLIMAORGANIZACIONAL!J117","v":2017}]
[{"$nulls":3},{"$f":"[4]INDICECLIMAORGANIZACIONAL!D118","v":"TOTAL"},{"$f":"[4]INDICECLIMAORGANIZACIONAL!E118","v":"%"},{"$f":"[4]INDICECLIMAORGANIZACIONAL!F118","v":"RESULTADO"},{"$f":"[4]INDICECLIMAORGANIZACIONAL!G118","v":"ITEM AVALIADO POSITIVAMENTE?             (1 - SIM / 0 - NÃO)"},null,null,{"$f":"[4]INDICECLIMAORGANIZACIONAL!J118","v":"TOTAL"},{"$f":"[4]INDICECLIMAORGANIZACIONAL!K118","v":"%"},{"$f":"[4]INDICECLIMAORGANIZACIONAL!L118","v":"RESULTADO"},{"$f":"[4]INDICECLIMAORGANIZACIONAL!M118","v":"ITEM AVALIADO POSITIVAMENTE?             (1 - SIM / 0 - NÃO)"}]
[{"$f":"[4]INDICECLIMAORGANIZACIONAL!A119","v":"SIM"},null,null,{"$f":"[4]INDICECLIMAORGANIZACIONAL!D119","v":185},{"$f":"[4]INDICECLIMAORGANIZACIONAL!E119","v":{"v":0.9635416666666666,"d":"96.35%"}},{"$f":"[4]INDICECLIMAORGANIZACIONAL!F119","v":"DESEJÁVEL"},{"$f":"[4]INDICECLIMAORGANIZACIONAL!G119","v":1},null,null,{"$f":"[4]INDICECLIMAORGANIZACIONAL!J119","v":169},{"$f":"[4]INDICECLIMAORGANIZACIONAL!K119","v":{"v":0.9388888888888889,"d":"93.89%"}},{"$f":"[4]INDICECLIMAORGANIZACIONAL!L119","v":"DESEJÁVEL"},{"$f":"[4]INDICECLIMAORGANIZACIONAL!M119","v":1}]
[{"$f":"[4]INDICECLIMAORGANIZACIONAL!A120","v":"PARCIAL"},null,null,{"$f":"[4]INDICECLIMAORGANIZACIONAL!D120","v":5},{"$f":"[4]INDICECLIMAORGANIZACIONAL!E120","v":{"v":0.026041666666666668,"d":"2.60%"}},{"$f":"[4]INDICECLIMAORGANIZACIONAL!F120","v":"SATISFATÓRIO"},{"$nulls":3},{"$f":"[4]INDICECLIMAORGANIZACIONAL!J120","v":10},{"$f":"[4]INDICECLIMAORGANIZACIONAL!K120","v":{"v":0.05555555555555555,"d":"5.56%"}},{"$f":"[4]INDICECLIMAORGANIZACIONAL!L120","v":"SATISFATÓRIO"}]
[{"$f":"[4]INDICECLIMAORGANIZACIONAL!A121","v":"NÃO"},null,null,{"$f":"[4]INDICECLIMAORGANIZACIONAL!D121","v":2},{"$f":"[4]INDICECLIMAORGANIZACIONAL!E121","v":{"v":0.010416666666666666,"d":"1.04%"}},{"$f":"[4]INDICECLIMAORGANIZACIONAL!F121","v":"DESEJÁVEL"},{"$nulls":3},{"$f":"[4]INDICECLIMAORGANIZACIONAL!J121","v":1},{"$f":"[4]INDICECLIMAORGANIZACIONAL!K121","v":{"v":0.005555555555555556,"d":"0.56%"}},{"$f":"[4]INDICECLIMAORGANIZACIONAL!L121","v":"DESEJÁVEL"}]
[{"$f":"[4]INDICECLIMAORGANIZACIONAL!A122","v":"TOTAL"},null,null,{"$f":"[4]INDICECLIMAORGANIZACIONAL!D122","v":192},{"$f":"[4]INDICECLIMAORGANIZACIONAL!E122","v":{"v":0.9999999999999999,"d":"100.00%"}},{"$nulls":4},{"$f":"[4]INDICECLIMAORGANIZACIONAL!J122","v":180},{"$f":"[4]INDICECLIMAORGANIZACIONAL!K122","v":{"v":1,"d":"100.00%"}}]
[]
[{"$f":"[4]INDICECLIMAORGANIZACIONAL!A124","v":"CONSIDERO IMPORTANTE A DISPONIBILIZAÇÃO DOS ESPAÇOS PARA SERVIÇOS DE RESTAURANTE, COSTUREIRA, SALÃO DE BELEZA, ASSOCIAÇÃO DOS SERVIDORES/EMPREGADOS DO MME, ACADEMIA, AULAS DE IOGA NO AMBIENTE DE TRABALHO?"},null,{"$f":"[4]INDICECLIMAORGANIZACIONAL!C124","v":"ITEM 15"},{"$f":"[4]INDICECLIMAORGANIZACIONAL!D124","v":2020},{"$nulls":4},{"$f":"[4]INDICECLIMAORGANIZACIONAL!I124","v":"ITEM 17"},{"$f":"[4]INDICECLIMAORGANIZACIONAL!J124","v":2017}]
[{"$nulls":3},{"$f":"[4]INDICECLIMAORGANIZACIONAL!D125","v":"TOTAL"},{"$f":"[4]INDICECLIMAORGANIZACIONAL!E125","v":"%"},{"$f":"[4]INDICECLIMAORGANIZACIONAL!F125","v":"RESULTADO"},{"$f":"[4]INDICECLIMAORGANIZACIONAL!G125","v":"ITEM AVALIADO POSITIVAMENTE?             (1 - SIM / 0 - NÃO)"},null,null,{"$f":"[4]INDICECLIMAORGANIZACIONAL!J125","v":"TOTAL"},{"$f":"[4]INDICECLIMAORGANIZACIONAL!K125","v":"%"},{"$f":"[4]INDICECLIMAORGANIZACIONAL!L125","v":"RESULTADO"},{"$f":"[4]INDICECLIMAORGANIZACIONAL!M125","v":"ITEM AVALIADO POSITIVAMENTE?             (1 - SIM / 0 - NÃO)"}]
[{"$f":"[4]INDICECLIMAORGANIZACIONAL!A126","v":"SIM"},null,null,{"$f":"[4]INDICECLIMAORGANIZACIONAL!D126","v":173},{"$f":"[4]INDICECLIMAORGANIZACIONAL!E126","v":{"v":0.9010416666666666,"d":"90.10%"}},{"$f":"[4]INDICECLIMAORGANIZACIONAL!F126","v":"DESEJÁVEL"},{"$f":"[4]INDICECLIMAORGANIZACIONAL!G126","v":1},null,null,{"$f":"[4]INDICECLIMAORGANIZACIONAL!J126","v":153},{"$f":"[4]INDICECLIMAORGANIZACIONAL!K126","v":{"v":0.85,"d":"85.00%"}},{"$f":"[4]INDICECLIMAORGANIZACIONAL!L126","v":"DESEJÁVEL"},{"$f":"[4]INDICECLIMAORGANIZACIONAL!M126","v":1}]
[{"$f":"[4]INDICECLIMAORGANIZACIONAL!A127","v":"PARCIAL"},null,null,{"$f":"[4]INDICECLIMAORGANIZACIONAL!D127","v":16},{"$f":"[4]INDICECLIMAORGANIZACIONAL!E127","v":{"v":0.08333333333333333,"d":"8.33%"}},{"$f":"[4]INDICECLIMAORGANIZACIONAL!F127","v":"SATISFATÓRIO"},{"$nulls":3},{"$f":"[4]INDICECLIMAORGANIZACIONAL!J127","v":25},{"$f":"[4]INDICECLIMAORGANIZACIONAL!K127","v":{"v":0.1388888888888889,"d":"13.89%"}},{"$f":"[4]INDICECLIMAORGANIZACIONAL!L127","v":"SATISFATÓRIO"}]
[{"$f":"[4]INDICECLIMAORGANIZACIONAL!A128","v":"NÃO"},null,null,{"$f":"[4]INDICECLIMAORGANIZACIONAL!D128","v":3},{"$f":"[4]INDICECLIMAORGANIZACIONAL!E128","v":{"v":0.015625,"d":"1.56%"}},{"$f":"[4]INDICECLIMAORGANIZACIONAL!F128","v":"DESEJÁVEL"},{"$nulls":3},{"$f":"[4]INDICECLIMAORGANIZACIONAL!J128","v":2},{"$f":"[4]INDICECLIMAORGANIZACIONAL!K128","v":{"v":0.011111111111111112,"d":"1.11%"}},{"$f":"[4]INDICECLIMAORGANIZACIONAL!L128","v":"DESEJÁVEL"}]
[{"$f":"[4]INDICECLIMAORGANIZACIONAL!A129","v":"TOTAL"},null,null,{"$f":"[4]INDICECLIMAORGANIZACIONAL!D129","v":192},{"$f":"[4]INDICECLIMAORGANIZACIONAL!E129","v":{"v":1,"d":"100.00%"}},{"$nulls":4},{"$f":"[4]INDICECLIMAORGANIZACIONAL!J129","v":180},{"$f":"[4]INDICECLIMAORGANIZACIONAL!K129","v":{"v":1,"d":"100.00%"}}]
[]
[{"$f":"[4]INDICECLIMAORGANIZACIONAL!A131","v":"CONSIDERO IMPORTANTE ATIVIDADES DE TREINAMENTO NO AMBIENTE DE TRABALHO - CENTRO DE CAPACITAÇÃO DO MME?"},null,{"$f":"[4]INDICECLIMAORGANIZACIONAL!C131","v":"ITEM 16"},{"$f":"[4]INDICECLIMAORGANIZACIONAL!D131","v":2020},{"$nulls":4},{"$f":"[4]INDICECLIMAORGANIZACIONAL!I131","v":"ITEM 18"},{"$f":"[4]INDICECLIMAORGANIZACIONAL!J131","v":2017}]
[{"$nulls":3},{"$f":"[4]INDICECLIMAORGANIZACIONAL!D132","v":"TOTAL"},{"$f":"[4]INDICECLIMAORGANIZACIONAL!E132","v":"%"},{"$f":"[4]INDICECLIMAORGANIZACIONAL!F132","v":"RESULTADO"},{"$f":"[4]INDICECLIMAORGANIZACIONAL!G132","v":"ITEM AVALIADO POSITIVAMENTE?             (1 - SIM / 0 - NÃO)"},null,null,{"$f":"[4]INDICECLIMAORGANIZACIONAL!J132","v":"TOTAL"},{"$f":"[4]INDICECLIMAORGANIZACIONAL!K132","v":"%"},{"$f":"[4]INDICECLIMAORGANIZACIONAL!L132","v":"RESULTADO"},{"$f":"[4]INDICECLIMAORGANIZACIONAL!M132","v":"ITEM AVALIADO POSITIVAMENTE?             (1 - SIM / 0 - NÃO)"}]
[{"$f":"[4]INDICECLIMAORGANIZACIONAL!A133","v":"SIM"},null,null,{"$f":"[4]INDICECLIMAORGANIZACIONAL!D133","v":185},{"$f":"[4]INDICECLIMAORGANIZACIONAL!E133","v":{"v":0.9635416666666666,"d":"96.35%"}},{"$f":"[4]INDICECLIMAORGANIZACIONAL!F133","v":"DESEJÁVEL"},{"$f":"[4]INDICECLIMAORGANIZACIONAL!G133","v":1},null,null,{"$f":"[4]INDICECLIMAORGANIZACIONAL!J133","v":163},{"$f":"[4]INDICECLIMAORGANIZACIONAL!K133","v":{"v":0.9055555555555556,"d":"90.56%"}},{"$f":"[4]INDICECLIMAORGANIZACIONAL!L133","v":"DESEJÁVEL"},{"$f":"[4]INDICECLIMAORGANIZACIONAL!M133","v":1}]
[{"$f":"[4]INDICECLIMAORGANIZACIONAL!A134","v":"PARCIAL"},null,null,{"$f":"[4]INDICECLIMAORGANIZACIONAL!D134","v":7},{"$f":"[4]INDICECLIMAORGANIZACIONAL!E134","v":{"v":0.036458333333333336,"d":"3.65%"}},{"$f":"[4]INDICECLIMAORGANIZACIONAL!F134","v":"SATISFATÓRIO"},{"$nulls":3},{"$f":"[4]INDICECLIMAORGANIZACIONAL!J134","v":14},{"$f":"[4]INDICECLIMAORGANIZACIONAL!K134","v":{"v":0.07777777777777778,"d":"7.78%"}},{"$f":"[4]INDICECLIMAORGANIZACIONAL!L134","v":"SATISFATÓRIO"}]
[{"$f":"[4]INDICECLIMAORGANIZACIONAL!A135","v":"NÃO"},null,null,{"$f":"[4]INDICECLIMAORGANIZACIONAL!D135","v":0},{"$f":"[4]INDICECLIMAORGANIZACIONAL!E135","v":{"v":0,"d":"0.00%"}},{"$f":"[4]INDICECLIMAORGANIZACIONAL!F135","v":"DESEJÁVEL"},{"$nulls":3},{"$f":"[4]INDICECLIMAORGANIZACIONAL!J135","v":3},{"$f":"[4]INDICECLIMAORGANIZACIONAL!K135","v":{"v":0.016666666666666666,"d":"1.67%"}},{"$f":"[4]INDICECLIMAORGANIZACIONAL!L135","v":"DESEJÁVEL"}]
[{"$f":"[4]INDICECLIMAORGANIZACIONAL!A136","v":"TOTAL"},null,null,{"$f":"[4]INDICECLIMAORGANIZACIONAL!D136","v":192},{"$f":"[4]INDICECLIMAORGANIZACIONAL!E136","v":{"v":1,"d":"100.00%"}},{"$f":"[4]INDICECLIMAORGANIZACIONAL!F136","v":{"v":0,"d":"0.00%"}},{"$f":"[4]INDICECLIMAORGANIZACIONAL!G136","v":{"v":0,"d":"0.00%"}},null,null,{"$f":"[4]INDICECLIMAORGANIZACIONAL!J136","v":180},{"$f":"[4]INDICECLIMAORGANIZACIONAL!K136","v":{"v":1,"d":"100.00%"}},{"$f":"[4]INDICECLIMAORGANIZACIONAL!L136","v":{"v":0,"d":"0.00%"}},{"$f":"[4]INDICECLIMAORGANIZACIONAL!M136","v":{"v":0,"d":"0.00%"}}]
[{"$f":"[4]INDICECLIMAORGANIZACIONAL!A137","v":0},null,{"$f":"[4]INDICECLIMAORGANIZACIONAL!C137","v":0},{"$f":"[4]INDICECLIMAORGANIZACIONAL!D137","v":0},{"$f":"[4]INDICECLIMAORGANIZACIONAL!E137","v":0},{"$f":"[4]INDICECLIMAORGANIZACIONAL!F137","v":0},{"$f":"[4]INDICECLIMAORGANIZACIONAL!G137","v":0},null,{"$f":"[4]INDICECLIMAORGANIZACIONAL!I137","v":0},{"$f":"[4]INDICECLIMAORGANIZACIONAL!J137","v":0},{"$f":"[4]INDICECLIMAORGANIZACIONAL!K137","v":0},{"$f":"[4]INDICECLIMAORGANIZACIONAL!L137","v":0},{"$f":"[4]INDICECLIMAORGANIZACIONAL!M137","v":0}]
[{"$f":"[4]INDICECLIMAORGANIZACIONAL!A138","v":"VOCÊ CONTRIBUI PARA REDUZIR A IMPRESSÃO OU CÓPIA DE DOCUMENTOS?"},null,{"$f":"[4]INDICECLIMAORGANIZACIONAL!C138","v":"ITEM 17"},{"$f":"[4]INDICECLIMAORGANIZACIONAL!D138","v":2020},{"$nulls":4},{"$f":"[4]INDICECLIMAORGANIZACIONAL!I138","v":"ITEM 19"},{"$f":"[4]INDICECLIMAORGANIZACIONAL!J138","v":2017}]
[{"$nulls":3},{"$f":"[4]INDICECLIMAORGANIZACIONAL!D139","v":"TOTAL"},{"$f":"[4]INDICECLIMAORGANIZACIONAL!E139","v":"%"},{"$f":"[4]INDICECLIMAORGANIZACIONAL!F139","v":"RESULTADO"},{"$f":"[4]INDICECLIMAORGANIZACIONAL!G139","v":"ITEM AVALIADO POSITIVAMENTE?             (1 - SIM / 0 - NÃO)"},null,null,{"$f":"[4]INDICECLIMAORGANIZACIONAL!J139","v":"TOTAL"},{"$f":"[4]INDICECLIMAORGANIZACIONAL!K139","v":"%"},{"$f":"[4]INDICECLIMAORGANIZACIONAL!L139","v":"RESULTADO"},{"$f":"[4]INDICECLIMAORGANIZACIONAL!M139","v":"ITEM AVALIADO POSITIVAMENTE?             (1 - SIM / 0 - NÃO)"}]
[{"$f":"[4]INDICECLIMAORGANIZACIONAL!A140","v":"SIM"},null,null,{"$f":"[4]INDICECLIMAORGANIZACIONAL!D140","v":181},{"$f":"[4]INDICECLIMAORGANIZACIONAL!E140","v":{"v":0.9427083333333334,"d":"94.27%"}},{"$f":"[4]INDICECLIMAORGANIZACIONAL!F140","v":"DESEJÁVEL"},{"$f":"[4]INDICECLIMAORGANIZACIONAL!G140","v":1},null,null,{"$f":"[4]INDICECLIMAORGANIZACIONAL!J140","v":157},{"$f":"[4]INDICECLIMAORGANIZACIONAL!K140","v":{"v":0.8722222222222222,"d":"87.22%"}},{"$f":"[4]INDICECLIMAORGANIZACIONAL!L140","v":"DESEJÁVEL"},{"$f":"[4]INDICECLIMAORGANIZACIONAL!M140","v":1}]
[{"$f":"[4]INDICECLIMAORGANIZACIONAL!A141","v":"PARCIAL"},null,null,{"$f":"[4]INDICECLIMAORGANIZACIONAL!D141","v":10},{"$f":"[4]INDICECLIMAORGANIZACIONAL!E141","v":{"v":0.052083333333333336,"d":"5.21%"}},{"$f":"[4]INDICECLIMAORGANIZACIONAL!F141","v":"SATISFATÓRIO"},{"$nulls":3},{"$f":"[4]INDICECLIMAORGANIZACIONAL!J141","v":21},{"$f":"[4]INDICECLIMAORGANIZACIONAL!K141","v":{"v":0.11666666666666667,"d":"11.67%"}},{"$f":"[4]INDICECLIMAORGANIZACIONAL!L141","v":"SATISFATÓRIO"}]
[{"$f":"[4]INDICECLIMAORGANIZACIONAL!A142","v":"NÃO"},null,null,{"$f":"[4]INDICECLIMAORGANIZACIONAL!D142","v":1},{"$f":"[4]INDICECLIMAORGANIZACIONAL!E142","v":{"v":5.208333333333333E-3,"d":"0.52%"}},{"$f":"[4]INDICECLIMAORGANIZACIONAL!F142","v":"DESEJÁVEL"},{"$nulls":3},{"$f":"[4]INDICECLIMAORGANIZACIONAL!J142","v":2},{"$f":"[4]INDICECLIMAORGANIZACIONAL!K142","v":{"v":0.011111111111111112,"d":"1.11%"}},{"$f":"[4]INDICECLIMAORGANIZACIONAL!L142","v":"DESEJÁVEL"}]
[{"$f":"[4]INDICECLIMAORGANIZACIONAL!A143","v":"TOTAL"},null,null,{"$f":"[4]INDICECLIMAORGANIZACIONAL!D143","v":192},{"$f":"[4]INDICECLIMAORGANIZACIONAL!E143","v":{"v":1,"d":"100.00%"}},{"$nulls":4},{"$f":"[4]INDICECLIMAORGANIZACIONAL!J143","v":180},{"$f":"[4]INDICECLIMAORGANIZACIONAL!K143","v":{"v":1,"d":"100.00%"}}]
[]
[{"$f":"[4]INDICECLIMAORGANIZACIONAL!A145","v":"VOCÊ CONTRIBUI PARA A ECONCOMIA E REAPROVEITAMENTO DO CONSUMO DE ÁGUA E ENERGIA?"},null,{"$f":"[4]INDICECLIMAORGANIZACIONAL!C145","v":"ITEM 18"},{"$f":"[4]INDICECLIMAORGANIZACIONAL!D145","v":2020},{"$nulls":4},{"$f":"[4]INDICECLIMAORGANIZACIONAL!I145","v":"ITEM 20"},{"$f":"[4]INDICECLIMAORGANIZACIONAL!J145","v":2017}]
[{"$nulls":3},{"$f":"[4]INDICECLIMAORGANIZACIONAL!D146","v":"TOTAL"},{"$f":"[4]INDICECLIMAORGANIZACIONAL!E146","v":"%"},{"$f":"[4]INDICECLIMAORGANIZACIONAL!F146","v":"RESULTADO"},{"$f":"[4]INDICECLIMAORGANIZACIONAL!G146","v":"ITEM AVALIADO POSITIVAMENTE?             (1 - SIM / 0 - NÃO)"},null,null,{"$f":"[4]INDICECLIMAORGANIZACIONAL!J146","v":"TOTAL"},{"$f":"[4]INDICECLIMAORGANIZACIONAL!K146","v":"%"},{"$f":"[4]INDICECLIMAORGANIZACIONAL!L146","v":"RESULTADO"},{"$f":"[4]INDICECLIMAORGANIZACIONAL!M146","v":"ITEM AVALIADO POSITIVAMENTE?             (1 - SIM / 0 - NÃO)"}]
[{"$f":"[4]INDICECLIMAORGANIZACIONAL!A147","v":"SIM"},null,null,{"$f":"[4]INDICECLIMAORGANIZACIONAL!D147","v":184},{"$f":"[4]INDICECLIMAORGANIZACIONAL!E147","v":{"v":0.9583333333333334,"d":"95.83%"}},{"$f":"[4]INDICECLIMAORGANIZACIONAL!F147","v":"DESEJÁVEL"},{"$f":"[4]INDICECLIMAORGANIZACIONAL!G147","v":1},null,null,{"$f":"[4]INDICECLIMAORGANIZACIONAL!J147","v":160},{"$f":"[4]INDICECLIMAORGANIZACIONAL!K147","v":{"v":0.8888888888888888,"d":"88.89%"}},{"$f":"[4]INDICECLIMAORGANIZACIONAL!L147","v":"DESEJÁVEL"},{"$f":"[4]INDICECLIMAORGANIZACIONAL!M147","v":1}]
[{"$f":"[4]INDICECLIMAORGANIZACIONAL!A148","v":"PARCIAL"},null,null,{"$f":"[4]INDICECLIMAORGANIZACIONAL!D148","v":8},{"$f":"[4]INDICECLIMAORGANIZACIONAL!E148","v":{"v":0.041666666666666664,"d":"4.17%"}},{"$f":"[4]INDICECLIMAORGANIZACIONAL!F148","v":"SATISFATÓRIO"},{"$nulls":3},{"$f":"[4]INDICECLIMAORGANIZACIONAL!J148","v":16},{"$f":"[4]INDICECLIMAORGANIZACIONAL!K148","v":{"v":0.08888888888888889,"d":"8.89%"}},{"$f":"[4]INDICECLIMAORGANIZACIONAL!L148","v":"SATISFATÓRIO"}]
[{"$f":"[4]INDICECLIMAORGANIZACIONAL!A149","v":"NÃO"},null,null,{"$f":"[4]INDICECLIMAORGANIZACIONAL!D149","v":0},{"$f":"[4]INDICECLIMAORGANIZACIONAL!E149","v":{"v":0,"d":"0.00%"}},{"$f":"[4]INDICECLIMAORGANIZACIONAL!F149","v":"DESEJÁVEL"},{"$nulls":3},{"$f":"[4]INDICECLIMAORGANIZACIONAL!J149","v":4},{"$f":"[4]INDICECLIMAORGANIZACIONAL!K149","v":{"v":0.022222222222222223,"d":"2.22%"}},{"$f":"[4]INDICECLIMAORGANIZACIONAL!L149","v":"DESEJÁVEL"}]
[{"$f":"[4]INDICECLIMAORGANIZACIONAL!A150","v":"TOTAL"},null,null,{"$f":"[4]INDICECLIMAORGANIZACIONAL!D150","v":192},{"$f":"[4]INDICECLIMAORGANIZACIONAL!E150","v":{"v":1,"d":"100.00%"}},{"$nulls":4},{"$f":"[4]INDICECLIMAORGANIZACIONAL!J150","v":180},{"$f":"[4]INDICECLIMAORGANIZACIONAL!K150","v":{"v":1,"d":"100.00%"}}]
[]
[{"$f":"[4]INDICECLIMAORGANIZACIONAL!A152","v":"VOCÊ CONTRIBUI PARA A COLETA SELETIVA DO LIXO?"},null,{"$f":"[4]INDICECLIMAORGANIZACIONAL!C152","v":"ITEM 19"},{"$f":"[4]INDICECLIMAORGANIZACIONAL!D152","v":2020},{"$nulls":4},{"$f":"[4]INDICECLIMAORGANIZACIONAL!I152","v":"ITEM 21"},{"$f":"[4]INDICECLIMAORGANIZACIONAL!J152","v":2017}]
[{"$nulls":3},{"$f":"[4]INDICECLIMAORGANIZACIONAL!D153","v":"TOTAL"},{"$f":"[4]INDICECLIMAORGANIZACIONAL!E153","v":"%"},{"$f":"[4]INDICECLIMAORGANIZACIONAL!F153","v":"RESULTADO"},{"$f":"[4]INDICECLIMAORGANIZACIONAL!G153","v":"ITEM AVALIADO POSITIVAMENTE?             (1 - SIM / 0 - NÃO)"},null,null,{"$f":"[4]INDICECLIMAORGANIZACIONAL!J153","v":"TOTAL"},{"$f":"[4]INDICECLIMAORGANIZACIONAL!K153","v":"%"},{"$f":"[4]INDICECLIMAORGANIZACIONAL!L153","v":"RESULTADO"},{"$f":"[4]INDICECLIMAORGANIZACIONAL!M153","v":"ITEM AVALIADO POSITIVAMENTE?             (1 - SIM / 0 - NÃO)"}]
[{"$f":"[4]INDICECLIMAORGANIZACIONAL!A154","v":"SIM"},null,null,{"$f":"[4]INDICECLIMAORGANIZACIONAL!D154","v":171},{"$f":"[4]INDICECLIMAORGANIZACIONAL!E154","v":{"v":0.890625,"d":"89.06%"}},{"$f":"[4]INDICECLIMAORGANIZACIONAL!F154","v":"DESEJÁVEL"},{"$f":"[4]INDICECLIMAORGANIZACIONAL!G154","v":1},null,null,{"$f":"[4]INDICECLIMAORGANIZACIONAL!J154","v":139},{"$f":"[4]INDICECLIMAORGANIZACIONAL!K154","v":{"v":0.7722222222222223,"d":"77.22%"}},{"$f":"[4]INDICECLIMAORGANIZACIONAL!L154","v":"SATISFATÓRIO"},{"$f":"[4]INDICECLIMAORGANIZACIONAL!M154","v":1}]
[{"$f":"[4]INDICECLIMAORGANIZACIONAL!A155","v":"PARCIAL"},null,null,{"$f":"[4]INDICECLIMAORGANIZACIONAL!D155","v":21},{"$f":"[4]INDICECLIMAORGANIZACIONAL!E155","v":{"v":0.109375,"d":"10.94%"}},{"$f":"[4]INDICECLIMAORGANIZACIONAL!F155","v":"SATISFATÓRIO"},{"$nulls":3},{"$f":"[4]INDICECLIMAORGANIZACIONAL!J155","v":34},{"$f":"[4]INDICECLIMAORGANIZACIONAL!K155","v":{"v":0.18888888888888888,"d":"18.89%"}},{"$f":"[4]INDICECLIMAORGANIZACIONAL!L155","v":"SATISFATÓRIO"}]
[{"$f":"[4]INDICECLIMAORGANIZACIONAL!A156","v":"NÃO"},null,null,{"$f":"[4]INDICECLIMAORGANIZACIONAL!D156","v":0},{"$f":"[4]INDICECLIMAORGANIZACIONAL!E156","v":{"v":0,"d":"0.00%"}},{"$f":"[4]INDICECLIMAORGANIZACIONAL!F156","v":"DESEJÁVEL"},{"$nulls":3},{"$f":"[4]INDICECLIMAORGANIZACIONAL!J156","v":7},{"$f":"[4]INDICECLIMAORGANIZACIONAL!K156","v":{"v":0.03888888888888889,"d":"3.89%"}},{"$f":"[4]INDICECLIMAORGANIZACIONAL!L156","v":"DESEJÁVEL"}]
[{"$f":"[4]INDICECLIMAORGANIZACIONAL!A157","v":"TOTAL"},null,null,{"$f":"[4]INDICECLIMAORGANIZACIONAL!D157","v":192},{"$f":"[4]INDICECLIMAORGANIZACIONAL!E157","v":{"v":1,"d":"100.00%"}},{"$nulls":4},{"$f":"[4]INDICECLIMAORGANIZACIONAL!J157","v":180},{"$f":"[4]INDICECLIMAORGANIZACIONAL!K157","v":{"v":1,"d":"100.00%"}}]
[]
[{"$f":"[4]INDICECLIMAORGANIZACIONAL!A159","v":"AS INFORMAÇÕES SÃO BEM DIVULGADAS NO ÂMBITO DO MME?"},null,{"$f":"[4]INDICECLIMAORGANIZACIONAL!C159","v":"ITEM 20"},{"$f":"[4]INDICECLIMAORGANIZACIONAL!D159","v":2020},{"$nulls":4},{"$f":"[4]INDICECLIMAORGANIZACIONAL!I159","v":"ITEM 22"},{"$f":"[4]INDICECLIMAORGANIZACIONAL!J159","v":2017}]
[{"$nulls":3},{"$f":"[4]INDICECLIMAORGANIZACIONAL!D160","v":"TOTAL"},{"$f":"[4]INDICECLIMAORGANIZACIONAL!E160","v":"%"},{"$f":"[4]INDICECLIMAORGANIZACIONAL!F160","v":"RESULTADO"},{"$f":"[4]INDICECLIMAORGANIZACIONAL!G160","v":"ITEM AVALIADO POSITIVAMENTE?             (1 - SIM / 0 - NÃO)"},null,null,{"$f":"[4]INDICECLIMAORGANIZACIONAL!J160","v":"TOTAL"},{"$f":"[4]INDICECLIMAORGANIZACIONAL!K160","v":"%"},{"$f":"[4]INDICECLIMAORGANIZACIONAL!L160","v":"RESULTADO"},{"$f":"[4]INDICECLIMAORGANIZACIONAL!M160","v":"ITEM AVALIADO POSITIVAMENTE?             (1 - SIM / 0 - NÃO)"}]
[{"$f":"[4]INDICECLIMAORGANIZACIONAL!A161","v":"SIM"},null,null,{"$f":"[4]INDICECLIMAORGANIZACIONAL!D161","v":103},{"$f":"[4]INDICECLIMAORGANIZACIONAL!E161","v":{"v":0.5364583333333334,"d":"53.65%"}},{"$f":"[4]INDICECLIMAORGANIZACIONAL!F161","v":"SATISFATÓRIO"},{"$f":"[4]INDICECLIMAORGANIZACIONAL!G161","v":1},null,null,{"$f":"[4]INDICECLIMAORGANIZACIONAL!J161","v":63},{"$f":"[4]INDICECLIMAORGANIZACIONAL!K161","v":{"v":0.35,"d":"35.00%"}},{"$f":"[4]INDICECLIMAORGANIZACIONAL!L161","v":"INSATISFATÓRIO"},{"$f":"[4]INDICECLIMAORGANIZACIONAL!M161","v":0}]
[{"$f":"[4]INDICECLIMAORGANIZACIONAL!A162","v":"PARCIAL"},null,null,{"$f":"[4]INDICECLIMAORGANIZACIONAL!D162","v":73},{"$f":"[4]INDICECLIMAORGANIZACIONAL!E162","v":{"v":0.3802083333333333,"d":"38.02%"}},{"$f":"[4]INDICECLIMAORGANIZACIONAL!F162","v":"SATISFATÓRIO"},{"$nulls":3},{"$f":"[4]INDICECLIMAORGANIZACIONAL!J162","v":82},{"$f":"[4]INDICECLIMAORGANIZACIONAL!K162","v":{"v":0.45555555555555555,"d":"45.56%"}},{"$f":"[4]INDICECLIMAORGANIZACIONAL!L162","v":"SATISFATÓRIO"}]
[{"$f":"[4]INDICECLIMAORGANIZACIONAL!A163","v":"NÃO"},null,null,{"$f":"[4]INDICECLIMAORGANIZACIONAL!D163","v":16},{"$f":"[4]INDICECLIMAORGANIZACIONAL!E163","v":{"v":0.08333333333333333,"d":"8.33%"}},{"$f":"[4]INDICECLIMAORGANIZACIONAL!F163","v":"SATISFATÓRIO"},{"$nulls":3},{"$f":"[4]INDICECLIMAORGANIZACIONAL!J163","v":35},{"$f":"[4]INDICECLIMAORGANIZACIONAL!K163","v":{"v":0.19444444444444445,"d":"19.44%"}},{"$f":"[4]INDICECLIMAORGANIZACIONAL!L163","v":"INSATISFATÓRIO"}]
[{"$f":"[4]INDICECLIMAORGANIZACIONAL!A164","v":"TOTAL"},null,null,{"$f":"[4]INDICECLIMAORGANIZACIONAL!D164","v":192},{"$f":"[4]INDICECLIMAORGANIZACIONAL!E164","v":{"v":1,"d":"100.00%"}},{"$nulls":4},{"$f":"[4]INDICECLIMAORGANIZACIONAL!J164","v":180},{"$f":"[4]INDICECLIMAORGANIZACIONAL!K164","v":{"v":1,"d":"100.00%"}}]
[]
[{"$f":"[4]INDICECLIMAORGANIZACIONAL!A166","v":"A COMUNICAÇÃO ENTRE AS UNIDADES DO MME FACILITA O DESENVOLVIMENTO DO TRABALHO?"},null,{"$f":"[4]INDICECLIMAORGANIZACIONAL!C166","v":"ITEM 21"},{"$f":"[4]INDICECLIMAORGANIZACIONAL!D166","v":2020},{"$nulls":4},{"$f":"[4]INDICECLIMAORGANIZACIONAL!I166","v":"ITEM 23"},{"$f":"[4]INDICECLIMAORGANIZACIONAL!J166","v":2017}]
[{"$nulls":3},{"$f":"[4]INDICECLIMAORGANIZACIONAL!D167","v":"TOTAL"},{"$f":"[4]INDICECLIMAORGANIZACIONAL!E167","v":"%"},{"$f":"[4]INDICECLIMAORGANIZACIONAL!F167","v":"RESULTADO"},{"$f":"[4]INDICECLIMAORGANIZACIONAL!G167","v":"ITEM AVALIADO POSITIVAMENTE?             (1 - SIM / 0 - NÃO)"},null,null,{"$f":"[4]INDICECLIMAORGANIZACIONAL!J167","v":"TOTAL"},{"$f":"[4]INDICECLIMAORGANIZACIONAL!K167","v":"%"},{"$f":"[4]INDICECLIMAORGANIZACIONAL!L167","v":"RESULTADO"},{"$f":"[4]INDICECLIMAORGANIZACIONAL!M167","v":"ITEM AVALIADO POSITIVAMENTE?             (1 - SIM / 0 - NÃO)"}]
[{"$f":"[4]INDICECLIMAORGANIZACIONAL!A168","v":"SIM"},null,null,{"$f":"[4]INDICECLIMAORGANIZACIONAL!D168","v":111},{"$f":"[4]INDICECLIMAORGANIZACIONAL!E168","v":{"v":0.578125,"d":"57.81%"}},{"$f":"[4]INDICECLIMAORGANIZACIONAL!F168","v":"SATISFATÓRIO"},{"$f":"[4]INDICECLIMAORGANIZACIONAL!G168","v":1},null,null,{"$f":"[4]INDICECLIMAORGANIZACIONAL!J168","v":64},{"$f":"[4]INDICECLIMAORGANIZACIONAL!K168","v":{"v":0.35555555555555557,"d":"35.56%"}},{"$f":"[4]INDICECLIMAORGANIZACIONAL!L168","v":"INSATISFATÓRIO"},{"$f":"[4]INDICECLIMAORGANIZACIONAL!M168","v":0}]
[{"$f":"[4]INDICECLIMAORGANIZACIONAL!A169","v":"PARCIAL"},null,null,{"$f":"[4]INDICECLIMAORGANIZACIONAL!D169","v":63},{"$f":"[4]INDICECLIMAORGANIZACIONAL!E169","v":{"v":0.328125,"d":"32.81%"}},{"$f":"[4]INDICECLIMAORGANIZACIONAL!F169","v":"SATISFATÓRIO"},{"$nulls":3},{"$f":"[4]INDICECLIMAORGANIZACIONAL!J169","v":70},{"$f":"[4]INDICECLIMAORGANIZACIONAL!K169","v":{"v":0.3888888888888889,"d":"38.89%"}},{"$f":"[4]INDICECLIMAORGANIZACIONAL!L169","v":"SATISFATÓRIO"}]
[{"$f":"[4]INDICECLIMAORGANIZACIONAL!A170","v":"NÃO"},null,null,{"$f":"[4]INDICECLIMAORGANIZACIONAL!D170","v":18},{"$f":"[4]INDICECLIMAORGANIZACIONAL!E170","v":{"v":0.09375,"d":"9.38%"}},{"$f":"[4]INDICECLIMAORGANIZACIONAL!F170","v":"SATISFATÓRIO"},{"$nulls":3},{"$f":"[4]INDICECLIMAORGANIZACIONAL!J170","v":46},{"$f":"[4]INDICECLIMAORGANIZACIONAL!K170","v":{"v":0.25555555555555554,"d":"25.56%"}},{"$f":"[4]INDICECLIMAORGANIZACIONAL!L170","v":"INSATISFATÓRIO"}]
[{"$f":"[4]INDICECLIMAORGANIZACIONAL!A171","v":"TOTAL"},null,null,{"$f":"[4]INDICECLIMAORGANIZACIONAL!D171","v":192},{"$f":"[4]INDICECLIMAORGANIZACIONAL!E171","v":{"v":1,"d":"100.00%"}},{"$nulls":4},{"$f":"[4]INDICECLIMAORGANIZACIONAL!J171","v":180},{"$f":"[4]INDICECLIMAORGANIZACIONAL!K171","v":{"v":1,"d":"100.00%"}}]
[]
[{"$f":"[4]INDICECLIMAORGANIZACIONAL!A173","v":"AS NORMAS E DIRETRIZES ADOTADAS PELO MME FACILITAM A EXECUÇÃO DAS MINHAS ATIVIDADES?"},null,{"$f":"[4]INDICECLIMAORGANIZACIONAL!C173","v":"ITEM 22"},{"$f":"[4]INDICECLIMAORGANIZACIONAL!D173","v":2020},{"$nulls":4},{"$f":"[4]INDICECLIMAORGANIZACIONAL!I173","v":"ITEM 24"},{"$f":"[4]INDICECLIMAORGANIZACIONAL!J173","v":2017}]
[{"$nulls":3},{"$f":"[4]INDICECLIMAORGANIZACIONAL!D174","v":"TOTAL"},{"$f":"[4]INDICECLIMAORGANIZACIONAL!E174","v":"%"},{"$f":"[4]INDICECLIMAORGANIZACIONAL!F174","v":"RESULTADO"},{"$f":"[4]INDICECLIMAORGANIZACIONAL!G174","v":"ITEM AVALIADO POSITIVAMENTE?             (1 - SIM / 0 - NÃO)"},null,null,{"$f":"[4]INDICECLIMAORGANIZACIONAL!J174","v":"TOTAL"},{"$f":"[4]INDICECLIMAORGANIZACIONAL!K174","v":"%"},{"$f":"[4]INDICECLIMAORGANIZACIONAL!L174","v":"RESULTADO"},{"$f":"[4]INDICECLIMAORGANIZACIONAL!M174","v":"ITEM AVALIADO POSITIVAMENTE?             (1 - SIM / 0 - NÃO)"}]
[{"$f":"[4]INDICECLIMAORGANIZACIONAL!A175","v":"SIM"},null,null,{"$f":"[4]INDICECLIMAORGANIZACIONAL!D175","v":121},{"$f":"[4]INDICECLIMAORGANIZACIONAL!E175","v":{"v":0.6302083333333334,"d":"63.02%"}},{"$f":"[4]INDICECLIMAORGANIZACIONAL!F175","v":"SATISFATÓRIO"},{"$f":"[4]INDICECLIMAORGANIZACIONAL!G175","v":1},null,null,{"$f":"[4]INDICECLIMAORGANIZACIONAL!J175","v":84},{"$f":"[4]INDICECLIMAORGANIZACIONAL!K175","v":{"v":0.46408839779005523,"d":"46.41%"}},{"$f":"[4]INDICECLIMAORGANIZACIONAL!L175","v":"INSATISFATÓRIO"},{"$f":"[4]INDICECLIMAORGANIZACIONAL!M175","v":0}]
[{"$f":"[4]INDICECLIMAORGANIZACIONAL!A176","v":"PARCIAL"},null,null,{"$f":"[4]INDICECLIMAORGANIZACIONAL!D176","v":62},{"$f":"[4]INDICECLIMAORGANIZACIONAL!E176","v":{"v":0.3229166666666667,"d":"32.29%"}},{"$f":"[4]INDICECLIMAORGANIZACIONAL!F176","v":"SATISFATÓRIO"},{"$nulls":3},{"$f":"[4]INDICECLIMAORGANIZACIONAL!J176","v":67},{"$f":"[4]INDICECLIMAORGANIZACIONAL!K176","v":{"v":0.3701657458563536,"d":"37.02%"}},{"$f":"[4]INDICECLIMAORGANIZACIONAL!L176","v":"SATISFATÓRIO"}]
[{"$f":"[4]INDICECLIMAORGANIZACIONAL!A177","v":"NÃO"},null,null,{"$f":"[4]INDICECLIMAORGANIZACIONAL!D177","v":9},{"$f":"[4]INDICECLIMAORGANIZACIONAL!E177","v":{"v":0.046875,"d":"4.69%"}},{"$f":"[4]INDICECLIMAORGANIZACIONAL!F177","v":"DESEJÁVEL"},{"$nulls":3},{"$f":"[4]INDICECLIMAORGANIZACIONAL!J177","v":30},{"$f":"[4]INDICECLIMAORGANIZACIONAL!K177","v":{"v":0.16574585635359115,"d":"16.57%"}},{"$f":"[4]INDICECLIMAORGANIZACIONAL!L177","v":"INSATISFATÓRIO"}]
[{"$f":"[4]INDICECLIMAORGANIZACIONAL!A178","v":"TOTAL"},null,null,{"$f":"[4]INDICECLIMAORGANIZACIONAL!D178","v":192},{"$f":"[4]INDICECLIMAORGANIZACIONAL!E178","v":{"v":1,"d":"100.00%"}},{"$nulls":4},{"$f":"[4]INDICECLIMAORGANIZACIONAL!J178","v":181},{"$f":"[4]INDICECLIMAORGANIZACIONAL!K178","v":{"v":1,"d":"100.00%"}}]
[]
[{"$f":"[4]INDICECLIMAORGANIZACIONAL!A180","v":"CONSIDERO ADEQUADA A LIMPEZA REALIZADA NO MEU AMBIENTE DE TRABALHO?"},null,{"$f":"[4]INDICECLIMAORGANIZACIONAL!C180","v":"ITEM 23"},{"$f":"[4]INDICECLIMAORGANIZACIONAL!D180","v":2020},{"$nulls":4},{"$f":"[4]INDICECLIMAORGANIZACIONAL!I180","v":"ITEM 25"},{"$f":"[4]INDICECLIMAORGANIZACIONAL!J180","v":2017}]
[{"$nulls":3},{"$f":"[4]INDICECLIMAORGANIZACIONAL!D181","v":"TOTAL"},{"$f":"[4]INDICECLIMAORGANIZACIONAL!E181","v":"%"},{"$f":"[4]INDICECLIMAORGANIZACIONAL!F181","v":"RESULTADO"},{"$f":"[4]INDICECLIMAORGANIZACIONAL!G181","v":"ITEM AVALIADO POSITIVAMENTE?             (1 - SIM / 0 - NÃO)"},null,null,{"$f":"[4]INDICECLIMAORGANIZACIONAL!J181","v":"TOTAL"},{"$f":"[4]INDICECLIMAORGANIZACIONAL!K181","v":"%"},{"$f":"[4]INDICECLIMAORGANIZACIONAL!L181","v":"RESULTADO"},{"$f":"[4]INDICECLIMAORGANIZACIONAL!M181","v":"ITEM AVALIADO POSITIVAMENTE?             (1 - SIM / 0 - NÃO)"}]
[{"$f":"[4]INDICECLIMAORGANIZACIONAL!A182","v":"SIM"},null,null,{"$f":"[4]INDICECLIMAORGANIZACIONAL!D182","v":176},{"$f":"[4]INDICECLIMAORGANIZACIONAL!E182","v":{"v":0.9166666666666666,"d":"91.67%"}},{"$f":"[4]INDICECLIMAORGANIZACIONAL!F182","v":"DESEJÁVEL"},{"$f":"[4]INDICECLIMAORGANIZACIONAL!G182","v":1},null,null,{"$f":"[4]INDICECLIMAORGANIZACIONAL!J182","v":140},{"$f":"[4]INDICECLIMAORGANIZACIONAL!K182","v":{"v":0.7821229050279329,"d":"78.21%"}},{"$f":"[4]INDICECLIMAORGANIZACIONAL!L182","v":"SATISFATÓRIO"},{"$f":"[4]INDICECLIMAORGANIZACIONAL!M182","v":1}]
[{"$f":"[4]INDICECLIMAORGANIZACIONAL!A183","v":"PARCIAL"},null,null,{"$f":"[4]INDICECLIMAORGANIZACIONAL!D183","v":16},{"$f":"[4]INDICECLIMAORGANIZACIONAL!E183","v":{"v":0.08333333333333333,"d":"8.33%"}},{"$f":"[4]INDICECLIMAORGANIZACIONAL!F183","v":"SATISFATÓRIO"},{"$nulls":3},{"$f":"[4]INDICECLIMAORGANIZACIONAL!J183","v":35},{"$f":"[4]INDICECLIMAORGANIZACIONAL!K183","v":{"v":0.19553072625698323,"d":"19.55%"}},{"$f":"[4]INDICECLIMAORGANIZACIONAL!L183","v":"SATISFATÓRIO"}]
[{"$f":"[4]INDICECLIMAORGANIZACIONAL!A184","v":"NÃO"},null,null,{"$f":"[4]INDICECLIMAORGANIZACIONAL!D184","v":0},{"$f":"[4]INDICECLIMAORGANIZACIONAL!E184","v":{"v":0,"d":"0.00%"}},{"$f":"[4]INDICECLIMAORGANIZACIONAL!F184","v":"DESEJÁVEL"},{"$nulls":3},{"$f":"[4]INDICECLIMAORGANIZACIONAL!J184","v":4},{"$f":"[4]INDICECLIMAORGANIZACIONAL!K184","v":{"v":0.0223463687150838,"d":"2.23%"}},{"$f":"[4]INDICECLIMAORGANIZACIONAL!L184","v":"DESEJÁVEL"}]
[{"$f":"[4]INDICECLIMAORGANIZACIONAL!A185","v":"TOTAL"},null,null,{"$f":"[4]INDICECLIMAORGANIZACIONAL!D185","v":192},{"$f":"[4]INDICECLIMAORGANIZACIONAL!E185","v":{"v":1,"d":"100.00%"}},{"$nulls":4},{"$f":"[4]INDICECLIMAORGANIZACIONAL!J185","v":179},{"$f":"[4]INDICECLIMAORGANIZACIONAL!K185","v":{"v":0.9999999999999999,"d":"100.00%"}}]
[]
[{"$f":"[4]INDICECLIMAORGANIZACIONAL!A187","v":"CONSIDERO ADEQUADA A VENTILAÇÃO NO MEU AMBIENTE DE TRABALHO?"},null,{"$f":"[4]INDICECLIMAORGANIZACIONAL!C187","v":"ITEM 24"},{"$f":"[4]INDICECLIMAORGANIZACIONAL!D187","v":2020},{"$nulls":4},{"$f":"[4]INDICECLIMAORGANIZACIONAL!I187","v":"ITEM 26"},{"$f":"[4]INDICECLIMAORGANIZACIONAL!J187","v":2017}]
[{"$nulls":3},{"$f":"[4]INDICECLIMAORGANIZACIONAL!D188","v":"TOTAL"},{"$f":"[4]INDICECLIMAORGANIZACIONAL!E188","v":"%"},{"$f":"[4]INDICECLIMAORGANIZACIONAL!F188","v":"RESULTADO"},{"$f":"[4]INDICECLIMAORGANIZACIONAL!G188","v":"ITEM AVALIADO POSITIVAMENTE?             (1 - SIM / 0 - NÃO)"},null,null,{"$f":"[4]INDICECLIMAORGANIZACIONAL!J188","v":"TOTAL"},{"$f":"[4]INDICECLIMAORGANIZACIONAL!K188","v":"%"},{"$f":"[4]INDICECLIMAORGANIZACIONAL!L188","v":"RESULTADO"},{"$f":"[4]INDICECLIMAORGANIZACIONAL!M188","v":"ITEM AVALIADO POSITIVAMENTE?             (1 - SIM / 0 - NÃO)"}]
[{"$f":"[4]INDICECLIMAORGANIZACIONAL!A189","v":"SIM"},null,null,{"$f":"[4]INDICECLIMAORGANIZACIONAL!D189","v":132},{"$f":"[4]INDICECLIMAORGANIZACIONAL!E189","v":{"v":0.6875,"d":"68.75%"}},{"$f":"[4]INDICECLIMAORGANIZACIONAL!F189","v":"SATISFATÓRIO"},{"$f":"[4]INDICECLIMAORGANIZACIONAL!G189","v":1},null,null,{"$f":"[4]INDICECLIMAORGANIZACIONAL!J189","v":122},{"$f":"[4]INDICECLIMAORGANIZACIONAL!K189","v":{"v":0.6815642458100558,"d":"68.16%"}},{"$f":"[4]INDICECLIMAORGANIZACIONAL!L189","v":"SATISFATÓRIO"},{"$f":"[4]INDICECLIMAORGANIZACIONAL!M189","v":1}]
[{"$f":"[4]INDICECLIMAORGANIZACIONAL!A190","v":"PARCIAL"},null,null,{"$f":"[4]INDICECLIMAORGANIZACIONAL!D190","v":54},{"$f":"[4]INDICECLIMAORGANIZACIONAL!E190","v":{"v":0.28125,"d":"28.13%"}},{"$f":"[4]INDICECLIMAORGANIZACIONAL!F190","v":"SATISFATÓRIO"},{"$nulls":3},{"$f":"[4]INDICECLIMAORGANIZACIONAL!J190","v":47},{"$f":"[4]INDICECLIMAORGANIZACIONAL!K190","v":{"v":0.26256983240223464,"d":"26.26%"}},{"$f":"[4]INDICECLIMAORGANIZACIONAL!L190","v":"SATISFATÓRIO"}]
[{"$f":"[4]INDICECLIMAORGANIZACIONAL!A191","v":"NÃO"},null,null,{"$f":"[4]INDICECLIMAORGANIZACIONAL!D191","v":6},{"$f":"[4]INDICECLIMAORGANIZACIONAL!E191","v":{"v":0.03125,"d":"3.13%"}},{"$f":"[4]INDICECLIMAORGANIZACIONAL!F191","v":"DESEJÁVEL"},{"$nulls":3},{"$f":"[4]INDICECLIMAORGANIZACIONAL!J191","v":10},{"$f":"[4]INDICECLIMAORGANIZACIONAL!K191","v":{"v":0.055865921787709494,"d":"5.59%"}},{"$f":"[4]INDICECLIMAORGANIZACIONAL!L191","v":"DESEJÁVEL"}]
[{"$f":"[4]INDICECLIMAORGANIZACIONAL!A192","v":"TOTAL"},null,null,{"$f":"[4]INDICECLIMAORGANIZACIONAL!D192","v":192},{"$f":"[4]INDICECLIMAORGANIZACIONAL!E192","v":{"v":1,"d":"100.00%"}},{"$nulls":4},{"$f":"[4]INDICECLIMAORGANIZACIONAL!J192","v":179},{"$f":"[4]INDICECLIMAORGANIZACIONAL!K192","v":{"v":1,"d":"100.00%"}}]
[]
[{"$f":"[4]INDICECLIMAORGANIZACIONAL!A194","v":"CONSIDERO ADEQUADA A ILUMINAÇÃO NO MEU AMBIENTE DE TRABALHO?"},null,{"$f":"[4]INDICECLIMAORGANIZACIONAL!C194","v":"ITEM 25"},{"$f":"[4]INDICECLIMAORGANIZACIONAL!D194","v":2020},{"$nulls":4},{"$f":"[4]INDICECLIMAORGANIZACIONAL!I194","v":"ITEM 27"},{"$f":"[4]INDICECLIMAORGANIZACIONAL!J194","v":2017}]
[{"$nulls":3},{"$f":"[4]INDICECLIMAORGANIZACIONAL!D195","v":"TOTAL"},{"$f":"[4]INDICECLIMAORGANIZACIONAL!E195","v":"%"},{"$f":"[4]INDICECLIMAORGANIZACIONAL!F195","v":"RESULTADO"},{"$f":"[4]INDICECLIMAORGANIZACIONAL!G195","v":"ITEM AVALIADO POSITIVAMENTE?             (1 - SIM / 0 - NÃO)"},null,null,{"$f":"[4]INDICECLIMAORGANIZACIONAL!J195","v":"TOTAL"},{"$f":"[4]INDICECLIMAORGANIZACIONAL!K195","v":"%"},{"$f":"[4]INDICECLIMAORGANIZACIONAL!L195","v":"RESULTADO"},{"$f":"[4]INDICECLIMAORGANIZACIONAL!M195","v":"ITEM AVALIADO POSITIVAMENTE?             (1 - SIM / 0 - NÃO)"}]
[{"$f":"[4]INDICECLIMAORGANIZACIONAL!A196","v":"SIM"},null,null,{"$f":"[4]INDICECLIMAORGANIZACIONAL!D196","v":154},{"$f":"[4]INDICECLIMAORGANIZACIONAL!E196","v":{"v":0.8020833333333334,"d":"80.21%"}},{"$f":"[4]INDICECLIMAORGANIZACIONAL!F196","v":"DESEJÁVEL"},{"$f":"[4]INDICECLIMAORGANIZACIONAL!G196","v":1},null,null,{"$f":"[4]INDICECLIMAORGANIZACIONAL!J196","v":154},{"$f":"[4]INDICECLIMAORGANIZACIONAL!K196","v":{"v":0.8603351955307262,"d":"86.03%"}},{"$f":"[4]INDICECLIMAORGANIZACIONAL!L196","v":"DESEJÁVEL"},{"$f":"[4]INDICECLIMAORGANIZACIONAL!M196","v":1}]
[{"$f":"[4]INDICECLIMAORGANIZACIONAL!A197","v":"PARCIAL"},null,null,{"$f":"[4]INDICECLIMAORGANIZACIONAL!D197","v":34},{"$f":"[4]INDICECLIMAORGANIZACIONAL!E197","v":{"v":0.17708333333333334,"d":"17.71%"}},{"$f":"[4]INDICECLIMAORGANIZACIONAL!F197","v":"SATISFATÓRIO"},{"$nulls":3},{"$f":"[4]INDICECLIMAORGANIZACIONAL!J197","v":20},{"$f":"[4]INDICECLIMAORGANIZACIONAL!K197","v":{"v":0.11173184357541899,"d":"11.17%"}},{"$f":"[4]INDICECLIMAORGANIZACIONAL!L197","v":"SATISFATÓRIO"}]
[{"$f":"[4]INDICECLIMAORGANIZACIONAL!A198","v":"NÃO"},null,null,{"$f":"[4]INDICECLIMAORGANIZACIONAL!D198","v":4},{"$f":"[4]INDICECLIMAORGANIZACIONAL!E198","v":{"v":0.020833333333333332,"d":"2.08%"}},{"$f":"[4]INDICECLIMAORGANIZACIONAL!F198","v":"DESEJÁVEL"},{"$nulls":3},{"$f":"[4]INDICECLIMAORGANIZACIONAL!J198","v":5},{"$f":"[4]INDICECLIMAORGANIZACIONAL!K198","v":{"v":0.027932960893854747,"d":"2.79%"}},{"$f":"[4]INDICECLIMAORGANIZACIONAL!L198","v":"DESEJÁVEL"}]
[{"$f":"[4]INDICECLIMAORGANIZACIONAL!A199","v":"TOTAL"},null,null,{"$f":"[4]INDICECLIMAORGANIZACIONAL!D199","v":192},{"$f":"[4]INDICECLIMAORGANIZACIONAL!E199","v":{"v":1,"d":"100.00%"}},{"$nulls":4},{"$f":"[4]INDICECLIMAORGANIZACIONAL!J199","v":179},{"$f":"[4]INDICECLIMAORGANIZACIONAL!K199","v":{"v":1,"d":"100.00%"}}]
[]
[{"$f":"[4]INDICECLIMAORGANIZACIONAL!A201","v":"CONSIDERO ADEQUADA A SEGURANÇA NO MEU AMBIENTE DE TRABALHO?"},null,{"$f":"[4]INDICECLIMAORGANIZACIONAL!C201","v":"ITEM 26"},{"$f":"[4]INDICECLIMAORGANIZACIONAL!D201","v":2020},{"$nulls":4},{"$f":"[4]INDICECLIMAORGANIZACIONAL!I201","v":"ITEM 28"},{"$f":"[4]INDICECLIMAORGANIZACIONAL!J201","v":2017}]
[{"$nulls":3},{"$f":"[4]INDICECLIMAORGANIZACIONAL!D202","v":"TOTAL"},{"$f":"[4]INDICECLIMAORGANIZACIONAL!E202","v":"%"},{"$f":"[4]INDICECLIMAORGANIZACIONAL!F202","v":"RESULTADO"},{"$f":"[4]INDICECLIMAORGANIZACIONAL!G202","v":"ITEM AVALIADO POSITIVAMENTE?             (1 - SIM / 0 - NÃO)"},null,null,{"$f":"[4]INDICECLIMAORGANIZACIONAL!J202","v":"TOTAL"},{"$f":"[4]INDICECLIMAORGANIZACIONAL!K202","v":"%"},{"$f":"[4]INDICECLIMAORGANIZACIONAL!L202","v":"RESULTADO"},{"$f":"[4]INDICECLIMAORGANIZACIONAL!M202","v":"ITEM AVALIADO POSITIVAMENTE?             (1 - SIM / 0 - NÃO)"}]
[{"$f":"[4]INDICECLIMAORGANIZACIONAL!A203","v":"SIM"},null,null,{"$f":"[4]INDICECLIMAORGANIZACIONAL!D203","v":171},{"$f":"[4]INDICECLIMAORGANIZACIONAL!E203","v":{"v":0.890625,"d":"89.06%"}},{"$f":"[4]INDICECLIMAORGANIZACIONAL!F203","v":"DESEJÁVEL"},{"$f":"[4]INDICECLIMAORGANIZACIONAL!G203","v":1},null,null,{"$f":"[4]INDICECLIMAORGANIZACIONAL!J203","v":147},{"$f":"[4]INDICECLIMAORGANIZACIONAL!K203","v":{"v":0.8212290502793296,"d":"82.12%"}},{"$f":"[4]INDICECLIMAORGANIZACIONAL!L203","v":"DESEJÁVEL"},{"$f":"[4]INDICECLIMAORGANIZACIONAL!M203","v":1}]
[{"$f":"[4]INDICECLIMAORGANIZACIONAL!A204","v":"PARCIAL"},null,null,{"$f":"[4]INDICECLIMAORGANIZACIONAL!D204","v":20},{"$f":"[4]INDICECLIMAORGANIZACIONAL!E204","v":{"v":0.10416666666666667,"d":"10.42%"}},{"$f":"[4]INDICECLIMAORGANIZACIONAL!F204","v":"SATISFATÓRIO"},{"$nulls":3},{"$f":"[4]INDICECLIMAORGANIZACIONAL!J204","v":30},{"$f":"[4]INDICECLIMAORGANIZACIONAL!K204","v":{"v":0.16759776536312848,"d":"16.76%"}},{"$f":"[4]INDICECLIMAORGANIZACIONAL!L204","v":"SATISFATÓRIO"}]
[{"$f":"[4]INDICECLIMAORGANIZACIONAL!A205","v":"NÃO"},null,null,{"$f":"[4]INDICECLIMAORGANIZACIONAL!D205","v":1},{"$f":"[4]INDICECLIMAORGANIZACIONAL!E205","v":{"v":5.208333333333333E-3,"d":"0.52%"}},{"$f":"[4]INDICECLIMAORGANIZACIONAL!F205","v":"DESEJÁVEL"},{"$nulls":3},{"$f":"[4]INDICECLIMAORGANIZACIONAL!J205","v":2},{"$f":"[4]INDICECLIMAORGANIZACIONAL!K205","v":{"v":0.0111731843575419,"d":"1.12%"}},{"$f":"[4]INDICECLIMAORGANIZACIONAL!L205","v":"DESEJÁVEL"}]
[{"$f":"[4]INDICECLIMAORGANIZACIONAL!A206","v":"TOTAL"},null,null,{"$f":"[4]INDICECLIMAORGANIZACIONAL!D206","v":192},{"$f":"[4]INDICECLIMAORGANIZACIONAL!E206","v":{"v":1,"d":"100.00%"}},{"$nulls":4},{"$f":"[4]INDICECLIMAORGANIZACIONAL!J206","v":179},{"$f":"[4]INDICECLIMAORGANIZACIONAL!K206","v":{"v":0.9999999999999999,"d":"100.00%"}}]
[]
[{"$f":"[4]INDICECLIMAORGANIZACIONAL!A208","v":"CONSIDERO ADEQUADA A DISTRIBUIÇÃO DO ESPAÇO FÍSICO NO MEU AMBIENTE DE TRABALHO?"},null,{"$f":"[4]INDICECLIMAORGANIZACIONAL!C208","v":"ITEM 27"},{"$f":"[4]INDICECLIMAORGANIZACIONAL!D208","v":2020},{"$nulls":4},{"$f":"[4]INDICECLIMAORGANIZACIONAL!I208","v":"ITEM 29"},{"$f":"[4]INDICECLIMAORGANIZACIONAL!J208","v":2017}]
[{"$nulls":3},{"$f":"[4]INDICECLIMAORGANIZACIONAL!D209","v":"TOTAL"},{"$f":"[4]INDICECLIMAORGANIZACIONAL!E209","v":"%"},{"$f":"[4]INDICECLIMAORGANIZACIONAL!F209","v":"RESULTADO"},{"$f":"[4]INDICECLIMAORGANIZACIONAL!G209","v":"ITEM AVALIADO POSITIVAMENTE?             (1 - SIM / 0 - NÃO)"},null,null,{"$f":"[4]INDICECLIMAORGANIZACIONAL!J209","v":"TOTAL"},{"$f":"[4]INDICECLIMAORGANIZACIONAL!K209","v":"%"},{"$f":"[4]INDICECLIMAORGANIZACIONAL!L209","v":"RESULTADO"},{"$f":"[4]INDICECLIMAORGANIZACIONAL!M209","v":"ITEM AVALIADO POSITIVAMENTE?             (1 - SIM / 0 - NÃO)"}]
[{"$f":"[4]INDICECLIMAORGANIZACIONAL!A210","v":"SIM"},null,null,{"$f":"[4]INDICECLIMAORGANIZACIONAL!D210","v":153},{"$f":"[4]INDICECLIMAORGANIZACIONAL!E210","v":{"v":0.796875,"d":"79.69%"}},{"$f":"[4]INDICECLIMAORGANIZACIONAL!F210","v":"SATISFATÓRIO"},{"$f":"[4]INDICECLIMAORGANIZACIONAL!G210","v":1},null,null,{"$f":"[4]INDICECLIMAORGANIZACIONAL!J210","v":134},{"$f":"[4]INDICECLIMAORGANIZACIONAL!K210","v":{"v":0.7486033519553073,"d":"74.86%"}},{"$f":"[4]INDICECLIMAORGANIZACIONAL!L210","v":"SATISFATÓRIO"},{"$f":"[4]INDICECLIMAORGANIZACIONAL!M210","v":1}]
[{"$f":"[4]INDICECLIMAORGANIZACIONAL!A211","v":"PARCIAL"},null,null,{"$f":"[4]INDICECLIMAORGANIZACIONAL!D211","v":31},{"$f":"[4]INDICECLIMAORGANIZACIONAL!E211","v":{"v":0.16145833333333334,"d":"16.15%"}},{"$f":"[4]INDICECLIMAORGANIZACIONAL!F211","v":"SATISFATÓRIO"},{"$nulls":3},{"$f":"[4]INDICECLIMAORGANIZACIONAL!J211","v":35},{"$f":"[4]INDICECLIMAORGANIZACIONAL!K211","v":{"v":0.19553072625698323,"d":"19.55%"}},{"$f":"[4]INDICECLIMAORGANIZACIONAL!L211","v":"SATISFATÓRIO"}]
[{"$f":"[4]INDICECLIMAORGANIZACIONAL!A212","v":"NÃO"},null,null,{"$f":"[4]INDICECLIMAORGANIZACIONAL!D212","v":8},{"$f":"[4]INDICECLIMAORGANIZACIONAL!E212","v":{"v":0.041666666666666664,"d":"4.17%"}},{"$f":"[4]INDICECLIMAORGANIZACIONAL!F212","v":"DESEJÁVEL"},{"$nulls":3},{"$f":"[4]INDICECLIMAORGANIZACIONAL!J212","v":10},{"$f":"[4]INDICECLIMAORGANIZACIONAL!K212","v":{"v":0.055865921787709494,"d":"5.59%"}},{"$f":"[4]INDICECLIMAORGANIZACIONAL!L212","v":"DESEJÁVEL"}]
[{"$f":"[4]INDICECLIMAORGANIZACIONAL!A213","v":"TOTAL"},null,null,{"$f":"[4]INDICECLIMAORGANIZACIONAL!D213","v":192},{"$f":"[4]INDICECLIMAORGANIZACIONAL!E213","v":{"v":1,"d":"100.00%"}},{"$nulls":4},{"$f":"[4]INDICECLIMAORGANIZACIONAL!J213","v":179},{"$f":"[4]INDICECLIMAORGANIZACIONAL!K213","v":{"v":1,"d":"100.00%"}}]
[]
[{"$f":"[4]INDICECLIMAORGANIZACIONAL!A215","v":"OS MÓVEIS SÃO ERGONÔMICOS?"},null,{"$f":"[4]INDICECLIMAORGANIZACIONAL!C215","v":"ITEM 28"},{"$f":"[4]INDICECLIMAORGANIZACIONAL!D215","v":2020},{"$nulls":4},{"$f":"[4]INDICECLIMAORGANIZACIONAL!I215","v":"ITEM **"},{"$f":"[4]INDICECLIMAORGANIZACIONAL!J215","v":2017}]
[{"$nulls":3},{"$f":"[4]INDICECLIMAORGANIZACIONAL!D216","v":"TOTAL"},{"$f":"[4]INDICECLIMAORGANIZACIONAL!E216","v":"%"},{"$f":"[4]INDICECLIMAORGANIZACIONAL!F216","v":"RESULTADO"},{"$f":"[4]INDICECLIMAORGANIZACIONAL!G216","v":"ITEM AVALIADO POSITIVAMENTE?             (1 - SIM / 0 - NÃO)"},null,null,{"$f":"[4]INDICECLIMAORGANIZACIONAL!J216","v":"TOTAL"},{"$f":"[4]INDICECLIMAORGANIZACIONAL!K216","v":"%"},{"$f":"[4]INDICECLIMAORGANIZACIONAL!L216","v":"RESULTADO"},{"$f":"[4]INDICECLIMAORGANIZACIONAL!M216","v":"ITEM AVALIADO POSITIVAMENTE?             (1 - SIM / 0 - NÃO)"}]
[{"$f":"[4]INDICECLIMAORGANIZACIONAL!A217","v":"SIM"},null,null,{"$f":"[4]INDICECLIMAORGANIZACIONAL!D217","v":122},{"$f":"[4]INDICECLIMAORGANIZACIONAL!E217","v":{"v":0.6354166666666666,"d":"63.54%"}},{"$f":"[4]INDICECLIMAORGANIZACIONAL!F217","v":"SATISFATÓRIO"},{"$f":"[4]INDICECLIMAORGANIZACIONAL!G217","v":1},null,null,{"$f":"[4]INDICECLIMAORGANIZACIONAL!J217","v":"*"},{"$f":"[4]INDICECLIMAORGANIZACIONAL!K217","v":"*"},{"$f":"[4]INDICECLIMAORGANIZACIONAL!L217","v":"*"},{"$f":"[4]INDICECLIMAORGANIZACIONAL!M217","v":"**"}]
[{"$f":"[4]INDICECLIMAORGANIZACIONAL!A218","v":"PARCIAL"},null,null,{"$f":"[4]INDICECLIMAORGANIZACIONAL!D218","v":55},{"$f":"[4]INDICECLIMAORGANIZACIONAL!E218","v":{"v":0.2864583333333333,"d":"28.65%"}},{"$f":"[4]INDICECLIMAORGANIZACIONAL!F218","v":"SATISFATÓRIO"},{"$nulls":3},{"$f":"[4]INDICECLIMAORGANIZACIONAL!J218","v":"*"},{"$f":"[4]INDICECLIMAORGANIZACIONAL!K218","v":"*"},{"$f":"[4]INDICECLIMAORGANIZACIONAL!L218","v":"*"}]
[{"$f":"[4]INDICECLIMAORGANIZACIONAL!A219","v":"NÃO"},null,null,{"$f":"[4]INDICECLIMAORGANIZACIONAL!D219","v":15},{"$f":"[4]INDICECLIMAORGANIZACIONAL!E219","v":{"v":0.078125,"d":"7.81%"}},{"$f":"[4]INDICECLIMAORGANIZACIONAL!F219","v":"SATISFATÓRIO"},{"$nulls":3},{"$f":"[4]INDICECLIMAORGANIZACIONAL!J219","v":"*"},{"$f":"[4]INDICECLIMAORGANIZACIONAL!K219","v":"*"},{"$f":"[4]INDICECLIMAORGANIZACIONAL!L219","v":"*"}]
[{"$f":"[4]INDICECLIMAORGANIZACIONAL!A220","v":"TOTAL"},null,null,{"$f":"[4]INDICECLIMAORGANIZACIONAL!D220","v":192},{"$f":"[4]INDICECLIMAORGANIZACIONAL!E220","v":{"v":1,"d":"100.00%"}},{"$nulls":4},{"$f":"[4]INDICECLIMAORGANIZACIONAL!J220","v":"*"},{"$f":"[4]INDICECLIMAORGANIZACIONAL!K220","v":"*"}]
[]
[{"$f":"[4]INDICECLIMAORGANIZACIONAL!A222","v":"CONSIDERO ADEQUADO OS EQUIPAMENTOS DE INFORMÁTICA?"},null,{"$f":"[4]INDICECLIMAORGANIZACIONAL!C222","v":"ITEM 29"},{"$f":"[4]INDICECLIMAORGANIZACIONAL!D222","v":2020},{"$nulls":4},{"$f":"[4]INDICECLIMAORGANIZACIONAL!I222","v":"ITEM 30"},{"$f":"[4]INDICECLIMAORGANIZACIONAL!J222","v":2017}]
[{"$nulls":3},{"$f":"[4]INDICECLIMAORGANIZACIONAL!D223","v":"TOTAL"},{"$f":"[4]INDICECLIMAORGANIZACIONAL!E223","v":"%"},{"$f":"[4]INDICECLIMAORGANIZACIONAL!F223","v":"RESULTADO"},{"$f":"[4]INDICECLIMAORGANIZACIONAL!G223","v":"ITEM AVALIADO POSITIVAMENTE?             (1 - SIM / 0 - NÃO)"},null,null,{"$f":"[4]INDICECLIMAORGANIZACIONAL!J223","v":"TOTAL"},{"$f":"[4]INDICECLIMAORGANIZACIONAL!K223","v":"%"},{"$f":"[4]INDICECLIMAORGANIZACIONAL!L223","v":"RESULTADO"},{"$f":"[4]INDICECLIMAORGANIZACIONAL!M223","v":"ITEM AVALIADO POSITIVAMENTE?             (1 - SIM / 0 - NÃO)"}]
[{"$f":"[4]INDICECLIMAORGANIZACIONAL!A224","v":"SIM"},null,null,{"$f":"[4]INDICECLIMAORGANIZACIONAL!D224","v":152},{"$f":"[4]INDICECLIMAORGANIZACIONAL!E224","v":{"v":0.7916666666666666,"d":"79.17%"}},{"$f":"[4]INDICECLIMAORGANIZACIONAL!F224","v":"SATISFATÓRIO"},{"$f":"[4]INDICECLIMAORGANIZACIONAL!G224","v":1},null,null,{"$f":"[4]INDICECLIMAORGANIZACIONAL!J224","v":153},{"$f":"[4]INDICECLIMAORGANIZACIONAL!K224","v":{"v":0.8547486033519553,"d":"85.47%"}},{"$f":"[4]INDICECLIMAORGANIZACIONAL!L224","v":"DESEJÁVEL"},{"$f":"[4]INDICECLIMAORGANIZACIONAL!M224","v":1}]
[{"$f":"[4]INDICECLIMAORGANIZACIONAL!A225","v":"PARCIAL"},null,null,{"$f":"[4]INDICECLIMAORGANIZACIONAL!D225","v":38},{"$f":"[4]INDICECLIMAORGANIZACIONAL!E225","v":{"v":0.19791666666666666,"d":"19.79%"}},{"$f":"[4]INDICECLIMAORGANIZACIONAL!F225","v":"SATISFATÓRIO"},{"$nulls":3},{"$f":"[4]INDICECLIMAORGANIZACIONAL!J225","v":22},{"$f":"[4]INDICECLIMAORGANIZACIONAL!K225","v":{"v":0.12290502793296089,"d":"12.29%"}},{"$f":"[4]INDICECLIMAORGANIZACIONAL!L225","v":"SATISFATÓRIO"}]
[{"$f":"[4]INDICECLIMAORGANIZACIONAL!A226","v":"NÃO"},null,null,{"$f":"[4]INDICECLIMAORGANIZACIONAL!D226","v":2},{"$f":"[4]INDICECLIMAORGANIZACIONAL!E226","v":{"v":0.010416666666666666,"d":"1.04%"}},{"$f":"[4]INDICECLIMAORGANIZACIONAL!F226","v":"DESEJÁVEL"},{"$nulls":3},{"$f":"[4]INDICECLIMAORGANIZACIONAL!J226","v":4},{"$f":"[4]INDICECLIMAORGANIZACIONAL!K226","v":{"v":0.0223463687150838,"d":"2.23%"}},{"$f":"[4]INDICECLIMAORGANIZACIONAL!L226","v":"DESEJÁVEL"}]
[{"$f":"[4]INDICECLIMAORGANIZACIONAL!A227","v":"TOTAL"},null,null,{"$f":"[4]INDICECLIMAORGANIZACIONAL!D227","v":192},{"$f":"[4]INDICECLIMAORGANIZACIONAL!E227","v":{"v":0.9999999999999999,"d":"100.00%"}},{"$nulls":4},{"$f":"[4]INDICECLIMAORGANIZACIONAL!J227","v":179},{"$f":"[4]INDICECLIMAORGANIZACIONAL!K227","v":{"v":1,"d":"100.00%"}}]
[]
[{"$f":"[4]INDICECLIMAORGANIZACIONAL!A229","v":"CONSIDERO ADEQUADO OS MATERIAIS DE CONSUMO?"},null,{"$f":"[4]INDICECLIMAORGANIZACIONAL!C229","v":"ITEM 30"},{"$f":"[4]INDICECLIMAORGANIZACIONAL!D229","v":2020},{"$nulls":4},{"$f":"[4]INDICECLIMAORGANIZACIONAL!I229","v":"ITEM 31"},{"$f":"[4]INDICECLIMAORGANIZACIONAL!J229","v":2017}]
[{"$nulls":3},{"$f":"[4]INDICECLIMAORGANIZACIONAL!D230","v":"TOTAL"},{"$f":"[4]INDICECLIMAORGANIZACIONAL!E230","v":"%"},{"$f":"[4]INDICECLIMAORGANIZACIONAL!F230","v":"RESULTADO"},{"$f":"[4]INDICECLIMAORGANIZACIONAL!G230","v":"ITEM AVALIADO POSITIVAMENTE?             (1 - SIM / 0 - NÃO)"},null,null,{"$f":"[4]INDICECLIMAORGANIZACIONAL!J230","v":"TOTAL"},{"$f":"[4]INDICECLIMAORGANIZACIONAL!K230","v":"%"},{"$f":"[4]INDICECLIMAORGANIZACIONAL!L230","v":"RESULTADO"},{"$f":"[4]INDICECLIMAORGANIZACIONAL!M230","v":"ITEM AVALIADO POSITIVAMENTE?             (1 - SIM / 0 - NÃO)"}]
[{"$f":"[4]INDICECLIMAORGANIZACIONAL!A231","v":"SIM"},null,null,{"$f":"[4]INDICECLIMAORGANIZACIONAL!D231","v":140},{"$f":"[4]INDICECLIMAORGANIZACIONAL!E231","v":{"v":0.7291666666666666,"d":"72.92%"}},{"$f":"[4]INDICECLIMAORGANIZACIONAL!F231","v":"SATISFATÓRIO"},{"$f":"[4]INDICECLIMAORGANIZACIONAL!G231","v":1},null,null,{"$f":"[4]INDICECLIMAORGANIZACIONAL!J231","v":124},{"$f":"[4]INDICECLIMAORGANIZACIONAL!K231","v":{"v":0.6927374301675978,"d":"69.27%"}},{"$f":"[4]INDICECLIMAORGANIZACIONAL!L231","v":"SATISFATÓRIO"},{"$f":"[4]INDICECLIMAORGANIZACIONAL!M231","v":1}]
[{"$f":"[4]INDICECLIMAORGANIZACIONAL!A232","v":"PARCIAL"},null,null,{"$f":"[4]INDICECLIMAORGANIZACIONAL!D232","v":49},{"$f":"[4]INDICECLIMAORGANIZACIONAL!E232","v":{"v":0.2552083333333333,"d":"25.52%"}},{"$f":"[4]INDICECLIMAORGANIZACIONAL!F232","v":"SATISFATÓRIO"},{"$nulls":3},{"$f":"[4]INDICECLIMAORGANIZACIONAL!J232","v":49},{"$f":"[4]INDICECLIMAORGANIZACIONAL!K232","v":{"v":0.2737430167597765,"d":"27.37%"}},{"$f":"[4]INDICECLIMAORGANIZACIONAL!L232","v":"SATISFATÓRIO"}]
[{"$f":"[4]INDICECLIMAORGANIZACIONAL!A233","v":"NÃO"},null,null,{"$f":"[4]INDICECLIMAORGANIZACIONAL!D233","v":3},{"$f":"[4]INDICECLIMAORGANIZACIONAL!E233","v":{"v":0.015625,"d":"1.56%"}},{"$f":"[4]INDICECLIMAORGANIZACIONAL!F233","v":"DESEJÁVEL"},{"$nulls":3},{"$f":"[4]INDICECLIMAORGANIZACIONAL!J233","v":6},{"$f":"[4]INDICECLIMAORGANIZACIONAL!K233","v":{"v":0.0335195530726257,"d":"3.35%"}},{"$f":"[4]INDICECLIMAORGANIZACIONAL!L233","v":"DESEJÁVEL"}]
[{"$f":"[4]INDICECLIMAORGANIZACIONAL!A234","v":"TOTAL"},null,null,{"$f":"[4]INDICECLIMAORGANIZACIONAL!D234","v":192},{"$f":"[4]INDICECLIMAORGANIZACIONAL!E234","v":{"v":1,"d":"100.00%"}},{"$nulls":4},{"$f":"[4]INDICECLIMAORGANIZACIONAL!J234","v":179},{"$f":"[4]INDICECLIMAORGANIZACIONAL!K234","v":{"v":1,"d":"100.00%"}}]
[]
[{"$f":"[4]INDICECLIMAORGANIZACIONAL!A236","v":"CONSIDERO ADEQUADA A LOCALIZAÇÃO DO MEU TRABALHO?"},null,{"$f":"[4]INDICECLIMAORGANIZACIONAL!C236","v":"ITEM 31"},{"$f":"[4]INDICECLIMAORGANIZACIONAL!D236","v":2020},{"$nulls":4},{"$f":"[4]INDICECLIMAORGANIZACIONAL!I236","v":"ITEM **"},{"$f":"[4]INDICECLIMAORGANIZACIONAL!J236","v":2017}]
[{"$nulls":3},{"$f":"[4]INDICECLIMAORGANIZACIONAL!D237","v":"TOTAL"},{"$f":"[4]INDICECLIMAORGANIZACIONAL!E237","v":"%"},{"$f":"[4]INDICECLIMAORGANIZACIONAL!F237","v":"RESULTADO"},{"$f":"[4]INDICECLIMAORGANIZACIONAL!G237","v":"ITEM AVALIADO POSITIVAMENTE?             (1 - SIM / 0 - NÃO)"},null,null,{"$f":"[4]INDICECLIMAORGANIZACIONAL!J237","v":"TOTAL"},{"$f":"[4]INDICECLIMAORGANIZACIONAL!K237","v":"%"},{"$f":"[4]INDICECLIMAORGANIZACIONAL!L237","v":"RESULTADO"},{"$f":"[4]INDICECLIMAORGANIZACIONAL!M237","v":"ITEM AVALIADO POSITIVAMENTE?             (1 - SIM / 0 - NÃO)"}]
[{"$f":"[4]INDICECLIMAORGANIZACIONAL!A238","v":"SIM"},null,null,{"$f":"[4]INDICECLIMAORGANIZACIONAL!D238","v":172},{"$f":"[4]INDICECLIMAORGANIZACIONAL!E238","v":{"v":0.8958333333333334,"d":"89.58%"}},{"$f":"[4]INDICECLIMAORGANIZACIONAL!F238","v":"DESEJÁVEL"},{"$f":"[4]INDICECLIMAORGANIZACIONAL!G238","v":1},null,null,{"$f":"[4]INDICECLIMAORGANIZACIONAL!J238","v":"*"},{"$f":"[4]INDICECLIMAORGANIZACIONAL!K238","v":"*"},{"$f":"[4]INDICECLIMAORGANIZACIONAL!L238","v":"*"},{"$f":"[4]INDICECLIMAORGANIZACIONAL!M238","v":"**"}]
[{"$f":"[4]INDICECLIMAORGANIZACIONAL!A239","v":"PARCIAL"},null,null,{"$f":"[4]INDICECLIMAORGANIZACIONAL!D239","v":18},{"$f":"[4]INDICECLIMAORGANIZACIONAL!E239","v":{"v":0.09375,"d":"9.38%"}},{"$f":"[4]INDICECLIMAORGANIZACIONAL!F239","v":"SATISFATÓRIO"},{"$nulls":3},{"$f":"[4]INDICECLIMAORGANIZACIONAL!J239","v":"*"},{"$f":"[4]INDICECLIMAORGANIZACIONAL!K239","v":"*"},{"$f":"[4]INDICECLIMAORGANIZACIONAL!L239","v":"*"}]
[{"$f":"[4]INDICECLIMAORGANIZACIONAL!A240","v":"NÃO"},null,null,{"$f":"[4]INDICECLIMAORGANIZACIONAL!D240","v":2},{"$f":"[4]INDICECLIMAORGANIZACIONAL!E240","v":{"v":0.010416666666666666,"d":"1.04%"}},{"$f":"[4]INDICECLIMAORGANIZACIONAL!F240","v":"DESEJÁVEL"},{"$nulls":3},{"$f":"[4]INDICECLIMAORGANIZACIONAL!J240","v":"*"},{"$f":"[4]INDICECLIMAORGANIZACIONAL!K240","v":"*"},{"$f":"[4]INDICECLIMAORGANIZACIONAL!L240","v":"*"}]
[{"$f":"[4]INDICECLIMAORGANIZACIONAL!A241","v":"TOTAL"},null,null,{"$f":"[4]INDICECLIMAORGANIZACIONAL!D241","v":192},{"$f":"[4]INDICECLIMAORGANIZACIONAL!E241","v":{"v":1,"d":"100.00%"}},{"$nulls":4},{"$f":"[4]INDICECLIMAORGANIZACIONAL!J241","v":"*"},{"$f":"[4]INDICECLIMAORGANIZACIONAL!K241","v":"*"}]
[]
[{"$f":"[4]INDICECLIMAORGANIZACIONAL!A243","v":"CONSIDERO ADEQUADA A ACESSIBILIDADE NO MME?"},null,{"$f":"[4]INDICECLIMAORGANIZACIONAL!C243","v":"ITEM 32"},{"$f":"[4]INDICECLIMAORGANIZACIONAL!D243","v":2020},{"$nulls":4},{"$f":"[4]INDICECLIMAORGANIZACIONAL!I243","v":"ITEM 32"},{"$f":"[4]INDICECLIMAORGANIZACIONAL!J243","v":2017}]
[{"$nulls":3},{"$f":"[4]INDICECLIMAORGANIZACIONAL!D244","v":"TOTAL"},{"$f":"[4]INDICECLIMAORGANIZACIONAL!E244","v":"%"},{"$f":"[4]INDICECLIMAORGANIZACIONAL!F244","v":"RESULTADO"},{"$f":"[4]INDICECLIMAORGANIZACIONAL!G244","v":"ITEM AVALIADO POSITIVAMENTE?             (1 - SIM / 0 - NÃO)"},null,null,{"$f":"[4]INDICECLIMAORGANIZACIONAL!J244","v":"TOTAL"},{"$f":"[4]INDICECLIMAORGANIZACIONAL!K244","v":"%"},{"$f":"[4]INDICECLIMAORGANIZACIONAL!L244","v":"RESULTADO"},{"$f":"[4]INDICECLIMAORGANIZACIONAL!M244","v":"ITEM AVALIADO POSITIVAMENTE?             (1 - SIM / 0 - NÃO)"}]
[{"$f":"[4]INDICECLIMAORGANIZACIONAL!A245","v":"SIM"},null,null,{"$f":"[4]INDICECLIMAORGANIZACIONAL!D245","v":177},{"$f":"[4]INDICECLIMAORGANIZACIONAL!E245","v":{"v":0.921875,"d":"92.19%"}},{"$f":"[4]INDICECLIMAORGANIZACIONAL!F245","v":"DESEJÁVEL"},{"$f":"[4]INDICECLIMAORGANIZACIONAL!G245","v":1},null,null,{"$f":"[4]INDICECLIMAORGANIZACIONAL!J245","v":138},{"$f":"[4]INDICECLIMAORGANIZACIONAL!K245","v":{"v":0.770949720670391,"d":"77.09%"}},{"$f":"[4]INDICECLIMAORGANIZACIONAL!L245","v":"SATISFATÓRIO"},{"$f":"[4]INDICECLIMAORGANIZACIONAL!M245","v":1}]
[{"$f":"[4]INDICECLIMAORGANIZACIONAL!A246","v":"PARCIAL"},null,null,{"$f":"[4]INDICECLIMAORGANIZACIONAL!D246","v":15},{"$f":"[4]INDICECLIMAORGANIZACIONAL!E246","v":{"v":0.078125,"d":"7.81%"}},{"$f":"[4]INDICECLIMAORGANIZACIONAL!F246","v":"SATISFATÓRIO"},{"$nulls":3},{"$f":"[4]INDICECLIMAORGANIZACIONAL!J246","v":35},{"$f":"[4]INDICECLIMAORGANIZACIONAL!K246","v":{"v":0.19553072625698323,"d":"19.55%"}},{"$f":"[4]INDICECLIMAORGANIZACIONAL!L246","v":"SATISFATÓRIO"}]
[{"$f":"[4]INDICECLIMAORGANIZACIONAL!A247","v":"NÃO"},null,null,{"$f":"[4]INDICECLIMAORGANIZACIONAL!D247","v":0},{"$f":"[4]INDICECLIMAORGANIZACIONAL!E247","v":{"v":0,"d":"0.00%"}},{"$f":"[4]INDICECLIMAORGANIZACIONAL!F247","v":"DESEJÁVEL"},{"$nulls":3},{"$f":"[4]INDICECLIMAORGANIZACIONAL!J247","v":6},{"$f":"[4]INDICECLIMAORGANIZACIONAL!K247","v":{"v":0.0335195530726257,"d":"3.35%"}},{"$f":"[4]INDICECLIMAORGANIZACIONAL!L247","v":"DESEJÁVEL"}]
[{"$f":"[4]INDICECLIMAORGANIZACIONAL!A248","v":"TOTAL"},null,null,{"$f":"[4]INDICECLIMAORGANIZACIONAL!D248","v":192},{"$f":"[4]INDICECLIMAORGANIZACIONAL!E248","v":{"v":1,"d":"100.00%"}},{"$nulls":4},{"$f":"[4]INDICECLIMAORGANIZACIONAL!J248","v":179},{"$f":"[4]INDICECLIMAORGANIZACIONAL!K248","v":{"v":0.9999999999999999,"d":"100.00%"}}]
[]
[{"$f":"[4]INDICECLIMAORGANIZACIONAL!A250","v":"DURANTE O PERÍODO DA PANDEMIA, NO TELETRABALHO, OS SISTEMAS REMOTOS DISPONIBILIZADOS FUNCIONARAM A CONTENTO?"},null,{"$f":"[4]INDICECLIMAORGANIZACIONAL!C250","v":"ITEM 33"},{"$f":"[4]INDICECLIMAORGANIZACIONAL!D250","v":2020},{"$nulls":4},{"$f":"[4]INDICECLIMAORGANIZACIONAL!I250","v":"ITEM **"},{"$f":"[4]INDICECLIMAORGANIZACIONAL!J250","v":2017}]
[{"$nulls":3},{"$f":"[4]INDICECLIMAORGANIZACIONAL!D251","v":"TOTAL"},{"$f":"[4]INDICECLIMAORGANIZACIONAL!E251","v":"%"},{"$f":"[4]INDICECLIMAORGANIZACIONAL!F251","v":"RESULTADO"},{"$f":"[4]INDICECLIMAORGANIZACIONAL!G251","v":"ITEM AVALIADO POSITIVAMENTE?             (1 - SIM / 0 - NÃO)"},null,null,{"$f":"[4]INDICECLIMAORGANIZACIONAL!J251","v":"TOTAL"},{"$f":"[4]INDICECLIMAORGANIZACIONAL!K251","v":"%"},{"$f":"[4]INDICECLIMAORGANIZACIONAL!L251","v":"RESULTADO"},{"$f":"[4]INDICECLIMAORGANIZACIONAL!M251","v":"ITEM AVALIADO POSITIVAMENTE?             (1 - SIM / 0 - NÃO)"}]
[{"$f":"[4]INDICECLIMAORGANIZACIONAL!A252","v":"SIM"},null,null,{"$f":"[4]INDICECLIMAORGANIZACIONAL!D252","v":126},{"$f":"[4]INDICECLIMAORGANIZACIONAL!E252","v":{"v":0.65625,"d":"65.63%"}},{"$f":"[4]INDICECLIMAORGANIZACIONAL!F252","v":"SATISFATÓRIO"},{"$f":"[4]INDICECLIMAORGANIZACIONAL!G252","v":1},null,null,{"$f":"[4]INDICECLIMAORGANIZACIONAL!J252","v":"*"},{"$f":"[4]INDICECLIMAORGANIZACIONAL!K252","v":"*"},{"$f":"[4]INDICECLIMAORGANIZACIONAL!L252","v":"*"},{"$f":"[4]INDICECLIMAORGANIZACIONAL!M252","v":"**"}]
[{"$f":"[4]INDICECLIMAORGANIZACIONAL!A253","v":"PARCIAL"},null,null,{"$f":"[4]INDICECLIMAORGANIZACIONAL!D253","v":62},{"$f":"[4]INDICECLIMAORGANIZACIONAL!E253","v":{"v":0.3229166666666667,"d":"32.29%"}},{"$f":"[4]INDICECLIMAORGANIZACIONAL!F253","v":"SATISFATÓRIO"},{"$nulls":3},{"$f":"[4]INDICECLIMAORGANIZACIONAL!J253","v":"*"},{"$f":"[4]INDICECLIMAORGANIZACIONAL!K253","v":"*"},{"$f":"[4]INDICECLIMAORGANIZACIONAL!L253","v":"*"}]
[{"$f":"[4]INDICECLIMAORGANIZACIONAL!A254","v":"NÃO"},null,null,{"$f":"[4]INDICECLIMAORGANIZACIONAL!D254","v":4},{"$f":"[4]INDICECLIMAORGANIZACIONAL!E254","v":{"v":0.020833333333333332,"d":"2.08%"}},{"$f":"[4]INDICECLIMAORGANIZACIONAL!F254","v":"DESEJÁVEL"},{"$nulls":3},{"$f":"[4]INDICECLIMAORGANIZACIONAL!J254","v":"*"},{"$f":"[4]INDICECLIMAORGANIZACIONAL!K254","v":"*"},{"$f":"[4]INDICECLIMAORGANIZACIONAL!L254","v":"*"}]
[{"$f":"[4]INDICECLIMAORGANIZACIONAL!A255","v":"TOTAL"},null,null,{"$f":"[4]INDICECLIMAORGANIZACIONAL!D255","v":192},{"$f":"[4]INDICECLIMAORGANIZACIONAL!E255","v":{"v":1,"d":"100.00%"}},{"$nulls":4},{"$f":"[4]INDICECLIMAORGANIZACIONAL!J255","v":"*"},{"$f":"[4]INDICECLIMAORGANIZACIONAL!K255","v":"*"}]
[]
[{"$f":"[4]INDICECLIMAORGANIZACIONAL!A257","v":"DURANTE O PERÍODO DE PANDEMIA, NO TRABALHO PRESENCIAL, AS INSTALAÇÕES DO MME ENCONTRARAM -SE APTAS AO EXERCÍCIO SEGURO DAS ATIVIDADES?"},null,{"$f":"[4]INDICECLIMAORGANIZACIONAL!C257","v":"ITEM 34"},{"$f":"[4]INDICECLIMAORGANIZACIONAL!D257","v":2020},{"$nulls":4},{"$f":"[4]INDICECLIMAORGANIZACIONAL!I257","v":"ITEM **"},{"$f":"[4]INDICECLIMAORGANIZACIONAL!J257","v":2017}]
[{"$nulls":3},{"$f":"[4]INDICECLIMAORGANIZACIONAL!D258","v":"TOTAL"},{"$f":"[4]INDICECLIMAORGANIZACIONAL!E258","v":"%"},{"$f":"[4]INDICECLIMAORGANIZACIONAL!F258","v":"RESULTADO"},{"$f":"[4]INDICECLIMAORGANIZACIONAL!G258","v":"ITEM AVALIADO POSITIVAMENTE?             (1 - SIM / 0 - NÃO)"},null,null,{"$f":"[4]INDICECLIMAORGANIZACIONAL!J258","v":"TOTAL"},{"$f":"[4]INDICECLIMAORGANIZACIONAL!K258","v":"%"},{"$f":"[4]INDICECLIMAORGANIZACIONAL!L258","v":"RESULTADO"},{"$f":"[4]INDICECLIMAORGANIZACIONAL!M258","v":"ITEM AVALIADO POSITIVAMENTE?             (1 - SIM / 0 - NÃO)"}]
[{"$f":"[4]INDICECLIMAORGANIZACIONAL!A259","v":"SIM"},null,null,{"$f":"[4]INDICECLIMAORGANIZACIONAL!D259","v":140},{"$f":"[4]INDICECLIMAORGANIZACIONAL!E259","v":{"v":0.7291666666666666,"d":"72.92%"}},{"$f":"[4]INDICECLIMAORGANIZACIONAL!F259","v":"SATISFATÓRIO"},{"$f":"[4]INDICECLIMAORGANIZACIONAL!G259","v":1},null,null,{"$f":"[4]INDICECLIMAORGANIZACIONAL!J259","v":"*"},{"$f":"[4]INDICECLIMAORGANIZACIONAL!K259","v":"*"},{"$f":"[4]INDICECLIMAORGANIZACIONAL!L259","v":"*"},{"$f":"[4]INDICECLIMAORGANIZACIONAL!M259","v":"**"}]
[{"$f":"[4]INDICECLIMAORGANIZACIONAL!A260","v":"PARCIAL"},null,null,{"$f":"[4]INDICECLIMAORGANIZACIONAL!D260","v":40},{"$f":"[4]INDICECLIMAORGANIZACIONAL!E260","v":{"v":0.20833333333333334,"d":"20.83%"}},{"$f":"[4]INDICECLIMAORGANIZACIONAL!F260","v":"SATISFATÓRIO"},{"$nulls":3},{"$f":"[4]INDICECLIMAORGANIZACIONAL!J260","v":"*"},{"$f":"[4]INDICECLIMAORGANIZACIONAL!K260","v":"*"},{"$f":"[4]INDICECLIMAORGANIZACIONAL!L260","v":"*"}]
[{"$f":"[4]INDICECLIMAORGANIZACIONAL!A261","v":"NÃO"},null,null,{"$f":"[4]INDICECLIMAORGANIZACIONAL!D261","v":12},{"$f":"[4]INDICECLIMAORGANIZACIONAL!E261","v":{"v":0.0625,"d":"6.25%"}},{"$f":"[4]INDICECLIMAORGANIZACIONAL!F261","v":"SATISFATÓRIO"},{"$nulls":3},{"$f":"[4]INDICECLIMAORGANIZACIONAL!J261","v":"*"},{"$f":"[4]INDICECLIMAORGANIZACIONAL!K261","v":"*"},{"$f":"[4]INDICECLIMAORGANIZACIONAL!L261","v":"*"}]
[{"$f":"[4]INDICECLIMAORGANIZACIONAL!A262","v":"TOTAL"},null,null,{"$f":"[4]INDICECLIMAORGANIZACIONAL!D262","v":192},{"$f":"[4]INDICECLIMAORGANIZACIONAL!E262","v":{"v":1,"d":"100.00%"}},{"$nulls":4},{"$f":"[4]INDICECLIMAORGANIZACIONAL!J262","v":"*"},{"$f":"[4]INDICECLIMAORGANIZACIONAL!K262","v":"*"}]
[]
[{"$f":"[4]INDICECLIMAORGANIZACIONAL!A264","v":"DURANTE O PERÍODO DE PANDEMIA, NO TELETRABALHO, CONTRIBUÍ PARA O DESENVOLVIMENTO DAS ATIVIDADES NECESSÁRIAS?"},null,{"$f":"[4]INDICECLIMAORGANIZACIONAL!C264","v":"ITEM 35"},{"$f":"[4]INDICECLIMAORGANIZACIONAL!D264","v":2020},{"$nulls":4},{"$f":"[4]INDICECLIMAORGANIZACIONAL!I264","v":"ITEM **"},{"$f":"[4]INDICECLIMAORGANIZACIONAL!J264","v":2017}]
[{"$nulls":3},{"$f":"[4]INDICECLIMAORGANIZACIONAL!D265","v":"TOTAL"},{"$f":"[4]INDICECLIMAORGANIZACIONAL!E265","v":"%"},{"$f":"[4]INDICECLIMAORGANIZACIONAL!F265","v":"RESULTADO"},{"$f":"[4]INDICECLIMAORGANIZACIONAL!G265","v":"ITEM AVALIADO POSITIVAMENTE?             (1 - SIM / 0 - NÃO)"},null,null,{"$f":"[4]INDICECLIMAORGANIZACIONAL!J265","v":"TOTAL"},{"$f":"[4]INDICECLIMAORGANIZACIONAL!K265","v":"%"},{"$f":"[4]INDICECLIMAORGANIZACIONAL!L265","v":"RESULTADO"},{"$f":"[4]INDICECLIMAORGANIZACIONAL!M265","v":"ITEM AVALIADO POSITIVAMENTE?             (1 - SIM / 0 - NÃO)"}]
[{"$f":"[4]INDICECLIMAORGANIZACIONAL!A266","v":"SIM"},null,null,{"$f":"[4]INDICECLIMAORGANIZACIONAL!D266","v":173},{"$f":"[4]INDICECLIMAORGANIZACIONAL!E266","v":{"v":0.9010416666666666,"d":"90.10%"}},{"$f":"[4]INDICECLIMAORGANIZACIONAL!F266","v":"DESEJÁVEL"},{"$f":"[4]INDICECLIMAORGANIZACIONAL!G266","v":1},null,null,{"$f":"[4]INDICECLIMAORGANIZACIONAL!J266","v":"*"},{"$f":"[4]INDICECLIMAORGANIZACIONAL!K266","v":"*"},{"$f":"[4]INDICECLIMAORGANIZACIONAL!L266","v":"*"},{"$f":"[4]INDICECLIMAORGANIZACIONAL!M266","v":"**"}]
[{"$f":"[4]INDICECLIMAORGANIZACIONAL!A267","v":"PARCIAL"},null,null,{"$f":"[4]INDICECLIMAORGANIZACIONAL!D267","v":17},{"$f":"[4]INDICECLIMAORGANIZACIONAL!E267","v":{"v":0.08854166666666667,"d":"8.85%"}},{"$f":"[4]INDICECLIMAORGANIZACIONAL!F267","v":"SATISFATÓRIO"},{"$nulls":3},{"$f":"[4]INDICECLIMAORGANIZACIONAL!J267","v":"*"},{"$f":"[4]INDICECLIMAORGANIZACIONAL!K267","v":"*"},{"$f":"[4]INDICECLIMAORGANIZACIONAL!L267","v":"*"}]
[{"$f":"[4]INDICECLIMAORGANIZACIONAL!A268","v":"NÃO"},null,null,{"$f":"[4]INDICECLIMAORGANIZACIONAL!D268","v":2},{"$f":"[4]INDICECLIMAORGANIZACIONAL!E268","v":{"v":0.010416666666666666,"d":"1.04%"}},{"$f":"[4]INDICECLIMAORGANIZACIONAL!F268","v":"DESEJÁVEL"},{"$nulls":3},{"$f":"[4]INDICECLIMAORGANIZACIONAL!J268","v":"*"},{"$f":"[4]INDICECLIMAORGANIZACIONAL!K268","v":"*"},{"$f":"[4]INDICECLIMAORGANIZACIONAL!L268","v":"*"}]
[{"$f":"[4]INDICECLIMAORGANIZACIONAL!A269","v":"TOTAL"},null,null,{"$f":"[4]INDICECLIMAORGANIZACIONAL!D269","v":192},{"$f":"[4]INDICECLIMAORGANIZACIONAL!E269","v":{"v":0.9999999999999999,"d":"100.00%"}},{"$nulls":4},{"$f":"[4]INDICECLIMAORGANIZACIONAL!J269","v":"*"},{"$f":"[4]INDICECLIMAORGANIZACIONAL!K269","v":"*"}]
[]
[{"$f":"[4]INDICECLIMAORGANIZACIONAL!A271","v":"DURANTE O PERÍODO DA PANDEMIA, NO TRABALHO PRESENCIAL, CONTRIBUÍ PARA O DESENVOLVIMENTO DAS NECESSÁRIAS?"},null,{"$f":"[4]INDICECLIMAORGANIZACIONAL!C271","v":"ITEM 36"},{"$f":"[4]INDICECLIMAORGANIZACIONAL!D271","v":2020},{"$nulls":4},{"$f":"[4]INDICECLIMAORGANIZACIONAL!I271","v":"ITEM **"},{"$f":"[4]INDICECLIMAORGANIZACIONAL!J271","v":2017}]
[{"$nulls":3},{"$f":"[4]INDICECLIMAORGANIZACIONAL!D272","v":"TOTAL"},{"$f":"[4]INDICECLIMAORGANIZACIONAL!E272","v":"%"},{"$f":"[4]INDICECLIMAORGANIZACIONAL!F272","v":"RESULTADO"},{"$f":"[4]INDICECLIMAORGANIZACIONAL!G272","v":"ITEM AVALIADO POSITIVAMENTE?             (1 - SIM / 0 - NÃO)"},null,null,{"$f":"[4]INDICECLIMAORGANIZACIONAL!J272","v":"TOTAL"},{"$f":"[4]INDICECLIMAORGANIZACIONAL!K272","v":"%"},{"$f":"[4]INDICECLIMAORGANIZACIONAL!L272","v":"RESULTADO"},{"$f":"[4]INDICECLIMAORGANIZACIONAL!M272","v":"ITEM AVALIADO POSITIVAMENTE?             (1 - SIM / 0 - NÃO)"}]
[{"$f":"[4]INDICECLIMAORGANIZACIONAL!A273","v":"SIM"},null,null,{"$f":"[4]INDICECLIMAORGANIZACIONAL!D273","v":151},{"$f":"[4]INDICECLIMAORGANIZACIONAL!E273","v":{"v":0.7864583333333334,"d":"78.65%"}},{"$f":"[4]INDICECLIMAORGANIZACIONAL!F273","v":"SATISFATÓRIO"},{"$f":"[4]INDICECLIMAORGANIZACIONAL!G273","v":1},null,null,{"$f":"[4]INDICECLIMAORGANIZACIONAL!J273","v":"*"},{"$f":"[4]INDICECLIMAORGANIZACIONAL!K273","v":"*"},{"$f":"[4]INDICECLIMAORGANIZACIONAL!L273","v":"*"},{"$f":"[4]INDICECLIMAORGANIZACIONAL!M273","v":"**"}]
[{"$f":"[4]INDICECLIMAORGANIZACIONAL!A274","v":"PARCIAL"},null,null,{"$f":"[4]INDICECLIMAORGANIZACIONAL!D274","v":27},{"$f":"[4]INDICECLIMAORGANIZACIONAL!E274","v":{"v":0.140625,"d":"14.06%"}},{"$f":"[4]INDICECLIMAORGANIZACIONAL!F274","v":"SATISFATÓRIO"},{"$nulls":3},{"$f":"[4]INDICECLIMAORGANIZACIONAL!J274","v":"*"},{"$f":"[4]INDICECLIMAORGANIZACIONAL!K274","v":"*"},{"$f":"[4]INDICECLIMAORGANIZACIONAL!L274","v":"*"}]
[{"$f":"[4]INDICECLIMAORGANIZACIONAL!A275","v":"NÃO"},null,null,{"$f":"[4]INDICECLIMAORGANIZACIONAL!D275","v":14},{"$f":"[4]INDICECLIMAORGANIZACIONAL!E275","v":{"v":0.07291666666666667,"d":"7.29%"}},{"$f":"[4]INDICECLIMAORGANIZACIONAL!F275","v":"SATISFATÓRIO"},{"$nulls":3},{"$f":"[4]INDICECLIMAORGANIZACIONAL!J275","v":"*"},{"$f":"[4]INDICECLIMAORGANIZACIONAL!K275","v":"*"},{"$f":"[4]INDICECLIMAORGANIZACIONAL!L275","v":"*"}]
[{"$f":"[4]INDICECLIMAORGANIZACIONAL!A276","v":"TOTAL"},null,null,{"$f":"[4]INDICECLIMAORGANIZACIONAL!D276","v":192},{"$f":"[4]INDICECLIMAORGANIZACIONAL!E276","v":{"v":1,"d":"100.00%"}},{"$nulls":4},{"$f":"[4]INDICECLIMAORGANIZACIONAL!J276","v":"*"},{"$f":"[4]INDICECLIMAORGANIZACIONAL!K276","v":"*"}]

{"sheet":"PCOVD","index":21,"n_rows":0,"n_cols":0,"rows_kept":0}

{"sheet":"PCOVCO","index":22,"n_rows":0,"n_cols":0,"rows_kept":0}

{"sheet":"VDCATEGORIAFUNCIONAL","index":23,"n_rows":22,"n_cols":5,"rows_kept":22,"merged":[[11,0,12,0],[11,1,11,2],[11,3,11,4],[20,1,20,2],[20,3,20,4],[21,1,21,2],[21,3,21,4]]}
{"$rows_empty":11}
[{"$f":"'[4]VD-CATEGORIAFUNCIONAL'!A3","v":"CATEGORIA FUNCIONAL"},{"$f":"'[4]VD-CATEGORIAFUNCIONAL'!B3","v":2020},null,{"$f":"'[4]VD-CATEGORIAFUNCIONAL'!D3","v":2017}]
[null,{"$f":"'[4]VD-CATEGORIAFUNCIONAL'!B4","v":"TOTAL"},{"$f":"'[4]VD-CATEGORIAFUNCIONAL'!C4","v":"%"},{"$f":"'[4]VD-CATEGORIAFUNCIONAL'!D4","v":"TOTAL"},{"$f":"'[4]VD-CATEGORIAFUNCIONAL'!E4","v":"%"}]
[{"$f":"'[4]VD-CATEGORIAFUNCIONAL'!A5","v":"PGPE"},{"$f":"'[4]VD-CATEGORIAFUNCIONAL'!B5","v":43},{"$f":"'[4]VD-CATEGORIAFUNCIONAL'!C5","v":{"v":0.22395833333333334,"d":"22.40%"}},{"$f":"'[4]VD-CATEGORIAFUNCIONAL'!D5","v":52},{"$f":"'[4]VD-CATEGORIAFUNCIONAL'!E5","v":{"v":0.27225130890052357,"d":"27.23%"}}]
[{"$f":"'[4]VD-CATEGORIAFUNCIONAL'!A6","v":"EXERCÍCIO DESCENTRALIZADO"},{"$f":"'[4]VD-CATEGORIAFUNCIONAL'!B6","v":42},{"$f":"'[4]VD-CATEGORIAFUNCIONAL'!C6","v":{"v":0.21875,"d":"21.88%"}},{"$f":"'[4]VD-CATEGORIAFUNCIONAL'!D6","v":46},{"$f":"'[4]VD-CATEGORIAFUNCIONAL'!E6","v":{"v":0.24083769633507854,"d":"24.08%"}}]
[{"$f":"'[4]VD-CATEGORIAFUNCIONAL'!A7","v":"ANISTIADO"},{"$f":"'[4]VD-CATEGORIAFUNCIONAL'!B7","v":25},{"$f":"'[4]VD-CATEGORIAFUNCIONAL'!C7","v":{"v":0.13020833333333334,"d":"13.02%"}},{"$f":"'[4]VD-CATEGORIAFUNCIONAL'!D7","v":24},{"$f":"'[4]VD-CATEGORIAFUNCIONAL'!E7","v":{"v":0.1256544502617801,"d":"12.57%"}}]
[{"$f":"'[4]VD-CATEGORIAFUNCIONAL'!A8","v":"REQUISITADO OUTROS ÓRGÃOS"},{"$f":"'[4]VD-CATEGORIAFUNCIONAL'!B8","v":26},{"$f":"'[4]VD-CATEGORIAFUNCIONAL'!C8","v":{"v":0.13541666666666666,"d":"13.54%"}},{"$f":"'[4]VD-CATEGORIAFUNCIONAL'!D8","v":25},{"$f":"'[4]VD-CATEGORIAFUNCIONAL'!E8","v":{"v":0.13089005235602094,"d":"13.09%"}}]
[{"$f":"'[4]VD-CATEGORIAFUNCIONAL'!A9","v":"SEM VÍNCULO"},{"$f":"'[4]VD-CATEGORIAFUNCIONAL'!B9","v":56},{"$f":"'[4]VD-CATEGORIAFUNCIONAL'!C9","v":{"v":0.2916666666666667,"d":"29.17%"}},{"$f":"'[4]VD-CATEGORIAFUNCIONAL'!D9","v":44},{"$f":"'[4]VD-CATEGORIAFUNCIONAL'!E9","v":{"v":0.23036649214659685,"d":"23.04%"}}]
[{"$f":"'[4]VD-CATEGORIAFUNCIONAL'!A10","v":"TOTAL"},{"$f":"'[4]VD-CATEGORIAFUNCIONAL'!B10","v":192},{"$f":"'[4]VD-CATEGORIAFUNCIONAL'!C10","v":{"v":1,"d":"100.00%"}},{"$f":"'[4]VD-CATEGORIAFUNCIONAL'!D10","v":191},{"$f":"'[4]VD-CATEGORIAFUNCIONAL'!E10","v":{"v":1,"d":"100.00%"}}]
[]
[{"$f":"'[4]VD-CATEGORIAFUNCIONAL'!A12","v":"TOTAL DE SERVIDORES/EMPREGADOS EM EXERCÍCIO NO MME"},{"$f":"'[4]VD-CATEGORIAFUNCIONAL'!B12","v":517},null,{"$f":"'[4]VD-CATEGORIAFUNCIONAL'!D12","v":546}]
[{"$f":"'[4]VD-CATEGORIAFUNCIONAL'!A13","v":"% DE PARTICIPAÇÃO DOS SERVIDORES/EMPREGADOS"},{"$f":"'[4]VD-CATEGORIAFUNCIONAL'!B13","v":{"v":0.3713733075435203,"d":"37.14%"}},null,{"$f":"'[4]VD-CATEGORIAFUNCIONAL'!D13","v":{"v":0.3498168498168498,"d":"34.98%"}}]

{"sheet":"VDTEMPOSERVIÇO","index":24,"n_rows":19,"n_cols":5,"rows_kept":19,"merged":[[11,0,12,0],[11,1,11,2],[11,3,11,4]]}
{"$rows_empty":11}
[{"$f":"'[4]VD-TEMPODESERVIÇO'!A3","v":"TEMPO DE SERVIÇO"},{"$f":"'[4]VD-TEMPODESERVIÇO'!B3","v":2020},null,{"$f":"'[4]VD-TEMPODESERVIÇO'!D3","v":2017}]
[null,{"$f":"'[4]VD-TEMPODESERVIÇO'!B4","v":"TOTAL"},{"$f":"'[4]VD-TEMPODESERVIÇO'!C4","v":"%"},{"$f":"'[4]VD-TEMPODESERVIÇO'!D4","v":"TOTAL"},{"$f":"'[4]VD-TEMPODESERVIÇO'!E4","v":"%"}]
[{"$f":"'[4]VD-TEMPODESERVIÇO'!A5","v":"menos de 1 ano"},{"$f":"'[4]VD-TEMPODESERVIÇO'!B5","v":8},{"$f":"'[4]VD-TEMPODESERVIÇO'!C5","v":{"v":0.041666666666666664,"d":"4.17%"}},{"$f":"'[4]VD-TEMPODESERVIÇO'!D5","v":11},{"$f":"'[4]VD-TEMPODESERVIÇO'!E5","v":{"v":0.0582010582010582,"d":"5.82%"}}]
[{"$f":"'[4]VD-TEMPODESERVIÇO'!A6","v":"de 1 a 3 anos"},{"$f":"'[4]VD-TEMPODESERVIÇO'!B6","v":26},{"$f":"'[4]VD-TEMPODESERVIÇO'!C6","v":{"v":0.13541666666666666,"d":"13.54%"}},{"$f":"'[4]VD-TEMPODESERVIÇO'!D6","v":16},{"$f":"'[4]VD-TEMPODESERVIÇO'!E6","v":{"v":0.08465608465608465,"d":"8.47%"}}]
[{"$f":"'[4]VD-TEMPODESERVIÇO'!A7","v":"de 4 a 9 anos"},{"$f":"'[4]VD-TEMPODESERVIÇO'!B7","v":27},{"$f":"'[4]VD-TEMPODESERVIÇO'!C7","v":{"v":0.140625,"d":"14.06%"}},{"$f":"'[4]VD-TEMPODESERVIÇO'!D7","v":64},{"$f":"'[4]VD-TEMPODESERVIÇO'!E7","v":{"v":0.3386243386243386,"d":"33.86%"}}]
[{"$f":"'[4]VD-TEMPODESERVIÇO'!A8","v":"de 10 a 19 anos"},{"$f":"'[4]VD-TEMPODESERVIÇO'!B8","v":75},{"$f":"'[4]VD-TEMPODESERVIÇO'!C8","v":{"v":0.390625,"d":"39.06%"}},{"$f":"'[4]VD-TEMPODESERVIÇO'!D8","v":39},{"$f":"'[4]VD-TEMPODESERVIÇO'!E8","v":{"v":0.20634920634920634,"d":"20.63%"}}]
[{"$f":"'[4]VD-TEMPODESERVIÇO'!A9","v":"acima de 20 anos"},{"$f":"'[4]VD-TEMPODESERVIÇO'!B9","v":56},{"$f":"'[4]VD-TEMPODESERVIÇO'!C9","v":{"v":0.2916666666666667,"d":"29.17%"}},{"$f":"'[4]VD-TEMPODESERVIÇO'!D9","v":59},{"$f":"'[4]VD-TEMPODESERVIÇO'!E9","v":{"v":0.31216931216931215,"d":"31.22%"}}]
[{"$f":"'[4]VD-TEMPODESERVIÇO'!A10","v":"TOTAL"},{"$f":"'[4]VD-TEMPODESERVIÇO'!B10","v":192},{"$f":"'[4]VD-TEMPODESERVIÇO'!C10","v":{"v":1,"d":"100.00%"}},{"$f":"'[4]VD-TEMPODESERVIÇO'!D10","v":189},{"$f":"'[4]VD-TEMPODESERVIÇO'!E10","v":{"v":1,"d":"100.00%"}}]

{"sheet":"VDGENERO","index":25,"n_rows":16,"n_cols":5,"rows_kept":16,"merged":[[11,0,12,0],[11,1,11,2],[11,3,11,4]]}
{"$rows_empty":11}
[{"$f":"'[4]VD-SEXO'!A3","v":"SEXO"},{"$f":"'[4]VD-SEXO'!B3","v":2020},null,{"$f":"'[4]VD-SEXO'!D3","v":2017}]
[null,{"$f":"'[4]VD-SEXO'!B4","v":"TOTAL"},{"$f":"'[4]VD-SEXO'!C4","v":"%"},{"$f":"'[4]VD-SEXO'!D4","v":"TOTAL"},{"$f":"'[4]VD-SEXO'!E4","v":"%"}]
[{"$f":"'[4]VD-SEXO'!A5","v":"Masculino"},{"$f":"'[4]VD-SEXO'!B5","v":97},{"$f":"'[4]VD-SEXO'!C5","v":{"v":0.5052083333333334,"d":"50.52%"}},{"$f":"'[4]VD-SEXO'!D5","v":84},{"$f":"'[4]VD-SEXO'!E5","v":{"v":0.4444444444444444,"d":"44.44%"}}]
[{"$f":"'[4]VD-SEXO'!A6","v":"Feminino"},{"$f":"'[4]VD-SEXO'!B6","v":95},{"$f":"'[4]VD-SEXO'!C6","v":{"v":0.4947916666666667,"d":"49.48%"}},{"$f":"'[4]VD-SEXO'!D6","v":105},{"$f":"'[4]VD-SEXO'!E6","v":{"v":0.5555555555555556,"d":"55.56%"}}]
[{"$f":"'[4]VD-SEXO'!A7","v":"TOTAL"},{"$f":"'[4]VD-SEXO'!B7","v":192},{"$f":"'[4]VD-SEXO'!C7","v":{"v":1,"d":"100.00%"}},{"$f":"'[4]VD-SEXO'!D7","v":189},{"$f":"'[4]VD-SEXO'!E7","v":{"v":1,"d":"100.00%"}}]

{"sheet":"VDIDADE","index":26,"n_rows":19,"n_cols":5,"rows_kept":19,"merged":[[11,0,12,0],[11,1,11,2],[11,3,11,4]]}
{"$rows_empty":11}
[{"$f":"'[4]VD-IDADE'!A3","v":"IDADE"},{"$f":"'[4]VD-IDADE'!B3","v":2020},null,{"$f":"'[4]VD-IDADE'!D3","v":2017}]
[null,{"$f":"'[4]VD-IDADE'!B4","v":"TOTAL"},{"$f":"'[4]VD-IDADE'!C4","v":"%"},{"$f":"'[4]VD-IDADE'!D4","v":"TOTAL"},{"$f":"'[4]VD-IDADE'!E4","v":"%"}]
[{"$f":"'[4]VD-IDADE'!A5","v":"20 a 30 anos"},{"$f":"'[4]VD-IDADE'!B5","v":10},{"$f":"'[4]VD-IDADE'!C5","v":{"v":0.052083333333333336,"d":"5.21%"}},{"$f":"'[4]VD-IDADE'!D5","v":8},{"$f":"'[4]VD-IDADE'!E5","v":{"v":0.042328042328042326,"d":"4.23%"}}]
[{"$f":"'[4]VD-IDADE'!A6","v":"31 a 45 anos"},{"$f":"'[4]VD-IDADE'!B6","v":60},{"$f":"'[4]VD-IDADE'!C6","v":{"v":0.3125,"d":"31.25%"}},{"$f":"'[4]VD-IDADE'!D6","v":66},{"$f":"'[4]VD-IDADE'!E6","v":{"v":0.3492063492063492,"d":"34.92%"}}]
[{"$f":"'[4]VD-IDADE'!A7","v":"46 a 55 anos"},{"$f":"'[4]VD-IDADE'!B7","v":54},{"$f":"'[4]VD-IDADE'!C7","v":{"v":0.28125,"d":"28.13%"}},{"$f":"'[4]VD-IDADE'!D7","v":55},{"$f":"'[4]VD-IDADE'!E7","v":{"v":0.291005291005291,"d":"29.10%"}}]
[{"$f":"'[4]VD-IDADE'!A8","v":"56 a 65 anos"},{"$f":"'[4]VD-IDADE'!B8","v":48},{"$f":"'[4]VD-IDADE'!C8","v":{"v":0.25,"d":"25.00%"}},{"$f":"'[4]VD-IDADE'!D8","v":51},{"$f":"'[4]VD-IDADE'!E8","v":{"v":0.2698412698412698,"d":"26.98%"}}]
[{"$f":"'[4]VD-IDADE'!A9","v":"acima de 66 anos"},{"$f":"'[4]VD-IDADE'!B9","v":20},{"$f":"'[4]VD-IDADE'!C9","v":{"v":0.10416666666666667,"d":"10.42%"}},{"$f":"'[4]VD-IDADE'!D9","v":9},{"$f":"'[4]VD-IDADE'!E9","v":{"v":0.047619047619047616,"d":"4.76%"}}]
[{"$f":"'[4]VD-IDADE'!A10","v":"TOTAL"},{"$f":"'[4]VD-IDADE'!B10","v":192},{"$f":"'[4]VD-IDADE'!C10","v":{"v":0.9999999999999999,"d":"100.00%"}},{"$f":"'[4]VD-IDADE'!D10","v":189},{"$f":"'[4]VD-IDADE'!E10","v":{"v":1,"d":"100.00%"}}]

{"sheet":"VDESCOLARIDADE","index":27,"n_rows":19,"n_cols":5,"rows_kept":19,"merged":[[11,0,12,0],[11,1,11,2],[11,3,11,4]]}
{"$rows_empty":11}
[{"$f":"'[4]VD-ESCOLARIDADE'!A3","v":"ESCOLARIDADE"},{"$f":"'[4]VD-ESCOLARIDADE'!B3","v":2020},null,{"$f":"'[4]VD-ESCOLARIDADE'!D3","v":2017}]
[null,{"$f":"'[4]VD-ESCOLARIDADE'!B4","v":"TOTAL"},{"$f":"'[4]VD-ESCOLARIDADE'!C4","v":"%"},{"$f":"'[4]VD-ESCOLARIDADE'!D4","v":"TOTAL"},{"$f":"'[4]VD-ESCOLARIDADE'!E4","v":"%"}]
[{"$f":"'[4]VD-ESCOLARIDADE'!A5","v":"Nível Médio"},{"$f":"'[4]VD-ESCOLARIDADE'!B5","v":18},{"$f":"'[4]VD-ESCOLARIDADE'!C5","v":{"v":0.09375,"d":"9.38%"}},{"$f":"'[4]VD-ESCOLARIDADE'!D5","v":24},{"$f":"'[4]VD-ESCOLARIDADE'!E5","v":{"v":0.12698412698412698,"d":"12.70%"}}]
[{"$f":"'[4]VD-ESCOLARIDADE'!A6","v":"Superior"},{"$f":"'[4]VD-ESCOLARIDADE'!B6","v":65},{"$f":"'[4]VD-ESCOLARIDADE'!C6","v":{"v":0.3385416666666667,"d":"33.85%"}},{"$f":"'[4]VD-ESCOLARIDADE'!D6","v":58},{"$f":"'[4]VD-ESCOLARIDADE'!E6","v":{"v":0.30687830687830686,"d":"30.69%"}}]
[{"$f":"'[4]VD-ESCOLARIDADE'!A7","v":"Pós Graduação"},{"$f":"'[4]VD-ESCOLARIDADE'!B7","v":75},{"$f":"'[4]VD-ESCOLARIDADE'!C7","v":{"v":0.390625,"d":"39.06%"}},{"$f":"'[4]VD-ESCOLARIDADE'!D7","v":77},{"$f":"'[4]VD-ESCOLARIDADE'!E7","v":{"v":0.4074074074074074,"d":"40.74%"}}]
[{"$f":"'[4]VD-ESCOLARIDADE'!A8","v":"Mestrado"},{"$f":"'[4]VD-ESCOLARIDADE'!B8","v":26},{"$f":"'[4]VD-ESCOLARIDADE'!C8","v":{"v":0.13541666666666666,"d":"13.54%"}},{"$f":"'[4]VD-ESCOLARIDADE'!D8","v":21},{"$f":"'[4]VD-ESCOLARIDADE'!E8","v":{"v":0.1111111111111111,"d":"11.11%"}}]
[{"$f":"'[4]VD-ESCOLARIDADE'!A9","v":"Doutorado"},{"$f":"'[4]VD-ESCOLARIDADE'!B9","v":8},{"$f":"'[4]VD-ESCOLARIDADE'!C9","v":{"v":0.041666666666666664,"d":"4.17%"}},{"$f":"'[4]VD-ESCOLARIDADE'!D9","v":9},{"$f":"'[4]VD-ESCOLARIDADE'!E9","v":{"v":0.047619047619047616,"d":"4.76%"}}]
[{"$f":"'[4]VD-ESCOLARIDADE'!A10","v":"TOTAL"},{"$f":"'[4]VD-ESCOLARIDADE'!B10","v":192},{"$f":"'[4]VD-ESCOLARIDADE'!C10","v":{"v":1,"d":"100.00%"}},{"$f":"'[4]VD-ESCOLARIDADE'!D10","v":189},{"$f":"'[4]VD-ESCOLARIDADE'!E10","v":{"v":1,"d":"100.00%"}}]

{"sheet":"VDNIVELCARGO","index":28,"n_rows":17,"n_cols":5,"rows_kept":17,"merged":[[11,0,12,0],[11,1,11,2],[11,3,11,4]]}
{"$rows_empty":11}
[{"$f":"'[4]VD-NIVELCARGO'!A3","v":"Nível do cargo que ocupa no MME"},{"$f":"'[4]VD-NIVELCARGO'!B3","v":2020},null,{"$f":"'[4]VD-NIVELCARGO'!D3","v":2017}]
[null,{"$f":"'[4]VD-NIVELCARGO'!B4","v":"TOTAL"},{"$f":"'[4]VD-NIVELCARGO'!C4","v":"%"},{"$f":"'[4]VD-NIVELCARGO'!D4","v":"TOTAL"},{"$f":"'[4]VD-NIVELCARGO'!E4","v":"%"}]
[{"$f":"'[4]VD-NIVELCARGO'!A5","v":"Auxiliar"},{"$f":"'[4]VD-NIVELCARGO'!B5","v":22},{"$f":"'[4]VD-NIVELCARGO'!C5","v":{"v":0.11458333333333333,"d":"11.46%"}},{"$f":"'[4]VD-NIVELCARGO'!D5","v":13},{"$f":"'[4]VD-NIVELCARGO'!E5","v":{"v":0.06878306878306878,"d":"6.88%"}}]
[{"$f":"'[4]VD-NIVELCARGO'!A6","v":"Intermediário"},{"$f":"'[4]VD-NIVELCARGO'!B6","v":56},{"$f":"'[4]VD-NIVELCARGO'!C6","v":{"v":0.2916666666666667,"d":"29.17%"}},{"$f":"'[4]VD-NIVELCARGO'!D6","v":67},{"$f":"'[4]VD-NIVELCARGO'!E6","v":{"v":0.3544973544973545,"d":"35.45%"}}]
[{"$f":"'[4]VD-NIVELCARGO'!A7","v":"Superior"},{"$f":"'[4]VD-NIVELCARGO'!B7","v":114},{"$f":"'[4]VD-NIVELCARGO'!C7","v":{"v":0.59375,"d":"59.38%"}},{"$f":"'[4]VD-NIVELCARGO'!D7","v":109},{"$f":"'[4]VD-NIVELCARGO'!E7","v":{"v":0.5767195767195767,"d":"57.67%"}}]
[{"$f":"'[4]VD-NIVELCARGO'!A8","v":"TOTAL"},{"$f":"'[4]VD-NIVELCARGO'!B8","v":192},{"$f":"'[4]VD-NIVELCARGO'!C8","v":{"v":1,"d":"100.00%"}},{"$f":"'[4]VD-NIVELCARGO'!D8","v":189},{"$f":"'[4]VD-NIVELCARGO'!E8","v":{"v":1,"d":"100.00%"}}]

{"sheet":"VDLOTAÇÃO","index":29,"n_rows":49,"n_cols":6,"rows_kept":49,"merged":[[11,0,12,0],[11,1,11,2],[11,3,11,4]]}
{"$rows_empty":9}
[{"$nulls":5},{"$f":"'[4]VD-LOTAÇÃO'!F1","v":0}]
[{"$nulls":5},{"$f":"'[4]VD-LOTAÇÃO'!F2","v":0}]
[{"$f":"'[4]VD-LOTAÇÃO'!A3","v":"LOTAÇÃO"},{"$f":"'[4]VD-LOTAÇÃO'!B3","v":2020},null,{"$f":"'[4]VD-LOTAÇÃO'!D3","v":2017}]
[null,{"$f":"'[4]VD-LOTAÇÃO'!B4","v":"TOTAL"},{"$f":"'[4]VD-LOTAÇÃO'!C4","v":"%"},{"$f":"'[4]VD-LOTAÇÃO'!D4","v":"TOTAL"},{"$f":"'[4]VD-LOTAÇÃO'!E4","v":"%"}]
[{"$f":"'[4]VD-LOTAÇÃO'!A5","v":"Área Finalística "},{"$f":"'[4]VD-LOTAÇÃO'!B5","v":71},{"$f":"'[4]VD-LOTAÇÃO'!C5","v":{"v":0.3697916666666667,"d":"36.98%"}},{"$f":"'[4]VD-LOTAÇÃO'!D5","v":86},{"$f":"'[4]VD-LOTAÇÃO'!E5","v":{"v":0.4574468085106383,"d":"45.74%"}}]
[{"$f":"'[4]VD-LOTAÇÃO'!A6","v":"Área Meio"},{"$f":"'[4]VD-LOTAÇÃO'!B6","v":121},{"$f":"'[4]VD-LOTAÇÃO'!C6","v":{"v":0.6302083333333334,"d":"63.02%"}},{"$f":"'[4]VD-LOTAÇÃO'!D6","v":102},{"$f":"'[4]VD-LOTAÇÃO'!E6","v":{"v":0.5425531914893617,"d":"54.26%"}}]
[{"$f":"'[4]VD-LOTAÇÃO'!A7","v":"TOTAL"},{"$f":"'[4]VD-LOTAÇÃO'!B7","v":192},{"$f":"'[4]VD-LOTAÇÃO'!C7","v":{"v":1,"d":"100.00%"}},{"$f":"'[4]VD-LOTAÇÃO'!D7","v":188},{"$f":"'[4]VD-LOTAÇÃO'!E7","v":{"v":1,"d":"100.00%"}}]
{"$rows_empty":14}
[{"$nulls":5},{"$f":"'[4]VD-LOTAÇÃO'!F22","v":0}]
[{"$nulls":5},{"$f":"'[4]VD-LOTAÇÃO'!F23","v":0}]
[{"$nulls":5},{"$f":"'[4]VD-LOTAÇÃO'!F24","v":0}]
[{"$nulls":5},{"$f":"'[4]VD-LOTAÇÃO'!F25","v":0}]
[{"$nulls":5},{"$f":"'[4]VD-LOTAÇÃO'!F26","v":0}]
[{"$nulls":5},{"$f":"'[4]VD-LOTAÇÃO'!F27","v":0}]
[{"$nulls":5},{"$f":"'[4]VD-LOTAÇÃO'!F28","v":0}]
[{"$nulls":5},{"$f":"'[4]VD-LOTAÇÃO'!F29","v":0}]
[{"$nulls":5},{"$f":"'[4]VD-LOTAÇÃO'!F30","v":0}]
[{"$nulls":5},{"$f":"'[4]VD-LOTAÇÃO'!F31","v":0}]
[{"$nulls":5},{"$f":"'[4]VD-LOTAÇÃO'!F32","v":0}]
[{"$nulls":5},{"$f":"'[4]VD-LOTAÇÃO'!F33","v":0}]
[{"$nulls":5},{"$f":"'[4]VD-LOTAÇÃO'!F34","v":0}]
[{"$nulls":5},{"$f":"'[4]VD-LOTAÇÃO'!F35","v":0}]
[{"$nulls":5},{"$f":"'[4]VD-LOTAÇÃO'!F36","v":0}]
[{"$nulls":5},{"$f":"'[4]VD-LOTAÇÃO'!F37","v":0}]
[{"$nulls":5},{"$f":"'[4]VD-LOTAÇÃO'!F38","v":0}]
[{"$nulls":5},{"$f":"'[4]VD-LOTAÇÃO'!F39","v":0}]
[{"$nulls":5},{"$f":"'[4]VD-LOTAÇÃO'!F40","v":0}]

{"sheet":"VDDESLIGAMENTO","index":30,"n_rows":17,"n_cols":17,"rows_kept":17,"merged":[[11,0,12,0],[11,1,11,2],[11,3,11,4],[11,6,12,6],[11,7,11,8],[11,9,11,10],[11,12,12,12],[11,13,11,14],[11,15,11,16]]}
{"$rows_empty":11}
[{"$f":"'[4]VD-DESLIGAMENTO'!A3","v":"EM UM FUTURO PRÓXIMO DESEJO ME DESLIGAR DO MINISTÉRIO"},{"$f":"'[4]VD-DESLIGAMENTO'!B3","v":2020},null,{"$f":"'[4]VD-DESLIGAMENTO'!D3","v":2017},null,null,{"$f":"'[4]VD-DESLIGAMENTO'!G3","v":"POR MOTIVO DE "},{"$f":"'[4]VD-DESLIGAMENTO'!H3","v":2020},null,{"$f":"'[4]VD-DESLIGAMENTO'!J3","v":2017},null,null,{"$f":"'[4]VD-DESLIGAMENTO'!M3","v":"EM QUANTO TEMPO"},{"$f":"'[4]VD-DESLIGAMENTO'!N3","v":2020},null,{"$f":"'[4]VD-DESLIGAMENTO'!P3","v":2017}]
[null,{"$f":"'[4]VD-DESLIGAMENTO'!B4","v":"TOTAL"},{"$f":"'[4]VD-DESLIGAMENTO'!C4","v":"%"},{"$f":"'[4]VD-DESLIGAMENTO'!D4","v":"TOTAL"},{"$f":"'[4]VD-DESLIGAMENTO'!E4","v":"%"},null,null,{"$f":"'[4]VD-DESLIGAMENTO'!H4","v":"TOTAL"},{"$f":"'[4]VD-DESLIGAMENTO'!I4","v":"%"},{"$f":"'[4]VD-DESLIGAMENTO'!J4","v":"TOTAL"},{"$f":"'[4]VD-DESLIGAMENTO'!K4","v":"%"},null,null,{"$f":"'[4]VD-DESLIGAMENTO'!N4","v":"TOTAL"},{"$f":"'[4]VD-DESLIGAMENTO'!O4","v":"%"},{"$f":"'[4]VD-DESLIGAMENTO'!P4","v":"TOTAL"},{"$f":"'[4]VD-DESLIGAMENTO'!Q4","v":"%"}]
[{"$f":"'[4]VD-DESLIGAMENTO'!A5","v":"Sim "},{"$f":"'[4]VD-DESLIGAMENTO'!B5","v":55},{"$f":"'[4]VD-DESLIGAMENTO'!C5","v":{"v":0.2864583333333333,"d":"28.65%"}},{"$f":"'[4]VD-DESLIGAMENTO'!D5","v":60},{"$f":"'[4]VD-DESLIGAMENTO'!E5","v":{"v":0.31746031746031744,"d":"31.75%"}},null,{"$f":"'[4]VD-DESLIGAMENTO'!G5","v":"Aposentadoria"},{"$f":"'[4]VD-DESLIGAMENTO'!H5","v":36},{"$f":"'[4]VD-DESLIGAMENTO'!I5","v":{"v":0.6545454545454545,"d":"65.45%"}},{"$f":"'[4]VD-DESLIGAMENTO'!J5","v":20},{"$f":"'[4]VD-DESLIGAMENTO'!K5","v":{"v":0.3333333333333333,"d":"33.33%"}},null,{"$f":"'[4]VD-DESLIGAMENTO'!M5","v":"menos de 1 ano"},{"$f":"'[4]VD-DESLIGAMENTO'!N5","v":7},{"$f":"'[4]VD-DESLIGAMENTO'!O5","v":{"v":0.12727272727272726,"d":"12.73%"}},{"$f":"'[4]VD-DESLIGAMENTO'!P5","v":16},{"$f":"'[4]VD-DESLIGAMENTO'!Q5","v":{"v":0.26666666666666666,"d":"26.67%"}}]
[{"$f":"'[4]VD-DESLIGAMENTO'!A6","v":"Não"},{"$f":"'[4]VD-DESLIGAMENTO'!B6","v":137},{"$f":"'[4]VD-DESLIGAMENTO'!C6","v":{"v":0.7135416666666666,"d":"71.35%"}},{"$f":"'[4]VD-DESLIGAMENTO'!D6","v":129},{"$f":"'[4]VD-DESLIGAMENTO'!E6","v":{"v":0.6825396825396826,"d":"68.25%"}},null,{"$f":"'[4]VD-DESLIGAMENTO'!G6","v":"Atividades em outro órgão"},{"$f":"'[4]VD-DESLIGAMENTO'!H6","v":6},{"$f":"'[4]VD-DESLIGAMENTO'!I6","v":{"v":0.10909090909090909,"d":"10.91%"}},{"$f":"'[4]VD-DESLIGAMENTO'!J6","v":16},{"$f":"'[4]VD-DESLIGAMENTO'!K6","v":{"v":0.26666666666666666,"d":"26.67%"}},null,{"$f":"'[4]VD-DESLIGAMENTO'!M6","v":"de 1 a 3 anos"},{"$f":"'[4]VD-DESLIGAMENTO'!N6","v":24},{"$f":"'[4]VD-DESLIGAMENTO'!O6","v":{"v":0.43636363636363634,"d":"43.64%"}},{"$f":"'[4]VD-DESLIGAMENTO'!P6","v":30},{"$f":"'[4]VD-DESLIGAMENTO'!Q6","v":{"v":0.5,"d":"50.00%"}}]
[{"$f":"'[4]VD-DESLIGAMENTO'!A7","v":"TOTAL"},{"$f":"'[4]VD-DESLIGAMENTO'!B7","v":192},{"$f":"'[4]VD-DESLIGAMENTO'!C7","v":{"v":1,"d":"100.00%"}},{"$f":"'[4]VD-DESLIGAMENTO'!D7","v":189},{"$f":"'[4]VD-DESLIGAMENTO'!E7","v":{"v":1,"d":"100.00%"}},null,{"$f":"'[4]VD-DESLIGAMENTO'!G7","v":"Outros"},{"$f":"'[4]VD-DESLIGAMENTO'!H7","v":13},{"$f":"'[4]VD-DESLIGAMENTO'!I7","v":{"v":0.23636363636363636,"d":"23.64%"}},{"$f":"'[4]VD-DESLIGAMENTO'!J7","v":24},{"$f":"'[4]VD-DESLIGAMENTO'!K7","v":{"v":0.4,"d":"40.00%"}},null,{"$f":"'[4]VD-DESLIGAMENTO'!M7","v":"de 4 a 5 anos"},{"$f":"'[4]VD-DESLIGAMENTO'!N7","v":24},{"$f":"'[4]VD-DESLIGAMENTO'!O7","v":{"v":0.43636363636363634,"d":"43.64%"}},{"$f":"'[4]VD-DESLIGAMENTO'!P7","v":14},{"$f":"'[4]VD-DESLIGAMENTO'!Q7","v":{"v":0.23333333333333334,"d":"23.33%"}}]
[{"$nulls":6},{"$f":"'[4]VD-DESLIGAMENTO'!G8","v":"TOTAL"},{"$f":"'[4]VD-DESLIGAMENTO'!H8","v":55},{"$f":"'[4]VD-DESLIGAMENTO'!I8","v":{"v":1,"d":"100.00%"}},{"$f":"'[4]VD-DESLIGAMENTO'!J8","v":60},{"$f":"'[4]VD-DESLIGAMENTO'!K8","v":{"v":1,"d":"100.00%"}},null,{"$f":"'[4]VD-DESLIGAMENTO'!M8","v":"TOTAL"},{"$f":"'[4]VD-DESLIGAMENTO'!N8","v":55},{"$f":"'[4]VD-DESLIGAMENTO'!O8","v":{"v":1,"d":"100.00%"}},{"$f":"'[4]VD-DESLIGAMENTO'!P8","v":60},{"$f":"'[4]VD-DESLIGAMENTO'!Q8","v":{"v":1,"d":"100.00%"}}]

{"sheet":"VCOPLANEJAMENTOESTRATEGICO","index":31,"n_rows":17,"n_cols":16,"rows_kept":17,"merged":[[11,0,12,0],[11,1,11,3],[11,4,11,6],[11,9,12,9],[11,10,11,12],[11,13,11,15]]}
{"$rows_empty":11}
[{"$f":"'[4]VCO-PLANEJAMENTOESTRATÉGICO'!A3","v":"TENHO CONHECIMENTO DA MISSÃO, VISÃO E VALORES DO MME?"},{"$f":"'[4]VCO-PLANEJAMENTOESTRATÉGICO'!B3","v":2020},null,null,{"$f":"'[4]VCO-PLANEJAMENTOESTRATÉGICO'!E3","v":2017},{"$nulls":4},{"$f":"'[4]VCO-PLANEJAMENTOESTRATÉGICO'!J3","v":"TENHO INTERESSE EM CONHECER A MISSÃO, VISÃO E VALORES DO MME?"},{"$f":"'[4]VCO-PLANEJAMENTOESTRATÉGICO'!K3","v":2020},null,null,{"$f":"'[4]VCO-PLANEJAMENTOESTRATÉGICO'!N3","v":2017}]
[null,{"$f":"'[4]VCO-PLANEJAMENTOESTRATÉGICO'!B4","v":"TOTAL"},{"$f":"'[4]VCO-PLANEJAMENTOESTRATÉGICO'!C4","v":"%"},{"$f":"'[4]VCO-PLANEJAMENTOESTRATÉGICO'!D4","v":"RESULTADO"},{"$f":"'[4]VCO-PLANEJAMENTOESTRATÉGICO'!E4","v":"TOTAL"},{"$f":"'[4]VCO-PLANEJAMENTOESTRATÉGICO'!F4","v":"%"},{"$f":"'[4]VCO-PLANEJAMENTOESTRATÉGICO'!G4","v":"RESULTADO"},{"$nulls":3},{"$f":"'[4]VCO-PLANEJAMENTOESTRATÉGICO'!K4","v":"TOTAL"},{"$f":"'[4]VCO-PLANEJAMENTOESTRATÉGICO'!L4","v":"%"},{"$f":"'[4]VCO-PLANEJAMENTOESTRATÉGICO'!M4","v":"RESULTADO"},{"$f":"'[4]VCO-PLANEJAMENTOESTRATÉGICO'!N4","v":"TOTAL"},{"$f":"'[4]VCO-PLANEJAMENTOESTRATÉGICO'!O4","v":"%"},{"$f":"'[4]VCO-PLANEJAMENTOESTRATÉGICO'!P4","v":"RESULTADO"}]
[{"$f":"'[4]VCO-PLANEJAMENTOESTRATÉGICO'!A5","v":"SIM"},{"$f":"'[4]VCO-PLANEJAMENTOESTRATÉGICO'!B5","v":136},{"$f":"'[4]VCO-PLANEJAMENTOESTRATÉGICO'!C5","v":{"v":0.7083333333333334,"d":"70.83%"}},{"$f":"'[4]VCO-PLANEJAMENTOESTRATÉGICO'!D5","v":"SATISFATÓRIO"},{"$f":"'[4]VCO-PLANEJAMENTOESTRATÉGICO'!E5","v":131},{"$f":"'[4]VCO-PLANEJAMENTOESTRATÉGICO'!F5","v":{"v":0.7081081081081081,"d":"70.81%"}},{"$f":"'[4]VCO-PLANEJAMENTOESTRATÉGICO'!G5","v":"SATISFATÓRIO"},null,null,{"$f":"'[4]VCO-PLANEJAMENTOESTRATÉGICO'!J5","v":"SIM"},{"$f":"'[4]VCO-PLANEJAMENTOESTRATÉGICO'!K5","v":168},{"$f":"'[4]VCO-PLANEJAMENTOESTRATÉGICO'!L5","v":{"v":0.875,"d":"87.50%"}},{"$f":"'[4]VCO-PLANEJAMENTOESTRATÉGICO'!M5","v":"DESEJÁVEL"},{"$f":"'[4]VCO-PLANEJAMENTOESTRATÉGICO'!N5","v":144},{"$f":"'[4]VCO-PLANEJAMENTOESTRATÉGICO'!O5","v":{"v":0.7783783783783784,"d":"77.84%"}},{"$f":"'[4]VCO-PLANEJAMENTOESTRATÉGICO'!P5","v":"SATISFATÓRIO"}]
[{"$f":"'[4]VCO-PLANEJAMENTOESTRATÉGICO'!A6","v":"PARCIAL"},{"$f":"'[4]VCO-PLANEJAMENTOESTRATÉGICO'!B6","v":54},{"$f":"'[4]VCO-PLANEJAMENTOESTRATÉGICO'!C6","v":{"v":0.28125,"d":"28.13%"}},{"$f":"'[4]VCO-PLANEJAMENTOESTRATÉGICO'!D6","v":"SATISFATÓRIO"},{"$f":"'[4]VCO-PLANEJAMENTOESTRATÉGICO'!E6","v":45},{"$f":"'[4]VCO-PLANEJAMENTOESTRATÉGICO'!F6","v":{"v":0.24324324324324326,"d":"24.32%"}},{"$f":"'[4]VCO-PLANEJAMENTOESTRATÉGICO'!G6","v":"SATISFATÓRIO"},null,null,{"$f":"'[4]VCO-PLANEJAMENTOESTRATÉGICO'!J6","v":"PARCIAL"},{"$f":"'[4]VCO-PLANEJAMENTOESTRATÉGICO'!K6","v":14},{"$f":"'[4]VCO-PLANEJAMENTOESTRATÉGICO'!L6","v":{"v":0.07291666666666667,"d":"7.29%"}},{"$f":"'[4]VCO-PLANEJAMENTOESTRATÉGICO'!M6","v":"SATISFATÓRIO"},{"$f":"'[4]VCO-PLANEJAMENTOESTRATÉGICO'!N6","v":26},{"$f":"'[4]VCO-PLANEJAMENTOESTRATÉGICO'!O6","v":{"v":0.14054054054054055,"d":"14.05%"}},{"$f":"'[4]VCO-PLANEJAMENTOESTRATÉGICO'!P6","v":"SATISFATÓRIO"}]
[{"$f":"'[4]VCO-PLANEJAMENTOESTRATÉGICO'!A7","v":"NÃO"},{"$f":"'[4]VCO-PLANEJAMENTOESTRATÉGICO'!B7","v":2},{"$f":"'[4]VCO-PLANEJAMENTOESTRATÉGICO'!C7","v":{"v":0.010416666666666666,"d":"1.04%"}},{"$f":"'[4]VCO-PLANEJAMENTOESTRATÉGICO'!D7","v":"DESEJÁVEL"},{"$f":"'[4]VCO-PLANEJAMENTOESTRATÉGICO'!E7","v":9},{"$f":"'[4]VCO-PLANEJAMENTOESTRATÉGICO'!F7","v":{"v":0.04864864864864865,"d":"4.86%"}},{"$f":"'[4]VCO-PLANEJAMENTOESTRATÉGICO'!G7","v":"DESEJÁVEL"},null,null,{"$f":"'[4]VCO-PLANEJAMENTOESTRATÉGICO'!J7","v":"NÃO"},{"$f":"'[4]VCO-PLANEJAMENTOESTRATÉGICO'!K7","v":10},{"$f":"'[4]VCO-PLANEJAMENTOESTRATÉGICO'!L7","v":{"v":0.052083333333333336,"d":"5.21%"}},{"$f":"'[4]VCO-PLANEJAMENTOESTRATÉGICO'!M7","v":"DESEJÁVEL"},{"$f":"'[4]VCO-PLANEJAMENTOESTRATÉGICO'!N7","v":15},{"$f":"'[4]VCO-PLANEJAMENTOESTRATÉGICO'!O7","v":{"v":0.08108108108108109,"d":"8.11%"}},{"$f":"'[4]VCO-PLANEJAMENTOESTRATÉGICO'!P7","v":"SATISFATÓRIO"}]
[{"$f":"'[4]VCO-PLANEJAMENTOESTRATÉGICO'!A8","v":"TOTAL"},{"$f":"'[4]VCO-PLANEJAMENTOESTRATÉGICO'!B8","v":192},{"$f":"'[4]VCO-PLANEJAMENTOESTRATÉGICO'!C8","v":{"v":1,"d":"100.00%"}},null,{"$f":"'[4]VCO-PLANEJAMENTOESTRATÉGICO'!E8","v":185},{"$f":"'[4]VCO-PLANEJAMENTOESTRATÉGICO'!F8","v":{"v":1,"d":"100.00%"}},{"$nulls":3},{"$f":"'[4]VCO-PLANEJAMENTOESTRATÉGICO'!J8","v":"TOTAL"},{"$f":"'[4]VCO-PLANEJAMENTOESTRATÉGICO'!K8","v":192},{"$f":"'[4]VCO-PLANEJAMENTOESTRATÉGICO'!L8","v":{"v":1,"d":"100.00%"}},null,{"$f":"'[4]VCO-PLANEJAMENTOESTRATÉGICO'!N8","v":185},{"$f":"'[4]VCO-PLANEJAMENTOESTRATÉGICO'!O8","v":{"v":1,"d":"100.00%"}}]

{"sheet":"VCOMOTIVAÇÃO","index":32,"n_rows":56,"n_cols":16,"rows_kept":56,"merged":[[11,0,12,0],[11,1,11,3],[11,4,11,6],[11,9,12,9],[11,10,11,12],[11,13,11,15],[50,0,51,0],[50,1,50,3],[50,4,50,6],[50,9,51,9],[50,10,50,12],[50,13,50,15]]}
{"$rows_empty":11}
[{"$f":"'[4]VCO-MOTIVAÇAO'!A3","v":"SOU VALORIZADO PROFISSIONALMENTE"},{"$f":"'[4]VCO-MOTIVAÇAO'!B3","v":2020},null,null,{"$f":"'[4]VCO-MOTIVAÇAO'!E3","v":2017},{"$nulls":4},{"$f":"'[4]VCO-MOTIVAÇAO'!J3","v":"TENHO OPORTUNIDADE DE DESENVOLVIMENTO NO SERVIÇO"},{"$f":"'[4]VCO-MOTIVAÇAO'!K3","v":2020},null,null,{"$f":"'[4]VCO-MOTIVAÇAO'!N3","v":2017}]
[null,{"$f":"'[4]VCO-MOTIVAÇAO'!B4","v":"TOTAL"},{"$f":"'[4]VCO-MOTIVAÇAO'!C4","v":"%"},{"$f":"'[4]VCO-MOTIVAÇAO'!D4","v":"RESULTADO"},{"$f":"'[4]VCO-MOTIVAÇAO'!E4","v":"TOTAL"},{"$f":"'[4]VCO-MOTIVAÇAO'!F4","v":"%"},{"$f":"'[4]VCO-MOTIVAÇAO'!G4","v":"RESULTADO"},{"$nulls":3},{"$f":"'[4]VCO-MOTIVAÇAO'!K4","v":"TOTAL"},{"$f":"'[4]VCO-MOTIVAÇAO'!L4","v":"%"},{"$f":"'[4]VCO-MOTIVAÇAO'!M4","v":"RESULTADO"},{"$f":"'[4]VCO-MOTIVAÇAO'!N4","v":"TOTAL"},{"$f":"'[4]VCO-MOTIVAÇAO'!O4","v":"%"},{"$f":"'[4]VCO-MOTIVAÇAO'!P4","v":"RESULTADO"}]
[{"$f":"'[4]VCO-MOTIVAÇAO'!A5","v":"SIM"},{"$f":"'[4]VCO-MOTIVAÇAO'!B5","v":133},{"$f":"'[4]VCO-MOTIVAÇAO'!C5","v":{"v":0.6927083333333334,"d":"69.27%"}},{"$f":"'[4]VCO-MOTIVAÇAO'!D5","v":"SATISFATÓRIO"},{"$f":"'[4]VCO-MOTIVAÇAO'!E5","v":68},{"$f":"'[4]VCO-MOTIVAÇAO'!F5","v":{"v":0.3695652173913043,"d":"36.96%"}},{"$f":"'[4]VCO-MOTIVAÇAO'!G5","v":"INSATISFATÓRIO"},null,null,{"$f":"'[4]VCO-MOTIVAÇAO'!J5","v":"SIM"},{"$f":"'[4]VCO-MOTIVAÇAO'!K5","v":127},{"$f":"'[4]VCO-MOTIVAÇAO'!L5","v":{"v":0.6614583333333334,"d":"66.15%"}},{"$f":"'[4]VCO-MOTIVAÇAO'!M5","v":"SATISFATÓRIO"},{"$f":"'[4]VCO-MOTIVAÇAO'!N5","v":74},{"$f":"'[4]VCO-MOTIVAÇAO'!O5","v":{"v":0.40217391304347827,"d":"40.22%"}},{"$f":"'[4]VCO-MOTIVAÇAO'!P5","v":"INSATISFATÓRIO"}]
[{"$f":"'[4]VCO-MOTIVAÇAO'!A6","v":"PARCIAL"},{"$f":"'[4]VCO-MOTIVAÇAO'!B6","v":49},{"$f":"'[4]VCO-MOTIVAÇAO'!C6","v":{"v":0.2552083333333333,"d":"25.52%"}},{"$f":"'[4]VCO-MOTIVAÇAO'!D6","v":"SATISFATÓRIO"},{"$f":"'[4]VCO-MOTIVAÇAO'!E6","v":81},{"$f":"'[4]VCO-MOTIVAÇAO'!F6","v":{"v":0.44021739130434784,"d":"44.02%"}},{"$f":"'[4]VCO-MOTIVAÇAO'!G6","v":"SATISFATÓRIO"},null,null,{"$f":"'[4]VCO-MOTIVAÇAO'!J6","v":"PARCIAL"},{"$f":"'[4]VCO-MOTIVAÇAO'!K6","v":51},{"$f":"'[4]VCO-MOTIVAÇAO'!L6","v":{"v":0.265625,"d":"26.56%"}},{"$f":"'[4]VCO-MOTIVAÇAO'!M6","v":"SATISFATÓRIO"},{"$f":"'[4]VCO-MOTIVAÇAO'!N6","v":70},{"$f":"'[4]VCO-MOTIVAÇAO'!O6","v":{"v":0.3804347826086957,"d":"38.04%"}},{"$f":"'[4]VCO-MOTIVAÇAO'!P6","v":"SATISFATÓRIO"}]
[{"$f":"'[4]VCO-MOTIVAÇAO'!A7","v":"NÃO"},{"$f":"'[4]VCO-MOTIVAÇAO'!B7","v":10},{"$f":"'[4]VCO-MOTIVAÇAO'!C7","v":{"v":0.052083333333333336,"d":"5.21%"}},{"$f":"'[4]VCO-MOTIVAÇAO'!D7","v":"DESEJÁVEL"},{"$f":"'[4]VCO-MOTIVAÇAO'!E7","v":35},{"$f":"'[4]VCO-MOTIVAÇAO'!F7","v":{"v":0.19021739130434784,"d":"19.02%"}},{"$f":"'[4]VCO-MOTIVAÇAO'!G7","v":"INSATISFATÓRIO"},null,null,{"$f":"'[4]VCO-MOTIVAÇAO'!J7","v":"NÃO"},{"$f":"'[4]VCO-MOTIVAÇAO'!K7","v":14},{"$f":"'[4]VCO-MOTIVAÇAO'!L7","v":{"v":0.07291666666666667,"d":"7.29%"}},{"$f":"'[4]VCO-MOTIVAÇAO'!M7","v":"SATISFATÓRIO"},{"$f":"'[4]VCO-MOTIVAÇAO'!N7","v":40},{"$f":"'[4]VCO-MOTIVAÇAO'!O7","v":{"v":0.21739130434782608,"d":"21.74%"}},{"$f":"'[4]VCO-MOTIVAÇAO'!P7","v":"INSATISFATÓRIO"}]
[{"$f":"'[4]VCO-MOTIVAÇAO'!A8","v":"TOTAL"},{"$f":"'[4]VCO-MOTIVAÇAO'!B8","v":192},{"$f":"'[4]VCO-MOTIVAÇAO'!C8","v":{"v":1,"d":"100.00%"}},null,{"$f":"'[4]VCO-MOTIVAÇAO'!E8","v":184},{"$f":"'[4]VCO-MOTIVAÇAO'!F8","v":{"v":1,"d":"100.00%"}},{"$nulls":3},{"$f":"'[4]VCO-MOTIVAÇAO'!J8","v":"TOTAL"},{"$f":"'[4]VCO-MOTIVAÇAO'!K8","v":192},{"$f":"'[4]VCO-MOTIVAÇAO'!L8","v":{"v":1,"d":"100.00%"}},null,{"$f":"'[4]VCO-MOTIVAÇAO'!N8","v":184},{"$f":"'[4]VCO-MOTIVAÇAO'!O8","v":{"v":1,"d":"100.00%"}}]
{"$rows_empty":33}
[{"$f":"'[4]VCO-MOTIVAÇAO'!A42","v":"O MME INVESTE NO MEU CRESCIMENTO PROFISSIONAL?"},{"$f":"'[4]VCO-MOTIVAÇAO'!B42","v":2020},null,null,{"$f":"'[4]VCO-MOTIVAÇAO'!E42","v":2017},{"$nulls":4},{"$f":"'[4]VCO-MOTIVAÇAO'!J42","v":"SINTO ORGULHO DE SER SERVIDOR/EMPREGADO DO MME?"},{"$f":"'[4]VCO-MOTIVAÇAO'!K42","v":2020},null,null,{"$f":"'[4]VCO-MOTIVAÇAO'!N42","v":2017}]
[null,{"$f":"'[4]VCO-MOTIVAÇAO'!B43","v":"TOTAL"},{"$f":"'[4]VCO-MOTIVAÇAO'!C43","v":"%"},{"$f":"'[4]VCO-MOTIVAÇAO'!D43","v":"RESULTADO"},{"$f":"'[4]VCO-MOTIVAÇAO'!E43","v":"TOTAL"},{"$f":"'[4]VCO-MOTIVAÇAO'!F43","v":"%"},{"$f":"'[4]VCO-MOTIVAÇAO'!G43","v":"RESULTADO"},{"$nulls":3},{"$f":"'[4]VCO-MOTIVAÇAO'!K43","v":"TOTAL"},{"$f":"'[4]VCO-MOTIVAÇAO'!L43","v":"%"},{"$f":"'[4]VCO-MOTIVAÇAO'!M43","v":"RESULTADO"},{"$f":"'[4]VCO-MOTIVAÇAO'!N43","v":"TOTAL"},{"$f":"'[4]VCO-MOTIVAÇAO'!O43","v":"%"},{"$f":"'[4]VCO-MOTIVAÇAO'!P43","v":"RESULTADO"}]
[{"$f":"'[4]VCO-MOTIVAÇAO'!A44","v":"SIM"},{"$f":"'[4]VCO-MOTIVAÇAO'!B44","v":93},{"$f":"'[4]VCO-MOTIVAÇAO'!C44","v":{"v":0.484375,"d":"48.44%"}},{"$f":"'[4]VCO-MOTIVAÇAO'!D44","v":"INSATISFATÓRIO"},{"$f":"'[4]VCO-MOTIVAÇAO'!E44","v":46},{"$f":"'[4]VCO-MOTIVAÇAO'!F44","v":{"v":0.2541436464088398,"d":"25.41%"}},{"$f":"'[4]VCO-MOTIVAÇAO'!G44","v":"INSATISFATÓRIO"},null,null,{"$f":"'[4]VCO-MOTIVAÇAO'!J44","v":"SIM"},{"$f":"'[4]VCO-MOTIVAÇAO'!K44","v":161},{"$f":"'[4]VCO-MOTIVAÇAO'!L44","v":{"v":0.8385416666666666,"d":"83.85%"}},{"$f":"'[4]VCO-MOTIVAÇAO'!M44","v":"DESEJÁVEL"},{"$f":"'[4]VCO-MOTIVAÇAO'!N44","v":114},{"$f":"'[4]VCO-MOTIVAÇAO'!O44","v":{"v":0.6333333333333333,"d":"63.33%"}},{"$f":"'[4]VCO-MOTIVAÇAO'!P44","v":"SATISFATÓRIO"}]
[{"$f":"'[4]VCO-MOTIVAÇAO'!A45","v":"PARCIAL"},{"$f":"'[4]VCO-MOTIVAÇAO'!B45","v":75},{"$f":"'[4]VCO-MOTIVAÇAO'!C45","v":{"v":0.390625,"d":"39.06%"}},{"$f":"'[4]VCO-MOTIVAÇAO'!D45","v":"SATISFATÓRIO"},{"$f":"'[4]VCO-MOTIVAÇAO'!E45","v":85},{"$f":"'[4]VCO-MOTIVAÇAO'!F45","v":{"v":0.4696132596685083,"d":"46.96%"}},{"$f":"'[4]VCO-MOTIVAÇAO'!G45","v":"SATISFATÓRIO"},null,null,{"$f":"'[4]VCO-MOTIVAÇAO'!J45","v":"PARCIAL"},{"$f":"'[4]VCO-MOTIVAÇAO'!K45","v":26},{"$f":"'[4]VCO-MOTIVAÇAO'!L45","v":{"v":0.13541666666666666,"d":"13.54%"}},{"$f":"'[4]VCO-MOTIVAÇAO'!M45","v":"SATISFATÓRIO"},{"$f":"'[4]VCO-MOTIVAÇAO'!N45","v":46},{"$f":"'[4]VCO-MOTIVAÇAO'!O45","v":{"v":0.25555555555555554,"d":"25.56%"}},{"$f":"'[4]VCO-MOTIVAÇAO'!P45","v":"SATISFATÓRIO"}]
[{"$f":"'[4]VCO-MOTIVAÇAO'!A46","v":"NÃO"},{"$f":"'[4]VCO-MOTIVAÇAO'!B46","v":24},{"$f":"'[4]VCO-MOTIVAÇAO'!C46","v":{"v":0.125,"d":"12.50%"}},{"$f":"'[4]VCO-MOTIVAÇAO'!D46","v":"INSATISFATÓRIO"},{"$f":"'[4]VCO-MOTIVAÇAO'!E46","v":50},{"$f":"'[4]VCO-MOTIVAÇAO'!F46","v":{"v":0.27624309392265195,"d":"27.62%"}},{"$f":"'[4]VCO-MOTIVAÇAO'!G46","v":"INSATISFATÓRIO"},null,null,{"$f":"'[4]VCO-MOTIVAÇAO'!J46","v":"NÃO"},{"$f":"'[4]VCO-MOTIVAÇAO'!K46","v":5},{"$f":"'[4]VCO-MOTIVAÇAO'!L46","v":{"v":0.026041666666666668,"d":"2.60%"}},{"$f":"'[4]VCO-MOTIVAÇAO'!M46","v":"DESEJÁVEL"},{"$f":"'[4]VCO-MOTIVAÇAO'!N46","v":20},{"$f":"'[4]VCO-MOTIVAÇAO'!O46","v":{"v":0.1111111111111111,"d":"11.11%"}},{"$f":"'[4]VCO-MOTIVAÇAO'!P46","v":"INSATISFATÓRIO"}]
[{"$f":"'[4]VCO-MOTIVAÇAO'!A47","v":"TOTAL"},{"$f":"'[4]VCO-MOTIVAÇAO'!B47","v":192},{"$f":"'[4]VCO-MOTIVAÇAO'!C47","v":{"v":1,"d":"100.00%"}},null,{"$f":"'[4]VCO-MOTIVAÇAO'!E47","v":181},{"$f":"'[4]VCO-MOTIVAÇAO'!F47","v":{"v":1,"d":"100.00%"}},{"$nulls":3},{"$f":"'[4]VCO-MOTIVAÇAO'!J47","v":"TOTAL"},{"$f":"'[4]VCO-MOTIVAÇAO'!K47","v":192},{"$f":"'[4]VCO-MOTIVAÇAO'!L47","v":{"v":0.9999999999999999,"d":"100.00%"}},null,{"$f":"'[4]VCO-MOTIVAÇAO'!N47","v":180},{"$f":"'[4]VCO-MOTIVAÇAO'!O47","v":{"v":1,"d":"100.00%"}}]

{"sheet":"VCOLIDERANÇA","index":33,"n_rows":17,"n_cols":16,"rows_kept":17,"merged":[[11,0,12,0],[11,1,11,3],[11,4,11,6],[11,9,12,9],[11,10,11,12],[11,13,11,15]]}
{"$rows_empty":11}
[{"$f":"'[4]VCO-LIDERANÇA'!A3","v":"MEU CHEFE TEM O PERFIL INDICADO PARA FUNÇÃO QUE OCUPA?"},{"$f":"'[4]VCO-LIDERANÇA'!B3","v":2020},null,null,{"$f":"'[4]VCO-LIDERANÇA'!E3","v":2017},{"$nulls":4},{"$f":"'[4]VCO-LIDERANÇA'!J3","v":"MEU CHEFE IMPULSIONA A EQUIPE PARA ALCANÇAR AS METAS"},{"$f":"'[4]VCO-LIDERANÇA'!K3","v":2020},null,null,{"$f":"'[4]VCO-LIDERANÇA'!N3","v":2017}]
[null,{"$f":"'[4]VCO-LIDERANÇA'!B4","v":"TOTAL"},{"$f":"'[4]VCO-LIDERANÇA'!C4","v":"%"},{"$f":"'[4]VCO-LIDERANÇA'!D4","v":"RESULTADO"},{"$f":"'[4]VCO-LIDERANÇA'!E4","v":"TOTAL"},{"$f":"'[4]VCO-LIDERANÇA'!F4","v":"%"},{"$f":"'[4]VCO-LIDERANÇA'!G4","v":"RESULTADO"},{"$nulls":3},{"$f":"'[4]VCO-LIDERANÇA'!K4","v":"TOTAL"},{"$f":"'[4]VCO-LIDERANÇA'!L4","v":"%"},{"$f":"'[4]VCO-LIDERANÇA'!M4","v":"RESULTADO"},{"$f":"'[4]VCO-LIDERANÇA'!N4","v":"TOTAL"},{"$f":"'[4]VCO-LIDERANÇA'!O4","v":"%"},{"$f":"'[4]VCO-LIDERANÇA'!P4","v":"RESULTADO"}]
[{"$f":"'[4]VCO-LIDERANÇA'!A5","v":"SIM"},{"$f":"'[4]VCO-LIDERANÇA'!B5","v":166},{"$f":"'[4]VCO-LIDERANÇA'!C5","v":{"v":0.8645833333333334,"d":"86.46%"}},{"$f":"'[4]VCO-LIDERANÇA'!D5","v":"DESEJÁVEL"},{"$f":"'[4]VCO-LIDERANÇA'!E5","v":132},{"$f":"'[4]VCO-LIDERANÇA'!F5","v":{"v":0.717391304347826,"d":"71.74%"}},{"$f":"'[4]VCO-LIDERANÇA'!G5","v":"SATISFATÓRIO"},null,null,{"$f":"'[4]VCO-LIDERANÇA'!J5","v":"SIM"},{"$f":"'[4]VCO-LIDERANÇA'!K5","v":163},{"$f":"'[4]VCO-LIDERANÇA'!L5","v":{"v":0.8489583333333334,"d":"84.90%"}},{"$f":"'[4]VCO-LIDERANÇA'!M5","v":"DESEJÁVEL"},{"$f":"'[4]VCO-LIDERANÇA'!N5","v":112},{"$f":"'[4]VCO-LIDERANÇA'!O5","v":{"v":0.6086956521739131,"d":"60.87%"}},{"$f":"'[4]VCO-LIDERANÇA'!P5","v":"SATISFATÓRIO"}]
[{"$f":"'[4]VCO-LIDERANÇA'!A6","v":"PARCIAL"},{"$f":"'[4]VCO-LIDERANÇA'!B6","v":19},{"$f":"'[4]VCO-LIDERANÇA'!C6","v":{"v":0.09895833333333333,"d":"9.90%"}},{"$f":"'[4]VCO-LIDERANÇA'!D6","v":"SATISFATÓRIO"},{"$f":"'[4]VCO-LIDERANÇA'!E6","v":39},{"$f":"'[4]VCO-LIDERANÇA'!F6","v":{"v":0.21195652173913043,"d":"21.20%"}},{"$f":"'[4]VCO-LIDERANÇA'!G6","v":"SATISFATÓRIO"},null,null,{"$f":"'[4]VCO-LIDERANÇA'!J6","v":"PARCIAL"},{"$f":"'[4]VCO-LIDERANÇA'!K6","v":23},{"$f":"'[4]VCO-LIDERANÇA'!L6","v":{"v":0.11979166666666667,"d":"11.98%"}},{"$f":"'[4]VCO-LIDERANÇA'!M6","v":"SATISFATÓRIO"},{"$f":"'[4]VCO-LIDERANÇA'!N6","v":45},{"$f":"'[4]VCO-LIDERANÇA'!O6","v":{"v":0.24456521739130435,"d":"24.46%"}},{"$f":"'[4]VCO-LIDERANÇA'!P6","v":"SATISFATÓRIO"}]
[{"$f":"'[4]VCO-LIDERANÇA'!A7","v":"NÃO"},{"$f":"'[4]VCO-LIDERANÇA'!B7","v":7},{"$f":"'[4]VCO-LIDERANÇA'!C7","v":{"v":0.036458333333333336,"d":"3.65%"}},{"$f":"'[4]VCO-LIDERANÇA'!D7","v":"DESEJÁVEL"},{"$f":"'[4]VCO-LIDERANÇA'!E7","v":13},{"$f":"'[4]VCO-LIDERANÇA'!F7","v":{"v":0.07065217391304347,"d":"7.07%"}},{"$f":"'[4]VCO-LIDERANÇA'!G7","v":"SATISFATÓRIO"},null,null,{"$f":"'[4]VCO-LIDERANÇA'!J7","v":"NÃO"},{"$f":"'[4]VCO-LIDERANÇA'!K7","v":6},{"$f":"'[4]VCO-LIDERANÇA'!L7","v":{"v":0.03125,"d":"3.13%"}},{"$f":"'[4]VCO-LIDERANÇA'!M7","v":"DESEJÁVEL"},{"$f":"'[4]VCO-LIDERANÇA'!N7","v":27},{"$f":"'[4]VCO-LIDERANÇA'!O7","v":{"v":0.14673913043478262,"d":"14.67%"}},{"$f":"'[4]VCO-LIDERANÇA'!P7","v":"INSATISFATÓRIO"}]
[{"$f":"'[4]VCO-LIDERANÇA'!A8","v":"TOTAL"},{"$f":"'[4]VCO-LIDERANÇA'!B8","v":192},{"$f":"'[4]VCO-LIDERANÇA'!C8","v":{"v":1,"d":"100.00%"}},null,{"$f":"'[4]VCO-LIDERANÇA'!E8","v":184},{"$f":"'[4]VCO-LIDERANÇA'!F8","v":{"v":1,"d":"100.00%"}},{"$nulls":3},{"$f":"'[4]VCO-LIDERANÇA'!J8","v":"TOTAL"},{"$f":"'[4]VCO-LIDERANÇA'!K8","v":192},{"$f":"'[4]VCO-LIDERANÇA'!L8","v":{"v":1,"d":"100.00%"}},null,{"$f":"'[4]VCO-LIDERANÇA'!N8","v":184},{"$f":"'[4]VCO-LIDERANÇA'!O8","v":{"v":1,"d":"100.00%"}}]

{"sheet":"VCOEQUIPE","index":34,"n_rows":17,"n_cols":16,"rows_kept":17,"merged":[[11,0,12,0],[11,1,11,3],[11,4,11,6],[11,9,12,9],[11,10,11,12],[11,13,11,15]]}
{"$rows_empty":11}
[{"$f":"'[4]VCO-EQUIPE'!A3","v":"CONSIDERO A EQUIPE DO MEU SETOR/UNIDADE SUFICIENTE PARA O DESENVOLVIMENTO DAS ATIVIDADES?"},{"$f":"'[4]VCO-EQUIPE'!B3","v":2020},null,null,{"$f":"'[4]VCO-EQUIPE'!E3","v":2017},{"$nulls":4},{"$f":"'[4]VCO-EQUIPE'!J3","v":"CONSIDERO ADEQUADA A DISTRIBUIÇÃO DAS TAREFAS NO SETOR/UNIDADE EM QUE ATUO?"},{"$f":"'[4]VCO-EQUIPE'!K3","v":2020},null,null,{"$f":"'[4]VCO-EQUIPE'!N3","v":2017}]
[null,{"$f":"'[4]VCO-EQUIPE'!B4","v":"TOTAL"},{"$f":"'[4]VCO-EQUIPE'!C4","v":"%"},{"$f":"'[4]VCO-EQUIPE'!D4","v":"RESULTADO"},{"$f":"'[4]VCO-EQUIPE'!E4","v":"TOTAL"},{"$f":"'[4]VCO-EQUIPE'!F4","v":"%"},{"$f":"'[4]VCO-EQUIPE'!G4","v":"RESULTADO"},{"$nulls":3},{"$f":"'[4]VCO-EQUIPE'!K4","v":"TOTAL"},{"$f":"'[4]VCO-EQUIPE'!L4","v":"%"},{"$f":"'[4]VCO-EQUIPE'!M4","v":"RESULTADO"},{"$f":"'[4]VCO-EQUIPE'!N4","v":"TOTAL"},{"$f":"'[4]VCO-EQUIPE'!O4","v":"%"},{"$f":"'[4]VCO-EQUIPE'!P4","v":"RESULTADO"}]
[{"$f":"'[4]VCO-EQUIPE'!A5","v":"SIM"},{"$f":"'[4]VCO-EQUIPE'!B5","v":72},{"$f":"'[4]VCO-EQUIPE'!C5","v":{"v":0.375,"d":"37.50%"}},{"$f":"'[4]VCO-EQUIPE'!D5","v":"INSATISFATÓRIO"},{"$f":"'[4]VCO-EQUIPE'!E5","v":68},{"$f":"'[4]VCO-EQUIPE'!F5","v":{"v":0.37158469945355194,"d":"37.16%"}},{"$f":"'[4]VCO-EQUIPE'!G5","v":"INSATISFATÓRIO"},null,null,{"$f":"'[4]VCO-EQUIPE'!J5","v":"SIM"},{"$f":"'[4]VCO-EQUIPE'!K5","v":84},{"$f":"'[4]VCO-EQUIPE'!L5","v":{"v":0.4375,"d":"43.75%"}},{"$f":"'[4]VCO-EQUIPE'!M5","v":"INSATISFATÓRIO"},{"$f":"'[4]VCO-EQUIPE'!N5","v":65},{"$f":"'[4]VCO-EQUIPE'!O5","v":{"v":0.3551912568306011,"d":"35.52%"}},{"$f":"'[4]VCO-EQUIPE'!P5","v":"INSATISFATÓRIO"}]
[{"$f":"'[4]VCO-EQUIPE'!A6","v":"PARCIAL"},{"$f":"'[4]VCO-EQUIPE'!B6","v":68},{"$f":"'[4]VCO-EQUIPE'!C6","v":{"v":0.3541666666666667,"d":"35.42%"}},{"$f":"'[4]VCO-EQUIPE'!D6","v":"SATISFATÓRIO"},{"$f":"'[4]VCO-EQUIPE'!E6","v":67},{"$f":"'[4]VCO-EQUIPE'!F6","v":{"v":0.366120218579235,"d":"36.61%"}},{"$f":"'[4]VCO-EQUIPE'!G6","v":"SATISFATÓRIO"},null,null,{"$f":"'[4]VCO-EQUIPE'!J6","v":"PARCIAL"},{"$f":"'[4]VCO-EQUIPE'!K6","v":73},{"$f":"'[4]VCO-EQUIPE'!L6","v":{"v":0.3802083333333333,"d":"38.02%"}},{"$f":"'[4]VCO-EQUIPE'!M6","v":"SATISFATÓRIO"},{"$f":"'[4]VCO-EQUIPE'!N6","v":65},{"$f":"'[4]VCO-EQUIPE'!O6","v":{"v":0.3551912568306011,"d":"35.52%"}},{"$f":"'[4]VCO-EQUIPE'!P6","v":"SATISFATÓRIO"}]
[{"$f":"'[4]VCO-EQUIPE'!A7","v":"NÃO"},{"$f":"'[4]VCO-EQUIPE'!B7","v":52},{"$f":"'[4]VCO-EQUIPE'!C7","v":{"v":0.2708333333333333,"d":"27.08%"}},{"$f":"'[4]VCO-EQUIPE'!D7","v":"INSATISFATÓRIO"},{"$f":"'[4]VCO-EQUIPE'!E7","v":48},{"$f":"'[4]VCO-EQUIPE'!F7","v":{"v":0.26229508196721313,"d":"26.23%"}},{"$f":"'[4]VCO-EQUIPE'!G7","v":"INSATISFATÓRIO"},null,null,{"$f":"'[4]VCO-EQUIPE'!J7","v":"NÃO"},{"$f":"'[4]VCO-EQUIPE'!K7","v":35},{"$f":"'[4]VCO-EQUIPE'!L7","v":{"v":0.18229166666666666,"d":"18.23%"}},{"$f":"'[4]VCO-EQUIPE'!M7","v":"INSATISFATÓRIO"},{"$f":"'[4]VCO-EQUIPE'!N7","v":53},{"$f":"'[4]VCO-EQUIPE'!O7","v":{"v":0.2896174863387978,"d":"28.96%"}},{"$f":"'[4]VCO-EQUIPE'!P7","v":"INSATISFATÓRIO"}]
[{"$f":"'[4]VCO-EQUIPE'!A8","v":"TOTAL"},{"$f":"'[4]VCO-EQUIPE'!B8","v":192},{"$f":"'[4]VCO-EQUIPE'!C8","v":{"v":1,"d":"100.00%"}},null,{"$f":"'[4]VCO-EQUIPE'!E8","v":183},{"$f":"'[4]VCO-EQUIPE'!F8","v":{"v":1,"d":"100.00%"}},{"$nulls":3},{"$f":"'[4]VCO-EQUIPE'!J8","v":"TOTAL"},{"$f":"'[4]VCO-EQUIPE'!K8","v":192},{"$f":"'[4]VCO-EQUIPE'!L8","v":{"v":0.9999999999999999,"d":"100.00%"}},null,{"$f":"'[4]VCO-EQUIPE'!N8","v":183},{"$f":"'[4]VCO-EQUIPE'!O8","v":{"v":1,"d":"100.00%"}}]

{"sheet":"VCOSALARIO","index":35,"n_rows":17,"n_cols":16,"rows_kept":17,"merged":[[11,0,12,0],[11,1,11,3],[11,4,11,6],[11,9,12,9],[11,10,11,12],[11,13,11,15]]}
{"$rows_empty":11}
[{"$f":"'[4]VCO-SALÁRIO'!A3","v":"MEU SALÁRIO É JUSTO E ADEQUADO A MINHA FUNÇÃO?"},{"$f":"'[4]VCO-SALÁRIO'!B3","v":2020},null,null,{"$f":"'[4]VCO-SALÁRIO'!E3","v":2017},{"$nulls":4},{"$f":"'[4]VCO-SALÁRIO'!J3","v":"MEU SALÁRIO E BENEFÍCIOS ESTÃO NA MÉDIA OU ACIMA DO QUE É OFERECIDO NO MERCADO?"},{"$f":"'[4]VCO-SALÁRIO'!K3","v":2020},null,null,{"$f":"'[4]VCO-SALÁRIO'!N3","v":2017}]
[null,{"$f":"'[4]VCO-SALÁRIO'!B4","v":"TOTAL"},{"$f":"'[4]VCO-SALÁRIO'!C4","v":"%"},{"$f":"'[4]VCO-SALÁRIO'!D4","v":"RESULTADO"},{"$f":"'[4]VCO-SALÁRIO'!E4","v":"TOTAL"},{"$f":"'[4]VCO-SALÁRIO'!F4","v":"%"},{"$f":"'[4]VCO-SALÁRIO'!G4","v":"RESULTADO"},{"$nulls":3},{"$f":"'[4]VCO-SALÁRIO'!K4","v":"TOTAL"},{"$f":"'[4]VCO-SALÁRIO'!L4","v":"%"},{"$f":"'[4]VCO-SALÁRIO'!M4","v":"RESULTADO"},{"$f":"'[4]VCO-SALÁRIO'!N4","v":"TOTAL"},{"$f":"'[4]VCO-SALÁRIO'!O4","v":"%"},{"$f":"'[4]VCO-SALÁRIO'!P4","v":"RESULTADO"}]
[{"$f":"'[4]VCO-SALÁRIO'!A5","v":"SIM"},{"$f":"'[4]VCO-SALÁRIO'!B5","v":90},{"$f":"'[4]VCO-SALÁRIO'!C5","v":{"v":0.46875,"d":"46.88%"}},{"$f":"'[4]VCO-SALÁRIO'!D5","v":"INSATISFATÓRIO"},{"$f":"'[4]VCO-SALÁRIO'!E5","v":61},{"$f":"'[4]VCO-SALÁRIO'!F5","v":{"v":0.3333333333333333,"d":"33.33%"}},{"$f":"'[4]VCO-SALÁRIO'!G5","v":"INSATISFATÓRIO"},null,null,{"$f":"'[4]VCO-SALÁRIO'!J5","v":"SIM"},{"$f":"'[4]VCO-SALÁRIO'!K5","v":55},{"$f":"'[4]VCO-SALÁRIO'!L5","v":{"v":0.2864583333333333,"d":"28.65%"}},{"$f":"'[4]VCO-SALÁRIO'!M5","v":"INSATISFATÓRIO"},{"$f":"'[4]VCO-SALÁRIO'!N5","v":"*"},{"$f":"'[4]VCO-SALÁRIO'!O5","v":"*"},{"$f":"'[4]VCO-SALÁRIO'!P5","v":"*"}]
[{"$f":"'[4]VCO-SALÁRIO'!A6","v":"PARCIAL"},{"$f":"'[4]VCO-SALÁRIO'!B6","v":69},{"$f":"'[4]VCO-SALÁRIO'!C6","v":{"v":0.359375,"d":"35.94%"}},{"$f":"'[4]VCO-SALÁRIO'!D6","v":"SATISFATÓRIO"},{"$f":"'[4]VCO-SALÁRIO'!E6","v":58},{"$f":"'[4]VCO-SALÁRIO'!F6","v":{"v":0.31693989071038253,"d":"31.69%"}},{"$f":"'[4]VCO-SALÁRIO'!G6","v":"SATISFATÓRIO"},null,null,{"$f":"'[4]VCO-SALÁRIO'!J6","v":"PARCIAL"},{"$f":"'[4]VCO-SALÁRIO'!K6","v":81},{"$f":"'[4]VCO-SALÁRIO'!L6","v":{"v":0.421875,"d":"42.19%"}},{"$f":"'[4]VCO-SALÁRIO'!M6","v":"SATISFATÓRIO"},{"$f":"'[4]VCO-SALÁRIO'!N6","v":"*"},{"$f":"'[4]VCO-SALÁRIO'!O6","v":"*"},{"$f":"'[4]VCO-SALÁRIO'!P6","v":"*"}]
[{"$f":"'[4]VCO-SALÁRIO'!A7","v":"NÃO"},{"$f":"'[4]VCO-SALÁRIO'!B7","v":33},{"$f":"'[4]VCO-SALÁRIO'!C7","v":{"v":0.171875,"d":"17.19%"}},{"$f":"'[4]VCO-SALÁRIO'!D7","v":"INSATISFATÓRIO"},{"$f":"'[4]VCO-SALÁRIO'!E7","v":64},{"$f":"'[4]VCO-SALÁRIO'!F7","v":{"v":0.34972677595628415,"d":"34.97%"}},{"$f":"'[4]VCO-SALÁRIO'!G7","v":"CRÍTICO"},null,null,{"$f":"'[4]VCO-SALÁRIO'!J7","v":"NÃO"},{"$f":"'[4]VCO-SALÁRIO'!K7","v":56},{"$f":"'[4]VCO-SALÁRIO'!L7","v":{"v":0.2916666666666667,"d":"29.17%"}},{"$f":"'[4]VCO-SALÁRIO'!M7","v":"INSATISFATÓRIO"},{"$f":"'[4]VCO-SALÁRIO'!N7","v":"*"},{"$f":"'[4]VCO-SALÁRIO'!O7","v":"*"},{"$f":"'[4]VCO-SALÁRIO'!P7","v":"*"}]
[{"$f":"'[4]VCO-SALÁRIO'!A8","v":"TOTAL"},{"$f":"'[4]VCO-SALÁRIO'!B8","v":192},{"$f":"'[4]VCO-SALÁRIO'!C8","v":{"v":1,"d":"100.00%"}},null,{"$f":"'[4]VCO-SALÁRIO'!E8","v":183},{"$f":"'[4]VCO-SALÁRIO'!F8","v":{"v":1,"d":"100.00%"}},{"$nulls":3},{"$f":"'[4]VCO-SALÁRIO'!J8","v":"TOTAL"},{"$f":"'[4]VCO-SALÁRIO'!K8","v":192},{"$f":"'[4]VCO-SALÁRIO'!L8","v":{"v":1,"d":"100.00%"}},null,{"$f":"'[4]VCO-SALÁRIO'!N8","v":"*"},{"$f":"'[4]VCO-SALÁRIO'!O8","v":"*"}]

{"sheet":"VCORELACIONAMENTO","index":36,"n_rows":17,"n_cols":16,"rows_kept":17,"merged":[[11,0,12,0],[11,1,11,3],[11,4,11,6],[11,9,12,9],[11,10,11,12],[11,13,11,15]]}
{"$rows_empty":11}
[{"$f":"'[4]VCO-RELACIONAMENTO'!A3","v":"O RELACIONAMENTO COM OS COLEGAS DE TRABALHO FAVORECE A EXECUÇÃO DAS ATIVIDADES NA UNIDADE/SETOR?"},{"$f":"'[4]VCO-RELACIONAMENTO'!B3","v":2020},null,null,{"$f":"'[4]VCO-RELACIONAMENTO'!E3","v":2017},{"$nulls":4},{"$f":"'[4]VCO-RELACIONAMENTO'!J3","v":"AS ATITUDES DOS MEUS COLEGAS DE TRABALHO SÃO ADEQUADAS E COMPATÍVEIS COM O AMBIENTE DE TRABALHO?"},{"$f":"'[4]VCO-RELACIONAMENTO'!K3","v":2020},null,null,{"$f":"'[4]VCO-RELACIONAMENTO'!N3","v":2017}]
[null,{"$f":"'[4]VCO-RELACIONAMENTO'!B4","v":"TOTAL"},{"$f":"'[4]VCO-RELACIONAMENTO'!C4","v":"%"},{"$f":"'[4]VCO-RELACIONAMENTO'!D4","v":"RESULTADO"},{"$f":"'[4]VCO-RELACIONAMENTO'!E4","v":"TOTAL"},{"$f":"'[4]VCO-RELACIONAMENTO'!F4","v":"%"},{"$f":"'[4]VCO-RELACIONAMENTO'!G4","v":"RESULTADO"},{"$nulls":3},{"$f":"'[4]VCO-RELACIONAMENTO'!K4","v":"TOTAL"},{"$f":"'[4]VCO-RELACIONAMENTO'!L4","v":"%"},{"$f":"'[4]VCO-RELACIONAMENTO'!M4","v":"RESULTADO"},{"$f":"'[4]VCO-RELACIONAMENTO'!N4","v":"TOTAL"},{"$f":"'[4]VCO-RELACIONAMENTO'!O4","v":"%"},{"$f":"'[4]VCO-RELACIONAMENTO'!P4","v":"RESULTADO"}]
[{"$f":"'[4]VCO-RELACIONAMENTO'!A5","v":"SIM"},{"$f":"'[4]VCO-RELACIONAMENTO'!B5","v":162},{"$f":"'[4]VCO-RELACIONAMENTO'!C5","v":{"v":0.84375,"d":"84.38%"}},{"$f":"'[4]VCO-RELACIONAMENTO'!D5","v":"DESEJÁVEL"},{"$f":"'[4]VCO-RELACIONAMENTO'!E5","v":143},{"$f":"'[4]VCO-RELACIONAMENTO'!F5","v":{"v":0.7900552486187845,"d":"79.01%"}},{"$f":"'[4]VCO-RELACIONAMENTO'!G5","v":"SATISFATÓRIO"},null,null,{"$f":"'[4]VCO-RELACIONAMENTO'!J5","v":"SIM"},{"$f":"'[4]VCO-RELACIONAMENTO'!K5","v":147},{"$f":"'[4]VCO-RELACIONAMENTO'!L5","v":{"v":0.765625,"d":"76.56%"}},{"$f":"'[4]VCO-RELACIONAMENTO'!M5","v":"SATISFATÓRIO"},{"$f":"'[4]VCO-RELACIONAMENTO'!N5","v":100},{"$f":"'[4]VCO-RELACIONAMENTO'!O5","v":{"v":0.5524861878453039,"d":"55.25%"}},{"$f":"'[4]VCO-RELACIONAMENTO'!P5","v":"SATISFATÓRIO"}]
[{"$f":"'[4]VCO-RELACIONAMENTO'!A6","v":"PARCIAL"},{"$f":"'[4]VCO-RELACIONAMENTO'!B6","v":29},{"$f":"'[4]VCO-RELACIONAMENTO'!C6","v":{"v":0.15104166666666666,"d":"15.10%"}},{"$f":"'[4]VCO-RELACIONAMENTO'!D6","v":"SATISFATÓRIO"},{"$f":"'[4]VCO-RELACIONAMENTO'!E6","v":35},{"$f":"'[4]VCO-RELACIONAMENTO'!F6","v":{"v":0.19337016574585636,"d":"19.34%"}},{"$f":"'[4]VCO-RELACIONAMENTO'!G6","v":"SATISFATÓRIO"},null,null,{"$f":"'[4]VCO-RELACIONAMENTO'!J6","v":"PARCIAL"},{"$f":"'[4]VCO-RELACIONAMENTO'!K6","v":42},{"$f":"'[4]VCO-RELACIONAMENTO'!L6","v":{"v":0.21875,"d":"21.88%"}},{"$f":"'[4]VCO-RELACIONAMENTO'!M6","v":"SATISFATÓRIO"},{"$f":"'[4]VCO-RELACIONAMENTO'!N6","v":72},{"$f":"'[4]VCO-RELACIONAMENTO'!O6","v":{"v":0.39779005524861877,"d":"39.78%"}},{"$f":"'[4]VCO-RELACIONAMENTO'!P6","v":"SATISFATÓRIO"}]
[{"$f":"'[4]VCO-RELACIONAMENTO'!A7","v":"NÃO"},{"$f":"'[4]VCO-RELACIONAMENTO'!B7","v":1},{"$f":"'[4]VCO-RELACIONAMENTO'!C7","v":{"v":5.208333333333333E-3,"d":"0.52%"}},{"$f":"'[4]VCO-RELACIONAMENTO'!D7","v":"DESEJÁVEL"},{"$f":"'[4]VCO-RELACIONAMENTO'!E7","v":3},{"$f":"'[4]VCO-RELACIONAMENTO'!F7","v":{"v":0.016574585635359115,"d":"1.66%"}},{"$f":"'[4]VCO-RELACIONAMENTO'!G7","v":"DESEJÁVEL"},null,null,{"$f":"'[4]VCO-RELACIONAMENTO'!J7","v":"NÃO"},{"$f":"'[4]VCO-RELACIONAMENTO'!K7","v":3},{"$f":"'[4]VCO-RELACIONAMENTO'!L7","v":{"v":0.015625,"d":"1.56%"}},{"$f":"'[4]VCO-RELACIONAMENTO'!M7","v":"DESEJÁVEL"},{"$f":"'[4]VCO-RELACIONAMENTO'!N7","v":9},{"$f":"'[4]VCO-RELACIONAMENTO'!O7","v":{"v":0.049723756906077346,"d":"4.97%"}},{"$f":"'[4]VCO-RELACIONAMENTO'!P7","v":"DESEJÁVEL"}]
[{"$f":"'[4]VCO-RELACIONAMENTO'!A8","v":"TOTAL"},{"$f":"'[4]VCO-RELACIONAMENTO'!B8","v":192},{"$f":"'[4]VCO-RELACIONAMENTO'!C8","v":{"v":1,"d":"100.00%"}},null,{"$f":"'[4]VCO-RELACIONAMENTO'!E8","v":181},{"$f":"'[4]VCO-RELACIONAMENTO'!F8","v":{"v":0.9999999999999999,"d":"100.00%"}},{"$nulls":3},{"$f":"'[4]VCO-RELACIONAMENTO'!J8","v":"TOTAL"},{"$f":"'[4]VCO-RELACIONAMENTO'!K8","v":192},{"$f":"'[4]VCO-RELACIONAMENTO'!L8","v":{"v":1,"d":"100.00%"}},null,{"$f":"'[4]VCO-RELACIONAMENTO'!N8","v":181},{"$f":"'[4]VCO-RELACIONAMENTO'!O8","v":{"v":1,"d":"100.00%"}}]

{"sheet":"VCOQUALIDADEVIDA","index":37,"n_rows":17,"n_cols":23,"rows_kept":17,"merged":[[11,0,12,0],[11,1,11,3],[11,4,11,6],[11,8,12,8],[11,9,11,11],[11,12,11,14],[11,16,12,16],[11,17,11,19],[11,20,11,22]]}
{"$rows_empty":11}
[{"$f":"'[4]VCO-QUALIDADEVIDA'!A3","v":"CONSIDERO IMPORTANTE AS CAMPANHAS DE VACINAÇÃO, EXAMES PERIÓDICOS, ATENDIMENTOS MÉDICOS, ENFERMAGEM, PSICOLÓGICAS, ODONTOLÓGICAS MASSAGEM EXPRESSA E EVENTOS COMEMORATIVOS?"},{"$f":"'[4]VCO-QUALIDADEVIDA'!B3","v":2020},null,null,{"$f":"'[4]VCO-QUALIDADEVIDA'!E3","v":2017},{"$nulls":3},{"$f":"'[4]VCO-QUALIDADEVIDA'!I3","v":"CONSIDERO IMPORTANTE A DISPONIBILIZAÇÃO DOS ESPAÇOS PARA SERVIÇOS DE RESTAURANTE, COSTUREIRA, SALÃO DE BELEZA, ASSOCIAÇÃO DOS SERVIDORES/EMPREGADOS DO MME, ACADEMIA, AULAS DE IOGA NO AMBIENTE DE TRABALHO?"},{"$f":"'[4]VCO-QUALIDADEVIDA'!J3","v":2020},null,null,{"$f":"'[4]VCO-QUALIDADEVIDA'!M3","v":2017},{"$nulls":3},{"$f":"'[4]VCO-QUALIDADEVIDA'!Q3","v":"CONSIDERO IMPORTANTE ATIVIDADES DE TREINAMENTO NO AMBIENTE DE TRABALHO - CENTRO DE CAPACITAÇÃO DO MME?"},{"$f":"'[4]VCO-QUALIDADEVIDA'!R3","v":2020},null,null,{"$f":"'[4]VCO-QUALIDADEVIDA'!U3","v":2017}]
[null,{"$f":"'[4]VCO-QUALIDADEVIDA'!B4","v":"TOTAL"},{"$f":"'[4]VCO-QUALIDADEVIDA'!C4","v":"%"},{"$f":"'[4]VCO-QUALIDADEVIDA'!D4","v":"RESULTADO"},{"$f":"'[4]VCO-QUALIDADEVIDA'!E4","v":"TOTAL"},{"$f":"'[4]VCO-QUALIDADEVIDA'!F4","v":"%"},{"$f":"'[4]VCO-QUALIDADEVIDA'!G4","v":"RESULTADO"},null,null,{"$f":"'[4]VCO-QUALIDADEVIDA'!J4","v":"TOTAL"},{"$f":"'[4]VCO-QUALIDADEVIDA'!K4","v":"%"},{"$f":"'[4]VCO-QUALIDADEVIDA'!L4","v":"RESULTADO"},{"$f":"'[4]VCO-QUALIDADEVIDA'!M4","v":"TOTAL"},{"$f":"'[4]VCO-QUALIDADEVIDA'!N4","v":"%"},{"$f":"'[4]VCO-QUALIDADEVIDA'!O4","v":"RESULTADO"},null,null,{"$f":"'[4]VCO-QUALIDADEVIDA'!R4","v":"TOTAL"},{"$f":"'[4]VCO-QUALIDADEVIDA'!S4","v":"%"},{"$f":"'[4]VCO-QUALIDADEVIDA'!T4","v":"RESULTADO"},{"$f":"'[4]VCO-QUALIDADEVIDA'!U4","v":"TOTAL"},{"$f":"'[4]VCO-QUALIDADEVIDA'!V4","v":"%"},{"$f":"'[4]VCO-QUALIDADEVIDA'!W4","v":"RESULTADO"}]
[{"$f":"'[4]VCO-QUALIDADEVIDA'!A5","v":"SIM"},{"$f":"'[4]VCO-QUALIDADEVIDA'!B5","v":185},{"$f":"'[4]VCO-QUALIDADEVIDA'!C5","v":{"v":0.9635416666666666,"d":"96.35%"}},{"$f":"'[4]VCO-QUALIDADEVIDA'!D5","v":"DESEJÁVEL"},{"$f":"'[4]VCO-QUALIDADEVIDA'!E5","v":169},{"$f":"'[4]VCO-QUALIDADEVIDA'!F5","v":{"v":0.9388888888888889,"d":"93.89%"}},{"$f":"'[4]VCO-QUALIDADEVIDA'!G5","v":"DESEJÁVEL"},null,{"$f":"'[4]VCO-QUALIDADEVIDA'!I5","v":"SIM"},{"$f":"'[4]VCO-QUALIDADEVIDA'!J5","v":173},{"$f":"'[4]VCO-QUALIDADEVIDA'!K5","v":{"v":0.9010416666666666,"d":"90.10%"}},{"$f":"'[4]VCO-QUALIDADEVIDA'!L5","v":"DESEJÁVEL"},{"$f":"'[4]VCO-QUALIDADEVIDA'!M5","v":153},{"$f":"'[4]VCO-QUALIDADEVIDA'!N5","v":{"v":0.85,"d":"85.00%"}},{"$f":"'[4]VCO-QUALIDADEVIDA'!O5","v":"DESEJÁVEL"},null,{"$f":"'[4]VCO-QUALIDADEVIDA'!Q5","v":"SIM"},{"$f":"'[4]VCO-QUALIDADEVIDA'!R5","v":185},{"$f":"'[4]VCO-QUALIDADEVIDA'!S5","v":{"v":0.9635416666666666,"d":"96.35%"}},{"$f":"'[4]VCO-QUALIDADEVIDA'!T5","v":"DESEJÁVEL"},{"$f":"'[4]VCO-QUALIDADEVIDA'!U5","v":163},{"$f":"'[4]VCO-QUALIDADEVIDA'!V5","v":{"v":0.9055555555555556,"d":"90.56%"}},{"$f":"'[4]VCO-QUALIDADEVIDA'!W5","v":"DESEJÁVEL"}]
[{"$f":"'[4]VCO-QUALIDADEVIDA'!A6","v":"PARCIAL"},{"$f":"'[4]VCO-QUALIDADEVIDA'!B6","v":5},{"$f":"'[4]VCO-QUALIDADEVIDA'!C6","v":{"v":0.026041666666666668,"d":"2.60%"}},{"$f":"'[4]VCO-QUALIDADEVIDA'!D6","v":"SATISFATÓRIO"},{"$f":"'[4]VCO-QUALIDADEVIDA'!E6","v":10},{"$f":"'[4]VCO-QUALIDADEVIDA'!F6","v":{"v":0.05555555555555555,"d":"5.56%"}},{"$f":"'[4]VCO-QUALIDADEVIDA'!G6","v":"SATISFATÓRIO"},null,{"$f":"'[4]VCO-QUALIDADEVIDA'!I6","v":"PARCIAL"},{"$f":"'[4]VCO-QUALIDADEVIDA'!J6","v":16},{"$f":"'[4]VCO-QUALIDADEVIDA'!K6","v":{"v":0.08333333333333333,"d":"8.33%"}},{"$f":"'[4]VCO-QUALIDADEVIDA'!L6","v":"SATISFATÓRIO"},{"$f":"'[4]VCO-QUALIDADEVIDA'!M6","v":25},{"$f":"'[4]VCO-QUALIDADEVIDA'!N6","v":{"v":0.1388888888888889,"d":"13.89%"}},{"$f":"'[4]VCO-QUALIDADEVIDA'!O6","v":"SATISFATÓRIO"},null,{"$f":"'[4]VCO-QUALIDADEVIDA'!Q6","v":"PARCIAL"},{"$f":"'[4]VCO-QUALIDADEVIDA'!R6","v":7},{"$f":"'[4]VCO-QUALIDADEVIDA'!S6","v":{"v":0.036458333333333336,"d":"3.65%"}},{"$f":"'[4]VCO-QUALIDADEVIDA'!T6","v":"SATISFATÓRIO"},{"$f":"'[4]VCO-QUALIDADEVIDA'!U6","v":14},{"$f":"'[4]VCO-QUALIDADEVIDA'!V6","v":{"v":0.07777777777777778,"d":"7.78%"}},{"$f":"'[4]VCO-QUALIDADEVIDA'!W6","v":"SATISFATÓRIO"}]
[{"$f":"'[4]VCO-QUALIDADEVIDA'!A7","v":"NÃO"},{"$f":"'[4]VCO-QUALIDADEVIDA'!B7","v":2},{"$f":"'[4]VCO-QUALIDADEVIDA'!C7","v":{"v":0.010416666666666666,"d":"1.04%"}},{"$f":"'[4]VCO-QUALIDADEVIDA'!D7","v":"DESEJÁVEL"},{"$f":"'[4]VCO-QUALIDADEVIDA'!E7","v":1},{"$f":"'[4]VCO-QUALIDADEVIDA'!F7","v":{"v":0.005555555555555556,"d":"0.56%"}},{"$f":"'[4]VCO-QUALIDADEVIDA'!G7","v":"DESEJÁVEL"},null,{"$f":"'[4]VCO-QUALIDADEVIDA'!I7","v":"NÃO"},{"$f":"'[4]VCO-QUALIDADEVIDA'!J7","v":3},{"$f":"'[4]VCO-QUALIDADEVIDA'!K7","v":{"v":0.015625,"d":"1.56%"}},{"$f":"'[4]VCO-QUALIDADEVIDA'!L7","v":"DESEJÁVEL"},{"$f":"'[4]VCO-QUALIDADEVIDA'!M7","v":2},{"$f":"'[4]VCO-QUALIDADEVIDA'!N7","v":{"v":0.011111111111111112,"d":"1.11%"}},{"$f":"'[4]VCO-QUALIDADEVIDA'!O7","v":"DESEJÁVEL"},null,{"$f":"'[4]VCO-QUALIDADEVIDA'!Q7","v":"NÃO"},{"$f":"'[4]VCO-QUALIDADEVIDA'!R7","v":0},{"$f":"'[4]VCO-QUALIDADEVIDA'!S7","v":{"v":0,"d":"0.00%"}},{"$f":"'[4]VCO-QUALIDADEVIDA'!T7","v":"DESEJÁVEL"},{"$f":"'[4]VCO-QUALIDADEVIDA'!U7","v":3},{"$f":"'[4]VCO-QUALIDADEVIDA'!V7","v":{"v":0.016666666666666666,"d":"1.67%"}},{"$f":"'[4]VCO-QUALIDADEVIDA'!W7","v":"DESEJÁVEL"}]
[{"$f":"'[4]VCO-QUALIDADEVIDA'!A8","v":"TOTAL"},{"$f":"'[4]VCO-QUALIDADEVIDA'!B8","v":192},{"$f":"'[4]VCO-QUALIDADEVIDA'!C8","v":{"v":0.9999999999999999,"d":"100.00%"}},null,{"$f":"'[4]VCO-QUALIDADEVIDA'!E8","v":180},{"$f":"'[4]VCO-QUALIDADEVIDA'!F8","v":{"v":1,"d":"100.00%"}},null,null,{"$f":"'[4]VCO-QUALIDADEVIDA'!I8","v":"TOTAL"},{"$f":"'[4]VCO-QUALIDADEVIDA'!J8","v":192},{"$f":"'[4]VCO-QUALIDADEVIDA'!K8","v":{"v":1,"d":"100.00%"}},null,{"$f":"'[4]VCO-QUALIDADEVIDA'!M8","v":180},{"$f":"'[4]VCO-QUALIDADEVIDA'!N8","v":{"v":1,"d":"100.00%"}},null,null,{"$f":"'[4]VCO-QUALIDADEVIDA'!Q8","v":"TOTAL"},{"$f":"'[4]VCO-QUALIDADEVIDA'!R8","v":192},{"$f":"'[4]VCO-QUALIDADEVIDA'!S8","v":{"v":1,"d":"100.00%"}},null,{"$f":"'[4]VCO-QUALIDADEVIDA'!U8","v":180},{"$f":"'[4]VCO-QUALIDADEVIDA'!V8","v":{"v":1,"d":"100.00%"}}]

{"sheet":"VCOSOCIOAMBIENTAL","index":38,"n_rows":17,"n_cols":23,"rows_kept":17,"merged":[[11,0,12,0],[11,1,11,3],[11,4,11,6],[11,8,12,8],[11,9,11,11],[11,12,11,14],[11,16,12,16],[11,17,11,19],[11,20,11,22]]}
{"$rows_empty":11}
[{"$f":"'[4]VCO-SOCIOAMBIENTAL'!A3","v":"VOCÊ CONTRIBUI PARA REDUZIR A IMPRESSÃO OU CÓPIA DE DOCUMENTOS?"},{"$f":"'[4]VCO-SOCIOAMBIENTAL'!B3","v":2020},null,null,{"$f":"'[4]VCO-SOCIOAMBIENTAL'!E3","v":2017},{"$nulls":3},{"$f":"'[4]VCO-SOCIOAMBIENTAL'!I3","v":"VOCÊ CONTRIBUI PARA A ECONCOMIA E REAPROVEITAMENTO DO CONSUMO DE ÁGUA E ENERGIA?"},{"$f":"'[4]VCO-SOCIOAMBIENTAL'!J3","v":2020},null,null,{"$f":"'[4]VCO-SOCIOAMBIENTAL'!M3","v":2017},{"$nulls":3},{"$f":"'[4]VCO-SOCIOAMBIENTAL'!Q3","v":"VOCÊ CONTRIBUI PARA A COLETA SELETIVA DO LIXO?"},{"$f":"'[4]VCO-SOCIOAMBIENTAL'!R3","v":2020},null,null,{"$f":"'[4]VCO-SOCIOAMBIENTAL'!U3","v":2017}]
[null,{"$f":"'[4]VCO-SOCIOAMBIENTAL'!B4","v":"TOTAL"},{"$f":"'[4]VCO-SOCIOAMBIENTAL'!C4","v":"%"},{"$f":"'[4]VCO-SOCIOAMBIENTAL'!D4","v":"RESULTADO"},{"$f":"'[4]VCO-SOCIOAMBIENTAL'!E4","v":"TOTAL"},{"$f":"'[4]VCO-SOCIOAMBIENTAL'!F4","v":"%"},{"$f":"'[4]VCO-SOCIOAMBIENTAL'!G4","v":"RESULTADO"},null,null,{"$f":"'[4]VCO-SOCIOAMBIENTAL'!J4","v":"TOTAL"},{"$f":"'[4]VCO-SOCIOAMBIENTAL'!K4","v":"%"},{"$f":"'[4]VCO-SOCIOAMBIENTAL'!L4","v":"RESULTADO"},{"$f":"'[4]VCO-SOCIOAMBIENTAL'!M4","v":"TOTAL"},{"$f":"'[4]VCO-SOCIOAMBIENTAL'!N4","v":"%"},{"$f":"'[4]VCO-SOCIOAMBIENTAL'!O4","v":"RESULTADO"},null,null,{"$f":"'[4]VCO-SOCIOAMBIENTAL'!R4","v":"TOTAL"},{"$f":"'[4]VCO-SOCIOAMBIENTAL'!S4","v":"%"},{"$f":"'[4]VCO-SOCIOAMBIENTAL'!T4","v":"RESULTADO"},{"$f":"'[4]VCO-SOCIOAMBIENTAL'!U4","v":"TOTAL"},{"$f":"'[4]VCO-SOCIOAMBIENTAL'!V4","v":"%"},{"$f":"'[4]VCO-SOCIOAMBIENTAL'!W4","v":"RESULTADO"}]
[{"$f":"'[4]VCO-SOCIOAMBIENTAL'!A5","v":"SIM"},{"$f":"'[4]VCO-SOCIOAMBIENTAL'!B5","v":181},{"$f":"'[4]VCO-SOCIOAMBIENTAL'!C5","v":{"v":0.9427083333333334,"d":"94.27%"}},{"$f":"'[4]VCO-SOCIOAMBIENTAL'!D5","v":"DESEJÁVEL"},{"$f":"'[4]VCO-SOCIOAMBIENTAL'!E5","v":157},{"$f":"'[4]VCO-SOCIOAMBIENTAL'!F5","v":{"v":0.8722222222222222,"d":"87.22%"}},{"$f":"'[4]VCO-SOCIOAMBIENTAL'!G5","v":"DESEJÁVEL"},null,{"$f":"'[4]VCO-SOCIOAMBIENTAL'!I5","v":"SIM"},{"$f":"'[4]VCO-SOCIOAMBIENTAL'!J5","v":184},{"$f":"'[4]VCO-SOCIOAMBIENTAL'!K5","v":{"v":0.9583333333333334,"d":"95.83%"}},{"$f":"'[4]VCO-SOCIOAMBIENTAL'!L5","v":"DESEJÁVEL"},{"$f":"'[4]VCO-SOCIOAMBIENTAL'!M5","v":160},{"$f":"'[4]VCO-SOCIOAMBIENTAL'!N5","v":{"v":0.8888888888888888,"d":"88.89%"}},{"$f":"'[4]VCO-SOCIOAMBIENTAL'!O5","v":"DESEJÁVEL"},null,{"$f":"'[4]VCO-SOCIOAMBIENTAL'!Q5","v":"SIM"},{"$f":"'[4]VCO-SOCIOAMBIENTAL'!R5","v":171},{"$f":"'[4]VCO-SOCIOAMBIENTAL'!S5","v":{"v":0.890625,"d":"89.06%"}},{"$f":"'[4]VCO-SOCIOAMBIENTAL'!T5","v":"DESEJÁVEL"},{"$f":"'[4]VCO-SOCIOAMBIENTAL'!U5","v":139},{"$f":"'[4]VCO-SOCIOAMBIENTAL'!V5","v":{"v":0.7722222222222223,"d":"77.22%"}},{"$f":"'[4]VCO-SOCIOAMBIENTAL'!W5","v":"SATISFATÓRIO"}]
[{"$f":"'[4]VCO-SOCIOAMBIENTAL'!A6","v":"PARCIAL"},{"$f":"'[4]VCO-SOCIOAMBIENTAL'!B6","v":10},{"$f":"'[4]VCO-SOCIOAMBIENTAL'!C6","v":{"v":0.052083333333333336,"d":"5.21%"}},{"$f":"'[4]VCO-SOCIOAMBIENTAL'!D6","v":"SATISFATÓRIO"},{"$f":"'[4]VCO-SOCIOAMBIENTAL'!E6","v":21},{"$f":"'[4]VCO-SOCIOAMBIENTAL'!F6","v":{"v":0.11666666666666667,"d":"11.67%"}},{"$f":"'[4]VCO-SOCIOAMBIENTAL'!G6","v":"SATISFATÓRIO"},null,{"$f":"'[4]VCO-SOCIOAMBIENTAL'!I6","v":"PARCIAL"},{"$f":"'[4]VCO-SOCIOAMBIENTAL'!J6","v":8},{"$f":"'[4]VCO-SOCIOAMBIENTAL'!K6","v":{"v":0.041666666666666664,"d":"4.17%"}},{"$f":"'[4]VCO-SOCIOAMBIENTAL'!L6","v":"SATISFATÓRIO"},{"$f":"'[4]VCO-SOCIOAMBIENTAL'!M6","v":16},{"$f":"'[4]VCO-SOCIOAMBIENTAL'!N6","v":{"v":0.08888888888888889,"d":"8.89%"}},{"$f":"'[4]VCO-SOCIOAMBIENTAL'!O6","v":"SATISFATÓRIO"},null,{"$f":"'[4]VCO-SOCIOAMBIENTAL'!Q6","v":"PARCIAL"},{"$f":"'[4]VCO-SOCIOAMBIENTAL'!R6","v":21},{"$f":"'[4]VCO-SOCIOAMBIENTAL'!S6","v":{"v":0.109375,"d":"10.94%"}},{"$f":"'[4]VCO-SOCIOAMBIENTAL'!T6","v":"SATISFATÓRIO"},{"$f":"'[4]VCO-SOCIOAMBIENTAL'!U6","v":34},{"$f":"'[4]VCO-SOCIOAMBIENTAL'!V6","v":{"v":0.18888888888888888,"d":"18.89%"}},{"$f":"'[4]VCO-SOCIOAMBIENTAL'!W6","v":"SATISFATÓRIO"}]
[{"$f":"'[4]VCO-SOCIOAMBIENTAL'!A7","v":"NÃO"},{"$f":"'[4]VCO-SOCIOAMBIENTAL'!B7","v":1},{"$f":"'[4]VCO-SOCIOAMBIENTAL'!C7","v":{"v":5.208333333333333E-3,"d":"0.52%"}},{"$f":"'[4]VCO-SOCIOAMBIENTAL'!D7","v":"DESEJÁVEL"},{"$f":"'[4]VCO-SOCIOAMBIENTAL'!E7","v":2},{"$f":"'[4]VCO-SOCIOAMBIENTAL'!F7","v":{"v":0.011111111111111112,"d":"1.11%"}},{"$f":"'[4]VCO-SOCIOAMBIENTAL'!G7","v":"DESEJÁVEL"},null,{"$f":"'[4]VCO-SOCIOAMBIENTAL'!I7","v":"NÃO"},{"$f":"'[4]VCO-SOCIOAMBIENTAL'!J7","v":0},{"$f":"'[4]VCO-SOCIOAMBIENTAL'!K7","v":{"v":0,"d":"0.00%"}},{"$f":"'[4]VCO-SOCIOAMBIENTAL'!L7","v":"DESEJÁVEL"},{"$f":"'[4]VCO-SOCIOAMBIENTAL'!M7","v":4},{"$f":"'[4]VCO-SOCIOAMBIENTAL'!N7","v":{"v":0.022222222222222223,"d":"2.22%"}},{"$f":"'[4]VCO-SOCIOAMBIENTAL'!O7","v":"DESEJÁVEL"},null,{"$f":"'[4]VCO-SOCIOAMBIENTAL'!Q7","v":"NÃO"},{"$f":"'[4]VCO-SOCIOAMBIENTAL'!R7","v":0},{"$f":"'[4]VCO-SOCIOAMBIENTAL'!S7","v":{"v":0,"d":"0.00%"}},{"$f":"'[4]VCO-SOCIOAMBIENTAL'!T7","v":"DESEJÁVEL"},{"$f":"'[4]VCO-SOCIOAMBIENTAL'!U7","v":7},{"$f":"'[4]VCO-SOCIOAMBIENTAL'!V7","v":{"v":0.03888888888888889,"d":"3.89%"}},{"$f":"'[4]VCO-SOCIOAMBIENTAL'!W7","v":"DESEJÁVEL"}]
[{"$f":"'[4]VCO-SOCIOAMBIENTAL'!A8","v":"TOTAL"},{"$f":"'[4]VCO-SOCIOAMBIENTAL'!B8","v":192},{"$f":"'[4]VCO-SOCIOAMBIENTAL'!C8","v":{"v":1,"d":"100.00%"}},null,{"$f":"'[4]VCO-SOCIOAMBIENTAL'!E8","v":180},{"$f":"'[4]VCO-SOCIOAMBIENTAL'!F8","v":{"v":1,"d":"100.00%"}},null,null,{"$f":"'[4]VCO-SOCIOAMBIENTAL'!I8","v":"TOTAL"},{"$f":"'[4]VCO-SOCIOAMBIENTAL'!J8","v":192},{"$f":"'[4]VCO-SOCIOAMBIENTAL'!K8","v":{"v":1,"d":"100.00%"}},null,{"$f":"'[4]VCO-SOCIOAMBIENTAL'!M8","v":180},{"$f":"'[4]VCO-SOCIOAMBIENTAL'!N8","v":{"v":1,"d":"100.00%"}},null,null,{"$f":"'[4]VCO-SOCIOAMBIENTAL'!Q8","v":"TOTAL"},{"$f":"'[4]VCO-SOCIOAMBIENTAL'!R8","v":192},{"$f":"'[4]VCO-SOCIOAMBIENTAL'!S8","v":{"v":1,"d":"100.00%"}},null,{"$f":"'[4]VCO-SOCIOAMBIENTAL'!U8","v":180},{"$f":"'[4]VCO-SOCIOAMBIENTAL'!V8","v":{"v":1,"d":"100.00%"}}]

{"sheet":"VCOCOMINICAÇÃO","index":39,"n_rows":17,"n_cols":23,"rows_kept":17,"merged":[[11,0,12,0],[11,1,11,3],[11,4,11,6],[11,8,12,8],[11,9,11,11],[11,12,11,14],[11,16,12,16],[11,17,11,19],[11,20,11,22]]}
{"$rows_empty":11}
[{"$f":"'[4]VCO-COMUNICAÇÃO'!A3","v":"AS INFORMAÇÕES SÃO BEM DIVULGADAS NO ÂMBITO DO MME?"},{"$f":"'[4]VCO-COMUNICAÇÃO'!B3","v":2020},null,null,{"$f":"'[4]VCO-COMUNICAÇÃO'!E3","v":2017},{"$nulls":3},{"$f":"'[4]VCO-COMUNICAÇÃO'!I3","v":"A COMUNICAÇÃO ENTRE AS UNIDADES DO MME FACILITA O DESENVOLVIMENTO DO TRABALHO?"},{"$f":"'[4]VCO-COMUNICAÇÃO'!J3","v":2020},null,null,{"$f":"'[4]VCO-COMUNICAÇÃO'!M3","v":2017},{"$nulls":3},{"$f":"'[4]VCO-COMUNICAÇÃO'!Q3","v":"AS NORMAS E DIRETRIZES ADOTADAS PELO MME FACILITAM A EXECUÇÃO DAS MINHAS ATIVIDADES?"},{"$f":"'[4]VCO-COMUNICAÇÃO'!R3","v":2020},null,null,{"$f":"'[4]VCO-COMUNICAÇÃO'!U3","v":2017}]
[null,{"$f":"'[4]VCO-COMUNICAÇÃO'!B4","v":"TOTAL"},{"$f":"'[4]VCO-COMUNICAÇÃO'!C4","v":"%"},{"$f":"'[4]VCO-COMUNICAÇÃO'!D4","v":"RESULTADO"},{"$f":"'[4]VCO-COMUNICAÇÃO'!E4","v":"TOTAL"},{"$f":"'[4]VCO-COMUNICAÇÃO'!F4","v":"%"},{"$f":"'[4]VCO-COMUNICAÇÃO'!G4","v":"RESULTADO"},null,null,{"$f":"'[4]VCO-COMUNICAÇÃO'!J4","v":"TOTAL"},{"$f":"'[4]VCO-COMUNICAÇÃO'!K4","v":"%"},{"$f":"'[4]VCO-COMUNICAÇÃO'!L4","v":"RESULTADO"},{"$f":"'[4]VCO-COMUNICAÇÃO'!M4","v":"TOTAL"},{"$f":"'[4]VCO-COMUNICAÇÃO'!N4","v":"%"},{"$f":"'[4]VCO-COMUNICAÇÃO'!O4","v":"RESULTADO"},null,null,{"$f":"'[4]VCO-COMUNICAÇÃO'!R4","v":"TOTAL"},{"$f":"'[4]VCO-COMUNICAÇÃO'!S4","v":"%"},{"$f":"'[4]VCO-COMUNICAÇÃO'!T4","v":"RESULTADO"},{"$f":"'[4]VCO-COMUNICAÇÃO'!U4","v":"TOTAL"},{"$f":"'[4]VCO-COMUNICAÇÃO'!V4","v":"%"},{"$f":"'[4]VCO-COMUNICAÇÃO'!W4","v":"RESULTADO"}]
[{"$f":"'[4]VCO-COMUNICAÇÃO'!A5","v":"SIM"},{"$f":"'[4]VCO-COMUNICAÇÃO'!B5","v":103},{"$f":"'[4]VCO-COMUNICAÇÃO'!C5","v":{"v":0.5364583333333334,"d":"53.65%"}},{"$f":"'[4]VCO-COMUNICAÇÃO'!D5","v":"SATISFATÓRIO"},{"$f":"'[4]VCO-COMUNICAÇÃO'!E5","v":63},{"$f":"'[4]VCO-COMUNICAÇÃO'!F5","v":{"v":0.35,"d":"35.00%"}},{"$f":"'[4]VCO-COMUNICAÇÃO'!G5","v":"INSATISFATÓRIO"},null,{"$f":"'[4]VCO-COMUNICAÇÃO'!I5","v":"SIM"},{"$f":"'[4]VCO-COMUNICAÇÃO'!J5","v":111},{"$f":"'[4]VCO-COMUNICAÇÃO'!K5","v":{"v":0.578125,"d":"57.81%"}},{"$f":"'[4]VCO-COMUNICAÇÃO'!L5","v":"SATISFATÓRIO"},{"$f":"'[4]VCO-COMUNICAÇÃO'!M5","v":64},{"$f":"'[4]VCO-COMUNICAÇÃO'!N5","v":{"v":0.35555555555555557,"d":"35.56%"}},{"$f":"'[4]VCO-COMUNICAÇÃO'!O5","v":"INSATISFATÓRIO"},null,{"$f":"'[4]VCO-COMUNICAÇÃO'!Q5","v":"SIM"},{"$f":"'[4]VCO-COMUNICAÇÃO'!R5","v":121},{"$f":"'[4]VCO-COMUNICAÇÃO'!S5","v":{"v":0.6302083333333334,"d":"63.02%"}},{"$f":"'[4]VCO-COMUNICAÇÃO'!T5","v":"SATISFATÓRIO"},{"$f":"'[4]VCO-COMUNICAÇÃO'!U5","v":84},{"$f":"'[4]VCO-COMUNICAÇÃO'!V5","v":{"v":0.46408839779005523,"d":"46.41%"}},{"$f":"'[4]VCO-COMUNICAÇÃO'!W5","v":"INSATISFATÓRIO"}]
[{"$f":"'[4]VCO-COMUNICAÇÃO'!A6","v":"PARCIAL"},{"$f":"'[4]VCO-COMUNICAÇÃO'!B6","v":73},{"$f":"'[4]VCO-COMUNICAÇÃO'!C6","v":{"v":0.3802083333333333,"d":"38.02%"}},{"$f":"'[4]VCO-COMUNICAÇÃO'!D6","v":"SATISFATÓRIO"},{"$f":"'[4]VCO-COMUNICAÇÃO'!E6","v":82},{"$f":"'[4]VCO-COMUNICAÇÃO'!F6","v":{"v":0.45555555555555555,"d":"45.56%"}},{"$f":"'[4]VCO-COMUNICAÇÃO'!G6","v":"SATISFATÓRIO"},null,{"$f":"'[4]VCO-COMUNICAÇÃO'!I6","v":"PARCIAL"},{"$f":"'[4]VCO-COMUNICAÇÃO'!J6","v":63},{"$f":"'[4]VCO-COMUNICAÇÃO'!K6","v":{"v":0.328125,"d":"32.81%"}},{"$f":"'[4]VCO-COMUNICAÇÃO'!L6","v":"SATISFATÓRIO"},{"$f":"'[4]VCO-COMUNICAÇÃO'!M6","v":70},{"$f":"'[4]VCO-COMUNICAÇÃO'!N6","v":{"v":0.3888888888888889,"d":"38.89%"}},{"$f":"'[4]VCO-COMUNICAÇÃO'!O6","v":"SATISFATÓRIO"},null,{"$f":"'[4]VCO-COMUNICAÇÃO'!Q6","v":"PARCIAL"},{"$f":"'[4]VCO-COMUNICAÇÃO'!R6","v":62},{"$f":"'[4]VCO-COMUNICAÇÃO'!S6","v":{"v":0.3229166666666667,"d":"32.29%"}},{"$f":"'[4]VCO-COMUNICAÇÃO'!T6","v":"SATISFATÓRIO"},{"$f":"'[4]VCO-COMUNICAÇÃO'!U6","v":67},{"$f":"'[4]VCO-COMUNICAÇÃO'!V6","v":{"v":0.3701657458563536,"d":"37.02%"}},{"$f":"'[4]VCO-COMUNICAÇÃO'!W6","v":"SATISFATÓRIO"}]
[{"$f":"'[4]VCO-COMUNICAÇÃO'!A7","v":"NÃO"},{"$f":"'[4]VCO-COMUNICAÇÃO'!B7","v":16},{"$f":"'[4]VCO-COMUNICAÇÃO'!C7","v":{"v":0.08333333333333333,"d":"8.33%"}},{"$f":"'[4]VCO-COMUNICAÇÃO'!D7","v":"SATISFATÓRIO"},{"$f":"'[4]VCO-COMUNICAÇÃO'!E7","v":35},{"$f":"'[4]VCO-COMUNICAÇÃO'!F7","v":{"v":0.19444444444444445,"d":"19.44%"}},{"$f":"'[4]VCO-COMUNICAÇÃO'!G7","v":"INSATISFATÓRIO"},null,{"$f":"'[4]VCO-COMUNICAÇÃO'!I7","v":"NÃO"},{"$f":"'[4]VCO-COMUNICAÇÃO'!J7","v":18},{"$f":"'[4]VCO-COMUNICAÇÃO'!K7","v":{"v":0.09375,"d":"9.38%"}},{"$f":"'[4]VCO-COMUNICAÇÃO'!L7","v":"SATISFATÓRIO"},{"$f":"'[4]VCO-COMUNICAÇÃO'!M7","v":46},{"$f":"'[4]VCO-COMUNICAÇÃO'!N7","v":{"v":0.25555555555555554,"d":"25.56%"}},{"$f":"'[4]VCO-COMUNICAÇÃO'!O7","v":"INSATISFATÓRIO"},null,{"$f":"'[4]VCO-COMUNICAÇÃO'!Q7","v":"NÃO"},{"$f":"'[4]VCO-COMUNICAÇÃO'!R7","v":9},{"$f":"'[4]VCO-COMUNICAÇÃO'!S7","v":{"v":0.046875,"d":"4.69%"}},{"$f":"'[4]VCO-COMUNICAÇÃO'!T7","v":"DESEJÁVEL"},{"$f":"'[4]VCO-COMUNICAÇÃO'!U7","v":30},{"$f":"'[4]VCO-COMUNICAÇÃO'!V7","v":{"v":0.16574585635359115,"d":"16.57%"}},{"$f":"'[4]VCO-COMUNICAÇÃO'!W7","v":"INSATISFATÓRIO"}]
[{"$f":"'[4]VCO-COMUNICAÇÃO'!A8","v":"TOTAL"},{"$f":"'[4]VCO-COMUNICAÇÃO'!B8","v":192},{"$f":"'[4]VCO-COMUNICAÇÃO'!C8","v":{"v":1,"d":"100.00%"}},null,{"$f":"'[4]VCO-COMUNICAÇÃO'!E8","v":180},{"$f":"'[4]VCO-COMUNICAÇÃO'!F8","v":{"v":1,"d":"100.00%"}},null,null,{"$f":"'[4]VCO-COMUNICAÇÃO'!I8","v":"TOTAL"},{"$f":"'[4]VCO-COMUNICAÇÃO'!J8","v":192},{"$f":"'[4]VCO-COMUNICAÇÃO'!K8","v":{"v":1,"d":"100.00%"}},null,{"$f":"'[4]VCO-COMUNICAÇÃO'!M8","v":180},{"$f":"'[4]VCO-COMUNICAÇÃO'!N8","v":{"v":1,"d":"100.00%"}},null,null,{"$f":"'[4]VCO-COMUNICAÇÃO'!Q8","v":"TOTAL"},{"$f":"'[4]VCO-COMUNICAÇÃO'!R8","v":192},{"$f":"'[4]VCO-COMUNICAÇÃO'!S8","v":{"v":1,"d":"100.00%"}},null,{"$f":"'[4]VCO-COMUNICAÇÃO'!U8","v":181},{"$f":"'[4]VCO-COMUNICAÇÃO'!V8","v":{"v":1,"d":"100.00%"}}]

{"sheet":"VCOESTRUTURAFISICA","index":40,"n_rows":176,"n_cols":15,"rows_kept":176,"merged":[[11,0,12,0],[11,1,11,3],[11,4,11,6],[11,8,12,8],[11,9,11,11],[11,12,11,14],[51,0,52,0],[51,1,51,3],[51,4,51,6],[51,8,52,8],[51,9,51,11],[51,12,51,14],[91,0,92,0],[91,1,91,3],[91,4,91,6],[91,8,92,8],[91,9,91,11],[91,12,91,14],[130,0,131,0],[130,1,130,3],[130,4,130,6],[130,8,131,8],[130,9,130,11],[130,12,130,14],[170,0,171,0],[170,1,170,3],[170,4,170,6],[170,8,171,8],[170,9,170,11],[170,12,170,14]]}
{"$rows_empty":11}
[{"$f":"'[4]VCO-ESTRUTURAFISICA'!A3","v":"CONSIDERO ADEQUADA A LIMPEZA REALIZADA NO MEU AMBIENTE DE TRABALHO?"},{"$f":"'[4]VCO-ESTRUTURAFISICA'!B3","v":2020},null,null,{"$f":"'[4]VCO-ESTRUTURAFISICA'!E3","v":2017},{"$nulls":3},{"$f":"'[4]VCO-ESTRUTURAFISICA'!I3","v":"CONSIDERO ADEQUADA A VENTILAÇÃO NO MEU AMBIENTE DE TRABALHO?"},{"$f":"'[4]VCO-ESTRUTURAFISICA'!J3","v":2020},null,null,{"$f":"'[4]VCO-ESTRUTURAFISICA'!M3","v":2017}]
[null,{"$f":"'[4]VCO-ESTRUTURAFISICA'!B4","v":"TOTAL"},{"$f":"'[4]VCO-ESTRUTURAFISICA'!C4","v":"%"},{"$f":"'[4]VCO-ESTRUTURAFISICA'!D4","v":"RESULTADO"},{"$f":"'[4]VCO-ESTRUTURAFISICA'!E4","v":"TOTAL"},{"$f":"'[4]VCO-ESTRUTURAFISICA'!F4","v":"%"},{"$f":"'[4]VCO-ESTRUTURAFISICA'!G4","v":"RESULTADO"},null,null,{"$f":"'[4]VCO-ESTRUTURAFISICA'!J4","v":"TOTAL"},{"$f":"'[4]VCO-ESTRUTURAFISICA'!K4","v":"%"},{"$f":"'[4]VCO-ESTRUTURAFISICA'!L4","v":"RESULTADO"},{"$f":"'[4]VCO-ESTRUTURAFISICA'!M4","v":"TOTAL"},{"$f":"'[4]VCO-ESTRUTURAFISICA'!N4","v":"%"},{"$f":"'[4]VCO-ESTRUTURAFISICA'!O4","v":"RESULTADO"}]
[{"$f":"'[4]VCO-ESTRUTURAFISICA'!A5","v":"SIM"},{"$f":"'[4]VCO-ESTRUTURAFISICA'!B5","v":176},{"$f":"'[4]VCO-ESTRUTURAFISICA'!C5","v":{"v":0.9166666666666666,"d":"91.67%"}},{"$f":"'[4]VCO-ESTRUTURAFISICA'!D5","v":"DESEJÁVEL"},{"$f":"'[4]VCO-ESTRUTURAFISICA'!E5","v":140},{"$f":"'[4]VCO-ESTRUTURAFISICA'!F5","v":{"v":0.7821229050279329,"d":"78.21%"}},{"$f":"'[4]VCO-ESTRUTURAFISICA'!G5","v":"SATISFATÓRIO"},null,{"$f":"'[4]VCO-ESTRUTURAFISICA'!I5","v":"SIM"},{"$f":"'[4]VCO-ESTRUTURAFISICA'!J5","v":132},{"$f":"'[4]VCO-ESTRUTURAFISICA'!K5","v":{"v":0.6875,"d":"68.75%"}},{"$f":"'[4]VCO-ESTRUTURAFISICA'!L5","v":"SATISFATÓRIO"},{"$f":"'[4]VCO-ESTRUTURAFISICA'!M5","v":122},{"$f":"'[4]VCO-ESTRUTURAFISICA'!N5","v":{"v":0.6815642458100558,"d":"68.16%"}},{"$f":"'[4]VCO-ESTRUTURAFISICA'!O5","v":"SATISFATÓRIO"}]
[{"$f":"'[4]VCO-ESTRUTURAFISICA'!A6","v":"PARCIAL"},{"$f":"'[4]VCO-ESTRUTURAFISICA'!B6","v":16},{"$f":"'[4]VCO-ESTRUTURAFISICA'!C6","v":{"v":0.08333333333333333,"d":"8.33%"}},{"$f":"'[4]VCO-ESTRUTURAFISICA'!D6","v":"SATISFATÓRIO"},{"$f":"'[4]VCO-ESTRUTURAFISICA'!E6","v":35},{"$f":"'[4]VCO-ESTRUTURAFISICA'!F6","v":{"v":0.19553072625698323,"d":"19.55%"}},{"$f":"'[4]VCO-ESTRUTURAFISICA'!G6","v":"SATISFATÓRIO"},null,{"$f":"'[4]VCO-ESTRUTURAFISICA'!I6","v":"PARCIAL"},{"$f":"'[4]VCO-ESTRUTURAFISICA'!J6","v":54},{"$f":"'[4]VCO-ESTRUTURAFISICA'!K6","v":{"v":0.28125,"d":"28.13%"}},{"$f":"'[4]VCO-ESTRUTURAFISICA'!L6","v":"SATISFATÓRIO"},{"$f":"'[4]VCO-ESTRUTURAFISICA'!M6","v":47},{"$f":"'[4]VCO-ESTRUTURAFISICA'!N6","v":{"v":0.26256983240223464,"d":"26.26%"}},{"$f":"'[4]VCO-ESTRUTURAFISICA'!O6","v":"SATISFATÓRIO"}]
[{"$f":"'[4]VCO-ESTRUTURAFISICA'!A7","v":"NÃO"},{"$f":"'[4]VCO-ESTRUTURAFISICA'!B7","v":0},{"$f":"'[4]VCO-ESTRUTURAFISICA'!C7","v":{"v":0,"d":"0.00%"}},{"$f":"'[4]VCO-ESTRUTURAFISICA'!D7","v":"DESEJÁVEL"},{"$f":"'[4]VCO-ESTRUTURAFISICA'!E7","v":4},{"$f":"'[4]VCO-ESTRUTURAFISICA'!F7","v":{"v":0.0223463687150838,"d":"2.23%"}},{"$f":"'[4]VCO-ESTRUTURAFISICA'!G7","v":"DESEJÁVEL"},null,{"$f":"'[4]VCO-ESTRUTURAFISICA'!I7","v":"NÃO"},{"$f":"'[4]VCO-ESTRUTURAFISICA'!J7","v":6},{"$f":"'[4]VCO-ESTRUTURAFISICA'!K7","v":{"v":0.03125,"d":"3.13%"}},{"$f":"'[4]VCO-ESTRUTURAFISICA'!L7","v":"DESEJÁVEL"},{"$f":"'[4]VCO-ESTRUTURAFISICA'!M7","v":10},{"$f":"'[4]VCO-ESTRUTURAFISICA'!N7","v":{"v":0.055865921787709494,"d":"5.59%"}},{"$f":"'[4]VCO-ESTRUTURAFISICA'!O7","v":"DESEJÁVEL"}]
[{"$f":"'[4]VCO-ESTRUTURAFISICA'!A8","v":"TOTAL"},{"$f":"'[4]VCO-ESTRUTURAFISICA'!B8","v":192},{"$f":"'[4]VCO-ESTRUTURAFISICA'!C8","v":{"v":1,"d":"100.00%"}},null,{"$f":"'[4]VCO-ESTRUTURAFISICA'!E8","v":179},{"$f":"'[4]VCO-ESTRUTURAFISICA'!F8","v":{"v":0.9999999999999999,"d":"100.00%"}},null,null,{"$f":"'[4]VCO-ESTRUTURAFISICA'!I8","v":"TOTAL"},{"$f":"'[4]VCO-ESTRUTURAFISICA'!J8","v":192},{"$f":"'[4]VCO-ESTRUTURAFISICA'!K8","v":{"v":1,"d":"100.00%"}},null,{"$f":"'[4]VCO-ESTRUTURAFISICA'!M8","v":179},{"$f":"'[4]VCO-ESTRUTURAFISICA'!N8","v":{"v":1,"d":"100.00%"}}]
{"$rows_empty":34}
[{"$f":"'[4]VCO-ESTRUTURAFISICA'!A43","v":"CONSIDERO ADEQUADA A ILUMINAÇÃO NO MEU AMBIENTE DE TRABALHO?"},{"$f":"'[4]VCO-ESTRUTURAFISICA'!B43","v":2020},null,null,{"$f":"'[4]VCO-ESTRUTURAFISICA'!E43","v":2018},{"$nulls":3},{"$f":"'[4]VCO-ESTRUTURAFISICA'!I43","v":"CONSIDERO ADEQUADA A SEGURANÇA NO MEU AMBIENTE DE TRABALHO?"},{"$f":"'[4]VCO-ESTRUTURAFISICA'!J43","v":2020},null,null,{"$f":"'[4]VCO-ESTRUTURAFISICA'!M43","v":2018}]
[null,{"$f":"'[4]VCO-ESTRUTURAFISICA'!B44","v":"TOTAL"},{"$f":"'[4]VCO-ESTRUTURAFISICA'!C44","v":"%"},{"$f":"'[4]VCO-ESTRUTURAFISICA'!D44","v":"RESULTADO"},{"$f":"'[4]VCO-ESTRUTURAFISICA'!E44","v":"TOTAL"},{"$f":"'[4]VCO-ESTRUTURAFISICA'!F44","v":"%"},{"$f":"'[4]VCO-ESTRUTURAFISICA'!G44","v":"RESULTADO"},null,null,{"$f":"'[4]VCO-ESTRUTURAFISICA'!J44","v":"TOTAL"},{"$f":"'[4]VCO-ESTRUTURAFISICA'!K44","v":"%"},{"$f":"'[4]VCO-ESTRUTURAFISICA'!L44","v":"RESULTADO"},{"$f":"'[4]VCO-ESTRUTURAFISICA'!M44","v":"TOTAL"},{"$f":"'[4]VCO-ESTRUTURAFISICA'!N44","v":"%"},{"$f":"'[4]VCO-ESTRUTURAFISICA'!O44","v":"RESULTADO"}]
[{"$f":"'[4]VCO-ESTRUTURAFISICA'!A45","v":"SIM"},{"$f":"'[4]VCO-ESTRUTURAFISICA'!B45","v":154},{"$f":"'[4]VCO-ESTRUTURAFISICA'!C45","v":{"v":0.8020833333333334,"d":"80.21%"}},{"$f":"'[4]VCO-ESTRUTURAFISICA'!D45","v":"DESEJÁVEL"},{"$f":"'[4]VCO-ESTRUTURAFISICA'!E45","v":154},{"$f":"'[4]VCO-ESTRUTURAFISICA'!F45","v":{"v":0.8603351955307262,"d":"86.03%"}},{"$f":"'[4]VCO-ESTRUTURAFISICA'!G45","v":"DESEJÁVEL"},null,{"$f":"'[4]VCO-ESTRUTURAFISICA'!I45","v":"SIM"},{"$f":"'[4]VCO-ESTRUTURAFISICA'!J45","v":171},{"$f":"'[4]VCO-ESTRUTURAFISICA'!K45","v":{"v":0.890625,"d":"89.06%"}},{"$f":"'[4]VCO-ESTRUTURAFISICA'!L45","v":"DESEJÁVEL"},{"$f":"'[4]VCO-ESTRUTURAFISICA'!M45","v":147},{"$f":"'[4]VCO-ESTRUTURAFISICA'!N45","v":{"v":0.8212290502793296,"d":"82.12%"}},{"$f":"'[4]VCO-ESTRUTURAFISICA'!O45","v":"DESEJÁVEL"}]
[{"$f":"'[4]VCO-ESTRUTURAFISICA'!A46","v":"PARCIAL"},{"$f":"'[4]VCO-ESTRUTURAFISICA'!B46","v":34},{"$f":"'[4]VCO-ESTRUTURAFISICA'!C46","v":{"v":0.17708333333333334,"d":"17.71%"}},{"$f":"'[4]VCO-ESTRUTURAFISICA'!D46","v":"SATISFATÓRIO"},{"$f":"'[4]VCO-ESTRUTURAFISICA'!E46","v":20},{"$f":"'[4]VCO-ESTRUTURAFISICA'!F46","v":{"v":0.11173184357541899,"d":"11.17%"}},{"$f":"'[4]VCO-ESTRUTURAFISICA'!G46","v":"SATISFATÓRIO"},null,{"$f":"'[4]VCO-ESTRUTURAFISICA'!I46","v":"PARCIAL"},{"$f":"'[4]VCO-ESTRUTURAFISICA'!J46","v":20},{"$f":"'[4]VCO-ESTRUTURAFISICA'!K46","v":{"v":0.10416666666666667,"d":"10.42%"}},{"$f":"'[4]VCO-ESTRUTURAFISICA'!L46","v":"SATISFATÓRIO"},{"$f":"'[4]VCO-ESTRUTURAFISICA'!M46","v":30},{"$f":"'[4]VCO-ESTRUTURAFISICA'!N46","v":{"v":0.16759776536312848,"d":"16.76%"}},{"$f":"'[4]VCO-ESTRUTURAFISICA'!O46","v":"SATISFATÓRIO"}]
[{"$f":"'[4]VCO-ESTRUTURAFISICA'!A47","v":"NÃO"},{"$f":"'[4]VCO-ESTRUTURAFISICA'!B47","v":4},{"$f":"'[4]VCO-ESTRUTURAFISICA'!C47","v":{"v":0.020833333333333332,"d":"2.08%"}},{"$f":"'[4]VCO-ESTRUTURAFISICA'!D47","v":"DESEJÁVEL"},{"$f":"'[4]VCO-ESTRUTURAFISICA'!E47","v":5},{"$f":"'[4]VCO-ESTRUTURAFISICA'!F47","v":{"v":0.027932960893854747,"d":"2.79%"}},{"$f":"'[4]VCO-ESTRUTURAFISICA'!G47","v":"DESEJÁVEL"},null,{"$f":"'[4]VCO-ESTRUTURAFISICA'!I47","v":"NÃO"},{"$f":"'[4]VCO-ESTRUTURAFISICA'!J47","v":1},{"$f":"'[4]VCO-ESTRUTURAFISICA'!K47","v":{"v":5.208333333333333E-3,"d":"0.52%"}},{"$f":"'[4]VCO-ESTRUTURAFISICA'!L47","v":"DESEJÁVEL"},{"$f":"'[4]VCO-ESTRUTURAFISICA'!M47","v":2},{"$f":"'[4]VCO-ESTRUTURAFISICA'!N47","v":{"v":0.0111731843575419,"d":"1.12%"}},{"$f":"'[4]VCO-ESTRUTURAFISICA'!O47","v":"DESEJÁVEL"}]
[{"$f":"'[4]VCO-ESTRUTURAFISICA'!A48","v":"TOTAL"},{"$f":"'[4]VCO-ESTRUTURAFISICA'!B48","v":192},{"$f":"'[4]VCO-ESTRUTURAFISICA'!C48","v":{"v":1,"d":"100.00%"}},null,{"$f":"'[4]VCO-ESTRUTURAFISICA'!E48","v":179},{"$f":"'[4]VCO-ESTRUTURAFISICA'!F48","v":{"v":1,"d":"100.00%"}},null,null,{"$f":"'[4]VCO-ESTRUTURAFISICA'!I48","v":"TOTAL"},{"$f":"'[4]VCO-ESTRUTURAFISICA'!J48","v":192},{"$f":"'[4]VCO-ESTRUTURAFISICA'!K48","v":{"v":1,"d":"100.00%"}},null,{"$f":"'[4]VCO-ESTRUTURAFISICA'!M48","v":179},{"$f":"'[4]VCO-ESTRUTURAFISICA'!N48","v":{"v":0.9999999999999999,"d":"100.00%"}}]
{"$rows_empty":34}
[{"$f":"'[4]VCO-ESTRUTURAFISICA'!A83","v":"CONSIDERO ADEQUADA A DISTRIBUIÇÃO DO ESPAÇO FÍSICO NO MEU AMBIENTE DE TRABALHO?"},{"$f":"'[4]VCO-ESTRUTURAFISICA'!B83","v":2020},null,null,{"$f":"'[4]VCO-ESTRUTURAFISICA'!E83","v":2018},{"$nulls":3},{"$f":"'[4]VCO-ESTRUTURAFISICA'!I83","v":"OS MÓVEIS SÃO ERGONÔMICOS?"},{"$f":"'[4]VCO-ESTRUTURAFISICA'!J83","v":2020},null,null,{"$f":"'[4]VCO-ESTRUTURAFISICA'!M83","v":2018}]
[null,{"$f":"'[4]VCO-ESTRUTURAFISICA'!B84","v":"TOTAL"},{"$f":"'[4]VCO-ESTRUTURAFISICA'!C84","v":"%"},{"$f":"'[4]VCO-ESTRUTURAFISICA'!D84","v":"RESULTADO"},{"$f":"'[4]VCO-ESTRUTURAFISICA'!E84","v":"TOTAL"},{"$f":"'[4]VCO-ESTRUTURAFISICA'!F84","v":"%"},{"$f":"'[4]VCO-ESTRUTURAFISICA'!G84","v":"RESULTADO"},null,null,{"$f":"'[4]VCO-ESTRUTURAFISICA'!J84","v":"TOTAL"},{"$f":"'[4]VCO-ESTRUTURAFISICA'!K84","v":"%"},{"$f":"'[4]VCO-ESTRUTURAFISICA'!L84","v":"RESULTADO"},{"$f":"'[4]VCO-ESTRUTURAFISICA'!M84","v":"TOTAL"},{"$f":"'[4]VCO-ESTRUTURAFISICA'!N84","v":"%"},{"$f":"'[4]VCO-ESTRUTURAFISICA'!O84","v":"RESULTADO"}]
[{"$f":"'[4]VCO-ESTRUTURAFISICA'!A85","v":"SIM"},{"$f":"'[4]VCO-ESTRUTURAFISICA'!B85","v":153},{"$f":"'[4]VCO-ESTRUTURAFISICA'!C85","v":{"v":0.796875,"d":"79.69%"}},{"$f":"'[4]VCO-ESTRUTURAFISICA'!D85","v":"SATISFATÓRIO"},{"$f":"'[4]VCO-ESTRUTURAFISICA'!E85","v":134},{"$f":"'[4]VCO-ESTRUTURAFISICA'!F85","v":{"v":0.7486033519553073,"d":"74.86%"}},{"$f":"'[4]VCO-ESTRUTURAFISICA'!G85","v":"SATISFATÓRIO"},null,{"$f":"'[4]VCO-ESTRUTURAFISICA'!I85","v":"SIM"},{"$f":"'[4]VCO-ESTRUTURAFISICA'!J85","v":122},{"$f":"'[4]VCO-ESTRUTURAFISICA'!K85","v":{"v":0.6354166666666666,"d":"63.54%"}},{"$f":"'[4]VCO-ESTRUTURAFISICA'!L85","v":"SATISFATÓRIO"},{"$f":"'[4]VCO-ESTRUTURAFISICA'!M85","v":"*"},{"$f":"'[4]VCO-ESTRUTURAFISICA'!N85","v":"*"},{"$f":"'[4]VCO-ESTRUTURAFISICA'!O85","v":"*"}]
[{"$f":"'[4]VCO-ESTRUTURAFISICA'!A86","v":"PARCIAL"},{"$f":"'[4]VCO-ESTRUTURAFISICA'!B86","v":31},{"$f":"'[4]VCO-ESTRUTURAFISICA'!C86","v":{"v":0.16145833333333334,"d":"16.15%"}},{"$f":"'[4]VCO-ESTRUTURAFISICA'!D86","v":"SATISFATÓRIO"},{"$f":"'[4]VCO-ESTRUTURAFISICA'!E86","v":35},{"$f":"'[4]VCO-ESTRUTURAFISICA'!F86","v":{"v":0.19553072625698323,"d":"19.55%"}},{"$f":"'[4]VCO-ESTRUTURAFISICA'!G86","v":"SATISFATÓRIO"},null,{"$f":"'[4]VCO-ESTRUTURAFISICA'!I86","v":"PARCIAL"},{"$f":"'[4]VCO-ESTRUTURAFISICA'!J86","v":55},{"$f":"'[4]VCO-ESTRUTURAFISICA'!K86","v":{"v":0.2864583333333333,"d":"28.65%"}},{"$f":"'[4]VCO-ESTRUTURAFISICA'!L86","v":"SATISFATÓRIO"},{"$f":"'[4]VCO-ESTRUTURAFISICA'!M86","v":"*"},{"$f":"'[4]VCO-ESTRUTURAFISICA'!N86","v":"*"},{"$f":"'[4]VCO-ESTRUTURAFISICA'!O86","v":"*"}]
[{"$f":"'[4]VCO-ESTRUTURAFISICA'!A87","v":"NÃO"},{"$f":"'[4]VCO-ESTRUTURAFISICA'!B87","v":8},{"$f":"'[4]VCO-ESTRUTURAFISICA'!C87","v":{"v":0.041666666666666664,"d":"4.17%"}},{"$f":"'[4]VCO-ESTRUTURAFISICA'!D87","v":"DESEJÁVEL"},{"$f":"'[4]VCO-ESTRUTURAFISICA'!E87","v":10},{"$f":"'[4]VCO-ESTRUTURAFISICA'!F87","v":{"v":0.055865921787709494,"d":"5.59%"}},{"$f":"'[4]VCO-ESTRUTURAFISICA'!G87","v":"DESEJÁVEL"},null,{"$f":"'[4]VCO-ESTRUTURAFISICA'!I87","v":"NÃO"},{"$f":"'[4]VCO-ESTRUTURAFISICA'!J87","v":15},{"$f":"'[4]VCO-ESTRUTURAFISICA'!K87","v":{"v":0.078125,"d":"7.81%"}},{"$f":"'[4]VCO-ESTRUTURAFISICA'!L87","v":"SATISFATÓRIO"},{"$f":"'[4]VCO-ESTRUTURAFISICA'!M87","v":"*"},{"$f":"'[4]VCO-ESTRUTURAFISICA'!N87","v":"*"},{"$f":"'[4]VCO-ESTRUTURAFISICA'!O87","v":"*"}]
[{"$f":"'[4]VCO-ESTRUTURAFISICA'!A88","v":"TOTAL"},{"$f":"'[4]VCO-ESTRUTURAFISICA'!B88","v":192},{"$f":"'[4]VCO-ESTRUTURAFISICA'!C88","v":{"v":1,"d":"100.00%"}},null,{"$f":"'[4]VCO-ESTRUTURAFISICA'!E88","v":179},{"$f":"'[4]VCO-ESTRUTURAFISICA'!F88","v":{"v":1,"d":"100.00%"}},null,null,{"$f":"'[4]VCO-ESTRUTURAFISICA'!I88","v":"TOTAL"},{"$f":"'[4]VCO-ESTRUTURAFISICA'!J88","v":192},{"$f":"'[4]VCO-ESTRUTURAFISICA'!K88","v":{"v":1,"d":"100.00%"}},null,{"$f":"'[4]VCO-ESTRUTURAFISICA'!M88","v":"*"},{"$f":"'[4]VCO-ESTRUTURAFISICA'!N88","v":"*"}]
{"$rows_empty":33}
[{"$f":"'[4]VCO-ESTRUTURAFISICA'!A122","v":"CONSIDERO ADEQUADO OS EQUIPAMENTOS DE INFORMÁTICA?"},{"$f":"'[4]VCO-ESTRUTURAFISICA'!B122","v":2020},null,null,{"$f":"'[4]VCO-ESTRUTURAFISICA'!E122","v":2018},{"$nulls":3},{"$f":"'[4]VCO-ESTRUTURAFISICA'!I122","v":"CONSIDERO ADEQUADO OS MATERIAIS DE CONSUMO?"},{"$f":"'[4]VCO-ESTRUTURAFISICA'!J122","v":2020},null,null,{"$f":"'[4]VCO-ESTRUTURAFISICA'!M122","v":2018}]
[null,{"$f":"'[4]VCO-ESTRUTURAFISICA'!B123","v":"TOTAL"},{"$f":"'[4]VCO-ESTRUTURAFISICA'!C123","v":"%"},{"$f":"'[4]VCO-ESTRUTURAFISICA'!D123","v":"RESULTADO"},{"$f":"'[4]VCO-ESTRUTURAFISICA'!E123","v":"TOTAL"},{"$f":"'[4]VCO-ESTRUTURAFISICA'!F123","v":"%"},{"$f":"'[4]VCO-ESTRUTURAFISICA'!G123","v":"RESULTADO"},null,null,{"$f":"'[4]VCO-ESTRUTURAFISICA'!J123","v":"TOTAL"},{"$f":"'[4]VCO-ESTRUTURAFISICA'!K123","v":"%"},{"$f":"'[4]VCO-ESTRUTURAFISICA'!L123","v":"RESULTADO"},{"$f":"'[4]VCO-ESTRUTURAFISICA'!M123","v":"TOTAL"},{"$f":"'[4]VCO-ESTRUTURAFISICA'!N123","v":"%"},{"$f":"'[4]VCO-ESTRUTURAFISICA'!O123","v":"RESULTADO"}]
[{"$f":"'[4]VCO-ESTRUTURAFISICA'!A124","v":"SIM"},{"$f":"'[4]VCO-ESTRUTURAFISICA'!B124","v":152},{"$f":"'[4]VCO-ESTRUTURAFISICA'!C124","v":{"v":0.7916666666666666,"d":"79.17%"}},{"$f":"'[4]VCO-ESTRUTURAFISICA'!D124","v":"SATISFATÓRIO"},{"$f":"'[4]VCO-ESTRUTURAFISICA'!E124","v":153},{"$f":"'[4]VCO-ESTRUTURAFISICA'!F124","v":{"v":0.8547486033519553,"d":"85.47%"}},{"$f":"'[4]VCO-ESTRUTURAFISICA'!G124","v":"DESEJÁVEL"},null,{"$f":"'[4]VCO-ESTRUTURAFISICA'!I124","v":"SIM"},{"$f":"'[4]VCO-ESTRUTURAFISICA'!J124","v":140},{"$f":"'[4]VCO-ESTRUTURAFISICA'!K124","v":{"v":0.7291666666666666,"d":"72.92%"}},{"$f":"'[4]VCO-ESTRUTURAFISICA'!L124","v":"SATISFATÓRIO"},{"$f":"'[4]VCO-ESTRUTURAFISICA'!M124","v":124},{"$f":"'[4]VCO-ESTRUTURAFISICA'!N124","v":{"v":0.6927374301675978,"d":"69.27%"}},{"$f":"'[4]VCO-ESTRUTURAFISICA'!O124","v":"SATISFATÓRIO"}]
[{"$f":"'[4]VCO-ESTRUTURAFISICA'!A125","v":"PARCIAL"},{"$f":"'[4]VCO-ESTRUTURAFISICA'!B125","v":38},{"$f":"'[4]VCO-ESTRUTURAFISICA'!C125","v":{"v":0.19791666666666666,"d":"19.79%"}},{"$f":"'[4]VCO-ESTRUTURAFISICA'!D125","v":"SATISFATÓRIO"},{"$f":"'[4]VCO-ESTRUTURAFISICA'!E125","v":22},{"$f":"'[4]VCO-ESTRUTURAFISICA'!F125","v":{"v":0.12290502793296089,"d":"12.29%"}},{"$f":"'[4]VCO-ESTRUTURAFISICA'!G125","v":"SATISFATÓRIO"},null,{"$f":"'[4]VCO-ESTRUTURAFISICA'!I125","v":"PARCIAL"},{"$f":"'[4]VCO-ESTRUTURAFISICA'!J125","v":49},{"$f":"'[4]VCO-ESTRUTURAFISICA'!K125","v":{"v":0.2552083333333333,"d":"25.52%"}},{"$f":"'[4]VCO-ESTRUTURAFISICA'!L125","v":"SATISFATÓRIO"},{"$f":"'[4]VCO-ESTRUTURAFISICA'!M125","v":49},{"$f":"'[4]VCO-ESTRUTURAFISICA'!N125","v":{"v":0.2737430167597765,"d":"27.37%"}},{"$f":"'[4]VCO-ESTRUTURAFISICA'!O125","v":"SATISFATÓRIO"}]
[{"$f":"'[4]VCO-ESTRUTURAFISICA'!A126","v":"NÃO"},{"$f":"'[4]VCO-ESTRUTURAFISICA'!B126","v":2},{"$f":"'[4]VCO-ESTRUTURAFISICA'!C126","v":{"v":0.010416666666666666,"d":"1.04%"}},{"$f":"'[4]VCO-ESTRUTURAFISICA'!D126","v":"DESEJÁVEL"},{"$f":"'[4]VCO-ESTRUTURAFISICA'!E126","v":4},{"$f":"'[4]VCO-ESTRUTURAFISICA'!F126","v":{"v":0.0223463687150838,"d":"2.23%"}},{"$f":"'[4]VCO-ESTRUTURAFISICA'!G126","v":"DESEJÁVEL"},null,{"$f":"'[4]VCO-ESTRUTURAFISICA'!I126","v":"NÃO"},{"$f":"'[4]VCO-ESTRUTURAFISICA'!J126","v":3},{"$f":"'[4]VCO-ESTRUTURAFISICA'!K126","v":{"v":0.015625,"d":"1.56%"}},{"$f":"'[4]VCO-ESTRUTURAFISICA'!L126","v":"DESEJÁVEL"},{"$f":"'[4]VCO-ESTRUTURAFISICA'!M126","v":6},{"$f":"'[4]VCO-ESTRUTURAFISICA'!N126","v":{"v":0.0335195530726257,"d":"3.35%"}},{"$f":"'[4]VCO-ESTRUTURAFISICA'!O126","v":"DESEJÁVEL"}]
[{"$f":"'[4]VCO-ESTRUTURAFISICA'!A127","v":"TOTAL"},{"$f":"'[4]VCO-ESTRUTURAFISICA'!B127","v":192},{"$f":"'[4]VCO-ESTRUTURAFISICA'!C127","v":{"v":0.9999999999999999,"d":"100.00%"}},null,{"$f":"'[4]VCO-ESTRUTURAFISICA'!E127","v":179},{"$f":"'[4]VCO-ESTRUTURAFISICA'!F127","v":{"v":1,"d":"100.00%"}},null,null,{"$f":"'[4]VCO-ESTRUTURAFISICA'!I127","v":"TOTAL"},{"$f":"'[4]VCO-ESTRUTURAFISICA'!J127","v":192},{"$f":"'[4]VCO-ESTRUTURAFISICA'!K127","v":{"v":1,"d":"100.00%"}},null,{"$f":"'[4]VCO-ESTRUTURAFISICA'!M127","v":179},{"$f":"'[4]VCO-ESTRUTURAFISICA'!N127","v":{"v":1,"d":"100.00%"}}]
{"$rows_empty":34}
[{"$f":"'[4]VCO-ESTRUTURAFISICA'!A162","v":"CONSIDERO ADEQUADA A LOCALIZAÇÃO DO MEU TRABALHO?"},{"$f":"'[4]VCO-ESTRUTURAFISICA'!B162","v":2020},null,null,{"$f":"'[4]VCO-ESTRUTURAFISICA'!E162","v":2018},{"$nulls":3},{"$f":"'[4]VCO-ESTRUTURAFISICA'!I162","v":"CONSIDERO ADEQUADA A ACESSIBILIDADE NO MME?"},{"$f":"'[4]VCO-ESTRUTURAFISICA'!J162","v":2020},null,null,{"$f":"'[4]VCO-ESTRUTURAFISICA'!M162","v":2018}]
[null,{"$f":"'[4]VCO-ESTRUTURAFISICA'!B163","v":"TOTAL"},{"$f":"'[4]VCO-ESTRUTURAFISICA'!C163","v":"%"},{"$f":"'[4]VCO-ESTRUTURAFISICA'!D163","v":"RESULTADO"},{"$f":"'[4]VCO-ESTRUTURAFISICA'!E163","v":"TOTAL"},{"$f":"'[4]VCO-ESTRUTURAFISICA'!F163","v":"%"},{"$f":"'[4]VCO-ESTRUTURAFISICA'!G163","v":"RESULTADO"},null,null,{"$f":"'[4]VCO-ESTRUTURAFISICA'!J163","v":"TOTAL"},{"$f":"'[4]VCO-ESTRUTURAFISICA'!K163","v":"%"},{"$f":"'[4]VCO-ESTRUTURAFISICA'!L163","v":"RESULTADO"},{"$f":"'[4]VCO-ESTRUTURAFISICA'!M163","v":"TOTAL"},{"$f":"'[4]VCO-ESTRUTURAFISICA'!N163","v":"%"},{"$f":"'[4]VCO-ESTRUTURAFISICA'!O163","v":"RESULTADO"}]
[{"$f":"'[4]VCO-ESTRUTURAFISICA'!A164","v":"SIM"},{"$f":"'[4]VCO-ESTRUTURAFISICA'!B164","v":172},{"$f":"'[4]VCO-ESTRUTURAFISICA'!C164","v":{"v":0.8958333333333334,"d":"89.58%"}},{"$f":"'[4]VCO-ESTRUTURAFISICA'!D164","v":"DESEJÁVEL"},{"$f":"'[4]VCO-ESTRUTURAFISICA'!E164","v":"*"},{"$f":"'[4]VCO-ESTRUTURAFISICA'!F164","v":"*"},{"$f":"'[4]VCO-ESTRUTURAFISICA'!G164","v":"*"},null,{"$f":"'[4]VCO-ESTRUTURAFISICA'!I164","v":"SIM"},{"$f":"'[4]VCO-ESTRUTURAFISICA'!J164","v":177},{"$f":"'[4]VCO-ESTRUTURAFISICA'!K164","v":{"v":0.921875,"d":"92.19%"}},{"$f":"'[4]VCO-ESTRUTURAFISICA'!L164","v":"DESEJÁVEL"},{"$f":"'[4]VCO-ESTRUTURAFISICA'!M164","v":138},{"$f":"'[4]VCO-ESTRUTURAFISICA'!N164","v":{"v":0.770949720670391,"d":"77.09%"}},{"$f":"'[4]VCO-ESTRUTURAFISICA'!O164","v":"SATISFATÓRIO"}]
[{"$f":"'[4]VCO-ESTRUTURAFISICA'!A165","v":"PARCIAL"},{"$f":"'[4]VCO-ESTRUTURAFISICA'!B165","v":18},{"$f":"'[4]VCO-ESTRUTURAFISICA'!C165","v":{"v":0.09375,"d":"9.38%"}},{"$f":"'[4]VCO-ESTRUTURAFISICA'!D165","v":"SATISFATÓRIO"},{"$f":"'[4]VCO-ESTRUTURAFISICA'!E165","v":"*"},{"$f":"'[4]VCO-ESTRUTURAFISICA'!F165","v":"*"},{"$f":"'[4]VCO-ESTRUTURAFISICA'!G165","v":"*"},null,{"$f":"'[4]VCO-ESTRUTURAFISICA'!I165","v":"PARCIAL"},{"$f":"'[4]VCO-ESTRUTURAFISICA'!J165","v":15},{"$f":"'[4]VCO-ESTRUTURAFISICA'!K165","v":{"v":0.078125,"d":"7.81%"}},{"$f":"'[4]VCO-ESTRUTURAFISICA'!L165","v":"SATISFATÓRIO"},{"$f":"'[4]VCO-ESTRUTURAFISICA'!M165","v":35},{"$f":"'[4]VCO-ESTRUTURAFISICA'!N165","v":{"v":0.19553072625698323,"d":"19.55%"}},{"$f":"'[4]VCO-ESTRUTURAFISICA'!O165","v":"SATISFATÓRIO"}]
[{"$f":"'[4]VCO-ESTRUTURAFISICA'!A166","v":"NÃO"},{"$f":"'[4]VCO-ESTRUTURAFISICA'!B166","v":2},{"$f":"'[4]VCO-ESTRUTURAFISICA'!C166","v":{"v":0.010416666666666666,"d":"1.04%"}},{"$f":"'[4]VCO-ESTRUTURAFISICA'!D166","v":"DESEJÁVEL"},{"$f":"'[4]VCO-ESTRUTURAFISICA'!E166","v":"*"},{"$f":"'[4]VCO-ESTRUTURAFISICA'!F166","v":"*"},{"$f":"'[4]VCO-ESTRUTURAFISICA'!G166","v":"*"},null,{"$f":"'[4]VCO-ESTRUTURAFISICA'!I166","v":"NÃO"},{"$f":"'[4]VCO-ESTRUTURAFISICA'!J166","v":0},{"$f":"'[4]VCO-ESTRUTURAFISICA'!K166","v":{"v":0,"d":"0.00%"}},{"$f":"'[4]VCO-ESTRUTURAFISICA'!L166","v":"DESEJÁVEL"},{"$f":"'[4]VCO-ESTRUTURAFISICA'!M166","v":6},{"$f":"'[4]VCO-ESTRUTURAFISICA'!N166","v":{"v":0.0335195530726257,"d":"3.35%"}},{"$f":"'[4]VCO-ESTRUTURAFISICA'!O166","v":"DESEJÁVEL"}]
[{"$f":"'[4]VCO-ESTRUTURAFISICA'!A167","v":"TOTAL"},{"$f":"'[4]VCO-ESTRUTURAFISICA'!B167","v":192},{"$f":"'[4]VCO-ESTRUTURAFISICA'!C167","v":{"v":1,"d":"100.00%"}},null,{"$f":"'[4]VCO-ESTRUTURAFISICA'!E167","v":"*"},{"$f":"'[4]VCO-ESTRUTURAFISICA'!F167","v":"*"},null,null,{"$f":"'[4]VCO-ESTRUTURAFISICA'!I167","v":"TOTAL"},{"$f":"'[4]VCO-ESTRUTURAFISICA'!J167","v":192},{"$f":"'[4]VCO-ESTRUTURAFISICA'!K167","v":{"v":1,"d":"100.00%"}},null,{"$f":"'[4]VCO-ESTRUTURAFISICA'!M167","v":179},{"$f":"'[4]VCO-ESTRUTURAFISICA'!N167","v":{"v":0.9999999999999999,"d":"100.00%"}}]

{"sheet":"VCOPANDEMIA","index":41,"n_rows":41,"n_cols":15,"rows_kept":41,"merged":[[11,0,12,0],[11,1,11,3],[11,4,11,6],[11,8,12,8],[11,9,11,11],[11,12,11,14],[35,0,36,0],[35,1,35,3],[35,4,35,6],[35,8,36,8],[35,9,35,11],[35,12,35,14]]}
{"$rows_empty":11}
[{"$f":"'[4]VCO-PANDEMIA'!A3","v":"DURANTE O PERÍODO DA PANDEMIA, NO TELETRABALHO, OS SISTEMAS REMOTOS DISPONIBILIZADOS FUNCIONARAM A CONTENTO?"},{"$f":"'[4]VCO-PANDEMIA'!B3","v":2020},null,null,{"$f":"'[4]VCO-PANDEMIA'!E3","v":2017},{"$nulls":3},{"$f":"'[4]VCO-PANDEMIA'!I3","v":"DURANTE O PERÍODO DE PANDEMIA, NO TRABALHO PRESENCIAL, AS INSTALAÇÕES DO MME ENCONTRARAM -SE APTAS AO EXERCÍCIO SEGURO DAS ATIVIDADES?"},{"$f":"'[4]VCO-PANDEMIA'!J3","v":2020},null,null,{"$f":"'[4]VCO-PANDEMIA'!M3","v":2017}]
[null,{"$f":"'[4]VCO-PANDEMIA'!B4","v":"TOTAL"},{"$f":"'[4]VCO-PANDEMIA'!C4","v":"%"},{"$f":"'[4]VCO-PANDEMIA'!D4","v":"RESULTADO"},{"$f":"'[4]VCO-PANDEMIA'!E4","v":"TOTAL"},{"$f":"'[4]VCO-PANDEMIA'!F4","v":"%"},{"$f":"'[4]VCO-PANDEMIA'!G4","v":"RESULTADO"},null,null,{"$f":"'[4]VCO-PANDEMIA'!J4","v":"TOTAL"},{"$f":"'[4]VCO-PANDEMIA'!K4","v":"%"},{"$f":"'[4]VCO-PANDEMIA'!L4","v":"RESULTADO"},{"$f":"'[4]VCO-PANDEMIA'!M4","v":"TOTAL"},{"$f":"'[4]VCO-PANDEMIA'!N4","v":"%"},{"$f":"'[4]VCO-PANDEMIA'!O4","v":"RESULTADO"}]
[{"$f":"'[4]VCO-PANDEMIA'!A5","v":"SIM"},{"$f":"'[4]VCO-PANDEMIA'!B5","v":126},{"$f":"'[4]VCO-PANDEMIA'!C5","v":{"v":0.65625,"d":"65.63%"}},{"$f":"'[4]VCO-PANDEMIA'!D5","v":"SATISFATÓRIO"},{"$f":"'[4]VCO-PANDEMIA'!E5","v":"*"},{"$f":"'[4]VCO-PANDEMIA'!F5","v":"*"},{"$f":"'[4]VCO-PANDEMIA'!G5","v":"*"},null,{"$f":"'[4]VCO-PANDEMIA'!I5","v":"SIM"},{"$f":"'[4]VCO-PANDEMIA'!J5","v":140},{"$f":"'[4]VCO-PANDEMIA'!K5","v":{"v":0.7291666666666666,"d":"72.92%"}},{"$f":"'[4]VCO-PANDEMIA'!L5","v":"SATISFATÓRIO"},{"$f":"'[4]VCO-PANDEMIA'!M5","v":"*"},{"$f":"'[4]VCO-PANDEMIA'!N5","v":"*"},{"$f":"'[4]VCO-PANDEMIA'!O5","v":"*"}]
[{"$f":"'[4]VCO-PANDEMIA'!A6","v":"PARCIAL"},{"$f":"'[4]VCO-PANDEMIA'!B6","v":62},{"$f":"'[4]VCO-PANDEMIA'!C6","v":{"v":0.3229166666666667,"d":"32.29%"}},{"$f":"'[4]VCO-PANDEMIA'!D6","v":"SATISFATÓRIO"},{"$f":"'[4]VCO-PANDEMIA'!E6","v":"*"},{"$f":"'[4]VCO-PANDEMIA'!F6","v":"*"},{"$f":"'[4]VCO-PANDEMIA'!G6","v":"*"},null,{"$f":"'[4]VCO-PANDEMIA'!I6","v":"PARCIAL"},{"$f":"'[4]VCO-PANDEMIA'!J6","v":40},{"$f":"'[4]VCO-PANDEMIA'!K6","v":{"v":0.20833333333333334,"d":"20.83%"}},{"$f":"'[4]VCO-PANDEMIA'!L6","v":"SATISFATÓRIO"},{"$f":"'[4]VCO-PANDEMIA'!M6","v":"*"},{"$f":"'[4]VCO-PANDEMIA'!N6","v":"*"},{"$f":"'[4]VCO-PANDEMIA'!O6","v":"*"}]
[{"$f":"'[4]VCO-PANDEMIA'!A7","v":"NÃO"},{"$f":"'[4]VCO-PANDEMIA'!B7","v":4},{"$f":"'[4]VCO-PANDEMIA'!C7","v":{"v":0.020833333333333332,"d":"2.08%"}},{"$f":"'[4]VCO-PANDEMIA'!D7","v":"DESEJÁVEL"},{"$f":"'[4]VCO-PANDEMIA'!E7","v":"*"},{"$f":"'[4]VCO-PANDEMIA'!F7","v":"*"},{"$f":"'[4]VCO-PANDEMIA'!G7","v":"*"},null,{"$f":"'[4]VCO-PANDEMIA'!I7","v":"NÃO"},{"$f":"'[4]VCO-PANDEMIA'!J7","v":12},{"$f":"'[4]VCO-PANDEMIA'!K7","v":{"v":0.0625,"d":"6.25%"}},{"$f":"'[4]VCO-PANDEMIA'!L7","v":"SATISFATÓRIO"},{"$f":"'[4]VCO-PANDEMIA'!M7","v":"*"},{"$f":"'[4]VCO-PANDEMIA'!N7","v":"*"},{"$f":"'[4]VCO-PANDEMIA'!O7","v":"*"}]
[{"$f":"'[4]VCO-PANDEMIA'!A8","v":"TOTAL"},{"$f":"'[4]VCO-PANDEMIA'!B8","v":192},{"$f":"'[4]VCO-PANDEMIA'!C8","v":{"v":1,"d":"100.00%"}},null,{"$f":"'[4]VCO-PANDEMIA'!E8","v":"*"},{"$f":"'[4]VCO-PANDEMIA'!F8","v":"*"},null,null,{"$f":"'[4]VCO-PANDEMIA'!I8","v":"TOTAL"},{"$f":"'[4]VCO-PANDEMIA'!J8","v":192},{"$f":"'[4]VCO-PANDEMIA'!K8","v":{"v":1,"d":"100.00%"}},null,{"$f":"'[4]VCO-PANDEMIA'!M8","v":"*"},{"$f":"'[4]VCO-PANDEMIA'!N8","v":"*"}]
{"$rows_empty":18}
[{"$f":"'[4]VCO-PANDEMIA'!A27","v":"DURANTE O PERÍODO DE PANDEMIA, NO TELETRABALHO, CONTRIBUÍ PARA O DESENVOLVIMENTO DAS ATIVIDADES NECESSÁRIAS?"},{"$f":"'[4]VCO-PANDEMIA'!B27","v":2020},null,null,{"$f":"'[4]VCO-PANDEMIA'!E27","v":2017},{"$nulls":3},{"$f":"'[4]VCO-PANDEMIA'!I27","v":"DURANTE O PERÍODO DA PANDEMIA, NO TRABALHO PRESENCIAL, CONTRIBUÍ PARA O DESENVOLVIMENTO DAS NECESSÁRIAS?"},{"$f":"'[4]VCO-PANDEMIA'!J27","v":2020},null,null,{"$f":"'[4]VCO-PANDEMIA'!M27","v":2017}]
[null,{"$f":"'[4]VCO-PANDEMIA'!B28","v":"TOTAL"},{"$f":"'[4]VCO-PANDEMIA'!C28","v":"%"},{"$f":"'[4]VCO-PANDEMIA'!D28","v":"RESULTADO"},{"$f":"'[4]VCO-PANDEMIA'!E28","v":"TOTAL"},{"$f":"'[4]VCO-PANDEMIA'!F28","v":"%"},{"$f":"'[4]VCO-PANDEMIA'!G28","v":"RESULTADO"},null,null,{"$f":"'[4]VCO-PANDEMIA'!J28","v":"TOTAL"},{"$f":"'[4]VCO-PANDEMIA'!K28","v":"%"},{"$f":"'[4]VCO-PANDEMIA'!L28","v":"RESULTADO"},{"$f":"'[4]VCO-PANDEMIA'!M28","v":"TOTAL"},{"$f":"'[4]VCO-PANDEMIA'!N28","v":"%"},{"$f":"'[4]VCO-PANDEMIA'!O28","v":"RESULTADO"}]
[{"$f":"'[4]VCO-PANDEMIA'!A29","v":"SIM"},{"$f":"'[4]VCO-PANDEMIA'!B29","v":173},{"$f":"'[4]VCO-PANDEMIA'!C29","v":{"v":0.9010416666666666,"d":"90.10%"}},{"$f":"'[4]VCO-PANDEMIA'!D29","v":"DESEJÁVEL"},{"$f":"'[4]VCO-PANDEMIA'!E29","v":"*"},{"$f":"'[4]VCO-PANDEMIA'!F29","v":"*"},{"$f":"'[4]VCO-PANDEMIA'!G29","v":"*"},null,{"$f":"'[4]VCO-PANDEMIA'!I29","v":"SIM"},{"$f":"'[4]VCO-PANDEMIA'!J29","v":151},{"$f":"'[4]VCO-PANDEMIA'!K29","v":{"v":0.7864583333333334,"d":"78.65%"}},{"$f":"'[4]VCO-PANDEMIA'!L29","v":"SATISFATÓRIO"},{"$f":"'[4]VCO-PANDEMIA'!M29","v":"*"},{"$f":"'[4]VCO-PANDEMIA'!N29","v":"*"},{"$f":"'[4]VCO-PANDEMIA'!O29","v":"*"}]
[{"$f":"'[4]VCO-PANDEMIA'!A30","v":"PARCIAL"},{"$f":"'[4]VCO-PANDEMIA'!B30","v":17},{"$f":"'[4]VCO-PANDEMIA'!C30","v":{"v":0.08854166666666667,"d":"8.85%"}},{"$f":"'[4]VCO-PANDEMIA'!D30","v":"SATISFATÓRIO"},{"$f":"'[4]VCO-PANDEMIA'!E30","v":"*"},{"$f":"'[4]VCO-PANDEMIA'!F30","v":"*"},{"$f":"'[4]VCO-PANDEMIA'!G30","v":"*"},null,{"$f":"'[4]VCO-PANDEMIA'!I30","v":"PARCIAL"},{"$f":"'[4]VCO-PANDEMIA'!J30","v":27},{"$f":"'[4]VCO-PANDEMIA'!K30","v":{"v":0.140625,"d":"14.06%"}},{"$f":"'[4]VCO-PANDEMIA'!L30","v":"SATISFATÓRIO"},{"$f":"'[4]VCO-PANDEMIA'!M30","v":"*"},{"$f":"'[4]VCO-PANDEMIA'!N30","v":"*"},{"$f":"'[4]VCO-PANDEMIA'!O30","v":"*"}]
[{"$f":"'[4]VCO-PANDEMIA'!A31","v":"NÃO"},{"$f":"'[4]VCO-PANDEMIA'!B31","v":2},{"$f":"'[4]VCO-PANDEMIA'!C31","v":{"v":0.010416666666666666,"d":"1.04%"}},{"$f":"'[4]VCO-PANDEMIA'!D31","v":"DESEJÁVEL"},{"$f":"'[4]VCO-PANDEMIA'!E31","v":"*"},{"$f":"'[4]VCO-PANDEMIA'!F31","v":"*"},{"$f":"'[4]VCO-PANDEMIA'!G31","v":"*"},null,{"$f":"'[4]VCO-PANDEMIA'!I31","v":"NÃO"},{"$f":"'[4]VCO-PANDEMIA'!J31","v":14},{"$f":"'[4]VCO-PANDEMIA'!K31","v":{"v":0.07291666666666667,"d":"7.29%"}},{"$f":"'[4]VCO-PANDEMIA'!L31","v":"SATISFATÓRIO"},{"$f":"'[4]VCO-PANDEMIA'!M31","v":"*"},{"$f":"'[4]VCO-PANDEMIA'!N31","v":"*"},{"$f":"'[4]VCO-PANDEMIA'!O31","v":"*"}]
[{"$f":"'[4]VCO-PANDEMIA'!A32","v":"TOTAL"},{"$f":"'[4]VCO-PANDEMIA'!B32","v":192},{"$f":"'[4]VCO-PANDEMIA'!C32","v":{"v":0.9999999999999999,"d":"100.00%"}},null,{"$f":"'[4]VCO-PANDEMIA'!E32","v":"*"},{"$f":"'[4]VCO-PANDEMIA'!F32","v":"*"},null,null,{"$f":"'[4]VCO-PANDEMIA'!I32","v":"TOTAL"},{"$f":"'[4]VCO-PANDEMIA'!J32","v":192},{"$f":"'[4]VCO-PANDEMIA'!K32","v":{"v":1,"d":"100.00%"}},null,{"$f":"'[4]VCO-PANDEMIA'!M32","v":"*"},{"$f":"'[4]VCO-PANDEMIA'!N32","v":"*"}]