{"text_format":"1","workbook":"xlsx","n_sheets":4,"sheets":["FLUXO ANUAL","FLUXO MENSAL","ITENS RECEITAS E DESPESAS ATUAL","contas contábeis"],"not_rendered":{"charts":0,"images":3,"macros":1,"external_links":1,"defined_names":189,"comments":0,"pivot_tables":0},"unopened":[],"bounds":{"document_bytes":16777216,"sheet_cells":100000,"rows_first":2000,"rows_last":500,"rows_between":2000,"halvings":0,"cell_chars":16384,"cell_head_chars":4096},"cells_cut":0,"cells_raw":0,"read":"whole","date_system":"1900"}

{"sheet":"FLUXO ANUAL","index":0,"n_rows":94,"n_cols":32,"rows_kept":94,"cut":false,"hidden":false,"merged":[[88,1,88,6],[89,1,89,6],[90,1,90,6],[91,1,91,6],[92,1,92,6],[93,1,93,6],[84,1,84,7],[85,1,85,6],[86,1,86,6],[87,1,87,6],[61,1,64,1],[61,6,64,6],[61,7,64,7],[61,3,64,3],[61,5,64,5],[61,4,64,4],[61,2,64,2],[13,1,16,1],[42,6,45,6],[42,4,45,4],[42,1,45,1],[13,3,16,3],[13,2,16,2],[42,2,45,2],[42,3,45,3],[13,5,16,5],[42,5,45,5],[61,11,64,11],[61,12,64,12],[13,7,16,7],[13,4,16,4],[13,6,16,6],[42,7,45,7],[42,8,45,8],[42,9,45,9],[61,8,64,8],[61,9,64,9],[13,10,16,10],[61,10,64,10],[42,10,45,10],[42,11,45,11],[42,12,45,12],[13,18,16,18],[13,19,16,19],[13,20,16,20],[13,21,16,21],[13,8,16,8],[13,9,16,9],[13,11,16,11],[13,12,16,12],[13,13,16,13],[13,14,16,14],[13,15,16,15],[13,16,16,16],[13,17,16,17],[13,22,16,22],[13,23,16,23],[13,24,16,24],[13,25,16,25],[13,26,16,26],[13,27,16,27],[13,28,16,28],[13,29,16,29],[13,30,16,30],[61,27,64,27],[42,31,45,31],[42,13,45,13],[42,14,45,14],[61,18,64,18],[61,19,64,19],[61,20,64,20],[61,13,64,13],[61,14,64,14],[61,15,64,15],[61,16,64,16],[61,17,64,17],[42,15,45,15],[42,16,45,16],[42,17,45,17],[42,18,45,18],[42,19,45,19],[79,1,79,6],[80,1,80,6],[61,21,64,21],[13,31,16,31],[42,20,45,20],[42,21,45,21],[42,22,45,22],[42,23,45,23],[42,24,45,24],[42,25,45,25],[42,26,45,26],[42,27,45,27],[42,28,45,28],[42,29,45,29],[42,30,45,30],[61,28,64,28],[61,29,64,29],[61,30,64,30],[61,31,64,31],[61,22,64,22],[61,23,64,23],[61,24,64,24],[61,25,64,25],[61,26,64,26]]}
[" ","                           Centrais Elétricas Brasileiras S/A. - ELETROBRÁS"]
[null,"                           Diretoria Financeira - DF"]
[null,"                           Departamento de Administração de Capital de Giro - DFG"]
[null,"                           Demonstrativo de Saldo da Conta de Comercialização da Energia Elétrica de Itaipu"]
[null,"                           FLUXO DA CONTA DE COMERCIALIZAÇÃO DE ENERGIA ELÉTRICA DE ITAIPU - EXERCÍCIO DE 2015"]
[]
[null,"Data da Emissão:"]
[null,"2016-04-14"]
[]
[]
[null,null,null,null,null,null,null,null,"Dólar do último dia do mês:",2.6623000000000001,"Dólar do último dia do mês:",2.8782000000000001,"Dólar do último dia do mês:",3.2080000000000002,"Dólar do último dia do mês:",2.9935999999999998,"Dólar do último dia do mês:",3.1787999999999998,"Dólar do último dia do mês:",3.1025999999999998,"Dólar do último dia do mês:",3.3940000000000001,"Dólar do último dia do mês:",3.6467000000000001,"Dólar do último dia do mês:",3.9729000000000001,"Dólar do último dia do mês:",3.8589000000000002,"Dólar do último dia do mês:",3.8506,"Dólar do último dia do mês:",3.9047999999999998]
[null,"SALDO ANTES DA INADIMPLÊNCIA EM 31/12/2014. ( A )",-1041113997.2450206,-2355127438.5899997,"----","----",{"$f":"C12","v":-1041113997.2450206},{"$f":"D12","v":-2355127438.5899997},"   SALDO FINAL MÊS ANTERIOR","   SALDO FINAL MÊS ANTERIOR","   SALDO FINAL MÊS ANTERIOR","   SALDO FINAL MÊS ANTERIOR","   SALDO FINAL MÊS ANTERIOR","   SALDO FINAL MÊS ANTERIOR","   SALDO FINAL MÊS ANTERIOR","   SALDO FINAL MÊS ANTERIOR","   SALDO FINAL MÊS ANTERIOR","   SALDO FINAL MÊS ANTERIOR","   SALDO FINAL MÊS ANTERIOR","   SALDO FINAL MÊS ANTERIOR","   SALDO FINAL MÊS ANTERIOR","   SALDO FINAL MÊS ANTERIOR","   SALDO FINAL MÊS ANTERIOR","   SALDO FINAL MÊS ANTERIOR","   SALDO FINAL MÊS ANTERIOR","   SALDO FINAL MÊS ANTERIOR","   SALDO FINAL MÊS ANTERIOR","   SALDO FINAL MÊS ANTERIOR","   SALDO FINAL MÊS ANTERIOR","   SALDO FINAL MÊS ANTERIOR","   SALDO FINAL MÊS ANTERIOR","   SALDO FINAL MÊS ANTERIOR"]
[null,"SALDO ANTES DA INADIMPLÊNCIA EM: 31/08/2015 ( A )","----","----",{"$f":"C60","v":-134882103.96858931},{"$f":"D60","v":1063028432.2700033},"----","----",{"$f":"C12","v":-1041113997.2450206},{"$f":"D12","v":-2355127438.5899997},{"$f":"I60","v":-933238149.49713612},-2068606560.8999999,-818331049.20374167,-1632902877.6200001,-712559240.55411577,-1084130688.1100004,-583153803.74446321,-815994667.6400001,-456116115.63110858,-305689904.29999995,-347686694.57819808,-6175750.4300000072,-241751421.0435487,522600737.71999997,-134882103.96858972,1063028432.27,-27035496.128905028,1705947189.3,74525603.361520514,2029173591.2862928,153739205.80581439,2322160439.766293]
[null,"NATUREZA DAS CONTAS","VALORES REALIZADOS DE JANEIRO A AGOSTO/2015                   EM US$","VALORES REALIZADOS DE JANEIRO A AGOSTO/2015                 EM R$","VALORES PREVISTOS DE SETEMBRO A DEZEMBRO/2015                   EM US$","VALORES PREVISTOS DE SETEMBRO A DEZEMBRO/2015                   EM R$","TOTAIS DE JANEIRO A DEZEMBRO/2015                   EM US$","TOTAIS DE JANEIRO A DEZEMBRO/2015                  EM R$","JANEIRO/2015                   EM US$","JANEIRO/2015                   EM R$","FEVEREIRO/2015                   EM US$","FEVEREIRO/2015                   EM R$","MARÇO/2015                   EM US$","MARÇO/2015                   EM R$","ABRIL/2015                   EM US$","ABRIL/2015                   EM R$","MAIO/2015                          EM US$","MAIO/2015                            EM R$","JUNHO/2015                   EM US$","JUNHO/2015                   EM R$","JULHO/2015                   EM US$","JULHO/2015                   EM R$","AGOSTO/2015                   EM US$","AGOSTO/2015                   EM R$","SETEMBRO/2015                   EM US$","SETEMBRO/2015                   EM R$","OUTUBRO/2015                   EM US$","OUTUBRO/2015                   EM R$","NOVEMBRO/2015                   EM US$","NOVEMBRO/2015                   EM R$","DEZEMBRO/2015                   EM US$","DEZEMBRO/2015                   EM R$"]
[]
[]
[]
[null,"01 (+) Faturamento do Repasse da Energia ",{"$f":"+I18+K18+M18+O18+Q18+S18+U18+W18","v":3353012828.4200001},{"$f":"+J18+L18+N18+P18+R18+T18+V18+X18","v":10466089122.330002},{"$f":"+Y18+AA18+AC18+AE18","v":1643101047.72},{"$f":"+Z18+AB18+AD18+AF18","v":6428169780.0600004},{"$f":"+I18+K18+M18+O18+Q18+S18+U18+W18+Y18+AA18+AC18+AE18","v":4996113876.1400003},{"$f":"+J18+L18+N18+P18+R18+T18+V18+X18+Z18+AB18+AD18+AF18","v":16894258902.390003},409062188.06999999,1061925440.25,409062188.06999999,1175153853.8099999,418198911.93000001,1363370272.77,418198911.93000001,1228459303.77,422386726.13999999,1340993378.1900001,422193764.20999998,1337822225.8499999,427335788.06999999,1428144635.9400001,{"$f":"374721867.9+51852482.1","v":426574350},{"$f":"1341129565.26+189090446.49","v":1530220011.75},423909411.93000001,1745319830.79,410965650,1616245708.23,406397288.06999999,1519885217.6700001,401828697.72000003,1546719023.3699999]
[null,"02 (+) Juros referentes ao Repasse da Energia ",2344677.2435382931,7300389.9100000001,4457562.16,17194557.52,6802239.4035382932,24494947.43,108459.27,290105.5,64676.74,182012.15,37670.6,117157.29,71380.800000000003,224266.19,53358.29,162516.82,{"$f":"220743-179.11/T11","v":220685.27099851737},692122.51,{"$f":"1689000.18+(179.11/V11)","v":1689052.952539776},5286367.57,99393.32,345841.88,97910.69,383157.82,3343687.88,12860783.359999999,341142.98,1277357.76,674820.61,2673258.58]
[null,"03 (+) Juros contratuais do Repasse de ITAIPU sobre créditos \n           renegociados",40232026.534799911,124387082.66000001,21681721.499826297,86082912.149999991,61913748.034626208,210469994.81000003,{"$f":"3611483.27+297476.03+(3925265.05/2.6623)","v":5383348.0052548544},14072923.390000001,0,0,{"$f":"260291.53+201516.02+3378484.35+3494983.81+((3491729.94+3802439.76)/3.208)","v":9609019.3820698261},29691833.239999998,{"$f":"185922.52+3611483.27+(4016775.66/2.9936)","v":5139193.4904275788},15171655.17,{"$f":"3648519.83+(4175311.9/3.1788)","v":4962006.6489253808},15773226.74,{"$f":"3715839.78+(4153767.73/3.1026)","v":5054641.9878256945},15821942.18,{"$f":"3494983.81+(4536557.79/V11)","v":4831624.2902592812},16216444.18,{"$f":"3966044.81+4690195.62/3.6467","v":5252192.7300372943},17639057.760000002,{"$f":"228987.66+3611483.27+(4475652.54/Z11)","v":4967016.4106312767},20287639.449999999,{"$f":"3422171.64+211966.14+4476509.32/AB11","v":4794185.8040483044},20179328.68,{"$f":"3461004.8+850219.65+4264097.67/AD11","v":5418609.7068430893},20387645.989999998,{"$f":"5354948.2+4478654.79/AF11","v":6501909.5783036267},25228298.030000001]
[null,"04 (+) Rendimento de aplicação financeira  B.B. S/A",148.11699597910098,463.88000000000005,847633.13123473548,3263898.12,847781.24823071458,3264362,{"$f":"J21/$J$11","v":21.462645081320662},57.14,{"$f":"L21/$L$11","v":15.568758251685081},44.81,{"$f":"N21/$N$11","v":17.213216957605983},55.22,{"$f":"P21/$P$11","v":17.664350614644576},52.88,{"$f":"R21/R11","v":18.142066188498806},57.67,{"$f":"T21/T11","v":18.136401727583319},56.27,{"$f":"76.84/V11","v":22.639952857984678},76.84,{"$f":"X21/X11","v":17.289604299777881},63.05,{"$f":"Z21/Z11","v":10.508696418233532},41.75,{"$f":"AB21/AB11","v":11.632848739278032},44.89,{"$f":"AD21/AD11","v":847599.86235911283},{"$f":"39.3+3263728.73","v":3263768.03},{"$f":"AF21/AF11","v":11.127330465068635},43.45]
[null,"05 (+) Devolução do bônus de ITAIPU",135.62985722343154,400.52000000000004,3.5840393902219794,13.91,139.21389661365353,414.43000000000006,{"$f":"J22/$J$11","v":33.903016189009506},90.26,{"$f":"L22/$L$11","v":46.397053714126884},133.54,{"$f":"N22/$N$11","v":21.527431421446384},69.06,{"$f":"P22/$P$11","v":18.115312667022984},54.23,{"$f":"R22/R11","v":2.6173398766830251},8.32,{"$f":"T22/T11","v":2.7718687552375427},8.6,{"$f":"V22/V11","v":4.1278727165586329},14.01,{"$f":"X22/X11","v":6.1699618833465868},22.5,{"$f":"Z22/Z11","v":0.84321276649299004},3.35,{"$f":"AB22/AB11","v":0.74373526134390633},2.87,{"$f":"AD22/AD11","v":1.997091362385083},7.69,0,0]
[null,"06 (+) Liquidação CCEE  - Venda de Energia",{"$f":"+I23+K23+M23+O23+Q23+S23+U23+W23","v":26011556.581356626},80045903.519999996,{"$f":"+Y23+AA23+AC23+AE23","v":2235148.6042940919},8880021.8899999987,{"$f":"+I23+K23+M23+O23+Q23+S23+U23+W23+Y23+AA23+AC23+AE23","v":28246705.185650717},88925925.409999996,0,0,{"$f":"L23/L11","v":2721816.4026127439},7833931.9699999997,0,0,{"$f":"P23/P11","v":8535993.289016569},25553349.510000002,{"$f":"R23/R11","v":11596416.534541339},36862688.880000003,{"$f":"T23/T11","v":3157330.3551859735},9795933.1600000001,0,0,0,0,{"$f":"Z23/Z11","v":2235148.6042940919},{"$f":"8793931.35+86090.54","v":8880021.8899999987},0,0,0,0,{"$f":"+AF23/AB11","v":0},0]
[null,"07 (+) Rendimento Aplic. Financ.do Aporte de Garantias Liq.CCEE",1257270.014283577,3461516.0699999994,0,0,1257270.014283577,3461516.0699999994,{"$f":"J24/J11","v":790420.35458062566},2104336.11,{"$f":"L24/L11","v":406054.6730595511},1168706.5600000001,{"$f":"N24/N11","v":12246.814214463839},39287.78,{"$f":"P24/P11","v":27750.056787814006},83072.570000000007,{"$f":"R24/R11","v":20798.115641122437},66113.05,0,0,0,0,0,0,0,0,0,0,0,0,0,0]
[null,"08 (+) Liq. CCEE - Recuperação Inadimplência do Mês Anterior",0,0,1135407.1443411417,4371998.75,1135407.1443411417,4371998.75,0,0,0,0,0,0,0,0,0,0,0,0,0,0,0,0,0,0,0,0,{"$f":"AD25/AD11","v":1135407.1443411417},4371998.75,0,0]
[null,"09 (-) Liq. CCEE - Inadimplência do Mês",0,0,-1100455.2719675803,-4371998.75,-1100455.2719675803,-4371998.75,0,0,0,0,0,0,0,0,0,0,0,0,0,0,0,0,{"$f":"Z26/Z11","v":-1100455.2719675803},-4371998.75,0,0,0,0,0,0]
[null,"10 (-) Liquidação CCEE  - Compra de Energia",-11231189.345064661,-33609565.730000004,-13490629.705427602,-52289533.109999999,-24721819.050492264,-85899098.840000004,{"$f":"J27/J11","v":-4434835.4205010701},-11806862.34,0,0,{"$f":"N27/N11","v":-6796353.9245635904},-21802703.390000001,0,0,0,0,0,0,0,0,0,0,0,0,0,0,{"$f":"AD27/AD11","v":-7171176.4530203091},{"$f":"-23241333.3-4371998.75","v":-27613332.050000001},{"$f":"AF27/AF11","v":-6319453.2524072938},-24676201.059999999]
[null,"11 (-) Multa de 2% Pelo Não Aporte das Garantias",-3127200.7356608482,-10032059.960000001,0,0,-3127200.7356608482,-10032059.960000001,0,0,0,0,{"$f":"N28/N11","v":-3127200.7356608482},-10032059.960000001,0,0,0,0,0,0,0,0,0,0,0,0,0,0,0,0,0,0]
[null,"12 (-) Potência Contratada",-1990695778.4000001,-6245005669.9300003,-974841575.79999995,-3799404526.4737201,-2965537354.2000003,-10044410196.403721,-242091448.59999999,-644520063.61000001,-242556308,-698125565.69000006,-247710192.80000001,-794654298.5,-248244931.40000001,-743146026.63999999,-250747000,-797074563.60000002,-252993236.59999999,-784936815.88,-253137763.59999999,-859149569.65999997,-253214897.40000001,-923398766.35000002,-251236516,-998137554.41999996,-243964694.80000001,{"$f":"+AA29*$AB$11","v":-941435360.76372015},-241108597.19999999,-928412764.38,-238531767.80000001,-931418846.90999997]
[null,"13 (-) Energia Cedida Vinculada",-31194446.120000001,-98130195.329999983,-14947090.199999999,-58265071.150830001,-46141536.320000008,-156395266.48082995,-3763342.91,-10019147.83,-3399148.44,-9783429.0399999991,-3956438,-12692253.1,-3828810.97,-11461928.52,-4044939.92,-12858055.02,-3918784.79,-12158421.689999999,-4149533.09,-14083515.310000001,-4133448,-15073444.82,-3945609.9,-15675513.57,-3803564.7,{"$f":"+AA30*$AB$11","v":-14677575.820830002},-3587436.9,-13813784.529999999,-3610478.7,-14098197.23]
[null,"14 (-) Ajuste do dólar - Energia Cedida Vinculada",-33638210.239999995,-109447806.27999999,-18445751.949999999,-59981896.200000003,-52083962.189999998,-169429702.47999999,-3822678.26,-12493659.359999999,-3822678.26,-12430585.17,-4273047.4000000004,-13895095.539999999,-4273047.4000000004,-13895095.539999999,-4273047.4000000004,-13895095.539999999,-4273047.4000000004,-13895095.539999999,-4273047.4000000004,-13895095.539999999,-4627616.72,-15048084.050000001,-4627616.72,-15048084.050000001,-4562901.7300000004,-14837643.85,-4627616.72,-15048084.050000001,-4627616.78,-15048084.25]
[null,"15 (-) Energia Cedida Não Vinculada ",-2107951.06,-6668209.5099999998,-3236825.38,-12527511.670980999,-5344776.4399999995,-19195721.180981003,-262909.19,-699943.14,-244491.87,-703696.5,-628500.57999999996,-2016229.86,-91381.56,-273559.84000000003,-125808.16,-399918.98,0,0,-703940.16,-2389172.9,-50919.54,-185688.29,-22756.06,-90407.55,-1139571.29,{"$f":"+AA32*$AB$11","v":-4397491.6509810006},-1123384.44,-4325704.12,-951113.59,-3713908.35]
[null,"16 (-) Royalties Energia Cedida Não Vinculada",-13661577.639999999,-42983131.689999998,-12768741.59,-49495625.510045998,-26430319.23,-92478757.200046003,-1971193.61,-5247908.75,-1742353.24,-5014841.0999999996,-3296424.49,-10574929.76,-926709.8,-2774198.46,-948447.99,-3014926.47,-465646.29,-1444714.18,-3199800.08,-10860121.470000001,-1111002.1399999999,-4051491.5,-868993.88,-3452425.79,-4333182.1399999997,-16721316.560046,-4133617.77,-15916908.59,-3432947.8,-13404974.57]
[null,"17 (-) Ressarcimento Encargos Supervisão Não Vinculado ",-1050890.5900000001,-3306394.7399999998,-982210.8899999999,-3807355.79813,-2033101.4799999997,-7113750.5381300002,-151630.28,-403685.29,-134027.17000000001,-385757,-253571.11,-813456.12,-71285.37,-213399.88,-72957.539999999994,-231917.43,-35818.949999999997,-111131.87,-246138.47,-835393.97,-85461.7,-311653.18,-66845.679999999993,-265571.20000000001,-333321.7,-1286255.1081300001,-317970.59999999998,-1224377.5900000001,-264072.90999999997,-1031151.9]
[null,"18 (-) Ajuste do dólar Energia Cedida Não Vinculada",-3382723.5199999996,-11013221.799999999,-64714.99,-210440.2,-3447438.51,-11223661.999999998,-804938.46,-2630780.37,-804938.46,-2617498.88,-354569.32,-1152988.51,-354569.32,-1152988.51,-354569.32,-1152988.51,-354569.32,-1152988.51,-354569.32,-1152988.51,0,0,0,0,-64714.99,-210440.2,0,{"$f":"+AC35*$AB$11","v":0},0,{"$f":"+AE35*$AB$11","v":0}]
[null,"19 (-) Ajuste do dólar - Royalties ",-15173512.799999999,-49372524.329999998,-7586756.4700000007,-24670614.699999999,-22760269.270000003,-74043139.030000001,-1896689.1,-6198948.9900000002,-1896689.1,-6167653.6200000001,-1896689.1,-6167653.6200000001,-1896689.1,-6167653.6200000001,-1896689.1,-6167653.6200000001,-1896689.1,-6167653.6200000001,-1896689.1,-6167653.6200000001,-1896689.1,-6167653.6200000001,-1896689.1,-6167653.6200000001,-1896689.1,-6167653.6200000001,-1896689.1,-6167653.6200000001,-1896689.17,-6167653.8399999999]
[null,"20 (-) Ajuste do dólar - Ressarcimento de Encargos ",-1167193.28,-3797886.4500000007,-583596.65999999992,-1897739.6199999999,-1750789.9399999997,-5695626.0700000003,-145899.16,-476842.22,-145899.16,-474434.89,-145899.16,-474434.89,-145899.16,-474434.89,-145899.16,-474434.89,-145899.16,-474434.89,-145899.16,-474434.89,-145899.16,-474434.89,-145899.16,-474434.89,-145899.16,-474434.89,-145899.16,-474434.89,-145899.18,-474434.95]
[null,"21 (-) Juros da Potência Contratada, Energias Cedidas, Royalties,\n          Ressarcimento e dos Ajustes do Dólar ",{"$f":"+I38+K38+M38+O38+Q38+S38+U38+W38","v":-6772.95},{"$f":"+J38+L38+N38+P38+R38+T38+V38+X38","v":-18232.11},{"$f":"+Y38+AA38+AC38+AE38","v":0},{"$f":"+Z38+AB38+AD38+AF38","v":0},{"$f":"+I38+K38+M38+O38+Q38+S38+U38+W38+Y38+AA38+AC38+AE38","v":-6772.95},{"$f":"+J38+L38+N38+P38+R38+T38+V38+X38+Z38+AB38+AD38+AF38","v":-18232.11},-6772.95,-18232.11,0,0,0,0,0,0,0,0,0,0,0,0,0,0,0,0,0,0,0,0,0,0]
[null,"22 (+/-)  Juros Pagos  dos Empréstimos Obtidos por ITAIPU  Junto à \n             ELETROBRAS e juros por atraso de transferência da CCEE",{"$f":"+I39+K39+M39+O39+Q39+S39+U39+W39","v":-56792946.037769899},{"$f":"+J39+L39+N39+P39+R39+T39+V39+X39","v":-181894995.53999999},{"$f":"+Y39+AA39+AC39+AE39","v":-54303294.480442584},{"$f":"+Z39+AB39+AD39+AF39","v":-210817560.76999998},{"$f":"+I39+K39+M39+O39+Q39+S39+U39+W39+Y39+AA39+AC39+AE39","v":-111096240.51821248},{"$f":"+J39+L39+N39+P39+R39+T39+V39+X39+Z39+AB39+AD39+AF39","v":-392712556.31},{"$f":"J39/J11","v":-6876898.1144123506},-18308365.850000001,{"$f":"L39/L11","v":-500653.86352581473},-1440981.95,{"$f":"N39/N11","v":-5532551.2437655861},-17748424.390000001,{"$f":"P39/P11","v":-5869220.6707642972},-17570099,{"$f":"R39/R11","v":-5247094.5167987924},-16679464.050000001,{"$f":"T39/T11","v":-11890645.935666861},-36891918.079999998,{"$f":"V39/V11","v":-11366583.099587508},-38578183.039999999,{"$f":"X39/X11","v":-9509298.5932486895},-34677559.18,{"$f":"Z39/Z11","v":-9891188.4517606795},-39296702.600000001,{"$f":"AB39/AB11","v":-10687301.492653346},-41241227.729999997,{"$f":"AD39/AD11","v":-25996057.422219913},-100100418.70999999,{"$f":"AF39/AF11","v":-7728747.1138086459},-30179211.73]
[null,"23 (-) Ativo Regulatório - Tesouro",-135500669.84,-419317438.62,-71005740,-273475057.32999998,-206506409.84,-692792495.95000005,-14496029.85,-38045313.539999999,-14496029.99,-41168725.170000002,-17751435,-56756663.130000003,-17751435,-53482115.090000004,-17751435,-54460219.159999996,-17751435,-55129448.259999998,-17751435,-57659725.880000003,-17751435,-62615228.390000001,-17751435,-69859589.010000005,-17751435,-68478527.379999995,-17751435,-67010483.700000003,-17751435,-68126457.239999995]
[null,"24 (-) Ativo Regulatório - Eletrobrás",-117384923.52,-360613445.20999998,-57689391.119999997,-222187805.43000001,-175074314.63999999,-582801250.63999999,{"$f":"-3*5141806.12","v":-15425418.359999999},{"$f":"-(13668463.21+13467932.77+13348128.69)","v":-40484524.670000002},{"$f":"-(5141806.12+5141806.12+5141806.24)","v":-15425418.48},{"$f":"-(14331756.2+14677285.57+14799146.72)","v":-43808188.490000002},{"$f":"-3*4807449.26","v":-14422347.779999999},{"$f":"-(14911746.11+15692475.87+15508350.57)","v":-46112572.549999997},{"$f":"-4807449.26*3","v":-14422347.779999999},{"$f":"-(14646374.92+14683873.02+14121882.2)","v":-43452130.140000001},{"$f":"-3*4807449.26","v":-14422347.779999999},{"$f":"-14406002.45-14558879.34-15281919.71","v":-44246801.5},{"$f":"-3*4807449.26","v":-14422347.779999999},{"$f":"-14898766-14801174.78-15090583.23","v":-44790524.010000005},{"$f":"-4807449.26*2-4519741.71-287707.55","v":-14422347.780000001},{"$f":"-15462199.05-15303072.48-15104524.83-976479.42","v":-46846275.780000001},{"$f":"-3*4807449.26","v":-14422347.779999999},{"$f":"-16913087.24-16753479.93-17205860.9","v":-50872428.07},{"$f":"4807449.26*3*-1","v":-14422347.779999999},{"$f":"(18205810.35+18759147.76+19793230.09)*-1","v":-56758188.200000003},{"$f":"4807449.26*3*-1","v":-14422347.779999999},{"$f":"-1*(17973129.8+18756263.29+18906736.45)","v":-55636129.540000007},{"$f":"4807449.26*3*-1","v":-14422347.779999999},{"$f":"-1*(18233693.55+18230328.34+17979379.49)","v":-54443401.379999995},{"$f":"4807449.26*3*-1","v":-14422347.779999999},{"$f":"-1*(18066394.32+18778858.3+18504833.69)","v":-55350086.310000002}]
[null,"25 (-) Custos Administrativos ",-624351.31277823786,-1940053.4399999997,-248967.38752354504,-970026.72,-873318.70030178281,-2910080.16,{"$f":"J42/J11","v":-91089.16350523982},-242506.68,{"$f":"L42/$L$11","v":-84256.368563685639},-242506.68,{"$f":"N42/$N$11","v":-75594.351620947622},-242506.68,{"$f":"P42/$P$11","v":-81008.377872795303},-242506.68,{"$f":"R42/R11","v":-76288.750471876177},-242506.68,{"$f":"T42/T11","v":-78162.405724231299},-242506.68,{"$f":"V42/V11","v":-71451.585150265164},-242506.68,{"$f":"X42/X11","v":-66500.309869196804},-242506.68,{"$f":"+Z42/Z11","v":-61040.217473382159},-242506.68,{"$f":"AB42/AB11","v":-62843.473528725801},-242506.68,{"$f":"+AD42/AD11","v":-62978.933153274811},-242506.68,{"$f":"+AF42/AF11","v":-62104.763368162261},-242506.68]
[null,"NATUREZA DAS CONTAS","VALORES REALIZADOS DE JANEIRO A AGOSTO/2015                   EM US$","VALORES REALIZADOS DE JANEIRO A AGOSTO/2015                 EM R$","VALORES PREVISTOS DE SETEMBRO A DEZEMBRO/2015                   EM US$","VALORES PREVISTOS DE SETEMBRO A DEZEMBRO/2015                   EM R$","TOTAIS DE JANEIRO A DEZEMBRO/2015                   EM US$","TOTAIS DE JANEIRO A DEZEMBRO/2015                  EM R$","JANEIRO/2015                   EM US$","JANEIRO/2015                   EM R$","FEVEREIRO/2015                   EM US$","FEVEREIRO/2015                   EM R$","MARÇO/2015                   EM US$","MARÇO/2015                   EM R$","ABRIL/2015                   EM US$","ABRIL/2015                   EM R$","MAIO/2015                          EM US$","MAIO/2015                            EM R$","JUNHO/2015                   EM US$","JUNHO/2015                   EM R$","JULHO/2015                   EM US$","JULHO/2015                   EM R$","AGOSTO/2015                   EM US$","AGOSTO/2015                   EM R$","SETEMBRO/2015                   EM US$","SETEMBRO/2015                   EM R$","OUTUBRO/2015                   EM US$","OUTUBRO/2015                   EM R$","NOVEMBRO/2015                   EM US$","NOVEMBRO/2015                   EM R$","DEZEMBRO/2015                   EM US$","DEZEMBRO/2015                   EM R$"]
[]
[]
[]
[null,"26 (-) Contribuição Anual a CCEE",{"$f":"+I47+K47+M47+O47+Q47+S47+U47+W47","v":-1348392.4565994467},{"$f":"+J47+L47+N47+P47+R47+T47+V47+X47","v":-4185427.07},{"$f":"+Y47+AA47+AC47+AE47","v":-521487.54348928714},{"$f":"+Z47+AB47+AD47+AF47","v":-2031907.25},{"$f":"+I47+K47+M47+O47+Q47+S47+U47+W47+Y47+AA47+AC47+AE47","v":-1869880.0000887336},{"$f":"+J47+L47+N47+P47+R47+T47+V47+X47+Z47+AB47+AD47+AF47","v":-6217334.3200000003},{"$f":"J47/$J$11","v":-200899.21120835366},-534853.97,{"$f":"L47/$L$11","v":-183439.29191856019},-527974.97,{"$f":"N47/$N$11","v":-163772.48129675808},-525382.12,{"$f":"P47/$P$11","v":-174482.81333511492},-522331.75,{"$f":"R47/R11","v":-167559.68919088965},-532638.74,{"$f":"T47/T11","v":-166396.5029330239},-516261.79,{"$f":"V47/V11","v":-151476.82380671773},-514112.34,{"$f":"X47/X11","v":-140365.64291002825},-511871.39,{"$f":"Z47/Z11","v":-128840.26781444285},-511869.5,{"$f":"AB47/AB11","v":-131999.89634351758},-509374.4,{"$f":"+AD47/AD11","v":-131227.6164753545},-505305.06,{"$f":"+AF47/AF11","v":-129419.76285597213},-505358.29]
[null,"27 (-) Contribuição ao O N S",-96389.525311213743,-300049.93,-40337.19616649727,-157161.78,-136726.72147771102,-457211.70999999996,{"$f":"J48/$J$11","v":-13922.003530781656},-37064.550000000003,{"$f":"L48/$L$11","v":-12844.666805642413},-36969.519999999997,{"$f":"N48/$N$11","v":-11494.538653366584},-36874.480000000003,{"$f":"P48/$P$11","v":-12301.897381079638},-36826.959999999999,{"$f":"R48/R11","v":-11585.176796275324},-36826.959999999999,{"$f":"T48/T11","v":-11854.399535873139},-36779.46,{"$f":"V48/V11","v":-11595.167943429582},-39354,{"$f":"X48/X11","v":-10791.674664765404},-39354,{"$f":"Z48/Z11","v":-9892.8138135870522},-39303.160000000003,{"$f":"AB48/AB11","v":-10198.243022623026},-39354,{"$f":"+AD48/AD11","v":-10193.81654807043},-39252.31,{"$f":"+AF48/AF11","v":-10052.322782216759},-39252.31]
[null,"28 (-) Despesas Bancárias",-108.06342225561599,-335.84,-9.8574823751447802,-38.729999999999997,-117.92090463076077,-374.56999999999994,{"$f":"J49/J11","v":-14.134395071930287},-37.630000000000003,{"$f":"L49/L11","v":-13.074143561948441},-37.630000000000003,{"$f":"N49/N11","v":-11.730049875311721},-37.630000000000003,{"$f":"P49/P11","v":-22.72514698022448},-68.03,{"$f":"R49/R11","v":-12.183842959607398},-38.729999999999997,{"$f":"T49/T11","v":-12.483078708180235},-38.729999999999997,{"$f":"V49/V11","v":-7.0948733058338238},-24.08,{"$f":"X49/X11","v":-14.637891792579593},-53.38,{"$f":"Z49/Z11","v":-6.0610637066122974},-24.08,{"$f":"AB49/AB11","v":-3.7964186685324832},-14.65,0,0,0,0]
[null,"29 (-) Custeio com Imposto de Renda  BB",-20.130237825594566,-63.99,-16.579845005775553,-64.41,-36.710082831370123,-128.4,0,0,0,0,0,0,0,0,{"$f":"R50/R11","v":-20.130237825594566},-63.99,0,0,0,0,0,0,{"$f":"Z50/Z11","v":-4.6414457952629062},-18.440000000000001,0,0,{"$f":"AD50/AD11","v":-11.938399210512648},-45.97,0,0]
[null,"30 (-) Custeio com Imposto de Renda  Bradesco",{"$f":"+I51+K51+M51+O51+Q51+S51+U51+W51","v":-643379.62267255329},{"$f":"+J51+L51+N51+P51+R51+T51+V51+X51","v":-2346212.4700000002},{"$f":"+Y51+AA51+AC51+AE51","v":0},{"$f":"+Z51+AB51+AD51+AF51","v":0},{"$f":"+I51+K51+M51+O51+Q51+S51+U51+W51+Y51+AA51+AC51+AE51","v":-643379.62267255329},{"$f":"+J51+L51+N51+P51+R51+T51+V51+X51+Z51+AB51+AD51+AF51","v":-2346212.4700000002},0,0,0,0,0,0,0,0,0,0,0,0,0,0,{"$f":"X51/X11","v":-643379.62267255329},-2346212.4700000002,0,0,0,0,0,0,0,0]
[null,"31 (-) Custeio com IOF BB",0,0,0,0,0,0,0,0,0,0,0,0,0,0,0,0,0,0,0,0,0,0,0,0,0,0,0,0,0,0]
[null,"32 (-) Custeio com IOF Bradesco",{"$f":"+I53+K53+M53+O53+Q53+S53+U53+W53","v":-1874230.8031919268},{"$f":"+J53+L53+N53+P53+R53+T53+V53+X53","v":-6834757.4699999997},{"$f":"+Y53+AA53+AC53+AE53","v":0},{"$f":"+Z53+AB53+AD53+AF53","v":0},{"$f":"+I53+K53+M53+O53+Q53+S53+U53+W53+Y53+AA53+AC53+AE53","v":-1874230.8031919268},{"$f":"+J53+L53+N53+P53+R53+T53+V53+X53+Z53+AB53+AD53+AF53","v":-6834757.4699999997},0,0,0,0,0,0,0,0,0,0,0,0,0,0,{"$f":"X53/X11","v":-1874230.8031919268},-6834757.4699999997,0,0,0,0,0,0,0,0]
[null,"33 (-) Pagamento de bônus de ITAIPU",0,0,-6650.7476223794338,-25664.57,-6650.7476223794338,-25664.57,0,0,0,0,0,0,0,0,0,0,0,0,0,0,0,0,0,0,{"$f":"AB54/AB11","v":-6650.7476223794338},-25664.57,0,0,0,0]
[null,"34 (+) Variação Cambial (Ativa)",0,1276601374.97,0,480634787.88,0,1757236162.8499999,0,44869890.609999999,0,230154681.5,0,381096821.47000003,0,-81034244.420000002,0,132224640.15000001,0,-23115757.23,0,284107298.89999998,0,308298043.99000001,0,354419813.39999998,0,-44901706.030000001,0,49942276.530000001,0,121174403.98]
[null,"35 (-) Variação Cambial (Passiva)",0,-644138842.32999992,0,-343087209.73000002,0,-987226052.05999982,0,-15255938.359999999,0,-121614548.68000001,0,-192343270.97999999,0,-12213381.890000001,0,-27130709.48,0,-40761109.600000001,0,-97654053.780000001,0,-137165829.56,0,-207698650.38,0,-59883486.420000002,0,-22902247.530000001,0,-52602825.399999999]
[null,"36 (+ / -) Receitas / Despesas com COFINS",-78833363.523781076,-250479660.42000002,-52877999.978151798,-206342836.90000001,-131711363.50193287,-456822497.31999999,{"$f":"J57/J11","v":-9047709.2438868638},-24087716.32,{"$f":"L57/L11","v":-9776071.5377666596},-28137489.100000001,{"$f":"N57/N11","v":-9604744.4918952603},-30812020.329999998,{"$f":"P57/P11","v":-3634595.4001870658},-10880524.789999999,{"$f":"R57/R11","v":-9609634.3620234057},-30547105.710000001,{"$f":"T57/T11","v":-11332196.138722364},-35159271.740000002,{"$f":"V57/V11","v":-13189310.978196818},-44764521.460000001,{"$f":"X57/X11","v":-12639101.37110264},-46091010.969999999,{"$f":"+Z57/Z11","v":-14130346.011729468},-56138451.670000002,{"$f":"AB57/$AB$11","v":-11759976.340407887},-45380572.700000003,{"$f":"AD57/AD11","v":-10289134.0232691},-39619339.469999999,{"$f":"AF57/AF11","v":-16698543.602745341},-65204473.060000002]
[null,"37 (+ / -) Receitas / Despesas com PASEP",-17090527.747910541,-54294202.809999995,-10821062.048631564,-42232508.099999994,-27911589.796542104,-96526710.909999996,{"$f":"J58/J11","v":-1964305.2961724824},-5229569.99,{"$f":"L58/L11","v":-2122436.5853658537},-6108796.9800000004,{"$f":"N58/N11","v":-2085240.5798004987},-6689451.7800000003,{"$f":"P58/P11","v":-789089.79155531817},-2362219.2000000002,{"$f":"R58/R11","v":-2086302.1957971563},-6631937.4199999999,{"$f":"T58/T11","v":-2460279.4237091476},-7633262.9400000004,{"$f":"V58/V11","v":-2849630.6364172068},-9671646.3800000008,{"$f":"X58/X11","v":-2733243.2390928781},-9967318.1199999992,{"$f":"Z58/Z11","v":-3056408.1300813006},-12142803.859999999,{"$f":"AB58/$AB$11","v":-2465140.1902096453},-9512729.4800000004,{"$f":"AD58/AD11","v":-2150672.4432555963},-8281379.3099999996,{"$f":"AF58/AF11","v":-3148841.2850850234},-12295595.449999999]
[null,"SALDO  DO PERÍODO  ( B )\nREALIZADO / PREVISTO / TOTAL",{"$f":"SUM(C18:C42,C47:C58)","v":906231893.27643132},3418155870.860003,377895217.99698538,1660347815.3762946,1284127111.2734168,5078503686.2363014,{"$f":"+I18+I19+I20+I21+I22+I23+I24+I25+I26+I27+I28+I29+I30+I31+I32+I33+I34+I35+I36+I37+I38+I39+I40+I41+I42+I47+I48+I49+I50+I51+I52+I53+I54+I55+I56+I57+I58","v":107875847.74788457},{"$f":"+J18+J19+J20+J21+J22+J23+J24+J25+J26+J27+J28+J29+J30+J31+J32+J33+J34+J35+J36+J37+J38+J39+J40+J41+J42+J47+J48+J49+J50+J51+J52+J53+J54+J55+J56+J57+J58","v":286520877.68999988},114907100.29339448,435703683.27999967,105771808.64962593,548772189.50999975,129405436.80965257,268136020.47000033,127037688.11335464,510304763.34000015,108429421.05291051,299514153.86999995,105935273.53464939,528776488.14999998,106869317.07495898,540427694.55000007,107846607.8396847,642918757.02999997,101561099.49042554,323226401.98629284,79213602.444293872,292986848.4800002,89273908.222581491,401215807.87999976]
[null,"SALDO  FINAL ( C ) = ( A + B )\n (ANTES DA INADIMPLÊNCIA)",{"$f":"+C12+C59","v":-134882103.96858931},{"$f":"+D12+D59","v":1063028432.2700033},{"$f":"+E13+E59","v":243013114.02839607},{"$f":"+F13+F59","v":2723376247.6462979},{"$f":"+G12+G59","v":243013114.02839613},{"$f":"+H12+H59","v":2723376247.6463017},{"$f":"+I13+I59","v":-933238149.49713612},-2068606560.8999999,-818331049.20374167,-1632902877.6200001,-712559240.55411577,-1084130688.1100004,-583153803.74446321,-815994667.6400001,-456116115.63110858,-305689904.29999995,-347686694.57819808,-6175750.4300000072,-241751421.0435487,522600737.71999997,-134882103.96858972,1063028432.27,-27035496.128905028,1705947189.3,74525603.361520514,2029173591.2862928,153739205.80581439,2322160439.766293,243013114.02839589,2723376247.6462927]
[]
[null,"NATUREZA DAS CONTAS","VALORES REALIZADOS DE JANEIRO A AGOSTO/2015                   EM US$","VALORES REALIZADOS DE JANEIRO A AGOSTO/2015                 EM R$","VALORES PREVISTOS DE SETEMBRO A DEZEMBRO/2015                   EM US$","VALORES PREVISTOS DE SETEMBRO A DEZEMBRO/2015                   EM R$","TOTAIS DE JANEIRO A DEZEMBRO/2015                   EM US$","TOTAIS DE JANEIRO A DEZEMBRO/2015                  EM R$","JANEIRO/2015                   EM US$","JANEIRO/2015                   EM R$","FEVEREIRO/2015                   EM US$","FEVEREIRO/2015                   EM R$","MARÇO/2015                   EM US$","MARÇO/2015                   EM R$","ABRIL/2015                   EM US$","ABRIL/2015                   EM R$","MAIO/2015                          EM US$","MAIO/2015                            EM R$","JUNHO/2015                   EM US$","JUNHO/2015                   EM R$","JULHO/2015                   EM US$","JULHO/2015                   EM R$","AGOSTO/2015                   EM US$","AGOSTO/2015                   EM R$","SETEMBRO/2015                   EM US$","SETEMBRO/2015                   EM R$","OUTUBRO/2015                   EM US$","OUTUBRO/2015                   EM R$","NOVEMBRO/2015                   EM US$","NOVEMBRO/2015                   EM R$","DEZEMBRO/2015                   EM US$","DEZEMBRO/2015                   EM R$"]
[]
[]
[]
[null,"38 (-) RECEITAS NÃO REALIZADAS ",{"$f":"W66","v":-61284383.390000001},{"$f":"X66","v":-217387969.03999999},{"$f":"AE66","v":-127142590.06999999},{"$f":"AF66","v":-484684278.16000003},{"$f":"E66","v":-127142590.06999999},{"$f":"F66","v":-484684278.16000003},-84882042.040000007,-219106798.30000001,-80534189.090000004,-218882831.18000001,-100922127.33,-294771273.66000003,-133764333.73,-384199355.31,-91743073.760000005,-275102965.67000002,-81898474.739999995,-242976774.41999999,-98819423.939999998,-304466998.16000003,-61284383.390000001,-217387969.03999999,-116849591.48,-472037032.13,-188184974.31999999,-748946204.29999995,-84402265.549999997,-316699711.52999997,-127142590.06999999,-484684278.16000003]
[null,"39 (-) VARIAÇÃO CAMBIAL DAS RECEITAS NÃO REALIZADAS",{"$f":"W67","v":0},{"$f":"X67","v":-6097791.8683130145},{"$f":"AE67","v":0},{"$f":"AF67","v":-11782107.545335948},{"$f":"E67","v":0},{"$f":"F67","v":-11782107.545335948},null,{"$f":"(I66*2.6623)-J66","v":-6874662.2230920196},null,{"$f":"(K66*2.8782)-L66","v":-12910671.858838022},null,{"$f":"(M66*3.208)-N66","v":-28986910.814639986},null,{"$f":"(O66*2.9936)-P66","v":-16237554.144127965},null,{"$f":"(Q66*R11)-R66","v":-16529917.198287964},null,{"$f":"(S66*T11)-T66","v":-11121433.308323979},null,{"$f":"(U66*V11)-V66","v":-30926126.692359984},null,{"$f":"+W66*X11-X66","v":-6097791.8683130145},null,{"$f":"+Y66*Z11-Z66","v":7805290.1391079426},null,{"$f":"+AA66*AB11-AB66","v":22759206.896551967},null,{"$f":"+AC66*$AD$11-AD66","v":-8299652.1968300343},null,{"$f":"+AE66*$AF$11-AF66","v":-11782107.545335948}]
[null,"40 (-) RECEITAS NÃO REALIZADAS DE COFINS  E PASEP",{"$f":"+I68+K68+M68+O68+Q68+S68+U68+W68","v":0},0,{"$f":"+Y68+AA68+AC68+AE68","v":0},0,{"$f":"+I68+K68+M68+O68+Q68+S68+U68+W68+Y68+AA68+AC68+AE68","v":0},0]
[null,"41 (-) REPACTUAÇÃO CELG - DISTRIBUIÇÃO",{"$f":"W69","v":-349498380.54000002},-715877533.08000004,{"$f":"AE69","v":-330931279.07999998},-683747273.21000004,{"$f":"E69","v":-330931279.07999998},-683747273.21000004,-349498380.54000002,-715877533.08000004,-349498380.54000002,-715877533.08000004,-349498380.54000002,-715877533.08000004,-349498380.54000002,-715877533.08000004,-349498380.54000002,-715877533.08000004,-349498380.54000002,-715877533.08000004,-349498380.54000002,-715877533.08000004,-349498380.54000002,-715877533.08000004,-342217164.27999997,-700963417.80999994,-334935948.01999998,-686049302.53999996,-338396952.81999999,-698993114.38999999,-330931279.07999998,-683747273.21000004]
[null,"42 (-) VARIAÇÃO CAMBIAL DA REPACTUAÇÃO CELG",0,-558638211.23521817,0,-608473185.34158373,0,-608473185.34158373,null,{"$f":"(I69*2.6623)-J69","v":-214592005.43164206},null,{"$f":"(K69*2.8782)-L69","v":-290048705.79022801},null,{"$f":"(M69*3.208)-N69","v":-405313271.69231999},null,{"$f":"(O69*2.9936)-P69","v":-330380818.904544},null,{"$f":"(Q69*3.1788)-R69","v":-395107918.98055208},null,{"$f":"(S69*3.1026)-T69","v":-368476142.3834039},null,{"$f":"(U69*3.394)-V69","v":-470319970.47276008},null,{"$f":"(W69*X11)-X69","v":-558638211.23521817},null,{"$f":"(Y69*Z11)-Z69","v":-658631154.15801191},null,{"$f":"+AA69*AB11-AB69","v":-606435027.27437806},null,{"$f":"+AC69*AD11-AD69","v":-604038192.13869202},null,{"$f":"+AE69*AF11-AF69","v":-608473185.34158373}]
[null,"43 (-) REPACTUAÇÃO CEMAT",0,-351140081.17000002,0,-351140081.17000002,0,-351140081.17000002,null,-351140081.17000002,null,-351140081.17000002,null,-351140081.17000002,null,-351140081.17000002,null,-351140081.17000002,null,-351140081.17000002,null,-351140081.17000002,null,-351140081.17000002,null,-351140081.17000002,null,-351140081.17000002,null,-351140081.17000002,null,-351140081.17000002]
[null,"44 (-) REPACTUAÇÃO EEB",0,0,0,0,0,0,-25189502.73,-57379168.280000001,-21591002.34,-49182144.240000002,-17992501.949999999,-40985120.200000003,-14394001.560000001,-32788096.16,-10795501.17,-24591072.120000001,-28671.55,-90000,0,0,0,0,0,0,0,0,0,0,0,0]
[null,"45 (-) VARIAÇÃO CAMBIAL DA REPACTUAÇÃO EEB",0,0,0,0,0,0,null,{"$f":"(I72*2.6623)-J72","v":-9682844.8380790055},null,{"$f":"(K72*2.8782)-L72","v":-12961078.694987997},null,{"$f":"(M72*3.208)-N72","v":-16734826.055599995},null,{"$f":"(O72*2.9936)-P72","v":-10301786.910015997},null,{"$f":"(Q72*R11)-R72","v":-9725666.9991959967},null,{"$f":"(S72*T11)-T72","v":1043.6489700000093},0,0,0,0,0,0,0,0,0,0,0,0]
[null,"46 (-) REPACTUAÇÃO CEB-D",{"$f":"W74","v":-22160096.460000001},{"$f":"X74","v":-69205981.209999993},{"$f":"AE74","v":-18306166.66},{"$f":"AF74","v":-57170158.450000003},{"$f":"E74","v":-18306166.66},{"$f":"F74","v":-57170158.450000003},null,null,null,null,null,null,null,null,null,null,null,null,-23123578.91,-72214936.900000006,-22160096.460000001,-69205981.209999993,-21196614.010000002,-66197025.520000003,-20233131.559999999,-63188069.829999998,-19525923.149999999,-61165922.960000001,-18306166.66,-57170158.450000003]
[null,"47 (-) VARIAÇÃO CAMBIAL DA REPACTUAÇÃO CEB-D",0,-11605242.550682008,0,-14311761.12396799,0,-14311761.12396799,null,null,null,null,null,null,null,null,null,null,null,null,null,{"$f":"(U74*V11)-V74","v":-6266489.9205399901},null,{"$f":"(W74*X11)-X74","v":-11605242.550682008},null,{"$f":"(Y74*Z11)-Z74","v":-18015002.280329011},null,{"$f":"+AA74*AB11-AB74","v":-14889561.546884},null,{"$f":"+AC74*$AD$11-AD74","v":-14020596.721389987},null,{"$f":"+AE74*$AF$11-AF74","v":-14311761.12396799}]
[null,"48 (-) REPACTUAÇÃO CEEE-D",0,0,-60729974.979999997,-233433877.72,-60729974.979999997,-233433877.72,null,null,null,null,null,null,null,null,null,null,null,null,null,null,null,null,null,null,-60729974.979999997,-233433877.72,-60729974.979999997,-233433877.72,-60729974.979999997,-233433877.72]
[null,"49 (-) VARIAÇÃO CAMBIAL DA REPACTUAÇÃO CEEE-D",0,0,0,-3704528.5819039643,0,-3704528.5819039643,null,null,null,null,null,null,null,null,null,null,null,null,null,null,null,null,null,null,null,{"$f":"+AA76*$AB$11-AB76","v":-917022.73032200336},null,{"$f":"+AC76*$AD$11-AD76","v":-412963.93798798323},null,{"$f":"+AE76*$AF$11-AF76","v":-3704528.5819039643}]
[null,"SALDO  DA INADIMPLÊNCIA NO PERÍODO  ( D )\nREALIZADO / PREVISTO ",{"$f":"SUM(C66:C77)","v":-432942860.38999999},{"$f":"SUM(D66:D77)","v":-1929952810.1542134},-537110010.78999996,-2448447251.3027916,-537110010.78999996,-2448447251.3027916,-459569925.31000006,-1574653093.3228133,-451623571.96999997,-1651003046.0140543,-468413009.81999999,-1853809016.6725602,-497656715.83000004,-1840925225.6786883,-452036955.47000003,-1788075155.2180362,-431425526.83000004,-1689680920.7127581,-471441383.39000005,-1951212136.3956604,-432942860.38999999,-1929952810.1542134,-480263369.76999998,-2259178422.9292331,-604084028.88,-2682239940.2150316,-503055116.5,-2288204112.7648997,-537110010.78999996,-2448447251.3027916]
[null,"SALDO  APÓS A INADIMPLÊNCIA ( E ) = ( C + D )",{"$f":"+C60+C78","v":-567824964.35858929},-866924377.88421011,-294096896.76160389,274928996.34350634,-294096896.76160383,274928996.34351015,-1392808074.8071361,-3643259654.2228131,-1269954621.1737416,-3283905923.6340542,-1180972250.3741157,-2937939704.7825603,-1080810519.5744634,-2656919893.3186884,-908153071.10110855,-2093765059.5180361,-779112221.40819812,{"$f":"+T60+T78","v":-1695856671.1427581},-713192804.43354869,-1428611398.6756604,-567824964.35858965,-866924377.88421345,-507298865.89890504,-553231233.62923312,-529558425.51847947,-653066348.92873883,-349315910.69418561,33956327.001393318,-294096896.76160407,274928996.34350109]
[null,"SALDO DEVEDOR DOS EMPRÉSTIMOS  REALIZADOS  ( N )\n(PRINCIPAL + JUROS) POSIÇÃO EM  31/12/2015",null,null,null,null,null,{"$f":"H93","v":-486551009.69999945}]
[null,"SALDO FINAL APÓS QUITAÇÃO DOS EMPRÉSTIMOS  REALIZADOS \n (PRINCIPAL + JUROS)  - PÓSIÇÃO EM  31/12/2015 ( F ) = ( E + N )",null,null,null,null,null,{"$f":"+H79+H80","v":-211622013.3564893}]
[]
[]
[]
[null,"DÉBITO ACUMULADO DOS EMPRÉTIMOS OBTIDOS POR ITAIPU JUNTO À ELETROBRAS \nPOSIÇÃO  EM 31/12/2015"]
[null," SALDO DEVEDOR DOS EMPRÉSTIMOS  REALIZADOS (PRINCIPAL) - POSIÇÃO EM:   31/12/2014 ( G )",null,null,null,null,null,-3587564851.9099998]
[null," EMPRÉSTIMOS  OBTIDOS NO EXERCÍCIO (PRINCIPAL) - POSIÇÃO EM :  31/12/2015  ( H )",null,null,null,null,null,-1703573663.1099999]
[null," AMORTIZAÇÃO  REALIZADA NO EXERCÍCIO (PRINCIPAL) - POSIÇÃO EM:    31/12/2015    ( I )",null,null,null,null,null,4809841985.9200001]
[null,"SALDO DEVEDOR DO PRINCIPAL DOS EMPRÉSTIMOS OBTIDOS NO EXERCÍCIO DE 2015 \nPOSIÇÃO EM: 31/12/2015  ( J ) = ( G + H + I )",null,null,null,null,null,{"$f":"SUM(H86:H88)","v":-481296529.09999943}]
[null," JUROS INCORRIDOS NO EXERCÍCIO DE 2015 - POSIÇÃO EM 31/12/2015 ( K )",null,null,null,null,null,-397874706.44]
[null," AMORTIZAÇÃO DOS JUROS INCORRIDOS NO EXERCÍCIO DE 2015 - POSIÇÃO EM 31/12/2015 ( L )",null,null,null,null,null,392620225.83999997]
[null,"SALDO DEVEDOR DOS JUROS INCORRIDOS NO EXERCÍCIO DE 2015\nPOSIÇÃO EM 31/12/2015  ( M ) = ( K + L )",null,null,null,null,null,{"$f":"SUM(H90:H91)","v":-5254480.6000000238}]
[null,"SALDO DEVEDOR DOS EMPRÉSTIMOS  REALIZADOS (PRINCIPAL + JUROS) \nPÓSIÇÃO EM  31/12/2015  ( N ) = ( J + M )",null,null,null,null,null,{"$f":"+H89+H92","v":-486551009.69999945}]
[null,"MONTANTE QUITADO DOS EMPRÉSTIMOS OBTIDOS NO EXERCÍCIO DE 2015 \n(PRINCIPAL + JUROS) ( O ) = ( I + L )",null,null,null,null,null,{"$f":"+H88+H91","v":5202462211.7600002}]

{"sheet":"FLUXO MENSAL","index":1,"n_rows":94,"n_cols":32,"rows_kept":94,"cut":false,"hidden":false,"merged":[[93,1,93,6],[87,1,87,6],[88,1,88,6],[89,1,89,6],[90,1,90,6],[91,1,91,6],[92,1,92,6],[61,31,64,31],[79,1,79,6],[80,1,80,6],[84,1,84,7],[85,1,85,6],[86,1,86,6],[61,25,64,25],[61,26,64,26],[61,27,64,27],[61,28,64,28],[61,29,64,29],[61,30,64,30],[61,19,64,19],[61,20,64,20],[61,21,64,21],[61,22,64,22],[61,23,64,23],[61,24,64,24],[61,13,64,13],[61,14,64,14],[61,15,64,15],[61,16,64,16],[61,17,64,17],[61,18,64,18],[61,7,64,7],[61,8,64,8],[61,9,64,9],[61,10,64,10],[61,11,64,11],[61,12,64,12],[42,28,45,28],[42,29,45,29],[42,30,45,30],[42,31,45,31],[61,1,64,1],[61,2,64,2],[61,3,64,3],[61,4,64,4],[61,5,64,5],[61,6,64,6],[42,22,45,22],[42,23,45,23],[42,24,45,24],[42,25,45,25],[42,26,45,26],[42,27,45,27],[42,16,45,16],[42,17,45,17],[42,18,45,18],[42,19,45,19],[42,20,45,20],[42,21,45,21],[42,10,45,10],[42,11,45,11],[42,12,45,12],[42,13,45,13],[42,14,45,14],[42,15,45,15],[13,31,16,31],[42,1,45,1],[42,2,45,2],[42,3,45,3],[42,4,45,4],[42,5,45,5],[42,6,45,6],[42,7,45,7],[42,8,45,8],[42,9,45,9],[13,25,16,25],[13,26,16,26],[13,27,16,27],[13,28,16,28],[13,29,16,29],[13,30,16,30],[13,19,16,19],[13,20,16,20],[13,21,16,21],[13,22,16,22],[13,23,16,23],[13,24,16,24],[13,13,16,13],[13,14,16,14],[13,15,16,15],[13,16,16,16],[13,17,16,17],[13,18,16,18],[13,7,16,7],[13,8,16,8],[13,9,16,9],[13,10,16,10],[13,11,16,11],[13,12,16,12],[13,1,16,1],[13,2,16,2],[13,3,16,3],[13,4,16,4],[13,5,16,5],[13,6,16,6]]}
[" ","                           Centrais Elétricas Brasileiras S/A. - ELETROBRÁS"]
[null,"                           Diretoria Financeira - DF"]
[null,"                           Departamento de Administração de Capital de Giro - DFG"]
[null,"                           Demonstrativo de Saldo da Conta de Comercialização da Energia Elétrica de Itaipu"]
[null,"                           FLUXO DA CONTA DE COMERCIALIZAÇÃO DE ENERGIA ELÉTRICA DE ITAIPU - EXERCÍCIO DE 2015"]
[]
[null,"Data da Emissão:"]
[null,"2016-04-14"]
[]
[]
[null,null,null,null,null,null,null,null,"Dólar do último dia do mês:",2.6623000000000001,"Dólar do último dia do mês:",2.8782000000000001,"Dólar do último dia do mês:",3.2080000000000002,"Dólar do último dia do mês:",2.9935999999999998,"Dólar do último dia do mês:",3.1787999999999998,"Dólar do último dia do mês:",3.1025999999999998,"Dólar do último dia do mês:",3.3940000000000001,"Dólar do último dia do mês:",3.6467000000000001,"Dólar do último dia do mês:",3.9729000000000001,"Dólar do último dia do mês:",3.8589000000000002,"Dólar do último dia do mês:",3.8506,"Dólar do último dia do mês:",3.9047999999999998]
[null,"SALDO ANTES DA INADIMPLÊNCIA EM 31/12/2014. ( A )",{"$f":"'FLUXO ANUAL'!C12","v":-1041113997.2450206},{"$f":"'FLUXO ANUAL'!D12","v":-2355127438.5899997},{"$f":"'FLUXO ANUAL'!E12","v":"----"},{"$f":"'FLUXO ANUAL'!F12","v":"----"},{"$f":"'FLUXO ANUAL'!G12","v":-1041113997.2450206},{"$f":"'FLUXO ANUAL'!H12","v":-2355127438.5899997},{"$f":"'FLUXO ANUAL'!I12","v":"   SALDO FINAL MÊS ANTERIOR"},{"$f":"'FLUXO ANUAL'!J12","v":"   SALDO FINAL MÊS ANTERIOR"},{"$f":"'FLUXO ANUAL'!K12","v":"   SALDO FINAL MÊS ANTERIOR"},{"$f":"'FLUXO ANUAL'!L12","v":"   SALDO FINAL MÊS ANTERIOR"},{"$f":"'FLUXO ANUAL'!M12","v":"   SALDO FINAL MÊS ANTERIOR"},{"$f":"'FLUXO ANUAL'!N12","v":"   SALDO FINAL MÊS ANTERIOR"},{"$f":"'FLUXO ANUAL'!O12","v":"   SALDO FINAL MÊS ANTERIOR"},{"$f":"'FLUXO ANUAL'!P12","v":"   SALDO FINAL MÊS ANTERIOR"},{"$f":"'FLUXO ANUAL'!Q12","v":"   SALDO FINAL MÊS ANTERIOR"},{"$f":"'FLUXO ANUAL'!R12","v":"   SALDO FINAL MÊS ANTERIOR"},{"$f":"'FLUXO ANUAL'!S12","v":"   SALDO FINAL MÊS ANTERIOR"},{"$f":"'FLUXO ANUAL'!T12","v":"   SALDO FINAL MÊS ANTERIOR"},{"$f":"'FLUXO ANUAL'!U12","v":"   SALDO FINAL MÊS ANTERIOR"},{"$f":"'FLUXO ANUAL'!V12","v":"   SALDO FINAL MÊS ANTERIOR"},{"$f":"'FLUXO ANUAL'!W12","v":"   SALDO FINAL MÊS ANTERIOR"},{"$f":"'FLUXO ANUAL'!X12","v":"   SALDO FINAL MÊS ANTERIOR"},{"$f":"'FLUXO ANUAL'!Y12","v":"   SALDO FINAL MÊS ANTERIOR"},{"$f":"'FLUXO ANUAL'!Z12","v":"   SALDO FINAL MÊS ANTERIOR"},{"$f":"'FLUXO ANUAL'!AA12","v":"   SALDO FINAL MÊS ANTERIOR"},{"$f":"'FLUXO ANUAL'!AB12","v":"   SALDO FINAL MÊS ANTERIOR"},{"$f":"'FLUXO ANUAL'!AC12","v":"   SALDO FINAL MÊS ANTERIOR"},{"$f":"'FLUXO ANUAL'!AD12","v":"   SALDO FINAL MÊS ANTERIOR"},{"$f":"'FLUXO ANUAL'!AE12","v":"   SALDO FINAL MÊS ANTERIOR"},{"$f":"'FLUXO ANUAL'!AF12","v":"   SALDO FINAL MÊS ANTERIOR"}]
[null,"SALDO ANTES DA INADIMPLÊNCIA EM: 31/08/2015 ( A )",{"$f":"'FLUXO ANUAL'!C13","v":"----"},{"$f":"'FLUXO ANUAL'!D13","v":"----"},{"$f":"'FLUXO ANUAL'!E13","v":-134882103.96858931},{"$f":"'FLUXO ANUAL'!F13","v":1063028432.2700033},{"$f":"'FLUXO ANUAL'!G13","v":"----"},{"$f":"'FLUXO ANUAL'!H13","v":"----"},{"$f":"'FLUXO ANUAL'!I13","v":-1041113997.2450206},{"$f":"'FLUXO ANUAL'!J13","v":-2355127438.5899997},{"$f":"'FLUXO ANUAL'!K13","v":-933238149.49713612},{"$f":"'FLUXO ANUAL'!L13","v":-2068606560.8999999},{"$f":"'FLUXO ANUAL'!M13","v":-818331049.20374167},{"$f":"'FLUXO ANUAL'!N13","v":-1632902877.6200001},{"$f":"'FLUXO ANUAL'!O13","v":-712559240.55411577},{"$f":"'FLUXO ANUAL'!P13","v":-1084130688.1100004},{"$f":"'FLUXO ANUAL'!Q13","v":-583153803.74446321},{"$f":"'FLUXO ANUAL'!R13","v":-815994667.6400001},{"$f":"'FLUXO ANUAL'!S13","v":-456116115.63110858},{"$f":"'FLUXO ANUAL'!T13","v":-305689904.29999995},{"$f":"'FLUXO ANUAL'!U13","v":-347686694.57819808},{"$f":"'FLUXO ANUAL'!V13","v":-6175750.4300000072},{"$f":"'FLUXO ANUAL'!W13","v":-241751421.0435487},{"$f":"'FLUXO ANUAL'!X13","v":522600737.71999997},{"$f":"'FLUXO ANUAL'!Y13","v":-134882103.96858972},{"$f":"'FLUXO ANUAL'!Z13","v":1063028432.27},{"$f":"'FLUXO ANUAL'!AA13","v":-27035496.128905028},{"$f":"'FLUXO ANUAL'!AB13","v":1705947189.3},{"$f":"'FLUXO ANUAL'!AC13","v":74525603.361520514},{"$f":"'FLUXO ANUAL'!AD13","v":2029173591.2862928},{"$f":"'FLUXO ANUAL'!AE13","v":153739205.80581439},{"$f":"'FLUXO ANUAL'!AF13","v":2322160439.766293}]
[null,"NATUREZA DAS CONTAS",{"$f":"'FLUXO ANUAL'!C14","v":"VALORES REALIZADOS DE JANEIRO A AGOSTO/2015                   EM US$"},{"$f":"'FLUXO ANUAL'!D14","v":"VALORES REALIZADOS DE JANEIRO A AGOSTO/2015                 EM R$"},{"$f":"'FLUXO ANUAL'!E14","v":"VALORES PREVISTOS DE SETEMBRO A DEZEMBRO/2015                   EM US$"},{"$f":"'FLUXO ANUAL'!F14","v":"VALORES PREVISTOS DE SETEMBRO A DEZEMBRO/2015                   EM R$"},{"$f":"'FLUXO ANUAL'!G14","v":"TOTAIS DE JANEIRO A DEZEMBRO/2015                   EM US$"},{"$f":"'FLUXO ANUAL'!H14","v":"TOTAIS DE JANEIRO A DEZEMBRO/2015                  EM R$"},{"$f":"'FLUXO ANUAL'!I14","v":"JANEIRO/2015                   EM US$"},{"$f":"'FLUXO ANUAL'!J14","v":"JANEIRO/2015                   EM R$"},{"$f":"'FLUXO ANUAL'!K14","v":"FEVEREIRO/2015                   EM US$"},{"$f":"'FLUXO ANUAL'!L14","v":"FEVEREIRO/2015                   EM R$"},{"$f":"'FLUXO ANUAL'!M14","v":"MARÇO/2015                   EM US$"},{"$f":"'FLUXO ANUAL'!N14","v":"MARÇO/2015                   EM R$"},{"$f":"'FLUXO ANUAL'!O14","v":"ABRIL/2015                   EM US$"},{"$f":"'FLUXO ANUAL'!P14","v":"ABRIL/2015                   EM R$"},{"$f":"'FLUXO ANUAL'!Q14","v":"MAIO/2015                          EM US$"},{"$f":"'FLUXO ANUAL'!R14","v":"MAIO/2015                            EM R$"},{"$f":"'FLUXO ANUAL'!S14","v":"JUNHO/2015                   EM US$"},{"$f":"'FLUXO ANUAL'!T14","v":"JUNHO/2015                   EM R$"},{"$f":"'FLUXO ANUAL'!U14","v":"JULHO/2015                   EM US$"},{"$f":"'FLUXO ANUAL'!V14","v":"JULHO/2015                   EM R$"},{"$f":"'FLUXO ANUAL'!W14","v":"AGOSTO/2015                   EM US$"},{"$f":"'FLUXO ANUAL'!X14","v":"AGOSTO/2015                   EM R$"},{"$f":"'FLUXO ANUAL'!Y14","v":"SETEMBRO/2015                   EM US$"},{"$f":"'FLUXO ANUAL'!Z14","v":"SETEMBRO/2015                   EM R$"},{"$f":"'FLUXO ANUAL'!AA14","v":"OUTUBRO/2015                   EM US$"},{"$f":"'FLUXO ANUAL'!AB14","v":"OUTUBRO/2015                   EM R$"},{"$f":"'FLUXO ANUAL'!AC14","v":"NOVEMBRO/2015                   EM US$"},{"$f":"'FLUXO ANUAL'!AD14","v":"NOVEMBRO/2015                   EM R$"},{"$f":"'FLUXO ANUAL'!AE14","v":"DEZEMBRO/2015                   EM US$"},{"$f":"'FLUXO ANUAL'!AF14","v":"DEZEMBRO/2015                   EM R$"}]
[null,null,{"$f":"'FLUXO ANUAL'!C15","v":0},{"$f":"'FLUXO ANUAL'!D15","v":0},{"$f":"'FLUXO ANUAL'!E15","v":0},{"$f":"'FLUXO ANUAL'!F15","v":0},{"$f":"'FLUXO ANUAL'!G15","v":0},{"$f":"'FLUXO ANUAL'!H15","v":0},{"$f":"'FLUXO ANUAL'!I15","v":0},{"$f":"'FLUXO ANUAL'!J15","v":0},{"$f":"'FLUXO ANUAL'!K15","v":0},{"$f":"'FLUXO ANUAL'!L15","v":0},{"$f":"'FLUXO ANUAL'!M15","v":0},{"$f":"'FLUXO ANUAL'!N15","v":0},{"$f":"'FLUXO ANUAL'!O15","v":0},{"$f":"'FLUXO ANUAL'!P15","v":0},{"$f":"'FLUXO ANUAL'!Q15","v":0},{"$f":"'FLUXO ANUAL'!R15","v":0},{"$f":"'FLUXO ANUAL'!S15","v":0},{"$f":"'FLUXO ANUAL'!T15","v":0},{"$f":"'FLUXO ANUAL'!U15","v":0},{"$f":"'FLUXO ANUAL'!V15","v":0},{"$f":"'FLUXO ANUAL'!W15","v":0},{"$f":"'FLUXO ANUAL'!X15","v":0},{"$f":"'FLUXO ANUAL'!Y15","v":0},{"$f":"'FLUXO ANUAL'!Z15","v":0},{"$f":"'FLUXO ANUAL'!AA15","v":0},{"$f":"'FLUXO ANUAL'!AB15","v":0},{"$f":"'FLUXO ANUAL'!AC15","v":0},{"$f":"'FLUXO ANUAL'!AD15","v":0},{"$f":"'FLUXO ANUAL'!AE15","v":0},{"$f":"'FLUXO ANUAL'!AF15","v":0}]
[null,null,{"$f":"'FLUXO ANUAL'!C16","v":0},{"$f":"'FLUXO ANUAL'!D16","v":0},{"$f":"'FLUXO ANUAL'!E16","v":0},{"$f":"'FLUXO ANUAL'!F16","v":0},{"$f":"'FLUXO ANUAL'!G16","v":0},{"$f":"'FLUXO ANUAL'!H16","v":0},{"$f":"'FLUXO ANUAL'!I16","v":0},{"$f":"'FLUXO ANUAL'!J16","v":0},{"$f":"'FLUXO ANUAL'!K16","v":0},{"$f":"'FLUXO ANUAL'!L16","v":0},{"$f":"'FLUXO ANUAL'!M16","v":0},{"$f":"'FLUXO ANUAL'!N16","v":0},{"$f":"'FLUXO ANUAL'!O16","v":0},{"$f":"'FLUXO ANUAL'!P16","v":0},{"$f":"'FLUXO ANUAL'!Q16","v":0},{"$f":"'FLUXO ANUAL'!R16","v":0},{"$f":"'FLUXO ANUAL'!S16","v":0},{"$f":"'FLUXO ANUAL'!T16","v":0},{"$f":"'FLUXO ANUAL'!U16","v":0},{"$f":"'FLUXO ANUAL'!V16","v":0},{"$f":"'FLUXO ANUAL'!W16","v":0},{"$f":"'FLUXO ANUAL'!X16","v":0},{"$f":"'FLUXO ANUAL'!Y16","v":0},{"$f":"'FLUXO ANUAL'!Z16","v":0},{"$f":"'FLUXO ANUAL'!AA16","v":0},{"$f":"'FLUXO ANUAL'!AB16","v":0},{"$f":"'FLUXO ANUAL'!AC16","v":0},{"$f":"'FLUXO ANUAL'!AD16","v":0},{"$f":"'FLUXO ANUAL'!AE16","v":0},{"$f":"'FLUXO ANUAL'!AF16","v":0}]
[null,null,{"$f":"'FLUXO ANUAL'!C17","v":0},{"$f":"'FLUXO ANUAL'!D17","v":0},{"$f":"'FLUXO ANUAL'!E17","v":0},{"$f":"'FLUXO ANUAL'!F17","v":0},{"$f":"'FLUXO ANUAL'!G17","v":0},{"$f":"'FLUXO ANUAL'!H17","v":0},{"$f":"'FLUXO ANUAL'!I17","v":0},{"$f":"'FLUXO ANUAL'!J17","v":0},{"$f":"'FLUXO ANUAL'!K17","v":0},{"$f":"'FLUXO ANUAL'!L17","v":0},{"$f":"'FLUXO ANUAL'!M17","v":0},{"$f":"'FLUXO ANUAL'!N17","v":0},{"$f":"'FLUXO ANUAL'!O17","v":0},{"$f":"'FLUXO ANUAL'!P17","v":0},{"$f":"'FLUXO ANUAL'!Q17","v":0},{"$f":"'FLUXO ANUAL'!R17","v":0},{"$f":"'FLUXO ANUAL'!S17","v":0},{"$f":"'FLUXO ANUAL'!T17","v":0},{"$f":"'FLUXO ANUAL'!U17","v":0},{"$f":"'FLUXO ANUAL'!V17","v":0},{"$f":"'FLUXO ANUAL'!W17","v":0},{"$f":"'FLUXO ANUAL'!X17","v":0},{"$f":"'FLUXO ANUAL'!Y17","v":0},{"$f":"'FLUXO ANUAL'!Z17","v":0},{"$f":"'FLUXO ANUAL'!AA17","v":0},{"$f":"'FLUXO ANUAL'!AB17","v":0},{"$f":"'FLUXO ANUAL'!AC17","v":0},{"$f":"'FLUXO ANUAL'!AD17","v":0},{"$f":"'FLUXO ANUAL'!AE17","v":0},{"$f":"'FLUXO ANUAL'!AF17","v":0}]
[null,"01 (+) Faturamento do Repasse da Energia ",{"$f":"'FLUXO ANUAL'!C18","v":3353012828.4200001},{"$f":"'FLUXO ANUAL'!D18","v":10466089122.330002},{"$f":"'FLUXO ANUAL'!E18","v":1643101047.72},{"$f":"'FLUXO ANUAL'!F18","v":6428169780.0600004},{"$f":"'FLUXO ANUAL'!G18","v":4996113876.1400003},{"$f":"'FLUXO ANUAL'!H18","v":16894258902.390003},{"$f":"'FLUXO ANUAL'!I18","v":409062188.06999999},{"$f":"'FLUXO ANUAL'!J18","v":1061925440.25},{"$f":"'FLUXO ANUAL'!K18","v":409062188.06999999},{"$f":"'FLUXO ANUAL'!L18","v":1175153853.8099999},{"$f":"'FLUXO ANUAL'!M18","v":418198911.93000001},{"$f":"'FLUXO ANUAL'!N18","v":1363370272.77},{"$f":"'FLUXO ANUAL'!O18","v":418198911.93000001},{"$f":"'FLUXO ANUAL'!P18","v":1228459303.77},{"$f":"'FLUXO ANUAL'!Q18","v":422386726.13999999},{"$f":"'FLUXO ANUAL'!R18","v":1340993378.1900001},{"$f":"'FLUXO ANUAL'!S18","v":422193764.20999998},{"$f":"'FLUXO ANUAL'!T18","v":1337822225.8499999},{"$f":"'FLUXO ANUAL'!U18","v":427335788.06999999},{"$f":"'FLUXO ANUAL'!V18","v":1428144635.9400001},{"$f":"'FLUXO ANUAL'!W18","v":426574350},{"$f":"'FLUXO ANUAL'!X18","v":1530220011.75},{"$f":"'FLUXO ANUAL'!Y18","v":423909411.93000001},{"$f":"'FLUXO ANUAL'!Z18","v":1745319830.79},{"$f":"'FLUXO ANUAL'!AA18","v":410965650},{"$f":"'FLUXO ANUAL'!AB18","v":1616245708.23},{"$f":"'FLUXO ANUAL'!AC18","v":406397288.06999999},{"$f":"'FLUXO ANUAL'!AD18","v":1519885217.6700001},{"$f":"'FLUXO ANUAL'!AE18","v":401828697.72000003},{"$f":"'FLUXO ANUAL'!AF18","v":1546719023.3699999}]
[null,"02 (+) Juros referentes ao Repasse da Energia ",{"$f":"'FLUXO ANUAL'!C19","v":2344677.2435382931},{"$f":"'FLUXO ANUAL'!D19","v":7300389.9100000001},{"$f":"'FLUXO ANUAL'!E19","v":4457562.16},{"$f":"'FLUXO ANUAL'!F19","v":17194557.52},{"$f":"'FLUXO ANUAL'!G19","v":6802239.4035382932},{"$f":"'FLUXO ANUAL'!H19","v":24494947.43},{"$f":"'FLUXO ANUAL'!I19","v":108459.27},{"$f":"'FLUXO ANUAL'!J19","v":290105.5},{"$f":"'FLUXO ANUAL'!K19","v":64676.74},{"$f":"'FLUXO ANUAL'!L19","v":182012.15},{"$f":"'FLUXO ANUAL'!M19","v":37670.6},{"$f":"'FLUXO ANUAL'!N19","v":117157.29},{"$f":"'FLUXO ANUAL'!O19","v":71380.800000000003},{"$f":"'FLUXO ANUAL'!P19","v":224266.19},{"$f":"'FLUXO ANUAL'!Q19","v":53358.29},{"$f":"'FLUXO ANUAL'!R19","v":162516.82},{"$f":"'FLUXO ANUAL'!S19","v":220685.27099851737},{"$f":"'FLUXO ANUAL'!T19","v":692122.51},{"$f":"'FLUXO ANUAL'!U19","v":1689052.952539776},{"$f":"'FLUXO ANUAL'!V19","v":5286367.57},{"$f":"'FLUXO ANUAL'!W19","v":99393.32},{"$f":"'FLUXO ANUAL'!X19","v":345841.88},{"$f":"'FLUXO ANUAL'!Y19","v":97910.69},{"$f":"'FLUXO ANUAL'!Z19","v":383157.82},{"$f":"'FLUXO ANUAL'!AA19","v":3343687.88},{"$f":"'FLUXO ANUAL'!AB19","v":12860783.359999999},{"$f":"'FLUXO ANUAL'!AC19","v":341142.98},{"$f":"'FLUXO ANUAL'!AD19","v":1277357.76},{"$f":"'FLUXO ANUAL'!AE19","v":674820.61},{"$f":"'FLUXO ANUAL'!AF19","v":2673258.58}]
[null,"03 (+) Juros contratuais do Repasse de ITAIPU sobre créditos \n           renegociados",{"$f":"'FLUXO ANUAL'!C20","v":40232026.534799911},{"$f":"'FLUXO ANUAL'!D20","v":124387082.66000001},{"$f":"'FLUXO ANUAL'!E20","v":21681721.499826297},{"$f":"'FLUXO ANUAL'!F20","v":86082912.149999991},{"$f":"'FLUXO ANUAL'!G20","v":61913748.034626208},{"$f":"'FLUXO ANUAL'!H20","v":210469994.81000003},{"$f":"'FLUXO ANUAL'!I20","v":5383348.0052548544},{"$f":"'FLUXO ANUAL'!J20","v":14072923.390000001},{"$f":"'FLUXO ANUAL'!K20","v":0},{"$f":"'FLUXO ANUAL'!L20","v":0},{"$f":"'FLUXO ANUAL'!M20","v":9609019.3820698261},{"$f":"'FLUXO ANUAL'!N20","v":29691833.239999998},{"$f":"'FLUXO ANUAL'!O20","v":5139193.4904275788},{"$f":"'FLUXO ANUAL'!P20","v":15171655.17},{"$f":"'FLUXO ANUAL'!Q20","v":4962006.6489253808},{"$f":"'FLUXO ANUAL'!R20","v":15773226.74},{"$f":"'FLUXO ANUAL'!S20","v":5054641.9878256945},{"$f":"'FLUXO ANUAL'!T20","v":15821942.18},{"$f":"'FLUXO ANUAL'!U20","v":4831624.2902592812},{"$f":"'FLUXO ANUAL'!V20","v":16216444.18},{"$f":"'FLUXO ANUAL'!W20","v":5252192.7300372943},{"$f":"'FLUXO ANUAL'!X20","v":17639057.760000002},{"$f":"'FLUXO ANUAL'!Y20","v":4967016.4106312767},{"$f":"'FLUXO ANUAL'!Z20","v":20287639.449999999},{"$f":"'FLUXO ANUAL'!AA20","v":4794185.8040483044},{"$f":"'FLUXO ANUAL'!AB20","v":20179328.68},{"$f":"'FLUXO ANUAL'!AC20","v":5418609.7068430893},{"$f":"'FLUXO ANUAL'!AD20","v":20387645.989999998},{"$f":"'FLUXO ANUAL'!AE20","v":6501909.5783036267},{"$f":"'FLUXO ANUAL'!AF20","v":25228298.030000001}]
[null,"04 (+) Rendimento de aplicação financeira  B.B. S/A",{"$f":"'FLUXO ANUAL'!C21","v":148.11699597910098},{"$f":"'FLUXO ANUAL'!D21","v":463.88000000000005},{"$f":"'FLUXO ANUAL'!E21","v":847633.13123473548},{"$f":"'FLUXO ANUAL'!F21","v":3263898.12},{"$f":"'FLUXO ANUAL'!G21","v":847781.24823071458},{"$f":"'FLUXO ANUAL'!H21","v":3264362},{"$f":"'FLUXO ANUAL'!I21","v":21.462645081320662},{"$f":"'FLUXO ANUAL'!J21","v":57.14},{"$f":"'FLUXO ANUAL'!K21","v":15.568758251685081},{"$f":"'FLUXO ANUAL'!L21","v":44.81},{"$f":"'FLUXO ANUAL'!M21","v":17.213216957605983},{"$f":"'FLUXO ANUAL'!N21","v":55.22},{"$f":"'FLUXO ANUAL'!O21","v":17.664350614644576},{"$f":"'FLUXO ANUAL'!P21","v":52.88},{"$f":"'FLUXO ANUAL'!Q21","v":18.142066188498806},{"$f":"'FLUXO ANUAL'!R21","v":57.67},{"$f":"'FLUXO ANUAL'!S21","v":18.136401727583319},{"$f":"'FLUXO ANUAL'!T21","v":56.27},{"$f":"'FLUXO ANUAL'!U21","v":22.639952857984678},{"$f":"'FLUXO ANUAL'!V21","v":76.84},{"$f":"'FLUXO ANUAL'!W21","v":17.289604299777881},{"$f":"'FLUXO ANUAL'!X21","v":63.05},{"$f":"'FLUXO ANUAL'!Y21","v":10.508696418233532},{"$f":"'FLUXO ANUAL'!Z21","v":41.75},{"$f":"'FLUXO ANUAL'!AA21","v":11.632848739278032},{"$f":"'FLUXO ANUAL'!AB21","v":44.89},{"$f":"'FLUXO ANUAL'!AC21","v":847599.86235911283},{"$f":"'FLUXO ANUAL'!AD21","v":3263768.03},{"$f":"'FLUXO ANUAL'!AE21","v":11.127330465068635},{"$f":"'FLUXO ANUAL'!AF21","v":43.45}]
[null,"05 (+) Devolução do bônus de ITAIPU",{"$f":"'FLUXO ANUAL'!C22","v":135.62985722343154},{"$f":"'FLUXO ANUAL'!D22","v":400.52000000000004},{"$f":"'FLUXO ANUAL'!E22","v":3.5840393902219794},{"$f":"'FLUXO ANUAL'!F22","v":13.91},{"$f":"'FLUXO ANUAL'!G22","v":139.21389661365353},{"$f":"'FLUXO ANUAL'!H22","v":414.43000000000006},{"$f":"'FLUXO ANUAL'!I22","v":33.903016189009506},{"$f":"'FLUXO ANUAL'!J22","v":90.26},{"$f":"'FLUXO ANUAL'!K22","v":46.397053714126884},{"$f":"'FLUXO ANUAL'!L22","v":133.54},{"$f":"'FLUXO ANUAL'!M22","v":21.527431421446384},{"$f":"'FLUXO ANUAL'!N22","v":69.06},{"$f":"'FLUXO ANUAL'!O22","v":18.115312667022984},{"$f":"'FLUXO ANUAL'!P22","v":54.23},{"$f":"'FLUXO ANUAL'!Q22","v":2.6173398766830251},{"$f":"'FLUXO ANUAL'!R22","v":8.32},{"$f":"'FLUXO ANUAL'!S22","v":2.7718687552375427},{"$f":"'FLUXO ANUAL'!T22","v":8.6},{"$f":"'FLUXO ANUAL'!U22","v":4.1278727165586329},{"$f":"'FLUXO ANUAL'!V22","v":14.01},{"$f":"'FLUXO ANUAL'!W22","v":6.1699618833465868},{"$f":"'FLUXO ANUAL'!X22","v":22.5},{"$f":"'FLUXO ANUAL'!Y22","v":0.84321276649299004},{"$f":"'FLUXO ANUAL'!Z22","v":3.35},{"$f":"'FLUXO ANUAL'!AA22","v":0.74373526134390633},{"$f":"'FLUXO ANUAL'!AB22","v":2.87},{"$f":"'FLUXO ANUAL'!AC22","v":1.997091362385083},{"$f":"'FLUXO ANUAL'!AD22","v":7.69},{"$f":"'FLUXO ANUAL'!AE22","v":0},{"$f":"'FLUXO ANUAL'!AF22","v":0}]
[null,"06 (+) Liquidação CCEE  - Venda de Energia",{"$f":"'FLUXO ANUAL'!C23","v":26011556.581356626},{"$f":"'FLUXO ANUAL'!D23","v":80045903.519999996},{"$f":"'FLUXO ANUAL'!E23","v":2235148.6042940919},{"$f":"'FLUXO ANUAL'!F23","v":8880021.8899999987},{"$f":"'FLUXO ANUAL'!G23","v":28246705.185650717},{"$f":"'FLUXO ANUAL'!H23","v":88925925.409999996},{"$f":"'FLUXO ANUAL'!I23","v":0},{"$f":"'FLUXO ANUAL'!J23","v":0},{"$f":"'FLUXO ANUAL'!K23","v":2721816.4026127439},{"$f":"'FLUXO ANUAL'!L23","v":7833931.9699999997},{"$f":"'FLUXO ANUAL'!M23","v":0},{"$f":"'FLUXO ANUAL'!N23","v":0},{"$f":"'FLUXO ANUAL'!O23","v":8535993.289016569},{"$f":"'FLUXO ANUAL'!P23","v":25553349.510000002},{"$f":"'FLUXO ANUAL'!Q23","v":11596416.534541339},{"$f":"'FLUXO ANUAL'!R23","v":36862688.880000003},{"$f":"'FLUXO ANUAL'!S23","v":3157330.3551859735},{"$f":"'FLUXO ANUAL'!T23","v":9795933.1600000001},{"$f":"'FLUXO ANUAL'!U23","v":0},{"$f":"'FLUXO ANUAL'!V23","v":0},{"$f":"'FLUXO ANUAL'!W23","v":0},{"$f":"'FLUXO ANUAL'!X23","v":0},{"$f":"'FLUXO ANUAL'!Y23","v":2235148.6042940919},{"$f":"'FLUXO ANUAL'!Z23","v":8880021.8899999987},{"$f":"'FLUXO ANUAL'!AA23","v":0},{"$f":"'FLUXO ANUAL'!AB23","v":0},{"$f":"'FLUXO ANUAL'!AC23","v":0},{"$f":"'FLUXO ANUAL'!AD23","v":0},{"$f":"'FLUXO ANUAL'!AE23","v":0},{"$f":"'FLUXO ANUAL'!AF23","v":0}]
[null,"07 (+) Rendimento Aplic. Financ.do Aporte de Garantias Liq.CCEE",{"$f":"'FLUXO ANUAL'!C24","v":1257270.014283577},{"$f":"'FLUXO ANUAL'!D24","v":3461516.0699999994},{"$f":"'FLUXO ANUAL'!E24","v":0},{"$f":"'FLUXO ANUAL'!F24","v":0},{"$f":"'FLUXO ANUAL'!G24","v":1257270.014283577},{"$f":"'FLUXO ANUAL'!H24","v":3461516.0699999994},{"$f":"'FLUXO ANUAL'!I24","v":790420.35458062566},{"$f":"'FLUXO ANUAL'!J24","v":2104336.11},{"$f":"'FLUXO ANUAL'!K24","v":406054.6730595511},{"$f":"'FLUXO ANUAL'!L24","v":1168706.5600000001},{"$f":"'FLUXO ANUAL'!M24","v":12246.814214463839},{"$f":"'FLUXO ANUAL'!N24","v":39287.78},{"$f":"'FLUXO ANUAL'!O24","v":27750.056787814006},{"$f":"'FLUXO ANUAL'!P24","v":83072.570000000007},{"$f":"'FLUXO ANUAL'!Q24","v":20798.115641122437},{"$f":"'FLUXO ANUAL'!R24","v":66113.05},{"$f":"'FLUXO ANUAL'!S24","v":0},{"$f":"'FLUXO ANUAL'!T24","v":0},{"$f":"'FLUXO ANUAL'!U24","v":0},{"$f":"'FLUXO ANUAL'!V24","v":0},{"$f":"'FLUXO ANUAL'!W24","v":0},{"$f":"'FLUXO ANUAL'!X24","v":0},{"$f":"'FLUXO ANUAL'!Y24","v":0},{"$f":"'FLUXO ANUAL'!Z24","v":0},{"$f":"'FLUXO ANUAL'!AA24","v":0},{"$f":"'FLUXO ANUAL'!AB24","v":0},{"$f":"'FLUXO ANUAL'!AC24","v":0},{"$f":"'FLUXO ANUAL'!AD24","v":0},{"$f":"'FLUXO ANUAL'!AE24","v":0},{"$f":"'FLUXO ANUAL'!AF24","v":0}]
[null,"08 (+) Liq. CCEE - Recuperação Inadimplência do Mês Anterior",{"$f":"'FLUXO ANUAL'!C25","v":0},{"$f":"'FLUXO ANUAL'!D25","v":0},{"$f":"'FLUXO ANUAL'!E25","v":1135407.1443411417},{"$f":"'FLUXO ANUAL'!F25","v":4371998.75},{"$f":"'FLUXO ANUAL'!G25","v":1135407.1443411417},{"$f":"'FLUXO ANUAL'!H25","v":4371998.75},{"$f":"'FLUXO ANUAL'!I25","v":0},{"$f":"'FLUXO ANUAL'!J25","v":0},{"$f":"'FLUXO ANUAL'!K25","v":0},{"$f":"'FLUXO ANUAL'!L25","v":0},{"$f":"'FLUXO ANUAL'!M25","v":0},{"$f":"'FLUXO ANUAL'!N25","v":0},{"$f":"'FLUXO ANUAL'!O25","v":0},{"$f":"'FLUXO ANUAL'!P25","v":0},{"$f":"'FLUXO ANUAL'!Q25","v":0},{"$f":"'FLUXO ANUAL'!R25","v":0},{"$f":"'FLUXO ANUAL'!S25","v":0},{"$f":"'FLUXO ANUAL'!T25","v":0},{"$f":"'FLUXO ANUAL'!U25","v":0},{"$f":"'FLUXO ANUAL'!V25","v":0},{"$f":"'FLUXO ANUAL'!W25","v":0},{"$f":"'FLUXO ANUAL'!X25","v":0},{"$f":"'FLUXO ANUAL'!Y25","v":0},{"$f":"'FLUXO ANUAL'!Z25","v":0},{"$f":"'FLUXO ANUAL'!AA25","v":0},{"$f":"'FLUXO ANUAL'!AB25","v":0},{"$f":"'FLUXO ANUAL'!AC25","v":1135407.1443411417},{"$f":"'FLUXO ANUAL'!AD25","v":4371998.75},{"$f":"'FLUXO ANUAL'!AE25","v":0},{"$f":"'FLUXO ANUAL'!AF25","v":0}]
[null,"09 (-) Liq. CCEE - Inadimplência do Mês",{"$f":"'FLUXO ANUAL'!C26","v":0},{"$f":"'FLUXO ANUAL'!D26","v":0},{"$f":"'FLUXO ANUAL'!E26","v":-1100455.2719675803},{"$f":"'FLUXO ANUAL'!F26","v":-4371998.75},{"$f":"'FLUXO ANUAL'!G26","v":-1100455.2719675803},{"$f":"'FLUXO ANUAL'!H26","v":-4371998.75},{"$f":"'FLUXO ANUAL'!I26","v":0},{"$f":"'FLUXO ANUAL'!J26","v":0},{"$f":"'FLUXO ANUAL'!K26","v":0},{"$f":"'FLUXO ANUAL'!L26","v":0},{"$f":"'FLUXO ANUAL'!M26","v":0},{"$f":"'FLUXO ANUAL'!N26","v":0},{"$f":"'FLUXO ANUAL'!O26","v":0},{"$f":"'FLUXO ANUAL'!P26","v":0},{"$f":"'FLUXO ANUAL'!Q26","v":0},{"$f":"'FLUXO ANUAL'!R26","v":0},{"$f":"'FLUXO ANUAL'!S26","v":0},{"$f":"'FLUXO ANUAL'!T26","v":0},{"$f":"'FLUXO ANUAL'!U26","v":0},{"$f":"'FLUXO ANUAL'!V26","v":0},{"$f":"'FLUXO ANUAL'!W26","v":0},{"$f":"'FLUXO ANUAL'!X26","v":0},{"$f":"'FLUXO ANUAL'!Y26","v":-1100455.2719675803},{"$f":"'FLUXO ANUAL'!Z26","v":-4371998.75},{"$f":"'FLUXO ANUAL'!AA26","v":0},{"$f":"'FLUXO ANUAL'!AB26","v":0},{"$f":"'FLUXO ANUAL'!AC26","v":0},{"$f":"'FLUXO ANUAL'!AD26","v":0},{"$f":"'FLUXO ANUAL'!AE26","v":0},{"$f":"'FLUXO ANUAL'!AF26","v":0}]
[null,"10 (-) Liquidação CCEE  - Compra de Energia",{"$f":"'FLUXO ANUAL'!C27","v":-11231189.345064661},{"$f":"'FLUXO ANUAL'!D27","v":-33609565.730000004},{"$f":"'FLUXO ANUAL'!E27","v":-13490629.705427602},{"$f":"'FLUXO ANUAL'!F27","v":-52289533.109999999},{"$f":"'FLUXO ANUAL'!G27","v":-24721819.050492264},{"$f":"'FLUXO ANUAL'!H27","v":-85899098.840000004},{"$f":"'FLUXO ANUAL'!I27","v":-4434835.4205010701},{"$f":"'FLUXO ANUAL'!J27","v":-11806862.34},{"$f":"'FLUXO ANUAL'!K27","v":0},{"$f":"'FLUXO ANUAL'!L27","v":0},{"$f":"'FLUXO ANUAL'!M27","v":-6796353.9245635904},{"$f":"'FLUXO ANUAL'!N27","v":-21802703.390000001},{"$f":"'FLUXO ANUAL'!O27","v":0},{"$f":"'FLUXO ANUAL'!P27","v":0},{"$f":"'FLUXO ANUAL'!Q27","v":0},{"$f":"'FLUXO ANUAL'!R27","v":0},{"$f":"'FLUXO ANUAL'!S27","v":0},{"$f":"'FLUXO ANUAL'!T27","v":0},{"$f":"'FLUXO ANUAL'!U27","v":0},{"$f":"'FLUXO ANUAL'!V27","v":0},{"$f":"'FLUXO ANUAL'!W27","v":0},{"$f":"'FLUXO ANUAL'!X27","v":0},{"$f":"'FLUXO ANUAL'!Y27","v":0},{"$f":"'FLUXO ANUAL'!Z27","v":0},{"$f":"'FLUXO ANUAL'!AA27","v":0},{"$f":"'FLUXO ANUAL'!AB27","v":0},{"$f":"'FLUXO ANUAL'!AC27","v":-7171176.4530203091},{"$f":"'FLUXO ANUAL'!AD27","v":-27613332.050000001},{"$f":"'FLUXO ANUAL'!AE27","v":-6319453.2524072938},{"$f":"'FLUXO ANUAL'!AF27","v":-24676201.059999999}]
[null,"11 (-) Multa de 2% Pelo Não Aporte das Garantias",{"$f":"'FLUXO ANUAL'!C28","v":-3127200.7356608482},{"$f":"'FLUXO ANUAL'!D28","v":-10032059.960000001},{"$f":"'FLUXO ANUAL'!E28","v":0},{"$f":"'FLUXO ANUAL'!F28","v":0},{"$f":"'FLUXO ANUAL'!G28","v":-3127200.7356608482},{"$f":"'FLUXO ANUAL'!H28","v":-10032059.960000001},{"$f":"'FLUXO ANUAL'!I28","v":0},{"$f":"'FLUXO ANUAL'!J28","v":0},{"$f":"'FLUXO ANUAL'!K28","v":0},{"$f":"'FLUXO ANUAL'!L28","v":0},{"$f":"'FLUXO ANUAL'!M28","v":-3127200.7356608482},{"$f":"'FLUXO ANUAL'!N28","v":-10032059.960000001},{"$f":"'FLUXO ANUAL'!O28","v":0},{"$f":"'FLUXO ANUAL'!P28","v":0},{"$f":"'FLUXO ANUAL'!Q28","v":0},{"$f":"'FLUXO ANUAL'!R28","v":0},{"$f":"'FLUXO ANUAL'!S28","v":0},{"$f":"'FLUXO ANUAL'!T28","v":0},{"$f":"'FLUXO ANUAL'!U28","v":0},{"$f":"'FLUXO ANUAL'!V28","v":0},{"$f":"'FLUXO ANUAL'!W28","v":0},{"$f":"'FLUXO ANUAL'!X28","v":0},{"$f":"'FLUXO ANUAL'!Y28","v":0},{"$f":"'FLUXO ANUAL'!Z28","v":0},{"$f":"'FLUXO ANUAL'!AA28","v":0},{"$f":"'FLUXO ANUAL'!AB28","v":0},{"$f":"'FLUXO ANUAL'!AC28","v":0},{"$f":"'FLUXO ANUAL'!AD28","v":0},{"$f":"'FLUXO ANUAL'!AE28","v":0},{"$f":"'FLUXO ANUAL'!AF28","v":0}]
[null,"12 (-) Potência Contratada",{"$f":"'FLUXO ANUAL'!C29","v":-1990695778.4000001},{"$f":"'FLUXO ANUAL'!D29","v":-6245005669.9300003},{"$f":"'FLUXO ANUAL'!E29","v":-974841575.79999995},{"$f":"'FLUXO ANUAL'!F29","v":-3799404526.4737201},{"$f":"'FLUXO ANUAL'!G29","v":-2965537354.2000003},{"$f":"'FLUXO ANUAL'!H29","v":-10044410196.403721},{"$f":"'FLUXO ANUAL'!I29","v":-242091448.59999999},{"$f":"'FLUXO ANUAL'!J29","v":-644520063.61000001},{"$f":"'FLUXO ANUAL'!K29","v":-242556308},{"$f":"'FLUXO ANUAL'!L29","v":-698125565.69000006},{"$f":"'FLUXO ANUAL'!M29","v":-247710192.80000001},{"$f":"'FLUXO ANUAL'!N29","v":-794654298.5},{"$f":"'FLUXO ANUAL'!O29","v":-248244931.40000001},{"$f":"'FLUXO ANUAL'!P29","v":-743146026.63999999},{"$f":"'FLUXO ANUAL'!Q29","v":-250747000},{"$f":"'FLUXO ANUAL'!R29","v":-797074563.60000002},{"$f":"'FLUXO ANUAL'!S29","v":-252993236.59999999},{"$f":"'FLUXO ANUAL'!T29","v":-784936815.88},{"$f":"'FLUXO ANUAL'!U29","v":-253137763.59999999},{"$f":"'FLUXO ANUAL'!V29","v":-859149569.65999997},{"$f":"'FLUXO ANUAL'!W29","v":-253214897.40000001},{"$f":"'FLUXO ANUAL'!X29","v":-923398766.35000002},{"$f":"'FLUXO ANUAL'!Y29","v":-251236516},{"$f":"'FLUXO ANUAL'!Z29","v":-998137554.41999996},{"$f":"'FLUXO ANUAL'!AA29","v":-243964694.80000001},{"$f":"'FLUXO ANUAL'!AB29","v":-941435360.76372015},{"$f":"'FLUXO ANUAL'!AC29","v":-241108597.19999999},{"$f":"'FLUXO ANUAL'!AD29","v":-928412764.38},{"$f":"'FLUXO ANUAL'!AE29","v":-238531767.80000001},{"$f":"'FLUXO ANUAL'!AF29","v":-931418846.90999997}]
[null,"13 (-) Energia Cedida Vinculada",{"$f":"'FLUXO ANUAL'!C30","v":-31194446.120000001},{"$f":"'FLUXO ANUAL'!D30","v":-98130195.329999983},{"$f":"'FLUXO ANUAL'!E30","v":-14947090.199999999},{"$f":"'FLUXO ANUAL'!F30","v":-58265071.150830001},{"$f":"'FLUXO ANUAL'!G30","v":-46141536.320000008},{"$f":"'FLUXO ANUAL'!H30","v":-156395266.48082995},{"$f":"'FLUXO ANUAL'!I30","v":-3763342.91},{"$f":"'FLUXO ANUAL'!J30","v":-10019147.83},{"$f":"'FLUXO ANUAL'!K30","v":-3399148.44},{"$f":"'FLUXO ANUAL'!L30","v":-9783429.0399999991},{"$f":"'FLUXO ANUAL'!M30","v":-3956438},{"$f":"'FLUXO ANUAL'!N30","v":-12692253.1},{"$f":"'FLUXO ANUAL'!O30","v":-3828810.97},{"$f":"'FLUXO ANUAL'!P30","v":-11461928.52},{"$f":"'FLUXO ANUAL'!Q30","v":-4044939.92},{"$f":"'FLUXO ANUAL'!R30","v":-12858055.02},{"$f":"'FLUXO ANUAL'!S30","v":-3918784.79},{"$f":"'FLUXO ANUAL'!T30","v":-12158421.689999999},{"$f":"'FLUXO ANUAL'!U30","v":-4149533.09},{"$f":"'FLUXO ANUAL'!V30","v":-14083515.310000001},{"$f":"'FLUXO ANUAL'!W30","v":-4133448},{"$f":"'FLUXO ANUAL'!X30","v":-15073444.82},{"$f":"'FLUXO ANUAL'!Y30","v":-3945609.9},{"$f":"'FLUXO ANUAL'!Z30","v":-15675513.57},{"$f":"'FLUXO ANUAL'!AA30","v":-3803564.7},{"$f":"'FLUXO ANUAL'!AB30","v":-14677575.820830002},{"$f":"'FLUXO ANUAL'!AC30","v":-3587436.9},{"$f":"'FLUXO ANUAL'!AD30","v":-13813784.529999999},{"$f":"'FLUXO ANUAL'!AE30","v":-3610478.7},{"$f":"'FLUXO ANUAL'!AF30","v":-14098197.23}]
[null,"14 (-) Ajuste do dólar - Energia Cedida Vinculada",{"$f":"'FLUXO ANUAL'!C31","v":-33638210.239999995},{"$f":"'FLUXO ANUAL'!D31","v":-109447806.27999999},{"$f":"'FLUXO ANUAL'!E31","v":-18445751.949999999},{"$f":"'FLUXO ANUAL'!F31","v":-59981896.200000003},{"$f":"'FLUXO ANUAL'!G31","v":-52083962.189999998},{"$f":"'FLUXO ANUAL'!H31","v":-169429702.47999999},{"$f":"'FLUXO ANUAL'!I31","v":-3822678.26},{"$f":"'FLUXO ANUAL'!J31","v":-12493659.359999999},{"$f":"'FLUXO ANUAL'!K31","v":-3822678.26},{"$f":"'FLUXO ANUAL'!L31","v":-12430585.17},{"$f":"'FLUXO ANUAL'!M31","v":-4273047.4000000004},{"$f":"'FLUXO ANUAL'!N31","v":-13895095.539999999},{"$f":"'FLUXO ANUAL'!O31","v":-4273047.4000000004},{"$f":"'FLUXO ANUAL'!P31","v":-13895095.539999999},{"$f":"'FLUXO ANUAL'!Q31","v":-4273047.4000000004},{"$f":"'FLUXO ANUAL'!R31","v":-13895095.539999999},{"$f":"'FLUXO ANUAL'!S31","v":-4273047.4000000004},{"$f":"'FLUXO ANUAL'!T31","v":-13895095.539999999},{"$f":"'FLUXO ANUAL'!U31","v":-4273047.4000000004},{"$f":"'FLUXO ANUAL'!V31","v":-13895095.539999999},{"$f":"'FLUXO ANUAL'!W31","v":-4627616.72},{"$f":"'FLUXO ANUAL'!X31","v":-15048084.050000001},{"$f":"'FLUXO ANUAL'!Y31","v":-4627616.72},{"$f":"'FLUXO ANUAL'!Z31","v":-15048084.050000001},{"$f":"'FLUXO ANUAL'!AA31","v":-4562901.7300000004},{"$f":"'FLUXO ANUAL'!AB31","v":-14837643.85},{"$f":"'FLUXO ANUAL'!AC31","v":-4627616.72},{"$f":"'FLUXO ANUAL'!AD31","v":-15048084.050000001},{"$f":"'FLUXO ANUAL'!AE31","v":-4627616.78},{"$f":"'FLUXO ANUAL'!AF31","v":-15048084.25}]
[null,"15 (-) Energia Cedida Não Vinculada ",{"$f":"'FLUXO ANUAL'!C32","v":-2107951.06},{"$f":"'FLUXO ANUAL'!D32","v":-6668209.5099999998},{"$f":"'FLUXO ANUAL'!E32","v":-3236825.38},{"$f":"'FLUXO ANUAL'!F32","v":-12527511.670980999},{"$f":"'FLUXO ANUAL'!G32","v":-5344776.4399999995},{"$f":"'FLUXO ANUAL'!H32","v":-19195721.180981003},{"$f":"'FLUXO ANUAL'!I32","v":-262909.19},{"$f":"'FLUXO ANUAL'!J32","v":-699943.14},{"$f":"'FLUXO ANUAL'!K32","v":-244491.87},{"$f":"'FLUXO ANUAL'!L32","v":-703696.5},{"$f":"'FLUXO ANUAL'!M32","v":-628500.57999999996},{"$f":"'FLUXO ANUAL'!N32","v":-2016229.86},{"$f":"'FLUXO ANUAL'!O32","v":-91381.56},{"$f":"'FLUXO ANUAL'!P32","v":-273559.84000000003},{"$f":"'FLUXO ANUAL'!Q32","v":-125808.16},{"$f":"'FLUXO ANUAL'!R32","v":-399918.98},{"$f":"'FLUXO ANUAL'!S32","v":0},{"$f":"'FLUXO ANUAL'!T32","v":0},{"$f":"'FLUXO ANUAL'!U32","v":-703940.16},{"$f":"'FLUXO ANUAL'!V32","v":-2389172.9},{"$f":"'FLUXO ANUAL'!W32","v":-50919.54},{"$f":"'FLUXO ANUAL'!X32","v":-185688.29},{"$f":"'FLUXO ANUAL'!Y32","v":-22756.06},{"$f":"'FLUXO ANUAL'!Z32","v":-90407.55},{"$f":"'FLUXO ANUAL'!AA32","v":-1139571.29},{"$f":"'FLUXO ANUAL'!AB32","v":-4397491.6509810006},{"$f":"'FLUXO ANUAL'!AC32","v":-1123384.44},{"$f":"'FLUXO ANUAL'!AD32","v":-4325704.12},{"$f":"'FLUXO ANUAL'!AE32","v":-951113.59},{"$f":"'FLUXO ANUAL'!AF32","v":-3713908.35}]
[null,"16 (-) Royalties Energia Cedida Não Vinculada",{"$f":"'FLUXO ANUAL'!C33","v":-13661577.639999999},{"$f":"'FLUXO ANUAL'!D33","v":-42983131.689999998},{"$f":"'FLUXO ANUAL'!E33","v":-12768741.59},{"$f":"'FLUXO ANUAL'!F33","v":-49495625.510045998},{"$f":"'FLUXO ANUAL'!G33","v":-26430319.23},{"$f":"'FLUXO ANUAL'!H33","v":-92478757.200046003},{"$f":"'FLUXO ANUAL'!I33","v":-1971193.61},{"$f":"'FLUXO ANUAL'!J33","v":-5247908.75},{"$f":"'FLUXO ANUAL'!K33","v":-1742353.24},{"$f":"'FLUXO ANUAL'!L33","v":-5014841.0999999996},{"$f":"'FLUXO ANUAL'!M33","v":-3296424.49},{"$f":"'FLUXO ANUAL'!N33","v":-10574929.76},{"$f":"'FLUXO ANUAL'!O33","v":-926709.8},{"$f":"'FLUXO ANUAL'!P33","v":-2774198.46},{"$f":"'FLUXO ANUAL'!Q33","v":-948447.99},{"$f":"'FLUXO ANUAL'!R33","v":-3014926.47},{"$f":"'FLUXO ANUAL'!S33","v":-465646.29},{"$f":"'FLUXO ANUAL'!T33","v":-1444714.18},{"$f":"'FLUXO ANUAL'!U33","v":-3199800.08},{"$f":"'FLUXO ANUAL'!V33","v":-10860121.470000001},{"$f":"'FLUXO ANUAL'!W33","v":-1111002.1399999999},{"$f":"'FLUXO ANUAL'!X33","v":-4051491.5},{"$f":"'FLUXO ANUAL'!Y33","v":-868993.88},{"$f":"'FLUXO ANUAL'!Z33","v":-3452425.79},{"$f":"'FLUXO ANUAL'!AA33","v":-4333182.1399999997},{"$f":"'FLUXO ANUAL'!AB33","v":-16721316.560046},{"$f":"'FLUXO ANUAL'!AC33","v":-4133617.77},{"$f":"'FLUXO ANUAL'!AD33","v":-15916908.59},{"$f":"'FLUXO ANUAL'!AE33","v":-3432947.8},{"$f":"'FLUXO ANUAL'!AF33","v":-13404974.57}]
[null,"17 (-) Ressarcimento Encargos Supervisão Não Vinculado ",{"$f":"'FLUXO ANUAL'!C34","v":-1050890.5900000001},{"$f":"'FLUXO ANUAL'!D34","v":-3306394.7399999998},{"$f":"'FLUXO ANUAL'!E34","v":-982210.8899999999},{"$f":"'FLUXO ANUAL'!F34","v":-3807355.79813},{"$f":"'FLUXO ANUAL'!G34","v":-2033101.4799999997},{"$f":"'FLUXO ANUAL'!H34","v":-7113750.5381300002},{"$f":"'FLUXO ANUAL'!I34","v":-151630.28},{"$f":"'FLUXO ANUAL'!J34","v":-403685.29},{"$f":"'FLUXO ANUAL'!K34","v":-134027.17000000001},{"$f":"'FLUXO ANUAL'!L34","v":-385757},{"$f":"'FLUXO ANUAL'!M34","v":-253571.11},{"$f":"'FLUXO ANUAL'!N34","v":-813456.12},{"$f":"'FLUXO ANUAL'!O34","v":-71285.37},{"$f":"'FLUXO ANUAL'!P34","v":-213399.88},{"$f":"'FLUXO ANUAL'!Q34","v":-72957.539999999994},{"$f":"'FLUXO ANUAL'!R34","v":-231917.43},{"$f":"'FLUXO ANUAL'!S34","v":-35818.949999999997},{"$f":"'FLUXO ANUAL'!T34","v":-111131.87},{"$f":"'FLUXO ANUAL'!U34","v":-246138.47},{"$f":"'FLUXO ANUAL'!V34","v":-835393.97},{"$f":"'FLUXO ANUAL'!W34","v":-85461.7},{"$f":"'FLUXO ANUAL'!X34","v":-311653.18},{"$f":"'FLUXO ANUAL'!Y34","v":-66845.679999999993},{"$f":"'FLUXO ANUAL'!Z34","v":-265571.20000000001},{"$f":"'FLUXO ANUAL'!AA34","v":-333321.7},{"$f":"'FLUXO ANUAL'!AB34","v":-1286255.1081300001},{"$f":"'FLUXO ANUAL'!AC34","v":-317970.59999999998},{"$f":"'FLUXO ANUAL'!AD34","v":-1224377.5900000001},{"$f":"'FLUXO ANUAL'!AE34","v":-264072.90999999997},{"$f":"'FLUXO ANUAL'!AF34","v":-1031151.9}]
[null,"18 (-) Ajuste do dólar Energia Cedida Não Vinculada",{"$f":"'FLUXO ANUAL'!C35","v":-3382723.5199999996},{"$f":"'FLUXO ANUAL'!D35","v":-11013221.799999999},{"$f":"'FLUXO ANUAL'!E35","v":-64714.99},{"$f":"'FLUXO ANUAL'!F35","v":-210440.2},{"$f":"'FLUXO ANUAL'!G35","v":-3447438.51},{"$f":"'FLUXO ANUAL'!H35","v":-11223661.999999998},{"$f":"'FLUXO ANUAL'!I35","v":-804938.46},{"$f":"'FLUXO ANUAL'!J35","v":-2630780.37},{"$f":"'FLUXO ANUAL'!K35","v":-804938.46},{"$f":"'FLUXO ANUAL'!L35","v":-2617498.88},{"$f":"'FLUXO ANUAL'!M35","v":-354569.32},{"$f":"'FLUXO ANUAL'!N35","v":-1152988.51},{"$f":"'FLUXO ANUAL'!O35","v":-354569.32},{"$f":"'FLUXO ANUAL'!P35","v":-1152988.51},{"$f":"'FLUXO ANUAL'!Q35","v":-354569.32},{"$f":"'FLUXO ANUAL'!R35","v":-1152988.51},{"$f":"'FLUXO ANUAL'!S35","v":-354569.32},{"$f":"'FLUXO ANUAL'!T35","v":-1152988.51},{"$f":"'FLUXO ANUAL'!U35","v":-354569.32},{"$f":"'FLUXO ANUAL'!V35","v":-1152988.51},{"$f":"'FLUXO ANUAL'!W35","v":0},{"$f":"'FLUXO ANUAL'!X35","v":0},{"$f":"'FLUXO ANUAL'!Y35","v":0},{"$f":"'FLUXO ANUAL'!Z35","v":0},{"$f":"'FLUXO ANUAL'!AA35","v":-64714.99},{"$f":"'FLUXO ANUAL'!AB35","v":-210440.2},{"$f":"'FLUXO ANUAL'!AC35","v":0},{"$f":"'FLUXO ANUAL'!AD35","v":0},{"$f":"'FLUXO ANUAL'!AE35","v":0},{"$f":"'FLUXO ANUAL'!AF35","v":0}]
[null,"19 (-) Ajuste do dólar - Royalties ",{"$f":"'FLUXO ANUAL'!C36","v":-15173512.799999999},{"$f":"'FLUXO ANUAL'!D36","v":-49372524.329999998},{"$f":"'FLUXO ANUAL'!E36","v":-7586756.4700000007},{"$f":"'FLUXO ANUAL'!F36","v":-24670614.699999999},{"$f":"'FLUXO ANUAL'!G36","v":-22760269.270000003},{"$f":"'FLUXO ANUAL'!H36","v":-74043139.030000001},{"$f":"'FLUXO ANUAL'!I36","v":-1896689.1},{"$f":"'FLUXO ANUAL'!J36","v":-6198948.9900000002},{"$f":"'FLUXO ANUAL'!K36","v":-1896689.1},{"$f":"'FLUXO ANUAL'!L36","v":-6167653.6200000001},{"$f":"'FLUXO ANUAL'!M36","v":-1896689.1},{"$f":"'FLUXO ANUAL'!N36","v":-6167653.6200000001},{"$f":"'FLUXO ANUAL'!O36","v":-1896689.1},{"$f":"'FLUXO ANUAL'!P36","v":-6167653.6200000001},{"$f":"'FLUXO ANUAL'!Q36","v":-1896689.1},{"$f":"'FLUXO ANUAL'!R36","v":-6167653.6200000001},{"$f":"'FLUXO ANUAL'!S36","v":-1896689.1},{"$f":"'FLUXO ANUAL'!T36","v":-6167653.6200000001},{"$f":"'FLUXO ANUAL'!U36","v":-1896689.1},{"$f":"'FLUXO ANUAL'!V36","v":-6167653.6200000001},{"$f":"'FLUXO ANUAL'!W36","v":-1896689.1},{"$f":"'FLUXO ANUAL'!X36","v":-6167653.6200000001},{"$f":"'FLUXO ANUAL'!Y36","v":-1896689.1},{"$f":"'FLUXO ANUAL'!Z36","v":-6167653.6200000001},{"$f":"'FLUXO ANUAL'!AA36","v":-1896689.1},{"$f":"'FLUXO ANUAL'!AB36","v":-6167653.6200000001},{"$f":"'FLUXO ANUAL'!AC36","v":-1896689.1},{"$f":"'FLUXO ANUAL'!AD36","v":-6167653.6200000001},{"$f":"'FLUXO ANUAL'!AE36","v":-1896689.17},{"$f":"'FLUXO ANUAL'!AF36","v":-6167653.8399999999}]
[null,"20 (-) Ajuste do dólar - Ressarcimento de Encargos ",{"$f":"'FLUXO ANUAL'!C37","v":-1167193.28},{"$f":"'FLUXO ANUAL'!D37","v":-3797886.4500000007},{"$f":"'FLUXO ANUAL'!E37","v":-583596.65999999992},{"$f":"'FLUXO ANUAL'!F37","v":-1897739.6199999999},{"$f":"'FLUXO ANUAL'!G37","v":-1750789.9399999997},{"$f":"'FLUXO ANUAL'!H37","v":-5695626.0700000003},{"$f":"'FLUXO ANUAL'!I37","v":-145899.16},{"$f":"'FLUXO ANUAL'!J37","v":-476842.22},{"$f":"'FLUXO ANUAL'!K37","v":-145899.16},{"$f":"'FLUXO ANUAL'!L37","v":-474434.89},{"$f":"'FLUXO ANUAL'!M37","v":-145899.16},{"$f":"'FLUXO ANUAL'!N37","v":-474434.89},{"$f":"'FLUXO ANUAL'!O37","v":-145899.16},{"$f":"'FLUXO ANUAL'!P37","v":-474434.89},{"$f":"'FLUXO ANUAL'!Q37","v":-145899.16},{"$f":"'FLUXO ANUAL'!R37","v":-474434.89},{"$f":"'FLUXO ANUAL'!S37","v":-145899.16},{"$f":"'FLUXO ANUAL'!T37","v":-474434.89},{"$f":"'FLUXO ANUAL'!U37","v":-145899.16},{"$f":"'FLUXO ANUAL'!V37","v":-474434.89},{"$f":"'FLUXO ANUAL'!W37","v":-145899.16},{"$f":"'FLUXO ANUAL'!X37","v":-474434.89},{"$f":"'FLUXO ANUAL'!Y37","v":-145899.16},{"$f":"'FLUXO ANUAL'!Z37","v":-474434.89},{"$f":"'FLUXO ANUAL'!AA37","v":-145899.16},{"$f":"'FLUXO ANUAL'!AB37","v":-474434.89},{"$f":"'FLUXO ANUAL'!AC37","v":-145899.16},{"$f":"'FLUXO ANUAL'!AD37","v":-474434.89},{"$f":"'FLUXO ANUAL'!AE37","v":-145899.18},{"$f":"'FLUXO ANUAL'!AF37","v":-474434.95}]
[null,"21 (-) Juros da Potência Contratada, Energias Cedidas, Royalties,\n          Ressarcimento e dos Ajustes do Dólar ",{"$f":"'FLUXO ANUAL'!C38","v":-6772.95},{"$f":"'FLUXO ANUAL'!D38","v":-18232.11},{"$f":"'FLUXO ANUAL'!E38","v":0},{"$f":"'FLUXO ANUAL'!F38","v":0},{"$f":"'FLUXO ANUAL'!G38","v":-6772.95},{"$f":"'FLUXO ANUAL'!H38","v":-18232.11},{"$f":"'FLUXO ANUAL'!I38","v":-6772.95},{"$f":"'FLUXO ANUAL'!J38","v":-18232.11},{"$f":"'FLUXO ANUAL'!K38","v":0},{"$f":"'FLUXO ANUAL'!L38","v":0},{"$f":"'FLUXO ANUAL'!M38","v":0},{"$f":"'FLUXO ANUAL'!N38","v":0},{"$f":"'FLUXO ANUAL'!O38","v":0},{"$f":"'FLUXO ANUAL'!P38","v":0},{"$f":"'FLUXO ANUAL'!Q38","v":0},{"$f":"'FLUXO ANUAL'!R38","v":0},{"$f":"'FLUXO ANUAL'!S38","v":0},{"$f":"'FLUXO ANUAL'!T38","v":0},{"$f":"'FLUXO ANUAL'!U38","v":0},{"$f":"'FLUXO ANUAL'!V38","v":0},{"$f":"'FLUXO ANUAL'!W38","v":0},{"$f":"'FLUXO ANUAL'!X38","v":0},{"$f":"'FLUXO ANUAL'!Y38","v":0},{"$f":"'FLUXO ANUAL'!Z38","v":0},{"$f":"'FLUXO ANUAL'!AA38","v":0},{"$f":"'FLUXO ANUAL'!AB38","v":0},{"$f":"'FLUXO ANUAL'!AC38","v":0},{"$f":"'FLUXO ANUAL'!AD38","v":0},{"$f":"'FLUXO ANUAL'!AE38","v":0},{"$f":"'FLUXO ANUAL'!AF38","v":0}]
[null,"22 (+/-)  Juros Pagos  dos Empréstimos Obtidos por ITAIPU  Junto à \n             ELETROBRAS e juros por atraso de transferência da CCEE",{"$f":"'FLUXO ANUAL'!C39","v":-56792946.037769899},{"$f":"'FLUXO ANUAL'!D39","v":-181894995.53999999},{"$f":"'FLUXO ANUAL'!E39","v":-54303294.480442584},{"$f":"'FLUXO ANUAL'!F39","v":-210817560.76999998},{"$f":"'FLUXO ANUAL'!G39","v":-111096240.51821248},{"$f":"'FLUXO ANUAL'!H39","v":-392712556.31},{"$f":"'FLUXO ANUAL'!I39","v":-6876898.1144123506},{"$f":"'FLUXO ANUAL'!J39","v":-18308365.850000001},{"$f":"'FLUXO ANUAL'!K39","v":-500653.86352581473},{"$f":"'FLUXO ANUAL'!L39","v":-1440981.95},{"$f":"'FLUXO ANUAL'!M39","v":-5532551.2437655861},{"$f":"'FLUXO ANUAL'!N39","v":-17748424.390000001},{"$f":"'FLUXO ANUAL'!O39","v":-5869220.6707642972},{"$f":"'FLUXO ANUAL'!P39","v":-17570099},{"$f":"'FLUXO ANUAL'!Q39","v":-5247094.5167987924},{"$f":"'FLUXO ANUAL'!R39","v":-16679464.050000001},{"$f":"'FLUXO ANUAL'!S39","v":-11890645.935666861},{"$f":"'FLUXO ANUAL'!T39","v":-36891918.079999998},{"$f":"'FLUXO ANUAL'!U39","v":-11366583.099587508},{"$f":"'FLUXO ANUAL'!V39","v":-38578183.039999999},{"$f":"'FLUXO ANUAL'!W39","v":-9509298.5932486895},{"$f":"'FLUXO ANUAL'!X39","v":-34677559.18},{"$f":"'FLUXO ANUAL'!Y39","v":-9891188.4517606795},{"$f":"'FLUXO ANUAL'!Z39","v":-39296702.600000001},{"$f":"'FLUXO ANUAL'!AA39","v":-10687301.492653346},{"$f":"'FLUXO ANUAL'!AB39","v":-41241227.729999997},{"$f":"'FLUXO ANUAL'!AC39","v":-25996057.422219913},{"$f":"'FLUXO ANUAL'!AD39","v":-100100418.70999999},{"$f":"'FLUXO ANUAL'!AE39","v":-7728747.1138086459},{"$f":"'FLUXO ANUAL'!AF39","v":-30179211.73}]
[null,"23 (-) Ativo Regulatório - Tesouro",{"$f":"'FLUXO ANUAL'!C40","v":-135500669.84},{"$f":"'FLUXO ANUAL'!D40","v":-419317438.62},{"$f":"'FLUXO ANUAL'!E40","v":-71005740},{"$f":"'FLUXO ANUAL'!F40","v":-273475057.32999998},{"$f":"'FLUXO ANUAL'!G40","v":-206506409.84},{"$f":"'FLUXO ANUAL'!H40","v":-692792495.95000005},{"$f":"'FLUXO ANUAL'!I40","v":-14496029.85},{"$f":"'FLUXO ANUAL'!J40","v":-38045313.539999999},{"$f":"'FLUXO ANUAL'!K40","v":-14496029.99},{"$f":"'FLUXO ANUAL'!L40","v":-41168725.170000002},{"$f":"'FLUXO ANUAL'!M40","v":-17751435},{"$f":"'FLUXO ANUAL'!N40","v":-56756663.130000003},{"$f":"'FLUXO ANUAL'!O40","v":-17751435},{"$f":"'FLUXO ANUAL'!P40","v":-53482115.090000004},{"$f":"'FLUXO ANUAL'!Q40","v":-17751435},{"$f":"'FLUXO ANUAL'!R40","v":-54460219.159999996},{"$f":"'FLUXO ANUAL'!S40","v":-17751435},{"$f":"'FLUXO ANUAL'!T40","v":-55129448.259999998},{"$f":"'FLUXO ANUAL'!U40","v":-17751435},{"$f":"'FLUXO ANUAL'!V40","v":-57659725.880000003},{"$f":"'FLUXO ANUAL'!W40","v":-17751435},{"$f":"'FLUXO ANUAL'!X40","v":-62615228.390000001},{"$f":"'FLUXO ANUAL'!Y40","v":-17751435},{"$f":"'FLUXO ANUAL'!Z40","v":-69859589.010000005},{"$f":"'FLUXO ANUAL'!AA40","v":-17751435},{"$f":"'FLUXO ANUAL'!AB40","v":-68478527.379999995},{"$f":"'FLUXO ANUAL'!AC40","v":-17751435},{"$f":"'FLUXO ANUAL'!AD40","v":-67010483.700000003},{"$f":"'FLUXO ANUAL'!AE40","v":-17751435},{"$f":"'FLUXO ANUAL'!AF40","v":-68126457.239999995}]
[null,"24 (-) Ativo Regulatório - Eletrobrás",{"$f":"'FLUXO ANUAL'!C41","v":-117384923.52},{"$f":"'FLUXO ANUAL'!D41","v":-360613445.20999998},{"$f":"'FLUXO ANUAL'!E41","v":-57689391.119999997},{"$f":"'FLUXO ANUAL'!F41","v":-222187805.43000001},{"$f":"'FLUXO ANUAL'!G41","v":-175074314.63999999},{"$f":"'FLUXO ANUAL'!H41","v":-582801250.63999999},{"$f":"'FLUXO ANUAL'!I41","v":-15425418.359999999},{"$f":"'FLUXO ANUAL'!J41","v":-40484524.670000002},{"$f":"'FLUXO ANUAL'!K41","v":-15425418.48},{"$f":"'FLUXO ANUAL'!L41","v":-43808188.490000002},{"$f":"'FLUXO ANUAL'!M41","v":-14422347.779999999},{"$f":"'FLUXO ANUAL'!N41","v":-46112572.549999997},{"$f":"'FLUXO ANUAL'!O41","v":-14422347.779999999},{"$f":"'FLUXO ANUAL'!P41","v":-43452130.140000001},{"$f":"'FLUXO ANUAL'!Q41","v":-14422347.779999999},{"$f":"'FLUXO ANUAL'!R41","v":-44246801.5},{"$f":"'FLUXO ANUAL'!S41","v":-14422347.779999999},{"$f":"'FLUXO ANUAL'!T41","v":-44790524.010000005},{"$f":"'FLUXO ANUAL'!U41","v":-14422347.780000001},{"$f":"'FLUXO ANUAL'!V41","v":-46846275.780000001},{"$f":"'FLUXO ANUAL'!W41","v":-14422347.779999999},{"$f":"'FLUXO ANUAL'!X41","v":-50872428.07},{"$f":"'FLUXO ANUAL'!Y41","v":-14422347.779999999},{"$f":"'FLUXO ANUAL'!Z41","v":-56758188.200000003},{"$f":"'FLUXO ANUAL'!AA41","v":-14422347.779999999},{"$f":"'FLUXO ANUAL'!AB41","v":-55636129.540000007},{"$f":"'FLUXO ANUAL'!AC41","v":-14422347.779999999},{"$f":"'FLUXO ANUAL'!AD41","v":-54443401.379999995},{"$f":"'FLUXO ANUAL'!AE41","v":-14422347.779999999},{"$f":"'FLUXO ANUAL'!AF41","v":-55350086.310000002}]
[null,"25 (-) Custos Administrativos ",{"$f":"'FLUXO ANUAL'!C42","v":-624351.31277823786},{"$f":"'FLUXO ANUAL'!D42","v":-1940053.4399999997},{"$f":"'FLUXO ANUAL'!E42","v":-248967.38752354504},{"$f":"'FLUXO ANUAL'!F42","v":-970026.72},{"$f":"'FLUXO ANUAL'!G42","v":-873318.70030178281},{"$f":"'FLUXO ANUAL'!H42","v":-2910080.16},{"$f":"'FLUXO ANUAL'!I42","v":-91089.16350523982},{"$f":"'FLUXO ANUAL'!J42","v":-242506.68},{"$f":"'FLUXO ANUAL'!K42","v":-84256.368563685639},{"$f":"'FLUXO ANUAL'!L42","v":-242506.68},{"$f":"'FLUXO ANUAL'!M42","v":-75594.351620947622},{"$f":"'FLUXO ANUAL'!N42","v":-242506.68},{"$f":"'FLUXO ANUAL'!O42","v":-81008.377872795303},{"$f":"'FLUXO ANUAL'!P42","v":-242506.68},{"$f":"'FLUXO ANUAL'!Q42","v":-76288.750471876177},{"$f":"'FLUXO ANUAL'!R42","v":-242506.68},{"$f":"'FLUXO ANUAL'!S42","v":-78162.405724231299},{"$f":"'FLUXO ANUAL'!T42","v":-242506.68},{"$f":"'FLUXO ANUAL'!U42","v":-71451.585150265164},{"$f":"'FLUXO ANUAL'!V42","v":-242506.68},{"$f":"'FLUXO ANUAL'!W42","v":-66500.309869196804},{"$f":"'FLUXO ANUAL'!X42","v":-242506.68},{"$f":"'FLUXO ANUAL'!Y42","v":-61040.217473382159},{"$f":"'FLUXO ANUAL'!Z42","v":-242506.68},{"$f":"'FLUXO ANUAL'!AA42","v":-62843.473528725801},{"$f":"'FLUXO ANUAL'!AB42","v":-242506.68},{"$f":"'FLUXO ANUAL'!AC42","v":-62978.933153274811},{"$f":"'FLUXO ANUAL'!AD42","v":-242506.68},{"$f":"'FLUXO ANUAL'!AE42","v":-62104.763368162261},{"$f":"'FLUXO ANUAL'!AF42","v":-242506.68}]
[null,"NATUREZA DAS CONTAS",{"$f":"'FLUXO ANUAL'!C43","v":"VALORES REALIZADOS DE JANEIRO A AGOSTO/2015                   EM US$"},{"$f":"'FLUXO ANUAL'!D43","v":"VALORES REALIZADOS DE JANEIRO A AGOSTO/2015                 EM R$"},{"$f":"'FLUXO ANUAL'!E43","v":"VALORES PREVISTOS DE SETEMBRO A DEZEMBRO/2015                   EM US$"},{"$f":"'FLUXO ANUAL'!F43","v":"VALORES PREVISTOS DE SETEMBRO A DEZEMBRO/2015                   EM R$"},{"$f":"'FLUXO ANUAL'!G43","v":"TOTAIS DE JANEIRO A DEZEMBRO/2015                   EM US$"},{"$f":"'FLUXO ANUAL'!H43","v":"TOTAIS DE JANEIRO A DEZEMBRO/2015                  EM R$"},{"$f":"'FLUXO ANUAL'!I43","v":"JANEIRO/2015                   EM US$"},{"$f":"'FLUXO ANUAL'!J43","v":"JANEIRO/2015                   EM R$"},{"$f":"'FLUXO ANUAL'!K43","v":"FEVEREIRO/2015                   EM US$"},{"$f":"'FLUXO ANUAL'!L43","v":"FEVEREIRO/2015                   EM R$"},{"$f":"'FLUXO ANUAL'!M43","v":"MARÇO/2015                   EM US$"},{"$f":"'FLUXO ANUAL'!N43","v":"MARÇO/2015                   EM R$"},{"$f":"'FLUXO ANUAL'!O43","v":"ABRIL/2015                   EM US$"},{"$f":"'FLUXO ANUAL'!P43","v":"ABRIL/2015                   EM R$"},{"$f":"'FLUXO ANUAL'!Q43","v":"MAIO/2015                          EM US$"},{"$f":"'FLUXO ANUAL'!R43","v":"MAIO/2015                            EM R$"},{"$f":"'FLUXO ANUAL'!S43","v":"JUNHO/2015                   EM US$"},{"$f":"'FLUXO ANUAL'!T43","v":"JUNHO/2015                   EM R$"},{"$f":"'FLUXO ANUAL'!U43","v":"JULHO/2015                   EM US$"},{"$f":"'FLUXO ANUAL'!V43","v":"JULHO/2015                   EM R$"},{"$f":"'FLUXO ANUAL'!W43","v":"AGOSTO/2015                   EM US$"},{"$f":"'FLUXO ANUAL'!X43","v":"AGOSTO/2015                   EM R$"},{"$f":"'FLUXO ANUAL'!Y43","v":"SETEMBRO/2015                   EM US$"},{"$f":"'FLUXO ANUAL'!Z43","v":"SETEMBRO/2015                   EM R$"},{"$f":"'FLUXO ANUAL'!AA43","v":"OUTUBRO/2015                   EM US$"},{"$f":"'FLUXO ANUAL'!AB43","v":"OUTUBRO/2015                   EM R$"},{"$f":"'FLUXO ANUAL'!AC43","v":"NOVEMBRO/2015                   EM US$"},{"$f":"'FLUXO ANUAL'!AD43","v":"NOVEMBRO/2015                   EM R$"},{"$f":"'FLUXO ANUAL'!AE43","v":"DEZEMBRO/2015                   EM US$"},{"$f":"'FLUXO ANUAL'!AF43","v":"DEZEMBRO/2015                   EM R$"}]
[null,null,{"$f":"'FLUXO ANUAL'!C44","v":0},{"$f":"'FLUXO ANUAL'!D44","v":0},{"$f":"'FLUXO ANUAL'!E44","v":0},{"$f":"'FLUXO ANUAL'!F44","v":0},{"$f":"'FLUXO ANUAL'!G44","v":0},{"$f":"'FLUXO ANUAL'!H44","v":0},{"$f":"'FLUXO ANUAL'!I44","v":0},{"$f":"'FLUXO ANUAL'!J44","v":0},{"$f":"'FLUXO ANUAL'!K44","v":0},{"$f":"'FLUXO ANUAL'!L44","v":0},{"$f":"'FLUXO ANUAL'!M44","v":0},{"$f":"'FLUXO ANUAL'!N44","v":0},{"$f":"'FLUXO ANUAL'!O44","v":0},{"$f":"'FLUXO ANUAL'!P44","v":0},{"$f":"'FLUXO ANUAL'!Q44","v":0},{"$f":"'FLUXO ANUAL'!R44","v":0},{"$f":"'FLUXO ANUAL'!S44","v":0},{"$f":"'FLUXO ANUAL'!T44","v":0},{"$f":"'FLUXO ANUAL'!U44","v":0},{"$f":"'FLUXO ANUAL'!V44","v":0},{"$f":"'FLUXO ANUAL'!W44","v":0},{"$f":"'FLUXO ANUAL'!X44","v":0},{"$f":"'FLUXO ANUAL'!Y44","v":0},{"$f":"'FLUXO ANUAL'!Z44","v":0},{"$f":"'FLUXO ANUAL'!AA44","v":0},{"$f":"'FLUXO ANUAL'!AB44","v":0},{"$f":"'FLUXO ANUAL'!AC44","v":0},{"$f":"'FLUXO ANUAL'!AD44","v":0},{"$f":"'FLUXO ANUAL'!AE44","v":0},{"$f":"'FLUXO ANUAL'!AF44","v":0}]
[null,null,{"$f":"'FLUXO ANUAL'!C45","v":0},{"$f":"'FLUXO ANUAL'!D45","v":0},{"$f":"'FLUXO ANUAL'!E45","v":0},{"$f":"'FLUXO ANUAL'!F45","v":0},{"$f":"'FLUXO ANUAL'!G45","v":0},{"$f":"'FLUXO ANUAL'!H45","v":0},{"$f":"'FLUXO ANUAL'!I45","v":0},{"$f":"'FLUXO ANUAL'!J45","v":0},{"$f":"'FLUXO ANUAL'!K45","v":0},{"$f":"'FLUXO ANUAL'!L45","v":0},{"$f":"'FLUXO ANUAL'!M45","v":0},{"$f":"'FLUXO ANUAL'!N45","v":0},{"$f":"'FLUXO ANUAL'!O45","v":0},{"$f":"'FLUXO ANUAL'!P45","v":0},{"$f":"'FLUXO ANUAL'!Q45","v":0},{"$f":"'FLUXO ANUAL'!R45","v":0},{"$f":"'FLUXO ANUAL'!S45","v":0},{"$f":"'FLUXO ANUAL'!T45","v":0},{"$f":"'FLUXO ANUAL'!U45","v":0},{"$f":"'FLUXO ANUAL'!V45","v":0},{"$f":"'FLUXO ANUAL'!W45","v":0},{"$f":"'FLUXO ANUAL'!X45","v":0},{"$f":"'FLUXO ANUAL'!Y45","v":0},{"$f":"'FLUXO ANUAL'!Z45","v":0},{"$f":"'FLUXO ANUAL'!AA45","v":0},{"$f":"'FLUXO ANUAL'!AB45","v":0},{"$f":"'FLUXO ANUAL'!AC45","v":0},{"$f":"'FLUXO ANUAL'!AD45","v":0},{"$f":"'FLUXO ANUAL'!AE45","v":0},{"$f":"'FLUXO ANUAL'!AF45","v":0}]
[null,null,{"$f":"'FLUXO ANUAL'!C46","v":0},{"$f":"'FLUXO ANUAL'!D46","v":0},{"$f":"'FLUXO ANUAL'!E46","v":0},{"$f":"'FLUXO ANUAL'!F46","v":0},{"$f":"'FLUXO ANUAL'!G46","v":0},{"$f":"'FLUXO ANUAL'!H46","v":0},{"$f":"'FLUXO ANUAL'!I46","v":0},{"$f":"'FLUXO ANUAL'!J46","v":0},{"$f":"'FLUXO ANUAL'!K46","v":0},{"$f":"'FLUXO ANUAL'!L46","v":0},{"$f":"'FLUXO ANUAL'!M46","v":0},{"$f":"'FLUXO ANUAL'!N46","v":0},{"$f":"'FLUXO ANUAL'!O46","v":0},{"$f":"'FLUXO ANUAL'!P46","v":0},{"$f":"'FLUXO ANUAL'!Q46","v":0},{"$f":"'FLUXO ANUAL'!R46","v":0},{"$f":"'FLUXO ANUAL'!S46","v":0},{"$f":"'FLUXO ANUAL'!T46","v":0},{"$f":"'FLUXO ANUAL'!U46","v":0},{"$f":"'FLUXO ANUAL'!V46","v":0},{"$f":"'FLUXO ANUAL'!W46","v":0},{"$f":"'FLUXO ANUAL'!X46","v":0},{"$f":"'FLUXO ANUAL'!Y46","v":0},{"$f":"'FLUXO ANUAL'!Z46","v":0},{"$f":"'FLUXO ANUAL'!AA46","v":0},{"$f":"'FLUXO ANUAL'!AB46","v":0},{"$f":"'FLUXO ANUAL'!AC46","v":0},{"$f":"'FLUXO ANUAL'!AD46","v":0},{"$f":"'FLUXO ANUAL'!AE46","v":0},{"$f":"'FLUXO ANUAL'!AF46","v":0}]
[null,"26 (-) Contribuição Anual a CCEE",{"$f":"'FLUXO ANUAL'!C47","v":-1348392.4565994467},{"$f":"'FLUXO ANUAL'!D47","v":-4185427.07},{"$f":"'FLUXO ANUAL'!E47","v":-521487.54348928714},{"$f":"'FLUXO ANUAL'!F47","v":-2031907.25},{"$f":"'FLUXO ANUAL'!G47","v":-1869880.0000887336},{"$f":"'FLUXO ANUAL'!H47","v":-6217334.3200000003},{"$f":"'FLUXO ANUAL'!I47","v":-200899.21120835366},{"$f":"'FLUXO ANUAL'!J47","v":-534853.97},{"$f":"'FLUXO ANUAL'!K47","v":-183439.29191856019},{"$f":"'FLUXO ANUAL'!L47","v":-527974.97},{"$f":"'FLUXO ANUAL'!M47","v":-163772.48129675808},{"$f":"'FLUXO ANUAL'!N47","v":-525382.12},{"$f":"'FLUXO ANUAL'!O47","v":-174482.81333511492},{"$f":"'FLUXO ANUAL'!P47","v":-522331.75},{"$f":"'FLUXO ANUAL'!Q47","v":-167559.68919088965},{"$f":"'FLUXO ANUAL'!R47","v":-532638.74},{"$f":"'FLUXO ANUAL'!S47","v":-166396.5029330239},{"$f":"'FLUXO ANUAL'!T47","v":-516261.79},{"$f":"'FLUXO ANUAL'!U47","v":-151476.82380671773},{"$f":"'FLUXO ANUAL'!V47","v":-514112.34},{"$f":"'FLUXO ANUAL'!W47","v":-140365.64291002825},{"$f":"'FLUXO ANUAL'!X47","v":-511871.39},{"$f":"'FLUXO ANUAL'!Y47","v":-128840.26781444285},{"$f":"'FLUXO ANUAL'!Z47","v":-511869.5},{"$f":"'FLUXO ANUAL'!AA47","v":-131999.89634351758},{"$f":"'FLUXO ANUAL'!AB47","v":-509374.4},{"$f":"'FLUXO ANUAL'!AC47","v":-131227.6164753545},{"$f":"'FLUXO ANUAL'!AD47","v":-505305.06},{"$f":"'FLUXO ANUAL'!AE47","v":-129419.76285597213},{"$f":"'FLUXO ANUAL'!AF47","v":-505358.29}]
[null,"27 (-) Contribuição ao O N S",{"$f":"'FLUXO ANUAL'!C48","v":-96389.525311213743},{"$f":"'FLUXO ANUAL'!D48","v":-300049.93},{"$f":"'FLUXO ANUAL'!E48","v":-40337.19616649727},{"$f":"'FLUXO ANUAL'!F48","v":-157161.78},{"$f":"'FLUXO ANUAL'!G48","v":-136726.72147771102},{"$f":"'FLUXO ANUAL'!H48","v":-457211.70999999996},{"$f":"'FLUXO ANUAL'!I48","v":-13922.003530781656},{"$f":"'FLUXO ANUAL'!J48","v":-37064.550000000003},{"$f":"'FLUXO ANUAL'!K48","v":-12844.666805642413},{"$f":"'FLUXO ANUAL'!L48","v":-36969.519999999997},{"$f":"'FLUXO ANUAL'!M48","v":-11494.538653366584},{"$f":"'FLUXO ANUAL'!N48","v":-36874.480000000003},{"$f":"'FLUXO ANUAL'!O48","v":-12301.897381079638},{"$f":"'FLUXO ANUAL'!P48","v":-36826.959999999999},{"$f":"'FLUXO ANUAL'!Q48","v":-11585.176796275324},{"$f":"'FLUXO ANUAL'!R48","v":-36826.959999999999},{"$f":"'FLUXO ANUAL'!S48","v":-11854.399535873139},{"$f":"'FLUXO ANUAL'!T48","v":-36779.46},{"$f":"'FLUXO ANUAL'!U48","v":-11595.167943429582},{"$f":"'FLUXO ANUAL'!V48","v":-39354},{"$f":"'FLUXO ANUAL'!W48","v":-10791.674664765404},{"$f":"'FLUXO ANUAL'!X48","v":-39354},{"$f":"'FLUXO ANUAL'!Y48","v":-9892.8138135870522},{"$f":"'FLUXO ANUAL'!Z48","v":-39303.160000000003},{"$f":"'FLUXO ANUAL'!AA48","v":-10198.243022623026},{"$f":"'FLUXO ANUAL'!AB48","v":-39354},{"$f":"'FLUXO ANUAL'!AC48","v":-10193.81654807043},{"$f":"'FLUXO ANUAL'!AD48","v":-39252.31},{"$f":"'FLUXO ANUAL'!AE48","v":-10052.322782216759},{"$f":"'FLUXO ANUAL'!AF48","v":-39252.31}]
[null,"28 (-) Despesas Bancárias",{"$f":"'FLUXO ANUAL'!C49","v":-108.06342225561599},{"$f":"'FLUXO ANUAL'!D49","v":-335.84},{"$f":"'FLUXO ANUAL'!E49","v":-9.8574823751447802},{"$f":"'FLUXO ANUAL'!F49","v":-38.729999999999997},{"$f":"'FLUXO ANUAL'!G49","v":-117.92090463076077},{"$f":"'FLUXO ANUAL'!H49","v":-374.56999999999994},{"$f":"'FLUXO ANUAL'!I49","v":-14.134395071930287},{"$f":"'FLUXO ANUAL'!J49","v":-37.630000000000003},{"$f":"'FLUXO ANUAL'!K49","v":-13.074143561948441},{"$f":"'FLUXO ANUAL'!L49","v":-37.630000000000003},{"$f":"'FLUXO ANUAL'!M49","v":-11.730049875311721},{"$f":"'FLUXO ANUAL'!N49","v":-37.630000000000003},{"$f":"'FLUXO ANUAL'!O49","v":-22.72514698022448},{"$f":"'FLUXO ANUAL'!P49","v":-68.03},{"$f":"'FLUXO ANUAL'!Q49","v":-12.183842959607398},{"$f":"'FLUXO ANUAL'!R49","v":-38.729999999999997},{"$f":"'FLUXO ANUAL'!S49","v":-12.483078708180235},{"$f":"'FLUXO ANUAL'!T49","v":-38.729999999999997},{"$f":"'FLUXO ANUAL'!U49","v":-7.0948733058338238},{"$f":"'FLUXO ANUAL'!V49","v":-24.08},{"$f":"'FLUXO ANUAL'!W49","v":-14.637891792579593},{"$f":"'FLUXO ANUAL'!X49","v":-53.38},{"$f":"'FLUXO ANUAL'!Y49","v":-6.0610637066122974},{"$f":"'FLUXO ANUAL'!Z49","v":-24.08},{"$f":"'FLUXO ANUAL'!AA49","v":-3.7964186685324832},{"$f":"'FLUXO ANUAL'!AB49","v":-14.65},{"$f":"'FLUXO ANUAL'!AC49","v":0},{"$f":"'FLUXO ANUAL'!AD49","v":0},{"$f":"'FLUXO ANUAL'!AE49","v":0},{"$f":"'FLUXO ANUAL'!AF49","v":0}]
[null,"29 (-) Custeio com Imposto de Renda  BB",{"$f":"'FLUXO ANUAL'!C50","v":-20.130237825594566},{"$f":"'FLUXO ANUAL'!D50","v":-63.99},{"$f":"'FLUXO ANUAL'!E50","v":-16.579845005775553},{"$f":"'FLUXO ANUAL'!F50","v":-64.41},{"$f":"'FLUXO ANUAL'!G50","v":-36.710082831370123},{"$f":"'FLUXO ANUAL'!H50","v":-128.4},{"$f":"'FLUXO ANUAL'!I50","v":0},{"$f":"'FLUXO ANUAL'!J50","v":0},{"$f":"'FLUXO ANUAL'!K50","v":0},{"$f":"'FLUXO ANUAL'!L50","v":0},{"$f":"'FLUXO ANUAL'!M50","v":0},{"$f":"'FLUXO ANUAL'!N50","v":0},{"$f":"'FLUXO ANUAL'!O50","v":0},{"$f":"'FLUXO ANUAL'!P50","v":0},{"$f":"'FLUXO ANUAL'!Q50","v":-20.130237825594566},{"$f":"'FLUXO ANUAL'!R50","v":-63.99},{"$f":"'FLUXO ANUAL'!S50","v":0},{"$f":"'FLUXO ANUAL'!T50","v":0},{"$f":"'FLUXO ANUAL'!U50","v":0},{"$f":"'FLUXO ANUAL'!V50","v":0},{"$f":"'FLUXO ANUAL'!W50","v":0},{"$f":"'FLUXO ANUAL'!X50","v":0},{"$f":"'FLUXO ANUAL'!Y50","v":-4.6414457952629062},{"$f":"'FLUXO ANUAL'!Z50","v":-18.440000000000001},{"$f":"'FLUXO ANUAL'!AA50","v":0},{"$f":"'FLUXO ANUAL'!AB50","v":0},{"$f":"'FLUXO ANUAL'!AC50","v":-11.938399210512648},{"$f":"'FLUXO ANUAL'!AD50","v":-45.97},{"$f":"'FLUXO ANUAL'!AE50","v":0},{"$f":"'FLUXO ANUAL'!AF50","v":0}]
[null,"30 (-) Custeio com Imposto de Renda  Bradesco",{"$f":"'FLUXO ANUAL'!C51","v":-643379.62267255329},{"$f":"'FLUXO ANUAL'!D51","v":-2346212.4700000002},{"$f":"'FLUXO ANUAL'!E51","v":0},{"$f":"'FLUXO ANUAL'!F51","v":0},{"$f":"'FLUXO ANUAL'!G51","v":-643379.62267255329},{"$f":"'FLUXO ANUAL'!H51","v":-2346212.4700000002},{"$f":"'FLUXO ANUAL'!I51","v":0},{"$f":"'FLUXO ANUAL'!J51","v":0},{"$f":"'FLUXO ANUAL'!K51","v":0},{"$f":"'FLUXO ANUAL'!L51","v":0},{"$f":"'FLUXO ANUAL'!M51","v":0},{"$f":"'FLUXO ANUAL'!N51","v":0},{"$f":"'FLUXO ANUAL'!O51","v":0},{"$f":"'FLUXO ANUAL'!P51","v":0},{"$f":"'FLUXO ANUAL'!Q51","v":0},{"$f":"'FLUXO ANUAL'!R51","v":0},{"$f":"'FLUXO ANUAL'!S51","v":0},{"$f":"'FLUXO ANUAL'!T51","v":0},{"$f":"'FLUXO ANUAL'!U51","v":0},{"$f":"'FLUXO ANUAL'!V51","v":0},{"$f":"'FLUXO ANUAL'!W51","v":-643379.62267255329},{"$f":"'FLUXO ANUAL'!X51","v":-2346212.4700000002},{"$f":"'FLUXO ANUAL'!Y51","v":0},{"$f":"'FLUXO ANUAL'!Z51","v":0},{"$f":"'FLUXO ANUAL'!AA51","v":0},{"$f":"'FLUXO ANUAL'!AB51","v":0},{"$f":"'FLUXO ANUAL'!AC51","v":0},{"$f":"'FLUXO ANUAL'!AD51","v":0},{"$f":"'FLUXO ANUAL'!AE51","v":0},{"$f":"'FLUXO ANUAL'!AF51","v":0}]
[null,"31 (-) Custeio com IOF BB",{"$f":"'FLUXO ANUAL'!C52","v":0},{"$f":"'FLUXO ANUAL'!D52","v":0},{"$f":"'FLUXO ANUAL'!E52","v":0},{"$f":"'FLUXO ANUAL'!F52","v":0},{"$f":"'FLUXO ANUAL'!G52","v":0},{"$f":"'FLUXO ANUAL'!H52","v":0},{"$f":"'FLUXO ANUAL'!I52","v":0},{"$f":"'FLUXO ANUAL'!J52","v":0},{"$f":"'FLUXO ANUAL'!K52","v":0},{"$f":"'FLUXO ANUAL'!L52","v":0},{"$f":"'FLUXO ANUAL'!M52","v":0},{"$f":"'FLUXO ANUAL'!N52","v":0},{"$f":"'FLUXO ANUAL'!O52","v":0},{"$f":"'FLUXO ANUAL'!P52","v":0},{"$f":"'FLUXO ANUAL'!Q52","v":0},{"$f":"'FLUXO ANUAL'!R52","v":0},{"$f":"'FLUXO ANUAL'!S52","v":0},{"$f":"'FLUXO ANUAL'!T52","v":0},{"$f":"'FLUXO ANUAL'!U52","v":0},{"$f":"'FLUXO ANUAL'!V52","v":0},{"$f":"'FLUXO ANUAL'!W52","v":0},{"$f":"'FLUXO ANUAL'!X52","v":0},{"$f":"'FLUXO ANUAL'!Y52","v":0},{"$f":"'FLUXO ANUAL'!Z52","v":0},{"$f":"'FLUXO ANUAL'!AA52","v":0},{"$f":"'FLUXO ANUAL'!AB52","v":0},{"$f":"'FLUXO ANUAL'!AC52","v":0},{"$f":"'FLUXO ANUAL'!AD52","v":0},{"$f":"'FLUXO ANUAL'!AE52","v":0},{"$f":"'FLUXO ANUAL'!AF52","v":0}]
[null,"32 (-) Custeio com IOF Bradesco",{"$f":"'FLUXO ANUAL'!C53","v":-1874230.8031919268},{"$f":"'FLUXO ANUAL'!D53","v":-6834757.4699999997},{"$f":"'FLUXO ANUAL'!E53","v":0},{"$f":"'FLUXO ANUAL'!F53","v":0},{"$f":"'FLUXO ANUAL'!G53","v":-1874230.8031919268},{"$f":"'FLUXO ANUAL'!H53","v":-6834757.4699999997},{"$f":"'FLUXO ANUAL'!I53","v":0},{"$f":"'FLUXO ANUAL'!J53","v":0},{"$f":"'FLUXO ANUAL'!K53","v":0},{"$f":"'FLUXO ANUAL'!L53","v":0},{"$f":"'FLUXO ANUAL'!M53","v":0},{"$f":"'FLUXO ANUAL'!N53","v":0},{"$f":"'FLUXO ANUAL'!O53","v":0},{"$f":"'FLUXO ANUAL'!P53","v":0},{"$f":"'FLUXO ANUAL'!Q53","v":0},{"$f":"'FLUXO ANUAL'!R53","v":0},{"$f":"'FLUXO ANUAL'!S53","v":0},{"$f":"'FLUXO ANUAL'!T53","v":0},{"$f":"'FLUXO ANUAL'!U53","v":0},{"$f":"'FLUXO ANUAL'!V53","v":0},{"$f":"'FLUXO ANUAL'!W53","v":-1874230.8031919268},{"$f":"'FLUXO ANUAL'!X53","v":-6834757.4699999997},{"$f":"'FLUXO ANUAL'!Y53","v":0},{"$f":"'FLUXO ANUAL'!Z53","v":0},{"$f":"'FLUXO ANUAL'!AA53","v":0},{"$f":"'FLUXO ANUAL'!AB53","v":0},{"$f":"'FLUXO ANUAL'!AC53","v":0},{"$f":"'FLUXO ANUAL'!AD53","v":0},{"$f":"'FLUXO ANUAL'!AE53","v":0},{"$f":"'FLUXO ANUAL'!AF53","v":0}]
[null,"33 (-) Pagamento de bônus de ITAIPU",{"$f":"'FLUXO ANUAL'!C54","v":0},{"$f":"'FLUXO ANUAL'!D54","v":0},{"$f":"'FLUXO ANUAL'!E54","v":-6650.7476223794338},{"$f":"'FLUXO ANUAL'!F54","v":-25664.57},{"$f":"'FLUXO ANUAL'!G54","v":-6650.7476223794338},{"$f":"'FLUXO ANUAL'!H54","v":-25664.57},{"$f":"'FLUXO ANUAL'!I54","v":0},{"$f":"'FLUXO ANUAL'!J54","v":0},{"$f":"'FLUXO ANUAL'!K54","v":0},{"$f":"'FLUXO ANUAL'!L54","v":0},{"$f":"'FLUXO ANUAL'!M54","v":0},{"$f":"'FLUXO ANUAL'!N54","v":0},{"$f":"'FLUXO ANUAL'!O54","v":0},{"$f":"'FLUXO ANUAL'!P54","v":0},{"$f":"'FLUXO ANUAL'!Q54","v":0},{"$f":"'FLUXO ANUAL'!R54","v":0},{"$f":"'FLUXO ANUAL'!S54","v":0},{"$f":"'FLUXO ANUAL'!T54","v":0},{"$f":"'FLUXO ANUAL'!U54","v":0},{"$f":"'FLUXO ANUAL'!V54","v":0},{"$f":"'FLUXO ANUAL'!W54","v":0},{"$f":"'FLUXO ANUAL'!X54","v":0},{"$f":"'FLUXO ANUAL'!Y54","v":0},{"$f":"'FLUXO ANUAL'!Z54","v":0},{"$f":"'FLUXO ANUAL'!AA54","v":-6650.7476223794338},{"$f":"'FLUXO ANUAL'!AB54","v":-25664.57},{"$f":"'FLUXO ANUAL'!AC54","v":0},{"$f":"'FLUXO ANUAL'!AD54","v":0},{"$f":"'FLUXO ANUAL'!AE54","v":0},{"$f":"'FLUXO ANUAL'!AF54","v":0}]
[null,"34 (+) Variação Cambial (Ativa)",{"$f":"'FLUXO ANUAL'!C55","v":0},{"$f":"'FLUXO ANUAL'!D55","v":1276601374.97},{"$f":"'FLUXO ANUAL'!E55","v":0},{"$f":"'FLUXO ANUAL'!F55","v":480634787.88},{"$f":"'FLUXO ANUAL'!G55","v":0},{"$f":"'FLUXO ANUAL'!H55","v":1757236162.8499999},{"$f":"'FLUXO ANUAL'!I55","v":0},{"$f":"'FLUXO ANUAL'!J55","v":44869890.609999999},{"$f":"'FLUXO ANUAL'!K55","v":0},{"$f":"'FLUXO ANUAL'!L55","v":230154681.5},{"$f":"'FLUXO ANUAL'!M55","v":0},{"$f":"'FLUXO ANUAL'!N55","v":381096821.47000003},{"$f":"'FLUXO ANUAL'!O55","v":0},{"$f":"'FLUXO ANUAL'!P55","v":-81034244.420000002},{"$f":"'FLUXO ANUAL'!Q55","v":0},{"$f":"'FLUXO ANUAL'!R55","v":132224640.15000001},{"$f":"'FLUXO ANUAL'!S55","v":0},{"$f":"'FLUXO ANUAL'!T55","v":-23115757.23},{"$f":"'FLUXO ANUAL'!U55","v":0},{"$f":"'FLUXO ANUAL'!V55","v":284107298.89999998},{"$f":"'FLUXO ANUAL'!W55","v":0},{"$f":"'FLUXO ANUAL'!X55","v":308298043.99000001},{"$f":"'FLUXO ANUAL'!Y55","v":0},{"$f":"'FLUXO ANUAL'!Z55","v":354419813.39999998},{"$f":"'FLUXO ANUAL'!AA55","v":0},{"$f":"'FLUXO ANUAL'!AB55","v":-44901706.030000001},{"$f":"'FLUXO ANUAL'!AC55","v":0},{"$f":"'FLUXO ANUAL'!AD55","v":49942276.530000001},{"$f":"'FLUXO ANUAL'!AE55","v":0},{"$f":"'FLUXO ANUAL'!AF55","v":121174403.98}]
[null,"35 (-) Variação Cambial (Passiva)",{"$f":"'FLUXO ANUAL'!C56","v":0},{"$f":"'FLUXO ANUAL'!D56","v":-644138842.32999992},{"$f":"'FLUXO ANUAL'!E56","v":0},{"$f":"'FLUXO ANUAL'!F56","v":-343087209.73000002},{"$f":"'FLUXO ANUAL'!G56","v":0},{"$f":"'FLUXO ANUAL'!H56","v":-987226052.05999982},{"$f":"'FLUXO ANUAL'!I56","v":0},{"$f":"'FLUXO ANUAL'!J56","v":-15255938.359999999},{"$f":"'FLUXO ANUAL'!K56","v":0},{"$f":"'FLUXO ANUAL'!L56","v":-121614548.68000001},{"$f":"'FLUXO ANUAL'!M56","v":0},{"$f":"'FLUXO ANUAL'!N56","v":-192343270.97999999},{"$f":"'FLUXO ANUAL'!O56","v":0},{"$f":"'FLUXO ANUAL'!P56","v":-12213381.890000001},{"$f":"'FLUXO ANUAL'!Q56","v":0},{"$f":"'FLUXO ANUAL'!R56","v":-27130709.48},{"$f":"'FLUXO ANUAL'!S56","v":0},{"$f":"'FLUXO ANUAL'!T56","v":-40761109.600000001},{"$f":"'FLUXO ANUAL'!U56","v":0},{"$f":"'FLUXO ANUAL'!V56","v":-97654053.780000001},{"$f":"'FLUXO ANUAL'!W56","v":0},{"$f":"'FLUXO ANUAL'!X56","v":-137165829.56},{"$f":"'FLUXO ANUAL'!Y56","v":0},{"$f":"'FLUXO ANUAL'!Z56","v":-207698650.38},{"$f":"'FLUXO ANUAL'!AA56","v":0},{"$f":"'FLUXO ANUAL'!AB56","v":-59883486.420000002},{"$f":"'FLUXO ANUAL'!AC56","v":0},{"$f":"'FLUXO ANUAL'!AD56","v":-22902247.530000001},{"$f":"'FLUXO ANUAL'!AE56","v":0},{"$f":"'FLUXO ANUAL'!AF56","v":-52602825.399999999}]
[null,"36 (+ / -) Receitas / Despesas com COFINS",{"$f":"'FLUXO ANUAL'!C57","v":-78833363.523781076},{"$f":"'FLUXO ANUAL'!D57","v":-250479660.42000002},{"$f":"'FLUXO ANUAL'!E57","v":-52877999.978151798},{"$f":"'FLUXO ANUAL'!F57","v":-206342836.90000001},{"$f":"'FLUXO ANUAL'!G57","v":-131711363.50193287},{"$f":"'FLUXO ANUAL'!H57","v":-456822497.31999999},{"$f":"'FLUXO ANUAL'!I57","v":-9047709.2438868638},{"$f":"'FLUXO ANUAL'!J57","v":-24087716.32},{"$f":"'FLUXO ANUAL'!K57","v":-9776071.5377666596},{"$f":"'FLUXO ANUAL'!L57","v":-28137489.100000001},{"$f":"'FLUXO ANUAL'!M57","v":-9604744.4918952603},{"$f":"'FLUXO ANUAL'!N57","v":-30812020.329999998},{"$f":"'FLUXO ANUAL'!O57","v":-3634595.4001870658},{"$f":"'FLUXO ANUAL'!P57","v":-10880524.789999999},{"$f":"'FLUXO ANUAL'!Q57","v":-9609634.3620234057},{"$f":"'FLUXO ANUAL'!R57","v":-30547105.710000001},{"$f":"'FLUXO ANUAL'!S57","v":-11332196.138722364},{"$f":"'FLUXO ANUAL'!T57","v":-35159271.740000002},{"$f":"'FLUXO ANUAL'!U57","v":-13189310.978196818},{"$f":"'FLUXO ANUAL'!V57","v":-44764521.460000001},{"$f":"'FLUXO ANUAL'!W57","v":-12639101.37110264},{"$f":"'FLUXO ANUAL'!X57","v":-46091010.969999999},{"$f":"'FLUXO ANUAL'!Y57","v":-14130346.011729468},{"$f":"'FLUXO ANUAL'!Z57","v":-56138451.670000002},{"$f":"'FLUXO ANUAL'!AA57","v":-11759976.340407887},{"$f":"'FLUXO ANUAL'!AB57","v":-45380572.700000003},{"$f":"'FLUXO ANUAL'!AC57","v":-10289134.0232691},{"$f":"'FLUXO ANUAL'!AD57","v":-39619339.469999999},{"$f":"'FLUXO ANUAL'!AE57","v":-16698543.602745341},{"$f":"'FLUXO ANUAL'!AF57","v":-65204473.060000002}]
[null,"37 (+ / -) Receitas / Despesas com PASEP",{"$f":"'FLUXO ANUAL'!C58","v":-17090527.747910541},{"$f":"'FLUXO ANUAL'!D58","v":-54294202.809999995},{"$f":"'FLUXO ANUAL'!E58","v":-10821062.048631564},{"$f":"'FLUXO ANUAL'!F58","v":-42232508.099999994},{"$f":"'FLUXO ANUAL'!G58","v":-27911589.796542104},{"$f":"'FLUXO ANUAL'!H58","v":-96526710.909999996},{"$f":"'FLUXO ANUAL'!I58","v":-1964305.2961724824},{"$f":"'FLUXO ANUAL'!J58","v":-5229569.99},{"$f":"'FLUXO ANUAL'!K58","v":-2122436.5853658537},{"$f":"'FLUXO ANUAL'!L58","v":-6108796.9800000004},{"$f":"'FLUXO ANUAL'!M58","v":-2085240.5798004987},{"$f":"'FLUXO ANUAL'!N58","v":-6689451.7800000003},{"$f":"'FLUXO ANUAL'!O58","v":-789089.79155531817},{"$f":"'FLUXO ANUAL'!P58","v":-2362219.2000000002},{"$f":"'FLUXO ANUAL'!Q58","v":-2086302.1957971563},{"$f":"'FLUXO ANUAL'!R58","v":-6631937.4199999999},{"$f":"'FLUXO ANUAL'!S58","v":-2460279.4237091476},{"$f":"'FLUXO ANUAL'!T58","v":-7633262.9400000004},{"$f":"'FLUXO ANUAL'!U58","v":-2849630.6364172068},{"$f":"'FLUXO ANUAL'!V58","v":-9671646.3800000008},{"$f":"'FLUXO ANUAL'!W58","v":-2733243.2390928781},{"$f":"'FLUXO ANUAL'!X58","v":-9967318.1199999992},{"$f":"'FLUXO ANUAL'!Y58","v":-3056408.1300813006},{"$f":"'FLUXO ANUAL'!Z58","v":-12142803.859999999},{"$f":"'FLUXO ANUAL'!AA58","v":-2465140.1902096453},{"$f":"'FLUXO ANUAL'!AB58","v":-9512729.4800000004},{"$f":"'FLUXO ANUAL'!AC58","v":-2150672.4432555963},{"$f":"'FLUXO ANUAL'!AD58","v":-8281379.3099999996},{"$f":"'FLUXO ANUAL'!AE58","v":-3148841.2850850234},{"$f":"'FLUXO ANUAL'!AF58","v":-12295595.449999999}]
[null,"SALDO  DO PERÍODO  ( B )\nREALIZADO / PREVISTO / TOTAL",{"$f":"'FLUXO ANUAL'!C59","v":906231893.27643132},{"$f":"'FLUXO ANUAL'!D59","v":3418155870.860003},{"$f":"'FLUXO ANUAL'!E59","v":377895217.99698538},{"$f":"'FLUXO ANUAL'!F59","v":1660347815.3762946},{"$f":"'FLUXO ANUAL'!G59","v":1284127111.2734168},{"$f":"'FLUXO ANUAL'!H59","v":5078503686.2363014},{"$f":"'FLUXO ANUAL'!I59","v":107875847.74788457},{"$f":"'FLUXO ANUAL'!J59","v":286520877.68999988},{"$f":"'FLUXO ANUAL'!K59","v":114907100.29339448},{"$f":"'FLUXO ANUAL'!L59","v":435703683.27999967},{"$f":"'FLUXO ANUAL'!M59","v":105771808.64962593},{"$f":"'FLUXO ANUAL'!N59","v":548772189.50999975},{"$f":"'FLUXO ANUAL'!O59","v":129405436.80965257},{"$f":"'FLUXO ANUAL'!P59","v":268136020.47000033},{"$f":"'FLUXO ANUAL'!Q59","v":127037688.11335464},{"$f":"'FLUXO ANUAL'!R59","v":510304763.34000015},{"$f":"'FLUXO ANUAL'!S59","v":108429421.05291051},{"$f":"'FLUXO ANUAL'!T59","v":299514153.86999995},{"$f":"'FLUXO ANUAL'!U59","v":105935273.53464939},{"$f":"'FLUXO ANUAL'!V59","v":528776488.14999998},{"$f":"'FLUXO ANUAL'!W59","v":106869317.07495898},{"$f":"'FLUXO ANUAL'!X59","v":540427694.55000007},{"$f":"'FLUXO ANUAL'!Y59","v":107846607.8396847},{"$f":"'FLUXO ANUAL'!Z59","v":642918757.02999997},{"$f":"'FLUXO ANUAL'!AA59","v":101561099.49042554},{"$f":"'FLUXO ANUAL'!AB59","v":323226401.98629284},{"$f":"'FLUXO ANUAL'!AC59","v":79213602.444293872},{"$f":"'FLUXO ANUAL'!AD59","v":292986848.4800002},{"$f":"'FLUXO ANUAL'!AE59","v":89273908.222581491},{"$f":"'FLUXO ANUAL'!AF59","v":401215807.87999976}]
[null,"SALDO  FINAL ( C ) = ( A + B )\n (ANTES DA INADIMPLÊNCIA)",{"$f":"'FLUXO ANUAL'!C60","v":-134882103.96858931},{"$f":"'FLUXO ANUAL'!D60","v":1063028432.2700033},{"$f":"'FLUXO ANUAL'!E60","v":243013114.02839607},{"$f":"'FLUXO ANUAL'!F60","v":2723376247.6462979},{"$f":"'FLUXO ANUAL'!G60","v":243013114.02839613},{"$f":"'FLUXO ANUAL'!H60","v":2723376247.6463017},{"$f":"'FLUXO ANUAL'!I60","v":-933238149.49713612},{"$f":"'FLUXO ANUAL'!J60","v":-2068606560.8999999},{"$f":"'FLUXO ANUAL'!K60","v":-818331049.20374167},{"$f":"'FLUXO ANUAL'!L60","v":-1632902877.6200001},{"$f":"'FLUXO ANUAL'!M60","v":-712559240.55411577},{"$f":"'FLUXO ANUAL'!N60","v":-1084130688.1100004},{"$f":"'FLUXO ANUAL'!O60","v":-583153803.74446321},{"$f":"'FLUXO ANUAL'!P60","v":-815994667.6400001},{"$f":"'FLUXO ANUAL'!Q60","v":-456116115.63110858},{"$f":"'FLUXO ANUAL'!R60","v":-305689904.29999995},{"$f":"'FLUXO ANUAL'!S60","v":-347686694.57819808},{"$f":"'FLUXO ANUAL'!T60","v":-6175750.4300000072},{"$f":"'FLUXO ANUAL'!U60","v":-241751421.0435487},{"$f":"'FLUXO ANUAL'!V60","v":522600737.71999997},{"$f":"'FLUXO ANUAL'!W60","v":-134882103.96858972},{"$f":"'FLUXO ANUAL'!X60","v":1063028432.27},{"$f":"'FLUXO ANUAL'!Y60","v":-27035496.128905028},{"$f":"'FLUXO ANUAL'!Z60","v":1705947189.3},{"$f":"'FLUXO ANUAL'!AA60","v":74525603.361520514},{"$f":"'FLUXO ANUAL'!AB60","v":2029173591.2862928},{"$f":"'FLUXO ANUAL'!AC60","v":153739205.80581439},{"$f":"'FLUXO ANUAL'!AD60","v":2322160439.766293},{"$f":"'FLUXO ANUAL'!AE60","v":243013114.02839589},{"$f":"'FLUXO ANUAL'!AF60","v":2723376247.6462927}]
[]
[null,"NATUREZA DAS CONTAS",{"$f":"'FLUXO ANUAL'!C62","v":"VALORES REALIZADOS DE JANEIRO A AGOSTO/2015                   EM US$"},{"$f":"'FLUXO ANUAL'!D62","v":"VALORES REALIZADOS DE JANEIRO A AGOSTO/2015                 EM R$"},{"$f":"'FLUXO ANUAL'!E62","v":"VALORES PREVISTOS DE SETEMBRO A DEZEMBRO/2015                   EM US$"},{"$f":"'FLUXO ANUAL'!F62","v":"VALORES PREVISTOS DE SETEMBRO A DEZEMBRO/2015                   EM R$"},{"$f":"'FLUXO ANUAL'!G62","v":"TOTAIS DE JANEIRO A DEZEMBRO/2015                   EM US$"},{"$f":"'FLUXO ANUAL'!H62","v":"TOTAIS DE JANEIRO A DEZEMBRO/2015                  EM R$"},{"$f":"'FLUXO ANUAL'!I62","v":"JANEIRO/2015                   EM US$"},{"$f":"'FLUXO ANUAL'!J62","v":"JANEIRO/2015                   EM R$"},{"$f":"'FLUXO ANUAL'!K62","v":"FEVEREIRO/2015                   EM US$"},{"$f":"'FLUXO ANUAL'!L62","v":"FEVEREIRO/2015                   EM R$"},{"$f":"'FLUXO ANUAL'!M62","v":"MARÇO/2015                   EM US$"},{"$f":"'FLUXO ANUAL'!N62","v":"MARÇO/2015                   EM R$"},{"$f":"'FLUXO ANUAL'!O62","v":"ABRIL/2015                   EM US$"},{"$f":"'FLUXO ANUAL'!P62","v":"ABRIL/2015                   EM R$"},{"$f":"'FLUXO ANUAL'!Q62","v":"MAIO/2015                          EM US$"},{"$f":"'FLUXO ANUAL'!R62","v":"MAIO/2015                            EM R$"},{"$f":"'FLUXO ANUAL'!S62","v":"JUNHO/2015                   EM US$"},{"$f":"'FLUXO ANUAL'!T62","v":"JUNHO/2015                   EM R$"},{"$f":"'FLUXO ANUAL'!U62","v":"JULHO/2015                   EM US$"},{"$f":"'FLUXO ANUAL'!V62","v":"JULHO/2015                   EM R$"},{"$f":"'FLUXO ANUAL'!W62","v":"AGOSTO/2015                   EM US$"},{"$f":"'FLUXO ANUAL'!X62","v":"AGOSTO/2015                   EM R$"},{"$f":"'FLUXO ANUAL'!Y62","v":"SETEMBRO/2015                   EM US$"},{"$f":"'FLUXO ANUAL'!Z62","v":"SETEMBRO/2015                   EM R$"},{"$f":"'FLUXO ANUAL'!AA62","v":"OUTUBRO/2015                   EM US$"},{"$f":"'FLUXO ANUAL'!AB62","v":"OUTUBRO/2015                   EM R$"},{"$f":"'FLUXO ANUAL'!AC62","v":"NOVEMBRO/2015                   EM US$"},{"$f":"'FLUXO ANUAL'!AD62","v":"NOVEMBRO/2015                   EM R$"},{"$f":"'FLUXO ANUAL'!AE62","v":"DEZEMBRO/2015                   EM US$"},{"$f":"'FLUXO ANUAL'!AF62","v":"DEZEMBRO/2015                   EM R$"}]
[null,null,{"$f":"'FLUXO ANUAL'!C63","v":0},{"$f":"'FLUXO ANUAL'!D63","v":0},{"$f":"'FLUXO ANUAL'!E63","v":0},{"$f":"'FLUXO ANUAL'!F63","v":0},{"$f":"'FLUXO ANUAL'!G63","v":0},{"$f":"'FLUXO ANUAL'!H63","v":0},{"$f":"'FLUXO ANUAL'!I63","v":0},{"$f":"'FLUXO ANUAL'!J63","v":0},{"$f":"'FLUXO ANUAL'!K63","v":0},{"$f":"'FLUXO ANUAL'!L63","v":0},{"$f":"'FLUXO ANUAL'!M63","v":0},{"$f":"'FLUXO ANUAL'!N63","v":0},{"$f":"'FLUXO ANUAL'!O63","v":0},{"$f":"'FLUXO ANUAL'!P63","v":0},{"$f":"'FLUXO ANUAL'!Q63","v":0},{"$f":"'FLUXO ANUAL'!R63","v":0},{"$f":"'FLUXO ANUAL'!S63","v":0},{"$f":"'FLUXO ANUAL'!T63","v":0},{"$f":"'FLUXO ANUAL'!U63","v":0},{"$f":"'FLUXO ANUAL'!V63","v":0},{"$f":"'FLUXO ANUAL'!W63","v":0},{"$f":"'FLUXO ANUAL'!X63","v":0},{"$f":"'FLUXO ANUAL'!Y63","v":0},{"$f":"'FLUXO ANUAL'!Z63","v":0},{"$f":"'FLUXO ANUAL'!AA63","v":0},{"$f":"'FLUXO ANUAL'!AB63","v":0},{"$f":"'FLUXO ANUAL'!AC63","v":0},{"$f":"'FLUXO ANUAL'!AD63","v":0},{"$f":"'FLUXO ANUAL'!AE63","v":0},{"$f":"'FLUXO ANUAL'!AF63","v":0}]
[null,null,{"$f":"'FLUXO ANUAL'!C64","v":0},{"$f":"'FLUXO ANUAL'!D64","v":0},{"$f":"'FLUXO ANUAL'!E64","v":0},{"$f":"'FLUXO ANUAL'!F64","v":0},{"$f":"'FLUXO ANUAL'!G64","v":0},{"$f":"'FLUXO ANUAL'!H64","v":0},{"$f":"'FLUXO ANUAL'!I64","v":0},{"$f":"'FLUXO ANUAL'!J64","v":0},{"$f":"'FLUXO ANUAL'!K64","v":0},{"$f":"'FLUXO ANUAL'!L64","v":0},{"$f":"'FLUXO ANUAL'!M64","v":0},{"$f":"'FLUXO ANUAL'!N64","v":0},{"$f":"'FLUXO ANUAL'!O64","v":0},{"$f":"'FLUXO ANUAL'!P64","v":0},{"$f":"'FLUXO ANUAL'!Q64","v":0},{"$f":"'FLUXO ANUAL'!R64","v":0},{"$f":"'FLUXO ANUAL'!S64","v":0},{"$f":"'FLUXO ANUAL'!T64","v":0},{"$f":"'FLUXO ANUAL'!U64","v":0},{"$f":"'FLUXO ANUAL'!V64","v":0},{"$f":"'FLUXO ANUAL'!W64","v":0},{"$f":"'FLUXO ANUAL'!X64","v":0},{"$f":"'FLUXO ANUAL'!Y64","v":0},{"$f":"'FLUXO ANUAL'!Z64","v":0},{"$f":"'FLUXO ANUAL'!AA64","v":0},{"$f":"'FLUXO ANUAL'!AB64","v":0},{"$f":"'FLUXO ANUAL'!AC64","v":0},{"$f":"'FLUXO ANUAL'!AD64","v":0},{"$f":"'FLUXO ANUAL'!AE64","v":0},{"$f":"'FLUXO ANUAL'!AF64","v":0}]
[null,null,{"$f":"'FLUXO ANUAL'!C65","v":0},{"$f":"'FLUXO ANUAL'!D65","v":0},{"$f":"'FLUXO ANUAL'!E65","v":0},{"$f":"'FLUXO ANUAL'!F65","v":0},{"$f":"'FLUXO ANUAL'!G65","v":0},{"$f":"'FLUXO ANUAL'!H65","v":0},{"$f":"'FLUXO ANUAL'!I65","v":0},{"$f":"'FLUXO ANUAL'!J65","v":0},{"$f":"'FLUXO ANUAL'!K65","v":0},{"$f":"'FLUXO ANUAL'!L65","v":0},{"$f":"'FLUXO ANUAL'!M65","v":0},{"$f":"'FLUXO ANUAL'!N65","v":0},{"$f":"'FLUXO ANUAL'!O65","v":0},{"$f":"'FLUXO ANUAL'!P65","v":0},{"$f":"'FLUXO ANUAL'!Q65","v":0},{"$f":"'FLUXO ANUAL'!R65","v":0},{"$f":"'FLUXO ANUAL'!S65","v":0},{"$f":"'FLUXO ANUAL'!T65","v":0},{"$f":"'FLUXO ANUAL'!U65","v":0},{"$f":"'FLUXO ANUAL'!V65","v":0},{"$f":"'FLUXO ANUAL'!W65","v":0},{"$f":"'FLUXO ANUAL'!X65","v":0},{"$f":"'FLUXO ANUAL'!Y65","v":0},{"$f":"'FLUXO ANUAL'!Z65","v":0},{"$f":"'FLUXO ANUAL'!AA65","v":0},{"$f":"'FLUXO ANUAL'!AB65","v":0},{"$f":"'FLUXO ANUAL'!AC65","v":0},{"$f":"'FLUXO ANUAL'!AD65","v":0},{"$f":"'FLUXO ANUAL'!AE65","v":0},{"$f":"'FLUXO ANUAL'!AF65","v":0}]
[null,"38 (-) RECEITAS NÃO REALIZADAS ",{"$f":"'FLUXO ANUAL'!C66","v":-61284383.390000001},{"$f":"'FLUXO ANUAL'!D66","v":-217387969.03999999},{"$f":"'FLUXO ANUAL'!E66","v":-127142590.06999999},{"$f":"'FLUXO ANUAL'!F66","v":-484684278.16000003},{"$f":"'FLUXO ANUAL'!G66","v":-127142590.06999999},{"$f":"'FLUXO ANUAL'!H66","v":-484684278.16000003},{"$f":"'FLUXO ANUAL'!I66","v":-84882042.040000007},{"$f":"'FLUXO ANUAL'!J66","v":-219106798.30000001},{"$f":"'FLUXO ANUAL'!K66","v":-80534189.090000004},{"$f":"'FLUXO ANUAL'!L66","v":-218882831.18000001},{"$f":"'FLUXO ANUAL'!M66","v":-100922127.33},{"$f":"'FLUXO ANUAL'!N66","v":-294771273.66000003},{"$f":"'FLUXO ANUAL'!O66","v":-133764333.73},{"$f":"'FLUXO ANUAL'!P66","v":-384199355.31},{"$f":"'FLUXO ANUAL'!Q66","v":-91743073.760000005},{"$f":"'FLUXO ANUAL'!R66","v":-275102965.67000002},{"$f":"'FLUXO ANUAL'!S66","v":-81898474.739999995},{"$f":"'FLUXO ANUAL'!T66","v":-242976774.41999999},{"$f":"'FLUXO ANUAL'!U66","v":-98819423.939999998},{"$f":"'FLUXO ANUAL'!V66","v":-304466998.16000003},{"$f":"'FLUXO ANUAL'!W66","v":-61284383.390000001},{"$f":"'FLUXO ANUAL'!X66","v":-217387969.03999999},{"$f":"'FLUXO ANUAL'!Y66","v":-116849591.48},{"$f":"'FLUXO ANUAL'!Z66","v":-472037032.13},{"$f":"'FLUXO ANUAL'!AA66","v":-188184974.31999999},{"$f":"'FLUXO ANUAL'!AB66","v":-748946204.29999995},{"$f":"'FLUXO ANUAL'!AC66","v":-84402265.549999997},{"$f":"'FLUXO ANUAL'!AD66","v":-316699711.52999997},{"$f":"'FLUXO ANUAL'!AE66","v":-127142590.06999999},{"$f":"'FLUXO ANUAL'!AF66","v":-484684278.16000003}]
[null,"39 (-) VARIAÇÃO CAMBIAL DAS RECEITAS NÃO REALIZADAS",{"$f":"'FLUXO ANUAL'!C67","v":0},{"$f":"'FLUXO ANUAL'!D67","v":-6097791.8683130145},{"$f":"'FLUXO ANUAL'!E67","v":0},{"$f":"'FLUXO ANUAL'!F67","v":-11782107.545335948},{"$f":"'FLUXO ANUAL'!G67","v":0},{"$f":"'FLUXO ANUAL'!H67","v":-11782107.545335948},{"$f":"'FLUXO ANUAL'!I67","v":0},{"$f":"'FLUXO ANUAL'!J67","v":-6874662.2230920196},{"$f":"'FLUXO ANUAL'!K67","v":0},{"$f":"'FLUXO ANUAL'!L67","v":-12910671.858838022},{"$f":"'FLUXO ANUAL'!M67","v":0},{"$f":"'FLUXO ANUAL'!N67","v":-28986910.814639986},{"$f":"'FLUXO ANUAL'!O67","v":0},{"$f":"'FLUXO ANUAL'!P67","v":-16237554.144127965},{"$f":"'FLUXO ANUAL'!Q67","v":0},{"$f":"'FLUXO ANUAL'!R67","v":-16529917.198287964},{"$f":"'FLUXO ANUAL'!S67","v":0},{"$f":"'FLUXO ANUAL'!T67","v":-11121433.308323979},{"$f":"'FLUXO ANUAL'!U67","v":0},{"$f":"'FLUXO ANUAL'!V67","v":-30926126.692359984},{"$f":"'FLUXO ANUAL'!W67","v":0},{"$f":"'FLUXO ANUAL'!X67","v":-6097791.8683130145},{"$f":"'FLUXO ANUAL'!Y67","v":0},{"$f":"'FLUXO ANUAL'!Z67","v":7805290.1391079426},{"$f":"'FLUXO ANUAL'!AA67","v":0},{"$f":"'FLUXO ANUAL'!AB67","v":22759206.896551967},{"$f":"'FLUXO ANUAL'!AC67","v":0},{"$f":"'FLUXO ANUAL'!AD67","v":-8299652.1968300343},{"$f":"'FLUXO ANUAL'!AE67","v":0},{"$f":"'FLUXO ANUAL'!AF67","v":-11782107.545335948}]
[null,"40 (-) RECEITAS NÃO REALIZADAS DE COFINS  E PASEP",{"$f":"'FLUXO ANUAL'!C68","v":0},{"$f":"'FLUXO ANUAL'!D68","v":0},{"$f":"'FLUXO ANUAL'!E68","v":0},{"$f":"'FLUXO ANUAL'!F68","v":0},{"$f":"'FLUXO ANUAL'!G68","v":0},{"$f":"'FLUXO ANUAL'!H68","v":0},{"$f":"'FLUXO ANUAL'!I68","v":0},{"$f":"'FLUXO ANUAL'!J68","v":0},{"$f":"'FLUXO ANUAL'!K68","v":0},{"$f":"'FLUXO ANUAL'!L68","v":0},{"$f":"'FLUXO ANUAL'!M68","v":0},{"$f":"'FLUXO ANUAL'!N68","v":0},{"$f":"'FLUXO ANUAL'!O68","v":0},{"$f":"'FLUXO ANUAL'!P68","v":0},{"$f":"'FLUXO ANUAL'!Q68","v":0},{"$f":"'FLUXO ANUAL'!R68","v":0},{"$f":"'FLUXO ANUAL'!S68","v":0},{"$f":"'FLUXO ANUAL'!T68","v":0},{"$f":"'FLUXO ANUAL'!U68","v":0},{"$f":"'FLUXO ANUAL'!V68","v":0},{"$f":"'FLUXO ANUAL'!W68","v":0},{"$f":"'FLUXO ANUAL'!X68","v":0},{"$f":"'FLUXO ANUAL'!Y68","v":0},{"$f":"'FLUXO ANUAL'!Z68","v":0},{"$f":"'FLUXO ANUAL'!AA68","v":0},{"$f":"'FLUXO ANUAL'!AB68","v":0},{"$f":"'FLUXO ANUAL'!AC68","v":0},{"$f":"'FLUXO ANUAL'!AD68","v":0},{"$f":"'FLUXO ANUAL'!AE68","v":0},{"$f":"'FLUXO ANUAL'!AF68","v":0}]
[null,"41 (-) REPACTUAÇÃO CELG - DISTRIBUIÇÃO",{"$f":"'FLUXO ANUAL'!C69","v":-349498380.54000002},{"$f":"'FLUXO ANUAL'!D69","v":-715877533.08000004},{"$f":"'FLUXO ANUAL'!E69","v":-330931279.07999998},{"$f":"'FLUXO ANUAL'!F69","v":-683747273.21000004},{"$f":"'FLUXO ANUAL'!G69","v":-330931279.07999998},{"$f":"'FLUXO ANUAL'!H69","v":-683747273.21000004},{"$f":"'FLUXO ANUAL'!I69","v":-349498380.54000002},{"$f":"'FLUXO ANUAL'!J69","v":-715877533.08000004},{"$f":"'FLUXO ANUAL'!K69","v":-349498380.54000002},{"$f":"'FLUXO ANUAL'!L69","v":-715877533.08000004},{"$f":"'FLUXO ANUAL'!M69","v":-349498380.54000002},{"$f":"'FLUXO ANUAL'!N69","v":-715877533.08000004},{"$f":"'FLUXO ANUAL'!O69","v":-349498380.54000002},{"$f":"'FLUXO ANUAL'!P69","v":-715877533.08000004},{"$f":"'FLUXO ANUAL'!Q69","v":-349498380.54000002},{"$f":"'FLUXO ANUAL'!R69","v":-715877533.08000004},{"$f":"'FLUXO ANUAL'!S69","v":-349498380.54000002},{"$f":"'FLUXO ANUAL'!T69","v":-715877533.08000004},{"$f":"'FLUXO ANUAL'!U69","v":-349498380.54000002},{"$f":"'FLUXO ANUAL'!V69","v":-715877533.08000004},{"$f":"'FLUXO ANUAL'!W69","v":-349498380.54000002},{"$f":"'FLUXO ANUAL'!X69","v":-715877533.08000004},{"$f":"'FLUXO ANUAL'!Y69","v":-342217164.27999997},{"$f":"'FLUXO ANUAL'!Z69","v":-700963417.80999994},{"$f":"'FLUXO ANUAL'!AA69","v":-334935948.01999998},{"$f":"'FLUXO ANUAL'!AB69","v":-686049302.53999996},{"$f":"'FLUXO ANUAL'!AC69","v":-338396952.81999999},{"$f":"'FLUXO ANUAL'!AD69","v":-698993114.38999999},{"$f":"'FLUXO ANUAL'!AE69","v":-330931279.07999998},{"$f":"'FLUXO ANUAL'!AF69","v":-683747273.21000004}]
[null,"42 (-) VARIAÇÃO CAMBIAL DA REPACTUAÇÃO CELG",{"$f":"'FLUXO ANUAL'!C70","v":0},{"$f":"'FLUXO ANUAL'!D70","v":-558638211.23521817},{"$f":"'FLUXO ANUAL'!E70","v":0},{"$f":"'FLUXO ANUAL'!F70","v":-608473185.34158373},{"$f":"'FLUXO ANUAL'!G70","v":0},{"$f":"'FLUXO ANUAL'!H70","v":-608473185.34158373},{"$f":"'FLUXO ANUAL'!I70","v":0},{"$f":"'FLUXO ANUAL'!J70","v":-214592005.43164206},{"$f":"'FLUXO ANUAL'!K70","v":0},{"$f":"'FLUXO ANUAL'!L70","v":-290048705.79022801},{"$f":"'FLUXO ANUAL'!M70","v":0},{"$f":"'FLUXO ANUAL'!N70","v":-405313271.69231999},{"$f":"'FLUXO ANUAL'!O70","v":0},{"$f":"'FLUXO ANUAL'!P70","v":-330380818.904544},{"$f":"'FLUXO ANUAL'!Q70","v":0},{"$f":"'FLUXO ANUAL'!R70","v":-395107918.98055208},{"$f":"'FLUXO ANUAL'!S70","v":0},{"$f":"'FLUXO ANUAL'!T70","v":-368476142.3834039},{"$f":"'FLUXO ANUAL'!U70","v":0},{"$f":"'FLUXO ANUAL'!V70","v":-470319970.47276008},{"$f":"'FLUXO ANUAL'!W70","v":0},{"$f":"'FLUXO ANUAL'!X70","v":-558638211.23521817},{"$f":"'FLUXO ANUAL'!Y70","v":0},{"$f":"'FLUXO ANUAL'!Z70","v":-658631154.15801191},{"$f":"'FLUXO ANUAL'!AA70","v":0},{"$f":"'FLUXO ANUAL'!AB70","v":-606435027.27437806},{"$f":"'FLUXO ANUAL'!AC70","v":0},{"$f":"'FLUXO ANUAL'!AD70","v":-604038192.13869202},{"$f":"'FLUXO ANUAL'!AE70","v":0},{"$f":"'FLUXO ANUAL'!AF70","v":-608473185.34158373}]
[null,"43 (-) REPACTUAÇÃO CEMAT",{"$f":"'FLUXO ANUAL'!C71","v":0},{"$f":"'FLUXO ANUAL'!D71","v":-351140081.17000002},{"$f":"'FLUXO ANUAL'!E71","v":0},{"$f":"'FLUXO ANUAL'!F71","v":-351140081.17000002},{"$f":"'FLUXO ANUAL'!G71","v":0},{"$f":"'FLUXO ANUAL'!H71","v":-351140081.17000002},{"$f":"'FLUXO ANUAL'!I71","v":0},{"$f":"'FLUXO ANUAL'!J71","v":-351140081.17000002},{"$f":"'FLUXO ANUAL'!K71","v":0},{"$f":"'FLUXO ANUAL'!L71","v":-351140081.17000002},{"$f":"'FLUXO ANUAL'!M71","v":0},{"$f":"'FLUXO ANUAL'!N71","v":-351140081.17000002},{"$f":"'FLUXO ANUAL'!O71","v":0},{"$f":"'FLUXO ANUAL'!P71","v":-351140081.17000002},{"$f":"'FLUXO ANUAL'!Q71","v":0},{"$f":"'FLUXO ANUAL'!R71","v":-351140081.17000002},{"$f":"'FLUXO ANUAL'!S71","v":0},{"$f":"'FLUXO ANUAL'!T71","v":-351140081.17000002},{"$f":"'FLUXO ANUAL'!U71","v":0},{"$f":"'FLUXO ANUAL'!V71","v":-351140081.17000002},{"$f":"'FLUXO ANUAL'!W71","v":0},{"$f":"'FLUXO ANUAL'!X71","v":-351140081.17000002},{"$f":"'FLUXO ANUAL'!Y71","v":0},{"$f":"'FLUXO ANUAL'!Z71","v":-351140081.17000002},{"$f":"'FLUXO ANUAL'!AA71","v":0},{"$f":"'FLUXO ANUAL'!AB71","v":-351140081.17000002},{"$f":"'FLUXO ANUAL'!AC71","v":0},{"$f":"'FLUXO ANUAL'!AD71","v":-351140081.17000002},{"$f":"'FLUXO ANUAL'!AE71","v":0},{"$f":"'FLUXO ANUAL'!AF71","v":-351140081.17000002}]
[null,"44 (-) REPACTUAÇÃO EEB",{"$f":"'FLUXO ANUAL'!C72","v":0},{"$f":"'FLUXO ANUAL'!D72","v":0},{"$f":"'FLUXO ANUAL'!E72","v":0},{"$f":"'FLUXO ANUAL'!F72","v":0},{"$f":"'FLUXO ANUAL'!G72","v":0},{"$f":"'FLUXO ANUAL'!H72","v":0},{"$f":"'FLUXO ANUAL'!I72","v":-25189502.73},{"$f":"'FLUXO ANUAL'!J72","v":-57379168.280000001},{"$f":"'FLUXO ANUAL'!K72","v":-21591002.34},{"$f":"'FLUXO ANUAL'!L72","v":-49182144.240000002},{"$f":"'FLUXO ANUAL'!M72","v":-17992501.949999999},{"$f":"'FLUXO ANUAL'!N72","v":-40985120.200000003},{"$f":"'FLUXO ANUAL'!O72","v":-14394001.560000001},{"$f":"'FLUXO ANUAL'!P72","v":-32788096.16},{"$f":"'FLUXO ANUAL'!Q72","v":-10795501.17},{"$f":"'FLUXO ANUAL'!R72","v":-24591072.120000001},{"$f":"'FLUXO ANUAL'!S72","v":-28671.55},{"$f":"'FLUXO ANUAL'!T72","v":-90000},{"$f":"'FLUXO ANUAL'!U72","v":0},{"$f":"'FLUXO ANUAL'!V72","v":0},{"$f":"'FLUXO ANUAL'!W72","v":0},{"$f":"'FLUXO ANUAL'!X72","v":0},{"$f":"'FLUXO ANUAL'!Y72","v":0},{"$f":"'FLUXO ANUAL'!Z72","v":0},{"$f":"'FLUXO ANUAL'!AA72","v":0},{"$f":"'FLUXO ANUAL'!AB72","v":0},{"$f":"'FLUXO ANUAL'!AC72","v":0},{"$f":"'FLUXO ANUAL'!AD72","v":0},{"$f":"'FLUXO ANUAL'!AE72","v":0},{"$f":"'FLUXO ANUAL'!AF72","v":0}]
[null,"45 (-) VARIAÇÃO CAMBIAL DA REPACTUAÇÃO EEB",{"$f":"'FLUXO ANUAL'!C73","v":0},{"$f":"'FLUXO ANUAL'!D73","v":0},{"$f":"'FLUXO ANUAL'!E73","v":0},{"$f":"'FLUXO ANUAL'!F73","v":0},{"$f":"'FLUXO ANUAL'!G73","v":0},{"$f":"'FLUXO ANUAL'!H73","v":0},{"$f":"'FLUXO ANUAL'!I73","v":0},{"$f":"'FLUXO ANUAL'!J73","v":-9682844.8380790055},{"$f":"'FLUXO ANUAL'!K73","v":0},{"$f":"'FLUXO ANUAL'!L73","v":-12961078.694987997},{"$f":"'FLUXO ANUAL'!M73","v":0},{"$f":"'FLUXO ANUAL'!N73","v":-16734826.055599995},{"$f":"'FLUXO ANUAL'!O73","v":0},{"$f":"'FLUXO ANUAL'!P73","v":-10301786.910015997},{"$f":"'FLUXO ANUAL'!Q73","v":0},{"$f":"'FLUXO ANUAL'!R73","v":-9725666.9991959967},{"$f":"'FLUXO ANUAL'!S73","v":0},{"$f":"'FLUXO ANUAL'!T73","v":1043.6489700000093},{"$f":"'FLUXO ANUAL'!U73","v":0},{"$f":"'FLUXO ANUAL'!V73","v":0},{"$f":"'FLUXO ANUAL'!W73","v":0},{"$f":"'FLUXO ANUAL'!X73","v":0},{"$f":"'FLUXO ANUAL'!Y73","v":0},{"$f":"'FLUXO ANUAL'!Z73","v":0},{"$f":"'FLUXO ANUAL'!AA73","v":0},{"$f":"'FLUXO ANUAL'!AB73","v":0},{"$f":"'FLUXO ANUAL'!AC73","v":0},{"$f":"'FLUXO ANUAL'!AD73","v":0},{"$f":"'FLUXO ANUAL'!AE73","v":0},{"$f":"'FLUXO ANUAL'!AF73","v":0}]
[null,"46 (-) REPACTUAÇÃO CEB-D",{"$f":"'FLUXO ANUAL'!C74","v":-22160096.460000001},{"$f":"'FLUXO ANUAL'!D74","v":-69205981.209999993},{"$f":"'FLUXO ANUAL'!E74","v":-18306166.66},{"$f":"'FLUXO ANUAL'!F74","v":-57170158.450000003},{"$f":"'FLUXO ANUAL'!G74","v":-18306166.66},{"$f":"'FLUXO ANUAL'!H74","v":-57170158.450000003},{"$f":"'FLUXO ANUAL'!I74","v":0},{"$f":"'FLUXO ANUAL'!J74","v":0},{"$f":"'FLUXO ANUAL'!K74","v":0},{"$f":"'FLUXO ANUAL'!L74","v":0},{"$f":"'FLUXO ANUAL'!M74","v":0},{"$f":"'FLUXO ANUAL'!N74","v":0},{"$f":"'FLUXO ANUAL'!O74","v":0},{"$f":"'FLUXO ANUAL'!P74","v":0},{"$f":"'FLUXO ANUAL'!Q74","v":0},{"$f":"'FLUXO ANUAL'!R74","v":0},{"$f":"'FLUXO ANUAL'!S74","v":0},{"$f":"'FLUXO ANUAL'!T74","v":0},{"$f":"'FLUXO ANUAL'!U74","v":-23123578.91},{"$f":"'FLUXO ANUAL'!V74","v":-72214936.900000006},{"$f":"'FLUXO ANUAL'!W74","v":-22160096.460000001},{"$f":"'FLUXO ANUAL'!X74","v":-69205981.209999993},{"$f":"'FLUXO ANUAL'!Y74","v":-21196614.010000002},{"$f":"'FLUXO ANUAL'!Z74","v":-66197025.520000003},{"$f":"'FLUXO ANUAL'!AA74","v":-20233131.559999999},{"$f":"'FLUXO ANUAL'!AB74","v":-63188069.829999998},{"$f":"'FLUXO ANUAL'!AC74","v":-19525923.149999999},{"$f":"'FLUXO ANUAL'!AD74","v":-61165922.960000001},{"$f":"'FLUXO ANUAL'!AE74","v":-18306166.66},{"$f":"'FLUXO ANUAL'!AF74","v":-57170158.450000003}]
[null,"47 (-) VARIAÇÃO CAMBIAL DA REPACTUAÇÃO CEB-D",{"$f":"'FLUXO ANUAL'!C75","v":0},{"$f":"'FLUXO ANUAL'!D75","v":-11605242.550682008},{"$f":"'FLUXO ANUAL'!E75","v":0},{"$f":"'FLUXO ANUAL'!F75","v":-14311761.12396799},{"$f":"'FLUXO ANUAL'!G75","v":0},{"$f":"'FLUXO ANUAL'!H75","v":-14311761.12396799},{"$f":"'FLUXO ANUAL'!I75","v":0},{"$f":"'FLUXO ANUAL'!J75","v":0},{"$f":"'FLUXO ANUAL'!K75","v":0},{"$f":"'FLUXO ANUAL'!L75","v":0},{"$f":"'FLUXO ANUAL'!M75","v":0},{"$f":"'FLUXO ANUAL'!N75","v":0},{"$f":"'FLUXO ANUAL'!O75","v":0},{"$f":"'FLUXO ANUAL'!P75","v":0},{"$f":"'FLUXO ANUAL'!Q75","v":0},{"$f":"'FLUXO ANUAL'!R75","v":0},{"$f":"'FLUXO ANUAL'!S75","v":0},{"$f":"'FLUXO ANUAL'!T75","v":0},{"$f":"'FLUXO ANUAL'!U75","v":0},{"$f":"'FLUXO ANUAL'!V75","v":-6266489.9205399901},{"$f":"'FLUXO ANUAL'!W75","v":0},{"$f":"'FLUXO ANUAL'!X75","v":-11605242.550682008},{"$f":"'FLUXO ANUAL'!Y75","v":0},{"$f":"'FLUXO ANUAL'!Z75","v":-18015002.280329011},{"$f":"'FLUXO ANUAL'!AA75","v":0},{"$f":"'FLUXO ANUAL'!AB75","v":-14889561.546884},{"$f":"'FLUXO ANUAL'!AC75","v":0},{"$f":"'FLUXO ANUAL'!AD75","v":-14020596.721389987},{"$f":"'FLUXO ANUAL'!AE75","v":0},{"$f":"'FLUXO ANUAL'!AF75","v":-14311761.12396799}]
[null,"48 (-) REPACTUAÇÃO CEEE-D",{"$f":"'FLUXO ANUAL'!C76","v":0},{"$f":"'FLUXO ANUAL'!D76","v":0},{"$f":"'FLUXO ANUAL'!E76","v":-60729974.979999997},{"$f":"'FLUXO ANUAL'!F76","v":-233433877.72},{"$f":"'FLUXO ANUAL'!G76","v":-60729974.979999997},{"$f":"'FLUXO ANUAL'!H76","v":-233433877.72},{"$f":"'FLUXO ANUAL'!I76","v":0},{"$f":"'FLUXO ANUAL'!J76","v":0},{"$f":"'FLUXO ANUAL'!K76","v":0},{"$f":"'FLUXO ANUAL'!L76","v":0},{"$f":"'FLUXO ANUAL'!M76","v":0},{"$f":"'FLUXO ANUAL'!N76","v":0},{"$f":"'FLUXO ANUAL'!O76","v":0},{"$f":"'FLUXO ANUAL'!P76","v":0},{"$f":"'FLUXO ANUAL'!Q76","v":0},{"$f":"'FLUXO ANUAL'!R76","v":0},{"$f":"'FLUXO ANUAL'!S76","v":0},{"$f":"'FLUXO ANUAL'!T76","v":0},{"$f":"'FLUXO ANUAL'!U76","v":0},{"$f":"'FLUXO ANUAL'!V76","v":0},{"$f":"'FLUXO ANUAL'!W76","v":0},{"$f":"'FLUXO ANUAL'!X76","v":0},{"$f":"'FLUXO ANUAL'!Y76","v":0},{"$f":"'FLUXO ANUAL'!Z76","v":0},{"$f":"'FLUXO ANUAL'!AA76","v":-60729974.979999997},{"$f":"'FLUXO ANUAL'!AB76","v":-233433877.72},{"$f":"'FLUXO ANUAL'!AC76","v":-60729974.979999997},{"$f":"'FLUXO ANUAL'!AD76","v":-233433877.72},{"$f":"'FLUXO ANUAL'!AE76","v":-60729974.979999997},{"$f":"'FLUXO ANUAL'!AF76","v":-233433877.72}]
[null,"49 (-) VARIAÇÃO CAMBIAL DA REPACTUAÇÃO CEEE-D",{"$f":"'FLUXO ANUAL'!C77","v":0},{"$f":"'FLUXO ANUAL'!D77","v":0},{"$f":"'FLUXO ANUAL'!E77","v":0},{"$f":"'FLUXO ANUAL'!F77","v":-3704528.5819039643},{"$f":"'FLUXO ANUAL'!G77","v":0},{"$f":"'FLUXO ANUAL'!H77","v":-3704528.5819039643},{"$f":"'FLUXO ANUAL'!I77","v":0},{"$f":"'FLUXO ANUAL'!J77","v":0},{"$f":"'FLUXO ANUAL'!K77","v":0},{"$f":"'FLUXO ANUAL'!L77","v":0},{"$f":"'FLUXO ANUAL'!M77","v":0},{"$f":"'FLUXO ANUAL'!N77","v":0},{"$f":"'FLUXO ANUAL'!O77","v":0},{"$f":"'FLUXO ANUAL'!P77","v":0},{"$f":"'FLUXO ANUAL'!Q77","v":0},{"$f":"'FLUXO ANUAL'!R77","v":0},{"$f":"'FLUXO ANUAL'!S77","v":0},{"$f":"'FLUXO ANUAL'!T77","v":0},{"$f":"'FLUXO ANUAL'!U77","v":0},{"$f":"'FLUXO ANUAL'!V77","v":0},{"$f":"'FLUXO ANUAL'!W77","v":0},{"$f":"'FLUXO ANUAL'!X77","v":0},{"$f":"'FLUXO ANUAL'!Y77","v":0},{"$f":"'FLUXO ANUAL'!Z77","v":0},{"$f":"'FLUXO ANUAL'!AA77","v":0},{"$f":"'FLUXO ANUAL'!AB77","v":-917022.73032200336},{"$f":"'FLUXO ANUAL'!AC77","v":0},{"$f":"'FLUXO ANUAL'!AD77","v":-412963.93798798323},{"$f":"'FLUXO ANUAL'!AE77","v":0},{"$f":"'FLUXO ANUAL'!AF77","v":-3704528.5819039643}]
[null,"SALDO  DA INADIMPLÊNCIA NO PERÍODO  ( D )\nREALIZADO / PREVISTO ",{"$f":"'FLUXO ANUAL'!C78","v":-432942860.38999999},{"$f":"'FLUXO ANUAL'!D78","v":-1929952810.1542134},{"$f":"'FLUXO ANUAL'!E78","v":-537110010.78999996},{"$f":"'FLUXO ANUAL'!F78","v":-2448447251.3027916},{"$f":"'FLUXO ANUAL'!G78","v":-537110010.78999996},{"$f":"'FLUXO ANUAL'!H78","v":-2448447251.3027916},{"$f":"'FLUXO ANUAL'!I78","v":-459569925.31000006},{"$f":"'FLUXO ANUAL'!J78","v":-1574653093.3228133},{"$f":"'FLUXO ANUAL'!K78","v":-451623571.96999997},{"$f":"'FLUXO ANUAL'!L78","v":-1651003046.0140543},{"$f":"'FLUXO ANUAL'!M78","v":-468413009.81999999},{"$f":"'FLUXO ANUAL'!N78","v":-1853809016.6725602},{"$f":"'FLUXO ANUAL'!O78","v":-497656715.83000004},{"$f":"'FLUXO ANUAL'!P78","v":-1840925225.6786883},{"$f":"'FLUXO ANUAL'!Q78","v":-452036955.47000003},{"$f":"'FLUXO ANUAL'!R78","v":-1788075155.2180362},{"$f":"'FLUXO ANUAL'!S78","v":-431425526.83000004},{"$f":"'FLUXO ANUAL'!T78","v":-1689680920.7127581},{"$f":"'FLUXO ANUAL'!U78","v":-471441383.39000005},{"$f":"'FLUXO ANUAL'!V78","v":-1951212136.3956604},{"$f":"'FLUXO ANUAL'!W78","v":-432942860.38999999},{"$f":"'FLUXO ANUAL'!X78","v":-1929952810.1542134},{"$f":"'FLUXO ANUAL'!Y78","v":-480263369.76999998},{"$f":"'FLUXO ANUAL'!Z78","v":-2259178422.9292331},{"$f":"'FLUXO ANUAL'!AA78","v":-604084028.88},{"$f":"'FLUXO ANUAL'!AB78","v":-2682239940.2150316},{"$f":"'FLUXO ANUAL'!AC78","v":-503055116.5},{"$f":"'FLUXO ANUAL'!AD78","v":-2288204112.7648997},{"$f":"'FLUXO ANUAL'!AE78","v":-537110010.78999996},{"$f":"'FLUXO ANUAL'!AF78","v":-2448447251.3027916}]
[null,"SALDO  APÓS A INADIMPLÊNCIA ( E ) = ( C + D )",{"$f":"'FLUXO ANUAL'!C79","v":-567824964.35858929},{"$f":"'FLUXO ANUAL'!D79","v":-866924377.88421011},{"$f":"'FLUXO ANUAL'!E79","v":-294096896.76160389},{"$f":"'FLUXO ANUAL'!F79","v":274928996.34350634},{"$f":"'FLUXO ANUAL'!G79","v":-294096896.76160383},{"$f":"'FLUXO ANUAL'!H79","v":274928996.34351015},{"$f":"'FLUXO ANUAL'!I79","v":-1392808074.8071361},{"$f":"'FLUXO ANUAL'!J79","v":-3643259654.2228131},{"$f":"'FLUXO ANUAL'!K79","v":-1269954621.1737416},{"$f":"'FLUXO ANUAL'!L79","v":-3283905923.6340542},{"$f":"'FLUXO ANUAL'!M79","v":-1180972250.3741157},{"$f":"'FLUXO ANUAL'!N79","v":-2937939704.7825603},{"$f":"'FLUXO ANUAL'!O79","v":-1080810519.5744634},{"$f":"'FLUXO ANUAL'!P79","v":-2656919893.3186884},{"$f":"'FLUXO ANUAL'!Q79","v":-908153071.10110855},{"$f":"'FLUXO ANUAL'!R79","v":-2093765059.5180361},{"$f":"'FLUXO ANUAL'!S79","v":-779112221.40819812},{"$f":"'FLUXO ANUAL'!T79","v":-1695856671.1427581},{"$f":"'FLUXO ANUAL'!U79","v":-713192804.43354869},{"$f":"'FLUXO ANUAL'!V79","v":-1428611398.6756604},{"$f":"'FLUXO ANUAL'!W79","v":-567824964.35858965},{"$f":"'FLUXO ANUAL'!X79","v":-866924377.88421345},{"$f":"'FLUXO ANUAL'!Y79","v":-507298865.89890504},{"$f":"'FLUXO ANUAL'!Z79","v":-553231233.62923312},{"$f":"'FLUXO ANUAL'!AA79","v":-529558425.51847947},{"$f":"'FLUXO ANUAL'!AB79","v":-653066348.92873883},{"$f":"'FLUXO ANUAL'!AC79","v":-349315910.69418561},{"$f":"'FLUXO ANUAL'!AD79","v":33956327.001393318},{"$f":"'FLUXO ANUAL'!AE79","v":-294096896.76160407},{"$f":"'FLUXO ANUAL'!AF79","v":274928996.34350109}]
[null,"SALDO DEVEDOR DOS EMPRÉSTIMOS  REALIZADOS  ( N )\n(PRINCIPAL + JUROS) POSIÇÃO EM  31/12/2015",null,null,null,null,null,{"$f":"'FLUXO ANUAL'!H80","v":-486551009.69999945}]
[null,"SALDO FINAL APÓS QUITAÇÃO DOS EMPRÉSTIMOS  REALIZADOS \n (PRINCIPAL + JUROS)  - PÓSIÇÃO EM  31/12/2015 ( F ) = ( E + N )",null,null,null,null,null,{"$f":"'FLUXO ANUAL'!H81","v":-211622013.3564893}]
[]
[]
[]
[null,"DÉBITO ACUMULADO DOS EMPRÉTIMOS OBTIDOS POR ITAIPU JUNTO À ELETROBRAS \nPOSIÇÃO  EM 31/12/2015"]
[null," SALDO DEVEDOR DOS EMPRÉSTIMOS  REALIZADOS (PRINCIPAL) - POSIÇÃO EM:   31/12/2014 ( G )",null,null,null,null,null,{"$f":"'FLUXO ANUAL'!H86","v":-3587564851.9099998}]
[null," EMPRÉSTIMOS  OBTIDOS NO EXERCÍCIO (PRINCIPAL) - POSIÇÃO EM :  31/12/2015  ( H )",null,null,null,null,null,{"$f":"'FLUXO ANUAL'!H87","v":-1703573663.1099999}]
[null," AMORTIZAÇÃO  REALIZADA NO EXERCÍCIO (PRINCIPAL) - POSIÇÃO EM:    31/12/2015    ( I )",null,null,null,null,null,{"$f":"'FLUXO ANUAL'!H88","v":4809841985.9200001}]
[null,"SALDO DEVEDOR DO PRINCIPAL DOS EMPRÉSTIMOS OBTIDOS NO EXERCÍCIO DE 2015 \nPOSIÇÃO EM: 31/12/2015  ( J ) = ( G + H + I )",null,null,null,null,null,{"$f":"'FLUXO ANUAL'!H89","v":-481296529.09999943}]
[null," JUROS INCORRIDOS NO EXERCÍCIO DE 2015 - POSIÇÃO EM 31/12/2015 ( K )",null,null,null,null,null,{"$f":"'FLUXO ANUAL'!H90","v":-397874706.44}]
[null," AMORTIZAÇÃO DOS JUROS INCORRIDOS NO EXERCÍCIO DE 2015 - POSIÇÃO EM 31/12/2015 ( L )",null,null,null,null,null,{"$f":"'FLUXO ANUAL'!H91","v":392620225.83999997}]
[null,"SALDO DEVEDOR DOS JUROS INCORRIDOS NO EXERCÍCIO DE 2015\nPOSIÇÃO EM 31/12/2015  ( M ) = ( K + L )",null,null,null,null,null,{"$f":"'FLUXO ANUAL'!H92","v":-5254480.6000000238}]
[null,"SALDO DEVEDOR DOS EMPRÉSTIMOS  REALIZADOS (PRINCIPAL + JUROS) \nPÓSIÇÃO EM  31/12/2015  ( N ) = ( J + M )",null,null,null,null,null,{"$f":"'FLUXO ANUAL'!H93","v":-486551009.69999945}]
[null,"MONTANTE QUITADO DOS EMPRÉSTIMOS OBTIDOS NO EXERCÍCIO DE 2015 \n(PRINCIPAL + JUROS) ( O ) = ( I + L )",null,null,null,null,null,{"$f":"'FLUXO ANUAL'!H94","v":5202462211.7600002}]

{"sheet":"ITENS RECEITAS E DESPESAS ATUAL","index":2,"n_rows":40,"n_cols":3,"rows_kept":40,"cut":false,"hidden":true,"merged":[[1,1,1,2]]}
[]
[null,"ÍNDICE DOS ITENS DAS RECEITAS / DESPESAS DA CONTA DE COMERCIALIZAÇÃO DE ITAIPU"]
[null,"   Regime de Competência: Aquele em que apuração do fato é realizada no mês de lançamento do mesmo."]
[null,"   Regime de Caixa: Aquele em que a apuração do fato é realizada pela movimentação bancária."]
[null,"DESCRIÇÃO ","CRITÉRIO DE APROPRIAÇÃO"]
[null,"01 (+) Liquidação CCEE  - Venda de Energia","Regime de Competência "]
[null,"01.1 (+) Liq. CCEE - Recuperação Inadimplência do Mês Anterior","Regime de Competência"]
[null,"01.2 (-) Liq. CCEE - Inadimplência do Mês","Regime de Competência"]
[null,"02 (+) Faturamento do Repasse da Energia ","Regime de Competência"]
[null,"03 (+) Juros referentes ao Repasse da Energia "," Regime de Caixa - O registro desses valores é realizado no \n    momento da regularização dos pagamentos em atraso quer\n    por liquidação financeira ou renegociação das dividas."]
[null,"04 (+) Juros contratuais do Repasse de ITAIPU sobre créditos \n           renegociados","Regime de Caixa"]
[null,"05 (+) Rendimento de aplicação financeira  B.B. S/A","Regime de Caixa"]
[null,"06 (+) Rendimento Aplic. Financ.do Aporte de Garantias Liq.CCEE","Regime de Caixa"]
[null,"07 (+) Devolução do bônus de ITAIPU","Regime de Caixa"]
[null,"08 (-) Liquidação CCEE  - Compra de Energia","Regime de Competência"]
[null,"09 (-) Multa de 2% Pelo Não Aporte das Garantias","Regime de Competência"]
[null,"10 (-) Potência Contratada","Regime de Competência"]
[null,"11 (-) Energia Cedida Vinculada","Regime de Competência"]
[null,"12 (-) Ajuste do dólar - Energia Cedida Vinculada","Regime de Competência"]
[null,"13 (-) Energia Cedida Não Vinculada ","Regime de Competência"]
[null,"14 (-) Royalties Energia Cedida Não Vinculada","Regime de Competência"]
[null,"15 (-) Ressarcimento Encargos Supervisão Não Vinculado ","Regime de Competência"]
[null,"16 (-) Ajuste do dólar Energia Cedida Não Vinculada","Regime de Competência"]
[null,"17 (-) Ajuste do dólar - Royalties ","Regime de Competência"]
[null,"18 (-) Ajuste do dólar - Ressarcimento de Encargos ","Regime de Competência"]
[null,"19 (-) Juros da Potência Contratada, Energias Cedidas, Royalties,\n          Ressarcimento e dos Ajustes do Dólar ","Regime de caixa"]
[null,"20 (-) Ativo Regulatório - Tesouro","Regime de caixa"]
[null,"21 (-) Ativo Regulatório - Eletrobrás","Regime de caixa"]
[null,"22 (-) Custos Administrativos ","Regime de caixa"]
[null,"23 (-) Contribuição Anual a CCEE","Regime de caixa"]
[null,"24 (-) Contribuição ao O N S","Regime de caixa"]
[null,"25 (-) Despesas Bancárias","Regime de caixa"]
[null,"26 (-) Custeio com Imposto de Renda  ","Regime de caixa"]
[null,"27 (-) Custeio com IOF","Regime de caixa"]
[null,"28 (+/-)  Juros Pagos  dos Empréstimos Obtidos por ITAIPU  Junto à \n             ELETROBRAS e juros por atraso de transferência da CCEE","Regime de Competência"]
[null,"29 (-) Pagamento de bônus de ITAIPU","Esta despesa está registrada pelo regime de competência \n    tendo como fato gerador  a emissão de Despacho da ANEEL "]
[null,"30 (+) Variação Cambial (Ativa)","Regime de Competência"]
[null,"31 (-) Variação Cambial (Passiva)","Regime de Competência"]
[null,"32 (+ / -) Receitas / Despesas com COFINS","Valores apropriados pelo regime de competência,  \n    reconhecendo-se créditos tributários quando a operação \n    for deficitária. "]
[null,"33 (+ / -) Receitas / Despesas com PASEP","Valores apropriados pelo regime de competência,  \n    reconhecendo-se créditos tributários quando a operação \n    for deficitária. "]

{"sheet":"contas contábeis","index":3,"n_rows":63,"n_cols":8,"rows_kept":63,"cut":false,"hidden":true,"merged":[[10,6,13,6],[10,7,13,7],[62,4,62,7],[6,1,6,4],[10,1,11,3],[14,1,14,2],[10,4,13,4],[10,5,13,5]]}
[null," "]
[null,"                           Centrais Elétricas Brasileiras S/A. - ELETROBRÁS"]
[null,"                           Diretoria Financeira - DF"]
[null,"                           Departamento de Administração de Capital de Giro - DFG"]
[null,"  "]
[]
[null,"FLUXO ECONÔMICO DA COMERCIALIZAÇÃO DE ENERGIA DE ITAIPU - DEZEMBRO/2014"]
[]
[null,null,null,null,"data base: ","data base: ","data base: ","data base: "]
[]
[null,"  Natureza das Contas",null,null,"CONTA CONTABIL","CLIENTE ","FORNECEDOR","FORNECEDOR"]
[]
[]
[]
[]
[null,"(+) Rendimento de aplicação financeira realizada no Banco do Brasil S/A",null,null,6310540000]
[null,"(+) Faturamento do Repasse da Energia ",null,null,"-----","TODOS",null,"IS"]
[null,"(+) Juros referentes ao Repasse da Energia ",null,null,6310920101,"TODOS",null,"IS"]
[null,"(+) Rendimento de aplicação financeira referente ao aporte de garantias da Liquidação CCEE"]
[null,"(+/-) Liquidação CCEE ",null,null,"-----"]
[null,"(+/-) Atualização Liquidação CCEE",null,null,"-----"]
[null,"(+/-) Ajuste Liquidação CCEE  - Competência  ",null,null,"-----"]
[null,"(+) Devolução do bônus de Itaipu Despacho ANEEL nº ",null,null,2119410000,"TODOS"]
[null,"(+) Variação Cambial (Ativa)",null,null,6311100001]
[null,"(-) Variação Cambial (Passiva)"]
[null,"(-) Potência Contratada",null,null,"-----",null,10407]
[null,"(-) Juros referentes à Potência Contratada - Acréscimo Moratório de ITAIPU",null,null,6350900101]
[null,"(-) Energia Cedida Vinc",null,null,"-----",null,10407]
[null,"(-) Juros referentes à Energia Cedida Vinc - Acréscimo Moratório de ITAIPU",null,null,6350900101]
[null,"(-) Energia Cedida Não-Vinc. ",null,null,"-----",null,10407]
[null,"(-) Juros referentes à Energia Cedida Não-Vinc. - Acréscimo Moratório de ITAIPU",null,null,6350900101]
[null,"(-) Royalties Ener. Não-Vinc",null,null,"-----",null,10407]
[null,"(-) Juros referentes aos Royalties Ener. Não-Vinc - Acréscimo Moratório de ITAIPU",null,null,6350900101]
[null,"(-) Ressarc. Enc. Supervisão Não-Vinc. ",null,null,"-----",null,10407]
[null,"(-) Juros referentes aos Ressarc. Enc. Supervisão Não-Vinc.  - Acréscimo Moratório de ITAIPU",null,null,6350900101]
[null,"(-) Ajuste do dólar - Ress Encargos ",null,null,"-----",null,10407]
[null,"(-) Juros referentes ao Ajuste do dólar - Ress Encargos  - Acréscimo Moratório de ITAIPU",null,null,6350900101]
[null,"(-) Ajuste do dólar - Royalties ",null,null,"-----",null,10407]
[null,"(-) Juros referentes ao Ajuste do dólar - Royalties  - Acréscimo Moratório de ITAIPU",null,null,6350900101]
[null,"(-) Ajuste do dólar Ener. Vinc. ",null,null,"-----",null,10407]
[null,"(-) Juros referentes ao Ajuste do dólar Ener. Vinc.  - Acréscimo Moratório de ITAIPU",null,null,6350900101]
[null,"(-) Ajuste do dólar Ener. Não-Vinc.  ",null,null,"-----",null,10407]
[null,"(-) Juros referentes ao Ajuste do dólar Ener. Não-Vinc.   - Acréscimo Moratório de ITAIPU",null,null,6350900101]
[null,"(-)Custeio com Imposto de Renda  "]
[null,"(+) Reposição do Custeio com Imposto de Renda  ",null,null,"-----"]
[null,"(+) Atualização Monet.da Repos. do Custeio com Imposto de Renda ",null,null,"-----"]
[null,"(-) Custeio com IOF",null,null,6159310301,null,null,"SA"]
[null,"(+ / -) Receitas / Despesas com COFINS",null,null,"-----"]
[null,"(+ / -) Receitas / Despesas com PASEP",null,null,"-----"]
[null,"(-) Contribuição Anual a CCEE",null,null,6154140100,null,70075]
[null,"(-) Contribuição ao O N S",null,null,6154140100,null,14715,"KR"]
[null,"(-) Ativo Regulatório - Tesouro",null,null,null,null,70035,77]
[null,"(-) Ativo Regulatório - Eletrobrás",null,null,"CONTABILIDADE"]
[null,"(-) Custos Administrativos ",null,null,6154140302]
[null,"(-) Pagamento bônus Itaipu -  Despacho ANEEL nº",null,null,"-----",null,"TODOS","77 RZE R"]
[null,"(-) Despesas Bancárias ",null,null,6154140100,null,null,"AB"]
[null,"( + ) Juros de Mora Incorporados ao Contrato da CELG-D",null,null,6310920101,10073,null,"IS"]
[null,"( + )  Juros contratuais do Repasse de ITAIPU da CELG-D",null,null,"-----",10073,null,"IS"]
[null,"( + ) Juros de Mora Incorporados ao Contrato da CEMAT",null,null,6310920101,10038,null,"IS"]
[null,"( + )  Juros contratuais do Repasse de ITAIPU da CEMAT",null,null,"-----",10038,null,"IS"]
[null,"( + ) Juros de Mora Incorporados ao Contrato da EEB",null,null,6310920101,10019,null,"IS"]
[null,"( + )  Juros contratuais do Repasse de ITAIPU da EEB.",null,null,"-----",10019,null,"IS"]
[null,"(-/+) Juros Pagos dos Empréstimos Obtidos por ITAIPU Junto à ELETROBRAS",null,null,"FORNECIDO PELA DFGT"]