{"text_format":"1","workbook":"xlsx","n_sheets":4,"sheets":["FLUXO ANUAL","FLUXO MENSAL","ITENS RECEITAS E DESPESAS ATUAL","contas contábeis"],"not_rendered":{"charts":0,"images":5,"macros":1,"external_links":1,"defined_names":186,"comments":0,"pivot_tables":0},"unopened":[],"bounds":{"document_bytes":16777216,"sheet_cells":100000,"rows_first":2000,"rows_last":500,"rows_between":2000,"halvings":0,"cell_chars":16384,"cell_head_chars":4096},"cells_cut":0,"cells_raw":0,"read":"whole","date_system":"1900"}

{"sheet":"FLUXO ANUAL","index":0,"n_rows":79,"n_cols":35,"rows_kept":79,"cut":false,"hidden":false,"merged":[[13,13,16,13],[13,2,16,2],[13,3,16,3],[13,4,16,4],[13,5,16,5],[13,6,16,6],[13,7,16,7],[13,8,16,8],[13,9,16,9],[13,10,16,10],[13,11,16,11],[13,12,16,12],[13,25,16,25],[13,14,16,14],[13,15,16,15],[13,16,16,16],[13,17,16,17],[13,18,16,18],[13,19,16,19],[13,20,16,20],[13,21,16,21],[13,22,16,22],[13,23,16,23],[13,24,16,24],[13,32,16,32],[41,2,44,2],[41,3,44,3],[41,4,44,4],[41,5,44,5],[41,6,44,6],[41,7,44,7],[41,8,44,8],[41,9,44,9],[41,10,44,10],[13,26,16,26],[13,27,16,27],[13,28,16,28],[13,29,16,29],[13,30,16,30],[13,31,16,31],[60,7,63,7],[41,23,44,23],[41,24,44,24],[41,25,44,25],[41,26,44,26],[41,17,44,17],[41,18,44,18],[41,19,44,19],[41,20,44,20],[41,21,44,21],[41,22,44,22],[41,11,44,11],[41,12,44,12],[41,13,44,13],[41,14,44,14],[41,15,44,15],[60,2,63,2],[60,3,63,3],[60,4,63,4],[60,5,63,5],[60,6,63,6],[60,13,63,13],[41,29,44,29],[41,30,44,30],[41,31,44,31],[41,32,44,32],[41,27,44,27],[41,28,44,28],[41,16,44,16],[60,25,63,25],[60,14,63,14],[60,15,63,15],[60,16,63,16],[60,17,63,17],[60,18,63,18],[60,19,63,19],[60,20,63,20],[60,8,63,8],[60,9,63,9],[60,10,63,10],[60,11,63,11],[60,12,63,12],[60,21,63,21],[60,22,63,22],[60,23,63,23],[60,24,63,24],[60,32,63,32],[60,26,63,26],[60,27,63,27],[60,28,63,28],[60,29,63,29],[60,30,63,30],[60,31,63,31]]}
[null,null,"                           Centrais Elétricas Brasileiras S/A. - ELETROBRÁS"]
[null,null,"                           Diretoria Financeira - DF"]
[null,null,"                          Superintendência  Financeira - DFF"]
[null,null,"                           Departamento de Operações Financeiras - DFFO"]
[null,null,"                           Demonstrativo de Saldo da Conta de Comercialização da Energia Elétrica de Itaipu"]
[null,null,"                           FLUXO DA CONTA DE COMERCIALIZAÇÃO DE ENERGIA ELÉTRICA DE ITAIPU - EXERCÍCIO DE 2018"]
[]
[null,null,"Data da Emissão:",null,"2019-04-25"]
[null,null,null,null,null,null,null,null,"Em R$","2018-01-31",3.1623999999999999,"2018-02-28",3.2448999999999999,"2018-03-29",3.3237999999999999,"2018-04-30",3.4811000000000001,"2018-05-30",3.7370000000000001,"2018-06-29",3.8557999999999999,"2018-07-31",3.7549000000000001,"2018-08-31",4.1353,"2018-09-28",4.0038999999999998,"2018-10-31",3.7176999999999998,"2018-11-30",3.8633000000000002,"2018-11-30",3.8748]
[null,null,"SALDO ANTES DA INADIMPLÊNCIA EM 31/12/2017. ( A )",27265221.039999999,1566565589.8,"----","----",{"$f":"D10","v":27265221.039999999},{"$f":"E10","v":1566565589.8},"   SALDO FINAL MÊS ANTERIOR","   SALDO FINAL MÊS ANTERIOR","   SALDO FINAL MÊS ANTERIOR","   SALDO FINAL MÊS ANTERIOR","   SALDO FINAL MÊS ANTERIOR","   SALDO FINAL MÊS ANTERIOR","   SALDO FINAL MÊS ANTERIOR","   SALDO FINAL MÊS ANTERIOR","   SALDO FINAL MÊS ANTERIOR","   SALDO FINAL MÊS ANTERIOR","   SALDO FINAL MÊS ANTERIOR","   SALDO FINAL MÊS ANTERIOR","   SALDO FINAL MÊS ANTERIOR","   SALDO FINAL MÊS ANTERIOR","   SALDO FINAL MÊS ANTERIOR","   SALDO FINAL MÊS ANTERIOR","   SALDO FINAL MÊS ANTERIOR","   SALDO FINAL MÊS ANTERIOR","   SALDO FINAL MÊS ANTERIOR","   SALDO FINAL MÊS ANTERIOR","   SALDO FINAL MÊS ANTERIOR","   SALDO FINAL MÊS ANTERIOR","   SALDO FINAL MÊS ANTERIOR","   SALDO FINAL MÊS ANTERIOR"]
[null,null,"AJUSTE DO SALDO ANTES DA INADIMPLÊNCIA EM 31/12/2017 REFERENTE A INADIMPLÊNCIA DA LIQUIDAÇÃO CCEE NÃO LANÇADA EM DEZEMBRO/2017",{"$f":"+E11/3.308","v":-6515529.6432889961},-21553372.059999999,null,"----",{"$f":"D11","v":-6515529.6432889961},{"$f":"E11","v":-21553372.059999999}]
[null,null,"SALDO ANTES DA INADIMPLÊNCIA EM 01/01/2018. ( A )",{"$f":"SUM(D10:D11)","v":20749691.396711003},{"$f":"SUM(E10:E11)","v":1545012217.74},null,"----",{"$f":"SUM(H10:H11)","v":20749691.396711003},1545012217.74]
[null,null,"SALDO ANTES DA INADIMPLÊNCIA EM: 31/08/2018 ( A )","----","----",{"$f":"D60","v":65010871.529702619},{"$f":"E60","v":1490704047.0410738},"----","----",{"$f":"D12","v":20749691.396711003},{"$f":"E12","v":1545012217.74},{"$f":"J60","v":20918645.726711001},1511622550.2,21809287.606711,1532458917.6400001,22115749.556710999,1550044305.1400001,-2574353.2432890013,1427848075.6100001,15270064.836710997,1349394342.0000002,26856728.796710998,1308334161.4400003,52387354.146710999,1418669840.3600004,65010871.526711002,1490704047.0400004,126768277.90671101,1736786385.1800003,136204307.92671102,1736096242.9400003,108238187.21671101,1737538900.8500004]
[null,null,"NATUREZA DAS CONTAS","VALORES REALIZADOS DE JANEIRO A AGOSTO/2018                   EM US$","VALORES REALIZADOS DE JANEIRO A AGOSTO/2018                 EM R$","VALORES PREVISTOS DE SETEMBRO A DEZEMBRO/2018                   EM US$","VALORES REALIZADOS DE SETEMBRO A DEZEMBRO/2018                   EM R$","TOTAIS DE JANEIRO A DEZEMBRO/2018                   EM US$","TOTAIS DE JANEIRO A DEZEMBRO/2018                  EM R$","JANEIRO/2018                  EM US$","JANEIRO/2018                   EM R$","FEVEREIRO/2018                  EM US$","FEVEREIRO/2018                   EM R$","MARÇO/2018                   EM US$","MARÇO/2018                  EM R$","ABRIL/2018                   EM US$","ABRIL/2018                  EM R$","MAIO/2018                          EM US$","MAIO/2018                            EM R$","JUNHO/2018                   EM US$","JUNHO/2018                   EM R$","JULHO/2018                   EM US$","JULHO/2018                   EM R$","AGOSTO/2018                   EM US$","AGOSTO/2018                   EM R$","SETEMBRO/2018                   EM US$","SETEMBRO/2018                   EM R$","OUTUBRO/2018                   EM US$","OUTUBRO/2018                   EM R$","NOVEMBRO/2018                   EM US$","NOVEMBRO/2018                   EM R$","DEZEMBRO/2018                   EM US$","DEZEMBRO/2018                   EM R$"]
[]
[]
[]
[null,null,"01 (+) Faturamento do Repasse da Energia ",{"$f":"+J18+L18+N18+P18+R18+T18+V18+X18","v":2429149116.3900003},8741370398.6400013,{"$f":"+Z18+AB18+AD18+AF18","v":1204541483.6100001},4642288809.3900003,{"$f":"+J18+L18+N18+P18+R18+T18+V18+X18+Z18+AB18+AD18+AF18","v":3633690600.0000005},13383659208.030001,290823422.13,920776036.83000004,290266105.74000001,939968730.17999995,298069650,994956491.75999999,301413994.25999999,1054255727.73,310332450,1157198672.79,313676850,1208314593.9000001,313119422.13,1163677020.3,311447222.13,1302223125.1500001,309775022.13,1241950018.71,301971477.87,1117717228.1400001,299184561.48000002,1153895016.72,293610422.13,1128726545.8199999,null,{"$f":"+K18+M18+O18","v":2855701258.77}]
[null,null,"02 (+) Juros referentes ao Repasse da Energia ",{"$f":"+J19+L19+N19+P19+R19+T19+V19+X19","v":2227551.9700000007},{"$f":"+K19+M19+O19+Q19+S19+U19+W19+Y19","v":8625940.9799999986},{"$f":"+Z19+AB19+AD19+AF19","v":1891828.0199999998},{"$f":"+AA19+AC19+AE19+AG19","v":7137037.8200000003},{"$f":"+J19+L19+N19+P19+R19+T19+V19+X19+Z19+AB19+AD19+AF19","v":4119379.9900000007},{"$f":"+K19+M19+O19+Q19+S19+U19+W19+Y19+AA19+AC19+AE19+AG19","v":15762978.800000001},1142016.04,3680493.81,410591.1,1334790.06,131295.57999999999,428754.55,90965.07,978060.52,341650.34,1775306.4,11734.96,43791.5,61984.99,237950.29,37313.89,146793.85,155448.76,639668.80000000005,1556454.91,5809103.4800000004,74311.7,279744.88,105612.65,408520.66]
[null,null,"03 (+) Juros contratuais do Repasse de ITAIPU sobre créditos \n            renegociados",27779399.591735844,99468258.719999999,13238630.651626863,51158712.480000004,41018030.24336271,150626971.19999999,{"$f":"1905329.52+6237608.65/K9","v":3877758.2608297495},12540438.699999999,{"$f":"1771654.09+5627150.22/M9","v":3505806.2117911186},11364297.66,{"$f":"1821623.95+6305132.36/O9","v":3718588.9779800232},12359846.039999999,{"$f":"1907965.13+5703722.79/Q9","v":3546448.0204656571},12345540.210000001,{"$f":"1762942.64+5554657.92/S9","v":3249337.5878191059},12142774.57,{"$f":"1883630.8+5911560.4/U9","v":3416791.3373722704},13174464.039999999,{"$f":"1742048.87+5394133.64/W9","v":3178607.4041820019},11868284.060000001,{"$f":"1824882.82+6042413.4/Y9","v":3286061.7912959158},13672613.439999999,{"$f":"1813390.44+5374139.23/AA9","v":3155616.577016409},12634773.210000001,{"$f":"1743772.31+4437980.88/AC9","v":2937515.9902324015},10893251.6,{"$f":"2291234.45+5188947/AE9","v":3634372.9585289778},14025780.029999999,{"$f":"2068399.3+5590274.03/AG9","v":3511125.1258490761},13604907.640000001]
[null,null,"04 (+) Rendimento de aplicação financeira  B.B. S/A",465594.97384200641,1642955.8000000003,1235948.9936470399,4769077.26,1701543.9674890465,6412033.0600000005,{"$f":"K21/K9","v":70799.127245130279},223895.16,{"$f":"M21/M9","v":39866.445807266791},129362.63,{"$f":"O21/O9","v":97377.952945423924},323664.84000000003,{"$f":"Q21/Q9","v":58357.246272729884},203147.41,{"$f":"S21/S9","v":25039.909017928818},93574.14,{"$f":"U21/U9","v":5299.0844960838213},20432.21,{"$f":"W21/W9","v":129830.52544674958},487500.64,{"$f":"Y21/Y9","v":39024.6826106933},161378.76999999999,{"$f":"AA21/AA9","v":65994.120732286028},264233.86,{"$f":"AC21/AC9","v":167444.49525244103},622508.4,{"$f":"AE21/AE9","v":190627.07529832007},736449.58,{"$f":"AG21/AG9","v":811883.3023639929},3145885.42]
[null,null,"05 (+) Devolução do bônus de ITAIPU",0,0,0,0,0,0,0,0,0,0,0,0,0,0,0,0,0,0,0,0,0,0,0,0,0,0,0,0,0,0]
[null,null,"06 (+) Liquidação CCEE  - Venda de Energia",143122977.90470666,485629541.72000003,36079010.014564447,216615714.07999998,179201987.91927108,702245255.80000007,{"$f":"K23/K$9","v":34498871.976979509},109099232.73999999,{"$f":"M23/M$9","v":27078977.879133407},87868575.319999993,{"$f":"O23/O$9","v":31476411.110776823},{"$f":"104621295.25","v":104621295.25},{"$f":"Q23/Q$9","v":23529889.756111573},81909899.230000004,{"$f":"S23/S$9","v":11678707.907412363},43643331.450000003,{"$f":"U23/U$9","v":7107161.5747704767},27403793.600000001,{"$f":"W23/W$9","v":2569379.1925217714},9647761.9299999997,{"$f":"Y23/Y$9","v":5183578.5070007015},21435652.199999999,{"$f":"AA23/AA$9","v":3401010.1600939087},13617304.58,{"$f":"AC23/AC$9","v":16845223.272453401},{"$f":"62164985.97+460500.59","v":62625486.560000002},0,79024080.239999995,{"$f":"AG23/AG$9","v":15832776.582017137},61348842.700000003]
[null,null,"07 (+) Rendimento Aplic. Financ.do Aporte de Garantias Liq.CCEE",0,0,0,0,0,0,{"$f":"K24/K$9","v":0},0,0,0,{"$f":"O24/O$9","v":0},0,{"$f":"Q24/Q$9","v":0},0,{"$f":"S24/S$9","v":0},0,{"$f":"U24/U$9","v":0},0,{"$f":"W24/W$9","v":0},0,{"$f":"Y24/Y$9","v":0},0,0,0,{"$f":"AC24/AC$9","v":0},0,{"$f":"AE24/AE$9","v":0},0,{"$f":"AG24/AG$9","v":0},0]
[null,null,"08 (+) Liq. CCEE - Recuperação Inadimplência do Mês Anterior",556200121.87799525,1984734725.7199998,113621952.95164824,450703267.77999997,669822074.82964349,2435437993.5,6815511.0232734634,21553372.059999999,37548332.731363058,{"$f":"100287212.83+21553372.05","v":121840584.88},{"$f":"O25/O$9","v":60084268.319393463},{"$f":"100287212.83+21553372.05+77867506.16","v":199708091.03999999},{"$f":"N26*-1","v":82050330.633612126},{"$f":"100287212.83-3441.63+21553372.05+77867506.16+73014239.55","v":272718888.95999998},96891164.809973851,337287833.81999999,95081938.611185431,{"$f":"337287833.82+18033370.77","v":355321204.58999997},88718744.195757046,342081733.87,89009831.553436846,334223016.5,81494523.562027022,326295922.88999999,0,0,6958131.2090699663,26881348.300000001,{"$f":"AG25/AG$9","v":25169298.180551253},97525996.590000004]
[null,null,"09 (-) Liq. CCEE - Inadimplência do Mês",-630730135.75904596,-2289477276.5517778,-70079752.914385289,-270118784.60000002,-700809888.67343116,-2559596061.1517782,-38527885.429350533,-121840584.88177812,-61545222.053067893,-199708091.03999999,{"$f":"O26/O$9","v":-82050330.633612126},-272718888.95999998,{"$f":"Q26/Q$9","v":-96891164.809973851},-337287833.81999999,{"$f":"S26/S$9","v":-95081938.611185431},-355321204.58999997,{"$f":"U26/U$9","v":-88718744.195757046},-342081733.87,{"$f":"W26/W$9","v":-89009831.553436846},-334223016.5,{"$f":"Y26/Y$9","v":-78905018.472662196},-326295922.88999999,{"$f":"AA26/AA$9","v":0},0,{"$f":"AC26/AC$9","v":-7230639.4545014398},-26881348.300000001,{"$f":"AE26/AE$9","v":-25244220.378950637},-97525996.590000004,{"$f":"AG26/AG$9","v":-37604893.080933213},-145711439.71000001,null,"potencia contratada"]
[null,null,"10 (-) Liquidação CCEE  - Compra de Energia",0,0,0,0,0,0,0,0,0,0,{"$f":"O27/O$9","v":0},0,{"$f":"Q27/Q$9","v":0},0,{"$f":"S27/S$9","v":0},0,{"$f":"U27/U$9","v":0},0,{"$f":"W27/W$9","v":0},0,{"$f":"Y27/Y$9","v":0},0,{"$f":"AA27/AA$9","v":0},0,{"$f":"AC27/AC$9","v":0},0,{"$f":"AE27/AE$9","v":0},0,{"$f":"AG27/AG$9","v":0},0,null,-850552744.39999998]
[null,null,"11 (-) Multa de 2% Pelo Não Aporte das Garantias",0,0,0,0,0,0,0,0,0,0,0,0,0,0,0,0,0,0,0,0,0,0,0,0,0,0,0,0,0,0,null,{"$f":"Q29","v":-931801287.82000005}]
[null,null,"12 (-) Potência Contratada",-1967741094,-7159207301.1100006,-973337997.80000007,-3681642571.0145802,-2941079091.7999997,-10840849872.12458,-235188165.59999999,-743759054.88999999,-235373530.80000001,-763763570.09000003,-241497859.59999999,-802690585.74000001,-244334476,-931801287.82000005,-251158817.19999999,-938580499.88,-254238926,-983701252.48000002,-253889326.59999999,-952567364.47000003,-252059992.19999999,-1042343685.74,-250687042.19999999,{"$f":"Z29*AA9","v":-1003725848.2645799},-243005889.80000001,-903422996.50999999,-242298374.19999999,-936071309.04999995,-237346691.59999999,{"$f":"-919670960.61+81248543.42","v":-838422417.19000006},null,{"$f":"+AI27-AI28","v":81248543.420000076}]
[null,null,"13 (-) Energia Cedida Fator 15,3 (Pagamento à ITAIPU)",-100874150.88,-357622629.44999993,-50125402.619999997,-192935348.60999998,-150999553.5,-550557978.05999994,{"$f":"-10541807.1-4817894.5","v":-15359701.6},{"$f":"-33337410.77-15236109.57","v":-48573520.340000004},{"$f":"-9478028.7-3964421.28","v":-13442449.979999999},{"$f":"-30755255.33-12864150.61","v":-43619405.939999998},-16199284,-53843180.159999996,-13310010.83,-46333478.700000003,-11154998.220000001,-41686228.350000001,-10138497.699999999,-39227875.299999997,-9504777.7599999998,-35689490.009999998,-11764430.789999999,-48649450.649999999,-9298247.4700000007,-34847971.869999997,-14199657.699999999,-55080472.219999999,-14723704.439999999,-56882087.359999999,-11903793.01,-46124817.159999996,null,"Ressarcimento"]
[null,null,"14 (-) Royalties Sobre Energia Cedida ",-24255027.140000001,-79885601.949999988,-10981655.029999999,-42156188.850000001,-35236682.170000002,-122041790.79999998,-6728160.9199999999,-21277136.09,-5767898.96,-18716255.34,-7297940.54,-24256894.77,-4062160.18,-14140785.800000001,-388910.01,-1453356.71,0,0,0,0,-9956.5300000000007,-41173.24,0,0,-2071540.15,-7701364.8200000003,-6094705.2199999997,-23545674.68,-2815409.66,-10909149.35,null,-2045444.31]
[null,null,"15 (-) Ressarcimento Encargos Supervisão",-1865771.3199999996,-6145046.3000000007,-844742.69,-3448016.1,-2710514.01,-9593062.4000000004,-517550.84,-1636702.78,-443684.54,-1439711.96,-561380.04,{"$f":"-1865914.98","v":-1865914.98},-312473.86,-1087752.75,-29916.15,-111796.65,0,0,0,0,-765.89,-3167.18,0,0,-159349.24,-618115.69999999995,-468823.48,-1811205.75,-216569.97,{"$f":"-839165.32-179529.33","v":-1018694.6499999999},null,{"$f":"O32","v":-1865914.98}]
[null,null,"16 (-) Ajuste do dólar Energia Cedida  Fator 15,3 \n          (Pagamento à Itaipu)",-114400492,-372234890.82999998,-57200246.079999998,-185855039.57000002,-171600738.08000001,-558089930.39999998,-14300061.5,-46988572.079999998,-14300061.5,-46463759.82,-14300061.5,-46463759.82,-14300061.5,-46463759.82,-14300061.5,-46463759.82,-14300061.5,-46463759.82,-14300061.5,-46463759.829999998,-14300061.5,-46463759.82,-14300061.5,-46463759.82,-14300061.5,-46463759.829999998,-14300061.5,-46463759.829999998,-14300061.58,-46463760.090000004,null,{"$f":"+AI31-AI32","v":-179529.33000000007}]
[null,null,"17 (-) Ajuste do dólar - Royalties Sobre Cessão de Energia",-28161243.759999998,-91630702.910000011,-14080621.939999999,-45750756.800000004,-42241865.699999996,-137381459.71000004,-3520155.47,-11566878.859999999,-3520155.47,-11437689.15,-3520155.47,-11437689.15,-3520155.47,-11437689.15,-3520155.47,-11437689.15,-3520155.47,-11437689.15,-3520155.47,-11437689.15,-3520155.47,-11437689.15,-3520155.47,-11437689.15,-3520155.47,-11437689.15,-3520155.47,-11437689.15,-3520155.53,-11437689.35]
[null,null,"18 (-) Ajuste do dólar - Ressarcimento de Encargos ",-2166249.52,-7048515.5900000008,-1083124.76,-3519288.96,-3249374.28,-10567804.550000001,-270781.19,-889759.91,-270781.19,-879822.24,-270781.19,-879822.24,-270781.19,-879822.24,-270781.19,-879822.24,-270781.19,-879822.24,-270781.19,-879822.24,-270781.19,-879822.24,-270781.19,-879822.24,-270781.19,-879822.24,-270781.19,-879822.24,-270781.19,-879822.24]
[null,null,"19 (-) Juros da Potência , Cessão, Royalties, Ressarcimento \n           e de todos os Ajustes do Dólar",-3926121.348661128,-12580831.92,0,0,-3926121.348661128,-12580831.92,{"$f":"+K36/K9","v":-1929692.9104477614},-6102460.8600000003,{"$f":"+M36/M9","v":-1995884.5203242011},{"$f":"-6468794.38-7651.3","v":-6476445.6799999997},{"$f":"+O36/O9","v":-271.34604970214815},-901.9,{"$f":"+Q36/Q9","v":0},0,{"$f":"+S36/S9","v":0},0,{"$f":"+U36/U9","v":0},0,{"$f":"+W36/W9","v":-272.57183946310153},-1023.48,{"$f":"+Y36/Y9","v":0},0,{"$f":"+AA36/AA9","v":0},0,{"$f":"+AC36/AC9","v":0},0,{"$f":"+AE36/AE9","v":0},0,{"$f":"+AG36/AG9","v":0},0]
[null,null,"20 (-) Cessão FM 10.2 + Ajuste do Dólar Cessão FM 10.2 \n          (Pagamento ao Tesouro)",0,0,0,0,0,0,0,0,0,0,0,0,0,0,0,0,0,0,0,0,0,0,0,0,0,0,0,0,0,0]
[null,null,"21 (-) Despesas SELIC da Cessão + Aj. Do Dólar FM 10.2 \n          (Pagamento ao Tesouro)",0,0,0,0,0,0,{"$f":"+L38+N38+P38+R38+T38+V38+X38+Z38+AB38+AD38+AF38+AH38","v":0},0,0,0,0,0,0,0,0,0,0,0,0,0,0,0,0,0,0,0,0,0,0,0]
[null,null,"22 (+/-)  Juros Pagos  dos Empréstimos Obtidos por ITAIPU  Junto à \n               ELETROBRAS e juros por atraso de transferência da CCEE",-1455174.8379945313,-5131584.95,-286503.37663287105,-1139586.43,-1741678.2146274024,-6271171.3799999999,{"$f":"+K39/K9","v":-13305.597014925375},-42077.62,{"$f":"+M39/M9","v":-632825.67105303705},-2053456.02,{"$f":"+O39/O9","v":-8968.8368734580908},-29810.62,{"$f":"+Q39/Q9","v":0},0,{"$f":"+S39/S9","v":-403188.93229863525},-1506717.04,{"$f":"+U39/U9","v":-51441.467399761401},-198348.01,{"$f":"+W39/W9","v":-334753.71115076297},-1256966.71,{"$f":"+Y39/Y9","v":-10690.622203951345},-44208.93,{"$f":"+AA39/AA9","v":-260142.65091535755},-1041585.16,{"$f":"+AC39/AC9","v":-26360.72571751352},-98001.27,{"$f":"+AE39/AE9","v":0},0,{"$f":"+AG39/AG9","v":0},0]
["                                                                                                                                                                                                                                                                                                          ",null,"23 (-) Ativo Regulatório - Tesouro",-134136064.13000001,-480298193.122949,-72403948.920000002,-279840659.21291506,-206540013.04999998,-760138852.33586407,-12765070.350000001,-40907369.945955001,-12765070.4,-41453289.616505004,-12067324.82,-39464375.725087002,-18100987.23,-61011187.557438001,-24134649.640000001,-87817542.912586004,-18100987.23,-68773494.247903004,-18100987.23,-69207917.941422999,-18100987.23,-71663015.176052004,-18100987.23,-74123542.706850007,-18100987.23,-66875907.419958003,-18100987.23,-68558695.866107002,{"$f":"-18100987.23","v":-18100987.23},{"$f":"-70363967.66+81454.44","v":-70282513.219999999}]
[null,null,"24 (-) Ativo Regulatório - Eletrobrás",-80081261.700000003,-286654048.05419797,-43220836.56017831,-167110483.17000002,-123302098.2601783,-453764531.22419798,-7625003.4299999997,-24435340.158558998,-7625003.4299999997,-24673748.599137001,-7203472.7599999998,-23557877.140666001,-10805209.140000001,-36420037.927284002,-14406945.52,-52421832.316348001,-10805209.140000001,-41053671.780153997,-10805209.140000001,-41312996.799514003,-10805209.140000001,-42778543.332535997,-10805209.13797882,-44247331.420000002,-10805209.140379192,-39920925.689999998,-10805209.141794821,-40939136.57,-10805209.140025474,-42003089.490000002]
[null,null,"NATUREZA DAS CONTAS",{"$f":"D14","v":"VALORES REALIZADOS DE JANEIRO A AGOSTO/2018                   EM US$"},"VALORES REALIZADOS DE JANEIRO A AGOSTO/2018                 EM R$","VALORES PREVISTOS DE SETEMBRO A DEZEMBRO/2018                   EM US$","VALORES REALIZADOS DE SETEMBRO A DEZEMBRO/2018                   EM R$","TOTAIS DE JANEIRO A DEZEMBRO/2018                   EM US$","TOTAIS DE JANEIRO A DEZEMBRO/2018                  EM R$","JANEIRO/2018                  EM US$","JANEIRO/2018                   EM R$","FEVEREIRO/2018                  EM US$","FEVEREIRO/2018                   EM R$","MARÇO/2018                   EM US$","MARÇO/2018                  EM R$","ABRIL/2018                   EM US$",{"$f":"Q14","v":"ABRIL/2018                  EM R$"},"MAIO/2018                          EM US$","MAIO/2018                            EM R$","JUNHO/2018                   EM US$","JUNHO/2018                   EM R$","JULHO/2018                   EM US$","JULHO/2018                   EM R$","AGOSTO/2018                   EM US$","AGOSTO/2018                   EM R$","SETEMBRO/2018                   EM US$","SETEMBRO/2018                   EM R$","OUTUBRO/2018                   EM US$","OUTUBRO/2018                   EM R$","NOVEMBRO/2018                   EM US$","NOVEMBRO/2018                   EM R$","DEZEMBRO/2018                   EM US$","DEZEMBRO/2018                   EM R$"]
[null,null,null,null,null,null,null,null,null,{"$f":"+K43/K$9","v":0},null,{"$f":"+M43/M$9","v":0},null,{"$f":"+O43/O$9","v":0},null,{"$f":"+Q43/Q$9","v":0},{"$f":"+R43/R$9","v":0},{"$f":"+S43/S$9","v":0},{"$f":"+T43/T$9","v":0},{"$f":"+U43/U$9","v":0},null,{"$f":"+W43/W$9","v":0},null,{"$f":"+Y43/Y$9","v":0},null,{"$f":"+AA43/AA$9","v":0},null,{"$f":"+AC43/AC$9","v":0},null,{"$f":"+AE43/AE$9","v":0},null,{"$f":"+AG43/AG$9","v":0}]
[null,null,null,null,null,null,null,null,null,0,null,0,null,0,null,0,0,0,0,0,null,0,null,0,null,0,null,0,null,0,null,0,null,"                                                                                                                                                                                                                                                                                                                                          "]
[null,null,null,null,null,null,null,null,null,0,null,0,null,0,null,0,0,0,0,0,null,0,null,0,null,0,null,0,null,0,null,0]
[null,null,"25 (-) Custos Administrativos ",{"$f":"+J46+L46+N46+P46+R46+T46+V46+X46","v":-545058.11076693283},{"$f":"+K46+M46+O46+Q46+S46+U46+W46+Y46","v":-1940053.4399999997},{"$f":"+Z46+AB46+AD46+AF46","v":-251155.41380455584},{"$f":"+AA46+AC46+AE46+AG46","v":-970026.72},{"$f":"+J46+L46+N46+P46+R46+T46+V46+X46+Z46+AB46+AD46+AF46","v":-796213.52457148873},{"$f":"+K46+M46+O46+Q46+S46+U46+W46+Y46+AA46+AC46+AE46+AG46","v":-2910080.16},{"$f":"K46/K$9","v":-76684.378952694155},-242506.68,{"$f":"M46/M$9","v":-74734.716015901882},-242506.68,{"$f":"O46/O$9","v":-72960.671520548771},-242506.68,{"$f":"Q46/Q$9","v":-69663.807417195712},-242506.68,{"$f":"S46/S$9","v":-64893.411827669253},-242506.68,{"$f":"U46/U$9","v":-62893.998651382331},-242506.68,{"$f":"W46/W$9","v":-64584.058163999034},-242506.68,{"$f":"Y46/Y$9","v":-58643.068217541651},-242506.68,{"$f":"AA46/AA$9","v":-60567.616573840503},-242506.68,{"$f":"AC46/AC$9","v":-65230.298302714044},-242506.68,{"$f":"AE46/AE$9","v":-62771.899671265492},-242506.68,{"$f":"AG46/AG$9","v":-62585.599256735826},-242506.68]
[null,null,"26 (-) Contribuição Anual a CCEE",-1082557.1191833785,-3836923.09,-285847.72304852074,-1110951.81,-1368404.8422318993,-4947874.8999999994,{"$f":"K47/K$9","v":-160794.49784973438},-508496.52,{"$f":"M47/M$9","v":-154975.40448087768},-502879.69,{"$f":"O47/O$9","v":-150666.07798303146},-500783.91,{"$f":"Q47/Q$9","v":-141099.4053603746},-491181.14,{"$f":"S47/S$9","v":-129851.53866738026},-485255.2,-124366.83956636755,-479533.66,{"$f":"W47/W$9","v":-116443.59903060002},-437234.07,{"$f":"Y47/Y$9","v":-104359.75624501245},-431558.9,{"$f":"AA47/AA$9","v":-106759.29968280927},-427453.56,{"$f":"AC47/AC$9","v":-62090.128305134902},-230832.47,{"$f":"AE47/AE$9","v":-59062.060932363522},-228174.46,{"$f":"AG47/AG$9","v":-57936.234128213073},-224491.32]
[null,null,"27 (-) Contribuição ao O N S",-104484.24309027822,-374836.94000000006,-61741.39334006991,-238461.12,-166225.63643034812,-613298.06000000017,-13879.332152795347,-43892,{"$f":"M48/M$9","v":-13526.456901599433},-43892,{"$f":"O48/O$9","v":-12631.223298634095},-41983.66,{"$f":"Q48/Q$9","v":-12060.457901238115},-41983.66,{"$f":"S48/S$9","v":-11234.589242708054},-41983.66,-10859.328803361172,-41871.4,{"$f":"W48/W$9","v":-15876.662494340728},-59615.28,{"$f":"Y48/Y$9","v":-14416.192295601286},-59615.28,{"$f":"AA48/AA$9","v":-14889.302929643598},-59615.28,{"$f":"AC48/AC$9","v":-16035.527342173926},-59615.28,{"$f":"AE48/AE$9","v":-15431.180596899023},-59615.28,{"$f":"AG48/AG$9","v":-15385.38247135336},-59615.28]
[null,null,"28 (-) Despesas Bancárias",-1569.1374251245948,-4966.5199999999995,-70.764942706720348,-274.2,-1639.9023678313151,-5240.7199999999993,-1532.4215785479385,-4846.13,{"$f":"M49/M$9","v":-20.863508890874915},-67.7,{"$f":"O49/O$9","v":-15.852337685781334},-52.69,{"$f":"Q49/Q$9","v":0},0,{"$f":"S49/S$9","v":0},0,0,0,{"$f":"W49/W$9","v":0},0,{"$f":"Y49/Y$9","v":0},0,{"$f":"AA49/AA$9","v":0},0,{"$f":"AC49/AC$9","v":0},0,{"$f":"AE49/AE$9","v":0},0,{"$f":"AG49/AG$9","v":-70.764942706720348},-274.2]
[null,null,"29 (-) Custeio com Imposto de Renda  BB",-30197.950513304811,-106765.79000000001,-80962.174357865515,-310921.24,-111160.12487117034,-417687.03,-3182.7251454591446,-10065.049999999999,{"$f":"M50/M$9","v":-1544.6022989922649},-5012.08,{"$f":"O50/O$9","v":-8136.2085564715089},-27043.13,{"$f":"Q50/Q$9","v":-4723.1708368044583},-16441.830000000002,{"$f":"S50/S$9","v":-2172.0470966015519},-8116.94,0,0,{"$f":"W50/W$9","v":-8103.1798450025299},-30426.63,{"$f":"Y50/Y$9","v":-2336.0167339733512},-9660.1299999999992,{"$f":"AA50/AA$9","v":-4366.133020305203},-17481.560000000001,{"$f":"AC50/AC$9","v":-19796.704951986445},-73598.210000000006,{"$f":"AE50/AE$9","v":-21269.44581057645},-82170.25,{"$f":"AG50/AG$9","v":-35529.890574997422},-137671.22]
[null,null,"30] (-) Custeio com Imposto de Renda  Bradesco",-92.527826966860616,-292.61,92.53,292.61,2.1730331393854385E-3,0,-92.527826966860616,-292.61,{"$f":"M51/M$9","v":0},0,{"$f":"O51/O$9","v":0},0,{"$f":"Q51/Q$9","v":0},0,{"$f":"S51/S$9","v":0},0,0,0,{"$f":"W51/W$9","v":0},0,{"$f":"Y51/Y$9","v":0},0,92.53,292.61,{"$f":"AC51/AC$9","v":0},0,{"$f":"AE51/AE$9","v":0},0,{"$f":"AG51/AG$9","v":0},0]
[null,null,"31 (-) Custeio com IOF BB",-327592.43785018567,-1154251.67,-226793.2137253409,-867307.46,-554385.65157552669,-2021559.1299999997,-57723.50430053124,-182544.81,{"$f":"M52/M$9","v":-31667.675429134953},-102758.44,{"$f":"O52/O$9","v":-58839.722606655036},-195571.47,{"$f":"Q52/Q$9","v":-39342.026945505728},-136953.53,{"$f":"S52/S$9","v":-17446.713941664439},-65198.37,-9907.7389906115477,-38202.26,{"$f":"W52/W$9","v":-86437.9983488242},-324566.03999999998,{"$f":"Y52/Y$9","v":-26227.057287258482},-108456.75,{"$f":"AA52/AA$9","v":-25521.588950772999},-102185.89,{"$f":"AC52/AC$9","v":-89005.331253194177},-330895.12,{"$f":"AE52/AE$9","v":-68085.577097300236},-263035.01,{"$f":"AG52/AG$9","v":-44180.7164240735},-171191.44]
[null,null,"32 (-) Custeio com IOF Bradesco",0,0,0,0,0,0,0,0,{"$f":"M53/M$9","v":0},0,{"$f":"O53/O$9","v":0},0,{"$f":"Q53/Q$9","v":0},0,{"$f":"S53/S$9","v":0},0,0,0,{"$f":"W53/W$9","v":0},0,{"$f":"Y53/Y$9","v":0},0,{"$f":"AA53/AA$9","v":0},0,{"$f":"AC53/AC$9","v":0},0,{"$f":"AE53/AE$9","v":0},0,{"$f":"AG53/AG$9","v":0},0]
[null,null,"33 (-) Pagamento de bônus de ITAIPU",0,0,0,0,0,0,0,0,{"$f":"M54/M$9","v":0},0,{"$f":"O54/O$9","v":0},0,{"$f":"Q54/Q$9","v":0},null,{"$f":"S54/S$9","v":0},null,0,0,{"$f":"W54/W$9","v":0},0,{"$f":"Y54/Y$9","v":0},0,{"$f":"AA54/AA$9","v":0},0,{"$f":"AC54/AC$9","v":0},0,{"$f":"AE54/AE$9","v":0},0,{"$f":"AG54/AG$9","v":0},0]
[null,null,"34 (+) Variação Cambial (Ativa)",0,827053713.13,0,293613354.93000001,0,1120667068.0599999,0,82156309.939999998,0,29359231.059999999,0,510444.78,0,114531130.2,0,248152963.38,0,86995242.709999993,0,85741585.680000007,0,179606805.38,0,-872544.73,0,112859898.78,0,123074165.13,0,58551835.75]
[null,null,"35 (-) Variação Cambial (Passiva)",0,-969958042.30999994,0,-313967330.55000001,0,-1283925372.8599999,0,-114407344.56,0,-9446842.2599999998,0,9451768.5,0,-69677893.989999995,0,-379097059.27999997,0,-169334175.33000001,0,-76034857.049999997,0,-161411638.34,0,-15375796.800000001,0,-150530612.12,0,-103932295.11,0,-44128626.520000003]
[null,null,"36 (+ / -) Receitas / Despesas com COFINS",-19222600.245312404,-65478581.010000013,-35732277.876633473,-141485896.31,-54954878.121945888,-206964477.31999999,0,null,{"$f":"M57/M$9","v":0},null,{"$f":"O57/O$9","v":-6757561.7455923948},-22460783.73,{"$f":"Q57/Q$9","v":-24054659.509925023},-83736675.219999999,{"$f":"S57/S$9","v":8486638.5897778962},31714568.41,-6107263.6340059135,-23548387.120000001,{"$f":"W57/W$9","v":14548984.907720577},54629983.43,{"$f":"Y57/Y$9","v":-5338738.8532875488},-22077286.780000001,{"$f":"AA57/AA$9","v":-23794429.044181924},-95270514.450000003,{"$f":"+AC57/AC9","v":-141679.16722704898},-526720.64,{"$f":"+AE57/AE9","v":-1664086.853208397},-6428866.7400000002,{"$f":"+AG57/AG9","v":-10132082.812016105},{"$f":"-25948478.93-13311315.55","v":-39259794.480000004}]
[null,null,"37 (+ / -) Receitas / Despesas com PASEP",-3576644.4076177813,-12062369.290000005,-7209626.7777632242,-28589991.920000002,-10786271.185381005,-40652361.210000008,0,null,{"$f":"M58/M$9","v":0},null,{"$f":"O58/O$9","v":-1232487.7489620314},-4096542.78,{"$f":"Q58/Q$9","v":-5151059.1939329524},-17931352.16,{"$f":"S58/S$9","v":1915389.6762108642},7157811.2199999997,-1253016.1730380207,-4831379.76,{"$f":"W58/W$9","v":3231274.2283416335},12133111.6,{"$f":"Y58/Y$9","v":-1086745.1962372742},-4494017.41,{"$f":"AA58/AA$9","v":-5041141.6219186299},-20184226.940000001,42382.244398418377,157564.47,-290395.86622835399,-1121886.3500000001,-1920471.5340146588,{"$f":"-5278354.32-2163088.78","v":-7441443.0999999996}]
[null,null,"SALDO  DO PERÍODO  ( B )\nREALIZADO / PREVISTO / TOTAL",{"$f":"SUM(D18:D41,D46:D58)","v":44261180.132991612},{"$f":"SUM(E18:E41,E46:E58)","v":-54308170.698926158},33115638.742674455,305228381.7025041,77376818.87566717,250920211.00357744,{"$f":"ROUND(SUM(J18:J41,J46:J58),2)","v":168954.33},{"$f":"ROUND(SUM(K18:K41,K46:K58),2)","v":-33389667.539999999},890641.88,20836367.440000001,306461.95,17585387.5,-24690102.800000001,-122196229.53,17844418.079999998,-78453733.609999999,11586663.960000001,-41060180.560000002,25530625.350000001,110335678.92,12623517.380000001,72034206.670000002,61757406.380000003,246082338.13999999,9436030.0199999996,-690142.24,-27966120.710000001,1442657.91,-10111676.949999999,58393527.890000001]
[null,null,"SALDO  FINAL ( C ) = ( A + B )\n (ANTES DA INADIMPLÊNCIA)",{"$f":"+D12+D59","v":65010871.529702619},{"$f":"+E12+E59","v":1490704047.0410738},{"$f":"+F13+F59","v":98126510.272377074},{"$f":"+G13+G59","v":1795932428.743578},{"$f":"+H12+H59","v":98126510.272378176},{"$f":"+I12+I59","v":1795932428.7435775},{"$f":"+J13+J59","v":20918645.726711001},{"$f":"+K13+K59","v":1511622550.2},21809287.606711,1532458917.6400001,22115749.556710999,1550044305.1400001,-2574353.2432890013,1427848075.6100001,15270064.836710997,1349394342.0000002,26856728.796710998,1308334161.4400003,52387354.146710999,1418669840.3600004,65010871.526711002,{"$f":"+Y13+Y59+0.01","v":1490704047.0400004},126768277.90671101,1736786385.1800003,136204307.92671102,1736096242.9400003,108238187.21671101,1737538900.8500004,98126510.266711012,1795932428.7400005]
[null,null,"NATUREZA DAS CONTAS",{"$f":"D42","v":"VALORES REALIZADOS DE JANEIRO A AGOSTO/2018                   EM US$"},"VALORES REALIZADOS DE JANEIRO A AGOSTO/2018                 EM R$","VALORES PREVISTOS DE SETEMBRO A DEZEMBRO/2018                   EM US$","VALORES REALIZADOS DE SETEMBRO A DEZEMBRO/2018                   EM R$","TOTAIS DE JANEIRO A DEZEMBRO/2018                   EM US$","TOTAIS DE JANEIRO A DEZEMBRO/2018                  EM R$",{"$f":"J14","v":"JANEIRO/2018                  EM US$"},{"$f":"K42","v":"JANEIRO/2018                   EM R$"},{"$f":"L14","v":"FEVEREIRO/2018                  EM US$"},{"$f":"M42","v":"FEVEREIRO/2018                   EM R$"},{"$f":"N14","v":"MARÇO/2018                   EM US$"},{"$f":"O42","v":"MARÇO/2018                  EM R$"},{"$f":"P14","v":"ABRIL/2018                   EM US$"},{"$f":"Q42","v":"ABRIL/2018                  EM R$"},{"$f":"R14","v":"MAIO/2018                          EM US$"},{"$f":"S42","v":"MAIO/2018                            EM R$"},{"$f":"T14","v":"JUNHO/2018                   EM US$"},{"$f":"U42","v":"JUNHO/2018                   EM R$"},{"$f":"V14","v":"JULHO/2018                   EM US$"},{"$f":"W42","v":"JULHO/2018                   EM R$"},{"$f":"X14","v":"AGOSTO/2018                   EM US$"},{"$f":"Y42","v":"AGOSTO/2018                   EM R$"},{"$f":"Z14","v":"SETEMBRO/2018                   EM US$"},{"$f":"AA42","v":"SETEMBRO/2018                   EM R$"},{"$f":"AB14","v":"OUTUBRO/2018                   EM US$"},{"$f":"AC42","v":"OUTUBRO/2018                   EM R$"},{"$f":"AD14","v":"NOVEMBRO/2018                   EM US$"},{"$f":"AE42","v":"NOVEMBRO/2018                   EM R$"},{"$f":"AF14","v":"DEZEMBRO/2018                   EM US$"},{"$f":"AG42","v":"DEZEMBRO/2018                   EM R$"}]
[]
[]
[]
[null,null,"AMPLA",{"$f":"X65","v":0},{"$f":"Y65","v":0},{"$f":"AF65","v":0},0,{"$f":"F65","v":0},0,0,0,0,0,0,0,0,0,0,0,0,0,0,0,0,0,0,0,0,0,0,0,0,0]
[null,null,"CELG-D",{"$f":"X66","v":0},0,0,0,0,0,0,0,0,0,0,0,0,0,0,0,0,0,0,0,0,0,0,0,0,0,0,0,0,0]
[null,null,"CEEE-D",0,0,0,0,0,0,0,0,0,0,0,0,0,0,0,0,0,0,0,0,0,0,0,0,0,0,0,0,0,0]
[null,null,"ELETROPAULO",0,0,0,0,0,0,0,0,0,0,0,0,0,0,0,0,0,0,0,0,0,0,0,0,0,0,0,0,0,0]
[null,null,"NOVA PALMA",0,0,{"$f":"AF69","v":-26718.04},{"$f":"AG69","v":-102712.16},{"$f":"F69","v":-26718.04},{"$f":"G69","v":-102712.16},0,0,0,0,0,0,0,0,0,0,0,0,0,0,0,0,0,0,0,0,0,0,-26718.04,-102712.16]
[null,null,"38 (-) RECEITAS NÃO REALIZADAS ",0,0,{"$f":"AF70","v":-26718.04},{"$f":"AG70","v":-102712.16},{"$f":"F70","v":-26718.04},{"$f":"G70","v":-102712.16},0,0,0,0,0,0,0,0,0,0,0,0,0,0,{"$f":"SUM(X65:X69)","v":0},{"$f":"SUM(Y65:Y69)","v":0},0,0,0,0,0,0,{"$f":"SUM(AF65:AF69)","v":-26718.04},{"$f":"SUM(AG65:AG69)","v":-102712.16}]
[null,null,"39 (-) VARIAÇÃO CAMBIAL DAS RECEITAS NÃO REALIZADAS",0,0,{"$f":"AF71","v":0},-814.90139199999976,{"$f":"F71","v":0},-814.90139199999976,0,0,0,0,0,0,0,0,0,0,0,0,0,0,0,{"$f":"+X70*Y$9-Y70","v":0},0,0,0,0,0,0,null,{"$f":"+AF70*AG$9-AG70","v":-814.90139199999976}]
[null,null,"40 (-) REPACTUAÇÃO CELG - DISTRIBUIÇÃO",0,0,-224575082.65458861,-870183530.26999998,-224575082.65458861,-870183530.26999998,0,0,0,0,0,0,0,0,0,0,0,0,0,0,0,0,0,0,0,0,0,0,{"$f":"AG72/AG9","v":-224575082.65458861},-870183530.26999998]
[null,null,"41 (-) REPACTUAÇÃO CEMAT",0,0,-20138104.998967689,-78031129.25,-20138104.998967689,-78031129.25,0,0,0,0,0,0,0,0,0,0,0,0,0,0,0,0,0,0,0,0,0,0,{"$f":"AG73/AG9","v":-20138104.998967689},-78031129.25]
[null,null,"42 (-) REPACTUAÇÃO CEEE-D",0,0,-168545293.22,-595454989.25999999,-168545293.22,-595454989.25999999,0,0,0,0,0,0,0,0,0,0,0,0,0,0,0,0,0,0,0,0,0,0,-168545293.22,-595454989.25999999]
[null,null,"43 (-) VARIAÇÃO CAMBIAL DA REPACTUAÇÃO CEEE-D",0,0,0,-57624312.908856034,0,-57624312.908856034,0,0,0,0,0,0,0,0,0,0,0,0,0,0,0,0,0,0,0,0,0,0,null,{"$f":"+AF74*AG$9-AG74","v":-57624312.908856034}]
[null,null,"44 (-) REPACTUAÇÃO CEB-D",0,0,{"$f":"AF76","v":-29678742.800000001},{"$f":"AG76","v":-111059339.56},{"$f":"F76","v":-29678742.800000001},{"$f":"G76","v":-111059339.56},0,0,0,0,0,0,0,0,0,0,0,0,0,0,0,0,0,0,0,0,0,0,-29678742.800000001,-111059339.56]
[null,null,"45 (-) VARIAÇÃO CAMBIAL DA REPACTUAÇÃO CEB-D",0,0,0,-3939853.0414399952,0,-3939853.0414399952,0,0,0,0,0,0,0,0,0,0,0,0,0,0,0,0,0,0,0,0,0,0,null,{"$f":"+AF76*AG$9-AG76","v":-3939853.0414399952}]
[null,null,"SALDO  DA INADIMPLÊNCIA NO PERÍODO  ( D )\nREALIZADO / PREVISTO ",{"$f":"SUM(D70:D77)","v":0},{"$f":"SUM(E70:E77)","v":0},{"$f":"SUM(F70:F77)","v":-442963941.71355629},-1716396681.3516879,-442963941.71355629,-1716396681.3516879,0,0,0,0,0,0,0,0,0,0,0,0,0,0,{"$f":"SUM(X70:X77)","v":0},{"$f":"SUM(Y70:Y77)","v":0},0,0,0,0,0,0,{"$f":"SUM(AF70:AF77)","v":-442963941.71355629},{"$f":"SUM(AG70:AG77)","v":-1716396681.3516879}]
[null,null,"SALDO  APÓS A INADIMPLÊNCIA ( E ) = ( C + D )",{"$f":"+D60+D78","v":65010871.529702619},1490704047.0410738,-344837431.44117922,79535747.391890049,-344837431.44117808,79535747.391889572,20918645.726711001,1511622550.2,21809287.606711,1532458917.6400001,22115749.556710999,1550044305.1400001,-2574353.2432890013,1427848075.6100001,15270064.836710997,1349394342.0000002,26856728.796710998,1308334161.4400003,52387354.146710999,1418669840.3600004,65010871.526711002,1490704047.0400004,126768277.90671101,1736786385.1800003,136204307.92671102,1736096242.9400003,108238187.21671101,1737538900.8500004,-344837431.44684529,79535747.388312578]

{"sheet":"FLUXO MENSAL","index":1,"n_rows":79,"n_cols":32,"rows_kept":79,"cut":false,"hidden":false,"merged":[[13,12,16,12],[13,1,16,1],[13,2,16,2],[13,3,16,3],[13,4,16,4],[13,5,16,5],[13,6,16,6],[13,7,16,7],[13,8,16,8],[13,9,16,9],[13,10,16,10],[13,11,16,11],[13,24,16,24],[13,13,16,13],[13,14,16,14],[13,15,16,15],[13,16,16,16],[13,17,16,17],[13,18,16,18],[13,19,16,19],[13,20,16,20],[13,21,16,21],[13,22,16,22],[13,23,16,23],[13,31,16,31],[41,1,44,1],[41,2,44,2],[41,3,44,3],[41,4,44,4],[41,5,44,5],[41,6,44,6],[41,7,44,7],[41,8,44,8],[41,9,44,9],[13,25,16,25],[13,26,16,26],[13,27,16,27],[13,28,16,28],[13,29,16,29],[13,30,16,30],[60,6,63,6],[41,22,44,22],[41,23,44,23],[41,24,44,24],[41,25,44,25],[41,16,44,16],[41,17,44,17],[41,18,44,18],[41,19,44,19],[41,20,44,20],[41,21,44,21],[41,10,44,10],[41,11,44,11],[41,12,44,12],[41,13,44,13],[41,14,44,14],[60,1,63,1],[60,2,63,2],[60,3,63,3],[60,4,63,4],[60,5,63,5],[60,12,63,12],[41,28,44,28],[41,29,44,29],[41,30,44,30],[41,31,44,31],[41,26,44,26],[41,27,44,27],[41,15,44,15],[60,24,63,24],[60,13,63,13],[60,14,63,14],[60,15,63,15],[60,16,63,16],[60,17,63,17],[60,18,63,18],[60,19,63,19],[60,7,63,7],[60,8,63,8],[60,9,63,9],[60,10,63,10],[60,11,63,11],[60,20,63,20],[60,21,63,21],[60,22,63,22],[60,23,63,23],[60,31,63,31],[60,25,63,25],[60,26,63,26],[60,27,63,27],[60,28,63,28],[60,29,63,29],[60,30,63,30]]}
[null,"                           Centrais Elétricas Brasileiras S/A. - ELETROBRÁS"]
[null,"                           Diretoria Financeira - DF"]
[null,"                          Superintendência  Financeira - DFF"]
[null,"                           Departamento de Operações Financeiras - DFFO"]
[null,"                           Demonstrativo de Saldo da Conta de Comercialização da Energia Elétrica de Itaipu"]
[null,"                           FLUXO DA CONTA DE COMERCIALIZAÇÃO DE ENERGIA ELÉTRICA DE ITAIPU - EXERCÍCIO DE 2018"]
[]
[null,"Data da Emissão:",null,{"$f":"'FLUXO ANUAL'!$E$8","v":"2019-04-25"},null,null,null,null,null,{"$f":"D8","v":"2019-04-25"}]
[null,null,null,null,null,null,null,"Em R$",{"$f":"'FLUXO ANUAL'!J9","v":"2018-01-31"},{"$f":"'FLUXO ANUAL'!K9","v":3.1623999999999999},{"$f":"'FLUXO ANUAL'!L9","v":"2018-02-28"},{"$f":"'FLUXO ANUAL'!M9","v":3.2448999999999999},{"$f":"'FLUXO ANUAL'!N9","v":"2018-03-29"},{"$f":"'FLUXO ANUAL'!O9","v":3.3237999999999999},{"$f":"'FLUXO ANUAL'!P9","v":"2018-04-30"},{"$f":"'FLUXO ANUAL'!Q9","v":3.4811000000000001},{"$f":"'FLUXO ANUAL'!R9","v":"2018-05-30"},{"$f":"'FLUXO ANUAL'!S9","v":3.7370000000000001},{"$f":"'FLUXO ANUAL'!T9","v":"2018-06-29"},{"$f":"'FLUXO ANUAL'!U9","v":3.8557999999999999},{"$f":"'FLUXO ANUAL'!V9","v":"2018-07-31"},{"$f":"'FLUXO ANUAL'!W9","v":3.7549000000000001},{"$f":"'FLUXO ANUAL'!X9","v":"2018-08-31"},{"$f":"'FLUXO ANUAL'!Y9","v":4.1353},{"$f":"'FLUXO ANUAL'!Z9","v":"2018-09-28"},{"$f":"'FLUXO ANUAL'!AA9","v":4.0038999999999998},{"$f":"'FLUXO ANUAL'!AB9","v":"2018-10-31"},{"$f":"'FLUXO ANUAL'!AC9","v":3.7176999999999998},{"$f":"'FLUXO ANUAL'!AD9","v":"2018-11-30"},{"$f":"'FLUXO ANUAL'!AE9","v":3.8633000000000002},{"$f":"'FLUXO ANUAL'!AF9","v":"2018-11-30"},{"$f":"'FLUXO ANUAL'!AG9","v":3.8748}]
[null,"HISTÓRICO",{"$f":"'FLUXO ANUAL'!D10","v":27265221.039999999},{"$f":"'FLUXO ANUAL'!E10","v":1566565589.8},{"$f":"'FLUXO ANUAL'!F10","v":"----"},{"$f":"'FLUXO ANUAL'!G10","v":"----"},{"$f":"'FLUXO ANUAL'!H10","v":27265221.039999999},{"$f":"'FLUXO ANUAL'!I10","v":1566565589.8},"   SALDO FINAL MÊS ANTERIOR","   SALDO FINAL MÊS ANTERIOR","   SALDO FINAL MÊS ANTERIOR","   SALDO FINAL MÊS ANTERIOR","   SALDO FINAL MÊS ANTERIOR","   SALDO FINAL MÊS ANTERIOR","   SALDO FINAL MÊS ANTERIOR","   SALDO FINAL MÊS ANTERIOR","   SALDO FINAL MÊS ANTERIOR","   SALDO FINAL MÊS ANTERIOR","   SALDO FINAL MÊS ANTERIOR","   SALDO FINAL MÊS ANTERIOR","   SALDO FINAL MÊS ANTERIOR","   SALDO FINAL MÊS ANTERIOR","   SALDO FINAL MÊS ANTERIOR","   SALDO FINAL MÊS ANTERIOR","   SALDO FINAL MÊS ANTERIOR","   SALDO FINAL MÊS ANTERIOR","   SALDO FINAL MÊS ANTERIOR","   SALDO FINAL MÊS ANTERIOR","   SALDO FINAL MÊS ANTERIOR","   SALDO FINAL MÊS ANTERIOR","   SALDO FINAL MÊS ANTERIOR","   SALDO FINAL MÊS ANTERIOR"]
[null,"AJUSTE DO SALDO ANTES DA INADIMPLÊNCIA EM 31/12/2017 REFERENTE A INADIMPLÊNCIA DA LIQUIDAÇÃO CCEE NÃO LANÇADA EM DEZEMBRO/2017",{"$f":"'FLUXO ANUAL'!D11","v":-6515529.6432889961},{"$f":"'FLUXO ANUAL'!E11","v":-21553372.059999999},{"$f":"'FLUXO ANUAL'!F11","v":0},{"$f":"'FLUXO ANUAL'!G11","v":"----"},{"$f":"'FLUXO ANUAL'!H11","v":-6515529.6432889961},{"$f":"'FLUXO ANUAL'!I11","v":-21553372.059999999}]
[null,"SALDO ANTES DA INADIMPLÊNCIA  ( A )",{"$f":"'FLUXO ANUAL'!D12","v":20749691.396711003},{"$f":"'FLUXO ANUAL'!E12","v":1545012217.74},{"$f":"'FLUXO ANUAL'!F12","v":0},{"$f":"'FLUXO ANUAL'!G12","v":"----"},{"$f":"'FLUXO ANUAL'!H12","v":20749691.396711003},{"$f":"'FLUXO ANUAL'!I12","v":1545012217.74},null,{"$f":"'FLUXO ANUAL'!E12","v":1545012217.74},null,{"$f":"J60","v":1511622550.2},null,{"$f":"L60","v":1532458917.6400001},null,{"$f":"N60","v":1550044305.1400001},null,{"$f":"P60","v":1427848075.6100001},null,{"$f":"R60","v":1349394342.0000002},null,{"$f":"T60","v":1308334161.4400003},null,{"$f":"V60","v":1418669840.3600004},null,{"$f":"X60","v":1490704047.0400004},null,{"$f":"Z60","v":1736786385.1800003},null,{"$f":"AB60","v":1736096242.9400003},null,{"$f":"AD60","v":1737538900.8500004}]
[null,"SALDO ANTES DA INADIMPLÊNCIA EM: 31/08/2018 ( A )",{"$f":"'FLUXO ANUAL'!D13","v":"----"},{"$f":"'FLUXO ANUAL'!E13","v":"----"},{"$f":"'FLUXO ANUAL'!F13","v":65010871.529702619},{"$f":"'FLUXO ANUAL'!G13","v":1490704047.0410738},{"$f":"'FLUXO ANUAL'!H13","v":"----"},{"$f":"'FLUXO ANUAL'!I13","v":"----"},{"$f":"'FLUXO ANUAL'!J13","v":20749691.396711003},{"$f":"'FLUXO ANUAL'!K13","v":1545012217.74},{"$f":"'FLUXO ANUAL'!L13","v":20918645.726711001},{"$f":"'FLUXO ANUAL'!M13","v":1511622550.2},{"$f":"'FLUXO ANUAL'!N13","v":21809287.606711},{"$f":"'FLUXO ANUAL'!O13","v":1532458917.6400001},{"$f":"'FLUXO ANUAL'!P13","v":22115749.556710999},{"$f":"'FLUXO ANUAL'!Q13","v":1550044305.1400001},{"$f":"'FLUXO ANUAL'!R13","v":-2574353.2432890013},{"$f":"'FLUXO ANUAL'!S13","v":1427848075.6100001},{"$f":"'FLUXO ANUAL'!T13","v":15270064.836710997},{"$f":"'FLUXO ANUAL'!U13","v":1349394342.0000002},{"$f":"'FLUXO ANUAL'!V13","v":26856728.796710998},{"$f":"'FLUXO ANUAL'!W13","v":1308334161.4400003},{"$f":"'FLUXO ANUAL'!X13","v":52387354.146710999},{"$f":"'FLUXO ANUAL'!Y13","v":1418669840.3600004},{"$f":"'FLUXO ANUAL'!Z13","v":65010871.526711002},{"$f":"'FLUXO ANUAL'!AA13","v":1490704047.0400004},{"$f":"'FLUXO ANUAL'!AB13","v":126768277.90671101},{"$f":"'FLUXO ANUAL'!AC13","v":1736786385.1800003},{"$f":"'FLUXO ANUAL'!AD13","v":136204307.92671102},{"$f":"'FLUXO ANUAL'!AE13","v":1736096242.9400003},{"$f":"'FLUXO ANUAL'!AF13","v":108238187.21671101},{"$f":"'FLUXO ANUAL'!AG13","v":1737538900.8500004}]
[null,"NATUREZA DAS CONTAS","VALORES REALIZADOS DE JANEIRO A AGOSTO/2018                   EM US$","VALORES REALIZADOS DE JANEIRO A AGOSTO/2018                 EM R$","VALORES PREVISTOS DE SETEMBRO A DEZEMBRO/2018                   EM US$","VALORES REALIZADOS DE SETEMBRO A DEZEMBRO/2018                   EM R$","TOTAIS DE JANEIRO A DEZEMBRO/2018                   EM US$","TOTAIS DE JANEIRO A DEZEMBRO/2018                  EM R$","JANEIRO/2018                  EM US$","JANEIRO/2018                   EM R$","FEVEREIRO/2018                  EM US$","FEVEREIRO/2018                   EM R$","MARÇO/2018                   EM US$","MARÇO/2018                  EM R$","ABRIL/2018                   EM US$","ABRIL/2018                  EM R$","MAIO/2018                          EM US$","MAIO/2018                            EM R$","JUNHO/2018                   EM US$","JUNHO/2018                   EM R$","JULHO/2018                   EM US$","JULHO/2018                   EM R$","AGOSTO/2018                   EM US$","AGOSTO/2018                   EM R$","SETEMBRO/2018                   EM US$","SETEMBRO/2018                   EM R$","OUTUBRO/2018                   EM US$","OUTUBRO/2018                   EM R$","NOVEMBRO/2018                   EM US$","NOVEMBRO/2018                   EM R$","DEZEMBRO/2018                   EM US$","DEZEMBRO/2018                   EM R$"]
[]
[]
[]
[null,"01 (+) Faturamento do Repasse da Energia ",{"$f":"'FLUXO ANUAL'!D18","v":2429149116.3900003},{"$f":"'FLUXO ANUAL'!E18","v":8741370398.6400013},{"$f":"'FLUXO ANUAL'!F18","v":1204541483.6100001},{"$f":"'FLUXO ANUAL'!G18","v":4642288809.3900003},{"$f":"'FLUXO ANUAL'!H18","v":3633690600.0000005},{"$f":"'FLUXO ANUAL'!I18","v":13383659208.030001},{"$f":"'FLUXO ANUAL'!J18","v":290823422.13},{"$f":"'FLUXO ANUAL'!K18","v":920776036.83000004},{"$f":"'FLUXO ANUAL'!L18","v":290266105.74000001},{"$f":"'FLUXO ANUAL'!M18","v":939968730.17999995},{"$f":"'FLUXO ANUAL'!N18","v":298069650},{"$f":"'FLUXO ANUAL'!O18","v":994956491.75999999},{"$f":"'FLUXO ANUAL'!P18","v":301413994.25999999},{"$f":"'FLUXO ANUAL'!Q18","v":1054255727.73},{"$f":"'FLUXO ANUAL'!R18","v":310332450},{"$f":"'FLUXO ANUAL'!S18","v":1157198672.79},{"$f":"'FLUXO ANUAL'!T18","v":313676850},{"$f":"'FLUXO ANUAL'!U18","v":1208314593.9000001},{"$f":"'FLUXO ANUAL'!V18","v":313119422.13},{"$f":"'FLUXO ANUAL'!W18","v":1163677020.3},{"$f":"'FLUXO ANUAL'!X18","v":311447222.13},{"$f":"'FLUXO ANUAL'!Y18","v":1302223125.1500001},{"$f":"'FLUXO ANUAL'!Z18","v":309775022.13},{"$f":"'FLUXO ANUAL'!AA18","v":1241950018.71},{"$f":"'FLUXO ANUAL'!AB18","v":301971477.87},{"$f":"'FLUXO ANUAL'!AC18","v":1117717228.1400001},{"$f":"'FLUXO ANUAL'!AD18","v":299184561.48000002},{"$f":"'FLUXO ANUAL'!AE18","v":1153895016.72},{"$f":"'FLUXO ANUAL'!AF18","v":293610422.13},{"$f":"'FLUXO ANUAL'!AG18","v":1128726545.8199999}]
[null,"02 (+) Juros referentes ao Repasse da Energia ",{"$f":"'FLUXO ANUAL'!D19","v":2227551.9700000007},{"$f":"'FLUXO ANUAL'!E19","v":8625940.9799999986},{"$f":"'FLUXO ANUAL'!F19","v":1891828.0199999998},{"$f":"'FLUXO ANUAL'!G19","v":7137037.8200000003},{"$f":"'FLUXO ANUAL'!H19","v":4119379.9900000007},{"$f":"'FLUXO ANUAL'!I19","v":15762978.800000001},{"$f":"'FLUXO ANUAL'!J19","v":1142016.04},{"$f":"'FLUXO ANUAL'!K19","v":3680493.81},{"$f":"'FLUXO ANUAL'!L19","v":410591.1},{"$f":"'FLUXO ANUAL'!M19","v":1334790.06},{"$f":"'FLUXO ANUAL'!N19","v":131295.57999999999},{"$f":"'FLUXO ANUAL'!O19","v":428754.55},{"$f":"'FLUXO ANUAL'!P19","v":90965.07},{"$f":"'FLUXO ANUAL'!Q19","v":978060.52},{"$f":"'FLUXO ANUAL'!R19","v":341650.34},{"$f":"'FLUXO ANUAL'!S19","v":1775306.4},{"$f":"'FLUXO ANUAL'!T19","v":11734.96},{"$f":"'FLUXO ANUAL'!U19","v":43791.5},{"$f":"'FLUXO ANUAL'!V19","v":61984.99},{"$f":"'FLUXO ANUAL'!W19","v":237950.29},{"$f":"'FLUXO ANUAL'!X19","v":37313.89},{"$f":"'FLUXO ANUAL'!Y19","v":146793.85},{"$f":"'FLUXO ANUAL'!Z19","v":155448.76},{"$f":"'FLUXO ANUAL'!AA19","v":639668.80000000005},{"$f":"'FLUXO ANUAL'!AB19","v":1556454.91},{"$f":"'FLUXO ANUAL'!AC19","v":5809103.4800000004},{"$f":"'FLUXO ANUAL'!AD19","v":74311.7},{"$f":"'FLUXO ANUAL'!AE19","v":279744.88},{"$f":"'FLUXO ANUAL'!AF19","v":105612.65},{"$f":"'FLUXO ANUAL'!AG19","v":408520.66}]
[null,"03 (+) Juros contratuais do Repasse de ITAIPU sobre créditos \n            renegociados",{"$f":"'FLUXO ANUAL'!D20","v":27779399.591735844},{"$f":"'FLUXO ANUAL'!E20","v":99468258.719999999},{"$f":"'FLUXO ANUAL'!F20","v":13238630.651626863},{"$f":"'FLUXO ANUAL'!G20","v":51158712.480000004},{"$f":"'FLUXO ANUAL'!H20","v":41018030.24336271},{"$f":"'FLUXO ANUAL'!I20","v":150626971.19999999},{"$f":"'FLUXO ANUAL'!J20","v":3877758.2608297495},{"$f":"'FLUXO ANUAL'!K20","v":12540438.699999999},{"$f":"'FLUXO ANUAL'!L20","v":3505806.2117911186},{"$f":"'FLUXO ANUAL'!M20","v":11364297.66},{"$f":"'FLUXO ANUAL'!N20","v":3718588.9779800232},{"$f":"'FLUXO ANUAL'!O20","v":12359846.039999999},{"$f":"'FLUXO ANUAL'!P20","v":3546448.0204656571},{"$f":"'FLUXO ANUAL'!Q20","v":12345540.210000001},{"$f":"'FLUXO ANUAL'!R20","v":3249337.5878191059},{"$f":"'FLUXO ANUAL'!S20","v":12142774.57},{"$f":"'FLUXO ANUAL'!T20","v":3416791.3373722704},{"$f":"'FLUXO ANUAL'!U20","v":13174464.039999999},{"$f":"'FLUXO ANUAL'!V20","v":3178607.4041820019},{"$f":"'FLUXO ANUAL'!W20","v":11868284.060000001},{"$f":"'FLUXO ANUAL'!X20","v":3286061.7912959158},{"$f":"'FLUXO ANUAL'!Y20","v":13672613.439999999},{"$f":"'FLUXO ANUAL'!Z20","v":3155616.577016409},{"$f":"'FLUXO ANUAL'!AA20","v":12634773.210000001},{"$f":"'FLUXO ANUAL'!AB20","v":2937515.9902324015},{"$f":"'FLUXO ANUAL'!AC20","v":10893251.6},{"$f":"'FLUXO ANUAL'!AD20","v":3634372.9585289778},{"$f":"'FLUXO ANUAL'!AE20","v":14025780.029999999},{"$f":"'FLUXO ANUAL'!AF20","v":3511125.1258490761},{"$f":"'FLUXO ANUAL'!AG20","v":13604907.640000001}]
[null,"04 (+) Rendimento de aplicação financeira  B.B. S/A",{"$f":"'FLUXO ANUAL'!D21","v":465594.97384200641},{"$f":"'FLUXO ANUAL'!E21","v":1642955.8000000003},{"$f":"'FLUXO ANUAL'!F21","v":1235948.9936470399},{"$f":"'FLUXO ANUAL'!G21","v":4769077.26},{"$f":"'FLUXO ANUAL'!H21","v":1701543.9674890465},{"$f":"'FLUXO ANUAL'!I21","v":6412033.0600000005},{"$f":"'FLUXO ANUAL'!J21","v":70799.127245130279},{"$f":"'FLUXO ANUAL'!K21","v":223895.16},{"$f":"'FLUXO ANUAL'!L21","v":39866.445807266791},{"$f":"'FLUXO ANUAL'!M21","v":129362.63},{"$f":"'FLUXO ANUAL'!N21","v":97377.952945423924},{"$f":"'FLUXO ANUAL'!O21","v":323664.84000000003},{"$f":"'FLUXO ANUAL'!P21","v":58357.246272729884},{"$f":"'FLUXO ANUAL'!Q21","v":203147.41},{"$f":"'FLUXO ANUAL'!R21","v":25039.909017928818},{"$f":"'FLUXO ANUAL'!S21","v":93574.14},{"$f":"'FLUXO ANUAL'!T21","v":5299.0844960838213},{"$f":"'FLUXO ANUAL'!U21","v":20432.21},{"$f":"'FLUXO ANUAL'!V21","v":129830.52544674958},{"$f":"'FLUXO ANUAL'!W21","v":487500.64},{"$f":"'FLUXO ANUAL'!X21","v":39024.6826106933},{"$f":"'FLUXO ANUAL'!Y21","v":161378.76999999999},{"$f":"'FLUXO ANUAL'!Z21","v":65994.120732286028},{"$f":"'FLUXO ANUAL'!AA21","v":264233.86},{"$f":"'FLUXO ANUAL'!AB21","v":167444.49525244103},{"$f":"'FLUXO ANUAL'!AC21","v":622508.4},{"$f":"'FLUXO ANUAL'!AD21","v":190627.07529832007},{"$f":"'FLUXO ANUAL'!AE21","v":736449.58},{"$f":"'FLUXO ANUAL'!AF21","v":811883.3023639929},{"$f":"'FLUXO ANUAL'!AG21","v":3145885.42}]
[null,"05 (+) Devolução do bônus de ITAIPU",{"$f":"'FLUXO ANUAL'!D22","v":0},{"$f":"'FLUXO ANUAL'!E22","v":0},{"$f":"'FLUXO ANUAL'!F22","v":0},{"$f":"'FLUXO ANUAL'!G22","v":0},{"$f":"'FLUXO ANUAL'!H22","v":0},{"$f":"'FLUXO ANUAL'!I22","v":0},{"$f":"'FLUXO ANUAL'!J22","v":0},{"$f":"'FLUXO ANUAL'!K22","v":0},{"$f":"'FLUXO ANUAL'!L22","v":0},{"$f":"'FLUXO ANUAL'!M22","v":0},{"$f":"'FLUXO ANUAL'!N22","v":0},{"$f":"'FLUXO ANUAL'!O22","v":0},{"$f":"'FLUXO ANUAL'!P22","v":0},{"$f":"'FLUXO ANUAL'!Q22","v":0},{"$f":"'FLUXO ANUAL'!R22","v":0},{"$f":"'FLUXO ANUAL'!S22","v":0},{"$f":"'FLUXO ANUAL'!T22","v":0},{"$f":"'FLUXO ANUAL'!U22","v":0},{"$f":"'FLUXO ANUAL'!V22","v":0},{"$f":"'FLUXO ANUAL'!W22","v":0},{"$f":"'FLUXO ANUAL'!X22","v":0},{"$f":"'FLUXO ANUAL'!Y22","v":0},{"$f":"'FLUXO ANUAL'!Z22","v":0},{"$f":"'FLUXO ANUAL'!AA22","v":0},{"$f":"'FLUXO ANUAL'!AB22","v":0},{"$f":"'FLUXO ANUAL'!AC22","v":0},{"$f":"'FLUXO ANUAL'!AD22","v":0},{"$f":"'FLUXO ANUAL'!AE22","v":0},{"$f":"'FLUXO ANUAL'!AF22","v":0},{"$f":"'FLUXO ANUAL'!AG22","v":0}]
[null,"06 (+) Liquidação CCEE  - Venda de Energia",{"$f":"'FLUXO ANUAL'!D23","v":143122977.90470666},{"$f":"'FLUXO ANUAL'!E23","v":485629541.72000003},{"$f":"'FLUXO ANUAL'!F23","v":36079010.014564447},{"$f":"'FLUXO ANUAL'!G23","v":216615714.07999998},{"$f":"'FLUXO ANUAL'!H23","v":179201987.91927108},{"$f":"'FLUXO ANUAL'!I23","v":702245255.80000007},{"$f":"'FLUXO ANUAL'!J23","v":34498871.976979509},{"$f":"'FLUXO ANUAL'!K23","v":109099232.73999999},{"$f":"'FLUXO ANUAL'!L23","v":27078977.879133407},{"$f":"'FLUXO ANUAL'!M23","v":87868575.319999993},{"$f":"'FLUXO ANUAL'!N23","v":31476411.110776823},{"$f":"'FLUXO ANUAL'!O23","v":104621295.25},{"$f":"'FLUXO ANUAL'!P23","v":23529889.756111573},{"$f":"'FLUXO ANUAL'!Q23","v":81909899.230000004},{"$f":"'FLUXO ANUAL'!R23","v":11678707.907412363},{"$f":"'FLUXO ANUAL'!S23","v":43643331.450000003},{"$f":"'FLUXO ANUAL'!T23","v":7107161.5747704767},{"$f":"'FLUXO ANUAL'!U23","v":27403793.600000001},{"$f":"'FLUXO ANUAL'!V23","v":2569379.1925217714},{"$f":"'FLUXO ANUAL'!W23","v":9647761.9299999997},{"$f":"'FLUXO ANUAL'!X23","v":5183578.5070007015},{"$f":"'FLUXO ANUAL'!Y23","v":21435652.199999999},{"$f":"'FLUXO ANUAL'!Z23","v":3401010.1600939087},{"$f":"'FLUXO ANUAL'!AA23","v":13617304.58},{"$f":"'FLUXO ANUAL'!AB23","v":16845223.272453401},{"$f":"'FLUXO ANUAL'!AC23","v":62625486.560000002},{"$f":"'FLUXO ANUAL'!AD23","v":0},{"$f":"'FLUXO ANUAL'!AE23","v":79024080.239999995},{"$f":"'FLUXO ANUAL'!AF23","v":15832776.582017137},{"$f":"'FLUXO ANUAL'!AG23","v":61348842.700000003}]
[null,"07 (+) Rendimento Aplic. Financ.do Aporte de Garantias Liq.CCEE",{"$f":"'FLUXO ANUAL'!D24","v":0},{"$f":"'FLUXO ANUAL'!E24","v":0},{"$f":"'FLUXO ANUAL'!F24","v":0},{"$f":"'FLUXO ANUAL'!G24","v":0},{"$f":"'FLUXO ANUAL'!H24","v":0},{"$f":"'FLUXO ANUAL'!I24","v":0},{"$f":"'FLUXO ANUAL'!J24","v":0},{"$f":"'FLUXO ANUAL'!K24","v":0},{"$f":"'FLUXO ANUAL'!L24","v":0},{"$f":"'FLUXO ANUAL'!M24","v":0},{"$f":"'FLUXO ANUAL'!N24","v":0},{"$f":"'FLUXO ANUAL'!O24","v":0},{"$f":"'FLUXO ANUAL'!P24","v":0},{"$f":"'FLUXO ANUAL'!Q24","v":0},{"$f":"'FLUXO ANUAL'!R24","v":0},{"$f":"'FLUXO ANUAL'!S24","v":0},{"$f":"'FLUXO ANUAL'!T24","v":0},{"$f":"'FLUXO ANUAL'!U24","v":0},{"$f":"'FLUXO ANUAL'!V24","v":0},{"$f":"'FLUXO ANUAL'!W24","v":0},{"$f":"'FLUXO ANUAL'!X24","v":0},{"$f":"'FLUXO ANUAL'!Y24","v":0},{"$f":"'FLUXO ANUAL'!Z24","v":0},{"$f":"'FLUXO ANUAL'!AA24","v":0},{"$f":"'FLUXO ANUAL'!AB24","v":0},{"$f":"'FLUXO ANUAL'!AC24","v":0},{"$f":"'FLUXO ANUAL'!AD24","v":0},{"$f":"'FLUXO ANUAL'!AE24","v":0},{"$f":"'FLUXO ANUAL'!AF24","v":0},{"$f":"'FLUXO ANUAL'!AG24","v":0}]
[null,"08 (+) Liq. CCEE - Recuperação Inadimplência do Mês Anterior",{"$f":"'FLUXO ANUAL'!D25","v":556200121.87799525},{"$f":"'FLUXO ANUAL'!E25","v":1984734725.7199998},{"$f":"'FLUXO ANUAL'!F25","v":113621952.95164824},{"$f":"'FLUXO ANUAL'!G25","v":450703267.77999997},{"$f":"'FLUXO ANUAL'!H25","v":669822074.82964349},{"$f":"'FLUXO ANUAL'!I25","v":2435437993.5},{"$f":"'FLUXO ANUAL'!J25","v":6815511.0232734634},{"$f":"'FLUXO ANUAL'!K25","v":21553372.059999999},{"$f":"'FLUXO ANUAL'!L25","v":37548332.731363058},{"$f":"'FLUXO ANUAL'!M25","v":121840584.88},{"$f":"'FLUXO ANUAL'!N25","v":60084268.319393463},{"$f":"'FLUXO ANUAL'!O25","v":199708091.03999999},{"$f":"'FLUXO ANUAL'!P25","v":82050330.633612126},{"$f":"'FLUXO ANUAL'!Q25","v":272718888.95999998},{"$f":"'FLUXO ANUAL'!R25","v":96891164.809973851},{"$f":"'FLUXO ANUAL'!S25","v":337287833.81999999},{"$f":"'FLUXO ANUAL'!T25","v":95081938.611185431},{"$f":"'FLUXO ANUAL'!U25","v":355321204.58999997},{"$f":"'FLUXO ANUAL'!V25","v":88718744.195757046},{"$f":"'FLUXO ANUAL'!W25","v":342081733.87},{"$f":"'FLUXO ANUAL'!X25","v":89009831.553436846},{"$f":"'FLUXO ANUAL'!Y25","v":334223016.5},{"$f":"'FLUXO ANUAL'!Z25","v":81494523.562027022},{"$f":"'FLUXO ANUAL'!AA25","v":326295922.88999999},{"$f":"'FLUXO ANUAL'!AB25","v":0},{"$f":"'FLUXO ANUAL'!AC25","v":0},{"$f":"'FLUXO ANUAL'!AD25","v":6958131.2090699663},{"$f":"'FLUXO ANUAL'!AE25","v":26881348.300000001},{"$f":"'FLUXO ANUAL'!AF25","v":25169298.180551253},{"$f":"'FLUXO ANUAL'!AG25","v":97525996.590000004}]
[null,"09 (-) Liq. CCEE - Inadimplência do Mês",{"$f":"'FLUXO ANUAL'!D26","v":-630730135.75904596},{"$f":"'FLUXO ANUAL'!E26","v":-2289477276.5517778},{"$f":"'FLUXO ANUAL'!F26","v":-70079752.914385289},{"$f":"'FLUXO ANUAL'!G26","v":-270118784.60000002},{"$f":"'FLUXO ANUAL'!H26","v":-700809888.67343116},{"$f":"'FLUXO ANUAL'!I26","v":-2559596061.1517782},{"$f":"'FLUXO ANUAL'!J26","v":-38527885.429350533},{"$f":"'FLUXO ANUAL'!K26","v":-121840584.88177812},{"$f":"'FLUXO ANUAL'!L26","v":-61545222.053067893},{"$f":"'FLUXO ANUAL'!M26","v":-199708091.03999999},{"$f":"'FLUXO ANUAL'!N26","v":-82050330.633612126},{"$f":"'FLUXO ANUAL'!O26","v":-272718888.95999998},{"$f":"'FLUXO ANUAL'!P26","v":-96891164.809973851},{"$f":"'FLUXO ANUAL'!Q26","v":-337287833.81999999},{"$f":"'FLUXO ANUAL'!R26","v":-95081938.611185431},{"$f":"'FLUXO ANUAL'!S26","v":-355321204.58999997},{"$f":"'FLUXO ANUAL'!T26","v":-88718744.195757046},{"$f":"'FLUXO ANUAL'!U26","v":-342081733.87},{"$f":"'FLUXO ANUAL'!V26","v":-89009831.553436846},{"$f":"'FLUXO ANUAL'!W26","v":-334223016.5},{"$f":"'FLUXO ANUAL'!X26","v":-78905018.472662196},{"$f":"'FLUXO ANUAL'!Y26","v":-326295922.88999999},{"$f":"'FLUXO ANUAL'!Z26","v":0},{"$f":"'FLUXO ANUAL'!AA26","v":0},{"$f":"'FLUXO ANUAL'!AB26","v":-7230639.4545014398},{"$f":"'FLUXO ANUAL'!AC26","v":-26881348.300000001},{"$f":"'FLUXO ANUAL'!AD26","v":-25244220.378950637},{"$f":"'FLUXO ANUAL'!AE26","v":-97525996.590000004},{"$f":"'FLUXO ANUAL'!AF26","v":-37604893.080933213},{"$f":"'FLUXO ANUAL'!AG26","v":-145711439.71000001}]
[null,"10 (-) Liquidação CCEE  - Compra de Energia",{"$f":"'FLUXO ANUAL'!D27","v":0},{"$f":"'FLUXO ANUAL'!E27","v":0},{"$f":"'FLUXO ANUAL'!F27","v":0},{"$f":"'FLUXO ANUAL'!G27","v":0},{"$f":"'FLUXO ANUAL'!H27","v":0},{"$f":"'FLUXO ANUAL'!I27","v":0},{"$f":"'FLUXO ANUAL'!J27","v":0},{"$f":"'FLUXO ANUAL'!K27","v":0},{"$f":"'FLUXO ANUAL'!L27","v":0},{"$f":"'FLUXO ANUAL'!M27","v":0},{"$f":"'FLUXO ANUAL'!N27","v":0},{"$f":"'FLUXO ANUAL'!O27","v":0},{"$f":"'FLUXO ANUAL'!P27","v":0},{"$f":"'FLUXO ANUAL'!Q27","v":0},{"$f":"'FLUXO ANUAL'!R27","v":0},{"$f":"'FLUXO ANUAL'!S27","v":0},{"$f":"'FLUXO ANUAL'!T27","v":0},{"$f":"'FLUXO ANUAL'!U27","v":0},{"$f":"'FLUXO ANUAL'!V27","v":0},{"$f":"'FLUXO ANUAL'!W27","v":0},{"$f":"'FLUXO ANUAL'!X27","v":0},{"$f":"'FLUXO ANUAL'!Y27","v":0},{"$f":"'FLUXO ANUAL'!Z27","v":0},{"$f":"'FLUXO ANUAL'!AA27","v":0},{"$f":"'FLUXO ANUAL'!AB27","v":0},{"$f":"'FLUXO ANUAL'!AC27","v":0},{"$f":"'FLUXO ANUAL'!AD27","v":0},{"$f":"'FLUXO ANUAL'!AE27","v":0},{"$f":"'FLUXO ANUAL'!AF27","v":0},{"$f":"'FLUXO ANUAL'!AG27","v":0}]
[null,"11 (-) Multa de 2% Pelo Não Aporte das Garantias",{"$f":"'FLUXO ANUAL'!D28","v":0},{"$f":"'FLUXO ANUAL'!E28","v":0},{"$f":"'FLUXO ANUAL'!F28","v":0},{"$f":"'FLUXO ANUAL'!G28","v":0},{"$f":"'FLUXO ANUAL'!H28","v":0},{"$f":"'FLUXO ANUAL'!I28","v":0},{"$f":"'FLUXO ANUAL'!J28","v":0},{"$f":"'FLUXO ANUAL'!K28","v":0},{"$f":"'FLUXO ANUAL'!L28","v":0},{"$f":"'FLUXO ANUAL'!M28","v":0},{"$f":"'FLUXO ANUAL'!N28","v":0},{"$f":"'FLUXO ANUAL'!O28","v":0},{"$f":"'FLUXO ANUAL'!P28","v":0},{"$f":"'FLUXO ANUAL'!Q28","v":0},{"$f":"'FLUXO ANUAL'!R28","v":0},{"$f":"'FLUXO ANUAL'!S28","v":0},{"$f":"'FLUXO ANUAL'!T28","v":0},{"$f":"'FLUXO ANUAL'!U28","v":0},{"$f":"'FLUXO ANUAL'!V28","v":0},{"$f":"'FLUXO ANUAL'!W28","v":0},{"$f":"'FLUXO ANUAL'!X28","v":0},{"$f":"'FLUXO ANUAL'!Y28","v":0},{"$f":"'FLUXO ANUAL'!Z28","v":0},{"$f":"'FLUXO ANUAL'!AA28","v":0},{"$f":"'FLUXO ANUAL'!AB28","v":0},{"$f":"'FLUXO ANUAL'!AC28","v":0},{"$f":"'FLUXO ANUAL'!AD28","v":0},{"$f":"'FLUXO ANUAL'!AE28","v":0},{"$f":"'FLUXO ANUAL'!AF28","v":0},{"$f":"'FLUXO ANUAL'!AG28","v":0}]
[null,"12 (-) Potência Contratada",{"$f":"'FLUXO ANUAL'!D29","v":-1967741094},{"$f":"'FLUXO ANUAL'!E29","v":-7159207301.1100006},{"$f":"'FLUXO ANUAL'!F29","v":-973337997.80000007},{"$f":"'FLUXO ANUAL'!G29","v":-3681642571.0145802},{"$f":"'FLUXO ANUAL'!H29","v":-2941079091.7999997},{"$f":"'FLUXO ANUAL'!I29","v":-10840849872.12458},{"$f":"'FLUXO ANUAL'!J29","v":-235188165.59999999},{"$f":"'FLUXO ANUAL'!K29","v":-743759054.88999999},{"$f":"'FLUXO ANUAL'!L29","v":-235373530.80000001},{"$f":"'FLUXO ANUAL'!M29","v":-763763570.09000003},{"$f":"'FLUXO ANUAL'!N29","v":-241497859.59999999},{"$f":"'FLUXO ANUAL'!O29","v":-802690585.74000001},{"$f":"'FLUXO ANUAL'!P29","v":-244334476},{"$f":"'FLUXO ANUAL'!Q29","v":-931801287.82000005},{"$f":"'FLUXO ANUAL'!R29","v":-251158817.19999999},{"$f":"'FLUXO ANUAL'!S29","v":-938580499.88},{"$f":"'FLUXO ANUAL'!T29","v":-254238926},{"$f":"'FLUXO ANUAL'!U29","v":-983701252.48000002},{"$f":"'FLUXO ANUAL'!V29","v":-253889326.59999999},{"$f":"'FLUXO ANUAL'!W29","v":-952567364.47000003},{"$f":"'FLUXO ANUAL'!X29","v":-252059992.19999999},{"$f":"'FLUXO ANUAL'!Y29","v":-1042343685.74},{"$f":"'FLUXO ANUAL'!Z29","v":-250687042.19999999},{"$f":"'FLUXO ANUAL'!AA29","v":-1003725848.2645799},{"$f":"'FLUXO ANUAL'!AB29","v":-243005889.80000001},{"$f":"'FLUXO ANUAL'!AC29","v":-903422996.50999999},{"$f":"'FLUXO ANUAL'!AD29","v":-242298374.19999999},{"$f":"'FLUXO ANUAL'!AE29","v":-936071309.04999995},{"$f":"'FLUXO ANUAL'!AF29","v":-237346691.59999999},{"$f":"'FLUXO ANUAL'!AG29","v":-838422417.19000006}]
[null,"13 (-) Energia Cedida Fator 15,3 (Pagamento à ITAIPU)",{"$f":"'FLUXO ANUAL'!D30","v":-100874150.88},{"$f":"'FLUXO ANUAL'!E30","v":-357622629.44999993},{"$f":"'FLUXO ANUAL'!F30","v":-50125402.619999997},{"$f":"'FLUXO ANUAL'!G30","v":-192935348.60999998},{"$f":"'FLUXO ANUAL'!H30","v":-150999553.5},{"$f":"'FLUXO ANUAL'!I30","v":-550557978.05999994},{"$f":"'FLUXO ANUAL'!J30","v":-15359701.6},{"$f":"'FLUXO ANUAL'!K30","v":-48573520.340000004},{"$f":"'FLUXO ANUAL'!L30","v":-13442449.979999999},{"$f":"'FLUXO ANUAL'!M30","v":-43619405.939999998},{"$f":"'FLUXO ANUAL'!N30","v":-16199284},{"$f":"'FLUXO ANUAL'!O30","v":-53843180.159999996},{"$f":"'FLUXO ANUAL'!P30","v":-13310010.83},{"$f":"'FLUXO ANUAL'!Q30","v":-46333478.700000003},{"$f":"'FLUXO ANUAL'!R30","v":-11154998.220000001},{"$f":"'FLUXO ANUAL'!S30","v":-41686228.350000001},{"$f":"'FLUXO ANUAL'!T30","v":-10138497.699999999},{"$f":"'FLUXO ANUAL'!U30","v":-39227875.299999997},{"$f":"'FLUXO ANUAL'!V30","v":-9504777.7599999998},{"$f":"'FLUXO ANUAL'!W30","v":-35689490.009999998},{"$f":"'FLUXO ANUAL'!X30","v":-11764430.789999999},{"$f":"'FLUXO ANUAL'!Y30","v":-48649450.649999999},{"$f":"'FLUXO ANUAL'!Z30","v":-9298247.4700000007},{"$f":"'FLUXO ANUAL'!AA30","v":-34847971.869999997},{"$f":"'FLUXO ANUAL'!AB30","v":-14199657.699999999},{"$f":"'FLUXO ANUAL'!AC30","v":-55080472.219999999},{"$f":"'FLUXO ANUAL'!AD30","v":-14723704.439999999},{"$f":"'FLUXO ANUAL'!AE30","v":-56882087.359999999},{"$f":"'FLUXO ANUAL'!AF30","v":-11903793.01},{"$f":"'FLUXO ANUAL'!AG30","v":-46124817.159999996}]
[null,"14 (-) Royalties Sobre Energia Cedida ",{"$f":"'FLUXO ANUAL'!D31","v":-24255027.140000001},{"$f":"'FLUXO ANUAL'!E31","v":-79885601.949999988},{"$f":"'FLUXO ANUAL'!F31","v":-10981655.029999999},{"$f":"'FLUXO ANUAL'!G31","v":-42156188.850000001},{"$f":"'FLUXO ANUAL'!H31","v":-35236682.170000002},{"$f":"'FLUXO ANUAL'!I31","v":-122041790.79999998},{"$f":"'FLUXO ANUAL'!J31","v":-6728160.9199999999},{"$f":"'FLUXO ANUAL'!K31","v":-21277136.09},{"$f":"'FLUXO ANUAL'!L31","v":-5767898.96},{"$f":"'FLUXO ANUAL'!M31","v":-18716255.34},{"$f":"'FLUXO ANUAL'!N31","v":-7297940.54},{"$f":"'FLUXO ANUAL'!O31","v":-24256894.77},{"$f":"'FLUXO ANUAL'!P31","v":-4062160.18},{"$f":"'FLUXO ANUAL'!Q31","v":-14140785.800000001},{"$f":"'FLUXO ANUAL'!R31","v":-388910.01},{"$f":"'FLUXO ANUAL'!S31","v":-1453356.71},{"$f":"'FLUXO ANUAL'!T31","v":0},{"$f":"'FLUXO ANUAL'!U31","v":0},{"$f":"'FLUXO ANUAL'!V31","v":0},{"$f":"'FLUXO ANUAL'!W31","v":0},{"$f":"'FLUXO ANUAL'!X31","v":-9956.5300000000007},{"$f":"'FLUXO ANUAL'!Y31","v":-41173.24},{"$f":"'FLUXO ANUAL'!Z31","v":0},{"$f":"'FLUXO ANUAL'!AA31","v":0},{"$f":"'FLUXO ANUAL'!AB31","v":-2071540.15},{"$f":"'FLUXO ANUAL'!AC31","v":-7701364.8200000003},{"$f":"'FLUXO ANUAL'!AD31","v":-6094705.2199999997},{"$f":"'FLUXO ANUAL'!AE31","v":-23545674.68},{"$f":"'FLUXO ANUAL'!AF31","v":-2815409.66},{"$f":"'FLUXO ANUAL'!AG31","v":-10909149.35}]
[null,"15 (-) Ressarcimento Encargos Supervisão",{"$f":"'FLUXO ANUAL'!D32","v":-1865771.3199999996},{"$f":"'FLUXO ANUAL'!E32","v":-6145046.3000000007},{"$f":"'FLUXO ANUAL'!F32","v":-844742.69},{"$f":"'FLUXO ANUAL'!G32","v":-3448016.1},{"$f":"'FLUXO ANUAL'!H32","v":-2710514.01},{"$f":"'FLUXO ANUAL'!I32","v":-9593062.4000000004},{"$f":"'FLUXO ANUAL'!J32","v":-517550.84},{"$f":"'FLUXO ANUAL'!K32","v":-1636702.78},{"$f":"'FLUXO ANUAL'!L32","v":-443684.54},{"$f":"'FLUXO ANUAL'!M32","v":-1439711.96},{"$f":"'FLUXO ANUAL'!N32","v":-561380.04},{"$f":"'FLUXO ANUAL'!O32","v":-1865914.98},{"$f":"'FLUXO ANUAL'!P32","v":-312473.86},{"$f":"'FLUXO ANUAL'!Q32","v":-1087752.75},{"$f":"'FLUXO ANUAL'!R32","v":-29916.15},{"$f":"'FLUXO ANUAL'!S32","v":-111796.65},{"$f":"'FLUXO ANUAL'!T32","v":0},{"$f":"'FLUXO ANUAL'!U32","v":0},{"$f":"'FLUXO ANUAL'!V32","v":0},{"$f":"'FLUXO ANUAL'!W32","v":0},{"$f":"'FLUXO ANUAL'!X32","v":-765.89},{"$f":"'FLUXO ANUAL'!Y32","v":-3167.18},{"$f":"'FLUXO ANUAL'!Z32","v":0},{"$f":"'FLUXO ANUAL'!AA32","v":0},{"$f":"'FLUXO ANUAL'!AB32","v":-159349.24},{"$f":"'FLUXO ANUAL'!AC32","v":-618115.69999999995},{"$f":"'FLUXO ANUAL'!AD32","v":-468823.48},{"$f":"'FLUXO ANUAL'!AE32","v":-1811205.75},{"$f":"'FLUXO ANUAL'!AF32","v":-216569.97},{"$f":"'FLUXO ANUAL'!AG32","v":-1018694.6499999999}]
[null,"16 (-) Ajuste do dólar Energia Cedida  Fator 15,3 \n          (Pagamento à Itaipu)",{"$f":"'FLUXO ANUAL'!D33","v":-114400492},{"$f":"'FLUXO ANUAL'!E33","v":-372234890.82999998},{"$f":"'FLUXO ANUAL'!F33","v":-57200246.079999998},{"$f":"'FLUXO ANUAL'!G33","v":-185855039.57000002},{"$f":"'FLUXO ANUAL'!H33","v":-171600738.08000001},{"$f":"'FLUXO ANUAL'!I33","v":-558089930.39999998},{"$f":"'FLUXO ANUAL'!J33","v":-14300061.5},{"$f":"'FLUXO ANUAL'!K33","v":-46988572.079999998},{"$f":"'FLUXO ANUAL'!L33","v":-14300061.5},{"$f":"'FLUXO ANUAL'!M33","v":-46463759.82},{"$f":"'FLUXO ANUAL'!N33","v":-14300061.5},{"$f":"'FLUXO ANUAL'!O33","v":-46463759.82},{"$f":"'FLUXO ANUAL'!P33","v":-14300061.5},{"$f":"'FLUXO ANUAL'!Q33","v":-46463759.82},{"$f":"'FLUXO ANUAL'!R33","v":-14300061.5},{"$f":"'FLUXO ANUAL'!S33","v":-46463759.82},{"$f":"'FLUXO ANUAL'!T33","v":-14300061.5},{"$f":"'FLUXO ANUAL'!U33","v":-46463759.82},{"$f":"'FLUXO ANUAL'!V33","v":-14300061.5},{"$f":"'FLUXO ANUAL'!W33","v":-46463759.829999998},{"$f":"'FLUXO ANUAL'!X33","v":-14300061.5},{"$f":"'FLUXO ANUAL'!Y33","v":-46463759.82},{"$f":"'FLUXO ANUAL'!Z33","v":-14300061.5},{"$f":"'FLUXO ANUAL'!AA33","v":-46463759.82},{"$f":"'FLUXO ANUAL'!AB33","v":-14300061.5},{"$f":"'FLUXO ANUAL'!AC33","v":-46463759.829999998},{"$f":"'FLUXO ANUAL'!AD33","v":-14300061.5},{"$f":"'FLUXO ANUAL'!AE33","v":-46463759.829999998},{"$f":"'FLUXO ANUAL'!AF33","v":-14300061.58},{"$f":"'FLUXO ANUAL'!AG33","v":-46463760.090000004}]
[null,"17 (-) Ajuste do dólar - Royalties Sobre Cessão de Energia",{"$f":"'FLUXO ANUAL'!D34","v":-28161243.759999998},{"$f":"'FLUXO ANUAL'!E34","v":-91630702.910000011},{"$f":"'FLUXO ANUAL'!F34","v":-14080621.939999999},{"$f":"'FLUXO ANUAL'!G34","v":-45750756.800000004},{"$f":"'FLUXO ANUAL'!H34","v":-42241865.699999996},{"$f":"'FLUXO ANUAL'!I34","v":-137381459.71000004},{"$f":"'FLUXO ANUAL'!J34","v":-3520155.47},{"$f":"'FLUXO ANUAL'!K34","v":-11566878.859999999},{"$f":"'FLUXO ANUAL'!L34","v":-3520155.47},{"$f":"'FLUXO ANUAL'!M34","v":-11437689.15},{"$f":"'FLUXO ANUAL'!N34","v":-3520155.47},{"$f":"'FLUXO ANUAL'!O34","v":-11437689.15},{"$f":"'FLUXO ANUAL'!P34","v":-3520155.47},{"$f":"'FLUXO ANUAL'!Q34","v":-11437689.15},{"$f":"'FLUXO ANUAL'!R34","v":-3520155.47},{"$f":"'FLUXO ANUAL'!S34","v":-11437689.15},{"$f":"'FLUXO ANUAL'!T34","v":-3520155.47},{"$f":"'FLUXO ANUAL'!U34","v":-11437689.15},{"$f":"'FLUXO ANUAL'!V34","v":-3520155.47},{"$f":"'FLUXO ANUAL'!W34","v":-11437689.15},{"$f":"'FLUXO ANUAL'!X34","v":-3520155.47},{"$f":"'FLUXO ANUAL'!Y34","v":-11437689.15},{"$f":"'FLUXO ANUAL'!Z34","v":-3520155.47},{"$f":"'FLUXO ANUAL'!AA34","v":-11437689.15},{"$f":"'FLUXO ANUAL'!AB34","v":-3520155.47},{"$f":"'FLUXO ANUAL'!AC34","v":-11437689.15},{"$f":"'FLUXO ANUAL'!AD34","v":-3520155.47},{"$f":"'FLUXO ANUAL'!AE34","v":-11437689.15},{"$f":"'FLUXO ANUAL'!AF34","v":-3520155.53},{"$f":"'FLUXO ANUAL'!AG34","v":-11437689.35}]
[null,"18 (-) Ajuste do dólar - Ressarcimento de Encargos ",{"$f":"'FLUXO ANUAL'!D35","v":-2166249.52},{"$f":"'FLUXO ANUAL'!E35","v":-7048515.5900000008},{"$f":"'FLUXO ANUAL'!F35","v":-1083124.76},{"$f":"'FLUXO ANUAL'!G35","v":-3519288.96},{"$f":"'FLUXO ANUAL'!H35","v":-3249374.28},{"$f":"'FLUXO ANUAL'!I35","v":-10567804.550000001},{"$f":"'FLUXO ANUAL'!J35","v":-270781.19},{"$f":"'FLUXO ANUAL'!K35","v":-889759.91},{"$f":"'FLUXO ANUAL'!L35","v":-270781.19},{"$f":"'FLUXO ANUAL'!M35","v":-879822.24},{"$f":"'FLUXO ANUAL'!N35","v":-270781.19},{"$f":"'FLUXO ANUAL'!O35","v":-879822.24},{"$f":"'FLUXO ANUAL'!P35","v":-270781.19},{"$f":"'FLUXO ANUAL'!Q35","v":-879822.24},{"$f":"'FLUXO ANUAL'!R35","v":-270781.19},{"$f":"'FLUXO ANUAL'!S35","v":-879822.24},{"$f":"'FLUXO ANUAL'!T35","v":-270781.19},{"$f":"'FLUXO ANUAL'!U35","v":-879822.24},{"$f":"'FLUXO ANUAL'!V35","v":-270781.19},{"$f":"'FLUXO ANUAL'!W35","v":-879822.24},{"$f":"'FLUXO ANUAL'!X35","v":-270781.19},{"$f":"'FLUXO ANUAL'!Y35","v":-879822.24},{"$f":"'FLUXO ANUAL'!Z35","v":-270781.19},{"$f":"'FLUXO ANUAL'!AA35","v":-879822.24},{"$f":"'FLUXO ANUAL'!AB35","v":-270781.19},{"$f":"'FLUXO ANUAL'!AC35","v":-879822.24},{"$f":"'FLUXO ANUAL'!AD35","v":-270781.19},{"$f":"'FLUXO ANUAL'!AE35","v":-879822.24},{"$f":"'FLUXO ANUAL'!AF35","v":-270781.19},{"$f":"'FLUXO ANUAL'!AG35","v":-879822.24}]
[null,"19 (-) Juros da Potência , Cessão, Royalties, Ressarcimento \n           e de todos os Ajustes do Dólar",{"$f":"'FLUXO ANUAL'!D36","v":-3926121.348661128},{"$f":"'FLUXO ANUAL'!E36","v":-12580831.92},{"$f":"'FLUXO ANUAL'!F36","v":0},{"$f":"'FLUXO ANUAL'!G36","v":0},{"$f":"'FLUXO ANUAL'!H36","v":-3926121.348661128},{"$f":"'FLUXO ANUAL'!I36","v":-12580831.92},{"$f":"'FLUXO ANUAL'!J36","v":-1929692.9104477614},{"$f":"'FLUXO ANUAL'!K36","v":-6102460.8600000003},{"$f":"'FLUXO ANUAL'!L36","v":-1995884.5203242011},{"$f":"'FLUXO ANUAL'!M36","v":-6476445.6799999997},{"$f":"'FLUXO ANUAL'!N36","v":-271.34604970214815},{"$f":"'FLUXO ANUAL'!O36","v":-901.9},{"$f":"'FLUXO ANUAL'!P36","v":0},{"$f":"'FLUXO ANUAL'!Q36","v":0},{"$f":"'FLUXO ANUAL'!R36","v":0},{"$f":"'FLUXO ANUAL'!S36","v":0},{"$f":"'FLUXO ANUAL'!T36","v":0},{"$f":"'FLUXO ANUAL'!U36","v":0},{"$f":"'FLUXO ANUAL'!V36","v":-272.57183946310153},{"$f":"'FLUXO ANUAL'!W36","v":-1023.48},{"$f":"'FLUXO ANUAL'!X36","v":0},{"$f":"'FLUXO ANUAL'!Y36","v":0},{"$f":"'FLUXO ANUAL'!Z36","v":0},{"$f":"'FLUXO ANUAL'!AA36","v":0},{"$f":"'FLUXO ANUAL'!AB36","v":0},{"$f":"'FLUXO ANUAL'!AC36","v":0},{"$f":"'FLUXO ANUAL'!AD36","v":0},{"$f":"'FLUXO ANUAL'!AE36","v":0},{"$f":"'FLUXO ANUAL'!AF36","v":0},{"$f":"'FLUXO ANUAL'!AG36","v":0}]
[null,"20 (-) Cessão FM 10.2 + Ajuste do Dólar Cessão FM 10.2 \n          (Pagamento ao Tesouro)",{"$f":"'FLUXO ANUAL'!D37","v":0},{"$f":"'FLUXO ANUAL'!E37","v":0},{"$f":"'FLUXO ANUAL'!F37","v":0},{"$f":"'FLUXO ANUAL'!G37","v":0},{"$f":"'FLUXO ANUAL'!H37","v":0},{"$f":"'FLUXO ANUAL'!I37","v":0},{"$f":"'FLUXO ANUAL'!J37","v":0},{"$f":"'FLUXO ANUAL'!K37","v":0},{"$f":"'FLUXO ANUAL'!L37","v":0},{"$f":"'FLUXO ANUAL'!M37","v":0},{"$f":"'FLUXO ANUAL'!N37","v":0},{"$f":"'FLUXO ANUAL'!O37","v":0},{"$f":"'FLUXO ANUAL'!P37","v":0},{"$f":"'FLUXO ANUAL'!Q37","v":0},{"$f":"'FLUXO ANUAL'!R37","v":0},{"$f":"'FLUXO ANUAL'!S37","v":0},{"$f":"'FLUXO ANUAL'!T37","v":0},{"$f":"'FLUXO ANUAL'!U37","v":0},{"$f":"'FLUXO ANUAL'!V37","v":0},{"$f":"'FLUXO ANUAL'!W37","v":0},{"$f":"'FLUXO ANUAL'!X37","v":0},{"$f":"'FLUXO ANUAL'!Y37","v":0},{"$f":"'FLUXO ANUAL'!Z37","v":0},{"$f":"'FLUXO ANUAL'!AA37","v":0},{"$f":"'FLUXO ANUAL'!AB37","v":0},{"$f":"'FLUXO ANUAL'!AC37","v":0},{"$f":"'FLUXO ANUAL'!AD37","v":0},{"$f":"'FLUXO ANUAL'!AE37","v":0},{"$f":"'FLUXO ANUAL'!AF37","v":0},{"$f":"'FLUXO ANUAL'!AG37","v":0}]
[null,"21 (-) Despesas SELIC da Cessão + Aj. Do Dólar FM 10.2 \n          (Pagamento ao Tesouro)",{"$f":"'FLUXO ANUAL'!D38","v":0},{"$f":"'FLUXO ANUAL'!E38","v":0},{"$f":"'FLUXO ANUAL'!F38","v":0},{"$f":"'FLUXO ANUAL'!G38","v":0},{"$f":"'FLUXO ANUAL'!H38","v":0},{"$f":"'FLUXO ANUAL'!I38","v":0},{"$f":"'FLUXO ANUAL'!J38","v":0},{"$f":"'FLUXO ANUAL'!K38","v":0},{"$f":"'FLUXO ANUAL'!L38","v":0},{"$f":"'FLUXO ANUAL'!M38","v":0},{"$f":"'FLUXO ANUAL'!N38","v":0},{"$f":"'FLUXO ANUAL'!O38","v":0},{"$f":"'FLUXO ANUAL'!P38","v":0},{"$f":"'FLUXO ANUAL'!Q38","v":0},{"$f":"'FLUXO ANUAL'!R38","v":0},{"$f":"'FLUXO ANUAL'!S38","v":0},{"$f":"'FLUXO ANUAL'!T38","v":0},{"$f":"'FLUXO ANUAL'!U38","v":0},{"$f":"'FLUXO ANUAL'!V38","v":0},{"$f":"'FLUXO ANUAL'!W38","v":0},{"$f":"'FLUXO ANUAL'!X38","v":0},{"$f":"'FLUXO ANUAL'!Y38","v":0},{"$f":"'FLUXO ANUAL'!Z38","v":0},{"$f":"'FLUXO ANUAL'!AA38","v":0},{"$f":"'FLUXO ANUAL'!AB38","v":0},{"$f":"'FLUXO ANUAL'!AC38","v":0},{"$f":"'FLUXO ANUAL'!AD38","v":0},{"$f":"'FLUXO ANUAL'!AE38","v":0},{"$f":"'FLUXO ANUAL'!AF38","v":0},{"$f":"'FLUXO ANUAL'!AG38","v":0}]
[null,"22 (+/-)  Juros Pagos  dos Empréstimos Obtidos por ITAIPU \n Junto à ELETROBRAS e juros por atraso \nde transferência da CCEE",{"$f":"'FLUXO ANUAL'!D39","v":-1455174.8379945313},{"$f":"'FLUXO ANUAL'!E39","v":-5131584.95},{"$f":"'FLUXO ANUAL'!F39","v":-286503.37663287105},{"$f":"'FLUXO ANUAL'!G39","v":-1139586.43},{"$f":"'FLUXO ANUAL'!H39","v":-1741678.2146274024},{"$f":"'FLUXO ANUAL'!I39","v":-6271171.3799999999},{"$f":"'FLUXO ANUAL'!J39","v":-13305.597014925375},{"$f":"'FLUXO ANUAL'!K39","v":-42077.62},{"$f":"'FLUXO ANUAL'!L39","v":-632825.67105303705},{"$f":"'FLUXO ANUAL'!M39","v":-2053456.02},{"$f":"'FLUXO ANUAL'!N39","v":-8968.8368734580908},{"$f":"'FLUXO ANUAL'!O39","v":-29810.62},{"$f":"'FLUXO ANUAL'!P39","v":0},{"$f":"'FLUXO ANUAL'!Q39","v":0},{"$f":"'FLUXO ANUAL'!R39","v":-403188.93229863525},{"$f":"'FLUXO ANUAL'!S39","v":-1506717.04},{"$f":"'FLUXO ANUAL'!T39","v":-51441.467399761401},{"$f":"'FLUXO ANUAL'!U39","v":-198348.01},{"$f":"'FLUXO ANUAL'!V39","v":-334753.71115076297},{"$f":"'FLUXO ANUAL'!W39","v":-1256966.71},{"$f":"'FLUXO ANUAL'!X39","v":-10690.622203951345},{"$f":"'FLUXO ANUAL'!Y39","v":-44208.93},{"$f":"'FLUXO ANUAL'!Z39","v":-260142.65091535755},{"$f":"'FLUXO ANUAL'!AA39","v":-1041585.16},{"$f":"'FLUXO ANUAL'!AB39","v":-26360.72571751352},{"$f":"'FLUXO ANUAL'!AC39","v":-98001.27},{"$f":"'FLUXO ANUAL'!AD39","v":0},{"$f":"'FLUXO ANUAL'!AE39","v":0},{"$f":"'FLUXO ANUAL'!AF39","v":0},{"$f":"'FLUXO ANUAL'!AG39","v":0}]
[null,"23 (-) Ativo Regulatório - Tesouro",{"$f":"'FLUXO ANUAL'!D40","v":-134136064.13000001},{"$f":"'FLUXO ANUAL'!E40","v":-480298193.122949},{"$f":"'FLUXO ANUAL'!F40","v":-72403948.920000002},{"$f":"'FLUXO ANUAL'!G40","v":-279840659.21291506},{"$f":"'FLUXO ANUAL'!H40","v":-206540013.04999998},{"$f":"'FLUXO ANUAL'!I40","v":-760138852.33586407},{"$f":"'FLUXO ANUAL'!J40","v":-12765070.350000001},{"$f":"'FLUXO ANUAL'!K40","v":-40907369.945955001},{"$f":"'FLUXO ANUAL'!L40","v":-12765070.4},{"$f":"'FLUXO ANUAL'!M40","v":-41453289.616505004},{"$f":"'FLUXO ANUAL'!N40","v":-12067324.82},{"$f":"'FLUXO ANUAL'!O40","v":-39464375.725087002},{"$f":"'FLUXO ANUAL'!P40","v":-18100987.23},{"$f":"'FLUXO ANUAL'!Q40","v":-61011187.557438001},{"$f":"'FLUXO ANUAL'!R40","v":-24134649.640000001},{"$f":"'FLUXO ANUAL'!S40","v":-87817542.912586004},{"$f":"'FLUXO ANUAL'!T40","v":-18100987.23},{"$f":"'FLUXO ANUAL'!U40","v":-68773494.247903004},{"$f":"'FLUXO ANUAL'!V40","v":-18100987.23},{"$f":"'FLUXO ANUAL'!W40","v":-69207917.941422999},{"$f":"'FLUXO ANUAL'!X40","v":-18100987.23},{"$f":"'FLUXO ANUAL'!Y40","v":-71663015.176052004},{"$f":"'FLUXO ANUAL'!Z40","v":-18100987.23},{"$f":"'FLUXO ANUAL'!AA40","v":-74123542.706850007},{"$f":"'FLUXO ANUAL'!AB40","v":-18100987.23},{"$f":"'FLUXO ANUAL'!AC40","v":-66875907.419958003},{"$f":"'FLUXO ANUAL'!AD40","v":-18100987.23},{"$f":"'FLUXO ANUAL'!AE40","v":-68558695.866107002},{"$f":"'FLUXO ANUAL'!AF40","v":-18100987.23},{"$f":"'FLUXO ANUAL'!AG40","v":-70282513.219999999}]
[null,"24 (-) Ativo Regulatório - Eletrobrás",{"$f":"'FLUXO ANUAL'!D41","v":-80081261.700000003},{"$f":"'FLUXO ANUAL'!E41","v":-286654048.05419797},{"$f":"'FLUXO ANUAL'!F41","v":-43220836.56017831},{"$f":"'FLUXO ANUAL'!G41","v":-167110483.17000002},{"$f":"'FLUXO ANUAL'!H41","v":-123302098.2601783},{"$f":"'FLUXO ANUAL'!I41","v":-453764531.22419798},{"$f":"'FLUXO ANUAL'!J41","v":-7625003.4299999997},{"$f":"'FLUXO ANUAL'!K41","v":-24435340.158558998},{"$f":"'FLUXO ANUAL'!L41","v":-7625003.4299999997},{"$f":"'FLUXO ANUAL'!M41","v":-24673748.599137001},{"$f":"'FLUXO ANUAL'!N41","v":-7203472.7599999998},{"$f":"'FLUXO ANUAL'!O41","v":-23557877.140666001},{"$f":"'FLUXO ANUAL'!P41","v":-10805209.140000001},{"$f":"'FLUXO ANUAL'!Q41","v":-36420037.927284002},{"$f":"'FLUXO ANUAL'!R41","v":-14406945.52},{"$f":"'FLUXO ANUAL'!S41","v":-52421832.316348001},{"$f":"'FLUXO ANUAL'!T41","v":-10805209.140000001},{"$f":"'FLUXO ANUAL'!U41","v":-41053671.780153997},{"$f":"'FLUXO ANUAL'!V41","v":-10805209.140000001},{"$f":"'FLUXO ANUAL'!W41","v":-41312996.799514003},{"$f":"'FLUXO ANUAL'!X41","v":-10805209.140000001},{"$f":"'FLUXO ANUAL'!Y41","v":-42778543.332535997},{"$f":"'FLUXO ANUAL'!Z41","v":-10805209.13797882},{"$f":"'FLUXO ANUAL'!AA41","v":-44247331.420000002},{"$f":"'FLUXO ANUAL'!AB41","v":-10805209.140379192},{"$f":"'FLUXO ANUAL'!AC41","v":-39920925.689999998},{"$f":"'FLUXO ANUAL'!AD41","v":-10805209.141794821},{"$f":"'FLUXO ANUAL'!AE41","v":-40939136.57},{"$f":"'FLUXO ANUAL'!AF41","v":-10805209.140025474},{"$f":"'FLUXO ANUAL'!AG41","v":-42003089.490000002}]
[null,"NATUREZA DAS CONTAS",{"$f":"C14","v":"VALORES REALIZADOS DE JANEIRO A AGOSTO/2018                   EM US$"},"VALORES REALIZADOS DE JANEIRO A AGOSTO/2018                 EM R$","VALORES PREVISTOS DE SETEMBRO A DEZEMBRO/2018                   EM US$","VALORES REALIZADOS DE SETEMBRO A DEZEMBRO/2018                   EM R$","TOTAIS DE JANEIRO A DEZEMBRO/2018                   EM US$","TOTAIS DE JANEIRO A DEZEMBRO/2018                  EM R$","JANEIRO/2018                  EM US$",{"$f":"'FLUXO ANUAL'!K42","v":"JANEIRO/2018                   EM R$"},{"$f":"'FLUXO ANUAL'!L42","v":"FEVEREIRO/2018                  EM US$"},{"$f":"'FLUXO ANUAL'!M42","v":"FEVEREIRO/2018                   EM R$"},{"$f":"'FLUXO ANUAL'!N42","v":"MARÇO/2018                   EM US$"},{"$f":"'FLUXO ANUAL'!O42","v":"MARÇO/2018                  EM R$"},{"$f":"'FLUXO ANUAL'!P42","v":"ABRIL/2018                   EM US$"},{"$f":"'FLUXO ANUAL'!Q42","v":"ABRIL/2018                  EM R$"},{"$f":"'FLUXO ANUAL'!R42","v":"MAIO/2018                          EM US$"},{"$f":"'FLUXO ANUAL'!S42","v":"MAIO/2018                            EM R$"},{"$f":"'FLUXO ANUAL'!T42","v":"JUNHO/2018                   EM US$"},{"$f":"'FLUXO ANUAL'!U42","v":"JUNHO/2018                   EM R$"},{"$f":"'FLUXO ANUAL'!V42","v":"JULHO/2018                   EM US$"},{"$f":"'FLUXO ANUAL'!W42","v":"JULHO/2018                   EM R$"},{"$f":"'FLUXO ANUAL'!X42","v":"AGOSTO/2018                   EM US$"},{"$f":"'FLUXO ANUAL'!Y42","v":"AGOSTO/2018                   EM R$"},{"$f":"'FLUXO ANUAL'!Z42","v":"SETEMBRO/2018                   EM US$"},{"$f":"'FLUXO ANUAL'!AA42","v":"SETEMBRO/2018                   EM R$"},{"$f":"'FLUXO ANUAL'!AB42","v":"OUTUBRO/2018                   EM US$"},{"$f":"'FLUXO ANUAL'!AC42","v":"OUTUBRO/2018                   EM R$"},{"$f":"'FLUXO ANUAL'!AD42","v":"NOVEMBRO/2018                   EM US$"},{"$f":"'FLUXO ANUAL'!AE42","v":"NOVEMBRO/2018                   EM R$"},{"$f":"'FLUXO ANUAL'!AF42","v":"DEZEMBRO/2018                   EM US$"},{"$f":"'FLUXO ANUAL'!AG42","v":"DEZEMBRO/2018                   EM R$"}]
[null,null,null,null,null,null,null,null,{"$f":"+J43/J$9","v":0},{"$f":"'FLUXO ANUAL'!K43","v":0},{"$f":"'FLUXO ANUAL'!L43","v":0},{"$f":"'FLUXO ANUAL'!M43","v":0},{"$f":"'FLUXO ANUAL'!N43","v":0},{"$f":"'FLUXO ANUAL'!O43","v":0},{"$f":"'FLUXO ANUAL'!P43","v":0},{"$f":"'FLUXO ANUAL'!Q43","v":0},{"$f":"'FLUXO ANUAL'!R43","v":0},{"$f":"'FLUXO ANUAL'!S43","v":0},{"$f":"'FLUXO ANUAL'!T43","v":0},{"$f":"'FLUXO ANUAL'!U43","v":0},{"$f":"'FLUXO ANUAL'!V43","v":0},{"$f":"'FLUXO ANUAL'!W43","v":0},{"$f":"'FLUXO ANUAL'!X43","v":0},{"$f":"'FLUXO ANUAL'!Y43","v":0},{"$f":"'FLUXO ANUAL'!Z43","v":0},{"$f":"'FLUXO ANUAL'!AA43","v":0},{"$f":"'FLUXO ANUAL'!AB43","v":0},{"$f":"'FLUXO ANUAL'!AC43","v":0},{"$f":"'FLUXO ANUAL'!AD43","v":0},{"$f":"'FLUXO ANUAL'!AE43","v":0},{"$f":"'FLUXO ANUAL'!AF43","v":0},{"$f":"'FLUXO ANUAL'!AG43","v":0}]
[null,null,null,null,null,null,null,null,0,{"$f":"'FLUXO ANUAL'!K44","v":0},{"$f":"'FLUXO ANUAL'!L44","v":0},{"$f":"'FLUXO ANUAL'!M44","v":0},{"$f":"'FLUXO ANUAL'!N44","v":0},{"$f":"'FLUXO ANUAL'!O44","v":0},{"$f":"'FLUXO ANUAL'!P44","v":0},{"$f":"'FLUXO ANUAL'!Q44","v":0},{"$f":"'FLUXO ANUAL'!R44","v":0},{"$f":"'FLUXO ANUAL'!S44","v":0},{"$f":"'FLUXO ANUAL'!T44","v":0},{"$f":"'FLUXO ANUAL'!U44","v":0},{"$f":"'FLUXO ANUAL'!V44","v":0},{"$f":"'FLUXO ANUAL'!W44","v":0},{"$f":"'FLUXO ANUAL'!X44","v":0},{"$f":"'FLUXO ANUAL'!Y44","v":0},{"$f":"'FLUXO ANUAL'!Z44","v":0},{"$f":"'FLUXO ANUAL'!AA44","v":0},{"$f":"'FLUXO ANUAL'!AB44","v":0},{"$f":"'FLUXO ANUAL'!AC44","v":0},{"$f":"'FLUXO ANUAL'!AD44","v":0},{"$f":"'FLUXO ANUAL'!AE44","v":0},{"$f":"'FLUXO ANUAL'!AF44","v":0},{"$f":"'FLUXO ANUAL'!AG44","v":0}]
[null,null,null,null,null,null,null,null,0,{"$f":"'FLUXO ANUAL'!K45","v":0},{"$f":"'FLUXO ANUAL'!L45","v":0},{"$f":"'FLUXO ANUAL'!M45","v":0},{"$f":"'FLUXO ANUAL'!N45","v":0},{"$f":"'FLUXO ANUAL'!O45","v":0},{"$f":"'FLUXO ANUAL'!P45","v":0},{"$f":"'FLUXO ANUAL'!Q45","v":0},{"$f":"'FLUXO ANUAL'!R45","v":0},{"$f":"'FLUXO ANUAL'!S45","v":0},{"$f":"'FLUXO ANUAL'!T45","v":0},{"$f":"'FLUXO ANUAL'!U45","v":0},{"$f":"'FLUXO ANUAL'!V45","v":0},{"$f":"'FLUXO ANUAL'!W45","v":0},{"$f":"'FLUXO ANUAL'!X45","v":0},{"$f":"'FLUXO ANUAL'!Y45","v":0},{"$f":"'FLUXO ANUAL'!Z45","v":0},{"$f":"'FLUXO ANUAL'!AA45","v":0},{"$f":"'FLUXO ANUAL'!AB45","v":0},{"$f":"'FLUXO ANUAL'!AC45","v":0},{"$f":"'FLUXO ANUAL'!AD45","v":0},{"$f":"'FLUXO ANUAL'!AE45","v":0},{"$f":"'FLUXO ANUAL'!AF45","v":0},{"$f":"'FLUXO ANUAL'!AG45","v":0}]
[null,"25 (-) Custos Administrativos ",{"$f":"'FLUXO ANUAL'!D46","v":-545058.11076693283},{"$f":"'FLUXO ANUAL'!E46","v":-1940053.4399999997},{"$f":"'FLUXO ANUAL'!F46","v":-251155.41380455584},{"$f":"'FLUXO ANUAL'!G46","v":-970026.72},{"$f":"'FLUXO ANUAL'!H46","v":-796213.52457148873},{"$f":"'FLUXO ANUAL'!I46","v":-2910080.16},{"$f":"'FLUXO ANUAL'!J46","v":-76684.378952694155},{"$f":"'FLUXO ANUAL'!K46","v":-242506.68},{"$f":"'FLUXO ANUAL'!L46","v":-74734.716015901882},{"$f":"'FLUXO ANUAL'!M46","v":-242506.68},{"$f":"'FLUXO ANUAL'!N46","v":-72960.671520548771},{"$f":"'FLUXO ANUAL'!O46","v":-242506.68},{"$f":"'FLUXO ANUAL'!P46","v":-69663.807417195712},{"$f":"'FLUXO ANUAL'!Q46","v":-242506.68},{"$f":"'FLUXO ANUAL'!R46","v":-64893.411827669253},{"$f":"'FLUXO ANUAL'!S46","v":-242506.68},{"$f":"'FLUXO ANUAL'!T46","v":-62893.998651382331},{"$f":"'FLUXO ANUAL'!U46","v":-242506.68},{"$f":"'FLUXO ANUAL'!V46","v":-64584.058163999034},{"$f":"'FLUXO ANUAL'!W46","v":-242506.68},{"$f":"'FLUXO ANUAL'!X46","v":-58643.068217541651},{"$f":"'FLUXO ANUAL'!Y46","v":-242506.68},{"$f":"'FLUXO ANUAL'!Z46","v":-60567.616573840503},{"$f":"'FLUXO ANUAL'!AA46","v":-242506.68},{"$f":"'FLUXO ANUAL'!AB46","v":-65230.298302714044},{"$f":"'FLUXO ANUAL'!AC46","v":-242506.68},{"$f":"'FLUXO ANUAL'!AD46","v":-62771.899671265492},{"$f":"'FLUXO ANUAL'!AE46","v":-242506.68},{"$f":"'FLUXO ANUAL'!AF46","v":-62585.599256735826},{"$f":"'FLUXO ANUAL'!AG46","v":-242506.68}]
[null,"26 (-) Contribuição Anual a CCEE",{"$f":"'FLUXO ANUAL'!D47","v":-1082557.1191833785},{"$f":"'FLUXO ANUAL'!E47","v":-3836923.09},{"$f":"'FLUXO ANUAL'!F47","v":-285847.72304852074},{"$f":"'FLUXO ANUAL'!G47","v":-1110951.81},{"$f":"'FLUXO ANUAL'!H47","v":-1368404.8422318993},{"$f":"'FLUXO ANUAL'!I47","v":-4947874.8999999994},{"$f":"'FLUXO ANUAL'!J47","v":-160794.49784973438},{"$f":"'FLUXO ANUAL'!K47","v":-508496.52},{"$f":"'FLUXO ANUAL'!L47","v":-154975.40448087768},{"$f":"'FLUXO ANUAL'!M47","v":-502879.69},{"$f":"'FLUXO ANUAL'!N47","v":-150666.07798303146},{"$f":"'FLUXO ANUAL'!O47","v":-500783.91},{"$f":"'FLUXO ANUAL'!P47","v":-141099.4053603746},{"$f":"'FLUXO ANUAL'!Q47","v":-491181.14},{"$f":"'FLUXO ANUAL'!R47","v":-129851.53866738026},{"$f":"'FLUXO ANUAL'!S47","v":-485255.2},{"$f":"'FLUXO ANUAL'!T47","v":-124366.83956636755},{"$f":"'FLUXO ANUAL'!U47","v":-479533.66},{"$f":"'FLUXO ANUAL'!V47","v":-116443.59903060002},{"$f":"'FLUXO ANUAL'!W47","v":-437234.07},{"$f":"'FLUXO ANUAL'!X47","v":-104359.75624501245},{"$f":"'FLUXO ANUAL'!Y47","v":-431558.9},{"$f":"'FLUXO ANUAL'!Z47","v":-106759.29968280927},{"$f":"'FLUXO ANUAL'!AA47","v":-427453.56},{"$f":"'FLUXO ANUAL'!AB47","v":-62090.128305134902},{"$f":"'FLUXO ANUAL'!AC47","v":-230832.47},{"$f":"'FLUXO ANUAL'!AD47","v":-59062.060932363522},{"$f":"'FLUXO ANUAL'!AE47","v":-228174.46},{"$f":"'FLUXO ANUAL'!AF47","v":-57936.234128213073},{"$f":"'FLUXO ANUAL'!AG47","v":-224491.32}]
[null,"27 (-) Contribuição ao O N S",{"$f":"'FLUXO ANUAL'!D48","v":-104484.24309027822},{"$f":"'FLUXO ANUAL'!E48","v":-374836.94000000006},{"$f":"'FLUXO ANUAL'!F48","v":-61741.39334006991},{"$f":"'FLUXO ANUAL'!G48","v":-238461.12},{"$f":"'FLUXO ANUAL'!H48","v":-166225.63643034812},{"$f":"'FLUXO ANUAL'!I48","v":-613298.06000000017},{"$f":"'FLUXO ANUAL'!J48","v":-13879.332152795347},{"$f":"'FLUXO ANUAL'!K48","v":-43892},{"$f":"'FLUXO ANUAL'!L48","v":-13526.456901599433},{"$f":"'FLUXO ANUAL'!M48","v":-43892},{"$f":"'FLUXO ANUAL'!N48","v":-12631.223298634095},{"$f":"'FLUXO ANUAL'!O48","v":-41983.66},{"$f":"'FLUXO ANUAL'!P48","v":-12060.457901238115},{"$f":"'FLUXO ANUAL'!Q48","v":-41983.66},{"$f":"'FLUXO ANUAL'!R48","v":-11234.589242708054},{"$f":"'FLUXO ANUAL'!S48","v":-41983.66},{"$f":"'FLUXO ANUAL'!T48","v":-10859.328803361172},{"$f":"'FLUXO ANUAL'!U48","v":-41871.4},{"$f":"'FLUXO ANUAL'!V48","v":-15876.662494340728},{"$f":"'FLUXO ANUAL'!W48","v":-59615.28},{"$f":"'FLUXO ANUAL'!X48","v":-14416.192295601286},{"$f":"'FLUXO ANUAL'!Y48","v":-59615.28},{"$f":"'FLUXO ANUAL'!Z48","v":-14889.302929643598},{"$f":"'FLUXO ANUAL'!AA48","v":-59615.28},{"$f":"'FLUXO ANUAL'!AB48","v":-16035.527342173926},{"$f":"'FLUXO ANUAL'!AC48","v":-59615.28},{"$f":"'FLUXO ANUAL'!AD48","v":-15431.180596899023},{"$f":"'FLUXO ANUAL'!AE48","v":-59615.28},{"$f":"'FLUXO ANUAL'!AF48","v":-15385.38247135336},{"$f":"'FLUXO ANUAL'!AG48","v":-59615.28}]
[null,"28 (-) Despesas Bancárias",{"$f":"'FLUXO ANUAL'!D49","v":-1569.1374251245948},{"$f":"'FLUXO ANUAL'!E49","v":-4966.5199999999995},{"$f":"'FLUXO ANUAL'!F49","v":-70.764942706720348},{"$f":"'FLUXO ANUAL'!G49","v":-274.2},{"$f":"'FLUXO ANUAL'!H49","v":-1639.9023678313151},{"$f":"'FLUXO ANUAL'!I49","v":-5240.7199999999993},{"$f":"'FLUXO ANUAL'!J49","v":-1532.4215785479385},{"$f":"'FLUXO ANUAL'!K49","v":-4846.13},{"$f":"'FLUXO ANUAL'!L49","v":-20.863508890874915},{"$f":"'FLUXO ANUAL'!M49","v":-67.7},{"$f":"'FLUXO ANUAL'!N49","v":-15.852337685781334},{"$f":"'FLUXO ANUAL'!O49","v":-52.69},{"$f":"'FLUXO ANUAL'!P49","v":0},{"$f":"'FLUXO ANUAL'!Q49","v":0},{"$f":"'FLUXO ANUAL'!R49","v":0},{"$f":"'FLUXO ANUAL'!S49","v":0},{"$f":"'FLUXO ANUAL'!T49","v":0},{"$f":"'FLUXO ANUAL'!U49","v":0},{"$f":"'FLUXO ANUAL'!V49","v":0},{"$f":"'FLUXO ANUAL'!W49","v":0},{"$f":"'FLUXO ANUAL'!X49","v":0},{"$f":"'FLUXO ANUAL'!Y49","v":0},{"$f":"'FLUXO ANUAL'!Z49","v":0},{"$f":"'FLUXO ANUAL'!AA49","v":0},{"$f":"'FLUXO ANUAL'!AB49","v":0},{"$f":"'FLUXO ANUAL'!AC49","v":0},{"$f":"'FLUXO ANUAL'!AD49","v":0},{"$f":"'FLUXO ANUAL'!AE49","v":0},{"$f":"'FLUXO ANUAL'!AF49","v":-70.764942706720348},{"$f":"'FLUXO ANUAL'!AG49","v":-274.2}]
[null,"29 (-) Custeio com Imposto de Renda  BB",{"$f":"'FLUXO ANUAL'!D50","v":-30197.950513304811},{"$f":"'FLUXO ANUAL'!E50","v":-106765.79000000001},{"$f":"'FLUXO ANUAL'!F50","v":-80962.174357865515},{"$f":"'FLUXO ANUAL'!G50","v":-310921.24},{"$f":"'FLUXO ANUAL'!H50","v":-111160.12487117034},{"$f":"'FLUXO ANUAL'!I50","v":-417687.03},{"$f":"'FLUXO ANUAL'!J50","v":-3182.7251454591446},{"$f":"'FLUXO ANUAL'!K50","v":-10065.049999999999},{"$f":"'FLUXO ANUAL'!L50","v":-1544.6022989922649},{"$f":"'FLUXO ANUAL'!M50","v":-5012.08},{"$f":"'FLUXO ANUAL'!N50","v":-8136.2085564715089},{"$f":"'FLUXO ANUAL'!O50","v":-27043.13},{"$f":"'FLUXO ANUAL'!P50","v":-4723.1708368044583},{"$f":"'FLUXO ANUAL'!Q50","v":-16441.830000000002},{"$f":"'FLUXO ANUAL'!R50","v":-2172.0470966015519},{"$f":"'FLUXO ANUAL'!S50","v":-8116.94},{"$f":"'FLUXO ANUAL'!T50","v":0},{"$f":"'FLUXO ANUAL'!U50","v":0},{"$f":"'FLUXO ANUAL'!V50","v":-8103.1798450025299},{"$f":"'FLUXO ANUAL'!W50","v":-30426.63},{"$f":"'FLUXO ANUAL'!X50","v":-2336.0167339733512},{"$f":"'FLUXO ANUAL'!Y50","v":-9660.1299999999992},{"$f":"'FLUXO ANUAL'!Z50","v":-4366.133020305203},{"$f":"'FLUXO ANUAL'!AA50","v":-17481.560000000001},{"$f":"'FLUXO ANUAL'!AB50","v":-19796.704951986445},{"$f":"'FLUXO ANUAL'!AC50","v":-73598.210000000006},{"$f":"'FLUXO ANUAL'!AD50","v":-21269.44581057645},{"$f":"'FLUXO ANUAL'!AE50","v":-82170.25},{"$f":"'FLUXO ANUAL'!AF50","v":-35529.890574997422},{"$f":"'FLUXO ANUAL'!AG50","v":-137671.22}]
[null,"30] (-) Custeio com Imposto de Renda  Bradesco",{"$f":"'FLUXO ANUAL'!D51","v":-92.527826966860616},{"$f":"'FLUXO ANUAL'!E51","v":-292.61},{"$f":"'FLUXO ANUAL'!F51","v":92.53},{"$f":"'FLUXO ANUAL'!G51","v":292.61},{"$f":"'FLUXO ANUAL'!H51","v":2.1730331393854385E-3},{"$f":"'FLUXO ANUAL'!I51","v":0},{"$f":"'FLUXO ANUAL'!J51","v":-92.527826966860616},{"$f":"'FLUXO ANUAL'!K51","v":-292.61},{"$f":"'FLUXO ANUAL'!L51","v":0},{"$f":"'FLUXO ANUAL'!M51","v":0},{"$f":"'FLUXO ANUAL'!N51","v":0},{"$f":"'FLUXO ANUAL'!O51","v":0},{"$f":"'FLUXO ANUAL'!P51","v":0},{"$f":"'FLUXO ANUAL'!Q51","v":0},{"$f":"'FLUXO ANUAL'!R51","v":0},{"$f":"'FLUXO ANUAL'!S51","v":0},{"$f":"'FLUXO ANUAL'!T51","v":0},{"$f":"'FLUXO ANUAL'!U51","v":0},{"$f":"'FLUXO ANUAL'!V51","v":0},{"$f":"'FLUXO ANUAL'!W51","v":0},{"$f":"'FLUXO ANUAL'!X51","v":0},{"$f":"'FLUXO ANUAL'!Y51","v":0},{"$f":"'FLUXO ANUAL'!Z51","v":92.53},{"$f":"'FLUXO ANUAL'!AA51","v":292.61},{"$f":"'FLUXO ANUAL'!AB51","v":0},{"$f":"'FLUXO ANUAL'!AC51","v":0},{"$f":"'FLUXO ANUAL'!AD51","v":0},{"$f":"'FLUXO ANUAL'!AE51","v":0},{"$f":"'FLUXO ANUAL'!AF51","v":0},{"$f":"'FLUXO ANUAL'!AG51","v":0}]
[null,"31 (-) Custeio com IOF BB",{"$f":"'FLUXO ANUAL'!D52","v":-327592.43785018567},{"$f":"'FLUXO ANUAL'!E52","v":-1154251.67},{"$f":"'FLUXO ANUAL'!F52","v":-226793.2137253409},{"$f":"'FLUXO ANUAL'!G52","v":-867307.46},{"$f":"'FLUXO ANUAL'!H52","v":-554385.65157552669},{"$f":"'FLUXO ANUAL'!I52","v":-2021559.1299999997},{"$f":"'FLUXO ANUAL'!J52","v":-57723.50430053124},{"$f":"'FLUXO ANUAL'!K52","v":-182544.81},{"$f":"'FLUXO ANUAL'!L52","v":-31667.675429134953},{"$f":"'FLUXO ANUAL'!M52","v":-102758.44},{"$f":"'FLUXO ANUAL'!N52","v":-58839.722606655036},{"$f":"'FLUXO ANUAL'!O52","v":-195571.47},{"$f":"'FLUXO ANUAL'!P52","v":-39342.026945505728},{"$f":"'FLUXO ANUAL'!Q52","v":-136953.53},{"$f":"'FLUXO ANUAL'!R52","v":-17446.713941664439},{"$f":"'FLUXO ANUAL'!S52","v":-65198.37},{"$f":"'FLUXO ANUAL'!T52","v":-9907.7389906115477},{"$f":"'FLUXO ANUAL'!U52","v":-38202.26},{"$f":"'FLUXO ANUAL'!V52","v":-86437.9983488242},{"$f":"'FLUXO ANUAL'!W52","v":-324566.03999999998},{"$f":"'FLUXO ANUAL'!X52","v":-26227.057287258482},{"$f":"'FLUXO ANUAL'!Y52","v":-108456.75},{"$f":"'FLUXO ANUAL'!Z52","v":-25521.588950772999},{"$f":"'FLUXO ANUAL'!AA52","v":-102185.89},{"$f":"'FLUXO ANUAL'!AB52","v":-89005.331253194177},{"$f":"'FLUXO ANUAL'!AC52","v":-330895.12},{"$f":"'FLUXO ANUAL'!AD52","v":-68085.577097300236},{"$f":"'FLUXO ANUAL'!AE52","v":-263035.01},{"$f":"'FLUXO ANUAL'!AF52","v":-44180.7164240735},{"$f":"'FLUXO ANUAL'!AG52","v":-171191.44}]
[null,"32 (-) Custeio com IOF Bradesco",{"$f":"'FLUXO ANUAL'!D53","v":0},{"$f":"'FLUXO ANUAL'!E53","v":0},{"$f":"'FLUXO ANUAL'!F53","v":0},{"$f":"'FLUXO ANUAL'!G53","v":0},{"$f":"'FLUXO ANUAL'!H53","v":0},{"$f":"'FLUXO ANUAL'!I53","v":0},{"$f":"'FLUXO ANUAL'!J53","v":0},{"$f":"'FLUXO ANUAL'!K53","v":0},{"$f":"'FLUXO ANUAL'!L53","v":0},{"$f":"'FLUXO ANUAL'!M53","v":0},{"$f":"'FLUXO ANUAL'!N53","v":0},{"$f":"'FLUXO ANUAL'!O53","v":0},{"$f":"'FLUXO ANUAL'!P53","v":0},{"$f":"'FLUXO ANUAL'!Q53","v":0},{"$f":"'FLUXO ANUAL'!R53","v":0},{"$f":"'FLUXO ANUAL'!S53","v":0},{"$f":"'FLUXO ANUAL'!T53","v":0},{"$f":"'FLUXO ANUAL'!U53","v":0},{"$f":"'FLUXO ANUAL'!V53","v":0},{"$f":"'FLUXO ANUAL'!W53","v":0},{"$f":"'FLUXO ANUAL'!X53","v":0},{"$f":"'FLUXO ANUAL'!Y53","v":0},{"$f":"'FLUXO ANUAL'!Z53","v":0},{"$f":"'FLUXO ANUAL'!AA53","v":0},{"$f":"'FLUXO ANUAL'!AB53","v":0},{"$f":"'FLUXO ANUAL'!AC53","v":0},{"$f":"'FLUXO ANUAL'!AD53","v":0},{"$f":"'FLUXO ANUAL'!AE53","v":0},{"$f":"'FLUXO ANUAL'!AF53","v":0},{"$f":"'FLUXO ANUAL'!AG53","v":0}]
[null,"33 (-) Pagamento de bônus de ITAIPU",{"$f":"'FLUXO ANUAL'!D54","v":0},{"$f":"'FLUXO ANUAL'!E54","v":0},{"$f":"'FLUXO ANUAL'!F54","v":0},{"$f":"'FLUXO ANUAL'!G54","v":0},{"$f":"'FLUXO ANUAL'!H54","v":0},{"$f":"'FLUXO ANUAL'!I54","v":0},{"$f":"'FLUXO ANUAL'!J54","v":0},{"$f":"'FLUXO ANUAL'!K54","v":0},{"$f":"'FLUXO ANUAL'!L54","v":0},{"$f":"'FLUXO ANUAL'!M54","v":0},{"$f":"'FLUXO ANUAL'!N54","v":0},{"$f":"'FLUXO ANUAL'!O54","v":0},{"$f":"'FLUXO ANUAL'!P54","v":0},{"$f":"'FLUXO ANUAL'!Q54","v":0},{"$f":"'FLUXO ANUAL'!R54","v":0},{"$f":"'FLUXO ANUAL'!S54","v":0},{"$f":"'FLUXO ANUAL'!T54","v":0},{"$f":"'FLUXO ANUAL'!U54","v":0},{"$f":"'FLUXO ANUAL'!V54","v":0},{"$f":"'FLUXO ANUAL'!W54","v":0},{"$f":"'FLUXO ANUAL'!X54","v":0},{"$f":"'FLUXO ANUAL'!Y54","v":0},{"$f":"'FLUXO ANUAL'!Z54","v":0},{"$f":"'FLUXO ANUAL'!AA54","v":0},{"$f":"'FLUXO ANUAL'!AB54","v":0},{"$f":"'FLUXO ANUAL'!AC54","v":0},{"$f":"'FLUXO ANUAL'!AD54","v":0},{"$f":"'FLUXO ANUAL'!AE54","v":0},{"$f":"'FLUXO ANUAL'!AF54","v":0},{"$f":"'FLUXO ANUAL'!AG54","v":0}]
[null,"34 (+) Variação Cambial (Ativa)",{"$f":"'FLUXO ANUAL'!D55","v":0},{"$f":"'FLUXO ANUAL'!E55","v":827053713.13},{"$f":"'FLUXO ANUAL'!F55","v":0},{"$f":"'FLUXO ANUAL'!G55","v":293613354.93000001},{"$f":"'FLUXO ANUAL'!H55","v":0},{"$f":"'FLUXO ANUAL'!I55","v":1120667068.0599999},{"$f":"'FLUXO ANUAL'!J55","v":0},{"$f":"'FLUXO ANUAL'!K55","v":82156309.939999998},{"$f":"'FLUXO ANUAL'!L55","v":0},{"$f":"'FLUXO ANUAL'!M55","v":29359231.059999999},{"$f":"'FLUXO ANUAL'!N55","v":0},{"$f":"'FLUXO ANUAL'!O55","v":510444.78},{"$f":"'FLUXO ANUAL'!P55","v":0},{"$f":"'FLUXO ANUAL'!Q55","v":114531130.2},{"$f":"'FLUXO ANUAL'!R55","v":0},{"$f":"'FLUXO ANUAL'!S55","v":248152963.38},{"$f":"'FLUXO ANUAL'!T55","v":0},{"$f":"'FLUXO ANUAL'!U55","v":86995242.709999993},{"$f":"'FLUXO ANUAL'!V55","v":0},{"$f":"'FLUXO ANUAL'!W55","v":85741585.680000007},{"$f":"'FLUXO ANUAL'!X55","v":0},{"$f":"'FLUXO ANUAL'!Y55","v":179606805.38},{"$f":"'FLUXO ANUAL'!Z55","v":0},{"$f":"'FLUXO ANUAL'!AA55","v":-872544.73},{"$f":"'FLUXO ANUAL'!AB55","v":0},{"$f":"'FLUXO ANUAL'!AC55","v":112859898.78},{"$f":"'FLUXO ANUAL'!AD55","v":0},{"$f":"'FLUXO ANUAL'!AE55","v":123074165.13},{"$f":"'FLUXO ANUAL'!AF55","v":0},{"$f":"'FLUXO ANUAL'!AG55","v":58551835.75}]
[null,"35 (-) Variação Cambial (Passiva)",{"$f":"'FLUXO ANUAL'!D56","v":0},{"$f":"'FLUXO ANUAL'!E56","v":-969958042.30999994},{"$f":"'FLUXO ANUAL'!F56","v":0},{"$f":"'FLUXO ANUAL'!G56","v":-313967330.55000001},{"$f":"'FLUXO ANUAL'!H56","v":0},{"$f":"'FLUXO ANUAL'!I56","v":-1283925372.8599999},{"$f":"'FLUXO ANUAL'!J56","v":0},{"$f":"'FLUXO ANUAL'!K56","v":-114407344.56},{"$f":"'FLUXO ANUAL'!L56","v":0},{"$f":"'FLUXO ANUAL'!M56","v":-9446842.2599999998},{"$f":"'FLUXO ANUAL'!N56","v":0},{"$f":"'FLUXO ANUAL'!O56","v":9451768.5},{"$f":"'FLUXO ANUAL'!P56","v":0},{"$f":"'FLUXO ANUAL'!Q56","v":-69677893.989999995},{"$f":"'FLUXO ANUAL'!R56","v":0},{"$f":"'FLUXO ANUAL'!S56","v":-379097059.27999997},{"$f":"'FLUXO ANUAL'!T56","v":0},{"$f":"'FLUXO ANUAL'!U56","v":-169334175.33000001},{"$f":"'FLUXO ANUAL'!V56","v":0},{"$f":"'FLUXO ANUAL'!W56","v":-76034857.049999997},{"$f":"'FLUXO ANUAL'!X56","v":0},{"$f":"'FLUXO ANUAL'!Y56","v":-161411638.34},{"$f":"'FLUXO ANUAL'!Z56","v":0},{"$f":"'FLUXO ANUAL'!AA56","v":-15375796.800000001},{"$f":"'FLUXO ANUAL'!AB56","v":0},{"$f":"'FLUXO ANUAL'!AC56","v":-150530612.12},{"$f":"'FLUXO ANUAL'!AD56","v":0},{"$f":"'FLUXO ANUAL'!AE56","v":-103932295.11},{"$f":"'FLUXO ANUAL'!AF56","v":0},{"$f":"'FLUXO ANUAL'!AG56","v":-44128626.520000003}]
[null,"36 (+ / -) Receitas / Despesas com COFINS",{"$f":"'FLUXO ANUAL'!D57","v":-19222600.245312404},{"$f":"'FLUXO ANUAL'!E57","v":-65478581.010000013},{"$f":"'FLUXO ANUAL'!F57","v":-35732277.876633473},{"$f":"'FLUXO ANUAL'!G57","v":-141485896.31},{"$f":"'FLUXO ANUAL'!H57","v":-54954878.121945888},{"$f":"'FLUXO ANUAL'!I57","v":-206964477.31999999},{"$f":"'FLUXO ANUAL'!J57","v":0},{"$f":"'FLUXO ANUAL'!K57","v":0},{"$f":"'FLUXO ANUAL'!L57","v":0},{"$f":"'FLUXO ANUAL'!M57","v":0},{"$f":"'FLUXO ANUAL'!N57","v":-6757561.7455923948},{"$f":"'FLUXO ANUAL'!O57","v":-22460783.73},{"$f":"'FLUXO ANUAL'!P57","v":-24054659.509925023},{"$f":"'FLUXO ANUAL'!Q57","v":-83736675.219999999},{"$f":"'FLUXO ANUAL'!R57","v":8486638.5897778962},{"$f":"'FLUXO ANUAL'!S57","v":31714568.41},{"$f":"'FLUXO ANUAL'!T57","v":-6107263.6340059135},{"$f":"'FLUXO ANUAL'!U57","v":-23548387.120000001},{"$f":"'FLUXO ANUAL'!V57","v":14548984.907720577},{"$f":"'FLUXO ANUAL'!W57","v":54629983.43},{"$f":"'FLUXO ANUAL'!X57","v":-5338738.8532875488},{"$f":"'FLUXO ANUAL'!Y57","v":-22077286.780000001},{"$f":"'FLUXO ANUAL'!Z57","v":-23794429.044181924},{"$f":"'FLUXO ANUAL'!AA57","v":-95270514.450000003},{"$f":"'FLUXO ANUAL'!AB57","v":-141679.16722704898},{"$f":"'FLUXO ANUAL'!AC57","v":-526720.64},{"$f":"'FLUXO ANUAL'!AD57","v":-1664086.853208397},{"$f":"'FLUXO ANUAL'!AE57","v":-6428866.7400000002},{"$f":"'FLUXO ANUAL'!AF57","v":-10132082.812016105},{"$f":"'FLUXO ANUAL'!AG57","v":-39259794.480000004}]
[null,"37 (+ / -) Receitas / Despesas com PASEP",{"$f":"'FLUXO ANUAL'!D58","v":-3576644.4076177813},{"$f":"'FLUXO ANUAL'!E58","v":-12062369.290000005},{"$f":"'FLUXO ANUAL'!F58","v":-7209626.7777632242},{"$f":"'FLUXO ANUAL'!G58","v":-28589991.920000002},{"$f":"'FLUXO ANUAL'!H58","v":-10786271.185381005},{"$f":"'FLUXO ANUAL'!I58","v":-40652361.210000008},{"$f":"'FLUXO ANUAL'!J58","v":0},{"$f":"'FLUXO ANUAL'!K58","v":0},{"$f":"'FLUXO ANUAL'!L58","v":0},{"$f":"'FLUXO ANUAL'!M58","v":0},{"$f":"'FLUXO ANUAL'!N58","v":-1232487.7489620314},{"$f":"'FLUXO ANUAL'!O58","v":-4096542.78},{"$f":"'FLUXO ANUAL'!P58","v":-5151059.1939329524},{"$f":"'FLUXO ANUAL'!Q58","v":-17931352.16},{"$f":"'FLUXO ANUAL'!R58","v":1915389.6762108642},{"$f":"'FLUXO ANUAL'!S58","v":7157811.2199999997},{"$f":"'FLUXO ANUAL'!T58","v":-1253016.1730380207},{"$f":"'FLUXO ANUAL'!U58","v":-4831379.76},{"$f":"'FLUXO ANUAL'!V58","v":3231274.2283416335},{"$f":"'FLUXO ANUAL'!W58","v":12133111.6},{"$f":"'FLUXO ANUAL'!X58","v":-1086745.1962372742},{"$f":"'FLUXO ANUAL'!Y58","v":-4494017.41},{"$f":"'FLUXO ANUAL'!Z58","v":-5041141.6219186299},{"$f":"'FLUXO ANUAL'!AA58","v":-20184226.940000001},{"$f":"'FLUXO ANUAL'!AB58","v":42382.244398418377},{"$f":"'FLUXO ANUAL'!AC58","v":157564.47},{"$f":"'FLUXO ANUAL'!AD58","v":-290395.86622835399},{"$f":"'FLUXO ANUAL'!AE58","v":-1121886.3500000001},{"$f":"'FLUXO ANUAL'!AF58","v":-1920471.5340146588},{"$f":"'FLUXO ANUAL'!AG58","v":-7441443.0999999996}]
[null,"SALDO  DO PERÍODO  ( B )\nREALIZADO / PREVISTO / TOTAL",{"$f":"'FLUXO ANUAL'!D59","v":44261180.132991612},{"$f":"'FLUXO ANUAL'!E59","v":-54308170.698926158},{"$f":"'FLUXO ANUAL'!F59","v":33115638.742674455},{"$f":"'FLUXO ANUAL'!G59","v":305228381.7025041},{"$f":"'FLUXO ANUAL'!H59","v":77376818.87566717},{"$f":"'FLUXO ANUAL'!I59","v":250920211.00357744},{"$f":"'FLUXO ANUAL'!J59","v":168954.33},{"$f":"'FLUXO ANUAL'!K59","v":-33389667.539999999},{"$f":"'FLUXO ANUAL'!L59","v":890641.88},{"$f":"'FLUXO ANUAL'!M59","v":20836367.440000001},{"$f":"'FLUXO ANUAL'!N59","v":306461.95},{"$f":"'FLUXO ANUAL'!O59","v":17585387.5},{"$f":"'FLUXO ANUAL'!P59","v":-24690102.800000001},{"$f":"'FLUXO ANUAL'!Q59","v":-122196229.53},{"$f":"'FLUXO ANUAL'!R59","v":17844418.079999998},{"$f":"'FLUXO ANUAL'!S59","v":-78453733.609999999},{"$f":"'FLUXO ANUAL'!T59","v":11586663.960000001},{"$f":"'FLUXO ANUAL'!U59","v":-41060180.560000002},{"$f":"'FLUXO ANUAL'!V59","v":25530625.350000001},{"$f":"'FLUXO ANUAL'!W59","v":110335678.92},{"$f":"'FLUXO ANUAL'!X59","v":12623517.380000001},{"$f":"'FLUXO ANUAL'!Y59","v":72034206.670000002},{"$f":"'FLUXO ANUAL'!Z59","v":61757406.380000003},{"$f":"'FLUXO ANUAL'!AA59","v":246082338.13999999},{"$f":"'FLUXO ANUAL'!AB59","v":9436030.0199999996},{"$f":"'FLUXO ANUAL'!AC59","v":-690142.24},{"$f":"'FLUXO ANUAL'!AD59","v":-27966120.710000001},{"$f":"'FLUXO ANUAL'!AE59","v":1442657.91},{"$f":"'FLUXO ANUAL'!AF59","v":-10111676.949999999},{"$f":"'FLUXO ANUAL'!AG59","v":58393527.890000001}]
[null,"SALDO  FINAL ( C ) = ( A + B )\n (ANTES DA INADIMPLÊNCIA)",{"$f":"'FLUXO ANUAL'!D60","v":65010871.529702619},{"$f":"'FLUXO ANUAL'!E60","v":1490704047.0410738},{"$f":"'FLUXO ANUAL'!F60","v":98126510.272377074},{"$f":"'FLUXO ANUAL'!G60","v":1795932428.743578},{"$f":"'FLUXO ANUAL'!H60","v":98126510.272378176},{"$f":"'FLUXO ANUAL'!I60","v":1795932428.7435775},{"$f":"'FLUXO ANUAL'!J60","v":20918645.726711001},{"$f":"'FLUXO ANUAL'!K60","v":1511622550.2},{"$f":"'FLUXO ANUAL'!L60","v":21809287.606711},{"$f":"'FLUXO ANUAL'!M60","v":1532458917.6400001},{"$f":"'FLUXO ANUAL'!N60","v":22115749.556710999},{"$f":"'FLUXO ANUAL'!O60","v":1550044305.1400001},{"$f":"'FLUXO ANUAL'!P60","v":-2574353.2432890013},{"$f":"'FLUXO ANUAL'!Q60","v":1427848075.6100001},{"$f":"'FLUXO ANUAL'!R60","v":15270064.836710997},{"$f":"'FLUXO ANUAL'!S60","v":1349394342.0000002},{"$f":"'FLUXO ANUAL'!T60","v":26856728.796710998},{"$f":"'FLUXO ANUAL'!U60","v":1308334161.4400003},{"$f":"'FLUXO ANUAL'!V60","v":52387354.146710999},{"$f":"'FLUXO ANUAL'!W60","v":1418669840.3600004},{"$f":"'FLUXO ANUAL'!X60","v":65010871.526711002},{"$f":"'FLUXO ANUAL'!Y60","v":1490704047.0400004},{"$f":"'FLUXO ANUAL'!Z60","v":126768277.90671101},{"$f":"'FLUXO ANUAL'!AA60","v":1736786385.1800003},{"$f":"'FLUXO ANUAL'!AB60","v":136204307.92671102},{"$f":"'FLUXO ANUAL'!AC60","v":1736096242.9400003},{"$f":"'FLUXO ANUAL'!AD60","v":108238187.21671101},{"$f":"'FLUXO ANUAL'!AE60","v":1737538900.8500004},{"$f":"'FLUXO ANUAL'!AF60","v":98126510.266711012},{"$f":"'FLUXO ANUAL'!AG60","v":1795932428.7400005}]
[null,"NATUREZA DAS CONTAS",{"$f":"C42","v":"VALORES REALIZADOS DE JANEIRO A AGOSTO/2018                   EM US$"},"VALORES REALIZADOS DE JANEIRO A AGOSTO/2018                 EM R$","VALORES PREVISTOS DE SETEMBRO A DEZEMBRO/2018                   EM US$","VALORES REALIZADOS DE SETEMBRO A DEZEMBRO/2018                   EM R$","TOTAIS DE JANEIRO A DEZEMBRO/2018                   EM US$","TOTAIS DE JANEIRO A DEZEMBRO/2018                  EM R$",{"$f":"I14","v":"JANEIRO/2018                  EM US$"},{"$f":"J42","v":"JANEIRO/2018                   EM R$"},{"$f":"K14","v":"FEVEREIRO/2018                  EM US$"},{"$f":"L42","v":"FEVEREIRO/2018                   EM R$"},{"$f":"M14","v":"MARÇO/2018                   EM US$"},{"$f":"N42","v":"MARÇO/2018                  EM R$"},{"$f":"O14","v":"ABRIL/2018                   EM US$"},{"$f":"P42","v":"ABRIL/2018                  EM R$"},{"$f":"Q14","v":"MAIO/2018                          EM US$"},{"$f":"R42","v":"MAIO/2018                            EM R$"},{"$f":"S14","v":"JUNHO/2018                   EM US$"},{"$f":"T42","v":"JUNHO/2018                   EM R$"},{"$f":"U14","v":"JULHO/2018                   EM US$"},{"$f":"V42","v":"JULHO/2018                   EM R$"},{"$f":"W14","v":"AGOSTO/2018                   EM US$"},{"$f":"X42","v":"AGOSTO/2018                   EM R$"},{"$f":"Y14","v":"SETEMBRO/2018                   EM US$"},{"$f":"Z42","v":"SETEMBRO/2018                   EM R$"},{"$f":"AA14","v":"OUTUBRO/2018                   EM US$"},{"$f":"AB42","v":"OUTUBRO/2018                   EM R$"},{"$f":"AC14","v":"NOVEMBRO/2018                   EM US$"},{"$f":"AD42","v":"NOVEMBRO/2018                   EM R$"},{"$f":"AE14","v":"DEZEMBRO/2018                   EM US$"},{"$f":"AF42","v":"DEZEMBRO/2018                   EM R$"}]
[]
[]
[]
[null,"AMPLA",{"$f":"'FLUXO ANUAL'!D65","v":0},{"$f":"'FLUXO ANUAL'!E65","v":0},{"$f":"'FLUXO ANUAL'!F65","v":0},{"$f":"'FLUXO ANUAL'!G65","v":0},{"$f":"'FLUXO ANUAL'!H65","v":0},{"$f":"'FLUXO ANUAL'!I65","v":0},{"$f":"'FLUXO ANUAL'!J65","v":0},{"$f":"'FLUXO ANUAL'!K65","v":0},{"$f":"'FLUXO ANUAL'!L65","v":0},{"$f":"'FLUXO ANUAL'!M65","v":0},{"$f":"'FLUXO ANUAL'!N65","v":0},{"$f":"'FLUXO ANUAL'!O65","v":0},{"$f":"'FLUXO ANUAL'!P65","v":0},{"$f":"'FLUXO ANUAL'!Q65","v":0},{"$f":"'FLUXO ANUAL'!R65","v":0},{"$f":"'FLUXO ANUAL'!S65","v":0},{"$f":"'FLUXO ANUAL'!T65","v":0},{"$f":"'FLUXO ANUAL'!U65","v":0},{"$f":"'FLUXO ANUAL'!V65","v":0},{"$f":"'FLUXO ANUAL'!W65","v":0},{"$f":"'FLUXO ANUAL'!X65","v":0},{"$f":"'FLUXO ANUAL'!Y65","v":0},{"$f":"'FLUXO ANUAL'!Z65","v":0},{"$f":"'FLUXO ANUAL'!AA65","v":0},{"$f":"'FLUXO ANUAL'!AB65","v":0},{"$f":"'FLUXO ANUAL'!AC65","v":0},{"$f":"'FLUXO ANUAL'!AD65","v":0},{"$f":"'FLUXO ANUAL'!AE65","v":0},{"$f":"'FLUXO ANUAL'!AF65","v":0},{"$f":"'FLUXO ANUAL'!AG65","v":0}]
[null,"CELG-D",{"$f":"'FLUXO ANUAL'!D66","v":0},{"$f":"'FLUXO ANUAL'!E66","v":0},{"$f":"'FLUXO ANUAL'!F66","v":0},{"$f":"'FLUXO ANUAL'!G66","v":0},{"$f":"'FLUXO ANUAL'!H66","v":0},{"$f":"'FLUXO ANUAL'!I66","v":0},{"$f":"'FLUXO ANUAL'!J66","v":0},{"$f":"'FLUXO ANUAL'!K66","v":0},{"$f":"'FLUXO ANUAL'!L66","v":0},{"$f":"'FLUXO ANUAL'!M66","v":0},{"$f":"'FLUXO ANUAL'!N66","v":0},{"$f":"'FLUXO ANUAL'!O66","v":0},{"$f":"'FLUXO ANUAL'!P66","v":0},{"$f":"'FLUXO ANUAL'!Q66","v":0},{"$f":"'FLUXO ANUAL'!R66","v":0},{"$f":"'FLUXO ANUAL'!S66","v":0},{"$f":"'FLUXO ANUAL'!T66","v":0},{"$f":"'FLUXO ANUAL'!U66","v":0},{"$f":"'FLUXO ANUAL'!V66","v":0},{"$f":"'FLUXO ANUAL'!W66","v":0},{"$f":"'FLUXO ANUAL'!X66","v":0},{"$f":"'FLUXO ANUAL'!Y66","v":0},{"$f":"'FLUXO ANUAL'!Z66","v":0},{"$f":"'FLUXO ANUAL'!AA66","v":0},{"$f":"'FLUXO ANUAL'!AB66","v":0},{"$f":"'FLUXO ANUAL'!AC66","v":0},{"$f":"'FLUXO ANUAL'!AD66","v":0},{"$f":"'FLUXO ANUAL'!AE66","v":0},{"$f":"'FLUXO ANUAL'!AF66","v":0},{"$f":"'FLUXO ANUAL'!AG66","v":0}]
[null,"CEEE-D",{"$f":"'FLUXO ANUAL'!D67","v":0},{"$f":"'FLUXO ANUAL'!E67","v":0},{"$f":"'FLUXO ANUAL'!F67","v":0},{"$f":"'FLUXO ANUAL'!G67","v":0},{"$f":"'FLUXO ANUAL'!H67","v":0},{"$f":"'FLUXO ANUAL'!I67","v":0},{"$f":"'FLUXO ANUAL'!J67","v":0},{"$f":"'FLUXO ANUAL'!K67","v":0},{"$f":"'FLUXO ANUAL'!L67","v":0},{"$f":"'FLUXO ANUAL'!M67","v":0},{"$f":"'FLUXO ANUAL'!N67","v":0},{"$f":"'FLUXO ANUAL'!O67","v":0},{"$f":"'FLUXO ANUAL'!P67","v":0},{"$f":"'FLUXO ANUAL'!Q67","v":0},{"$f":"'FLUXO ANUAL'!R67","v":0},{"$f":"'FLUXO ANUAL'!S67","v":0},{"$f":"'FLUXO ANUAL'!T67","v":0},{"$f":"'FLUXO ANUAL'!U67","v":0},{"$f":"'FLUXO ANUAL'!V67","v":0},{"$f":"'FLUXO ANUAL'!W67","v":0},{"$f":"'FLUXO ANUAL'!X67","v":0},{"$f":"'FLUXO ANUAL'!Y67","v":0},{"$f":"'FLUXO ANUAL'!Z67","v":0},{"$f":"'FLUXO ANUAL'!AA67","v":0},{"$f":"'FLUXO ANUAL'!AB67","v":0},{"$f":"'FLUXO ANUAL'!AC67","v":0},{"$f":"'FLUXO ANUAL'!AD67","v":0},{"$f":"'FLUXO ANUAL'!AE67","v":0},{"$f":"'FLUXO ANUAL'!AF67","v":0},{"$f":"'FLUXO ANUAL'!AG67","v":0}]
[null,"ELETROPAULO",{"$f":"'FLUXO ANUAL'!D68","v":0},{"$f":"'FLUXO ANUAL'!E68","v":0},{"$f":"'FLUXO ANUAL'!F68","v":0},{"$f":"'FLUXO ANUAL'!G68","v":0},{"$f":"'FLUXO ANUAL'!H68","v":0},{"$f":"'FLUXO ANUAL'!I68","v":0},{"$f":"'FLUXO ANUAL'!J68","v":0},{"$f":"'FLUXO ANUAL'!K68","v":0},{"$f":"'FLUXO ANUAL'!L68","v":0},{"$f":"'FLUXO ANUAL'!M68","v":0},{"$f":"'FLUXO ANUAL'!N68","v":0},{"$f":"'FLUXO ANUAL'!O68","v":0},{"$f":"'FLUXO ANUAL'!P68","v":0},{"$f":"'FLUXO ANUAL'!Q68","v":0},{"$f":"'FLUXO ANUAL'!R68","v":0},{"$f":"'FLUXO ANUAL'!S68","v":0},{"$f":"'FLUXO ANUAL'!T68","v":0},{"$f":"'FLUXO ANUAL'!U68","v":0},{"$f":"'FLUXO ANUAL'!V68","v":0},{"$f":"'FLUXO ANUAL'!W68","v":0},{"$f":"'FLUXO ANUAL'!X68","v":0},{"$f":"'FLUXO ANUAL'!Y68","v":0},{"$f":"'FLUXO ANUAL'!Z68","v":0},{"$f":"'FLUXO ANUAL'!AA68","v":0},{"$f":"'FLUXO ANUAL'!AB68","v":0},{"$f":"'FLUXO ANUAL'!AC68","v":0},{"$f":"'FLUXO ANUAL'!AD68","v":0},{"$f":"'FLUXO ANUAL'!AE68","v":0},{"$f":"'FLUXO ANUAL'!AF68","v":0},{"$f":"'FLUXO ANUAL'!AG68","v":0}]
[null,"NOVA PALMA",{"$f":"'FLUXO ANUAL'!D69","v":0},{"$f":"'FLUXO ANUAL'!E69","v":0},{"$f":"'FLUXO ANUAL'!F69","v":-26718.04},{"$f":"'FLUXO ANUAL'!G69","v":-102712.16},{"$f":"'FLUXO ANUAL'!H69","v":-26718.04},{"$f":"'FLUXO ANUAL'!I69","v":-102712.16},{"$f":"'FLUXO ANUAL'!J69","v":0},{"$f":"'FLUXO ANUAL'!K69","v":0},{"$f":"'FLUXO ANUAL'!L69","v":0},{"$f":"'FLUXO ANUAL'!M69","v":0},{"$f":"'FLUXO ANUAL'!N69","v":0},{"$f":"'FLUXO ANUAL'!O69","v":0},{"$f":"'FLUXO ANUAL'!P69","v":0},{"$f":"'FLUXO ANUAL'!Q69","v":0},{"$f":"'FLUXO ANUAL'!R69","v":0},{"$f":"'FLUXO ANUAL'!S69","v":0},{"$f":"'FLUXO ANUAL'!T69","v":0},{"$f":"'FLUXO ANUAL'!U69","v":0},{"$f":"'FLUXO ANUAL'!V69","v":0},{"$f":"'FLUXO ANUAL'!W69","v":0},{"$f":"'FLUXO ANUAL'!X69","v":0},{"$f":"'FLUXO ANUAL'!Y69","v":0},{"$f":"'FLUXO ANUAL'!Z69","v":0},{"$f":"'FLUXO ANUAL'!AA69","v":0},{"$f":"'FLUXO ANUAL'!AB69","v":0},{"$f":"'FLUXO ANUAL'!AC69","v":0},{"$f":"'FLUXO ANUAL'!AD69","v":0},{"$f":"'FLUXO ANUAL'!AE69","v":0},{"$f":"'FLUXO ANUAL'!AF69","v":-26718.04},{"$f":"'FLUXO ANUAL'!AG69","v":-102712.16}]
[null,"38 (-) RECEITAS NÃO REALIZADAS ",{"$f":"'FLUXO ANUAL'!D70","v":0},{"$f":"'FLUXO ANUAL'!E70","v":0},{"$f":"'FLUXO ANUAL'!F70","v":-26718.04},{"$f":"'FLUXO ANUAL'!G70","v":-102712.16},{"$f":"'FLUXO ANUAL'!H70","v":-26718.04},{"$f":"'FLUXO ANUAL'!I70","v":-102712.16},{"$f":"'FLUXO ANUAL'!J70","v":0},{"$f":"'FLUXO ANUAL'!K70","v":0},{"$f":"'FLUXO ANUAL'!L70","v":0},{"$f":"'FLUXO ANUAL'!M70","v":0},{"$f":"'FLUXO ANUAL'!N70","v":0},{"$f":"'FLUXO ANUAL'!O70","v":0},{"$f":"'FLUXO ANUAL'!P70","v":0},{"$f":"'FLUXO ANUAL'!Q70","v":0},{"$f":"'FLUXO ANUAL'!R70","v":0},{"$f":"'FLUXO ANUAL'!S70","v":0},{"$f":"'FLUXO ANUAL'!T70","v":0},{"$f":"'FLUXO ANUAL'!U70","v":0},{"$f":"'FLUXO ANUAL'!V70","v":0},{"$f":"'FLUXO ANUAL'!W70","v":0},{"$f":"'FLUXO ANUAL'!X70","v":0},{"$f":"'FLUXO ANUAL'!Y70","v":0},{"$f":"'FLUXO ANUAL'!Z70","v":0},{"$f":"'FLUXO ANUAL'!AA70","v":0},{"$f":"'FLUXO ANUAL'!AB70","v":0},{"$f":"'FLUXO ANUAL'!AC70","v":0},{"$f":"'FLUXO ANUAL'!AD70","v":0},{"$f":"'FLUXO ANUAL'!AE70","v":0},{"$f":"'FLUXO ANUAL'!AF70","v":-26718.04},{"$f":"'FLUXO ANUAL'!AG70","v":-102712.16}]
[null,"39 (-) VARIAÇÃO CAMBIAL DAS RECEITAS NÃO REALIZADAS",{"$f":"'FLUXO ANUAL'!D71","v":0},{"$f":"'FLUXO ANUAL'!E71","v":0},{"$f":"'FLUXO ANUAL'!F71","v":0},{"$f":"'FLUXO ANUAL'!G71","v":-814.90139199999976},{"$f":"'FLUXO ANUAL'!H71","v":0},{"$f":"'FLUXO ANUAL'!I71","v":-814.90139199999976},{"$f":"'FLUXO ANUAL'!J71","v":0},{"$f":"'FLUXO ANUAL'!K71","v":0},{"$f":"'FLUXO ANUAL'!L71","v":0},{"$f":"'FLUXO ANUAL'!M71","v":0},{"$f":"'FLUXO ANUAL'!N71","v":0},{"$f":"'FLUXO ANUAL'!O71","v":0},{"$f":"'FLUXO ANUAL'!P71","v":0},{"$f":"'FLUXO ANUAL'!Q71","v":0},{"$f":"'FLUXO ANUAL'!R71","v":0},{"$f":"'FLUXO ANUAL'!S71","v":0},{"$f":"'FLUXO ANUAL'!T71","v":0},{"$f":"'FLUXO ANUAL'!U71","v":0},{"$f":"'FLUXO ANUAL'!V71","v":0},{"$f":"'FLUXO ANUAL'!W71","v":0},{"$f":"'FLUXO ANUAL'!X71","v":0},{"$f":"'FLUXO ANUAL'!Y71","v":0},{"$f":"'FLUXO ANUAL'!Z71","v":0},{"$f":"'FLUXO ANUAL'!AA71","v":0},{"$f":"'FLUXO ANUAL'!AB71","v":0},{"$f":"'FLUXO ANUAL'!AC71","v":0},{"$f":"'FLUXO ANUAL'!AD71","v":0},{"$f":"'FLUXO ANUAL'!AE71","v":0},{"$f":"'FLUXO ANUAL'!AF71","v":0},{"$f":"'FLUXO ANUAL'!AG71","v":-814.90139199999976}]
[null,"40 (-) REPACTUAÇÃO CELG - DISTRIBUIÇÃO",{"$f":"'FLUXO ANUAL'!D72","v":0},{"$f":"'FLUXO ANUAL'!E72","v":0},{"$f":"'FLUXO ANUAL'!F72","v":-224575082.65458861},{"$f":"'FLUXO ANUAL'!G72","v":-870183530.26999998},{"$f":"'FLUXO ANUAL'!H72","v":-224575082.65458861},{"$f":"'FLUXO ANUAL'!I72","v":-870183530.26999998},{"$f":"'FLUXO ANUAL'!J72","v":0},{"$f":"'FLUXO ANUAL'!K72","v":0},{"$f":"'FLUXO ANUAL'!L72","v":0},{"$f":"'FLUXO ANUAL'!M72","v":0},{"$f":"'FLUXO ANUAL'!N72","v":0},{"$f":"'FLUXO ANUAL'!O72","v":0},{"$f":"'FLUXO ANUAL'!P72","v":0},{"$f":"'FLUXO ANUAL'!Q72","v":0},{"$f":"'FLUXO ANUAL'!R72","v":0},{"$f":"'FLUXO ANUAL'!S72","v":0},{"$f":"'FLUXO ANUAL'!T72","v":0},{"$f":"'FLUXO ANUAL'!U72","v":0},{"$f":"'FLUXO ANUAL'!V72","v":0},{"$f":"'FLUXO ANUAL'!W72","v":0},{"$f":"'FLUXO ANUAL'!X72","v":0},{"$f":"'FLUXO ANUAL'!Y72","v":0},{"$f":"'FLUXO ANUAL'!Z72","v":0},{"$f":"'FLUXO ANUAL'!AA72","v":0},{"$f":"'FLUXO ANUAL'!AB72","v":0},{"$f":"'FLUXO ANUAL'!AC72","v":0},{"$f":"'FLUXO ANUAL'!AD72","v":0},{"$f":"'FLUXO ANUAL'!AE72","v":0},{"$f":"'FLUXO ANUAL'!AF72","v":-224575082.65458861},{"$f":"'FLUXO ANUAL'!AG72","v":-870183530.26999998}]
[null,"41 (-) REPACTUAÇÃO CEMAT",{"$f":"'FLUXO ANUAL'!D73","v":0},{"$f":"'FLUXO ANUAL'!E73","v":0},{"$f":"'FLUXO ANUAL'!F73","v":-20138104.998967689},{"$f":"'FLUXO ANUAL'!G73","v":-78031129.25},{"$f":"'FLUXO ANUAL'!H73","v":-20138104.998967689},{"$f":"'FLUXO ANUAL'!I73","v":-78031129.25},{"$f":"'FLUXO ANUAL'!J73","v":0},{"$f":"'FLUXO ANUAL'!K73","v":0},{"$f":"'FLUXO ANUAL'!L73","v":0},{"$f":"'FLUXO ANUAL'!M73","v":0},{"$f":"'FLUXO ANUAL'!N73","v":0},{"$f":"'FLUXO ANUAL'!O73","v":0},{"$f":"'FLUXO ANUAL'!P73","v":0},{"$f":"'FLUXO ANUAL'!Q73","v":0},{"$f":"'FLUXO ANUAL'!R73","v":0},{"$f":"'FLUXO ANUAL'!S73","v":0},{"$f":"'FLUXO ANUAL'!T73","v":0},{"$f":"'FLUXO ANUAL'!U73","v":0},{"$f":"'FLUXO ANUAL'!V73","v":0},{"$f":"'FLUXO ANUAL'!W73","v":0},{"$f":"'FLUXO ANUAL'!X73","v":0},{"$f":"'FLUXO ANUAL'!Y73","v":0},{"$f":"'FLUXO ANUAL'!Z73","v":0},{"$f":"'FLUXO ANUAL'!AA73","v":0},{"$f":"'FLUXO ANUAL'!AB73","v":0},{"$f":"'FLUXO ANUAL'!AC73","v":0},{"$f":"'FLUXO ANUAL'!AD73","v":0},{"$f":"'FLUXO ANUAL'!AE73","v":0},{"$f":"'FLUXO ANUAL'!AF73","v":-20138104.998967689},{"$f":"'FLUXO ANUAL'!AG73","v":-78031129.25}]
[null,"42 (-) REPACTUAÇÃO CEEE-D",{"$f":"'FLUXO ANUAL'!D74","v":0},{"$f":"'FLUXO ANUAL'!E74","v":0},{"$f":"'FLUXO ANUAL'!F74","v":-168545293.22},{"$f":"'FLUXO ANUAL'!G74","v":-595454989.25999999},{"$f":"'FLUXO ANUAL'!H74","v":-168545293.22},{"$f":"'FLUXO ANUAL'!I74","v":-595454989.25999999},{"$f":"'FLUXO ANUAL'!J74","v":0},{"$f":"'FLUXO ANUAL'!K74","v":0},{"$f":"'FLUXO ANUAL'!L74","v":0},{"$f":"'FLUXO ANUAL'!M74","v":0},{"$f":"'FLUXO ANUAL'!N74","v":0},{"$f":"'FLUXO ANUAL'!O74","v":0},{"$f":"'FLUXO ANUAL'!P74","v":0},{"$f":"'FLUXO ANUAL'!Q74","v":0},{"$f":"'FLUXO ANUAL'!R74","v":0},{"$f":"'FLUXO ANUAL'!S74","v":0},{"$f":"'FLUXO ANUAL'!T74","v":0},{"$f":"'FLUXO ANUAL'!U74","v":0},{"$f":"'FLUXO ANUAL'!V74","v":0},{"$f":"'FLUXO ANUAL'!W74","v":0},{"$f":"'FLUXO ANUAL'!X74","v":0},{"$f":"'FLUXO ANUAL'!Y74","v":0},{"$f":"'FLUXO ANUAL'!Z74","v":0},{"$f":"'FLUXO ANUAL'!AA74","v":0},{"$f":"'FLUXO ANUAL'!AB74","v":0},{"$f":"'FLUXO ANUAL'!AC74","v":0},{"$f":"'FLUXO ANUAL'!AD74","v":0},{"$f":"'FLUXO ANUAL'!AE74","v":0},{"$f":"'FLUXO ANUAL'!AF74","v":-168545293.22},{"$f":"'FLUXO ANUAL'!AG74","v":-595454989.25999999}]
[null,"43 (-) VARIAÇÃO CAMBIAL DA REPACTUAÇÃO CEEE-D",{"$f":"'FLUXO ANUAL'!D75","v":0},{"$f":"'FLUXO ANUAL'!E75","v":0},{"$f":"'FLUXO ANUAL'!F75","v":0},{"$f":"'FLUXO ANUAL'!G75","v":-57624312.908856034},{"$f":"'FLUXO ANUAL'!H75","v":0},{"$f":"'FLUXO ANUAL'!I75","v":-57624312.908856034},{"$f":"'FLUXO ANUAL'!J75","v":0},{"$f":"'FLUXO ANUAL'!K75","v":0},{"$f":"'FLUXO ANUAL'!L75","v":0},{"$f":"'FLUXO ANUAL'!M75","v":0},{"$f":"'FLUXO ANUAL'!N75","v":0},{"$f":"'FLUXO ANUAL'!O75","v":0},{"$f":"'FLUXO ANUAL'!P75","v":0},{"$f":"'FLUXO ANUAL'!Q75","v":0},{"$f":"'FLUXO ANUAL'!R75","v":0},{"$f":"'FLUXO ANUAL'!S75","v":0},{"$f":"'FLUXO ANUAL'!T75","v":0},{"$f":"'FLUXO ANUAL'!U75","v":0},{"$f":"'FLUXO ANUAL'!V75","v":0},{"$f":"'FLUXO ANUAL'!W75","v":0},{"$f":"'FLUXO ANUAL'!X75","v":0},{"$f":"'FLUXO ANUAL'!Y75","v":0},{"$f":"'FLUXO ANUAL'!Z75","v":0},{"$f":"'FLUXO ANUAL'!AA75","v":0},{"$f":"'FLUXO ANUAL'!AB75","v":0},{"$f":"'FLUXO ANUAL'!AC75","v":0},{"$f":"'FLUXO ANUAL'!AD75","v":0},{"$f":"'FLUXO ANUAL'!AE75","v":0},{"$f":"'FLUXO ANUAL'!AF75","v":0},{"$f":"'FLUXO ANUAL'!AG75","v":-57624312.908856034}]
[null,"44 (-) REPACTUAÇÃO CEB-D",{"$f":"W76","v":0},0,{"$f":"AE76","v":-29678742.800000001},-111059339.56,{"$f":"E76","v":-29678742.800000001},-111059339.56,null,{"$f":"'FLUXO ANUAL'!K76","v":0},{"$f":"'FLUXO ANUAL'!L76","v":0},{"$f":"'FLUXO ANUAL'!M76","v":0},{"$f":"'FLUXO ANUAL'!N76","v":0},{"$f":"'FLUXO ANUAL'!O76","v":0},{"$f":"'FLUXO ANUAL'!P76","v":0},{"$f":"'FLUXO ANUAL'!Q76","v":0},{"$f":"'FLUXO ANUAL'!R76","v":0},{"$f":"'FLUXO ANUAL'!S76","v":0},{"$f":"'FLUXO ANUAL'!T76","v":0},{"$f":"'FLUXO ANUAL'!U76","v":0},{"$f":"'FLUXO ANUAL'!V76","v":0},{"$f":"'FLUXO ANUAL'!W76","v":0},{"$f":"'FLUXO ANUAL'!X76","v":0},{"$f":"'FLUXO ANUAL'!Y76","v":0},{"$f":"'FLUXO ANUAL'!Z76","v":0},{"$f":"'FLUXO ANUAL'!AA76","v":0},{"$f":"'FLUXO ANUAL'!AB76","v":0},{"$f":"'FLUXO ANUAL'!AC76","v":0},{"$f":"'FLUXO ANUAL'!AD76","v":0},{"$f":"'FLUXO ANUAL'!AE76","v":0},{"$f":"'FLUXO ANUAL'!AF76","v":-29678742.800000001},{"$f":"'FLUXO ANUAL'!AG76","v":-111059339.56}]
[null,"45 (-) VARIAÇÃO CAMBIAL DA REPACTUAÇÃO CEB-D",0,0,0,-3939853.0414399952,0,-3939853.0414399952,null,{"$f":"'FLUXO ANUAL'!K77","v":0},{"$f":"'FLUXO ANUAL'!L77","v":0},{"$f":"'FLUXO ANUAL'!M77","v":0},{"$f":"'FLUXO ANUAL'!N77","v":0},{"$f":"'FLUXO ANUAL'!O77","v":0},{"$f":"'FLUXO ANUAL'!P77","v":0},{"$f":"'FLUXO ANUAL'!Q77","v":0},{"$f":"'FLUXO ANUAL'!R77","v":0},{"$f":"'FLUXO ANUAL'!S77","v":0},{"$f":"'FLUXO ANUAL'!T77","v":0},{"$f":"'FLUXO ANUAL'!U77","v":0},{"$f":"'FLUXO ANUAL'!V77","v":0},{"$f":"'FLUXO ANUAL'!W77","v":0},{"$f":"'FLUXO ANUAL'!X77","v":0},{"$f":"'FLUXO ANUAL'!Y77","v":0},{"$f":"'FLUXO ANUAL'!Z77","v":0},{"$f":"'FLUXO ANUAL'!AA77","v":0},{"$f":"'FLUXO ANUAL'!AB77","v":0},{"$f":"'FLUXO ANUAL'!AC77","v":0},{"$f":"'FLUXO ANUAL'!AD77","v":0},{"$f":"'FLUXO ANUAL'!AE77","v":0},{"$f":"'FLUXO ANUAL'!AF77","v":0},{"$f":"'FLUXO ANUAL'!AG77","v":-3939853.0414399952}]
[null,"SALDO  DA INADIMPLÊNCIA NO PERÍODO  ( D )\nREALIZADO / PREVISTO ",{"$f":"'FLUXO ANUAL'!D78","v":0},{"$f":"'FLUXO ANUAL'!E78","v":0},{"$f":"'FLUXO ANUAL'!F78","v":-442963941.71355629},{"$f":"'FLUXO ANUAL'!G78","v":-1716396681.3516879},{"$f":"'FLUXO ANUAL'!H78","v":-442963941.71355629},{"$f":"'FLUXO ANUAL'!I78","v":-1716396681.3516879},{"$f":"'FLUXO ANUAL'!J78","v":0},{"$f":"'FLUXO ANUAL'!K78","v":0},{"$f":"'FLUXO ANUAL'!L78","v":0},{"$f":"'FLUXO ANUAL'!M78","v":0},{"$f":"'FLUXO ANUAL'!N78","v":0},{"$f":"'FLUXO ANUAL'!O78","v":0},{"$f":"'FLUXO ANUAL'!P78","v":0},{"$f":"'FLUXO ANUAL'!Q78","v":0},{"$f":"'FLUXO ANUAL'!R78","v":0},{"$f":"'FLUXO ANUAL'!S78","v":0},{"$f":"'FLUXO ANUAL'!T78","v":0},{"$f":"'FLUXO ANUAL'!U78","v":0},{"$f":"'FLUXO ANUAL'!V78","v":0},{"$f":"'FLUXO ANUAL'!W78","v":0},{"$f":"'FLUXO ANUAL'!X78","v":0},{"$f":"'FLUXO ANUAL'!Y78","v":0},{"$f":"'FLUXO ANUAL'!Z78","v":0},{"$f":"'FLUXO ANUAL'!AA78","v":0},{"$f":"'FLUXO ANUAL'!AB78","v":0},{"$f":"'FLUXO ANUAL'!AC78","v":0},{"$f":"'FLUXO ANUAL'!AD78","v":0},{"$f":"'FLUXO ANUAL'!AE78","v":0},{"$f":"'FLUXO ANUAL'!AF78","v":-442963941.71355629},{"$f":"'FLUXO ANUAL'!AG78","v":-1716396681.3516879}]
[null,"SALDO  APÓS A INADIMPLÊNCIA ( E ) = ( C + D )",{"$f":"'FLUXO ANUAL'!D79","v":65010871.529702619},{"$f":"'FLUXO ANUAL'!E79","v":1490704047.0410738},{"$f":"'FLUXO ANUAL'!F79","v":-344837431.44117922},{"$f":"'FLUXO ANUAL'!G79","v":79535747.391890049},{"$f":"'FLUXO ANUAL'!H79","v":-344837431.44117808},{"$f":"'FLUXO ANUAL'!I79","v":79535747.391889572},{"$f":"'FLUXO ANUAL'!J79","v":20918645.726711001},{"$f":"'FLUXO ANUAL'!K79","v":1511622550.2},{"$f":"'FLUXO ANUAL'!L79","v":21809287.606711},{"$f":"'FLUXO ANUAL'!M79","v":1532458917.6400001},{"$f":"'FLUXO ANUAL'!N79","v":22115749.556710999},{"$f":"'FLUXO ANUAL'!O79","v":1550044305.1400001},{"$f":"'FLUXO ANUAL'!P79","v":-2574353.2432890013},{"$f":"'FLUXO ANUAL'!Q79","v":1427848075.6100001},{"$f":"'FLUXO ANUAL'!R79","v":15270064.836710997},{"$f":"'FLUXO ANUAL'!S79","v":1349394342.0000002},{"$f":"'FLUXO ANUAL'!T79","v":26856728.796710998},{"$f":"'FLUXO ANUAL'!U79","v":1308334161.4400003},{"$f":"'FLUXO ANUAL'!V79","v":52387354.146710999},{"$f":"'FLUXO ANUAL'!W79","v":1418669840.3600004},{"$f":"'FLUXO ANUAL'!X79","v":65010871.526711002},{"$f":"'FLUXO ANUAL'!Y79","v":1490704047.0400004},{"$f":"'FLUXO ANUAL'!Z79","v":126768277.90671101},{"$f":"'FLUXO ANUAL'!AA79","v":1736786385.1800003},{"$f":"'FLUXO ANUAL'!AB79","v":136204307.92671102},{"$f":"'FLUXO ANUAL'!AC79","v":1736096242.9400003},{"$f":"'FLUXO ANUAL'!AD79","v":108238187.21671101},{"$f":"'FLUXO ANUAL'!AE79","v":1737538900.8500004},{"$f":"'FLUXO ANUAL'!AF79","v":-344837431.44684529},{"$f":"'FLUXO ANUAL'!AG79","v":79535747.388312578}]

{"sheet":"ITENS RECEITAS E DESPESAS ATUAL","index":2,"n_rows":40,"n_cols":3,"rows_kept":40,"cut":false,"hidden":true,"merged":[[1,1,1,2]]}
[]
[null,"ÍNDICE DOS ITENS DAS RECEITAS / DESPESAS DA CONTA DE COMERCIALIZAÇÃO DE ITAIPU"]
[null,"   Regime de Competência: Aquele em que apuração do fato é realizada no mês de lançamento do mesmo."]
[null,"   Regime de Caixa: Aquele em que a apuração do fato é realizada pela movimentação bancária."]
[null,"DESCRIÇÃO ","CRITÉRIO DE APROPRIAÇÃO"]
[null,"01 (+) Liquidação CCEE  - Venda de Energia","Regime de Competência "]
[null,"01.1 (+) Liq. CCEE - Recuperação Inadimplência do Mês Anterior","Regime de Competência"]
[null,"01.2 (-) Liq. CCEE - Inadimplência do Mês","Regime de Competência"]
[null,"02 (+) Faturamento do Repasse da Energia ","Regime de Competência"]
[null,"03 (+) Juros referentes ao Repasse da Energia "," Regime de Caixa - O registro desses valores é realizado no \n    momento da regularização dos pagamentos em atraso quer\n    por liquidação financeira ou renegociação das dividas."]
[null,"04 (+) Juros contratuais do Repasse de ITAIPU sobre créditos \n           renegociados","Regime de Caixa"]
[null,"05 (+) Rendimento de aplicação financeira  B.B. S/A","Regime de Caixa"]
[null,"06 (+) Rendimento Aplic. Financ.do Aporte de Garantias Liq.CCEE","Regime de Caixa"]
[null,"07 (+) Devolução do bônus de ITAIPU","Regime de Caixa"]
[null,"08 (-) Liquidação CCEE  - Compra de Energia","Regime de Competência"]
[null,"09 (-) Multa de 2% Pelo Não Aporte das Garantias","Regime de Competência"]
[null,"10 (-) Potência Contratada","Regime de Competência"]
[null,"11 (-) Energia Cedida Vinculada","Regime de Competência"]
[null,"12 (-) Ajuste do dólar - Energia Cedida Vinculada","Regime de Competência"]
[null,"13 (-) Energia Cedida Não Vinculada ","Regime de Competência"]
[null,"14 (-) Royalties Energia Cedida Não Vinculada","Regime de Competência"]
[null,"15 (-) Ressarcimento Encargos Supervisão Não Vinculado ","Regime de Competência"]
[null,"16 (-) Ajuste do dólar Energia Cedida Não Vinculada","Regime de Competência"]
[null,"17 (-) Ajuste do dólar - Royalties ","Regime de Competência"]
[null,"18 (-) Ajuste do dólar - Ressarcimento de Encargos ","Regime de Competência"]
[null,"19 (-) Juros da Potência Contratada, Energias Cedidas, Royalties,\n          Ressarcimento e dos Ajustes do Dólar ","Regime de caixa"]
[null,"20 (-) Ativo Regulatório - Tesouro","Regime de caixa"]
[null,"21 (-) Ativo Regulatório - Eletrobrás","Regime de caixa"]
[null,"22 (-) Custos Administrativos ","Regime de caixa"]
[null,"23 (-) Contribuição Anual a CCEE","Regime de caixa"]
[null,"24 (-) Contribuição ao O N S","Regime de caixa"]
[null,"25 (-) Despesas Bancárias","Regime de caixa"]
[null,"26 (-) Custeio com Imposto de Renda  ","Regime de caixa"]
[null,"27 (-) Custeio com IOF","Regime de caixa"]
[null,"28 (+/-)  Juros Pagos  dos Empréstimos Obtidos por ITAIPU  Junto à \n             ELETROBRAS e juros por atraso de transferência da CCEE","Regime de Competência"]
[null,"29 (-) Pagamento de bônus de ITAIPU","Esta despesa está registrada pelo regime de competência \n    tendo como fato gerador  a emissão de Despacho da ANEEL "]
[null,"30 (+) Variação Cambial (Ativa)","Regime de Competência"]
[null,"31 (-) Variação Cambial (Passiva)","Regime de Competência"]
[null,"32 (+ / -) Receitas / Despesas com COFINS","Valores apropriados pelo regime de competência,  \n    reconhecendo-se créditos tributários quando a operação \n    for deficitária. "]
[null,"33 (+ / -) Receitas / Despesas com PASEP","Valores apropriados pelo regime de competência,  \n    reconhecendo-se créditos tributários quando a operação \n    for deficitária. "]

{"sheet":"contas contábeis","index":3,"n_rows":63,"n_cols":8,"rows_kept":63,"cut":false,"hidden":true,"merged":[[10,6,13,6],[10,7,13,7],[62,4,62,7],[6,1,6,4],[10,1,11,3],[14,1,14,2],[10,4,13,4],[10,5,13,5]]}
[null," "]
[null,"                           Centrais Elétricas Brasileiras S/A. - ELETROBRÁS"]
[null,"                           Diretoria Financeira - DF"]
[null,"                           Departamento de Administração de Capital de Giro - DFG"]
[null,"  "]
[]
[null,"FLUXO ECONÔMICO DA COMERCIALIZAÇÃO DE ENERGIA DE ITAIPU - DEZEMBRO/2014"]
[]
[null,null,null,null,"data base: ","data base: ","data base: ","data base: "]
[]
[null,"  Natureza das Contas",null,null,"CONTA CONTABIL","CLIENTE ","FORNECEDOR","FORNECEDOR"]
[]
[]
[]
[]
[null,"(+) Rendimento de aplicação financeira realizada no Banco do Brasil S/A",null,null,6310540000]
[null,"(+) Faturamento do Repasse da Energia ",null,null,"-----","TODOS",null,"IS"]
[null,"(+) Juros referentes ao Repasse da Energia ",null,null,6310920101,"TODOS",null,"IS"]
[null,"(+) Rendimento de aplicação financeira referente ao aporte de garantias da Liquidação CCEE"]
[null,"(+/-) Liquidação CCEE ",null,null,"-----"]
[null,"(+/-) Atualização Liquidação CCEE",null,null,"-----"]
[null,"(+/-) Ajuste Liquidação CCEE  - Competência  ",null,null,"-----"]
[null,"(+) Devolução do bônus de Itaipu Despacho ANEEL nº ",null,null,2119410000,"TODOS"]
[null,"(+) Variação Cambial (Ativa)",null,null,6311100001]
[null,"(-) Variação Cambial (Passiva)"]
[null,"(-) Potência Contratada",null,null,"-----",null,10407]
[null,"(-) Juros referentes à Potência Contratada - Acréscimo Moratório de ITAIPU",null,null,6350900101]
[null,"(-) Energia Cedida Vinc",null,null,"-----",null,10407]
[null,"(-) Juros referentes à Energia Cedida Vinc - Acréscimo Moratório de ITAIPU",null,null,6350900101]
[null,"(-) Energia Cedida Não-Vinc. ",null,null,"-----",null,10407]
[null,"(-) Juros referentes à Energia Cedida Não-Vinc. - Acréscimo Moratório de ITAIPU",null,null,6350900101]
[null,"(-) Royalties Ener. Não-Vinc",null,null,"-----",null,10407]
[null,"(-) Juros referentes aos Royalties Ener. Não-Vinc - Acréscimo Moratório de ITAIPU",null,null,6350900101]
[null,"(-) Ressarc. Enc. Supervisão Não-Vinc. ",null,null,"-----",null,10407]
[null,"(-) Juros referentes aos Ressarc. Enc. Supervisão Não-Vinc.  - Acréscimo Moratório de ITAIPU",null,null,6350900101]
[null,"(-) Ajuste do dólar - Ress Encargos ",null,null,"-----",null,10407]
[null,"(-) Juros referentes ao Ajuste do dólar - Ress Encargos  - Acréscimo Moratório de ITAIPU",null,null,6350900101]
[null,"(-) Ajuste do dólar - Royalties ",null,null,"-----",null,10407]
[null,"(-) Juros referentes ao Ajuste do dólar - Royalties  - Acréscimo Moratório de ITAIPU",null,null,6350900101]
[null,"(-) Ajuste do dólar Ener. Vinc. ",null,null,"-----",null,10407]
[null,"(-) Juros referentes ao Ajuste do dólar Ener. Vinc.  - Acréscimo Moratório de ITAIPU",null,null,6350900101]
[null,"(-) Ajuste do dólar Ener. Não-Vinc.  ",null,null,"-----",null,10407]
[null,"(-) Juros referentes ao Ajuste do dólar Ener. Não-Vinc.   - Acréscimo Moratório de ITAIPU",null,null,6350900101]
[null,"(-)Custeio com Imposto de Renda  "]
[null,"(+) Reposição do Custeio com Imposto de Renda  ",null,null,"-----"]
[null,"(+) Atualização Monet.da Repos. do Custeio com Imposto de Renda ",null,null,"-----"]
[null,"(-) Custeio com IOF",null,null,6159310301,null,null,"SA"]
[null,"(+ / -) Receitas / Despesas com COFINS",null,null,"-----"]
[null,"(+ / -) Receitas / Despesas com PASEP",null,null,"-----"]
[null,"(-) Contribuição Anual a CCEE",null,null,6154140100,null,70075]
[null,"(-) Contribuição ao O N S",null,null,6154140100,null,14715,"KR"]
[null,"(-) Ativo Regulatório - Tesouro",null,null,null,null,70035,77]
[null,"(-) Ativo Regulatório - Eletrobrás",null,null,"CONTABILIDADE"]
[null,"(-) Custos Administrativos ",null,null,6154140302]
[null,"(-) Pagamento bônus Itaipu -  Despacho ANEEL nº",null,null,"-----",null,"TODOS","77 RZE R"]
[null,"(-) Despesas Bancárias ",null,null,6154140100,null,null,"AB"]
[null,"( + ) Juros de Mora Incorporados ao Contrato da CELG-D",null,null,6310920101,10073,null,"IS"]
[null,"( + )  Juros contratuais do Repasse de ITAIPU da CELG-D",null,null,"-----",10073,null,"IS"]
[null,"( + ) Juros de Mora Incorporados ao Contrato da CEMAT",null,null,6310920101,10038,null,"IS"]
[null,"( + )  Juros contratuais do Repasse de ITAIPU da CEMAT",null,null,"-----",10038,null,"IS"]
[null,"( + ) Juros de Mora Incorporados ao Contrato da EEB",null,null,6310920101,10019,null,"IS"]
[null,"( + )  Juros contratuais do Repasse de ITAIPU da EEB.",null,null,"-----",10019,null,"IS"]
[null,"(-/+) Juros Pagos dos Empréstimos Obtidos por ITAIPU Junto à ELETROBRAS",null,null,"FORNECIDO PELA DFGT"]