BEGIN:VCALENDAR
PRODID:brasil.gov.agenda
VERSION:1.0
BEGIN:VEVENT
DTSTART:20220531T200000Z
DTEND:20220531T030000Z
DCREATED:20220531T113032Z
UID:Compromisso-331c7d967f8e4d92809403c5f22554fc
SEQUENCE:0
LAST-MODIFIED:20220531T113032Z
SUMMARY:Neoenergia
DESCRIPTION:Institucional -  Investimentos da Neoenergia
LOCATION:Ministério de Minas e Energia
PRIORITY:3
TRANSP:0
END:VEVENT
END:VCALENDAR
