BEGIN:VCALENDAR
PRODID:brasil.gov.agenda
VERSION:1.0
BEGIN:VEVENT
DTSTART:20200427T200000Z
DTEND:20200427T200000Z
DCREATED:20201217T215756Z
UID:Compromisso-95c50f2111d34f5c9e2afd4cfd68b4aa
SEQUENCE:0
LAST-MODIFIED:20220307T151844Z
SUMMARY:Embaixador dos EUA no Brasil,Sr. Todd Chapman
DESCRIPTION:Visita de Cortesia\, abordando os seguintes Temas: Energia
  Nuclear\; Mineração\; Setor Elétrico\; Hidrocarbonetos\; Cessão O
 nerosa\; e Etanol.
LOCATION:Videoconferência
PRIORITY:3
TRANSP:0
END:VEVENT
END:VCALENDAR
