BEGIN:VCALENDAR
PRODID:brasil.gov.agenda
VERSION:1.0
BEGIN:VEVENT
DTSTART:20200426T130000Z
DTEND:20200426T130000Z
DCREATED:20201217T215756Z
UID:Compromisso-6a361886c1fc4500a7a6a6c7011ed54f
SEQUENCE:0
LAST-MODIFIED:20201217T215756Z
SUMMARY:Secretários do MME
LOCATION:Videoconferência
PRIORITY:3
TRANSP:0
END:VEVENT
END:VCALENDAR
