BEGIN:VCALENDAR
PRODID:brasil.gov.agenda
VERSION:1.0
BEGIN:VEVENT
DTSTART:20200423T143000Z
DTEND:20200423T143000Z
DCREATED:20201217T215756Z
UID:Compromisso-10b6e7f53ad547c0ac86c1d29ddcbbc0
SEQUENCE:0
LAST-MODIFIED:20201217T215756Z
SUMMARY:Secretários do MME
LOCATION:Videoconferência
PRIORITY:3
TRANSP:0
END:VEVENT
END:VCALENDAR
