BEGIN:VCALENDAR
PRODID:brasil.gov.agenda
VERSION:1.0
BEGIN:VEVENT
DTSTART:20200423T180000Z
DTEND:20200423T180000Z
DCREATED:20201217T215756Z
UID:Compromisso-73bb7348c64d4b549b5f9597ba5fcaf7
SEQUENCE:0
LAST-MODIFIED:20201217T215756Z
SUMMARY:Presidente da BR Distribuidora,Sr. Rafael Grisolia
LOCATION:Videoconferência
PRIORITY:3
TRANSP:0
END:VEVENT
END:VCALENDAR
