BEGIN:VCALENDAR
PRODID:brasil.gov.agenda
VERSION:1.0
BEGIN:VEVENT
DTSTART:20200924T120000Z
DTEND:20200924T120000Z
DCREATED:20201217T215926Z
UID:Compromisso-fd1ee986274640b98f0f55deb060001f
SEQUENCE:0
LAST-MODIFIED:20201217T215926Z
SUMMARY:Reunião com os Diretores
LOCATION:Skype
PRIORITY:3
TRANSP:0
END:VEVENT
END:VCALENDAR
