BEGIN:VCALENDAR
PRODID:brasil.gov.agenda
VERSION:1.0
BEGIN:VEVENT
DTSTART:20200714T170000Z
DTEND:20200714T170000Z
DCREATED:20201217T215925Z
UID:Compromisso-707c3f30840643f18778ec2b6218081b
SEQUENCE:0
LAST-MODIFIED:20201217T215925Z
SUMMARY:MME/ Credit Suisse
LOCATION:Aplicativo Teams
PRIORITY:3
TRANSP:0
END:VEVENT
END:VCALENDAR
