BEGIN:VCALENDAR
PRODID:brasil.gov.agenda
VERSION:1.0
BEGIN:VEVENT
DTSTART:20220318T130000Z
DTEND:20220318T140000Z
DCREATED:20220331T160454Z
UID:Compromisso-177a78d2b9f44f88a764e647c140843d
SEQUENCE:0
LAST-MODIFIED:20220331T160454Z
SUMMARY:ReuniÃ£o
DESCRIPTION:ReuniÃ£o sobre o contrato de imagens de altÃ­ssima resoluÃ
 §Ã£o espacial para SeguranÃ§a PÃºblica
LOCATION:Virtual
PRIORITY:3
TRANSP:0
END:VEVENT
END:VCALENDAR
