{"text_format":"1","workbook":"xlsx","n_sheets":45,"sheets":["Entradas >>>>","Entradas no Texto","Tabelas no Texto","Gráficos","Painel de Controle","DRE >>>>","FC Projeto","FC Acionista","Sensibilidade","Premissas >>>>","Tributação","WACC","Investimentos >>>>","CAPEX","Base Ativos","Investimentos Prévios","Depreciação","Financiamento >>>>","Financiamento","Custos Operacionais >>>>","Despesas","Energia","Meio Ambiente","Demanda Hídrica","Salários SICRO","Receitas >>>>","Tabelas Relatório G1","Resumo Cultivos","Resultados Cultivos","Rentabilidade Cultivos","Rentabilidade EMATER - DF","Melancia","Melão","Tomate","Feijão","Abacaxi","Acerola","Banana","Coco","Goiaba","Laranja","Mamão","Maracujá","Uva","Value For Money"],"not_rendered":{"charts":11,"images":0,"macros":1,"external_links":0,"defined_names":845,"comments":1,"pivot_tables":0},"unopened":[],"bounds":{"document_bytes":16777216,"sheet_cells":100000,"rows_first":2000,"rows_last":500,"rows_between":2000,"halvings":0,"cell_chars":16384,"cell_head_chars":4096},"cells_cut":0,"cells_raw":0,"read":"whole","date_system":"1900"}

{"sheet":"Entradas >>>>","index":0,"n_rows":0,"n_cols":0,"rows_kept":0,"cut":false,"hidden":false,"merged":[]}

{"sheet":"Entradas no Texto","index":1,"n_rows":63,"n_cols":10,"rows_kept":63,"cut":false,"hidden":false,"merged":[]}
["Número","Entrada","Item"]
[1,{"$f":"CAPEX!E70","v":1765855305.6597364},"7.1. Capex"]
[2,{"$f":"B4+B5","v":769957628.24077487},"7.1. Capex"]
[3,{"$f":"CAPEX!E67","v":574430019.14360189},"7.1. Capex"]
[4,{"$f":"CAPEX!E68","v":195527609.09717301},"7.1. Capex"]
[5,{"$f":"CAPEX!E69","v":995897677.41896081},"7.1. Capex"]
[6,{"$f":"'Painel de Controle'!J28","v":3235.56},"7.2. Outorga da Terra"]
[7,{"$f":"'Painel de Controle'!J29","v":15441.734427181647},"7.2. Outorga da Terra"]
[8,{"$f":"'Painel de Controle'!J30","v":49962658.243211851},"7.2. Outorga da Terra"]
[10,{"$f":"WACC!D8","v":3.7068046440541957E-2},"8.1.1.1. Taxa Livre de Risco"]
[11,{"$f":"WACC!D9","v":0.10089927578651858},"8.1.1.2. Risco de Mercado"]
[12,{"$f":"WACC!D11","v":0.66993775653500909},"8.1.1.3. Cálculo do Beta"]
[13,{"$f":"B12","v":0.66993775653500909},"8.1.1.3. Cálculo do Beta"]
[13,{"$f":"WACC!D13","v":1.3331761355046681},"8.1.1.3. Cálculo do Beta"]
[14,{"$f":"WACC!D15","v":2.8319413629160062E-2},"8.1.1.4. Prêmio de Risco Adicional"]
[15,{"$f":"B15","v":2.8319413629160062E-2},"8.1.1.4. Prêmio de Risco Adicional"]
[16,{"$f":"B16*10000","v":283.19413629160061},"8.1.1.4. Prêmio de Risco Adicional"]
[17,{"$f":"B16","v":2.8319413629160062E-2},"8.1.1.4. Prêmio de Risco Adicional"]
[18,{"$f":"B18+3.71%","v":6.5419413629160067E-2},"8.1.1.4. Prêmio de Risco Adicional"]
[19,{"$f":"WACC!D17","v":2.0152763416717123E-2},"8.1.1.5. Inflação"]
[20,{"$f":"B20","v":2.0152763416717123E-2},"8.1.1.5. Inflação"]
[25,{"$f":"WACC!D20","v":6.7983171428571409E-2},"8.1.2. Custo do Capital de Terceiros"]
[26,{"$f":"WACC!D22","v":9.1893217180559289E-2},"8.1.3. Cálculo do Custo Médio Ponderado de Capital"]
[27,null,"8.1.3. Cálculo do Custo Médio Ponderado de Capital",{"$f":"WACC!D18","v":0.12775828580854109},"x",{"$f":"WACC!D5","v":0.4},"+",{"$f":"WACC!D20","v":6.7983171428571409E-2},"x",{"$f":"WACC!D6","v":0.6}]
[28,{"$f":"B23","v":9.1893217180559289E-2},"8.1.3. Cálculo do Custo Médio Ponderado de Capital"]
[29,{"$f":"WACC!D20","v":6.7983171428571409E-2},"8.2. Financiamento"]
[30,{"$f":"Financiamento!C13*12","v":240},"8.2. Financiamento"]
[31,{"$f":"'Tabelas no Texto'!F389","v":1241210698.5399747},"8.2.1. Parâmetros de amortização da dívida","Despesas Financeiras"]
[32,{"$f":"'Painel de Controle'!Q7*1000+CAPEX!E67*40%+CAPEX!E68*40%","v":267508461.63748264},"8.2.1. Parâmetros de amortização da dívida","Capital Próprio"]
[33,{"$f":"Financiamento!C8*Financiamento!C10*1000","v":801077152.4864459},"8.2.1. Parâmetros de amortização da dívida","Capital de Terceiros"]
[34,{"$f":"'Painel de Controle'!Q7*1000","v":-40474589.658827364},"8.2.1. Parâmetros de amortização da dívida"]
[35,{"$f":"1-B33","v":0.25033881993329787},"8.2.1. Parâmetros de amortização da dívida"]
[36,{"$f":"B30/(B30+B29)","v":0.74966118006670213},"8.2.1. Parâmetros de amortização da dívida"]
[37,{"$f":"WACC!D22","v":9.1893217180559289E-2},"9.1. VPL"]
[38,{"$f":"'Painel de Controle'!Q9*1000","v":-674040.90601409553},"9.1. VPL"]
[null,{"$f":"WACC!D18","v":0.12775828580854109},"9.1. VPL"]
[39,{"$f":"'Painel de Controle'!Q15*1000","v":-16322471.800585242},"9.1. VPL"]
[40,{"$f":"B34","v":9.1893217180559289E-2},"9.1. VPL"]
[41,{"$f":"'Painel de Controle'!Q8*1000","v":39800548.752813265},"9.1. VPL"]
[null,{"$f":"B36","v":0.12775828580854109},"9.1. VPL"]
[42,{"$f":"'Painel de Controle'!Q14*1000","v":13032458.54401747},"9.1. VPL"]
[43,{"$f":"'Painel de Controle'!Q9*1000","v":-674040.90601409553},"9.1. VPL"]
[44,{"$f":"'Painel de Controle'!Q15*1000","v":-16322471.800585242},"9.1. VPL"]
[45,{"$f":"WACC!D22","v":9.1893217180559289E-2},"9.2. TIR"]
[46,{"$f":"'Painel de Controle'!Q6","v":9.1797457159313867E-2},"9.2. TIR"]
[47,{"$f":"'Painel de Controle'!Q12","v":0.12111706903160524},"9.2. TIR"]
[48,{"$f":"B44","v":9.1893217180559289E-2},"9.2. TIR"]
[49,{"$f":"'Painel de Controle'!Q10","v":14},"9.3. Payback"]
[50,{"$f":"'Painel de Controle'!Q16","v":12},"9.3. Payback"]
[51,{"$f":"'Painel de Controle'!Q7*1000","v":-40474589.658827364},"9.4. Remuneração do Poder Concedente"]
[52,{"$f":"1-B50/'Investimentos Prévios'!D24","v":1.1164256143500169},"9.4. Remuneração do Poder Concedente"]
[53,{"$f":"Sensibilidade!F12","v":6.8731264928207914E-2},"10.1. Variação nos Custos de Investimento e Opex"]
[54,{"$f":"Sensibilidade!D10","v":0.11721966537461515},"10.1. Variação nos Custos de Investimento e Opex"]
[55,{"$f":"Sensibilidade!L12","v":7.627225118687142E-2},"10.1. Variação nos Custos de Investimento e Opex"]
[56,{"$f":"Sensibilidade!J10","v":0.18318457550733269},"10.1. Variação nos Custos de Investimento e Opex"]
[57,{"$f":"Sensibilidade!D18","v":4.5884650851250042E-2},"10.2. Variação nos Custos de Investimento e nas Receitas"]
[58,{"$f":"Sensibilidade!F16","v":0.13785762708632832},"10.2. Variação nos Custos de Investimento e nas Receitas"]
[59,{"$f":"Sensibilidade!J18","v":3.7307917768678145E-2},"10.2. Variação nos Custos de Investimento e nas Receitas"]
[60,{"$f":"Sensibilidade!L16","v":0.22668488702116574},"10.2. Variação nos Custos de Investimento e nas Receitas"]
[61,{"$f":"Sensibilidade!D25","v":4.020321205398325E-2},"10.3. Variação nos Custos de Operação e nas Receitas"]
[62,{"$f":"Sensibilidade!F23","v":0.13795647953689816},"10.3. Variação nos Custos de Operação e nas Receitas"]
[63,{"$f":"Sensibilidade!J25","v":2.6184300221317569E-2},"10.3. Variação nos Custos de Operação e nas Receitas"]
[64,{"$f":"Sensibilidade!L23","v":0.21529954308207899},"10.3. Variação nos Custos de Operação e nas Receitas"]

{"sheet":"Tabelas no Texto","index":2,"n_rows":509,"n_cols":37,"rows_kept":509,"cut":false,"hidden":false,"merged":[[304,2,305,2],[508,1,508,2],[447,1,447,4],[468,1,468,4],[448,0,451,0],[470,0,472,0],[462,0,465,0],[483,0,486,0],[482,1,482,4],[476,0,479,0],[454,1,454,4],[475,1,475,4],[455,0,458,0],[461,1,461,4]]}
["Tabela 1 - Distribuição de área por cultivo"]
[{"$f":"'Painel de Controle'!B24","v":"Cultivo"},{"$f":"'Painel de Controle'!C24","v":"% Área"},{"$f":"'Painel de Controle'!D24","v":"Área (ha)"}]
[{"$f":"'Painel de Controle'!B25","v":"Melancia"},{"$f":"'Painel de Controle'!C25","v":2.5000000000000001E-2},{"$f":"'Painel de Controle'!D25","v":255.95450000000002}]
[{"$f":"'Painel de Controle'!B26","v":"Melão"},{"$f":"'Painel de Controle'!C26","v":2.5000000000000001E-2},{"$f":"'Painel de Controle'!D26","v":255.95450000000002}]
[{"$f":"'Painel de Controle'!B27","v":"Tomate"},{"$f":"'Painel de Controle'!C27","v":0.05},{"$f":"'Painel de Controle'!D27","v":511.90900000000005}]
[{"$f":"'Painel de Controle'!B28","v":"Feijão"},{"$f":"'Painel de Controle'!C28","v":0.1},{"$f":"'Painel de Controle'!D28","v":1023.8180000000001}]
[{"$f":"'Painel de Controle'!B29","v":"Abacaxi"},{"$f":"'Painel de Controle'!C29","v":2.5000000000000001E-2},{"$f":"'Painel de Controle'!D29","v":255.95450000000002}]
[{"$f":"'Painel de Controle'!B30","v":"Acerola"},{"$f":"'Painel de Controle'!C30","v":0.1},{"$f":"'Painel de Controle'!D30","v":1023.8180000000001}]
[{"$f":"'Painel de Controle'!B31","v":"Banana"},{"$f":"'Painel de Controle'!C31","v":0.4},{"$f":"'Painel de Controle'!D31","v":4095.2720000000004}]
[{"$f":"'Painel de Controle'!B32","v":"Coco"},{"$f":"'Painel de Controle'!C32","v":0.1},{"$f":"'Painel de Controle'!D32","v":1023.8180000000001}]
[{"$f":"'Painel de Controle'!B33","v":"Goiaba"},{"$f":"'Painel de Controle'!C33","v":0.1},{"$f":"'Painel de Controle'!D33","v":1023.8180000000001}]
[{"$f":"'Painel de Controle'!B34","v":"Laranja"},{"$f":"'Painel de Controle'!C34","v":0.1},{"$f":"'Painel de Controle'!D34","v":1023.8180000000001}]
[{"$f":"'Painel de Controle'!B35","v":"Mamão"},{"$f":"'Painel de Controle'!C35","v":2.5000000000000001E-2},{"$f":"'Painel de Controle'!D35","v":255.95450000000002}]
[{"$f":"'Painel de Controle'!B36","v":"Maracujá"},{"$f":"'Painel de Controle'!C36","v":2.5000000000000001E-2},{"$f":"'Painel de Controle'!D36","v":255.95450000000002}]
[{"$f":"'Painel de Controle'!B37","v":"Uva"},{"$f":"'Painel de Controle'!C37","v":2.5000000000000001E-2},{"$f":"'Painel de Controle'!D37","v":255.95450000000002}]
[]
["Tabela 2 - Receita Líquida da produção agrícola"]
["Ano","Receita","Ano","Receita"]
[1,{"$f":"SUMIF('FC Projeto'!$D$12:$AL$12,A19,'FC Projeto'!$D$14:$AL$14)","v":0},19,{"$f":"SUMIF('FC Projeto'!$D$12:$AL$12,C19,'FC Projeto'!$D$14:$AL$14)","v":474847.0614181335}]
[2,{"$f":"SUMIF('FC Projeto'!$D$12:$AL$12,A20,'FC Projeto'!$D$14:$AL$14)","v":0},20,{"$f":"SUMIF('FC Projeto'!$D$12:$AL$12,C20,'FC Projeto'!$D$14:$AL$14)","v":474847.0614181335}]
[3,{"$f":"SUMIF('FC Projeto'!$D$12:$AL$12,A21,'FC Projeto'!$D$14:$AL$14)","v":0},21,{"$f":"SUMIF('FC Projeto'!$D$12:$AL$12,C21,'FC Projeto'!$D$14:$AL$14)","v":474847.0614181335}]
[4,{"$f":"SUMIF('FC Projeto'!$D$12:$AL$12,A22,'FC Projeto'!$D$14:$AL$14)","v":173441.35632186674},22,{"$f":"SUMIF('FC Projeto'!$D$12:$AL$12,C22,'FC Projeto'!$D$14:$AL$14)","v":474847.0614181335}]
[5,{"$f":"SUMIF('FC Projeto'!$D$12:$AL$12,A23,'FC Projeto'!$D$14:$AL$14)","v":296758.42642426665},23,{"$f":"SUMIF('FC Projeto'!$D$12:$AL$12,C23,'FC Projeto'!$D$14:$AL$14)","v":474847.0614181335}]
[6,{"$f":"SUMIF('FC Projeto'!$D$12:$AL$12,A24,'FC Projeto'!$D$14:$AL$14)","v":390399.70026426669},24,{"$f":"SUMIF('FC Projeto'!$D$12:$AL$12,C24,'FC Projeto'!$D$14:$AL$14)","v":474847.0614181335}]
[7,{"$f":"SUMIF('FC Projeto'!$D$12:$AL$12,A25,'FC Projeto'!$D$14:$AL$14)","v":441298.99672933336},25,{"$f":"SUMIF('FC Projeto'!$D$12:$AL$12,C25,'FC Projeto'!$D$14:$AL$14)","v":474847.0614181335}]
[8,{"$f":"SUMIF('FC Projeto'!$D$12:$AL$12,A26,'FC Projeto'!$D$14:$AL$14)","v":474847.0614181335},26,{"$f":"SUMIF('FC Projeto'!$D$12:$AL$12,C26,'FC Projeto'!$D$14:$AL$14)","v":474847.0614181335}]
[9,{"$f":"SUMIF('FC Projeto'!$D$12:$AL$12,A27,'FC Projeto'!$D$14:$AL$14)","v":474847.0614181335},27,{"$f":"SUMIF('FC Projeto'!$D$12:$AL$12,C27,'FC Projeto'!$D$14:$AL$14)","v":474847.0614181335}]
[10,{"$f":"SUMIF('FC Projeto'!$D$12:$AL$12,A28,'FC Projeto'!$D$14:$AL$14)","v":474847.0614181335},28,{"$f":"SUMIF('FC Projeto'!$D$12:$AL$12,C28,'FC Projeto'!$D$14:$AL$14)","v":474847.0614181335}]
[11,{"$f":"SUMIF('FC Projeto'!$D$12:$AL$12,A29,'FC Projeto'!$D$14:$AL$14)","v":474847.0614181335},29,{"$f":"SUMIF('FC Projeto'!$D$12:$AL$12,C29,'FC Projeto'!$D$14:$AL$14)","v":474847.0614181335}]
[12,{"$f":"SUMIF('FC Projeto'!$D$12:$AL$12,A30,'FC Projeto'!$D$14:$AL$14)","v":474847.0614181335},30,{"$f":"SUMIF('FC Projeto'!$D$12:$AL$12,C30,'FC Projeto'!$D$14:$AL$14)","v":474847.0614181335}]
[13,{"$f":"SUMIF('FC Projeto'!$D$12:$AL$12,A31,'FC Projeto'!$D$14:$AL$14)","v":474847.0614181335},31,{"$f":"SUMIF('FC Projeto'!$D$12:$AL$12,C31,'FC Projeto'!$D$14:$AL$14)","v":474847.0614181335}]
[14,{"$f":"SUMIF('FC Projeto'!$D$12:$AL$12,A32,'FC Projeto'!$D$14:$AL$14)","v":474847.0614181335},32,{"$f":"SUMIF('FC Projeto'!$D$12:$AL$12,C32,'FC Projeto'!$D$14:$AL$14)","v":474847.0614181335}]
[15,{"$f":"SUMIF('FC Projeto'!$D$12:$AL$12,A33,'FC Projeto'!$D$14:$AL$14)","v":474847.0614181335},33,{"$f":"SUMIF('FC Projeto'!$D$12:$AL$12,C33,'FC Projeto'!$D$14:$AL$14)","v":474847.0614181335}]
[16,{"$f":"SUMIF('FC Projeto'!$D$12:$AL$12,A34,'FC Projeto'!$D$14:$AL$14)","v":474847.0614181335},34,{"$f":"SUMIF('FC Projeto'!$D$12:$AL$12,C34,'FC Projeto'!$D$14:$AL$14)","v":474847.0614181335}]
[17,{"$f":"SUMIF('FC Projeto'!$D$12:$AL$12,A35,'FC Projeto'!$D$14:$AL$14)","v":474847.0614181335},35,{"$f":"SUMIF('FC Projeto'!$D$12:$AL$12,C35,'FC Projeto'!$D$14:$AL$14)","v":474847.0614181335}]
[18,{"$f":"SUMIF('FC Projeto'!$D$12:$AL$12,A36,'FC Projeto'!$D$14:$AL$14)","v":474847.0614181335}]
[]
["Tabela 3 - Capex - Infraestrutura de Irrigação e de apoio"]
[{"$f":"CAPEX!C9","v":"Discriminação"},{"$f":"CAPEX!D9","v":"Vida Útil\n(anos)"},{"$f":"CAPEX!E9","v":"Valores (R$)"}]
[{"$f":"CAPEX!C10","v":"Custos diversos"},{"$f":"CAPEX!D10","v":0},{"$f":"CAPEX!E10","v":0}]
[{"$f":"CAPEX!C11","v":"Desmatamento das áreas agrícolas (SAU)  "},{"$f":"CAPEX!D11","v":35},{"$f":"CAPEX!E11","v":60562555.126900002}]
[{"$f":"CAPEX!C12","v":"M. Ambiente (Estudos, Licenças e Exec. PBAs )"},{"$f":"CAPEX!D12","v":35},{"$f":"CAPEX!E12","v":51989500.700860001}]
[{"$f":"CAPEX!C13","v":"Consultoria (projetos)"},{"$f":"CAPEX!D13","v":35},{"$f":"CAPEX!E13","v":5392675.7774999999}]
[{"$f":"CAPEX!C14","v":"Consultoria (supervisão de obras)"},{"$f":"CAPEX!D14","v":35},{"$f":"CAPEX!E14","v":5392675.7775000008}]
[{"$f":"CAPEX!C15","v":"Serviços preliminares"},{"$f":"CAPEX!D15","v":0},{"$f":"CAPEX!E15","v":0}]
[{"$f":"CAPEX!C16","v":"Mobilização e desmobilização"},{"$f":"CAPEX!D16","v":35},{"$f":"CAPEX!E16","v":2195314.7833856451}]
[{"$f":"CAPEX!C17","v":"Administração direta"},{"$f":"CAPEX!D17","v":35},{"$f":"CAPEX!E17","v":17131551.494351756}]
[{"$f":"CAPEX!C18","v":"Implantação do canteiro de obras"},{"$f":"CAPEX!D18","v":35},{"$f":"CAPEX!E18","v":351684.99884632987}]
[{"$f":"CAPEX!C19","v":"Infraestrutura Sul"},{"$f":"CAPEX!D19","v":0},{"$f":"CAPEX!E19","v":0}]
[{"$f":"CAPEX!C20","v":"EBP-Sul"},{"$f":"CAPEX!D20","v":20},{"$f":"CAPEX!E20","v":22095987.805720981}]
[{"$f":"CAPEX!C21","v":"Adutora EBP-Sul"},{"$f":"CAPEX!D21","v":30},{"$f":"CAPEX!E21","v":89046.661582440051}]
[{"$f":"CAPEX!C22","v":"Reservatório pulmão"},{"$f":"CAPEX!D22","v":35},{"$f":"CAPEX!E22","v":380921.61847019999}]
[{"$f":"CAPEX!C23","v":"Canal CP2-Sul"},{"$f":"CAPEX!D23","v":35},{"$f":"CAPEX!E23","v":1411566.5773624675}]
[{"$f":"CAPEX!C24","v":"EBS-Sul"},{"$f":"CAPEX!D24","v":20},{"$f":"CAPEX!E24","v":17528904.150587454}]
[{"$f":"CAPEX!C25","v":"Adutora da EBS-Sul"},{"$f":"CAPEX!D25","v":30},{"$f":"CAPEX!E25","v":84003.451275972417}]
[{"$f":"CAPEX!C26","v":"Canal CP3-Sul"},{"$f":"CAPEX!D26","v":35},{"$f":"CAPEX!E26","v":2547427.5854191193}]
[{"$f":"CAPEX!C27","v":"EBA-9"},{"$f":"CAPEX!D27","v":20},{"$f":"CAPEX!E27","v":4339886.3308293745}]
[{"$f":"CAPEX!C28","v":"EBAs 10-11-12"},{"$f":"CAPEX!D28","v":25},{"$f":"CAPEX!E28","v":11068385.435637914}]
[{"$f":"CAPEX!C29","v":"Tomadas empresariais (24)"},{"$f":"CAPEX!D29","v":30},{"$f":"CAPEX!E29","v":3006894.9002329158}]
[{"$f":"CAPEX!C30","v":"Tomadas gravitárias (5)"},{"$f":"CAPEX!D30","v":30},{"$f":"CAPEX!E30","v":187243.77127984306}]
[{"$f":"CAPEX!C31","v":"Adutoras das EBAs / Setores (36,1% de \"L\")"},{"$f":"CAPEX!D31","v":30},{"$f":"CAPEX!E31","v":52511382.157866552}]
[{"$f":"CAPEX!C32","v":"Estradas dos canais e estradas dos setores"},{"$f":"CAPEX!D32","v":35},{"$f":"CAPEX!E32","v":2130009.6829070332}]
[{"$f":"CAPEX!C33","v":"Drenos  dos canais e drenos nos setores"},{"$f":"CAPEX!D33","v":35},{"$f":"CAPEX!E33","v":6404215.5685590087}]
[{"$f":"CAPEX!C34","v":"Infraestr. de Suprim. de Energia Elétrica"},{"$f":"CAPEX!D34","v":20},{"$f":"CAPEX!E34","v":32771043.893528972}]
[{"$f":"CAPEX!C35","v":"Infraestrutura Norte"},{"$f":"CAPEX!D35","v":0},{"$f":"CAPEX!E35","v":0}]
[{"$f":"CAPEX!C36","v":"EBP-Norte (8,37 m³/s)"},{"$f":"CAPEX!D36","v":20},{"$f":"CAPEX!E36","v":47928189.558232695}]
[{"$f":"CAPEX!C37","v":"Adutora EBP-Norte"},{"$f":"CAPEX!D37","v":30},{"$f":"CAPEX!E37","v":370056.27134608623}]
[{"$f":"CAPEX!C38","v":"Canal CP-3 Norte (8,37 m³/s) - (SH-1, 2, 3, 4, 5 e 6)"},{"$f":"CAPEX!D38","v":30},{"$f":"CAPEX!E38","v":16465092.911082665}]
[{"$f":"CAPEX!C39","v":"Canal CS2/CP3 Norte (2,24 m³/s) - (SH-7 e 8)"},{"$f":"CAPEX!D39","v":35},{"$f":"CAPEX!E39","v":3224018.8364445968}]
[{"$f":"CAPEX!C40","v":"Sifões invertidos no CP-3 Norte "},{"$f":"CAPEX!D40","v":35},{"$f":"CAPEX!E40","v":221947.12459019999}]
[{"$f":"CAPEX!C41","v":"Tomadas empresariais (27 no CP-3 e no CS-2)"},{"$f":"CAPEX!D41","v":30},{"$f":"CAPEX!E41","v":3382756.7627620306}]
[{"$f":"CAPEX!C42","v":"Tomadas gravitárias (13 no CP-3 e 3 no CS-2)"},{"$f":"CAPEX!D42","v":30},{"$f":"CAPEX!E42","v":599180.06809549779}]
[{"$f":"CAPEX!C43","v":"EBAs 1 a 8"},{"$f":"CAPEX!D43","v":25},{"$f":"CAPEX!E43","v":29515694.495034434}]
[{"$f":"CAPEX!C44","v":"Adutoras das EBAs / Setores (63,9% de SAU ) "},{"$f":"CAPEX!D44","v":30},{"$f":"CAPEX!E44","v":92949510.246195897}]
[{"$f":"CAPEX!C45","v":"Casa de Comando - Comportas"},{"$f":"CAPEX!D45","v":35},{"$f":"CAPEX!E45","v":151239.31222723261}]
[{"$f":"CAPEX!C46","v":"Estradas dos canais e estradas dos setores"},{"$f":"CAPEX!D46","v":35},{"$f":"CAPEX!E46","v":12099692.121515274}]
[{"$f":"CAPEX!C47","v":"Drenos  dos canais e drenos nos setores"},{"$f":"CAPEX!D47","v":35},{"$f":"CAPEX!E47","v":9690129.5969752558}]
[{"$f":"CAPEX!C48","v":"Infraestr. de Suprim. de Energia Elétrica"},{"$f":"CAPEX!D48","v":20},{"$f":"CAPEX!E48","v":58259633.588495947}]
[{"$f":"CAPEX!C49","v":"Infraestrutura de Irrigação e de Apoio"},{"$f":"CAPEX!D49","v":0},{"$f":"CAPEX!E49","v":574430019.14360189}]
[]
["Tabela 4 - Capex - On Farm"]
[{"$f":"CAPEX!C51","v":"Discriminação"},{"$f":"CAPEX!D51","v":"Vida Útil\n(anos)"},{"$f":"CAPEX!E51","v":"Valores (R$)"}]
[{"$f":"CAPEX!C52","v":"Investimento on farm"},{"$f":"CAPEX!D52","v":0},{"$f":"CAPEX!E52","v":0}]
[{"$f":"CAPEX!C53","v":"Ramais móveis e emissores"},{"$f":"CAPEX!D53","v":5},{"$f":"CAPEX!E53","v":42506001.977646299}]
[{"$f":"CAPEX!C54","v":"Rede de distribuição e cavaletes (fornec.)"},{"$f":"CAPEX!D54","v":15},{"$f":"CAPEX!E54","v":127518005.93293893}]
[{"$f":"CAPEX!C55","v":"Assentam. e montagem dos tubos da rede e cavaletes"},{"$f":"CAPEX!D55","v":15},{"$f":"CAPEX!E55","v":25503601.186587781}]
[{"$f":"CAPEX!C56","v":"Investimento on farm"},{"$f":"CAPEX!D56","v":0},{"$f":"CAPEX!E56","v":195527609.09717301}]
[]
["Tabela 5 - Capex - Reinvestimentos"]
[{"$f":"CAPEX!C58","v":"Discriminação"},{"$f":"CAPEX!D58","v":"Vida Útil\n(anos)"},{"$f":"CAPEX!E58","v":"Valores (R$)"}]
[{"$f":"CAPEX!C59","v":"Reinvestimento"},{"$f":"CAPEX!D59","v":0},{"$f":"CAPEX!E59","v":0}]
[{"$f":"CAPEX!C60","v":"Ramais móveis e emissores"},{"$f":"CAPEX!D60","v":5},{"$f":"CAPEX!E60","v":212530009.88823158}]
[{"$f":"CAPEX!C61","v":"Rede de distribuição e cavaletes"},{"$f":"CAPEX!D61","v":15},{"$f":"CAPEX!E61","v":306043214.23905343}]
[{"$f":"CAPEX!C62","v":"Equipamentos EBPs, EBS, EBAs - Redes e Equip. Elétricos"},{"$f":"CAPEX!D62","v":20},{"$f":"CAPEX!E62","v":243326964.55886018}]
[{"$f":"CAPEX!C63","v":"Equipamentos Adutoras, Canais, Sifões Inv. e Redes Tubos Setores"},{"$f":"CAPEX!D63","v":30},{"$f":"CAPEX!E63","v":233997488.73281586}]
[{"$f":"CAPEX!C64","v":"Reinvestimento"},{"$f":"CAPEX!D64","v":0},{"$f":"CAPEX!E64","v":995897677.41896105}]
[]
["Tabela 6 - Capex - Resumo"]
[{"$f":"CAPEX!C66","v":"Discriminação"},{"$f":"CAPEX!E66","v":"Valores (R$)"}]
["Infraestrutura de Irrigação e de Apoio",{"$f":"CAPEX!E67","v":574430019.14360189}]
[{"$f":"CAPEX!C68","v":"Investimento on farm"},{"$f":"CAPEX!E68","v":195527609.09717301}]
[{"$f":"CAPEX!C69","v":"Reinvestimento"},{"$f":"CAPEX!E69","v":995897677.41896081}]
[{"$f":"CAPEX!C70","v":"Investimento Total"},{"$f":"CAPEX!E70","v":1765855305.6597364}]
[]
["Tabela 7 - Cronograma Físico-Financeiro dos Investimentos em Infraestrutura de Irrigação e de Apoio"]
[{"$f":"A39","v":"Discriminação"},{"$f":"CAPEX!F9","v":1},{"$f":"CAPEX!G9","v":2},{"$f":"CAPEX!H9","v":3},{"$f":"CAPEX!I9","v":4},{"$f":"CAPEX!J9","v":5},{"$f":"CAPEX!K9","v":6},{"$f":"CAPEX!L9","v":7}]
["Custos diversos"]
["Desmatamento das áreas agrícolas (SAU)  ",{"$f":"CAPEX!F11","v":0},{"$f":"CAPEX!G11","v":0},{"$f":"CAPEX!H11","v":22120915.46309026},{"$f":"CAPEX!I11","v":15728004.789289385},{"$f":"CAPEX!J11","v":11943118.679414807},{"$f":"CAPEX!K11","v":6491756.3960064324},{"$f":"CAPEX!L11","v":4278759.7990991157}]
["M. Ambiente (Estudos, Licenças e Exec. PBAs )",{"$f":"CAPEX!F12","v":3042292.9888200006},{"$f":"CAPEX!G12","v":4869516.7153749997},{"$f":"CAPEX!H12","v":9227865.4151749983},{"$f":"CAPEX!I12","v":9373531.9796099998},{"$f":"CAPEX!J12","v":9626586.9299700018},{"$f":"CAPEX!K12","v":8261458.4778650003},{"$f":"CAPEX!L12","v":7588248.1940449988}]
["Consultoria (projetos)",{"$f":"CAPEX!F13","v":5392675.7774999999},{"$f":"CAPEX!G13","v":0},{"$f":"CAPEX!H13","v":0},{"$f":"CAPEX!I13","v":0},{"$f":"CAPEX!J13","v":0},{"$f":"CAPEX!K13","v":0},{"$f":"CAPEX!L13","v":0}]
["Consultoria (supervisão de obras)",{"$f":"CAPEX!F14","v":0},{"$f":"CAPEX!G14","v":1969714.2028432472},{"$f":"CAPEX!H14","v":1400469.816339242},{"$f":"CAPEX!I14","v":1063451.9411431036},{"$f":"CAPEX!J14","v":578045.91297082102},{"$f":"CAPEX!K14","v":380993.90420358645},{"$f":"CAPEX!L14","v":0}]
["Serviços preliminares"]
["Mobilização e desmobilização",{"$f":"CAPEX!F16","v":0},{"$f":"CAPEX!G16","v":1097657.3916928226},{"$f":"CAPEX!H16","v":0},{"$f":"CAPEX!I16","v":0},{"$f":"CAPEX!J16","v":0},{"$f":"CAPEX!K16","v":0},{"$f":"CAPEX!L16","v":1097657.3916928226}]
["Administração direta",{"$f":"CAPEX!F17","v":0},{"$f":"CAPEX!G17","v":2855258.5823919596},{"$f":"CAPEX!H17","v":2855258.5823919596},{"$f":"CAPEX!I17","v":2855258.5823919596},{"$f":"CAPEX!J17","v":2855258.5823919596},{"$f":"CAPEX!K17","v":2855258.5823919596},{"$f":"CAPEX!L17","v":2855258.5823919596}]
["Implantação do canteiro de obras",{"$f":"CAPEX!F18","v":0},{"$f":"CAPEX!G18","v":351684.99884632987},{"$f":"CAPEX!H18","v":0},{"$f":"CAPEX!I18","v":0},{"$f":"CAPEX!J18","v":0},{"$f":"CAPEX!K18","v":0},{"$f":"CAPEX!L18","v":0}]
["Infraestrutura Sul"]
["EBP-Sul",{"$f":"CAPEX!F20","v":0},{"$f":"CAPEX!G20","v":8838395.1222883929},{"$f":"CAPEX!H20","v":13257592.683432588},{"$f":"CAPEX!I20","v":0},{"$f":"CAPEX!J20","v":0},{"$f":"CAPEX!K20","v":0},{"$f":"CAPEX!L20","v":0}]
["Adutora EBP-Sul",{"$f":"CAPEX!F21","v":0},{"$f":"CAPEX!G21","v":89046.661582440051},{"$f":"CAPEX!H21","v":0},{"$f":"CAPEX!I21","v":0},{"$f":"CAPEX!J21","v":0},{"$f":"CAPEX!K21","v":0},{"$f":"CAPEX!L21","v":0}]
["Reservatório pulmão",{"$f":"CAPEX!F22","v":0},{"$f":"CAPEX!G22","v":380921.61847019999},{"$f":"CAPEX!H22","v":0},{"$f":"CAPEX!I22","v":0},{"$f":"CAPEX!J22","v":0},{"$f":"CAPEX!K22","v":0},{"$f":"CAPEX!L22","v":0}]
["Canal CP2-Sul",{"$f":"CAPEX!F23","v":0},{"$f":"CAPEX!G23","v":1411566.5773624675},{"$f":"CAPEX!H23","v":0},{"$f":"CAPEX!I23","v":0},{"$f":"CAPEX!J23","v":0},{"$f":"CAPEX!K23","v":0},{"$f":"CAPEX!L23","v":0}]
["EBS-Sul",{"$f":"CAPEX!F24","v":0},{"$f":"CAPEX!G24","v":7011561.6602349821},{"$f":"CAPEX!H24","v":10517342.49035247},{"$f":"CAPEX!I24","v":0},{"$f":"CAPEX!J24","v":0},{"$f":"CAPEX!K24","v":0},{"$f":"CAPEX!L24","v":0}]
["Adutora da EBS-Sul",{"$f":"CAPEX!F25","v":0},{"$f":"CAPEX!G25","v":84003.451275972417},{"$f":"CAPEX!H25","v":0},{"$f":"CAPEX!I25","v":0},{"$f":"CAPEX!J25","v":0},{"$f":"CAPEX!K25","v":0},{"$f":"CAPEX!L25","v":0}]
["Canal CP3-Sul",{"$f":"CAPEX!F26","v":0},{"$f":"CAPEX!G26","v":2547427.5854191193},{"$f":"CAPEX!H26","v":0},{"$f":"CAPEX!I26","v":0},{"$f":"CAPEX!J26","v":0},{"$f":"CAPEX!K26","v":0},{"$f":"CAPEX!L26","v":0}]
["EBA-9",{"$f":"CAPEX!F27","v":0},{"$f":"CAPEX!G27","v":1735954.5323317498},{"$f":"CAPEX!H27","v":2603931.7984976247},{"$f":"CAPEX!I27","v":0},{"$f":"CAPEX!J27","v":0},{"$f":"CAPEX!K27","v":0},{"$f":"CAPEX!L27","v":0}]
["EBAs 10-11-12",{"$f":"CAPEX!F28","v":0},{"$f":"CAPEX!G28","v":4427354.1742551662},{"$f":"CAPEX!H28","v":6641031.2613827474},{"$f":"CAPEX!I28","v":0},{"$f":"CAPEX!J28","v":0},{"$f":"CAPEX!K28","v":0},{"$f":"CAPEX!L28","v":0}]
["Tomadas empresariais (24)",{"$f":"CAPEX!F29","v":0},{"$f":"CAPEX!G29","v":1202757.9600931664},{"$f":"CAPEX!H29","v":1804136.9401397496},{"$f":"CAPEX!I29","v":0},{"$f":"CAPEX!J29","v":0},{"$f":"CAPEX!K29","v":0},{"$f":"CAPEX!L29","v":0}]
["Tomadas gravitárias (5)",{"$f":"CAPEX!F30","v":0},{"$f":"CAPEX!G30","v":187243.77127984306},{"$f":"CAPEX!H30","v":0},{"$f":"CAPEX!I30","v":0},{"$f":"CAPEX!J30","v":0},{"$f":"CAPEX!K30","v":0},{"$f":"CAPEX!L30","v":0}]
["Adutoras das EBAs / Setores (36,1% de \"L\")",{"$f":"CAPEX!F31","v":0},{"$f":"CAPEX!G31","v":21004552.863146622},{"$f":"CAPEX!H31","v":31506829.294719927},{"$f":"CAPEX!I31","v":0},{"$f":"CAPEX!J31","v":0},{"$f":"CAPEX!K31","v":0},{"$f":"CAPEX!L31","v":0}]
["Estradas dos canais e estradas dos setores",{"$f":"CAPEX!F32","v":0},{"$f":"CAPEX!G32","v":852003.87316281337},{"$f":"CAPEX!H32","v":1278005.80974422},{"$f":"CAPEX!I32","v":0},{"$f":"CAPEX!J32","v":0},{"$f":"CAPEX!K32","v":0},{"$f":"CAPEX!L32","v":0}]
["Drenos  dos canais e drenos nos setores",{"$f":"CAPEX!F33","v":0},{"$f":"CAPEX!G33","v":2561686.2274236036},{"$f":"CAPEX!H33","v":3842529.341135405},{"$f":"CAPEX!I33","v":0},{"$f":"CAPEX!J33","v":0},{"$f":"CAPEX!K33","v":0},{"$f":"CAPEX!L33","v":0}]
["Infraestr. de Suprim. de Energia Elétrica",{"$f":"CAPEX!F34","v":0},{"$f":"CAPEX!G34","v":13108417.557411589},{"$f":"CAPEX!H34","v":19662626.336117383},{"$f":"CAPEX!I34","v":0},{"$f":"CAPEX!J34","v":0},{"$f":"CAPEX!K34","v":0},{"$f":"CAPEX!L34","v":0}]
["Infraestrutura Norte"]
["EBP-Norte (8,37 m³/s)",{"$f":"CAPEX!F36","v":0},{"$f":"CAPEX!G36","v":0},{"$f":"CAPEX!H36","v":19171275.823293079},{"$f":"CAPEX!I36","v":28756913.734939612},{"$f":"CAPEX!J36","v":0},{"$f":"CAPEX!K36","v":0},{"$f":"CAPEX!L36","v":0}]
["Adutora EBP-Norte",{"$f":"CAPEX!F37","v":0},{"$f":"CAPEX!G37","v":0},{"$f":"CAPEX!H37","v":370056.27134608623},{"$f":"CAPEX!I37","v":0},{"$f":"CAPEX!J37","v":0},{"$f":"CAPEX!K37","v":0},{"$f":"CAPEX!L37","v":0}]
["Canal CP-3 Norte (8,37 m³/s) - (SH-1, 2, 3, 4, 5 e 6)",{"$f":"CAPEX!F38","v":0},{"$f":"CAPEX!G38","v":0},{"$f":"CAPEX!H38","v":8232546.4555413323},{"$f":"CAPEX!I38","v":8232546.4555413323},{"$f":"CAPEX!J38","v":0},{"$f":"CAPEX!K38","v":0},{"$f":"CAPEX!L38","v":0}]
["Canal CS2/CP3 Norte (2,24 m³/s) - (SH-7 e 8)",{"$f":"CAPEX!F39","v":0},{"$f":"CAPEX!G39","v":0},{"$f":"CAPEX!H39","v":0},{"$f":"CAPEX!I39","v":0},{"$f":"CAPEX!J39","v":3224018.8364445968},{"$f":"CAPEX!K39","v":0},{"$f":"CAPEX!L39","v":0}]
["Sifões invertidos no CP-3 Norte ",{"$f":"CAPEX!F40","v":0},{"$f":"CAPEX!G40","v":0},{"$f":"CAPEX!H40","v":110973.5622951},{"$f":"CAPEX!I40","v":110973.5622951},{"$f":"CAPEX!J40","v":0},{"$f":"CAPEX!K40","v":0},{"$f":"CAPEX!L40","v":0}]
["Tomadas empresariais (27 no CP-3 e no CS-2)",{"$f":"CAPEX!F41","v":0},{"$f":"CAPEX!G41","v":0},{"$f":"CAPEX!H41","v":845689.19069050765},{"$f":"CAPEX!I41","v":845689.19069050765},{"$f":"CAPEX!J41","v":845689.19069050765},{"$f":"CAPEX!K41","v":845689.19069050765},{"$f":"CAPEX!L41","v":0}]
["Tomadas gravitárias (13 no CP-3 e 3 no CS-2)",{"$f":"CAPEX!F42","v":0},{"$f":"CAPEX!G42","v":0},{"$f":"CAPEX!H42","v":149795.01702387445},{"$f":"CAPEX!I42","v":149795.01702387445},{"$f":"CAPEX!J42","v":149795.01702387445},{"$f":"CAPEX!K42","v":149795.01702387445},{"$f":"CAPEX!L42","v":0}]
["EBAs 1 a 8",{"$f":"CAPEX!F43","v":0},{"$f":"CAPEX!G43","v":0},{"$f":"CAPEX!H43","v":11068385.435637914},{"$f":"CAPEX!I43","v":11068385.435637914},{"$f":"CAPEX!J43","v":3689461.8118793047},{"$f":"CAPEX!K43","v":3689461.8118793047},{"$f":"CAPEX!L43","v":0}]
["Adutoras das EBAs / Setores (63,9% de SAU ) ",{"$f":"CAPEX!F44","v":0},{"$f":"CAPEX!G44","v":0},{"$f":"CAPEX!H44","v":38029344.094044037},{"$f":"CAPEX!I44","v":28877723.264985822},{"$f":"CAPEX!J44","v":15696665.983123349},{"$f":"CAPEX!K44","v":10345776.904042693},{"$f":"CAPEX!L44","v":0}]
["Casa de Comando - Comportas",{"$f":"CAPEX!F45","v":0},{"$f":"CAPEX!G45","v":0},{"$f":"CAPEX!H45","v":37809.828056808154},{"$f":"CAPEX!I45","v":37809.828056808154},{"$f":"CAPEX!J45","v":37809.828056808154},{"$f":"CAPEX!K45","v":37809.828056808154},{"$f":"CAPEX!L45","v":0}]
["Estradas dos canais e estradas dos setores",{"$f":"CAPEX!F46","v":0},{"$f":"CAPEX!G46","v":0},{"$f":"CAPEX!H46","v":3024923.0303788185},{"$f":"CAPEX!I46","v":3024923.0303788185},{"$f":"CAPEX!J46","v":3024923.0303788185},{"$f":"CAPEX!K46","v":3024923.0303788185},{"$f":"CAPEX!L46","v":0}]
["Drenos  dos canais e drenos nos setores",{"$f":"CAPEX!F47","v":0},{"$f":"CAPEX!G47","v":0},{"$f":"CAPEX!H47","v":2422532.3992438139},{"$f":"CAPEX!I47","v":2422532.3992438139},{"$f":"CAPEX!J47","v":2422532.3992438139},{"$f":"CAPEX!K47","v":2422532.3992438139},{"$f":"CAPEX!L47","v":0}]
["Infraestr. de Suprim. de Energia Elétrica",{"$f":"CAPEX!F48","v":0},{"$f":"CAPEX!G48","v":0},{"$f":"CAPEX!H48","v":14564908.397123987},{"$f":"CAPEX!I48","v":14564908.397123987},{"$f":"CAPEX!J48","v":14564908.397123987},{"$f":"CAPEX!K48","v":14564908.397123987},{"$f":"CAPEX!L48","v":0}]
["Total",{"$f":"CAPEX!F49","v":8434968.7663200013},{"$f":"CAPEX!G49","v":76586725.526887476},{"$f":"CAPEX!H49","v":224746774.73719397},{"$f":"CAPEX!I49","v":127112447.60835205},{"$f":"CAPEX!J49","v":68658814.598712653},{"$f":"CAPEX!K49","v":53070363.938906781},{"$f":"CAPEX!L49","v":15819923.967228897}]
[]
["Tabela 8 - Cronograma Físico-Financeiro dos Investimentos on Farm"]
[{"$f":"A82","v":"Discriminação"},{"$f":"CAPEX!I51","v":4},{"$f":"CAPEX!J51","v":5},{"$f":"CAPEX!K51","v":6},{"$f":"CAPEX!L51","v":7},{"$f":"CAPEX!M51","v":8}]
[{"$f":"A84","v":"Ramais móveis e emissores"},{"$f":"CAPEX!I53","v":15525627.583764575},{"$f":"CAPEX!J53","v":11038745.001381602},{"$f":"CAPEX!K53","v":8382311.8945816439},{"$f":"CAPEX!L53","v":4556257.7343188105},{"$f":"CAPEX!M53","v":3003059.7635996738}]
[{"$f":"A85","v":"Rede de distribuição e cavaletes (fornec.)"},{"$f":"CAPEX!I54","v":46576882.751293726},{"$f":"CAPEX!J54","v":33116235.004144814},{"$f":"CAPEX!K54","v":25146935.683744933},{"$f":"CAPEX!L54","v":13668773.202956432},{"$f":"CAPEX!M54","v":9009179.2907990199}]
[{"$f":"A86","v":"Assentam. e montagem dos tubos da rede e cavaletes"},{"$f":"CAPEX!I55","v":9315376.5502587445},{"$f":"CAPEX!J55","v":6623247.0008289618},{"$f":"CAPEX!K55","v":5029387.1367489863},{"$f":"CAPEX!L55","v":2733754.6405912866},{"$f":"CAPEX!M55","v":1801835.858159804}]
["Total",{"$f":"CAPEX!I56","v":71417886.885317042},{"$f":"CAPEX!J56","v":50778227.006355375},{"$f":"CAPEX!K56","v":38558634.71507556},{"$f":"CAPEX!L56","v":20958785.577866528},{"$f":"CAPEX!M56","v":13814074.912558498}]
[]
["Tabela 9 - Cronograma Físico-Financeiro dos Reinvestimentos"]
[{"$f":"A90","v":"Discriminação"},{"$f":"CAPEX!Q58","v":12},{"$f":"CAPEX!R58","v":13},{"$f":"CAPEX!S58","v":14},{"$f":"CAPEX!T58","v":15},{"$f":"CAPEX!U58","v":16},{"$f":"CAPEX!V58","v":17},{"$f":"CAPEX!W58","v":18}]
[{"$f":"A92","v":"Ramais móveis e emissores"},{"$f":"CAPEX!Q60","v":14168667.325882103},{"$f":"CAPEX!R60","v":14168667.325882103},{"$f":"CAPEX!S60","v":14168667.325882103},{"$f":"CAPEX!T60","v":0},{"$f":"CAPEX!U60","v":0},{"$f":"CAPEX!V60","v":14168667.325882103},{"$f":"CAPEX!W60","v":14168667.325882103}]
[{"$f":"A93","v":"Rede de distribuição e cavaletes"},{"$f":"CAPEX!Q61","v":0},{"$f":"CAPEX!R61","v":0},{"$f":"CAPEX!S61","v":0},{"$f":"CAPEX!T61","v":51007202.373175569},{"$f":"CAPEX!U61","v":51007202.373175569},{"$f":"CAPEX!V61","v":51007202.373175569},{"$f":"CAPEX!W61","v":0}]
[{"$f":"A94","v":"Equipamentos EBPs, EBS, EBAs - Redes e Equip. Elétricos"},{"$f":"CAPEX!Q62","v":0},{"$f":"CAPEX!R62","v":0},{"$f":"CAPEX!S62","v":0},{"$f":"CAPEX!T62","v":0},{"$f":"CAPEX!U62","v":0},{"$f":"CAPEX!V62","v":0},{"$f":"CAPEX!W62","v":0}]
[{"$f":"A95","v":"Equipamentos Adutoras, Canais, Sifões Inv. e Redes Tubos Setores"},{"$f":"CAPEX!Q63","v":0},{"$f":"CAPEX!R63","v":0},{"$f":"CAPEX!S63","v":0},{"$f":"CAPEX!T63","v":0},{"$f":"CAPEX!U63","v":0},{"$f":"CAPEX!V63","v":0},{"$f":"CAPEX!W63","v":0}]
["Total",{"$f":"CAPEX!Q64","v":14168667.325882103},{"$f":"CAPEX!R64","v":14168667.325882103},{"$f":"CAPEX!S64","v":14168667.325882103},{"$f":"CAPEX!T64","v":51007202.373175569},{"$f":"CAPEX!U64","v":51007202.373175569},{"$f":"CAPEX!V64","v":65175869.699057668},{"$f":"CAPEX!W64","v":14168667.325882103}]
[{"$f":"A156","v":"Discriminação"},{"$f":"CAPEX!X58","v":19},{"$f":"CAPEX!Y58","v":20},{"$f":"CAPEX!Z58","v":21},{"$f":"CAPEX!AA58","v":22},{"$f":"CAPEX!AB58","v":23},{"$f":"CAPEX!AC58","v":24},{"$f":"CAPEX!AF58","v":27}]
[{"$f":"A157","v":"Ramais móveis e emissores"},{"$f":"CAPEX!X60","v":14168667.325882103},{"$f":"CAPEX!Y60","v":0},{"$f":"CAPEX!Z60","v":0},{"$f":"CAPEX!AA60","v":14168667.325882103},{"$f":"CAPEX!AB60","v":14168667.325882103},{"$f":"CAPEX!AC60","v":14168667.325882103},{"$f":"CAPEX!AF60","v":14168667.325882103}]
["Rede de distribuição e cavaletes",{"$f":"CAPEX!X61","v":0},{"$f":"CAPEX!Y61","v":0},{"$f":"CAPEX!Z61","v":0},{"$f":"CAPEX!AA61","v":0},{"$f":"CAPEX!AB61","v":0},{"$f":"CAPEX!AC61","v":0},{"$f":"CAPEX!AF61","v":0}]
["Equipamentos EBPs, EBS, EBAs - Redes e Equip. Elétricos",{"$f":"CAPEX!X62","v":0},{"$f":"CAPEX!Y62","v":81108988.186286733},{"$f":"CAPEX!Z62","v":81108988.186286733},{"$f":"CAPEX!AA62","v":81108988.186286733},{"$f":"CAPEX!AB62","v":0},{"$f":"CAPEX!AC62","v":0},{"$f":"CAPEX!AF62","v":0}]
["Equipamentos Adutoras, Canais, Sifões Inv. e Redes Tubos Setores",{"$f":"CAPEX!X63","v":0},{"$f":"CAPEX!Y63","v":0},{"$f":"CAPEX!Z63","v":0},{"$f":"CAPEX!AA63","v":0},{"$f":"CAPEX!AB63","v":0},{"$f":"CAPEX!AC63","v":0},{"$f":"CAPEX!AF63","v":0}]
["Total",{"$f":"CAPEX!X64","v":14168667.325882103},{"$f":"CAPEX!Y64","v":81108988.186286733},{"$f":"CAPEX!Z64","v":81108988.186286733},{"$f":"CAPEX!AA64","v":95277655.51216884},{"$f":"CAPEX!AB64","v":14168667.325882103},{"$f":"CAPEX!AC64","v":14168667.325882103},{"$f":"CAPEX!AF64","v":14168667.325882103}]
[{"$f":"A162","v":"Discriminação"},{"$f":"CAPEX!AG58","v":28},{"$f":"CAPEX!AH58","v":29},{"$f":"CAPEX!AI58","v":30},{"$f":"CAPEX!AJ58","v":31},{"$f":"CAPEX!AK58","v":32},{"$f":"CAPEX!AL58","v":33},{"$f":"CAPEX!AM58","v":34}]
["Ramais móveis e emissores",{"$f":"CAPEX!AG60","v":14168667.325882103},{"$f":"CAPEX!AH60","v":14168667.325882103},{"$f":"CAPEX!AI60","v":0},{"$f":"CAPEX!AJ60","v":0},{"$f":"CAPEX!AK60","v":14168667.325882103},{"$f":"CAPEX!AL60","v":14168667.325882103},{"$f":"CAPEX!AM60","v":14168667.325882103}]
["Rede de distribuição e cavaletes",{"$f":"CAPEX!AG61","v":0},{"$f":"CAPEX!AH61","v":0},{"$f":"CAPEX!AI61","v":51007202.373175569},{"$f":"CAPEX!AJ61","v":51007202.373175569},{"$f":"CAPEX!AK61","v":51007202.373175569},{"$f":"CAPEX!AL61","v":0},{"$f":"CAPEX!AM61","v":0}]
["Equipamentos EBPs, EBS, EBAs - Redes e Equip. Elétricos",{"$f":"CAPEX!AG62","v":0},{"$f":"CAPEX!AH62","v":0},{"$f":"CAPEX!AI62","v":0},{"$f":"CAPEX!AJ62","v":0},{"$f":"CAPEX!AK62","v":0},{"$f":"CAPEX!AL62","v":0},{"$f":"CAPEX!AM62","v":0}]
["Equipamentos Adutoras, Canais, Sifões Inv. e Redes Tubos Setores",{"$f":"CAPEX!AG63","v":0},{"$f":"CAPEX!AH63","v":0},{"$f":"CAPEX!AI63","v":77999162.910938621},{"$f":"CAPEX!AJ63","v":77999162.910938621},{"$f":"CAPEX!AK63","v":77999162.910938621},{"$f":"CAPEX!AL63","v":0},{"$f":"CAPEX!AM63","v":0}]
["Total",{"$f":"CAPEX!AG64","v":14168667.325882103},{"$f":"CAPEX!AH64","v":14168667.325882103},{"$f":"CAPEX!AI64","v":129006365.28411418},{"$f":"CAPEX!AJ64","v":129006365.28411418},{"$f":"CAPEX!AK64","v":143175032.60999629},{"$f":"CAPEX!AL64","v":14168667.325882103},{"$f":"CAPEX!AM64","v":14168667.325882103}]
[]
["Tabela 10 - Cronograma Físico-Financeiro dos Investimentos - Resumo"]
[{"$f":"A99","v":"Discriminação"},{"$f":"CAPEX!F66","v":1},{"$f":"CAPEX!G66","v":2},{"$f":"CAPEX!H66","v":3},{"$f":"CAPEX!I66","v":4},{"$f":"CAPEX!J66","v":5},{"$f":"CAPEX!K66","v":6},{"$f":"CAPEX!L66","v":7}]
["Infraestrutura de Irrigação e de Apoio",{"$f":"CAPEX!F67","v":8434968.7663200013},{"$f":"CAPEX!G67","v":76586725.526887476},{"$f":"CAPEX!H67","v":224746774.73719397},{"$f":"CAPEX!I67","v":127112447.60835205},{"$f":"CAPEX!J67","v":68658814.598712653},{"$f":"CAPEX!K67","v":53070363.938906781},{"$f":"CAPEX!L67","v":15819923.967228897}]
["Investimento on farm",{"$f":"CAPEX!F68","v":0},{"$f":"CAPEX!G68","v":0},{"$f":"CAPEX!H68","v":0},{"$f":"CAPEX!I68","v":71417886.885317042},{"$f":"CAPEX!J68","v":50778227.006355375},{"$f":"CAPEX!K68","v":38558634.71507556},{"$f":"CAPEX!L68","v":20958785.577866528}]
["Reinvestimento",{"$f":"CAPEX!F69","v":0},{"$f":"CAPEX!G69","v":0},{"$f":"CAPEX!H69","v":0},{"$f":"CAPEX!I69","v":0},{"$f":"CAPEX!J69","v":0},{"$f":"CAPEX!K69","v":0},{"$f":"CAPEX!L69","v":0}]
["Investimento Total",{"$f":"CAPEX!F70","v":8434968.7663200013},{"$f":"CAPEX!G70","v":76586725.526887476},{"$f":"CAPEX!H70","v":224746774.73719397},{"$f":"CAPEX!I70","v":198530334.49366909},{"$f":"CAPEX!J70","v":119437041.60506803},{"$f":"CAPEX!K70","v":91628998.653982341},{"$f":"CAPEX!L70","v":36778709.545095429}]
[{"$f":"A176","v":"Discriminação"},{"$f":"CAPEX!M66","v":8},{"$f":"CAPEX!Q66","v":12},{"$f":"CAPEX!R66","v":13},{"$f":"CAPEX!S66","v":14},{"$f":"CAPEX!T66","v":15},{"$f":"CAPEX!U66","v":16},{"$f":"CAPEX!V66","v":17}]
[{"$f":"A177","v":"Infraestrutura de Irrigação e de Apoio"},{"$f":"CAPEX!M67","v":0},{"$f":"CAPEX!Q67","v":0},{"$f":"CAPEX!R67","v":0},{"$f":"CAPEX!S67","v":0},{"$f":"CAPEX!T67","v":0},{"$f":"CAPEX!U67","v":0},{"$f":"CAPEX!V67","v":0}]
["Investimento on farm",{"$f":"CAPEX!M68","v":13814074.912558498},{"$f":"CAPEX!Q68","v":0},{"$f":"CAPEX!R68","v":0},{"$f":"CAPEX!S68","v":0},{"$f":"CAPEX!T68","v":0},{"$f":"CAPEX!U68","v":0},{"$f":"CAPEX!V68","v":0}]
["Reinvestimento",{"$f":"CAPEX!M69","v":0},{"$f":"CAPEX!Q69","v":14168667.325882103},{"$f":"CAPEX!R69","v":14168667.325882103},{"$f":"CAPEX!S69","v":14168667.325882103},{"$f":"CAPEX!T69","v":51007202.373175569},{"$f":"CAPEX!U69","v":51007202.373175569},{"$f":"CAPEX!V69","v":65175869.699057668}]
["Investimento Total",{"$f":"CAPEX!M70","v":13814074.912558498},{"$f":"CAPEX!Q70","v":14168667.325882103},{"$f":"CAPEX!R70","v":14168667.325882103},{"$f":"CAPEX!S70","v":14168667.325882103},{"$f":"CAPEX!T70","v":51007202.373175569},{"$f":"CAPEX!U70","v":51007202.373175569},{"$f":"CAPEX!V70","v":65175869.699057668}]
[{"$f":"A181","v":"Discriminação"},{"$f":"CAPEX!W66","v":18},{"$f":"CAPEX!X66","v":19},{"$f":"CAPEX!Y66","v":20},{"$f":"CAPEX!Z66","v":21},{"$f":"CAPEX!AA66","v":22},{"$f":"CAPEX!AB66","v":23},{"$f":"CAPEX!AC66","v":24}]
["Infraestrutura de Irrigação e de Apoio",{"$f":"CAPEX!W67","v":0},{"$f":"CAPEX!X67","v":0},{"$f":"CAPEX!Y67","v":0},{"$f":"CAPEX!Z67","v":0},{"$f":"CAPEX!AA67","v":0},{"$f":"CAPEX!AB67","v":0},{"$f":"CAPEX!AC67","v":0}]
["Investimento on farm",{"$f":"CAPEX!W68","v":0},{"$f":"CAPEX!X68","v":0},{"$f":"CAPEX!Y68","v":0},{"$f":"CAPEX!Z68","v":0},{"$f":"CAPEX!AA68","v":0},{"$f":"CAPEX!AB68","v":0},{"$f":"CAPEX!AC68","v":0}]
["Reinvestimento",{"$f":"CAPEX!W69","v":14168667.325882103},{"$f":"CAPEX!X69","v":14168667.325882103},{"$f":"CAPEX!Y69","v":81108988.186286733},{"$f":"CAPEX!Z69","v":81108988.186286733},{"$f":"CAPEX!AA69","v":95277655.51216884},{"$f":"CAPEX!AB69","v":14168667.325882103},{"$f":"CAPEX!AC69","v":14168667.325882103}]
["Investimento Total",{"$f":"CAPEX!W70","v":14168667.325882103},{"$f":"CAPEX!X70","v":14168667.325882103},{"$f":"CAPEX!Y70","v":81108988.186286733},{"$f":"CAPEX!Z70","v":81108988.186286733},{"$f":"CAPEX!AA70","v":95277655.51216884},{"$f":"CAPEX!AB70","v":14168667.325882103},{"$f":"CAPEX!AC70","v":14168667.325882103}]
[{"$f":"A186","v":"Discriminação"},{"$f":"CAPEX!AF66","v":27},{"$f":"CAPEX!AG66","v":28},{"$f":"CAPEX!AH66","v":29},{"$f":"CAPEX!AI66","v":30},{"$f":"CAPEX!AJ66","v":31},{"$f":"CAPEX!AK66","v":32},{"$f":"CAPEX!AL66","v":33},{"$f":"CAPEX!AM66","v":34}]
["Infraestrutura de Irrigação e de Apoio",{"$f":"CAPEX!AF67","v":0},{"$f":"CAPEX!AG67","v":0},{"$f":"CAPEX!AH67","v":0},{"$f":"CAPEX!AI67","v":0},{"$f":"CAPEX!AJ67","v":0},{"$f":"CAPEX!AK67","v":0},{"$f":"CAPEX!AL67","v":0},{"$f":"CAPEX!AM67","v":0}]
["Investimento on farm",{"$f":"CAPEX!AF68","v":0},{"$f":"CAPEX!AG68","v":0},{"$f":"CAPEX!AH68","v":0},{"$f":"CAPEX!AI68","v":0},{"$f":"CAPEX!AJ68","v":0},{"$f":"CAPEX!AK68","v":0},{"$f":"CAPEX!AL68","v":0},{"$f":"CAPEX!AM68","v":0}]
["Reinvestimento",{"$f":"CAPEX!AF69","v":14168667.325882103},{"$f":"CAPEX!AG69","v":14168667.325882103},{"$f":"CAPEX!AH69","v":14168667.325882103},{"$f":"CAPEX!AI69","v":129006365.28411418},{"$f":"CAPEX!AJ69","v":129006365.28411418},{"$f":"CAPEX!AK69","v":143175032.60999629},{"$f":"CAPEX!AL69","v":14168667.325882103},{"$f":"CAPEX!AM69","v":14168667.325882103}]
["Investimento Total",{"$f":"CAPEX!AF70","v":14168667.325882103},{"$f":"CAPEX!AG70","v":14168667.325882103},{"$f":"CAPEX!AH70","v":14168667.325882103},{"$f":"CAPEX!AI70","v":129006365.28411418},{"$f":"CAPEX!AJ70","v":129006365.28411418},{"$f":"CAPEX!AK70","v":143175032.60999629},{"$f":"CAPEX!AL70","v":14168667.325882103},{"$f":"CAPEX!AM70","v":14168667.325882103}]
[]
["Tabela 11 - Depreciação dos Investimentos"]
[1,{"$f":"HLOOKUP(A198,Depreciação!$F$4:$AN$27,24,FALSE)","v":240999.1076091429},19,{"$f":"HLOOKUP(C198,Depreciação!$F$4:$AN$27,24,FALSE)","v":46781661.571697064}]
[2,{"$f":"HLOOKUP(A199,Depreciação!$F$4:$AN$27,24,FALSE)","v":3244990.0019525508},20,{"$f":"HLOOKUP(C199,Depreciação!$F$4:$AN$27,24,FALSE)","v":48187812.18067982}]
[3,{"$f":"HLOOKUP(A200,Depreciação!$F$4:$AN$27,24,FALSE)","v":11963662.357377291},21,{"$f":"HLOOKUP(C200,Depreciação!$F$4:$AN$27,24,FALSE)","v":50231506.735294558}]
[4,{"$f":"HLOOKUP(A201,Depreciação!$F$4:$AN$27,24,FALSE)","v":23662999.276224997},22,{"$f":"HLOOKUP(C201,Depreciação!$F$4:$AN$27,24,FALSE)","v":51658737.844759047}]
[5,{"$f":"HLOOKUP(A202,Depreciação!$F$4:$AN$27,24,FALSE)","v":30915484.381207574},23,{"$f":"HLOOKUP(C202,Depreciação!$F$4:$AN$27,24,FALSE)","v":46949119.62505427}]
[6,{"$f":"HLOOKUP(A203,Depreciação!$F$4:$AN$27,24,FALSE)","v":36528274.190446198},24,{"$f":"HLOOKUP(C203,Depreciação!$F$4:$AN$27,24,FALSE)","v":44783028.518451087}]
[7,{"$f":"HLOOKUP(A204,Depreciação!$F$4:$AN$27,24,FALSE)","v":38985025.421181582},25,{"$f":"HLOOKUP(C204,Depreciação!$F$4:$AN$27,24,FALSE)","v":44054783.098594882}]
[8,{"$f":"HLOOKUP(A205,Depreciação!$F$4:$AN$27,24,FALSE)","v":40306371.71716544},26,{"$f":"HLOOKUP(C205,Depreciação!$F$4:$AN$27,24,FALSE)","v":43326537.678738683}]
[9,{"$f":"HLOOKUP(A206,Depreciação!$F$4:$AN$27,24,FALSE)","v":37201246.200412527},27,{"$f":"HLOOKUP(C206,Depreciação!$F$4:$AN$27,24,FALSE)","v":43149443.511768483}]
[10,{"$f":"HLOOKUP(A207,Depreciação!$F$4:$AN$27,24,FALSE)","v":34993497.200136207},28,{"$f":"HLOOKUP(C207,Depreciação!$F$4:$AN$27,24,FALSE)","v":42441066.843887657}]
[11,{"$f":"HLOOKUP(A208,Depreciação!$F$4:$AN$27,24,FALSE)","v":33317034.821219876},29,{"$f":"HLOOKUP(C208,Depreciação!$F$4:$AN$27,24,FALSE)","v":41998331.426462136}]
[12,{"$f":"HLOOKUP(A209,Depreciação!$F$4:$AN$27,24,FALSE)","v":35239516.739532538},30,{"$f":"HLOOKUP(C209,Depreciação!$F$4:$AN$27,24,FALSE)","v":44450725.051018253}]
[13,{"$f":"HLOOKUP(A210,Depreciação!$F$4:$AN$27,24,FALSE)","v":37472638.251989022},31,{"$f":"HLOOKUP(C210,Depreciação!$F$4:$AN$27,24,FALSE)","v":46903118.67557437}]
[14,{"$f":"HLOOKUP(A211,Depreciação!$F$4:$AN$27,24,FALSE)","v":40306371.717165448},32,{"$f":"HLOOKUP(C211,Depreciação!$F$4:$AN$27,24,FALSE)","v":48750837.282359719}]
[15,{"$f":"HLOOKUP(A212,Depreciação!$F$4:$AN$27,24,FALSE)","v":43706851.875377148},33,{"$f":"HLOOKUP(C212,Depreciação!$F$4:$AN$27,24,FALSE)","v":46052890.706909537}]
[16,{"$f":"HLOOKUP(A213,Depreciação!$F$4:$AN$27,24,FALSE)","v":47107332.033588856},34,{"$f":"HLOOKUP(C213,Depreciação!$F$4:$AN$27,24,FALSE)","v":44782698.909301482}]
[17,{"$f":"HLOOKUP(A214,Depreciação!$F$4:$AN$27,24,FALSE)","v":50507812.191800565},35,{"$f":"HLOOKUP(C214,Depreciação!$F$4:$AN$27,24,FALSE)","v":44226293.902940229}]
[18,{"$f":"HLOOKUP(A215,Depreciação!$F$4:$AN$27,24,FALSE)","v":50507812.191800565}]
[]
["Tabela 12 - Opex"]
[null,"Média Anual","Total (35 Anos)"]
[{"$f":"'FC Projeto'!B25","v":"Despesas Agrícolas"},{"$f":"-'FC Projeto'!C25/35","v":220921.7917246591},{"$f":"B219*35","v":7732262.7103630686}]
[{"$f":"'FC Projeto'!B26","v":"Energia"},{"$f":"-'FC Projeto'!C26/35","v":18088.002039082403},633080.07136788405]
[{"$f":"'FC Projeto'!B27","v":"Manutenção de Equipamentos"},{"$f":"-'FC Projeto'!C27/35","v":4153.589998974081},145375.64996409282]
[{"$f":"'FC Projeto'!B28","v":"Manutenção de Obras Civis"},{"$f":"-'FC Projeto'!C28/35","v":2570.9707821977963},89983.977376922878]
[{"$f":"'FC Projeto'!B29","v":"Despesas de Pessoal"},{"$f":"-'FC Projeto'!C29/35","v":3342.6795739650424},116993.78508877648]
["Meio Ambiente",{"$f":"-'FC Projeto'!C30/35","v":755.50276718956036},26442.596851634611]
[{"$f":"'FC Projeto'!B31","v":"Outras Despesas"},{"$f":"-'FC Projeto'!C31/35","v":886.69729271423637},31034.405244998274]
[{"$f":"'FC Projeto'!B24","v":"Custos e Despesas Operacionais"},{"$f":"-'FC Projeto'!C24/35","v":260124.02200411184},{"$f":"B226*35","v":9104340.770143915}]
[]
["Tabela 13 - Seguros e Garantias"]
[{"$f":"'Painel de Controle'!F22","v":"Seguros / Garantias"},{"$f":"'Painel de Controle'!G22","v":"Parâmetros"}]
[{"$f":"'Painel de Controle'!F23","v":"Garantia de Execução"},{"$f":"'Painel de Controle'!G23","v":0}]
[{"$f":"'Painel de Controle'!F24","v":"CAPEX implantação IUC"},{"$f":"'Painel de Controle'!G24","v":574430.01914360188}]
[{"$f":"'Painel de Controle'!F25","v":"Valor IUC compartilhada 1a Etapa"},{"$f":"'Painel de Controle'!G25","v":240268.92624320227}]
[{"$f":"'Painel de Controle'!F26","v":"% Cobertura"},{"$f":"'Painel de Controle'!G26","v":0.05}]
[{"$f":"'Painel de Controle'!F27","v":"Prêmio"},{"$f":"'Painel de Controle'!G27","v":2.5000000000000001E-3}]
[{"$f":"'Painel de Controle'!F28","v":"IOF"},{"$f":"'Painel de Controle'!G28","v":7.3800000000000004E-2}]
[{"$f":"'Painel de Controle'!F29","v":"Responsabilidade civil"},{"$f":"'Painel de Controle'!G29","v":0}]
[{"$f":"'Painel de Controle'!F30","v":"Opex Médio"},{"$f":"'Painel de Controle'!G30","v":250719.23417878221}]
[{"$f":"'Painel de Controle'!F31","v":"% Cobertura"},{"$f":"'Painel de Controle'!G31","v":0.1}]
[{"$f":"'Painel de Controle'!F32","v":"Prêmio"},{"$f":"'Painel de Controle'!G32","v":2E-3}]
[{"$f":"'Painel de Controle'!F33","v":"IOF"},{"$f":"'Painel de Controle'!G33","v":7.3800000000000004E-2}]
[{"$f":"'Painel de Controle'!F34","v":"Risco de Engenharia"},{"$f":"'Painel de Controle'!G34","v":0}]
[{"$f":"'Painel de Controle'!F35","v":"% Cobertura (CAPEX anual)"},{"$f":"'Painel de Controle'!G35","v":0.15}]
[{"$f":"'Painel de Controle'!F36","v":"Prêmio"},{"$f":"'Painel de Controle'!G36","v":2E-3}]
[]
["Tabela 14 - Opex Total - Resumo"]
[1,{"$f":"-HLOOKUP(A246,'FC Projeto'!$B$12:$AL$24,13,FALSE)*1000","v":39916808.241741508},19,{"$f":"-HLOOKUP(C246,'FC Projeto'!$B$12:$AL$24,13,FALSE)*1000","v":285115003.88388795}]
[2,{"$f":"-HLOOKUP(A247,'FC Projeto'!$B$12:$AL$24,13,FALSE)*1000","v":1002628.6387603038},20,{"$f":"-HLOOKUP(C247,'FC Projeto'!$B$12:$AL$24,13,FALSE)*1000","v":285158132.19381189}]
[3,{"$f":"-HLOOKUP(A248,'FC Projeto'!$B$12:$AL$24,13,FALSE)*1000","v":3096334.2350681662},21,{"$f":"-HLOOKUP(C248,'FC Projeto'!$B$12:$AL$24,13,FALSE)*1000","v":285411187.14417189}]
[4,{"$f":"-HLOOKUP(A249,'FC Projeto'!$B$12:$AL$24,13,FALSE)*1000","v":106304883.10741444},22,{"$f":"-HLOOKUP(C249,'FC Projeto'!$B$12:$AL$24,13,FALSE)*1000","v":285167260.78279662}]
[5,{"$f":"-HLOOKUP(A250,'FC Projeto'!$B$12:$AL$24,13,FALSE)*1000","v":263909260.69504952},23,{"$f":"-HLOOKUP(C250,'FC Projeto'!$B$12:$AL$24,13,FALSE)*1000","v":285115003.88388795}]
[6,{"$f":"-HLOOKUP(A251,'FC Projeto'!$B$12:$AL$24,13,FALSE)*1000","v":239859219.64384967},24,{"$f":"-HLOOKUP(C251,'FC Projeto'!$B$12:$AL$24,13,FALSE)*1000","v":285115003.88388795}]
[7,{"$f":"-HLOOKUP(A252,'FC Projeto'!$B$12:$AL$24,13,FALSE)*1000","v":270269040.30863529},25,{"$f":"-HLOOKUP(C252,'FC Projeto'!$B$12:$AL$24,13,FALSE)*1000","v":285358930.24215186}]
[8,{"$f":"-HLOOKUP(A253,'FC Projeto'!$B$12:$AL$24,13,FALSE)*1000","v":293259846.01201415},26,{"$f":"-HLOOKUP(C253,'FC Projeto'!$B$12:$AL$24,13,FALSE)*1000","v":285105875.29179186}]
[9,{"$f":"-HLOOKUP(A254,'FC Projeto'!$B$12:$AL$24,13,FALSE)*1000","v":467981994.1473158},27,{"$f":"-HLOOKUP(C254,'FC Projeto'!$B$12:$AL$24,13,FALSE)*1000","v":285115003.88077658}]
[10,{"$f":"-HLOOKUP(A255,'FC Projeto'!$B$12:$AL$24,13,FALSE)*1000","v":286838681.44596326},28,{"$f":"-HLOOKUP(C255,'FC Projeto'!$B$12:$AL$24,13,FALSE)*1000","v":285115003.88077658}]
[11,{"$f":"-HLOOKUP(A256,'FC Projeto'!$B$12:$AL$24,13,FALSE)*1000","v":286153487.63089323},29,{"$f":"-HLOOKUP(C256,'FC Projeto'!$B$12:$AL$24,13,FALSE)*1000","v":285368058.83113658}]
[12,{"$f":"-HLOOKUP(A257,'FC Projeto'!$B$12:$AL$24,13,FALSE)*1000","v":286162616.21987796},30,{"$f":"-HLOOKUP(C257,'FC Projeto'!$B$12:$AL$24,13,FALSE)*1000","v":285188991.51281708}]
[13,{"$f":"-HLOOKUP(A258,'FC Projeto'!$B$12:$AL$24,13,FALSE)*1000","v":285368058.83424801},31,{"$f":"-HLOOKUP(C258,'FC Projeto'!$B$12:$AL$24,13,FALSE)*1000","v":285188991.51281708}]
[14,{"$f":"-HLOOKUP(A259,'FC Projeto'!$B$12:$AL$24,13,FALSE)*1000","v":285115003.88388795},32,{"$f":"-HLOOKUP(C259,'FC Projeto'!$B$12:$AL$24,13,FALSE)*1000","v":285198120.10180181}]
[15,{"$f":"-HLOOKUP(A260,'FC Projeto'!$B$12:$AL$24,13,FALSE)*1000","v":285138738.21524829},33,{"$f":"-HLOOKUP(C260,'FC Projeto'!$B$12:$AL$24,13,FALSE)*1000","v":285368058.83113658}]
[16,{"$f":"-HLOOKUP(A261,'FC Projeto'!$B$12:$AL$24,13,FALSE)*1000","v":285138738.21524829},34,{"$f":"-HLOOKUP(C261,'FC Projeto'!$B$12:$AL$24,13,FALSE)*1000","v":285115003.88077658}]
[17,{"$f":"-HLOOKUP(A262,'FC Projeto'!$B$12:$AL$24,13,FALSE)*1000","v":285400921.75459301},35,{"$f":"-HLOOKUP(C262,'FC Projeto'!$B$12:$AL$24,13,FALSE)*1000","v":285105875.29179186}]
[18,{"$f":"-HLOOKUP(A263,'FC Projeto'!$B$12:$AL$24,13,FALSE)*1000","v":285115003.88388795},"Total",{"$f":"SUM(D246:D262)+SUM(B246:B263)","v":9104340770.1439152}]
[]
["Tabela 15 - Opex Total (valores em R$ 1.000)"]
[null,"Despesas Agrícolas","Energia","Manutenção de Equipamentos","Manutenção de Obras Civis","Despesas de Pessoal","Meio Ambiente","Outras Despesas","Outorga da Terra","Seguros e Garantias","Garantia de Execução","Seguro de Responsabilidade Civil","Seguro de Engenharia","Total"]
[1,{"$f":"-HLOOKUP($A267,'FC Projeto'!$B$12:$AL$36,14,FALSE)","v":0},{"$f":"-HLOOKUP($A267,'FC Projeto'!$B$12:$AL$36,15,FALSE)","v":0},{"$f":"-HLOOKUP($A267,'FC Projeto'!$B$12:$AL$36,16,FALSE)","v":0},{"$f":"-HLOOKUP($A267,'FC Projeto'!$B$12:$AL$36,17,FALSE)","v":0},{"$f":"-HLOOKUP($A267,'FC Projeto'!$B$12:$AL$36,18,FALSE)","v":0},{"$f":"-HLOOKUP($A267,'FC Projeto'!$B$12:$AL$36,19,FALSE)","v":0},{"$f":"-HLOOKUP($A267,'FC Projeto'!$B$12:$AL$36,20,FALSE)","v":0},{"$f":"-HLOOKUP($A267,'FC Projeto'!$B$12:$AL$36,21,FALSE)","v":39649.479095961171},{"$f":"-HLOOKUP($A267,'FC Projeto'!$B$12:$AL$36,22,FALSE)","v":133.66457289016759},{"$f":"-HLOOKUP($A267,'FC Projeto'!$B$12:$AL$36,23,FALSE)","v":77.102869319549981},{"$f":"-HLOOKUP($A267,'FC Projeto'!$B$12:$AL$36,24,FALSE)","v":53.844462732235272},{"$f":"-HLOOKUP($A267,'FC Projeto'!$B$12:$AL$36,25,FALSE)","v":2.7172408383823257},{"$f":"SUM(B267:M267)","v":39916.808241741506}]
[2,{"$f":"-HLOOKUP($A268,'FC Projeto'!$B$12:$AL$36,14,FALSE)","v":0},{"$f":"-HLOOKUP($A268,'FC Projeto'!$B$12:$AL$36,15,FALSE)","v":0},{"$f":"-HLOOKUP($A268,'FC Projeto'!$B$12:$AL$36,16,FALSE)","v":0},{"$f":"-HLOOKUP($A268,'FC Projeto'!$B$12:$AL$36,17,FALSE)","v":0},{"$f":"-HLOOKUP($A268,'FC Projeto'!$B$12:$AL$36,18,FALSE)","v":546.43924474541245},{"$f":"-HLOOKUP($A268,'FC Projeto'!$B$12:$AL$36,19,FALSE)","v":0},{"$f":"-HLOOKUP($A268,'FC Projeto'!$B$12:$AL$36,20,FALSE)","v":144.95143438885796},{"$f":"-HLOOKUP($A268,'FC Projeto'!$B$12:$AL$36,21,FALSE)","v":0},{"$f":"-HLOOKUP($A268,'FC Projeto'!$B$12:$AL$36,22,FALSE)","v":155.61897981301678},{"$f":"-HLOOKUP($A268,'FC Projeto'!$B$12:$AL$36,23,FALSE)","v":77.102869319549981},{"$f":"-HLOOKUP($A268,'FC Projeto'!$B$12:$AL$36,24,FALSE)","v":53.844462732235272},{"$f":"-HLOOKUP($A268,'FC Projeto'!$B$12:$AL$36,25,FALSE)","v":24.671647761231529},1002.6286387603038]
[3,{"$f":"-HLOOKUP($A269,'FC Projeto'!$B$12:$AL$36,14,FALSE)","v":0},{"$f":"-HLOOKUP($A269,'FC Projeto'!$B$12:$AL$36,15,FALSE)","v":0},{"$f":"-HLOOKUP($A269,'FC Projeto'!$B$12:$AL$36,16,FALSE)","v":0},{"$f":"-HLOOKUP($A269,'FC Projeto'!$B$12:$AL$36,17,FALSE)","v":0},{"$f":"-HLOOKUP($A269,'FC Projeto'!$B$12:$AL$36,18,FALSE)","v":2125.7513892051275},{"$f":"-HLOOKUP($A269,'FC Projeto'!$B$12:$AL$36,19,FALSE)","v":0},{"$f":"-HLOOKUP($A269,'FC Projeto'!$B$12:$AL$36,20,FALSE)","v":563.88832973178876},{"$f":"-HLOOKUP($A269,'FC Projeto'!$B$12:$AL$36,21,FALSE)","v":0},{"$f":"-HLOOKUP($A269,'FC Projeto'!$B$12:$AL$36,22,FALSE)","v":203.34725806562494},{"$f":"-HLOOKUP($A269,'FC Projeto'!$B$12:$AL$36,23,FALSE)","v":77.102869319549981},{"$f":"-HLOOKUP($A269,'FC Projeto'!$B$12:$AL$36,24,FALSE)","v":53.844462732235272},{"$f":"-HLOOKUP($A269,'FC Projeto'!$B$12:$AL$36,25,FALSE)","v":72.399926013839675},3096.334235068166]
[4,{"$f":"-HLOOKUP($A270,'FC Projeto'!$B$12:$AL$36,14,FALSE)","v":91870.762568283273},{"$f":"-HLOOKUP($A270,'FC Projeto'!$B$12:$AL$36,15,FALSE)","v":7521.9313029031482},{"$f":"-HLOOKUP($A270,'FC Projeto'!$B$12:$AL$36,16,FALSE)","v":1727.2785886026763},{"$f":"-HLOOKUP($A270,'FC Projeto'!$B$12:$AL$36,17,FALSE)","v":1069.1432676576605},{"$f":"-HLOOKUP($A270,'FC Projeto'!$B$12:$AL$36,18,FALSE)","v":2944.8078960032044},{"$f":"-HLOOKUP($A270,'FC Projeto'!$B$12:$AL$36,19,FALSE)","v":0},{"$f":"-HLOOKUP($A270,'FC Projeto'!$B$12:$AL$36,20,FALSE)","v":781.1556959533018},{"$f":"-HLOOKUP($A270,'FC Projeto'!$B$12:$AL$36,21,FALSE)","v":0},{"$f":"-HLOOKUP($A270,'FC Projeto'!$B$12:$AL$36,22,FALSE)","v":194.90189400557583},{"$f":"-HLOOKUP($A270,'FC Projeto'!$B$12:$AL$36,23,FALSE)","v":77.102869319549981},{"$f":"-HLOOKUP($A270,'FC Projeto'!$B$12:$AL$36,24,FALSE)","v":53.844462732235272},{"$f":"-HLOOKUP($A270,'FC Projeto'!$B$12:$AL$36,25,FALSE)","v":63.954561953790567},106304.88310741444]
[5,{"$f":"-HLOOKUP($A271,'FC Projeto'!$B$12:$AL$36,14,FALSE)","v":157191.01552438631},{"$f":"-HLOOKUP($A271,'FC Projeto'!$B$12:$AL$36,15,FALSE)","v":12870.035984834762},{"$f":"-HLOOKUP($A271,'FC Projeto'!$B$12:$AL$36,16,FALSE)","v":2955.3763117420585},{"$f":"-HLOOKUP($A271,'FC Projeto'!$B$12:$AL$36,17,FALSE)","v":1829.3057691695706},{"$f":"-HLOOKUP($A271,'FC Projeto'!$B$12:$AL$36,18,FALSE)","v":3309.3279150784056},{"$f":"-HLOOKUP($A271,'FC Projeto'!$B$12:$AL$36,19,FALSE)","v":0},{"$f":"-HLOOKUP($A271,'FC Projeto'!$B$12:$AL$36,20,FALSE)","v":877.85025099577797},{"$f":"-HLOOKUP($A271,'FC Projeto'!$B$12:$AL$36,21,FALSE)","v":84537.503377573725},{"$f":"-HLOOKUP($A271,'FC Projeto'!$B$12:$AL$36,22,FALSE)","v":169.42278063444186},{"$f":"-HLOOKUP($A271,'FC Projeto'!$B$12:$AL$36,23,FALSE)","v":77.102869319549981},{"$f":"-HLOOKUP($A271,'FC Projeto'!$B$12:$AL$36,24,FALSE)","v":53.844462732235272},{"$f":"-HLOOKUP($A271,'FC Projeto'!$B$12:$AL$36,25,FALSE)","v":38.475448582656611},263909.26069504954]
[6,{"$f":"-HLOOKUP($A272,'FC Projeto'!$B$12:$AL$36,14,FALSE)","v":206792.19149525033},{"$f":"-HLOOKUP($A272,'FC Projeto'!$B$12:$AL$36,15,FALSE)","v":16931.139079725741},{"$f":"-HLOOKUP($A272,'FC Projeto'!$B$12:$AL$36,16,FALSE)","v":3887.9368655995349},{"$f":"-HLOOKUP($A272,'FC Projeto'!$B$12:$AL$36,17,FALSE)","v":2406.5379796645784},{"$f":"-HLOOKUP($A272,'FC Projeto'!$B$12:$AL$36,18,FALSE)","v":3602.2486214581454},{"$f":"-HLOOKUP($A272,'FC Projeto'!$B$12:$AL$36,19,FALSE)","v":0},{"$f":"-HLOOKUP($A272,'FC Projeto'!$B$12:$AL$36,20,FALSE)","v":955.55198446428574},{"$f":"-HLOOKUP($A272,'FC Projeto'!$B$12:$AL$36,21,FALSE)","v":4962.6842223307203},{"$f":"-HLOOKUP($A272,'FC Projeto'!$B$12:$AL$36,22,FALSE)","v":160.46469767817914},{"$f":"-HLOOKUP($A272,'FC Projeto'!$B$12:$AL$36,23,FALSE)","v":77.102869319549981},{"$f":"-HLOOKUP($A272,'FC Projeto'!$B$12:$AL$36,24,FALSE)","v":53.844462732235272},{"$f":"-HLOOKUP($A272,'FC Projeto'!$B$12:$AL$36,25,FALSE)","v":29.517365626393875},239859.21964384968]
[7,{"$f":"-HLOOKUP($A273,'FC Projeto'!$B$12:$AL$36,14,FALSE)","v":233753.2190125683},{"$f":"-HLOOKUP($A273,'FC Projeto'!$B$12:$AL$36,15,FALSE)","v":19138.576910561384},{"$f":"-HLOOKUP($A273,'FC Projeto'!$B$12:$AL$36,16,FALSE)","v":4394.8359513971327},{"$f":"-HLOOKUP($A273,'FC Projeto'!$B$12:$AL$36,17,FALSE)","v":2720.2961357248273},{"$f":"-HLOOKUP($A273,'FC Projeto'!$B$12:$AL$36,18,FALSE)","v":3602.2486214581454},{"$f":"-HLOOKUP($A273,'FC Projeto'!$B$12:$AL$36,19,FALSE)","v":0},{"$f":"-HLOOKUP($A273,'FC Projeto'!$B$12:$AL$36,20,FALSE)","v":955.55198446428574},{"$f":"-HLOOKUP($A273,'FC Projeto'!$B$12:$AL$36,21,FALSE)","v":5418.7212413718917},{"$f":"-HLOOKUP($A273,'FC Projeto'!$B$12:$AL$36,22,FALSE)","v":142.79522554464231},{"$f":"-HLOOKUP($A273,'FC Projeto'!$B$12:$AL$36,23,FALSE)","v":77.102869319549981},{"$f":"-HLOOKUP($A273,'FC Projeto'!$B$12:$AL$36,24,FALSE)","v":53.844462732235272},{"$f":"-HLOOKUP($A273,'FC Projeto'!$B$12:$AL$36,25,FALSE)","v":11.847893492857041},270269.04030863527]
[8,{"$f":"-HLOOKUP($A274,'FC Projeto'!$B$12:$AL$36,14,FALSE)","v":251523.41149152082},{"$f":"-HLOOKUP($A274,'FC Projeto'!$B$12:$AL$36,15,FALSE)","v":20593.513860352115},{"$f":"-HLOOKUP($A274,'FC Projeto'!$B$12:$AL$36,16,FALSE)","v":4728.9365088125505},{"$f":"-HLOOKUP($A274,'FC Projeto'!$B$12:$AL$36,17,FALSE)","v":2927.0962223109359},{"$f":"-HLOOKUP($A274,'FC Projeto'!$B$12:$AL$36,18,FALSE)","v":3602.2486214581454},{"$f":"-HLOOKUP($A274,'FC Projeto'!$B$12:$AL$36,19,FALSE)","v":2831.33310295},{"$f":"-HLOOKUP($A274,'FC Projeto'!$B$12:$AL$36,20,FALSE)","v":955.55198446428574},{"$f":"-HLOOKUP($A274,'FC Projeto'!$B$12:$AL$36,21,FALSE)","v":5916.6649692461888},{"$f":"-HLOOKUP($A274,'FC Projeto'!$B$12:$AL$36,22,FALSE)","v":90.544625449560698},{"$f":"-HLOOKUP($A274,'FC Projeto'!$B$12:$AL$36,23,FALSE)","v":32.25009662499383},{"$f":"-HLOOKUP($A274,'FC Projeto'!$B$12:$AL$36,24,FALSE)","v":53.844462732235272},{"$f":"-HLOOKUP($A274,'FC Projeto'!$B$12:$AL$36,25,FALSE)","v":4.4500660923315944},293259.84601201414]
[9,{"$f":"-HLOOKUP($A275,'FC Projeto'!$B$12:$AL$36,14,FALSE)","v":251523.41149152082},{"$f":"-HLOOKUP($A275,'FC Projeto'!$B$12:$AL$36,15,FALSE)","v":20593.513860352115},{"$f":"-HLOOKUP($A275,'FC Projeto'!$B$12:$AL$36,16,FALSE)","v":4728.9365088125505},{"$f":"-HLOOKUP($A275,'FC Projeto'!$B$12:$AL$36,17,FALSE)","v":2927.0962223109359},{"$f":"-HLOOKUP($A275,'FC Projeto'!$B$12:$AL$36,18,FALSE)","v":3602.2486214581454},{"$f":"-HLOOKUP($A275,'FC Projeto'!$B$12:$AL$36,19,FALSE)","v":2588.7885886900003},{"$f":"-HLOOKUP($A275,'FC Projeto'!$B$12:$AL$36,20,FALSE)","v":955.55198446428574},{"$f":"-HLOOKUP($A275,'FC Projeto'!$B$12:$AL$36,21,FALSE)","v":180890.25775099255},{"$f":"-HLOOKUP($A275,'FC Projeto'!$B$12:$AL$36,22,FALSE)","v":86.094559357229102},{"$f":"-HLOOKUP($A275,'FC Projeto'!$B$12:$AL$36,23,FALSE)","v":32.25009662499383},{"$f":"-HLOOKUP($A275,'FC Projeto'!$B$12:$AL$36,24,FALSE)","v":53.844462732235272},{"$f":"-HLOOKUP($A275,'FC Projeto'!$B$12:$AL$36,25,FALSE)","v":0},467981.9941473158]
[10,{"$f":"-HLOOKUP($A276,'FC Projeto'!$B$12:$AL$36,14,FALSE)","v":251523.41149152082},{"$f":"-HLOOKUP($A276,'FC Projeto'!$B$12:$AL$36,15,FALSE)","v":20593.513860352115},{"$f":"-HLOOKUP($A276,'FC Projeto'!$B$12:$AL$36,16,FALSE)","v":4728.9365088125505},{"$f":"-HLOOKUP($A276,'FC Projeto'!$B$12:$AL$36,17,FALSE)","v":2927.0962223109359},{"$f":"-HLOOKUP($A276,'FC Projeto'!$B$12:$AL$36,18,FALSE)","v":3602.2486214581454},{"$f":"-HLOOKUP($A276,'FC Projeto'!$B$12:$AL$36,19,FALSE)","v":2335.7336383299998},{"$f":"-HLOOKUP($A276,'FC Projeto'!$B$12:$AL$36,20,FALSE)","v":955.55198446428574},{"$f":"-HLOOKUP($A276,'FC Projeto'!$B$12:$AL$36,21,FALSE)","v":0},{"$f":"-HLOOKUP($A276,'FC Projeto'!$B$12:$AL$36,22,FALSE)","v":86.094559357229102},{"$f":"-HLOOKUP($A276,'FC Projeto'!$B$12:$AL$36,23,FALSE)","v":32.25009662499383},{"$f":"-HLOOKUP($A276,'FC Projeto'!$B$12:$AL$36,24,FALSE)","v":53.844462732235272},{"$f":"-HLOOKUP($A276,'FC Projeto'!$B$12:$AL$36,25,FALSE)","v":0},286838.68144596327]
[11,{"$f":"-HLOOKUP($A277,'FC Projeto'!$B$12:$AL$36,14,FALSE)","v":251523.41149152082},{"$f":"-HLOOKUP($A277,'FC Projeto'!$B$12:$AL$36,15,FALSE)","v":20593.513860352115},{"$f":"-HLOOKUP($A277,'FC Projeto'!$B$12:$AL$36,16,FALSE)","v":4728.9365088125505},{"$f":"-HLOOKUP($A277,'FC Projeto'!$B$12:$AL$36,17,FALSE)","v":2927.0962223109359},{"$f":"-HLOOKUP($A277,'FC Projeto'!$B$12:$AL$36,18,FALSE)","v":3602.2486214581454},{"$f":"-HLOOKUP($A277,'FC Projeto'!$B$12:$AL$36,19,FALSE)","v":1650.53982326},{"$f":"-HLOOKUP($A277,'FC Projeto'!$B$12:$AL$36,20,FALSE)","v":955.55198446428574},{"$f":"-HLOOKUP($A277,'FC Projeto'!$B$12:$AL$36,21,FALSE)","v":0},{"$f":"-HLOOKUP($A277,'FC Projeto'!$B$12:$AL$36,22,FALSE)","v":86.094559357229102},{"$f":"-HLOOKUP($A277,'FC Projeto'!$B$12:$AL$36,23,FALSE)","v":32.25009662499383},{"$f":"-HLOOKUP($A277,'FC Projeto'!$B$12:$AL$36,24,FALSE)","v":53.844462732235272},{"$f":"-HLOOKUP($A277,'FC Projeto'!$B$12:$AL$36,25,FALSE)","v":0},286153.48763089324]
[12,{"$f":"-HLOOKUP($A278,'FC Projeto'!$B$12:$AL$36,14,FALSE)","v":251523.41149152082},{"$f":"-HLOOKUP($A278,'FC Projeto'!$B$12:$AL$36,15,FALSE)","v":20593.513860352115},{"$f":"-HLOOKUP($A278,'FC Projeto'!$B$12:$AL$36,16,FALSE)","v":4728.9365088125505},{"$f":"-HLOOKUP($A278,'FC Projeto'!$B$12:$AL$36,17,FALSE)","v":2927.0962223109359},{"$f":"-HLOOKUP($A278,'FC Projeto'!$B$12:$AL$36,18,FALSE)","v":3602.2486214581454},{"$f":"-HLOOKUP($A278,'FC Projeto'!$B$12:$AL$36,19,FALSE)","v":1650.53982326},{"$f":"-HLOOKUP($A278,'FC Projeto'!$B$12:$AL$36,20,FALSE)","v":955.55198446428574},{"$f":"-HLOOKUP($A278,'FC Projeto'!$B$12:$AL$36,21,FALSE)","v":0},{"$f":"-HLOOKUP($A278,'FC Projeto'!$B$12:$AL$36,22,FALSE)","v":90.658853849588766},{"$f":"-HLOOKUP($A278,'FC Projeto'!$B$12:$AL$36,23,FALSE)","v":32.25009662499383},{"$f":"-HLOOKUP($A278,'FC Projeto'!$B$12:$AL$36,24,FALSE)","v":53.844462732235272},{"$f":"-HLOOKUP($A278,'FC Projeto'!$B$12:$AL$36,25,FALSE)","v":4.5642944923596609},286162.61621987796]
[13,{"$f":"-HLOOKUP($A279,'FC Projeto'!$B$12:$AL$36,14,FALSE)","v":251523.41149152082},{"$f":"-HLOOKUP($A279,'FC Projeto'!$B$12:$AL$36,15,FALSE)","v":20593.513860352115},{"$f":"-HLOOKUP($A279,'FC Projeto'!$B$12:$AL$36,16,FALSE)","v":4728.9365088125505},{"$f":"-HLOOKUP($A279,'FC Projeto'!$B$12:$AL$36,17,FALSE)","v":2927.0962223109359},{"$f":"-HLOOKUP($A279,'FC Projeto'!$B$12:$AL$36,18,FALSE)","v":3602.2486214581454},{"$f":"-HLOOKUP($A279,'FC Projeto'!$B$12:$AL$36,19,FALSE)","v":855.98243763000005},{"$f":"-HLOOKUP($A279,'FC Projeto'!$B$12:$AL$36,20,FALSE)","v":955.55198446428574},{"$f":"-HLOOKUP($A279,'FC Projeto'!$B$12:$AL$36,21,FALSE)","v":0},{"$f":"-HLOOKUP($A279,'FC Projeto'!$B$12:$AL$36,22,FALSE)","v":90.658853849588766},{"$f":"-HLOOKUP($A279,'FC Projeto'!$B$12:$AL$36,23,FALSE)","v":32.25009662499383},{"$f":"-HLOOKUP($A279,'FC Projeto'!$B$12:$AL$36,24,FALSE)","v":53.844462732235272},{"$f":"-HLOOKUP($A279,'FC Projeto'!$B$12:$AL$36,25,FALSE)","v":4.5642944923596609},285368.05883424799]
[14,{"$f":"-HLOOKUP($A280,'FC Projeto'!$B$12:$AL$36,14,FALSE)","v":251523.41149152082},{"$f":"-HLOOKUP($A280,'FC Projeto'!$B$12:$AL$36,15,FALSE)","v":20593.513860352115},{"$f":"-HLOOKUP($A280,'FC Projeto'!$B$12:$AL$36,16,FALSE)","v":4728.9365088125505},{"$f":"-HLOOKUP($A280,'FC Projeto'!$B$12:$AL$36,17,FALSE)","v":2927.0962223109359},{"$f":"-HLOOKUP($A280,'FC Projeto'!$B$12:$AL$36,18,FALSE)","v":3602.2486214581454},{"$f":"-HLOOKUP($A280,'FC Projeto'!$B$12:$AL$36,19,FALSE)","v":602.92748727000003},{"$f":"-HLOOKUP($A280,'FC Projeto'!$B$12:$AL$36,20,FALSE)","v":955.55198446428574},{"$f":"-HLOOKUP($A280,'FC Projeto'!$B$12:$AL$36,21,FALSE)","v":0},{"$f":"-HLOOKUP($A280,'FC Projeto'!$B$12:$AL$36,22,FALSE)","v":90.658853849588766},{"$f":"-HLOOKUP($A280,'FC Projeto'!$B$12:$AL$36,23,FALSE)","v":32.25009662499383},{"$f":"-HLOOKUP($A280,'FC Projeto'!$B$12:$AL$36,24,FALSE)","v":53.844462732235272},{"$f":"-HLOOKUP($A280,'FC Projeto'!$B$12:$AL$36,25,FALSE)","v":4.5642944923596609},285115.00388388796]
[15,{"$f":"-HLOOKUP($A281,'FC Projeto'!$B$12:$AL$36,14,FALSE)","v":251523.41149152082},{"$f":"-HLOOKUP($A281,'FC Projeto'!$B$12:$AL$36,15,FALSE)","v":20593.513860352115},{"$f":"-HLOOKUP($A281,'FC Projeto'!$B$12:$AL$36,16,FALSE)","v":4728.9365088125505},{"$f":"-HLOOKUP($A281,'FC Projeto'!$B$12:$AL$36,17,FALSE)","v":2927.0962223109359},{"$f":"-HLOOKUP($A281,'FC Projeto'!$B$12:$AL$36,18,FALSE)","v":3602.2486214581454},{"$f":"-HLOOKUP($A281,'FC Projeto'!$B$12:$AL$36,19,FALSE)","v":602.92748727000003},{"$f":"-HLOOKUP($A281,'FC Projeto'!$B$12:$AL$36,20,FALSE)","v":955.55198446428574},{"$f":"-HLOOKUP($A281,'FC Projeto'!$B$12:$AL$36,21,FALSE)","v":0},{"$f":"-HLOOKUP($A281,'FC Projeto'!$B$12:$AL$36,22,FALSE)","v":102.52601952972388},{"$f":"-HLOOKUP($A281,'FC Projeto'!$B$12:$AL$36,23,FALSE)","v":32.25009662499383},{"$f":"-HLOOKUP($A281,'FC Projeto'!$B$12:$AL$36,24,FALSE)","v":53.844462732235272},{"$f":"-HLOOKUP($A281,'FC Projeto'!$B$12:$AL$36,25,FALSE)","v":16.431460172494781},285138.73821524828]
[16,{"$f":"-HLOOKUP($A282,'FC Projeto'!$B$12:$AL$36,14,FALSE)","v":251523.41149152082},{"$f":"-HLOOKUP($A282,'FC Projeto'!$B$12:$AL$36,15,FALSE)","v":20593.513860352115},{"$f":"-HLOOKUP($A282,'FC Projeto'!$B$12:$AL$36,16,FALSE)","v":4728.9365088125505},{"$f":"-HLOOKUP($A282,'FC Projeto'!$B$12:$AL$36,17,FALSE)","v":2927.0962223109359},{"$f":"-HLOOKUP($A282,'FC Projeto'!$B$12:$AL$36,18,FALSE)","v":3602.2486214581454},{"$f":"-HLOOKUP($A282,'FC Projeto'!$B$12:$AL$36,19,FALSE)","v":602.92748727000003},{"$f":"-HLOOKUP($A282,'FC Projeto'!$B$12:$AL$36,20,FALSE)","v":955.55198446428574},{"$f":"-HLOOKUP($A282,'FC Projeto'!$B$12:$AL$36,21,FALSE)","v":0},{"$f":"-HLOOKUP($A282,'FC Projeto'!$B$12:$AL$36,22,FALSE)","v":102.52601952972388},{"$f":"-HLOOKUP($A282,'FC Projeto'!$B$12:$AL$36,23,FALSE)","v":32.25009662499383},{"$f":"-HLOOKUP($A282,'FC Projeto'!$B$12:$AL$36,24,FALSE)","v":53.844462732235272},{"$f":"-HLOOKUP($A282,'FC Projeto'!$B$12:$AL$36,25,FALSE)","v":16.431460172494781},285138.73821524828]
[17,{"$f":"-HLOOKUP($A283,'FC Projeto'!$B$12:$AL$36,14,FALSE)","v":251523.41149152082},{"$f":"-HLOOKUP($A283,'FC Projeto'!$B$12:$AL$36,15,FALSE)","v":20593.513860352115},{"$f":"-HLOOKUP($A283,'FC Projeto'!$B$12:$AL$36,16,FALSE)","v":4728.9365088125505},{"$f":"-HLOOKUP($A283,'FC Projeto'!$B$12:$AL$36,17,FALSE)","v":2927.0962223109359},{"$f":"-HLOOKUP($A283,'FC Projeto'!$B$12:$AL$36,18,FALSE)","v":3602.2486214581454},{"$f":"-HLOOKUP($A283,'FC Projeto'!$B$12:$AL$36,19,FALSE)","v":855.98243763000005},{"$f":"-HLOOKUP($A283,'FC Projeto'!$B$12:$AL$36,20,FALSE)","v":955.55198446428574},{"$f":"-HLOOKUP($A283,'FC Projeto'!$B$12:$AL$36,21,FALSE)","v":0},{"$f":"-HLOOKUP($A283,'FC Projeto'!$B$12:$AL$36,22,FALSE)","v":107.09031402208353},{"$f":"-HLOOKUP($A283,'FC Projeto'!$B$12:$AL$36,23,FALSE)","v":32.25009662499383},{"$f":"-HLOOKUP($A283,'FC Projeto'!$B$12:$AL$36,24,FALSE)","v":53.844462732235272},{"$f":"-HLOOKUP($A283,'FC Projeto'!$B$12:$AL$36,25,FALSE)","v":20.995754664854438},285400.92175459303]
[18,{"$f":"-HLOOKUP($A284,'FC Projeto'!$B$12:$AL$36,14,FALSE)","v":251523.41149152082},{"$f":"-HLOOKUP($A284,'FC Projeto'!$B$12:$AL$36,15,FALSE)","v":20593.513860352115},{"$f":"-HLOOKUP($A284,'FC Projeto'!$B$12:$AL$36,16,FALSE)","v":4728.9365088125505},{"$f":"-HLOOKUP($A284,'FC Projeto'!$B$12:$AL$36,17,FALSE)","v":2927.0962223109359},{"$f":"-HLOOKUP($A284,'FC Projeto'!$B$12:$AL$36,18,FALSE)","v":3602.2486214581454},{"$f":"-HLOOKUP($A284,'FC Projeto'!$B$12:$AL$36,19,FALSE)","v":602.92748727000003},{"$f":"-HLOOKUP($A284,'FC Projeto'!$B$12:$AL$36,20,FALSE)","v":955.55198446428574},{"$f":"-HLOOKUP($A284,'FC Projeto'!$B$12:$AL$36,21,FALSE)","v":0},{"$f":"-HLOOKUP($A284,'FC Projeto'!$B$12:$AL$36,22,FALSE)","v":90.658853849588766},{"$f":"-HLOOKUP($A284,'FC Projeto'!$B$12:$AL$36,23,FALSE)","v":32.25009662499383},{"$f":"-HLOOKUP($A284,'FC Projeto'!$B$12:$AL$36,24,FALSE)","v":53.844462732235272},{"$f":"-HLOOKUP($A284,'FC Projeto'!$B$12:$AL$36,25,FALSE)","v":4.5642944923596609},285115.00388388796]
[19,{"$f":"-HLOOKUP($A285,'FC Projeto'!$B$12:$AL$36,14,FALSE)","v":251523.41149152082},{"$f":"-HLOOKUP($A285,'FC Projeto'!$B$12:$AL$36,15,FALSE)","v":20593.513860352115},{"$f":"-HLOOKUP($A285,'FC Projeto'!$B$12:$AL$36,16,FALSE)","v":4728.9365088125505},{"$f":"-HLOOKUP($A285,'FC Projeto'!$B$12:$AL$36,17,FALSE)","v":2927.0962223109359},{"$f":"-HLOOKUP($A285,'FC Projeto'!$B$12:$AL$36,18,FALSE)","v":3602.2486214581454},{"$f":"-HLOOKUP($A285,'FC Projeto'!$B$12:$AL$36,19,FALSE)","v":602.92748727000003},{"$f":"-HLOOKUP($A285,'FC Projeto'!$B$12:$AL$36,20,FALSE)","v":955.55198446428574},{"$f":"-HLOOKUP($A285,'FC Projeto'!$B$12:$AL$36,21,FALSE)","v":0},{"$f":"-HLOOKUP($A285,'FC Projeto'!$B$12:$AL$36,22,FALSE)","v":90.658853849588766},{"$f":"-HLOOKUP($A285,'FC Projeto'!$B$12:$AL$36,23,FALSE)","v":32.25009662499383},{"$f":"-HLOOKUP($A285,'FC Projeto'!$B$12:$AL$36,24,FALSE)","v":53.844462732235272},{"$f":"-HLOOKUP($A285,'FC Projeto'!$B$12:$AL$36,25,FALSE)","v":4.5642944923596609},285115.00388388796]
[20,{"$f":"-HLOOKUP($A286,'FC Projeto'!$B$12:$AL$36,14,FALSE)","v":251523.41149152082},{"$f":"-HLOOKUP($A286,'FC Projeto'!$B$12:$AL$36,15,FALSE)","v":20593.513860352115},{"$f":"-HLOOKUP($A286,'FC Projeto'!$B$12:$AL$36,16,FALSE)","v":4728.9365088125505},{"$f":"-HLOOKUP($A286,'FC Projeto'!$B$12:$AL$36,17,FALSE)","v":2927.0962223109359},{"$f":"-HLOOKUP($A286,'FC Projeto'!$B$12:$AL$36,18,FALSE)","v":3602.2486214581454},{"$f":"-HLOOKUP($A286,'FC Projeto'!$B$12:$AL$36,19,FALSE)","v":602.92748727000003},{"$f":"-HLOOKUP($A286,'FC Projeto'!$B$12:$AL$36,20,FALSE)","v":955.55198446428574},{"$f":"-HLOOKUP($A286,'FC Projeto'!$B$12:$AL$36,21,FALSE)","v":0},{"$f":"-HLOOKUP($A286,'FC Projeto'!$B$12:$AL$36,22,FALSE)","v":112.22300881155951},{"$f":"-HLOOKUP($A286,'FC Projeto'!$B$12:$AL$36,23,FALSE)","v":32.25009662499383},{"$f":"-HLOOKUP($A286,'FC Projeto'!$B$12:$AL$36,24,FALSE)","v":53.844462732235272},{"$f":"-HLOOKUP($A286,'FC Projeto'!$B$12:$AL$36,25,FALSE)","v":26.128449454330408},285158.13219381188]
[21,{"$f":"-HLOOKUP($A287,'FC Projeto'!$B$12:$AL$36,14,FALSE)","v":251523.41149152082},{"$f":"-HLOOKUP($A287,'FC Projeto'!$B$12:$AL$36,15,FALSE)","v":20593.513860352115},{"$f":"-HLOOKUP($A287,'FC Projeto'!$B$12:$AL$36,16,FALSE)","v":4728.9365088125505},{"$f":"-HLOOKUP($A287,'FC Projeto'!$B$12:$AL$36,17,FALSE)","v":2927.0962223109359},{"$f":"-HLOOKUP($A287,'FC Projeto'!$B$12:$AL$36,18,FALSE)","v":3602.2486214581454},{"$f":"-HLOOKUP($A287,'FC Projeto'!$B$12:$AL$36,19,FALSE)","v":855.98243763000005},{"$f":"-HLOOKUP($A287,'FC Projeto'!$B$12:$AL$36,20,FALSE)","v":955.55198446428574},{"$f":"-HLOOKUP($A287,'FC Projeto'!$B$12:$AL$36,21,FALSE)","v":0},{"$f":"-HLOOKUP($A287,'FC Projeto'!$B$12:$AL$36,22,FALSE)","v":112.22300881155951},{"$f":"-HLOOKUP($A287,'FC Projeto'!$B$12:$AL$36,23,FALSE)","v":32.25009662499383},{"$f":"-HLOOKUP($A287,'FC Projeto'!$B$12:$AL$36,24,FALSE)","v":53.844462732235272},{"$f":"-HLOOKUP($A287,'FC Projeto'!$B$12:$AL$36,25,FALSE)","v":26.128449454330408},285411.18714417191]
[22,{"$f":"-HLOOKUP($A288,'FC Projeto'!$B$12:$AL$36,14,FALSE)","v":251523.41149152082},{"$f":"-HLOOKUP($A288,'FC Projeto'!$B$12:$AL$36,15,FALSE)","v":20593.513860352115},{"$f":"-HLOOKUP($A288,'FC Projeto'!$B$12:$AL$36,16,FALSE)","v":4728.9365088125505},{"$f":"-HLOOKUP($A288,'FC Projeto'!$B$12:$AL$36,17,FALSE)","v":2927.0962223109359},{"$f":"-HLOOKUP($A288,'FC Projeto'!$B$12:$AL$36,18,FALSE)","v":3602.2486214581454},{"$f":"-HLOOKUP($A288,'FC Projeto'!$B$12:$AL$36,19,FALSE)","v":602.92748727000003},{"$f":"-HLOOKUP($A288,'FC Projeto'!$B$12:$AL$36,20,FALSE)","v":955.55198446428574},{"$f":"-HLOOKUP($A288,'FC Projeto'!$B$12:$AL$36,21,FALSE)","v":0},{"$f":"-HLOOKUP($A288,'FC Projeto'!$B$12:$AL$36,22,FALSE)","v":116.78730330391917},{"$f":"-HLOOKUP($A288,'FC Projeto'!$B$12:$AL$36,23,FALSE)","v":32.25009662499383},{"$f":"-HLOOKUP($A288,'FC Projeto'!$B$12:$AL$36,24,FALSE)","v":53.844462732235272},{"$f":"-HLOOKUP($A288,'FC Projeto'!$B$12:$AL$36,25,FALSE)","v":30.692743946690076},285167.2607827966]
[23,{"$f":"-HLOOKUP($A289,'FC Projeto'!$B$12:$AL$36,14,FALSE)","v":251523.41149152082},{"$f":"-HLOOKUP($A289,'FC Projeto'!$B$12:$AL$36,15,FALSE)","v":20593.513860352115},{"$f":"-HLOOKUP($A289,'FC Projeto'!$B$12:$AL$36,16,FALSE)","v":4728.9365088125505},{"$f":"-HLOOKUP($A289,'FC Projeto'!$B$12:$AL$36,17,FALSE)","v":2927.0962223109359},{"$f":"-HLOOKUP($A289,'FC Projeto'!$B$12:$AL$36,18,FALSE)","v":3602.2486214581454},{"$f":"-HLOOKUP($A289,'FC Projeto'!$B$12:$AL$36,19,FALSE)","v":602.92748727000003},{"$f":"-HLOOKUP($A289,'FC Projeto'!$B$12:$AL$36,20,FALSE)","v":955.55198446428574},{"$f":"-HLOOKUP($A289,'FC Projeto'!$B$12:$AL$36,21,FALSE)","v":0},{"$f":"-HLOOKUP($A289,'FC Projeto'!$B$12:$AL$36,22,FALSE)","v":90.658853849588766},{"$f":"-HLOOKUP($A289,'FC Projeto'!$B$12:$AL$36,23,FALSE)","v":32.25009662499383},{"$f":"-HLOOKUP($A289,'FC Projeto'!$B$12:$AL$36,24,FALSE)","v":53.844462732235272},{"$f":"-HLOOKUP($A289,'FC Projeto'!$B$12:$AL$36,25,FALSE)","v":4.5642944923596609},285115.00388388796]
[24,{"$f":"-HLOOKUP($A290,'FC Projeto'!$B$12:$AL$36,14,FALSE)","v":251523.41149152082},{"$f":"-HLOOKUP($A290,'FC Projeto'!$B$12:$AL$36,15,FALSE)","v":20593.513860352115},{"$f":"-HLOOKUP($A290,'FC Projeto'!$B$12:$AL$36,16,FALSE)","v":4728.9365088125505},{"$f":"-HLOOKUP($A290,'FC Projeto'!$B$12:$AL$36,17,FALSE)","v":2927.0962223109359},{"$f":"-HLOOKUP($A290,'FC Projeto'!$B$12:$AL$36,18,FALSE)","v":3602.2486214581454},{"$f":"-HLOOKUP($A290,'FC Projeto'!$B$12:$AL$36,19,FALSE)","v":602.92748727000003},{"$f":"-HLOOKUP($A290,'FC Projeto'!$B$12:$AL$36,20,FALSE)","v":955.55198446428574},{"$f":"-HLOOKUP($A290,'FC Projeto'!$B$12:$AL$36,21,FALSE)","v":0},{"$f":"-HLOOKUP($A290,'FC Projeto'!$B$12:$AL$36,22,FALSE)","v":90.658853849588766},{"$f":"-HLOOKUP($A290,'FC Projeto'!$B$12:$AL$36,23,FALSE)","v":32.25009662499383},{"$f":"-HLOOKUP($A290,'FC Projeto'!$B$12:$AL$36,24,FALSE)","v":53.844462732235272},{"$f":"-HLOOKUP($A290,'FC Projeto'!$B$12:$AL$36,25,FALSE)","v":4.5642944923596609},285115.00388388796]
[25,{"$f":"-HLOOKUP($A291,'FC Projeto'!$B$12:$AL$36,14,FALSE)","v":251523.41149152082},{"$f":"-HLOOKUP($A291,'FC Projeto'!$B$12:$AL$36,15,FALSE)","v":20593.513860352115},{"$f":"-HLOOKUP($A291,'FC Projeto'!$B$12:$AL$36,16,FALSE)","v":4728.9365088125505},{"$f":"-HLOOKUP($A291,'FC Projeto'!$B$12:$AL$36,17,FALSE)","v":2927.0962223109359},{"$f":"-HLOOKUP($A291,'FC Projeto'!$B$12:$AL$36,18,FALSE)","v":3602.2486214581454},{"$f":"-HLOOKUP($A291,'FC Projeto'!$B$12:$AL$36,19,FALSE)","v":855.98243451860014},{"$f":"-HLOOKUP($A291,'FC Projeto'!$B$12:$AL$36,20,FALSE)","v":955.55198446428574},{"$f":"-HLOOKUP($A291,'FC Projeto'!$B$12:$AL$36,21,FALSE)","v":0},{"$f":"-HLOOKUP($A291,'FC Projeto'!$B$12:$AL$36,22,FALSE)","v":86.094559357229102},{"$f":"-HLOOKUP($A291,'FC Projeto'!$B$12:$AL$36,23,FALSE)","v":32.25009662499383},{"$f":"-HLOOKUP($A291,'FC Projeto'!$B$12:$AL$36,24,FALSE)","v":53.844462732235272},{"$f":"-HLOOKUP($A291,'FC Projeto'!$B$12:$AL$36,25,FALSE)","v":0},285358.93024215184]
[26,{"$f":"-HLOOKUP($A292,'FC Projeto'!$B$12:$AL$36,14,FALSE)","v":251523.41149152082},{"$f":"-HLOOKUP($A292,'FC Projeto'!$B$12:$AL$36,15,FALSE)","v":20593.513860352115},{"$f":"-HLOOKUP($A292,'FC Projeto'!$B$12:$AL$36,16,FALSE)","v":4728.9365088125505},{"$f":"-HLOOKUP($A292,'FC Projeto'!$B$12:$AL$36,17,FALSE)","v":2927.0962223109359},{"$f":"-HLOOKUP($A292,'FC Projeto'!$B$12:$AL$36,18,FALSE)","v":3602.2486214581454},{"$f":"-HLOOKUP($A292,'FC Projeto'!$B$12:$AL$36,19,FALSE)","v":602.92748415860012},{"$f":"-HLOOKUP($A292,'FC Projeto'!$B$12:$AL$36,20,FALSE)","v":955.55198446428574},{"$f":"-HLOOKUP($A292,'FC Projeto'!$B$12:$AL$36,21,FALSE)","v":0},{"$f":"-HLOOKUP($A292,'FC Projeto'!$B$12:$AL$36,22,FALSE)","v":86.094559357229102},{"$f":"-HLOOKUP($A292,'FC Projeto'!$B$12:$AL$36,23,FALSE)","v":32.25009662499383},{"$f":"-HLOOKUP($A292,'FC Projeto'!$B$12:$AL$36,24,FALSE)","v":53.844462732235272},{"$f":"-HLOOKUP($A292,'FC Projeto'!$B$12:$AL$36,25,FALSE)","v":0},285105.87529179186]
[27,{"$f":"-HLOOKUP($A293,'FC Projeto'!$B$12:$AL$36,14,FALSE)","v":251523.41149152082},{"$f":"-HLOOKUP($A293,'FC Projeto'!$B$12:$AL$36,15,FALSE)","v":20593.513860352115},{"$f":"-HLOOKUP($A293,'FC Projeto'!$B$12:$AL$36,16,FALSE)","v":4728.9365088125505},{"$f":"-HLOOKUP($A293,'FC Projeto'!$B$12:$AL$36,17,FALSE)","v":2927.0962223109359},{"$f":"-HLOOKUP($A293,'FC Projeto'!$B$12:$AL$36,18,FALSE)","v":3602.2486214581454},{"$f":"-HLOOKUP($A293,'FC Projeto'!$B$12:$AL$36,19,FALSE)","v":602.92748415860012},{"$f":"-HLOOKUP($A293,'FC Projeto'!$B$12:$AL$36,20,FALSE)","v":955.55198446428574},{"$f":"-HLOOKUP($A293,'FC Projeto'!$B$12:$AL$36,21,FALSE)","v":0},{"$f":"-HLOOKUP($A293,'FC Projeto'!$B$12:$AL$36,22,FALSE)","v":90.658853849588766},{"$f":"-HLOOKUP($A293,'FC Projeto'!$B$12:$AL$36,23,FALSE)","v":32.25009662499383},{"$f":"-HLOOKUP($A293,'FC Projeto'!$B$12:$AL$36,24,FALSE)","v":53.844462732235272},{"$f":"-HLOOKUP($A293,'FC Projeto'!$B$12:$AL$36,25,FALSE)","v":4.5642944923596609},285115.00388077658]
[28,{"$f":"-HLOOKUP($A294,'FC Projeto'!$B$12:$AL$36,14,FALSE)","v":251523.41149152082},{"$f":"-HLOOKUP($A294,'FC Projeto'!$B$12:$AL$36,15,FALSE)","v":20593.513860352115},{"$f":"-HLOOKUP($A294,'FC Projeto'!$B$12:$AL$36,16,FALSE)","v":4728.9365088125505},{"$f":"-HLOOKUP($A294,'FC Projeto'!$B$12:$AL$36,17,FALSE)","v":2927.0962223109359},{"$f":"-HLOOKUP($A294,'FC Projeto'!$B$12:$AL$36,18,FALSE)","v":3602.2486214581454},{"$f":"-HLOOKUP($A294,'FC Projeto'!$B$12:$AL$36,19,FALSE)","v":602.92748415860012},{"$f":"-HLOOKUP($A294,'FC Projeto'!$B$12:$AL$36,20,FALSE)","v":955.55198446428574},{"$f":"-HLOOKUP($A294,'FC Projeto'!$B$12:$AL$36,21,FALSE)","v":0},{"$f":"-HLOOKUP($A294,'FC Projeto'!$B$12:$AL$36,22,FALSE)","v":90.658853849588766},{"$f":"-HLOOKUP($A294,'FC Projeto'!$B$12:$AL$36,23,FALSE)","v":32.25009662499383},{"$f":"-HLOOKUP($A294,'FC Projeto'!$B$12:$AL$36,24,FALSE)","v":53.844462732235272},{"$f":"-HLOOKUP($A294,'FC Projeto'!$B$12:$AL$36,25,FALSE)","v":4.5642944923596609},285115.00388077658]
[29,{"$f":"-HLOOKUP($A295,'FC Projeto'!$B$12:$AL$36,14,FALSE)","v":251523.41149152082},{"$f":"-HLOOKUP($A295,'FC Projeto'!$B$12:$AL$36,15,FALSE)","v":20593.513860352115},{"$f":"-HLOOKUP($A295,'FC Projeto'!$B$12:$AL$36,16,FALSE)","v":4728.9365088125505},{"$f":"-HLOOKUP($A295,'FC Projeto'!$B$12:$AL$36,17,FALSE)","v":2927.0962223109359},{"$f":"-HLOOKUP($A295,'FC Projeto'!$B$12:$AL$36,18,FALSE)","v":3602.2486214581454},{"$f":"-HLOOKUP($A295,'FC Projeto'!$B$12:$AL$36,19,FALSE)","v":855.98243451860014},{"$f":"-HLOOKUP($A295,'FC Projeto'!$B$12:$AL$36,20,FALSE)","v":955.55198446428574},{"$f":"-HLOOKUP($A295,'FC Projeto'!$B$12:$AL$36,21,FALSE)","v":0},{"$f":"-HLOOKUP($A295,'FC Projeto'!$B$12:$AL$36,22,FALSE)","v":90.658853849588766},{"$f":"-HLOOKUP($A295,'FC Projeto'!$B$12:$AL$36,23,FALSE)","v":32.25009662499383},{"$f":"-HLOOKUP($A295,'FC Projeto'!$B$12:$AL$36,24,FALSE)","v":53.844462732235272},{"$f":"-HLOOKUP($A295,'FC Projeto'!$B$12:$AL$36,25,FALSE)","v":4.5642944923596609},285368.05883113656]
[30,{"$f":"-HLOOKUP($A296,'FC Projeto'!$B$12:$AL$36,14,FALSE)","v":251523.41149152082},{"$f":"-HLOOKUP($A296,'FC Projeto'!$B$12:$AL$36,15,FALSE)","v":20593.513860352115},{"$f":"-HLOOKUP($A296,'FC Projeto'!$B$12:$AL$36,16,FALSE)","v":4728.9365088125505},{"$f":"-HLOOKUP($A296,'FC Projeto'!$B$12:$AL$36,17,FALSE)","v":2927.0962223109359},{"$f":"-HLOOKUP($A296,'FC Projeto'!$B$12:$AL$36,18,FALSE)","v":3602.2486214581454},{"$f":"-HLOOKUP($A296,'FC Projeto'!$B$12:$AL$36,19,FALSE)","v":602.92748415860012},{"$f":"-HLOOKUP($A296,'FC Projeto'!$B$12:$AL$36,20,FALSE)","v":955.55198446428574},{"$f":"-HLOOKUP($A296,'FC Projeto'!$B$12:$AL$36,21,FALSE)","v":0},{"$f":"-HLOOKUP($A296,'FC Projeto'!$B$12:$AL$36,22,FALSE)","v":127.65266986985365},{"$f":"-HLOOKUP($A296,'FC Projeto'!$B$12:$AL$36,23,FALSE)","v":32.25009662499383},{"$f":"-HLOOKUP($A296,'FC Projeto'!$B$12:$AL$36,24,FALSE)","v":53.844462732235272},{"$f":"-HLOOKUP($A296,'FC Projeto'!$B$12:$AL$36,25,FALSE)","v":41.558110512624552},285188.9915128171]
[31,{"$f":"-HLOOKUP($A297,'FC Projeto'!$B$12:$AL$36,14,FALSE)","v":251523.41149152082},{"$f":"-HLOOKUP($A297,'FC Projeto'!$B$12:$AL$36,15,FALSE)","v":20593.513860352115},{"$f":"-HLOOKUP($A297,'FC Projeto'!$B$12:$AL$36,16,FALSE)","v":4728.9365088125505},{"$f":"-HLOOKUP($A297,'FC Projeto'!$B$12:$AL$36,17,FALSE)","v":2927.0962223109359},{"$f":"-HLOOKUP($A297,'FC Projeto'!$B$12:$AL$36,18,FALSE)","v":3602.2486214581454},{"$f":"-HLOOKUP($A297,'FC Projeto'!$B$12:$AL$36,19,FALSE)","v":602.92748415860012},{"$f":"-HLOOKUP($A297,'FC Projeto'!$B$12:$AL$36,20,FALSE)","v":955.55198446428574},{"$f":"-HLOOKUP($A297,'FC Projeto'!$B$12:$AL$36,21,FALSE)","v":0},{"$f":"-HLOOKUP($A297,'FC Projeto'!$B$12:$AL$36,22,FALSE)","v":127.65266986985365},{"$f":"-HLOOKUP($A297,'FC Projeto'!$B$12:$AL$36,23,FALSE)","v":32.25009662499383},{"$f":"-HLOOKUP($A297,'FC Projeto'!$B$12:$AL$36,24,FALSE)","v":53.844462732235272},{"$f":"-HLOOKUP($A297,'FC Projeto'!$B$12:$AL$36,25,FALSE)","v":41.558110512624552},285188.9915128171]
[32,{"$f":"-HLOOKUP($A298,'FC Projeto'!$B$12:$AL$36,14,FALSE)","v":251523.41149152082},{"$f":"-HLOOKUP($A298,'FC Projeto'!$B$12:$AL$36,15,FALSE)","v":20593.513860352115},{"$f":"-HLOOKUP($A298,'FC Projeto'!$B$12:$AL$36,16,FALSE)","v":4728.9365088125505},{"$f":"-HLOOKUP($A298,'FC Projeto'!$B$12:$AL$36,17,FALSE)","v":2927.0962223109359},{"$f":"-HLOOKUP($A298,'FC Projeto'!$B$12:$AL$36,18,FALSE)","v":3602.2486214581454},{"$f":"-HLOOKUP($A298,'FC Projeto'!$B$12:$AL$36,19,FALSE)","v":602.92748415860012},{"$f":"-HLOOKUP($A298,'FC Projeto'!$B$12:$AL$36,20,FALSE)","v":955.55198446428574},{"$f":"-HLOOKUP($A298,'FC Projeto'!$B$12:$AL$36,21,FALSE)","v":0},{"$f":"-HLOOKUP($A298,'FC Projeto'!$B$12:$AL$36,22,FALSE)","v":132.2169643622133},{"$f":"-HLOOKUP($A298,'FC Projeto'!$B$12:$AL$36,23,FALSE)","v":32.25009662499383},{"$f":"-HLOOKUP($A298,'FC Projeto'!$B$12:$AL$36,24,FALSE)","v":53.844462732235272},{"$f":"-HLOOKUP($A298,'FC Projeto'!$B$12:$AL$36,25,FALSE)","v":46.122405004984209},285198.12010180182]
[33,{"$f":"-HLOOKUP($A299,'FC Projeto'!$B$12:$AL$36,14,FALSE)","v":251523.41149152082},{"$f":"-HLOOKUP($A299,'FC Projeto'!$B$12:$AL$36,15,FALSE)","v":20593.513860352115},{"$f":"-HLOOKUP($A299,'FC Projeto'!$B$12:$AL$36,16,FALSE)","v":4728.9365088125505},{"$f":"-HLOOKUP($A299,'FC Projeto'!$B$12:$AL$36,17,FALSE)","v":2927.0962223109359},{"$f":"-HLOOKUP($A299,'FC Projeto'!$B$12:$AL$36,18,FALSE)","v":3602.2486214581454},{"$f":"-HLOOKUP($A299,'FC Projeto'!$B$12:$AL$36,19,FALSE)","v":855.98243451860014},{"$f":"-HLOOKUP($A299,'FC Projeto'!$B$12:$AL$36,20,FALSE)","v":955.55198446428574},{"$f":"-HLOOKUP($A299,'FC Projeto'!$B$12:$AL$36,21,FALSE)","v":0},{"$f":"-HLOOKUP($A299,'FC Projeto'!$B$12:$AL$36,22,FALSE)","v":90.658853849588766},{"$f":"-HLOOKUP($A299,'FC Projeto'!$B$12:$AL$36,23,FALSE)","v":32.25009662499383},{"$f":"-HLOOKUP($A299,'FC Projeto'!$B$12:$AL$36,24,FALSE)","v":53.844462732235272},{"$f":"-HLOOKUP($A299,'FC Projeto'!$B$12:$AL$36,25,FALSE)","v":4.5642944923596609},285368.05883113656]
[34,{"$f":"-HLOOKUP($A300,'FC Projeto'!$B$12:$AL$36,14,FALSE)","v":251523.41149152082},{"$f":"-HLOOKUP($A300,'FC Projeto'!$B$12:$AL$36,15,FALSE)","v":20593.513860352115},{"$f":"-HLOOKUP($A300,'FC Projeto'!$B$12:$AL$36,16,FALSE)","v":4728.9365088125505},{"$f":"-HLOOKUP($A300,'FC Projeto'!$B$12:$AL$36,17,FALSE)","v":2927.0962223109359},{"$f":"-HLOOKUP($A300,'FC Projeto'!$B$12:$AL$36,18,FALSE)","v":3602.2486214581454},{"$f":"-HLOOKUP($A300,'FC Projeto'!$B$12:$AL$36,19,FALSE)","v":602.92748415860012},{"$f":"-HLOOKUP($A300,'FC Projeto'!$B$12:$AL$36,20,FALSE)","v":955.55198446428574},{"$f":"-HLOOKUP($A300,'FC Projeto'!$B$12:$AL$36,21,FALSE)","v":0},{"$f":"-HLOOKUP($A300,'FC Projeto'!$B$12:$AL$36,22,FALSE)","v":90.658853849588766},{"$f":"-HLOOKUP($A300,'FC Projeto'!$B$12:$AL$36,23,FALSE)","v":32.25009662499383},{"$f":"-HLOOKUP($A300,'FC Projeto'!$B$12:$AL$36,24,FALSE)","v":53.844462732235272},{"$f":"-HLOOKUP($A300,'FC Projeto'!$B$12:$AL$36,25,FALSE)","v":4.5642944923596609},285115.00388077658]
[35,{"$f":"-HLOOKUP($A301,'FC Projeto'!$B$12:$AL$36,14,FALSE)","v":251523.41149152082},{"$f":"-HLOOKUP($A301,'FC Projeto'!$B$12:$AL$36,15,FALSE)","v":20593.513860352115},{"$f":"-HLOOKUP($A301,'FC Projeto'!$B$12:$AL$36,16,FALSE)","v":4728.9365088125505},{"$f":"-HLOOKUP($A301,'FC Projeto'!$B$12:$AL$36,17,FALSE)","v":2927.0962223109359},{"$f":"-HLOOKUP($A301,'FC Projeto'!$B$12:$AL$36,18,FALSE)","v":3602.2486214581454},{"$f":"-HLOOKUP($A301,'FC Projeto'!$B$12:$AL$36,19,FALSE)","v":602.92748415860012},{"$f":"-HLOOKUP($A301,'FC Projeto'!$B$12:$AL$36,20,FALSE)","v":955.55198446428574},{"$f":"-HLOOKUP($A301,'FC Projeto'!$B$12:$AL$36,21,FALSE)","v":0},{"$f":"-HLOOKUP($A301,'FC Projeto'!$B$12:$AL$36,22,FALSE)","v":86.094559357229102},{"$f":"-HLOOKUP($A301,'FC Projeto'!$B$12:$AL$36,23,FALSE)","v":32.25009662499383},{"$f":"-HLOOKUP($A301,'FC Projeto'!$B$12:$AL$36,24,FALSE)","v":53.844462732235272},{"$f":"-HLOOKUP($A301,'FC Projeto'!$B$12:$AL$36,25,FALSE)","v":0},285105.87529179186]
["Total",{"$f":"SUM(B267:B301)","v":7732262.7103630686},{"$f":"SUM(C267:C301)","v":633080.07136788405},145375.64996409282,89983.977376922878,116993.78508877648,26442.596851634611,31034.405244998274,{"$f":"SUM(I267:I301)","v":321375.31065747625},{"$f":"SUM(J267:J301)","v":3896.1316145301403},{"$f":"SUM(K267:K301)","v":1442.7227907366771},{"$f":"SUM(L267:L301)","v":1884.5561956282352},{"$f":"SUM(M267:M301)","v":568.85262816522709},9104340.770143915]
[]
["Tabela 16 - Prêmio de Risco de Mercado"]
["Rm - Risco de Mercado","Rf - Taxa Livre de Risco","(Rm - Rf)"]
["S&P 500","10 Y US T Bond"]
[{"$f":"'Entradas no Texto'!B11","v":0.10089927578651858},{"$f":"'Entradas no Texto'!B10","v":3.7068046440541957E-2},{"$f":"A307-B307","v":6.3831229345976626E-2}]
[]
["Tabela 17 - Parâmetros utilizados para o cálculo do risco país"]
["Média EMBI + Br",{"$f":"WACC!D15","v":2.8319413629160062E-2}]
["Frequência da Amostra ","Diária"]
["Período Histórico da Amostra","5 anos"]
["Datas da amostra","nov/2018 a out/2023"]
[]
["Tabela 18 - Cálculo do Custo do Capital Próprio"]
[{"$f":"WACC!B7","v":"Custo do Capital Próprio (CAPM)"}]
["Taxa Livre de Risco",null,{"$f":"WACC!D8","v":3.7068046440541957E-2}]
["Taxa de Retorno do Mercado",null,{"$f":"WACC!D9","v":0.10089927578651858}]
["Prêmio de Risco de Mercado",{"$f":"WACC!C10","v":"(2) - (1)"},{"$f":"WACC!D10","v":6.3831229345976626E-2}]
["Beta Desalavancado",null,{"$f":"WACC!D11","v":0.66993775653500909}]
["IR + CSLL",null,{"$f":"WACC!D12","v":0.34}]
["Beta Alavancado  ",{"$f":"WACC!C13","v":" {(A) + (B) * [1 - (5)]} / (A) * (4)"},{"$f":"WACC!D13","v":1.3331761355046681}]
["Prêmio de Risco do Negócio",{"$f":"WACC!C14","v":" (3) * (6) "},{"$f":"WACC!D14","v":8.5098271663981276E-2}]
["Prêmio de Risco Brasil",null,{"$f":"WACC!D15","v":2.8319413629160062E-2}]
["Custo de Capital Próprio Nominal (USD)",{"$f":"WACC!C16","v":"(1) + (7) + (8) "},{"$f":"WACC!D16","v":0.15048573173368329}]
["Taxa de Inflação Americana ",null,{"$f":"WACC!D17","v":2.0152763416717123E-2}]
["Custo Real do Capital Próprio (CAPM)",{"$f":"WACC!C18","v":"[1+(13)]/[1+(11)]-1"},{"$f":"WACC!D18","v":0.12775828580854109}]
[]
["Tabela 19 - Resumo do Cálculo do WACC"]
["Estrutura de Capital"]
["Participação Capital Próprio",null,{"$f":"WACC!D5","v":0.4}]
["Participação Capital Terceiros",null,{"$f":"WACC!D6","v":0.6}]
["Custo do Capital Próprio (CAPM)"]
["Taxa Livre de Risco",null,{"$f":"WACC!D8","v":3.7068046440541957E-2}]
["Taxa de Retorno do Mercado",null,{"$f":"WACC!D9","v":0.10089927578651858}]
["Prêmio de Risco de Mercado",{"$f":"WACC!C10","v":"(2) - (1)"},{"$f":"WACC!D10","v":6.3831229345976626E-2}]
["Beta Desalavancado",null,{"$f":"WACC!D11","v":0.66993775653500909}]
["IR + CSLL",null,{"$f":"WACC!D12","v":0.34}]
["(6) Beta Alavancado  ",{"$f":"WACC!C13","v":" {(A) + (B) * [1 - (5)]} / (A) * (4)"},{"$f":"WACC!D13","v":1.3331761355046681}]
["Prêmio de Risco do Negócio",{"$f":"WACC!C14","v":" (3) * (6) "},{"$f":"WACC!D14","v":8.5098271663981276E-2}]
["Prêmio de Risco Brasil",null,{"$f":"WACC!D15","v":2.8319413629160062E-2}]
["Custo de Capital Próprio Nominal (USD)",{"$f":"WACC!C16","v":"(1) + (7) + (8) "},{"$f":"WACC!D16","v":0.15048573173368329}]
["Taxa de Inflação Americana ",null,{"$f":"WACC!D17","v":2.0152763416717123E-2}]
["Custo Real do Capital Próprio (CAPM)",{"$f":"WACC!C18","v":"[1+(13)]/[1+(11)]-1"},{"$f":"WACC!D18","v":0.12775828580854109}]
["Custo do Capital de Terceiros"]
["Spread Debêntures IPCA+",null,{"$f":"WACC!D20","v":6.7983171428571409E-2}]
["WACC",null,{"$f":"WACC!D21","v":0}]
["WACC",{"$f":"WACC!C22","v":"(A) x (14) + (B) x (16) "},{"$f":"WACC!D22","v":9.1893217180559289E-2}]
[]
["Tabela 20 - Condições de Financiamento"]
["Prazo",{"$f":"Financiamento!C13","v":20}]
["Carência",{"$f":"Financiamento!C14","v":3}]
["Taxa de juros",{"$f":"Financiamento!C12","v":6.7983171428571409E-2}]
["Valor financiado",{"$f":"Financiamento!C8*1000","v":1335128587.4774098}]
[]
["Tabela 21 - Financiamento"]
[null,"Saldo Devedor","Liberações","Juros","Amortização","Valor da Parcela"]
[1,{"$f":"HLOOKUP($A358,Financiamento!$E$5:$AM$23,15,FALSE)*1000","v":0},{"$f":"HLOOKUP($A358,Financiamento!$E$5:$AM$23,16,FALSE)*1000","v":32815616.626964815},{"$f":"-HLOOKUP($A358,Financiamento!$E$5:$AM$23,18,FALSE)*1000","v":2230909.6906852275},{"$f":"-HLOOKUP($A358,Financiamento!$E$5:$AM$23,19,FALSE)*1000","v":0},{"$f":"E358+D358","v":2230909.6906852275}]
[2,{"$f":"HLOOKUP($A359,Financiamento!$E$5:$AM$23,15,FALSE)*1000","v":32815616.626964815},{"$f":"HLOOKUP($A359,Financiamento!$E$5:$AM$23,16,FALSE)*1000","v":45952035.316132478},{"$f":"-HLOOKUP($A359,Financiamento!$E$5:$AM$23,18,FALSE)*1000","v":5354874.7850736286},{"$f":"-HLOOKUP($A359,Financiamento!$E$5:$AM$23,19,FALSE)*1000","v":0},{"$f":"E359+D359","v":5354874.7850736286}]
[3,{"$f":"HLOOKUP($A360,Financiamento!$E$5:$AM$23,15,FALSE)*1000","v":78767651.943097293},{"$f":"HLOOKUP($A360,Financiamento!$E$5:$AM$23,16,FALSE)*1000","v":134848064.84231639},{"$f":"-HLOOKUP($A360,Financiamento!$E$5:$AM$23,18,FALSE)*1000","v":14522273.894059937},{"$f":"-HLOOKUP($A360,Financiamento!$E$5:$AM$23,19,FALSE)*1000","v":0},14522273.894059937]
[4,{"$f":"HLOOKUP($A361,Financiamento!$E$5:$AM$23,15,FALSE)*1000","v":213615716.78541368},{"$f":"HLOOKUP($A361,Financiamento!$E$5:$AM$23,16,FALSE)*1000","v":119118200.69620146},{"$f":"-HLOOKUP($A361,Financiamento!$E$5:$AM$23,18,FALSE)*1000","v":22620306.952252772},{"$f":"-HLOOKUP($A361,Financiamento!$E$5:$AM$23,19,FALSE)*1000","v":1930330.38982146},24550637.34207423]
[5,{"$f":"HLOOKUP($A362,Financiamento!$E$5:$AM$23,15,FALSE)*1000","v":330803587.09179366},{"$f":"HLOOKUP($A362,Financiamento!$E$5:$AM$23,16,FALSE)*1000","v":130838477.32734241},{"$f":"-HLOOKUP($A362,Financiamento!$E$5:$AM$23,18,FALSE)*1000","v":31383891.604045738},{"$f":"-HLOOKUP($A362,Financiamento!$E$5:$AM$23,19,FALSE)*1000","v":4633391.2907704292},36017282.894816168]
[6,{"$f":"HLOOKUP($A363,Financiamento!$E$5:$AM$23,15,FALSE)*1000","v":457008673.12836564},{"$f":"HLOOKUP($A363,Financiamento!$E$5:$AM$23,16,FALSE)*1000","v":58451278.148020908},{"$f":"-HLOOKUP($A363,Financiamento!$E$5:$AM$23,18,FALSE)*1000","v":35042602.232185654},{"$f":"-HLOOKUP($A363,Financiamento!$E$5:$AM$23,19,FALSE)*1000","v":12565630.39914198},47608232.631327637]
[7,{"$f":"HLOOKUP($A364,Financiamento!$E$5:$AM$23,15,FALSE)*1000","v":502894320.87724465},{"$f":"HLOOKUP($A364,Financiamento!$E$5:$AM$23,16,FALSE)*1000","v":25860330.596017577},{"$f":"-HLOOKUP($A364,Financiamento!$E$5:$AM$23,18,FALSE)*1000","v":35946418.114761308},{"$f":"-HLOOKUP($A364,Financiamento!$E$5:$AM$23,19,FALSE)*1000","v":19572583.381271478},55519001.496032789]
[8,{"$f":"HLOOKUP($A365,Financiamento!$E$5:$AM$23,15,FALSE)*1000","v":509182068.09199065},{"$f":"HLOOKUP($A365,Financiamento!$E$5:$AM$23,16,FALSE)*1000","v":12430110.426007429},{"$f":"-HLOOKUP($A365,Financiamento!$E$5:$AM$23,18,FALSE)*1000","v":35460850.151419654},{"$f":"-HLOOKUP($A365,Financiamento!$E$5:$AM$23,19,FALSE)*1000","v":27268964.400526915},62729814.551946566]
[9,{"$f":"HLOOKUP($A366,Financiamento!$E$5:$AM$23,15,FALSE)*1000","v":494343214.11747122},{"$f":"HLOOKUP($A366,Financiamento!$E$5:$AM$23,16,FALSE)*1000","v":126623180.42569478},{"$f":"-HLOOKUP($A366,Financiamento!$E$5:$AM$23,18,FALSE)*1000","v":42215264.851609968},{"$f":"-HLOOKUP($A366,Financiamento!$E$5:$AM$23,19,FALSE)*1000","v":30707274.879822265},72922539.731432229]
[10,{"$f":"HLOOKUP($A367,Financiamento!$E$5:$AM$23,15,FALSE)*1000","v":590259119.66334379},{"$f":"HLOOKUP($A367,Financiamento!$E$5:$AM$23,16,FALSE)*1000","v":0},{"$f":"-HLOOKUP($A367,Financiamento!$E$5:$AM$23,18,FALSE)*1000","v":40127686.919350743},{"$f":"-HLOOKUP($A367,Financiamento!$E$5:$AM$23,19,FALSE)*1000","v":32228470.797235064},72356157.716585815]
[11,{"$f":"HLOOKUP($A368,Financiamento!$E$5:$AM$23,15,FALSE)*1000","v":558030648.86610866},{"$f":"HLOOKUP($A368,Financiamento!$E$5:$AM$23,16,FALSE)*1000","v":0},{"$f":"-HLOOKUP($A368,Financiamento!$E$5:$AM$23,18,FALSE)*1000","v":37936693.264261611},{"$f":"-HLOOKUP($A368,Financiamento!$E$5:$AM$23,19,FALSE)*1000","v":32959653.763470791},70896347.027732402]
[12,{"$f":"HLOOKUP($A369,Financiamento!$E$5:$AM$23,15,FALSE)*1000","v":525070995.10263789},{"$f":"HLOOKUP($A369,Financiamento!$E$5:$AM$23,16,FALSE)*1000","v":0},{"$f":"-HLOOKUP($A369,Financiamento!$E$5:$AM$23,18,FALSE)*1000","v":35695991.472233213},{"$f":"-HLOOKUP($A369,Financiamento!$E$5:$AM$23,19,FALSE)*1000","v":40408076.141452841},76104067.613686055]
[13,{"$f":"HLOOKUP($A370,Financiamento!$E$5:$AM$23,15,FALSE)*1000","v":484662918.96118504},{"$f":"HLOOKUP($A370,Financiamento!$E$5:$AM$23,16,FALSE)*1000","v":0},{"$f":"-HLOOKUP($A370,Financiamento!$E$5:$AM$23,18,FALSE)*1000","v":32948922.304810055},{"$f":"-HLOOKUP($A370,Financiamento!$E$5:$AM$23,19,FALSE)*1000","v":40408076.141452841},73356998.446262896]
[14,{"$f":"HLOOKUP($A371,Financiamento!$E$5:$AM$23,15,FALSE)*1000","v":444254842.81973225},{"$f":"HLOOKUP($A371,Financiamento!$E$5:$AM$23,16,FALSE)*1000","v":0},{"$f":"-HLOOKUP($A371,Financiamento!$E$5:$AM$23,18,FALSE)*1000","v":30201853.137386899},{"$f":"-HLOOKUP($A371,Financiamento!$E$5:$AM$23,19,FALSE)*1000","v":40408076.141452841},70609929.278839737]
[15,{"$f":"HLOOKUP($A372,Financiamento!$E$5:$AM$23,15,FALSE)*1000","v":403846766.6782794},{"$f":"HLOOKUP($A372,Financiamento!$E$5:$AM$23,16,FALSE)*1000","v":30604321.423905343},{"$f":"-HLOOKUP($A372,Financiamento!$E$5:$AM$23,18,FALSE)*1000","v":29535362.799780209},{"$f":"-HLOOKUP($A372,Financiamento!$E$5:$AM$23,19,FALSE)*1000","v":40408076.141452841},69943438.941233054]
[16,{"$f":"HLOOKUP($A373,Financiamento!$E$5:$AM$23,15,FALSE)*1000","v":394043011.96073186},{"$f":"HLOOKUP($A373,Financiamento!$E$5:$AM$23,16,FALSE)*1000","v":30604321.423905343},{"$f":"-HLOOKUP($A373,Financiamento!$E$5:$AM$23,18,FALSE)*1000","v":28868872.46217351},{"$f":"-HLOOKUP($A373,Financiamento!$E$5:$AM$23,19,FALSE)*1000","v":40408076.141452841},69276948.603626356]
[17,{"$f":"HLOOKUP($A374,Financiamento!$E$5:$AM$23,15,FALSE)*1000","v":384239257.24318439},{"$f":"HLOOKUP($A374,Financiamento!$E$5:$AM$23,16,FALSE)*1000","v":39105521.819434598},{"$f":"-HLOOKUP($A374,Financiamento!$E$5:$AM$23,18,FALSE)*1000","v":28780320.68840472},{"$f":"-HLOOKUP($A374,Financiamento!$E$5:$AM$23,19,FALSE)*1000","v":40408076.141452841},69188396.829857558]
[18,{"$f":"HLOOKUP($A375,Financiamento!$E$5:$AM$23,15,FALSE)*1000","v":382936702.92116606},{"$f":"HLOOKUP($A375,Financiamento!$E$5:$AM$23,16,FALSE)*1000","v":0},{"$f":"-HLOOKUP($A375,Financiamento!$E$5:$AM$23,18,FALSE)*1000","v":26033251.520981565},{"$f":"-HLOOKUP($A375,Financiamento!$E$5:$AM$23,19,FALSE)*1000","v":42958436.260111615},68991687.78109318]
[19,{"$f":"HLOOKUP($A376,Financiamento!$E$5:$AM$23,15,FALSE)*1000","v":339978266.66105449},{"$f":"HLOOKUP($A376,Financiamento!$E$5:$AM$23,16,FALSE)*1000","v":0},{"$f":"-HLOOKUP($A376,Financiamento!$E$5:$AM$23,18,FALSE)*1000","v":23112800.784407038},{"$f":"-HLOOKUP($A376,Financiamento!$E$5:$AM$23,19,FALSE)*1000","v":45508796.378770389},68621597.163177431]
[20,{"$f":"HLOOKUP($A377,Financiamento!$E$5:$AM$23,15,FALSE)*1000","v":294469470.2822842},{"$f":"HLOOKUP($A377,Financiamento!$E$5:$AM$23,16,FALSE)*1000","v":48665392.911772043},{"$f":"-HLOOKUP($A377,Financiamento!$E$5:$AM$23,18,FALSE)*1000","v":23327396.227640923},{"$f":"-HLOOKUP($A377,Financiamento!$E$5:$AM$23,19,FALSE)*1000","v":48767589.863723278},72094986.091364205]
[21,{"$f":"HLOOKUP($A378,Financiamento!$E$5:$AM$23,15,FALSE)*1000","v":294367273.33033293},{"$f":"HLOOKUP($A378,Financiamento!$E$5:$AM$23,16,FALSE)*1000","v":48665392.911772043},{"$f":"-HLOOKUP($A378,Financiamento!$E$5:$AM$23,18,FALSE)*1000","v":23320448.554736942},{"$f":"-HLOOKUP($A378,Financiamento!$E$5:$AM$23,19,FALSE)*1000","v":46837259.473901816},70157708.02863875]
[22,{"$f":"HLOOKUP($A379,Financiamento!$E$5:$AM$23,15,FALSE)*1000","v":296195406.76820314},{"$f":"HLOOKUP($A379,Financiamento!$E$5:$AM$23,16,FALSE)*1000","v":57166593.307301305},{"$f":"-HLOOKUP($A379,Financiamento!$E$5:$AM$23,18,FALSE)*1000","v":24022669.427475881},{"$f":"-HLOOKUP($A379,Financiamento!$E$5:$AM$23,19,FALSE)*1000","v":44134198.572952844},{"$f":"E379+D379","v":68156868.000428721}]
[23,{"$f":"HLOOKUP($A380,Financiamento!$E$5:$AM$23,15,FALSE)*1000","v":309227801.50255162},{"$f":"HLOOKUP($A380,Financiamento!$E$5:$AM$23,16,FALSE)*1000","v":0},{"$f":"-HLOOKUP($A380,Financiamento!$E$5:$AM$23,18,FALSE)*1000","v":21022286.64002822},{"$f":"-HLOOKUP($A380,Financiamento!$E$5:$AM$23,19,FALSE)*1000","v":43154158.451977305},{"$f":"E380+D380","v":64176445.092005521}]
[24,{"$f":"HLOOKUP($A381,Financiamento!$E$5:$AM$23,15,FALSE)*1000","v":266073643.0505743},{"$f":"HLOOKUP($A381,Financiamento!$E$5:$AM$23,16,FALSE)*1000","v":0},{"$f":"-HLOOKUP($A381,Financiamento!$E$5:$AM$23,18,FALSE)*1000","v":18088530.088131711},{"$f":"-HLOOKUP($A381,Financiamento!$E$5:$AM$23,19,FALSE)*1000","v":43099404.457243808},61187934.545375519]
[25,{"$f":"HLOOKUP($A382,Financiamento!$E$5:$AM$23,15,FALSE)*1000","v":222974238.5933305},{"$f":"HLOOKUP($A382,Financiamento!$E$5:$AM$23,16,FALSE)*1000","v":0},{"$f":"-HLOOKUP($A382,Financiamento!$E$5:$AM$23,18,FALSE)*1000","v":15158495.886445569},{"$f":"-HLOOKUP($A382,Financiamento!$E$5:$AM$23,19,FALSE)*1000","v":43569679.624745712},58728175.511191279]
[26,{"$f":"HLOOKUP($A383,Financiamento!$E$5:$AM$23,15,FALSE)*1000","v":179404558.96858481},{"$f":"HLOOKUP($A383,Financiamento!$E$5:$AM$23,16,FALSE)*1000","v":0},{"$f":"-HLOOKUP($A383,Financiamento!$E$5:$AM$23,18,FALSE)*1000","v":12196490.88742855},{"$f":"-HLOOKUP($A383,Financiamento!$E$5:$AM$23,19,FALSE)*1000","v":40131369.145450354},52327860.032878906]
[27,{"$f":"HLOOKUP($A384,Financiamento!$E$5:$AM$23,15,FALSE)*1000","v":139273189.82313445},{"$f":"HLOOKUP($A384,Financiamento!$E$5:$AM$23,16,FALSE)*1000","v":0},{"$f":"-HLOOKUP($A384,Financiamento!$E$5:$AM$23,18,FALSE)*1000","v":9468233.1391501166},{"$f":"-HLOOKUP($A384,Financiamento!$E$5:$AM$23,19,FALSE)*1000","v":38610173.228037558},48078406.367187679]
[28,{"$f":"HLOOKUP($A385,Financiamento!$E$5:$AM$23,15,FALSE)*1000","v":100663016.5950969},{"$f":"HLOOKUP($A385,Financiamento!$E$5:$AM$23,16,FALSE)*1000","v":0},{"$f":"-HLOOKUP($A385,Financiamento!$E$5:$AM$23,18,FALSE)*1000","v":6843391.1137016006},{"$f":"-HLOOKUP($A385,Financiamento!$E$5:$AM$23,19,FALSE)*1000","v":37878990.261801824},44722381.375503421]
[29,{"$f":"HLOOKUP($A386,Financiamento!$E$5:$AM$23,15,FALSE)*1000","v":62784026.333295062},{"$f":"HLOOKUP($A386,Financiamento!$E$5:$AM$23,16,FALSE)*1000","v":0},{"$f":"-HLOOKUP($A386,Financiamento!$E$5:$AM$23,18,FALSE)*1000","v":4268257.2251923392},{"$f":"-HLOOKUP($A386,Financiamento!$E$5:$AM$23,19,FALSE)*1000","v":30430567.883819778},34698825.109012119]
[30,{"$f":"HLOOKUP($A387,Financiamento!$E$5:$AM$23,15,FALSE)*1000","v":32353458.449475277},{"$f":"HLOOKUP($A387,Financiamento!$E$5:$AM$23,16,FALSE)*1000","v":0},{"$f":"-HLOOKUP($A387,Financiamento!$E$5:$AM$23,18,FALSE)*1000","v":2199490.7120778398},{"$f":"-HLOOKUP($A387,Financiamento!$E$5:$AM$23,19,FALSE)*1000","v":20928008.777764998},23127499.48984284]
[31,{"$f":"HLOOKUP($A388,Financiamento!$E$5:$AM$23,15,FALSE)*1000","v":11425449.671710275},{"$f":"HLOOKUP($A388,Financiamento!$E$5:$AM$23,16,FALSE)*1000","v":0},{"$f":"-HLOOKUP($A388,Financiamento!$E$5:$AM$23,18,FALSE)*1000","v":776738.30368039454},{"$f":"-HLOOKUP($A388,Financiamento!$E$5:$AM$23,19,FALSE)*1000","v":11425449.671710214},12202187.975390607]
["Total",null,{"$f":"SUM(C358:C379)","v":941748838.20278895},{"$f":"SUM(D358:D379)","v":608689661.8397373},{"$f":"SUM(E358:E379)","v":632521036.70023751},{"$f":"SUM(F358:F379)","v":1241210698.5399747}]
[]
["Tabela 22 - Tributos sobre a receita operacional"]
["Tributo","Parâmetro"]
[{"$f":"'Painel de Controle'!F6","v":"PIS"},{"$f":"'Painel de Controle'!G6","v":1.6500000000000001E-2},"da receita bruta"]
[{"$f":"'Painel de Controle'!F7","v":"COFINS"},{"$f":"'Painel de Controle'!G7","v":7.5999999999999998E-2},"da receita bruta"]
[{"$f":"'Painel de Controle'!F8","v":"FUNRURAL"},{"$f":"'Painel de Controle'!G8","v":2.0500000000000001E-2},"da receita bruta"]
["ITR",{"$f":"'Painel de Controle'!G18","v":0.05},"do valor da terra nua"]
[]
["Tabela 23 - Tributos sobre o lucro"]
["Tributo","Parâmetro"]
[{"$f":"'Painel de Controle'!F9","v":"IRPJ"},{"$f":"'Painel de Controle'!G9","v":0.15}]
[{"$f":"'Painel de Controle'!F10","v":"IRPJ Alíquota Adicional"},{"$f":"'Painel de Controle'!G10","v":0.1}]
["Base da Alíquota Adicional",{"$f":"'Painel de Controle'!G11*1000","v":240000}]
[{"$f":"'Painel de Controle'!F12","v":"CSLL"},{"$f":"'Painel de Controle'!G12","v":0.09}]
[{"$f":"'Painel de Controle'!F14","v":"Benefício Sudene"},{"$f":"'Painel de Controle'!G14","v":0.75}]
[{"$f":"'Painel de Controle'!F15","v":"Prazo Benefício Sudene (anos)"},{"$f":"'Painel de Controle'!G15","v":10}]
[{"$f":"'Painel de Controle'!F17","v":"Desconto REIDI"},{"$f":"'Painel de Controle'!G17","v":3.6499999999999998E-2}]
[]
["Tabela 24 - Tributação"]
[null,{"$f":"Tributação!C4","v":0},{"$f":"Tributação!D4","v":1},{"$f":"Tributação!E4","v":2},{"$f":"Tributação!F4","v":3},{"$f":"Tributação!G4","v":4},{"$f":"Tributação!H4","v":5},{"$f":"Tributação!I4","v":6},{"$f":"Tributação!J4","v":7},{"$f":"Tributação!K4","v":8},{"$f":"Tributação!L4","v":9},{"$f":"Tributação!M4","v":10},{"$f":"Tributação!N4","v":11},{"$f":"Tributação!O4","v":12},{"$f":"Tributação!P4","v":13},{"$f":"Tributação!Q4","v":14},{"$f":"Tributação!R4","v":15},{"$f":"Tributação!S4","v":16},{"$f":"Tributação!T4","v":17},{"$f":"Tributação!U4","v":18},{"$f":"Tributação!V4","v":19},{"$f":"Tributação!W4","v":20},{"$f":"Tributação!X4","v":21},{"$f":"Tributação!Y4","v":22},{"$f":"Tributação!Z4","v":23},{"$f":"Tributação!AA4","v":24},{"$f":"Tributação!AB4","v":25},{"$f":"Tributação!AC4","v":26},{"$f":"Tributação!AD4","v":27},{"$f":"Tributação!AE4","v":28},{"$f":"Tributação!AF4","v":29},{"$f":"Tributação!AG4","v":30},{"$f":"Tributação!AH4","v":31},{"$f":"Tributação!AI4","v":32},{"$f":"Tributação!AJ4","v":33},{"$f":"Tributação!AK4","v":34},{"$f":"Tributação!AL4","v":35}]
[{"$f":"Tributação!B5","v":"PIS-COFINS"}]
[{"$f":"Tributação!B6","v":"Receita Tributada"},{"$f":"Tributação!C6","v":0},{"$f":"Tributação!D6","v":0},{"$f":"Tributação!E6","v":0},{"$f":"Tributação!F6","v":0},{"$f":"Tributação!G6","v":173441.35632186674},{"$f":"Tributação!H6","v":296758.42642426665},{"$f":"Tributação!I6","v":390399.70026426669},{"$f":"Tributação!J6","v":441298.99672933336},{"$f":"Tributação!K6","v":474847.0614181335},{"$f":"Tributação!L6","v":474847.0614181335},{"$f":"Tributação!M6","v":474847.0614181335},{"$f":"Tributação!N6","v":474847.0614181335},{"$f":"Tributação!O6","v":474847.0614181335},{"$f":"Tributação!P6","v":474847.0614181335},{"$f":"Tributação!Q6","v":474847.0614181335},{"$f":"Tributação!R6","v":474847.0614181335},{"$f":"Tributação!S6","v":474847.0614181335},{"$f":"Tributação!T6","v":474847.0614181335},{"$f":"Tributação!U6","v":474847.0614181335},{"$f":"Tributação!V6","v":474847.0614181335},{"$f":"Tributação!W6","v":474847.0614181335},{"$f":"Tributação!X6","v":474847.0614181335},{"$f":"Tributação!Y6","v":474847.0614181335},{"$f":"Tributação!Z6","v":474847.0614181335},{"$f":"Tributação!AA6","v":474847.0614181335},{"$f":"Tributação!AB6","v":474847.0614181335},{"$f":"Tributação!AC6","v":474847.0614181335},{"$f":"Tributação!AD6","v":474847.0614181335},{"$f":"Tributação!AE6","v":474847.0614181335},{"$f":"Tributação!AF6","v":474847.0614181335},{"$f":"Tributação!AG6","v":474847.0614181335},{"$f":"Tributação!AH6","v":474847.0614181335},{"$f":"Tributação!AI6","v":474847.0614181335},{"$f":"Tributação!AJ6","v":474847.0614181335},{"$f":"Tributação!AK6","v":474847.0614181335},{"$f":"Tributação!AL6","v":474847.0614181335}]
[{"$f":"Tributação!B7","v":"PIS"},{"$f":"Tributação!C7","v":0},{"$f":"Tributação!D7","v":0},{"$f":"Tributação!E7","v":0},{"$f":"Tributação!F7","v":0},{"$f":"Tributação!G7","v":2861.7823793108014},{"$f":"Tributação!H7","v":4896.5140360003998},{"$f":"Tributação!I7","v":6441.5950543604004},{"$f":"Tributação!J7","v":7281.4334460340006},{"$f":"Tributação!K7","v":7834.9765133992032},{"$f":"Tributação!L7","v":7834.9765133992032},{"$f":"Tributação!M7","v":7834.9765133992032},{"$f":"Tributação!N7","v":7834.9765133992032},{"$f":"Tributação!O7","v":7834.9765133992032},{"$f":"Tributação!P7","v":7834.9765133992032},{"$f":"Tributação!Q7","v":7834.9765133992032},{"$f":"Tributação!R7","v":7834.9765133992032},{"$f":"Tributação!S7","v":7834.9765133992032},{"$f":"Tributação!T7","v":7834.9765133992032},{"$f":"Tributação!U7","v":7834.9765133992032},{"$f":"Tributação!V7","v":7834.9765133992032},{"$f":"Tributação!W7","v":7834.9765133992032},{"$f":"Tributação!X7","v":7834.9765133992032},{"$f":"Tributação!Y7","v":7834.9765133992032},{"$f":"Tributação!Z7","v":7834.9765133992032},{"$f":"Tributação!AA7","v":7834.9765133992032},{"$f":"Tributação!AB7","v":7834.9765133992032},{"$f":"Tributação!AC7","v":7834.9765133992032},{"$f":"Tributação!AD7","v":7834.9765133992032},{"$f":"Tributação!AE7","v":7834.9765133992032},{"$f":"Tributação!AF7","v":7834.9765133992032},{"$f":"Tributação!AG7","v":7834.9765133992032},{"$f":"Tributação!AH7","v":7834.9765133992032},{"$f":"Tributação!AI7","v":7834.9765133992032},{"$f":"Tributação!AJ7","v":7834.9765133992032},{"$f":"Tributação!AK7","v":7834.9765133992032},{"$f":"Tributação!AL7","v":7834.9765133992032}]
[{"$f":"Tributação!B8","v":"COFINS"},{"$f":"Tributação!C8","v":0},{"$f":"Tributação!D8","v":0},{"$f":"Tributação!E8","v":0},{"$f":"Tributação!F8","v":0},{"$f":"Tributação!G8","v":13181.543080461872},{"$f":"Tributação!H8","v":22553.640408244264},{"$f":"Tributação!I8","v":29670.377220084269},{"$f":"Tributação!J8","v":33538.723751429337},{"$f":"Tributação!K8","v":36088.376667778146},{"$f":"Tributação!L8","v":36088.376667778146},{"$f":"Tributação!M8","v":36088.376667778146},{"$f":"Tributação!N8","v":36088.376667778146},{"$f":"Tributação!O8","v":36088.376667778146},{"$f":"Tributação!P8","v":36088.376667778146},{"$f":"Tributação!Q8","v":36088.376667778146},{"$f":"Tributação!R8","v":36088.376667778146},{"$f":"Tributação!S8","v":36088.376667778146},{"$f":"Tributação!T8","v":36088.376667778146},{"$f":"Tributação!U8","v":36088.376667778146},{"$f":"Tributação!V8","v":36088.376667778146},{"$f":"Tributação!W8","v":36088.376667778146},{"$f":"Tributação!X8","v":36088.376667778146},{"$f":"Tributação!Y8","v":36088.376667778146},{"$f":"Tributação!Z8","v":36088.376667778146},{"$f":"Tributação!AA8","v":36088.376667778146},{"$f":"Tributação!AB8","v":36088.376667778146},{"$f":"Tributação!AC8","v":36088.376667778146},{"$f":"Tributação!AD8","v":36088.376667778146},{"$f":"Tributação!AE8","v":36088.376667778146},{"$f":"Tributação!AF8","v":36088.376667778146},{"$f":"Tributação!AG8","v":36088.376667778146},{"$f":"Tributação!AH8","v":36088.376667778146},{"$f":"Tributação!AI8","v":36088.376667778146},{"$f":"Tributação!AJ8","v":36088.376667778146},{"$f":"Tributação!AK8","v":36088.376667778146},{"$f":"Tributação!AL8","v":36088.376667778146}]
[{"$f":"Tributação!B9","v":"Alíquota Base"},{"$f":"Tributação!C9","v":0},{"$f":"Tributação!D9","v":0},{"$f":"Tributação!E9","v":0},{"$f":"Tributação!F9","v":0},{"$f":"Tributação!G9","v":9.2499999999999999E-2},{"$f":"Tributação!H9","v":9.2499999999999999E-2},{"$f":"Tributação!I9","v":9.2499999999999999E-2},{"$f":"Tributação!J9","v":9.2500000000000013E-2},{"$f":"Tributação!K9","v":9.2499999999999999E-2},{"$f":"Tributação!L9","v":9.2499999999999999E-2},{"$f":"Tributação!M9","v":9.2499999999999999E-2},{"$f":"Tributação!N9","v":9.2499999999999999E-2},{"$f":"Tributação!O9","v":9.2499999999999999E-2},{"$f":"Tributação!P9","v":9.2499999999999999E-2},{"$f":"Tributação!Q9","v":9.2499999999999999E-2},{"$f":"Tributação!R9","v":9.2499999999999999E-2},{"$f":"Tributação!S9","v":9.2499999999999999E-2},{"$f":"Tributação!T9","v":9.2499999999999999E-2},{"$f":"Tributação!U9","v":9.2499999999999999E-2},{"$f":"Tributação!V9","v":9.2499999999999999E-2},{"$f":"Tributação!W9","v":9.2499999999999999E-2},{"$f":"Tributação!X9","v":9.2499999999999999E-2},{"$f":"Tributação!Y9","v":9.2499999999999999E-2},{"$f":"Tributação!Z9","v":9.2499999999999999E-2},{"$f":"Tributação!AA9","v":9.2499999999999999E-2},{"$f":"Tributação!AB9","v":9.2499999999999999E-2},{"$f":"Tributação!AC9","v":9.2499999999999999E-2},{"$f":"Tributação!AD9","v":9.2499999999999999E-2},{"$f":"Tributação!AE9","v":9.2499999999999999E-2},{"$f":"Tributação!AF9","v":9.2499999999999999E-2},{"$f":"Tributação!AG9","v":9.2499999999999999E-2},{"$f":"Tributação!AH9","v":9.2499999999999999E-2},{"$f":"Tributação!AI9","v":9.2499999999999999E-2},{"$f":"Tributação!AJ9","v":9.2499999999999999E-2},{"$f":"Tributação!AK9","v":9.2499999999999999E-2},{"$f":"Tributação!AL9","v":9.2499999999999999E-2}]
[]
[{"$f":"Tributação!B11","v":"Custos Operacionais Tributados"},{"$f":"Tributação!C11","v":0},{"$f":"Tributação!D11","v":0},{"$f":"Tributação!E11","v":0},{"$f":"Tributação!F11","v":0},{"$f":"Tributação!G11","v":102189.11572744677},{"$f":"Tributação!H11","v":174845.7335901327},{"$f":"Tributação!I11","v":230017.80542024018},{"$f":"Tributação!J11","v":260006.92801025163},{"$f":"Tributação!K11","v":279772.95808299637},{"$f":"Tributação!L11","v":279772.95808299637},{"$f":"Tributação!M11","v":279772.95808299637},{"$f":"Tributação!N11","v":279772.95808299637},{"$f":"Tributação!O11","v":279772.95808299637},{"$f":"Tributação!P11","v":279772.95808299637},{"$f":"Tributação!Q11","v":279772.95808299637},{"$f":"Tributação!R11","v":279772.95808299637},{"$f":"Tributação!S11","v":279772.95808299637},{"$f":"Tributação!T11","v":279772.95808299637},{"$f":"Tributação!U11","v":279772.95808299637},{"$f":"Tributação!V11","v":279772.95808299637},{"$f":"Tributação!W11","v":279772.95808299637},{"$f":"Tributação!X11","v":279772.95808299637},{"$f":"Tributação!Y11","v":279772.95808299637},{"$f":"Tributação!Z11","v":279772.95808299637},{"$f":"Tributação!AA11","v":279772.95808299637},{"$f":"Tributação!AB11","v":279772.95808299637},{"$f":"Tributação!AC11","v":279772.95808299637},{"$f":"Tributação!AD11","v":279772.95808299637},{"$f":"Tributação!AE11","v":279772.95808299637},{"$f":"Tributação!AF11","v":279772.95808299637},{"$f":"Tributação!AG11","v":279772.95808299637},{"$f":"Tributação!AH11","v":279772.95808299637},{"$f":"Tributação!AI11","v":279772.95808299637},{"$f":"Tributação!AJ11","v":279772.95808299637},{"$f":"Tributação!AK11","v":279772.95808299637},{"$f":"Tributação!AL11","v":279772.95808299637}]
[{"$f":"Tributação!B12","v":"PIS"},{"$f":"Tributação!C12","v":0},{"$f":"Tributação!D12","v":0},{"$f":"Tributação!E12","v":0},{"$f":"Tributação!F12","v":0},{"$f":"Tributação!G12","v":1686.1204095028718},{"$f":"Tributação!H12","v":2884.9546042371899},{"$f":"Tributação!I12","v":3795.2937894339634},{"$f":"Tributação!J12","v":4290.1143121691521},{"$f":"Tributação!K12","v":4616.2538083694399},{"$f":"Tributação!L12","v":4616.2538083694399},{"$f":"Tributação!M12","v":4616.2538083694399},{"$f":"Tributação!N12","v":4616.2538083694399},{"$f":"Tributação!O12","v":4616.2538083694399},{"$f":"Tributação!P12","v":4616.2538083694399},{"$f":"Tributação!Q12","v":4616.2538083694399},{"$f":"Tributação!R12","v":4616.2538083694399},{"$f":"Tributação!S12","v":4616.2538083694399},{"$f":"Tributação!T12","v":4616.2538083694399},{"$f":"Tributação!U12","v":4616.2538083694399},{"$f":"Tributação!V12","v":4616.2538083694399},{"$f":"Tributação!W12","v":4616.2538083694399},{"$f":"Tributação!X12","v":4616.2538083694399},{"$f":"Tributação!Y12","v":4616.2538083694399},{"$f":"Tributação!Z12","v":4616.2538083694399},{"$f":"Tributação!AA12","v":4616.2538083694399},{"$f":"Tributação!AB12","v":4616.2538083694399},{"$f":"Tributação!AC12","v":4616.2538083694399},{"$f":"Tributação!AD12","v":4616.2538083694399},{"$f":"Tributação!AE12","v":4616.2538083694399},{"$f":"Tributação!AF12","v":4616.2538083694399},{"$f":"Tributação!AG12","v":4616.2538083694399},{"$f":"Tributação!AH12","v":4616.2538083694399},{"$f":"Tributação!AI12","v":4616.2538083694399},{"$f":"Tributação!AJ12","v":4616.2538083694399},{"$f":"Tributação!AK12","v":4616.2538083694399},{"$f":"Tributação!AL12","v":4616.2538083694399}]
[{"$f":"Tributação!B13","v":"COFINS"},{"$f":"Tributação!C13","v":0},{"$f":"Tributação!D13","v":0},{"$f":"Tributação!E13","v":0},{"$f":"Tributação!F13","v":0},{"$f":"Tributação!G13","v":7766.3727952859545},{"$f":"Tributação!H13","v":13288.275752850084},{"$f":"Tributação!I13","v":17481.353211938254},{"$f":"Tributação!J13","v":19760.526528779123},{"$f":"Tributação!K13","v":21262.744814307724},{"$f":"Tributação!L13","v":21262.744814307724},{"$f":"Tributação!M13","v":21262.744814307724},{"$f":"Tributação!N13","v":21262.744814307724},{"$f":"Tributação!O13","v":21262.744814307724},{"$f":"Tributação!P13","v":21262.744814307724},{"$f":"Tributação!Q13","v":21262.744814307724},{"$f":"Tributação!R13","v":21262.744814307724},{"$f":"Tributação!S13","v":21262.744814307724},{"$f":"Tributação!T13","v":21262.744814307724},{"$f":"Tributação!U13","v":21262.744814307724},{"$f":"Tributação!V13","v":21262.744814307724},{"$f":"Tributação!W13","v":21262.744814307724},{"$f":"Tributação!X13","v":21262.744814307724},{"$f":"Tributação!Y13","v":21262.744814307724},{"$f":"Tributação!Z13","v":21262.744814307724},{"$f":"Tributação!AA13","v":21262.744814307724},{"$f":"Tributação!AB13","v":21262.744814307724},{"$f":"Tributação!AC13","v":21262.744814307724},{"$f":"Tributação!AD13","v":21262.744814307724},{"$f":"Tributação!AE13","v":21262.744814307724},{"$f":"Tributação!AF13","v":21262.744814307724},{"$f":"Tributação!AG13","v":21262.744814307724},{"$f":"Tributação!AH13","v":21262.744814307724},{"$f":"Tributação!AI13","v":21262.744814307724},{"$f":"Tributação!AJ13","v":21262.744814307724},{"$f":"Tributação!AK13","v":21262.744814307724},{"$f":"Tributação!AL13","v":21262.744814307724}]
[]
[{"$f":"Tributação!B15","v":"Tributação Cumulativa"}]
[{"$f":"Tributação!B16","v":"PIS"},{"$f":"Tributação!C16","v":0},{"$f":"Tributação!D16","v":0},{"$f":"Tributação!E16","v":0},{"$f":"Tributação!F16","v":0},{"$f":"Tributação!G16","v":1175.6619698079296},{"$f":"Tributação!H16","v":2011.5594317632099},{"$f":"Tributação!I16","v":2646.3012649264369},{"$f":"Tributação!J16","v":2991.3191338648485},{"$f":"Tributação!K16","v":3218.7227050297633},{"$f":"Tributação!L16","v":3218.7227050297633},{"$f":"Tributação!M16","v":3218.7227050297633},{"$f":"Tributação!N16","v":3218.7227050297633},{"$f":"Tributação!O16","v":3218.7227050297633},{"$f":"Tributação!P16","v":3218.7227050297633},{"$f":"Tributação!Q16","v":3218.7227050297633},{"$f":"Tributação!R16","v":3218.7227050297633},{"$f":"Tributação!S16","v":3218.7227050297633},{"$f":"Tributação!T16","v":3218.7227050297633},{"$f":"Tributação!U16","v":3218.7227050297633},{"$f":"Tributação!V16","v":3218.7227050297633},{"$f":"Tributação!W16","v":3218.7227050297633},{"$f":"Tributação!X16","v":3218.7227050297633},{"$f":"Tributação!Y16","v":3218.7227050297633},{"$f":"Tributação!Z16","v":3218.7227050297633},{"$f":"Tributação!AA16","v":3218.7227050297633},{"$f":"Tributação!AB16","v":3218.7227050297633},{"$f":"Tributação!AC16","v":3218.7227050297633},{"$f":"Tributação!AD16","v":3218.7227050297633},{"$f":"Tributação!AE16","v":3218.7227050297633},{"$f":"Tributação!AF16","v":3218.7227050297633},{"$f":"Tributação!AG16","v":3218.7227050297633},{"$f":"Tributação!AH16","v":3218.7227050297633},{"$f":"Tributação!AI16","v":3218.7227050297633},{"$f":"Tributação!AJ16","v":3218.7227050297633},{"$f":"Tributação!AK16","v":3218.7227050297633},{"$f":"Tributação!AL16","v":3218.7227050297633}]
[{"$f":"Tributação!B17","v":"COFINS"},{"$f":"Tributação!C17","v":0},{"$f":"Tributação!D17","v":0},{"$f":"Tributação!E17","v":0},{"$f":"Tributação!F17","v":0},{"$f":"Tributação!G17","v":5415.1702851759173},{"$f":"Tributação!H17","v":9265.3646553941799},{"$f":"Tributação!I17","v":12189.024008146014},{"$f":"Tributação!J17","v":13778.197222650215},{"$f":"Tributação!K17","v":14825.631853470422},{"$f":"Tributação!L17","v":14825.631853470422},{"$f":"Tributação!M17","v":14825.631853470422},{"$f":"Tributação!N17","v":14825.631853470422},{"$f":"Tributação!O17","v":14825.631853470422},{"$f":"Tributação!P17","v":14825.631853470422},{"$f":"Tributação!Q17","v":14825.631853470422},{"$f":"Tributação!R17","v":14825.631853470422},{"$f":"Tributação!S17","v":14825.631853470422},{"$f":"Tributação!T17","v":14825.631853470422},{"$f":"Tributação!U17","v":14825.631853470422},{"$f":"Tributação!V17","v":14825.631853470422},{"$f":"Tributação!W17","v":14825.631853470422},{"$f":"Tributação!X17","v":14825.631853470422},{"$f":"Tributação!Y17","v":14825.631853470422},{"$f":"Tributação!Z17","v":14825.631853470422},{"$f":"Tributação!AA17","v":14825.631853470422},{"$f":"Tributação!AB17","v":14825.631853470422},{"$f":"Tributação!AC17","v":14825.631853470422},{"$f":"Tributação!AD17","v":14825.631853470422},{"$f":"Tributação!AE17","v":14825.631853470422},{"$f":"Tributação!AF17","v":14825.631853470422},{"$f":"Tributação!AG17","v":14825.631853470422},{"$f":"Tributação!AH17","v":14825.631853470422},{"$f":"Tributação!AI17","v":14825.631853470422},{"$f":"Tributação!AJ17","v":14825.631853470422},{"$f":"Tributação!AK17","v":14825.631853470422},{"$f":"Tributação!AL17","v":14825.631853470422}]
[{"$f":"Tributação!B18","v":"Alíquota Efetiva"},{"$f":"Tributação!C18","v":0},{"$f":"Tributação!D18","v":0},{"$f":"Tributação!E18","v":0},{"$f":"Tributação!F18","v":0},{"$f":"Tributação!G18","v":3.8000350059260363E-2},{"$f":"Tributação!H18","v":3.8000350059260349E-2},{"$f":"Tributação!I18","v":3.8000350059260356E-2},{"$f":"Tributação!J18","v":3.800035005926037E-2},{"$f":"Tributação!K18","v":3.8000350059260377E-2},{"$f":"Tributação!L18","v":3.8000350059260377E-2},{"$f":"Tributação!M18","v":3.8000350059260377E-2},{"$f":"Tributação!N18","v":3.8000350059260377E-2},{"$f":"Tributação!O18","v":3.8000350059260377E-2},{"$f":"Tributação!P18","v":3.8000350059260377E-2},{"$f":"Tributação!Q18","v":3.8000350059260377E-2},{"$f":"Tributação!R18","v":3.8000350059260377E-2},{"$f":"Tributação!S18","v":3.8000350059260377E-2},{"$f":"Tributação!T18","v":3.8000350059260377E-2},{"$f":"Tributação!U18","v":3.8000350059260377E-2},{"$f":"Tributação!V18","v":3.8000350059260377E-2},{"$f":"Tributação!W18","v":3.8000350059260377E-2},{"$f":"Tributação!X18","v":3.8000350059260377E-2},{"$f":"Tributação!Y18","v":3.8000350059260377E-2},{"$f":"Tributação!Z18","v":3.8000350059260377E-2},{"$f":"Tributação!AA18","v":3.8000350059260377E-2},{"$f":"Tributação!AB18","v":3.8000350059260377E-2},{"$f":"Tributação!AC18","v":3.8000350059260377E-2},{"$f":"Tributação!AD18","v":3.8000350059260377E-2},{"$f":"Tributação!AE18","v":3.8000350059260377E-2},{"$f":"Tributação!AF18","v":3.8000350059260377E-2},{"$f":"Tributação!AG18","v":3.8000350059260377E-2},{"$f":"Tributação!AH18","v":3.8000350059260377E-2},{"$f":"Tributação!AI18","v":3.8000350059260377E-2},{"$f":"Tributação!AJ18","v":3.8000350059260377E-2},{"$f":"Tributação!AK18","v":3.8000350059260377E-2},{"$f":"Tributação!AL18","v":3.8000350059260377E-2}]
[{"$f":"Tributação!B19","v":"IRPJ/CSLL não alavancado"}]
[{"$f":"Tributação!B20","v":"EBIT"},{"$f":"Tributação!C20","v":0},{"$f":"Tributação!D20","v":-42655.940261511249},{"$f":"Tributação!E20","v":-6745.7515528734475},{"$f":"Tributação!F20","v":-17558.129504606048},{"$f":"Tributação!G20","v":30828.960966484585},{"$f":"Tributação!H20","v":-17924.923393005931},{"$f":"Tributação!I20","v":88675.554389320343},{"$f":"Tributação!J20","v":103730.65229788952},{"$f":"Tributação!K20","v":111003.99145922142},{"$f":"Tributação!L20","v":-60613.031159327322},{"$f":"Tributação!M20","v":122738.03054230152},{"$f":"Tributação!N20","v":125099.68673628788},{"$f":"Tributação!O20","v":123168.0762289905},{"$f":"Tributação!P20","v":121729.51210216398},{"$f":"Tributação!Q20","v":119148.83358734759},{"$f":"Tributação!R20","v":115724.61909777558},{"$f":"Tributação!S20","v":112324.13893956387},{"$f":"Tributação!T20","v":108661.47524200741},{"$f":"Tributação!U20","v":108947.39311271248},{"$f":"Tributação!V20","v":112673.54373281598},{"$f":"Tributação!W20","v":111224.26481390931},{"$f":"Tributação!X20","v":108927.51530893453},{"$f":"Tributação!Y20","v":107744.21056084536},{"$f":"Tributação!Z20","v":112506.08567945877},{"$f":"Tributação!AA20","v":114672.17678606196},{"$f":"Tributação!AB20","v":115156.49584765428},{"$f":"Tributação!AC20","v":116137.79621787046},{"$f":"Tributação!AD20","v":116305.76179585594},{"$f":"Tributação!AE20","v":117014.13846373676},{"$f":"Tributação!AF20","v":117203.81893080231},{"$f":"Tributação!AG20","v":114930.49262456565},{"$f":"Tributação!AH20","v":112478.09900000953},{"$f":"Tributação!AI20","v":110621.25180423947},{"$f":"Tributação!AJ20","v":113149.25965035491},{"$f":"Tributação!AK20","v":114672.50639832293},{"$f":"Tributação!AL20","v":115238.03999366891}]
[{"$f":"Tributação!B21","v":"Prejuízo Acumulado"},{"$f":"Tributação!C21","v":0},{"$f":"Tributação!D21","v":42655.940261511249},{"$f":"Tributação!E21","v":49401.6918143847},{"$f":"Tributação!F21","v":66959.821318990755},{"$f":"Tributação!G21","v":66959.821318990755},{"$f":"Tributação!H21","v":75636.056422051304},{"$f":"Tributação!I21","v":75636.056422051304},{"$f":"Tributação!J21","v":49033.390105255203},{"$f":"Tributação!K21","v":17914.194415888349},{"$f":"Tributação!L21","v":60613.031159327329},{"$f":"Tributação!M21","v":60613.031159327329},{"$f":"Tributação!N21","v":23791.621996636874},{"$f":"Tributação!O21","v":0},{"$f":"Tributação!P21","v":0},{"$f":"Tributação!Q21","v":0},{"$f":"Tributação!R21","v":0},{"$f":"Tributação!S21","v":0},{"$f":"Tributação!T21","v":0},{"$f":"Tributação!U21","v":0},{"$f":"Tributação!V21","v":0},{"$f":"Tributação!W21","v":0},{"$f":"Tributação!X21","v":0},{"$f":"Tributação!Y21","v":0},{"$f":"Tributação!Z21","v":0},{"$f":"Tributação!AA21","v":0},{"$f":"Tributação!AB21","v":0},{"$f":"Tributação!AC21","v":0},{"$f":"Tributação!AD21","v":0},{"$f":"Tributação!AE21","v":0},{"$f":"Tributação!AF21","v":0},{"$f":"Tributação!AG21","v":0},{"$f":"Tributação!AH21","v":0},{"$f":"Tributação!AI21","v":0},{"$f":"Tributação!AJ21","v":0},{"$f":"Tributação!AK21","v":0},{"$f":"Tributação!AL21","v":0}]
[{"$f":"Tributação!B22","v":"Dedução da Base de Cálculo"},{"$f":"Tributação!C22","v":0},{"$f":"Tributação!D22","v":0},{"$f":"Tributação!E22","v":0},{"$f":"Tributação!F22","v":0},{"$f":"Tributação!G22","v":9248.6882899453758},{"$f":"Tributação!H22","v":0},{"$f":"Tributação!I22","v":26602.666316796101},{"$f":"Tributação!J22","v":31119.195689366854},{"$f":"Tributação!K22","v":17914.194415888349},{"$f":"Tributação!L22","v":0},{"$f":"Tributação!M22","v":36821.409162690456},{"$f":"Tributação!N22","v":23791.621996636874},{"$f":"Tributação!O22","v":0},{"$f":"Tributação!P22","v":0},{"$f":"Tributação!Q22","v":0},{"$f":"Tributação!R22","v":0},{"$f":"Tributação!S22","v":0},{"$f":"Tributação!T22","v":0},{"$f":"Tributação!U22","v":0},{"$f":"Tributação!V22","v":0},{"$f":"Tributação!W22","v":0},{"$f":"Tributação!X22","v":0},{"$f":"Tributação!Y22","v":0},{"$f":"Tributação!Z22","v":0},{"$f":"Tributação!AA22","v":0},{"$f":"Tributação!AB22","v":0},{"$f":"Tributação!AC22","v":0},{"$f":"Tributação!AD22","v":0},{"$f":"Tributação!AE22","v":0},{"$f":"Tributação!AF22","v":0},{"$f":"Tributação!AG22","v":0},{"$f":"Tributação!AH22","v":0},{"$f":"Tributação!AI22","v":0},{"$f":"Tributação!AJ22","v":0},{"$f":"Tributação!AK22","v":0},{"$f":"Tributação!AL22","v":0}]
[{"$f":"Tributação!B23","v":"Base de Cálculo"},{"$f":"Tributação!C23","v":0},{"$f":"Tributação!D23","v":0},{"$f":"Tributação!E23","v":0},{"$f":"Tributação!F23","v":0},{"$f":"Tributação!G23","v":21580.272676539207},{"$f":"Tributação!H23","v":0},{"$f":"Tributação!I23","v":62072.888072524242},{"$f":"Tributação!J23","v":72611.456608522669},{"$f":"Tributação!K23","v":93089.797043333063},{"$f":"Tributação!L23","v":0},{"$f":"Tributação!M23","v":85916.621379611068},{"$f":"Tributação!N23","v":101308.06473965102},{"$f":"Tributação!O23","v":123168.0762289905},{"$f":"Tributação!P23","v":121729.51210216398},{"$f":"Tributação!Q23","v":119148.83358734759},{"$f":"Tributação!R23","v":115724.61909777558},{"$f":"Tributação!S23","v":112324.13893956387},{"$f":"Tributação!T23","v":108661.47524200741},{"$f":"Tributação!U23","v":108947.39311271248},{"$f":"Tributação!V23","v":112673.54373281598},{"$f":"Tributação!W23","v":111224.26481390931},{"$f":"Tributação!X23","v":108927.51530893453},{"$f":"Tributação!Y23","v":107744.21056084536},{"$f":"Tributação!Z23","v":112506.08567945877},{"$f":"Tributação!AA23","v":114672.17678606196},{"$f":"Tributação!AB23","v":115156.49584765428},{"$f":"Tributação!AC23","v":116137.79621787046},{"$f":"Tributação!AD23","v":116305.76179585594},{"$f":"Tributação!AE23","v":117014.13846373676},{"$f":"Tributação!AF23","v":117203.81893080231},{"$f":"Tributação!AG23","v":114930.49262456565},{"$f":"Tributação!AH23","v":112478.09900000953},{"$f":"Tributação!AI23","v":110621.25180423947},{"$f":"Tributação!AJ23","v":113149.25965035491},{"$f":"Tributação!AK23","v":114672.50639832293},{"$f":"Tributação!AL23","v":115238.03999366891}]
[{"$f":"Tributação!B24","v":"IRPJ"},{"$f":"Tributação!C24","v":0},{"$f":"Tributação!D24","v":0},{"$f":"Tributação!E24","v":0},{"$f":"Tributação!F24","v":0},{"$f":"Tributação!G24","v":5371.0681691348018},{"$f":"Tributação!H24","v":0},{"$f":"Tributação!I24","v":15494.222018131062},{"$f":"Tributação!J24","v":18128.864152130667},{"$f":"Tributação!K24","v":23248.449260833266},{"$f":"Tributação!L24","v":0},{"$f":"Tributação!M24","v":21455.155344902767},{"$f":"Tributação!N24","v":25303.016184912754},{"$f":"Tributação!O24","v":30768.019057247624},{"$f":"Tributação!P24","v":30408.378025540995},{"$f":"Tributação!Q24","v":29763.208396836897},{"$f":"Tributação!R24","v":28907.154774443894},{"$f":"Tributação!S24","v":28057.034734890964},{"$f":"Tributação!T24","v":27141.368810501852},{"$f":"Tributação!U24","v":27212.84827817812},{"$f":"Tributação!V24","v":28144.385933203994},{"$f":"Tributação!W24","v":27782.066203477327},{"$f":"Tributação!X24","v":27207.878827233631},{"$f":"Tributação!Y24","v":26912.052640211339},{"$f":"Tributação!Z24","v":28102.521419864694},{"$f":"Tributação!AA24","v":28644.04419651549},{"$f":"Tributação!AB24","v":28765.12396191357},{"$f":"Tributação!AC24","v":29010.449054467615},{"$f":"Tributação!AD24","v":29052.440448963986},{"$f":"Tributação!AE24","v":29229.534615934186},{"$f":"Tributação!AF24","v":29276.954732700578},{"$f":"Tributação!AG24","v":28708.623156141413},{"$f":"Tributação!AH24","v":28095.524750002383},{"$f":"Tributação!AI24","v":27631.312951059866},{"$f":"Tributação!AJ24","v":28263.314912588728},{"$f":"Tributação!AK24","v":28644.126599580733},{"$f":"Tributação!AL24","v":28785.509998417227}]
[{"$f":"Tributação!B25","v":"CSLL"},{"$f":"Tributação!C25","v":0},{"$f":"Tributação!D25","v":0},{"$f":"Tributação!E25","v":0},{"$f":"Tributação!F25","v":0},{"$f":"Tributação!G25","v":1942.2245408885285},{"$f":"Tributação!H25","v":0},{"$f":"Tributação!I25","v":5586.5599265271812},{"$f":"Tributação!J25","v":6535.0310947670396},{"$f":"Tributação!K25","v":8378.081733899975},{"$f":"Tributação!L25","v":0},{"$f":"Tributação!M25","v":7732.4959241649958},{"$f":"Tributação!N25","v":9117.7258265685905},{"$f":"Tributação!O25","v":11085.126860609143},{"$f":"Tributação!P25","v":10955.656089194757},{"$f":"Tributação!Q25","v":10723.395022861283},{"$f":"Tributação!R25","v":10415.215718799802},{"$f":"Tributação!S25","v":10109.172504560747},{"$f":"Tributação!T25","v":9779.5327717806667},{"$f":"Tributação!U25","v":9805.2653801441229},{"$f":"Tributação!V25","v":10140.618935953438},{"$f":"Tributação!W25","v":10010.183833251836},{"$f":"Tributação!X25","v":9803.476377804107},{"$f":"Tributação!Y25","v":9696.9789504760811},{"$f":"Tributação!Z25","v":10125.54771115129},{"$f":"Tributação!AA25","v":10320.495910745576},{"$f":"Tributação!AB25","v":10364.084626288884},{"$f":"Tributação!AC25","v":10452.401659608342},{"$f":"Tributação!AD25","v":10467.518561627034},{"$f":"Tributação!AE25","v":10531.272461736307},{"$f":"Tributação!AF25","v":10548.343703772209},{"$f":"Tributação!AG25","v":10343.744336210908},{"$f":"Tributação!AH25","v":10123.028910000858},{"$f":"Tributação!AI25","v":9955.9126623815519},{"$f":"Tributação!AJ25","v":10183.433368531942},{"$f":"Tributação!AK25","v":10320.525575849064},{"$f":"Tributação!AL25","v":10371.423599430202}]
[{"$f":"Tributação!B26","v":"IRPJ Sudene"},{"$f":"Tributação!C26","v":0},{"$f":"Tributação!D26","v":0},{"$f":"Tributação!E26","v":0},{"$f":"Tributação!F26","v":0},{"$f":"Tributação!G26","v":1342.7670422837004},{"$f":"Tributação!H26","v":0},{"$f":"Tributação!I26","v":3873.5555045327656},{"$f":"Tributação!J26","v":4532.2160380326668},{"$f":"Tributação!K26","v":5812.1123152083164},{"$f":"Tributação!L26","v":0},{"$f":"Tributação!M26","v":5363.7888362256917},{"$f":"Tributação!N26","v":25303.016184912754},{"$f":"Tributação!O26","v":30768.019057247624},{"$f":"Tributação!P26","v":30408.378025540995},{"$f":"Tributação!Q26","v":29763.208396836897},{"$f":"Tributação!R26","v":28907.154774443894},{"$f":"Tributação!S26","v":28057.034734890964},{"$f":"Tributação!T26","v":27141.368810501852},{"$f":"Tributação!U26","v":27212.84827817812},{"$f":"Tributação!V26","v":28144.385933203994},{"$f":"Tributação!W26","v":27782.066203477327},{"$f":"Tributação!X26","v":27207.878827233631},{"$f":"Tributação!Y26","v":26912.052640211339},{"$f":"Tributação!Z26","v":28102.521419864694},{"$f":"Tributação!AA26","v":28644.04419651549},{"$f":"Tributação!AB26","v":28765.12396191357},{"$f":"Tributação!AC26","v":29010.449054467615},{"$f":"Tributação!AD26","v":29052.440448963986},{"$f":"Tributação!AE26","v":29229.534615934186},{"$f":"Tributação!AF26","v":29276.954732700578},{"$f":"Tributação!AG26","v":28708.623156141413},{"$f":"Tributação!AH26","v":28095.524750002383},{"$f":"Tributação!AI26","v":27631.312951059866},{"$f":"Tributação!AJ26","v":28263.314912588728},{"$f":"Tributação!AK26","v":28644.126599580733},{"$f":"Tributação!AL26","v":28785.509998417227}]
[{"$f":"Tributação!B27","v":"IRPJ/CSLL alavancado"}]
[{"$f":"Tributação!B28","v":"EBT"},{"$f":"Tributação!C28","v":0},{"$f":"Tributação!D28","v":-44886.849952196477},{"$f":"Tributação!E28","v":-12100.626337947077},{"$f":"Tributação!F28","v":-32080.403398665985},{"$f":"Tributação!G28","v":8208.6540142318117},{"$f":"Tributação!H28","v":-49308.814997051668},{"$f":"Tributação!I28","v":53632.952157134692},{"$f":"Tributação!J28","v":67784.234183128225},{"$f":"Tributação!K28","v":75543.141307801765},{"$f":"Tributação!L28","v":-102828.29601093728},{"$f":"Tributação!M28","v":82610.343622950779},{"$f":"Tributação!N28","v":87162.993472026283},{"$f":"Tributação!O28","v":87472.084756757278},{"$f":"Tributação!P28","v":88780.589797353925},{"$f":"Tributação!Q28","v":88946.980449960683},{"$f":"Tributação!R28","v":86189.256297995365},{"$f":"Tributação!S28","v":83455.266477390367},{"$f":"Tributação!T28","v":79881.154553602682},{"$f":"Tributação!U28","v":82914.14159173092},{"$f":"Tributação!V28","v":89560.742948408937},{"$f":"Tributação!W28","v":87896.868586268392},{"$f":"Tributação!X28","v":85607.066754197585},{"$f":"Tributação!Y28","v":83721.541133369479},{"$f":"Tributação!Z28","v":91483.799039430553},{"$f":"Tributação!AA28","v":96583.64669793025},{"$f":"Tributação!AB28","v":99997.999961208712},{"$f":"Tributação!AC28","v":103941.30533044192},{"$f":"Tributação!AD28","v":106837.52865670582},{"$f":"Tributação!AE28","v":110170.74735003516},{"$f":"Tributação!AF28","v":112935.56170560997},{"$f":"Tributação!AG28","v":112731.00191248782},{"$f":"Tributação!AH28","v":111701.36069632914},{"$f":"Tributação!AI28","v":110621.25180423947},{"$f":"Tributação!AJ28","v":113149.25965035491},{"$f":"Tributação!AK28","v":114672.50639832293},{"$f":"Tributação!AL28","v":115238.03999366891}]
[{"$f":"Tributação!B29","v":"Prejuízo Acumulado"},{"$f":"Tributação!C29","v":0},{"$f":"Tributação!D29","v":44886.849952196477},{"$f":"Tributação!E29","v":56987.476290143553},{"$f":"Tributação!F29","v":89067.879688809538},{"$f":"Tributação!G29","v":89067.879688809538},{"$f":"Tributação!H29","v":135914.09848159167},{"$f":"Tributação!I29","v":135914.09848159167},{"$f":"Tributação!J29","v":119824.21283445126},{"$f":"Tributação!K29","v":99488.94257951279},{"$f":"Tributação!L29","v":179654.29619810954},{"$f":"Tributação!M29","v":179654.29619810954},{"$f":"Tributação!N29","v":154871.1931112243},{"$f":"Tributação!O29","v":128722.29506961642},{"$f":"Tributação!P29","v":102480.66964258923},{"$f":"Tributação!Q29","v":75846.492703383061},{"$f":"Tributação!R29","v":49162.398568394856},{"$f":"Tributação!S29","v":23305.621678996245},{"$f":"Tributação!T29","v":0},{"$f":"Tributação!U29","v":0},{"$f":"Tributação!V29","v":0},{"$f":"Tributação!W29","v":0},{"$f":"Tributação!X29","v":0},{"$f":"Tributação!Y29","v":0},{"$f":"Tributação!Z29","v":0},{"$f":"Tributação!AA29","v":0},{"$f":"Tributação!AB29","v":0},{"$f":"Tributação!AC29","v":0},{"$f":"Tributação!AD29","v":0},{"$f":"Tributação!AE29","v":0},{"$f":"Tributação!AF29","v":0},{"$f":"Tributação!AG29","v":0},{"$f":"Tributação!AH29","v":0},{"$f":"Tributação!AI29","v":0},{"$f":"Tributação!AJ29","v":0},{"$f":"Tributação!AK29","v":0},{"$f":"Tributação!AL29","v":0}]
[{"$f":"Tributação!B30","v":"Dedução da Base de Cálculo"},{"$f":"Tributação!C30","v":0},{"$f":"Tributação!D30","v":0},{"$f":"Tributação!E30","v":0},{"$f":"Tributação!F30","v":0},{"$f":"Tributação!G30","v":2462.5962042695433},{"$f":"Tributação!H30","v":0},{"$f":"Tributação!I30","v":16089.885647140407},{"$f":"Tributação!J30","v":20335.270254938467},{"$f":"Tributação!K30","v":22662.94239234053},{"$f":"Tributação!L30","v":0},{"$f":"Tributação!M30","v":24783.103086885232},{"$f":"Tributação!N30","v":26148.898041607885},{"$f":"Tributação!O30","v":26241.625427027182},{"$f":"Tributação!P30","v":26634.176939206176},{"$f":"Tributação!Q30","v":26684.094134988205},{"$f":"Tributação!R30","v":25856.77688939861},{"$f":"Tributação!S30","v":23305.621678996245},{"$f":"Tributação!T30","v":0},{"$f":"Tributação!U30","v":0},{"$f":"Tributação!V30","v":0},{"$f":"Tributação!W30","v":0},{"$f":"Tributação!X30","v":0},{"$f":"Tributação!Y30","v":0},{"$f":"Tributação!Z30","v":0},{"$f":"Tributação!AA30","v":0},{"$f":"Tributação!AB30","v":0},{"$f":"Tributação!AC30","v":0},{"$f":"Tributação!AD30","v":0},{"$f":"Tributação!AE30","v":0},{"$f":"Tributação!AF30","v":0},{"$f":"Tributação!AG30","v":0},{"$f":"Tributação!AH30","v":0},{"$f":"Tributação!AI30","v":0},{"$f":"Tributação!AJ30","v":0},{"$f":"Tributação!AK30","v":0},{"$f":"Tributação!AL30","v":0}]
[{"$f":"Tributação!B31","v":"Base de Cálculo"},{"$f":"Tributação!C31","v":0},{"$f":"Tributação!D31","v":0},{"$f":"Tributação!E31","v":0},{"$f":"Tributação!F31","v":0},{"$f":"Tributação!G31","v":5746.0578099622689},{"$f":"Tributação!H31","v":0},{"$f":"Tributação!I31","v":37543.066509994285},{"$f":"Tributação!J31","v":47448.963928189754},{"$f":"Tributação!K31","v":52880.198915461238},{"$f":"Tributação!L31","v":0},{"$f":"Tributação!M31","v":57827.240536065547},{"$f":"Tributação!N31","v":61014.095430418398},{"$f":"Tributação!O31","v":61230.459329730096},{"$f":"Tributação!P31","v":62146.412858147749},{"$f":"Tributação!Q31","v":62262.886314972478},{"$f":"Tributação!R31","v":60332.479408596759},{"$f":"Tributação!S31","v":60149.644798394118},{"$f":"Tributação!T31","v":79881.154553602682},{"$f":"Tributação!U31","v":82914.14159173092},{"$f":"Tributação!V31","v":89560.742948408937},{"$f":"Tributação!W31","v":87896.868586268392},{"$f":"Tributação!X31","v":85607.066754197585},{"$f":"Tributação!Y31","v":83721.541133369479},{"$f":"Tributação!Z31","v":91483.799039430553},{"$f":"Tributação!AA31","v":96583.64669793025},{"$f":"Tributação!AB31","v":99997.999961208712},{"$f":"Tributação!AC31","v":103941.30533044192},{"$f":"Tributação!AD31","v":106837.52865670582},{"$f":"Tributação!AE31","v":110170.74735003516},{"$f":"Tributação!AF31","v":112935.56170560997},{"$f":"Tributação!AG31","v":112731.00191248782},{"$f":"Tributação!AH31","v":111701.36069632914},{"$f":"Tributação!AI31","v":110621.25180423947},{"$f":"Tributação!AJ31","v":113149.25965035491},{"$f":"Tributação!AK31","v":114672.50639832293},{"$f":"Tributação!AL31","v":115238.03999366891}]
[{"$f":"Tributação!B32","v":"IRPJ"},{"$f":"Tributação!C32","v":0},{"$f":"Tributação!D32","v":0},{"$f":"Tributação!E32","v":0},{"$f":"Tributação!F32","v":0},{"$f":"Tributação!G32","v":1412.5144524905672},{"$f":"Tributação!H32","v":0},{"$f":"Tributação!I32","v":9361.7666274985713},{"$f":"Tributação!J32","v":11838.240982047439},{"$f":"Tributação!K32","v":13196.04972886531},{"$f":"Tributação!L32","v":0},{"$f":"Tributação!M32","v":14432.810134016387},{"$f":"Tributação!N32","v":15229.523857604599},{"$f":"Tributação!O32","v":15283.614832432526},{"$f":"Tributação!P32","v":15512.603214536935},{"$f":"Tributação!Q32","v":15541.72157874312},{"$f":"Tributação!R32","v":15059.11985214919},{"$f":"Tributação!S32","v":15013.411199598529},{"$f":"Tributação!T32","v":19946.288638400671},{"$f":"Tributação!U32","v":20704.53539793273},{"$f":"Tributação!V32","v":22366.185737102234},{"$f":"Tributação!W32","v":21950.217146567098},{"$f":"Tributação!X32","v":21377.766688549396},{"$f":"Tributação!Y32","v":20906.38528334237},{"$f":"Tributação!Z32","v":22846.949759857638},{"$f":"Tributação!AA32","v":24121.911674482562},{"$f":"Tributação!AB32","v":24975.499990302178},{"$f":"Tributação!AC32","v":25961.326332610479},{"$f":"Tributação!AD32","v":26685.382164176455},{"$f":"Tributação!AE32","v":27518.686837508791},{"$f":"Tributação!AF32","v":28209.890426402493},{"$f":"Tributação!AG32","v":28158.750478121954},{"$f":"Tributação!AH32","v":27901.340174082285},{"$f":"Tributação!AI32","v":27631.312951059866},{"$f":"Tributação!AJ32","v":28263.314912588728},{"$f":"Tributação!AK32","v":28644.126599580733},{"$f":"Tributação!AL32","v":28785.509998417227}]
[{"$f":"Tributação!B33","v":"CSLL"},{"$f":"Tributação!C33","v":0},{"$f":"Tributação!D33","v":0},{"$f":"Tributação!E33","v":0},{"$f":"Tributação!F33","v":0},{"$f":"Tributação!G33","v":517.14520289660413},{"$f":"Tributação!H33","v":0},{"$f":"Tributação!I33","v":3378.8759858994854},{"$f":"Tributação!J33","v":4270.4067535370777},{"$f":"Tributação!K33","v":4759.2179023915114},{"$f":"Tributação!L33","v":0},{"$f":"Tributação!M33","v":5204.4516482458994},{"$f":"Tributação!N33","v":5491.2685887376556},{"$f":"Tributação!O33","v":5510.7413396757083},{"$f":"Tributação!P33","v":5593.1771572332973},{"$f":"Tributação!Q33","v":5603.6597683475229},{"$f":"Tributação!R33","v":5429.9231467737081},{"$f":"Tributação!S33","v":5413.4680318554701},{"$f":"Tributação!T33","v":7189.3039098242416},{"$f":"Tributação!U33","v":7462.2727432557822},{"$f":"Tributação!V33","v":8060.4668653568042},{"$f":"Tributação!W33","v":7910.7181727641546},{"$f":"Tributação!X33","v":7704.6360078777825},{"$f":"Tributação!Y33","v":7534.9387020032527},{"$f":"Tributação!Z33","v":8233.54191354875},{"$f":"Tributação!AA33","v":8692.5282028137226},{"$f":"Tributação!AB33","v":8999.8199965087842},{"$f":"Tributação!AC33","v":9354.7174797397729},{"$f":"Tributação!AD33","v":9615.3775791035241},{"$f":"Tributação!AE33","v":9915.3672615031646},{"$f":"Tributação!AF33","v":10164.200553504897},{"$f":"Tributação!AG33","v":10145.790172123903},{"$f":"Tributação!AH33","v":10053.122462669622},{"$f":"Tributação!AI33","v":9955.9126623815519},{"$f":"Tributação!AJ33","v":10183.433368531942},{"$f":"Tributação!AK33","v":10320.525575849064},{"$f":"Tributação!AL33","v":10371.423599430202}]
[{"$f":"Tributação!B34","v":"IRPJ Sudene"},{"$f":"Tributação!C34","v":0},{"$f":"Tributação!D34","v":0},{"$f":"Tributação!E34","v":0},{"$f":"Tributação!F34","v":0},{"$f":"Tributação!G34","v":353.12861312264181},{"$f":"Tributação!H34","v":0},{"$f":"Tributação!I34","v":2340.4416568746428},{"$f":"Tributação!J34","v":2959.5602455118596},{"$f":"Tributação!K34","v":3299.0124322163274},{"$f":"Tributação!L34","v":0},{"$f":"Tributação!M34","v":3608.2025335040967},{"$f":"Tributação!N34","v":15229.523857604599},{"$f":"Tributação!O34","v":15283.614832432526},{"$f":"Tributação!P34","v":15512.603214536935},{"$f":"Tributação!Q34","v":15541.72157874312},{"$f":"Tributação!R34","v":15059.11985214919},{"$f":"Tributação!S34","v":15013.411199598529},{"$f":"Tributação!T34","v":19946.288638400671},{"$f":"Tributação!U34","v":20704.53539793273},{"$f":"Tributação!V34","v":22366.185737102234},{"$f":"Tributação!W34","v":21950.217146567098},{"$f":"Tributação!X34","v":21377.766688549396},{"$f":"Tributação!Y34","v":20906.38528334237},{"$f":"Tributação!Z34","v":22846.949759857638},{"$f":"Tributação!AA34","v":24121.911674482562},{"$f":"Tributação!AB34","v":24975.499990302178},{"$f":"Tributação!AC34","v":25961.326332610479},{"$f":"Tributação!AD34","v":26685.382164176455},{"$f":"Tributação!AE34","v":27518.686837508791},{"$f":"Tributação!AF34","v":28209.890426402493},{"$f":"Tributação!AG34","v":28158.750478121954},{"$f":"Tributação!AH34","v":27901.340174082285},{"$f":"Tributação!AI34","v":27631.312951059866},{"$f":"Tributação!AJ34","v":28263.314912588728},{"$f":"Tributação!AK34","v":28644.126599580733},{"$f":"Tributação!AL34","v":28785.509998417227}]
[]
["Tabela 25 - VPL"]
["VPL (R$)","Projeto","Acionista"]
["VPL 35 Anos",{"$f":"'Painel de Controle'!Q7*1000","v":-40474589.658827364},{"$f":"'Painel de Controle'!Q13*1000","v":-29354930.344602711}]
["VPL Perpetuidade",{"$f":"'Painel de Controle'!Q8*1000","v":39800548.752813265},{"$f":"'Painel de Controle'!Q14*1000","v":13032458.54401747}]
["VPL Total",{"$f":"'Painel de Controle'!Q9*1000","v":-674040.90601409553},{"$f":"'Painel de Controle'!Q15*1000","v":-16322471.800585242}]
[]
["Tabela 28 - Variação nos Custos de Investimento e nos Custos de Operação - TIR do Projeto"]
[null,"Custos de Investimento"]
["O\np\ne\nx",null,{"$f":"Sensibilidade!D9","v":-0.1},{"$f":"Sensibilidade!E9","v":0},{"$f":"Sensibilidade!F9","v":0.1}]
[null,{"$f":"Sensibilidade!C10","v":-0.05},{"$f":"Sensibilidade!D10","v":0.11721966537461515},{"$f":"Sensibilidade!E10","v":0.10507108960131406},{"$f":"Sensibilidade!F10","v":9.4203999843444741E-2}]
[null,{"$f":"Sensibilidade!C11","v":0},{"$f":"Sensibilidade!D11","v":0.103165571108498},{"$f":"Sensibilidade!E11","v":9.1797457159313867E-2},{"$f":"Sensibilidade!F11","v":8.1525932524480149E-2}]
[null,{"$f":"Sensibilidade!C12","v":0.05},{"$f":"Sensibilidade!D12","v":8.9227075590615712E-2},{"$f":"Sensibilidade!E12","v":7.8521771472659374E-2},{"$f":"Sensibilidade!F12","v":6.8731264928207914E-2}]
[]
["Tabela 29 - Variação nos Custos de Investimento e nos Custos de Operação - TIR do Acionista"]
[null,"Custos de Investimento"]
["O\np\ne\nx",null,{"$f":"Sensibilidade!J9","v":-0.1},{"$f":"Sensibilidade!K9","v":0},{"$f":"Sensibilidade!L9","v":0.1}]
[null,{"$f":"Sensibilidade!I10","v":-0.05},{"$f":"Sensibilidade!J10","v":0.18318457550733269},{"$f":"Sensibilidade!K10","v":0.14880755580926275},{"$f":"Sensibilidade!L10","v":0.12318908415698515}]
[null,{"$f":"Sensibilidade!I11","v":0},{"$f":"Sensibilidade!J11","v":0.14959153604259279},{"$f":"Sensibilidade!K11","v":0.12111706903160524},{"$f":"Sensibilidade!L11","v":9.9428933033065103E-2}]
[null,{"$f":"Sensibilidade!I12","v":0.05},{"$f":"Sensibilidade!J12","v":0.11783727511677733},{"$f":"Sensibilidade!K12","v":9.4590128221465619E-2},{"$f":"Sensibilidade!L12","v":7.627225118687142E-2}]
[]
["Tabela 30 - Variação nos Custos de Investimento e nas Receitas Agrícolas - TIR do Projeto"]
[null,"Receitas Agrícolas"]
["C\na\np\ne\nx",null,{"$f":"Sensibilidade!D15","v":-0.1},{"$f":"Sensibilidade!E15","v":0},{"$f":"Sensibilidade!F15","v":0.1}]
[null,{"$f":"Sensibilidade!C16","v":-0.1},{"$f":"Sensibilidade!D16","v":6.5928620338643329E-2},{"$f":"Sensibilidade!E16","v":0.103165571108498},{"$f":"Sensibilidade!F16","v":0.13785762708632832}]
[null,{"$f":"Sensibilidade!C17","v":0},{"$f":"Sensibilidade!D17","v":5.5583841611216434E-2},{"$f":"Sensibilidade!E17","v":9.1797457159313867E-2},{"$f":"Sensibilidade!F17","v":0.12484941718256848}]
[null,{"$f":"Sensibilidade!C18","v":0.1},{"$f":"Sensibilidade!D18","v":4.5884650851250042E-2},{"$f":"Sensibilidade!E18","v":8.1525932524480149E-2},{"$f":"Sensibilidade!F18","v":0.11330970592429934}]
[]
["Tabela 31 - Variação nos Custos de Investimento e nas Receitas Agrícolas - TIR do Acionista"]
[null,"Receitas Agrícolas"]
[null,null,{"$f":"Sensibilidade!J15","v":-0.1},{"$f":"Sensibilidade!K15","v":0},{"$f":"Sensibilidade!L15","v":0.1}]
["C\na\np\ne\nx",{"$f":"Sensibilidade!I16","v":-0.1},{"$f":"Sensibilidade!J16","v":7.0811812463963841E-2},{"$f":"Sensibilidade!K16","v":0.14959153604259279},{"$f":"Sensibilidade!L16","v":0.22668488702116574}]
[null,{"$f":"Sensibilidade!I17","v":0},{"$f":"Sensibilidade!J17","v":5.2624318129295133E-2},{"$f":"Sensibilidade!K17","v":0.12111706903160524},{"$f":"Sensibilidade!L17","v":0.18700749262760041}]
[null,{"$f":"Sensibilidade!I18","v":0.1},{"$f":"Sensibilidade!J18","v":3.7307917768678145E-2},{"$f":"Sensibilidade!K18","v":9.9428933033065103E-2},{"$f":"Sensibilidade!L18","v":0.15737446127099619}]
[]
["Tabela 32 - Variação nos Custos de Operação e nas Receitas Agrícolas - TIR do Projeto"]
[null,"Receitas Agrícolas"]
["O\np\ne\nx",null,{"$f":"Sensibilidade!D22","v":-0.1},{"$f":"Sensibilidade!E22","v":0},{"$f":"Sensibilidade!F22","v":0.1}]
[null,{"$f":"Sensibilidade!C23","v":-0.05},{"$f":"Sensibilidade!D23","v":7.0024283516610053E-2},{"$f":"Sensibilidade!E23","v":0.10507108960131406},{"$f":"Sensibilidade!F23","v":0.13795647953689816}]
[null,{"$f":"Sensibilidade!C24","v":0},{"$f":"Sensibilidade!D24","v":5.5583841611216434E-2},{"$f":"Sensibilidade!E24","v":9.1797457159313867E-2},{"$f":"Sensibilidade!F24","v":0.12484941718256848}]
[null,{"$f":"Sensibilidade!C25","v":0.05},{"$f":"Sensibilidade!D25","v":4.020321205398325E-2},{"$f":"Sensibilidade!E25","v":7.8521771472659374E-2},{"$f":"Sensibilidade!F25","v":0.1118155932876792}]
[]
["Tabela 33 - Variação nos Custos de Operação e nas Receitas Agrícolas - TIR do Acionista"]
[null,"Receitas Agrícolas"]
["O\np\ne\nx",null,{"$f":"Sensibilidade!J22","v":-0.1},{"$f":"Sensibilidade!K22","v":0},{"$f":"Sensibilidade!L22","v":0.1}]
[null,{"$f":"Sensibilidade!I23","v":-0.05},{"$f":"Sensibilidade!J23","v":7.9379280752916115E-2},{"$f":"Sensibilidade!K23","v":0.14880755580926275},{"$f":"Sensibilidade!L23","v":0.21529954308207899}]
[null,{"$f":"Sensibilidade!I24","v":0},{"$f":"Sensibilidade!J24","v":5.2624318129295133E-2},{"$f":"Sensibilidade!K24","v":0.12111706903160524},{"$f":"Sensibilidade!L24","v":0.18700749262760041}]
[null,{"$f":"Sensibilidade!I25","v":0.05},{"$f":"Sensibilidade!J25","v":2.6184300221317569E-2},{"$f":"Sensibilidade!K25","v":9.4590128221465619E-2},{"$f":"Sensibilidade!L25","v":0.15973241810571448}]
[]
["Tabela 34 - Resumo dos Resultados"]
[null,"Valor Real","Valor Presente"]
["Capex",{"$f":"-'FC Projeto'!C57*1000","v":1765855305.6597352},{"$f":"-'FC Projeto'!C71*1000","v":739753883.72687924}]
["Opex",{"$f":"-'FC Projeto'!C24*1000","v":9104340770.1439152},{"$f":"-'FC Projeto'!C72*1000","v":2396317372.2669525}]
["Opex a.a",{"$f":"B492/35","v":260124022.00411186},{"$f":"C492/35","v":68466210.63619864}]
["Opex a.a/Capex",{"$f":"B493/B491","v":0.1473076651129849},{"$f":"C493/C491","v":9.2552688322859414E-2}]
["Ativos",{"$f":"'Base Ativos'!H43","v":1201344631.216011},{"$f":"B495","v":1201344631.216011}]
["Financiamento",{"$f":"(-'FC Acionista'!C65-'FC Acionista'!C66)*1000","v":1640460414.0383625},{"$f":"'FC Acionista'!C78*1000","v":547140648.49671674}]
["Receita – Projeto",{"$f":"'FC Projeto'!C14*1000","v":14597616199.447464},{"$f":"'FC Projeto'!C73*1000","v":3643078645.8122973}]
["Despesa – Projeto",{"$f":"(-'FC Projeto'!C24-'FC Projeto'!C57)*1000","v":10870196075.80365},{"$f":"C492+C491","v":3136071255.9938316}]
["Variação NCG",{"$f":"-'FC Projeto'!C55*1000","v":156114102.3840439},{"$f":"-'FC Projeto'!C74*1000","v":107996674.02568661}]
["Tributação - Projeto",{"$f":"(-'FC Projeto'!C54-'FC Projeto'!C16)*1000","v":1958066116.6047277},{"$f":"-'FC Projeto'!C75*1000","v":439485305.45160758}]
["Lucro – Projeto",{"$f":"B497-B498-B500-B499","v":1613239904.6550424},{"$f":"C497-C498-C500-C499","v":-40474589.658828482}]
["Payback Projeto",{"$f":"'Painel de Controle'!Q10","v":14},{"$f":"SUM('FC Projeto'!C78:AL78)","v":0}]
["Receitas Financeiras",{"$f":"'FC Acionista'!C64*1000","v":941748838.20278883},{"$f":"'FC Acionista'!C78*1000","v":547140648.49671674}]
["Despesas Financeiras",{"$f":"-'FC Acionista'!C65*1000-'FC Acionista'!C66*1000","v":1640460414.0383625},{"$f":"'FC Acionista'!C79*-1000","v":503077045.65022749}]
["Tributação - Acionista",{"$f":"-'FC Acionista'!C59*1000-'FC Acionista'!C16*1000","v":1745596463.5857935},{"$f":"-'FC Acionista'!C80*1000","v":376714579.22138834}]
["Lucro – Acionista",{"$f":"B501+B500+B503-B504-B505","v":1126997981.8384027},{"$f":"C501+C500+C503-C504-C505","v":66359739.417879999}]
["Outorga",{"$f":"'Painel de Controle'!Q9*1000","v":-674040.90601409553},{"$f":"B507","v":-674040.90601409553}]
["Payback Acionista",{"$f":"'Painel de Controle'!Q16","v":12},{"$f":"SUM('FC Acionista'!D83:AL83)","v":21}]
["Anos de Concessão","35 Anos"]

{"sheet":"Gráficos","index":3,"n_rows":55,"n_cols":1,"rows_kept":55,"cut":false,"hidden":false,"merged":[]}
["Gráfico 1 - Ocupação da Área"]
[]
[]
[]
[]
[]
[]
[]
[]
[]
[]
[]
[]
["Gráfico 2 - Investimento"]
[]
[]
[]
[]
[]
[]
[]
[]
[]
[]
[]
[]
["Gráfico 7 - Fluxo de Caixa Operacional"]
[]
[]
[]
[]
[]
[]
[]
[]
[]
[]
[]
[]
[]
["Gráfico 8 - Fluxo de Caixa do Projeto Acumulado"]
[]
[]
[]
[]
[]
[]
[]
[]
[]
[]
[]
[]
[]
["Gráfico 9 - Fluxo de Caixa do Acionista Acumulado"]

{"sheet":"Painel de Controle","index":4,"n_rows":41,"n_cols":17,"rows_kept":41,"cut":false,"hidden":false,"merged":[[26,8,26,9],[1,1,1,16],[22,1,22,3],[3,5,3,6],[8,1,8,3],[3,11,3,13],[3,8,3,9],[20,5,20,6],[3,15,3,16],[9,8,9,9],[17,15,17,16]]}
[]
[null,"PAINEL DE CONTROLE"]
[]
[null,"Área Concedida","Área Irrigável (ha)","Área Total (ha)",null,"Tributos",null,null,"Outros Parâmetros",null,null,"Parcelas de Outorga",null,null,null,"Resultados"]
[null,"Área Sul",{"$f":"C14","v":3739.57},{"$f":"C5/$C$7*$D$7","v":5640.2062487527737},null,"Tributos","Parâmetros",null,"Tarifas de Energia","Valor",null,"Parcela","Valor Presente (R$)","Valor a Pagar (R$)",null,"Fluxo de Caixa do Projeto"]
[null,"Área Norte",{"$f":"SUM(C15:C18)","v":6498.6100000000006},{"$f":"C6/$C$7*$D$7","v":9801.5281784288745},null,"PIS",1.6500000000000001E-2,null,"Tarifa de Consumo (R$/kWh)",0.12,null,1,{"$f":"20%*J32","v":39649479.095961168},{"$f":"M6*(1+WACC!$D$22)^(L6-1)","v":39649479.095961168},null,"TIR",{"$f":"'FC Projeto'!C64","v":9.1797457159313867E-2}]
[null,"Área Total",{"$f":"C5+C6","v":10238.18},{"$f":"J29","v":15441.734427181647},null,"COFINS",7.5999999999999998E-2,null,"Tarifa de Demanda (R$/kW)",42.380870999999999,null,2,0,{"$f":"M7*(1+WACC!$D$22)^(L7-1)","v":0},null,"VPL 35 anos (R$ mil)",{"$f":"'FC Projeto'!C61","v":-40474.589658827361}]
[null,null,null,null,null,"FUNRURAL",2.0500000000000001E-2,null,"NCG (dias)",120,null,3,0,{"$f":"M8*(1+WACC!$D$22)^(L8-1)","v":0},null,"VPL Perpetuidade (R$ mil)",{"$f":"'FC Projeto'!C62","v":39800.548752813265}]
[null,"Ocupação Agrícola",null,null,null,"IRPJ",0.15,null,null,null,null,4,0,{"$f":"M9*(1+WACC!$D$22)^(L9-1)","v":0},null,"VPL Total (R$ mil)",{"$f":"'FC Projeto'!C63","v":-674.04090601409553}]
[null,"Ano","Área SAU (ha)","Setores",null,"IRPJ Alíquota Adicional",0.1,null,"Financiamento",null,null,5,{"$f":"30%*J32","v":59474218.643941745},{"$f":"M10*(1+WACC!$D$22)^(L10-1)","v":84537503.377573729},null,"Payback",{"$f":"'FC Projeto'!C65","v":14}]
[null,1,null,null,null,"Limite Alíquota Adic (R$ mil)",240,null,"Alavancagem CaPex",0.6,null,6,{"$f":"50%*$J$32/31","v":3197538.6367710619},{"$f":"M11*(1+WACC!$D$22)^(L11-1)","v":4962684.2223307202},null,"Fluxo de Caixa do Acionista"]
[null,2,null,null,null,"CSLL",0.09,null,"Alavancagem Outorga",0.7,null,7,{"$f":"50%*$J$32/31","v":3197538.6367710619},{"$f":"M12*(1+WACC!$D$22)^(L12-1)","v":5418721.2413718915},null,"TIR",{"$f":"'FC Acionista'!C73","v":0.12111706903160524}]
[null,3,null,null,null,"Aplicação de benefício SUDENE","S",null,"Juros",{"$f":"WACC!D20","v":6.7983171428571409E-2},null,8,3197538.6367710619,{"$f":"M13*(1+WACC!$D$22)^(L13-1)","v":5916664.9692461891},null,"VPL 35 anos (R$ mil)",{"$f":"'FC Acionista'!C70","v":-29354.930344602712}]
[null,4,3739.57,"9, 10, 11 e 12",null,"Benefício Sudene",0.75,null,"Prazo",20,null,9,{"$f":"J32-SUM(M6:M13)","v":89531081.82958971},{"$f":"M14*(1+WACC!$D$22)^(L14-1)","v":180890257.75099254},null,"VPL Perpetuidade (R$ mil)",{"$f":"'FC Acionista'!C71","v":13032.458544017469}]
[null,5,2658.84,"1, 2 e 3",null,"Prazo Benefício Sudene (anos)",10,null,"Carência",3,null,10,null,{"$f":"M15*(1+WACC!$D$22)^(L15-1)","v":0},null,"VPL Total (R$ mil)",{"$f":"'FC Acionista'!C72","v":-16322.471800585243}]
[null,6,2019,"4, 5 e 6",null,"Aplicação de desconto do REIDI","S",null,"Financiamento da outorga?","Sim",null,11,null,{"$f":"M16*(1+WACC!$D$22)^(L16-1)","v":0},null,"Payback",{"$f":"'FC Acionista'!C74","v":12}]
[null,7,1097.44,7,null,"Desconto REIDI",3.6499999999999998E-2,null,"Financiamento de reinvestimento?","Sim",null,12,null,{"$f":"M17*(1+WACC!$D$22)^(L17-1)","v":0}]
[null,8,723.33,8,null,"ITR (% do valor da terra nua)",0.05,null,null,null,null,13,null,{"$f":"M18*(1+WACC!$D$22)^(L18-1)","v":0},null,"Sensibilidade"]
[null,9,null,null,null,"ITR (R$ /ha)",{"$f":"G18*J28","v":161.77800000000002},null,null,null,null,14,null,{"$f":"M19*(1+WACC!$D$22)^(L19-1)","v":0},null,"Variável","Variação"]
[null,10,null,null,null,null,null,null,null,null,null,15,null,{"$f":"M20*(1+WACC!$D$22)^(L20-1)","v":0},null,"Receita Agrícola",0.1]
[null,"Total",{"$f":"SUM(C14:C18)","v":10238.18},null,null,"Seguros e Garantias",null,null,null,null,null,16,null,{"$f":"M21*(1+WACC!$D$22)^(L21-1)","v":0},null,"Capex",0.1]
[null,null,null,null,null,"Seguros / Garantias","Parâmetros",null,null,null,null,17,null,{"$f":"M22*(1+WACC!$D$22)^(L22-1)","v":0},null,"Opex",0.05]
[null,"Distribuição da Área por Cultivo",null,null,null,"Garantia de Execução",null,null,null,null,null,18,null,{"$f":"M23*(1+WACC!$D$22)^(L23-1)","v":0}]
[null,"Cultivo","% Área","Área (ha)",null,"CAPEX implantação IUC",{"$f":"CAPEX!E49/1000","v":574430.01914360188},null,null,null,null,19,null,{"$f":"M24*(1+WACC!$D$22)^(L24-1)","v":0}]
[null,"Melancia",2.5000000000000001E-2,{"$f":"$C$21*C25","v":255.95450000000002},null,"Valor IUC compartilhada 1a Etapa",{"$f":"'Base Ativos'!D43/1000*20%","v":240268.92624320227},null,null,null,null,20,null,{"$f":"M25*(1+WACC!$D$22)^(L25-1)","v":0}]
[null,"Melão",2.5000000000000001E-2,{"$f":"$C$21*C26","v":255.95450000000002},null,"% Cobertura",0.05,null,null,null,null,21,null,{"$f":"M26*(1+WACC!$D$22)^(L26-1)","v":0}]
[null,"Tomate",0.05,511.90900000000005,null,"Prêmio",2.5000000000000001E-3,null,"Valor da Terra",null,null,22,null,{"$f":"M27*(1+WACC!$D$22)^(L27-1)","v":0}]
[null,"Feijão",0.1,1023.8180000000001,null,"IOF",7.3800000000000004E-2,null,"Preço da terra nua (R$/hectare)",3235.56,null,23,null,{"$f":"M28*(1+WACC!$D$22)^(L28-1)","v":0}]
[null,"Abacaxi",2.5000000000000001E-2,255.95450000000002,null,"Responsabilidade civil",null,null,"Área CDRU (hectare)",15441.734427181647,null,24,null,{"$f":"M29*(1+WACC!$D$22)^(L29-1)","v":0}]
[null,"Acerola",0.1,1023.8180000000001,null,"Opex Médio",{"$f":"-SUM('FC Projeto'!$C$25:$C$31)/35","v":250719.23417878221},null,"Preço da terra nua (R$)",{"$f":"J29*J28","v":49962658.243211851},null,25,null,{"$f":"M30*(1+WACC!$D$22)^(L30-1)","v":0}]
[null,"Banana",0.4,4095.2720000000004,null,"% Cobertura",0.1,null,"Valor da Infraestrutura (R$)",148284737.23659399,null,26,null,{"$f":"M31*(1+WACC!$D$22)^(L31-1)","v":0}]
[null,"Coco",0.1,1023.8180000000001,null,"Prêmio",2E-3,null,"Preço da área com Infraestrutura (R$)",{"$f":"J30+J31","v":198247395.47980583},null,27,null,{"$f":"M32*(1+WACC!$D$22)^(L32-1)","v":0}]
[null,"Goiaba",0.1,1023.8180000000001,null,"IOF",7.3800000000000004E-2,null,"Preço da área com Infraestrutura (R$/ha)",{"$f":"J32/J29","v":12838.415037810555},null,28,null,{"$f":"M33*(1+WACC!$D$22)^(L33-1)","v":0}]
[null,"Laranja",0.1,1023.8180000000001,null,"Risco de Engenharia",null,null,null,null,null,29,null,{"$f":"M34*(1+WACC!$D$22)^(L34-1)","v":0}]
[null,"Mamão",2.5000000000000001E-2,255.95450000000002,null,"% Cobertura (CAPEX anual)",0.15,null,null,null,null,30,null,{"$f":"M35*(1+WACC!$D$22)^(L35-1)","v":0}]
[null,"Maracujá",2.5000000000000001E-2,255.95450000000002,null,"Prêmio",2E-3,null,null,null,null,31,null,{"$f":"M36*(1+WACC!$D$22)^(L36-1)","v":0}]
[null,"Uva",2.5000000000000001E-2,255.95450000000002,null,"IOF",7.3800000000000004E-2,null,null,null,null,32,null,{"$f":"M37*(1+WACC!$D$22)^(L37-1)","v":0}]
[null,null,null,null,null,null,null,null,null,null,null,33,null,{"$f":"M38*(1+WACC!$D$22)^(L38-1)","v":0}]
[null,null,null,null,null,null,null,null,null,null,null,34,null,{"$f":"M39*(1+WACC!$D$22)^(L39-1)","v":0}]
[null,null,null,null,null,null,null,null,null,null,null,35,null,{"$f":"M40*(1+WACC!$D$22)^(L40-1)","v":0}]
[null,null,null,null,null,null,null,null,null,null,null,"Total",{"$f":"SUM(M6:M40)","v":198247395.47980583},{"$f":"SUM(N6:N40)","v":321375310.65747619}]

{"sheet":"DRE >>>>","index":5,"n_rows":0,"n_cols":0,"rows_kept":0,"cut":false,"hidden":false,"merged":[]}

{"sheet":"FC Projeto","index":6,"n_rows":78,"n_cols":39,"rows_kept":78,"cut":false,"hidden":false,"merged":[]}
[]
[null,"FLUXO DE CAIXA DO PROJETO"]
[]
[null,null,null,2025,2026,2027,2028,2029,2030,2031,2032,2033,2034,2035,2036,2037,2038,2039,2040,2041,2042,2043,2044,2045,2046,2047,2048,2049,2050,2051,2052,2053,2054,2055,2056,2057,2058,2059]
[null,null,null,1,{"$f":"D5+1","v":2},{"$f":"E5+1","v":3},{"$f":"F5+1","v":4},{"$f":"G5+1","v":5},{"$f":"H5+1","v":6},{"$f":"I5+1","v":7},{"$f":"J5+1","v":8},{"$f":"K5+1","v":9},{"$f":"L5+1","v":10},{"$f":"M5+1","v":11},{"$f":"N5+1","v":12},{"$f":"O5+1","v":13},{"$f":"P5+1","v":14},{"$f":"Q5+1","v":15},{"$f":"R5+1","v":16},{"$f":"S5+1","v":17},{"$f":"T5+1","v":18},{"$f":"U5+1","v":19},{"$f":"V5+1","v":20},{"$f":"W5+1","v":21},{"$f":"X5+1","v":22},{"$f":"Y5+1","v":23},{"$f":"Z5+1","v":24},{"$f":"AA5+1","v":25},{"$f":"AB5+1","v":26},{"$f":"AC5+1","v":27},{"$f":"AD5+1","v":28},{"$f":"AE5+1","v":29},{"$f":"AF5+1","v":30},{"$f":"AG5+1","v":31},{"$f":"AH5+1","v":32},{"$f":"AI5+1","v":33},{"$f":"AJ5+1","v":34},{"$f":"AK5+1","v":35}]
[null,"Área com início de cultivo no ano",null,{"$f":"IF(D5<10,VLOOKUP(D5,'Painel de Controle'!$B$10:$C$20,2,FALSE),0)","v":0},{"$f":"IF(E5<10,VLOOKUP(E5,'Painel de Controle'!$B$10:$C$20,2,FALSE),0)","v":0},{"$f":"IF(F5<10,VLOOKUP(F5,'Painel de Controle'!$B$10:$C$20,2,FALSE),0)","v":0},{"$f":"IF(G5<10,VLOOKUP(G5,'Painel de Controle'!$B$10:$C$20,2,FALSE),0)","v":3739.57},{"$f":"IF(H5<10,VLOOKUP(H5,'Painel de Controle'!$B$10:$C$20,2,FALSE),0)","v":2658.84},{"$f":"IF(I5<10,VLOOKUP(I5,'Painel de Controle'!$B$10:$C$20,2,FALSE),0)","v":2019},{"$f":"IF(J5<10,VLOOKUP(J5,'Painel de Controle'!$B$10:$C$20,2,FALSE),0)","v":1097.44},{"$f":"IF(K5<10,VLOOKUP(K5,'Painel de Controle'!$B$10:$C$20,2,FALSE),0)","v":723.33},{"$f":"IF(L5<10,VLOOKUP(L5,'Painel de Controle'!$B$10:$C$20,2,FALSE),0)","v":0},{"$f":"IF(M5<10,VLOOKUP(M5,'Painel de Controle'!$B$10:$C$20,2,FALSE),0)","v":0},{"$f":"IF(N5<10,VLOOKUP(N5,'Painel de Controle'!$B$10:$C$20,2,FALSE),0)","v":0},{"$f":"IF(O5<10,VLOOKUP(O5,'Painel de Controle'!$B$10:$C$20,2,FALSE),0)","v":0},{"$f":"IF(P5<10,VLOOKUP(P5,'Painel de Controle'!$B$10:$C$20,2,FALSE),0)","v":0},{"$f":"IF(Q5<10,VLOOKUP(Q5,'Painel de Controle'!$B$10:$C$20,2,FALSE),0)","v":0},{"$f":"IF(R5<10,VLOOKUP(R5,'Painel de Controle'!$B$10:$C$20,2,FALSE),0)","v":0},{"$f":"IF(S5<10,VLOOKUP(S5,'Painel de Controle'!$B$10:$C$20,2,FALSE),0)","v":0},{"$f":"IF(T5<10,VLOOKUP(T5,'Painel de Controle'!$B$10:$C$20,2,FALSE),0)","v":0},{"$f":"IF(U5<10,VLOOKUP(U5,'Painel de Controle'!$B$10:$C$20,2,FALSE),0)","v":0},{"$f":"IF(V5<10,VLOOKUP(V5,'Painel de Controle'!$B$10:$C$20,2,FALSE),0)","v":0},{"$f":"IF(W5<10,VLOOKUP(W5,'Painel de Controle'!$B$10:$C$20,2,FALSE),0)","v":0},{"$f":"IF(X5<10,VLOOKUP(X5,'Painel de Controle'!$B$10:$C$20,2,FALSE),0)","v":0},{"$f":"IF(Y5<10,VLOOKUP(Y5,'Painel de Controle'!$B$10:$C$20,2,FALSE),0)","v":0},{"$f":"IF(Z5<10,VLOOKUP(Z5,'Painel de Controle'!$B$10:$C$20,2,FALSE),0)","v":0},{"$f":"IF(AA5<10,VLOOKUP(AA5,'Painel de Controle'!$B$10:$C$20,2,FALSE),0)","v":0},{"$f":"IF(AB5<10,VLOOKUP(AB5,'Painel de Controle'!$B$10:$C$20,2,FALSE),0)","v":0},{"$f":"IF(AC5<10,VLOOKUP(AC5,'Painel de Controle'!$B$10:$C$20,2,FALSE),0)","v":0},{"$f":"IF(AD5<10,VLOOKUP(AD5,'Painel de Controle'!$B$10:$C$20,2,FALSE),0)","v":0},{"$f":"IF(AE5<10,VLOOKUP(AE5,'Painel de Controle'!$B$10:$C$20,2,FALSE),0)","v":0},{"$f":"IF(AF5<10,VLOOKUP(AF5,'Painel de Controle'!$B$10:$C$20,2,FALSE),0)","v":0},{"$f":"IF(AG5<10,VLOOKUP(AG5,'Painel de Controle'!$B$10:$C$20,2,FALSE),0)","v":0},{"$f":"IF(AH5<10,VLOOKUP(AH5,'Painel de Controle'!$B$10:$C$20,2,FALSE),0)","v":0},{"$f":"IF(AI5<10,VLOOKUP(AI5,'Painel de Controle'!$B$10:$C$20,2,FALSE),0)","v":0},{"$f":"IF(AJ5<10,VLOOKUP(AJ5,'Painel de Controle'!$B$10:$C$20,2,FALSE),0)","v":0},{"$f":"IF(AK5<10,VLOOKUP(AK5,'Painel de Controle'!$B$10:$C$20,2,FALSE),0)","v":0},{"$f":"IF(AL5<10,VLOOKUP(AL5,'Painel de Controle'!$B$10:$C$20,2,FALSE),0)","v":0}]
[null,"Área Cultivada",null,{"$f":"D6","v":0},{"$f":"D7+E6","v":0},{"$f":"E7+F6","v":0},3739.57,6398.41,8417.41,9514.85,10238.18,10238.18,10238.18,10238.18,10238.18,10238.18,10238.18,10238.18,10238.18,10238.18,10238.18,10238.18,10238.18,10238.18,10238.18,10238.18,10238.18,10238.18,10238.18,10238.18,10238.18,10238.18,10238.18,10238.18,10238.18,10238.18,10238.18,10238.18]
[null,"% Área Cultivada",null,{"$f":"D7/SUM($D$6:$AL$6)","v":0},{"$f":"E7/SUM($D$6:$AL$6)","v":0},0,0.3652573015907124,0.62495580269149398,0.82215882119673611,0.92934974770906553,1,1,1,1,1,1,1,1,1,1,1,1,1,1,1,1,1,1,1,1,1,1,1,1,1,1,1,1]
[null,"% CAPEX Infraestrutura de Irrigação",null,{"$f":"SUM(CAPEX!F$20:F$48)/SUM(CAPEX!$E$20:$E$48)","v":0},{"$f":"SUM(CAPEX!G$20:G$48)/SUM(CAPEX!$E$20:$E$48)","v":0.15169392847854588},{"$f":"SUM(CAPEX!H$20:H$48)/SUM(CAPEX!$E$20:$E$48)","v":0.43842397080866369},{"$f":"SUM(CAPEX!I$20:I$48)/SUM(CAPEX!$E$20:$E$48)","v":0.22737367485382851},{"$f":"SUM(CAPEX!J$20:J$48)/SUM(CAPEX!$E$20:$E$48)","v":0.10119235438214935},{"$f":"SUM(CAPEX!K$20:K$48)/SUM(CAPEX!$E$20:$E$48)","v":8.1316071476812427E-2},{"$f":"SUM(CAPEX!L$20:L$48)/SUM(CAPEX!$E$20:$E$48)","v":0}]
[null,"% Implantação Infraestrutura de Irrigação",null,{"$f":"D9","v":0},{"$f":"D10+E9","v":0.15169392847854588},{"$f":"E10+F9","v":0.59011789928720959},0.81749157414103812,0.91868392852318748,0.99999999999999989,0.99999999999999989,{"$f":"J10","v":0.99999999999999989},{"$f":"K10","v":0.99999999999999989},0.99999999999999989,0.99999999999999989,0.99999999999999989,0.99999999999999989,0.99999999999999989,0.99999999999999989,0.99999999999999989,0.99999999999999989,0.99999999999999989,0.99999999999999989,0.99999999999999989,0.99999999999999989,0.99999999999999989,0.99999999999999989,0.99999999999999989,0.99999999999999989,0.99999999999999989,0.99999999999999989,0.99999999999999989,0.99999999999999989,0.99999999999999989,0.99999999999999989,0.99999999999999989,0.99999999999999989,0.99999999999999989,0.99999999999999989]
[]
[null,"Demonstração de Resultados do Exercício (R$ mil)","TOTAL",1,{"$f":"D12+1","v":2},{"$f":"E12+1","v":3},4,5,6,7,8,9,10,11,12,13,14,15,16,17,18,19,20,21,22,23,24,25,26,27,28,29,30,31,32,33,34,35]
[]
[null,"Receita Operacional Bruta",{"$f":"SUM(D14:AL14)","v":14597616.199447464},{"$f":"'Resultados Cultivos'!D6*(1+Sensibilidade!$D3)","v":0},{"$f":"'Resultados Cultivos'!E6*(1+Sensibilidade!$D3)","v":0},{"$f":"'Resultados Cultivos'!F6*(1+Sensibilidade!$D3)","v":0},{"$f":"'Resultados Cultivos'!G6*(1+Sensibilidade!$D3)","v":173441.35632186674},{"$f":"'Resultados Cultivos'!H6*(1+Sensibilidade!$D3)","v":296758.42642426665},{"$f":"'Resultados Cultivos'!I6*(1+Sensibilidade!$D3)","v":390399.70026426669},{"$f":"'Resultados Cultivos'!J6*(1+Sensibilidade!$D3)","v":441298.99672933336},{"$f":"'Resultados Cultivos'!K6*(1+Sensibilidade!$D3)","v":474847.0614181335},{"$f":"'Resultados Cultivos'!L6*(1+Sensibilidade!$D3)","v":474847.0614181335},{"$f":"'Resultados Cultivos'!M6*(1+Sensibilidade!$D3)","v":474847.0614181335},{"$f":"'Resultados Cultivos'!N6*(1+Sensibilidade!$D3)","v":474847.0614181335},{"$f":"'Resultados Cultivos'!O6*(1+Sensibilidade!$D3)","v":474847.0614181335},{"$f":"'Resultados Cultivos'!P6*(1+Sensibilidade!$D3)","v":474847.0614181335},{"$f":"'Resultados Cultivos'!Q6*(1+Sensibilidade!$D3)","v":474847.0614181335},{"$f":"'Resultados Cultivos'!R6*(1+Sensibilidade!$D3)","v":474847.0614181335},{"$f":"'Resultados Cultivos'!S6*(1+Sensibilidade!$D3)","v":474847.0614181335},{"$f":"'Resultados Cultivos'!T6*(1+Sensibilidade!$D3)","v":474847.0614181335},{"$f":"'Resultados Cultivos'!U6*(1+Sensibilidade!$D3)","v":474847.0614181335},{"$f":"'Resultados Cultivos'!V6*(1+Sensibilidade!$D3)","v":474847.0614181335},{"$f":"'Resultados Cultivos'!W6*(1+Sensibilidade!$D3)","v":474847.0614181335},{"$f":"'Resultados Cultivos'!X6*(1+Sensibilidade!$D3)","v":474847.0614181335},{"$f":"'Resultados Cultivos'!Y6*(1+Sensibilidade!$D3)","v":474847.0614181335},{"$f":"'Resultados Cultivos'!Z6*(1+Sensibilidade!$D3)","v":474847.0614181335},{"$f":"'Resultados Cultivos'!AA6*(1+Sensibilidade!$D3)","v":474847.0614181335},{"$f":"'Resultados Cultivos'!AB6*(1+Sensibilidade!$D3)","v":474847.0614181335},{"$f":"'Resultados Cultivos'!AC6*(1+Sensibilidade!$D3)","v":474847.0614181335},{"$f":"'Resultados Cultivos'!AD6*(1+Sensibilidade!$D3)","v":474847.0614181335},{"$f":"'Resultados Cultivos'!AE6*(1+Sensibilidade!$D3)","v":474847.0614181335},{"$f":"'Resultados Cultivos'!AF6*(1+Sensibilidade!$D3)","v":474847.0614181335},{"$f":"'Resultados Cultivos'!AG6*(1+Sensibilidade!$D3)","v":474847.0614181335},{"$f":"'Resultados Cultivos'!AH6*(1+Sensibilidade!$D3)","v":474847.0614181335},{"$f":"'Resultados Cultivos'!AI6*(1+Sensibilidade!$D3)","v":474847.0614181335},{"$f":"'Resultados Cultivos'!AJ6*(1+Sensibilidade!$D3)","v":474847.0614181335},{"$f":"'Resultados Cultivos'!AK6*(1+Sensibilidade!$D3)","v":474847.0614181335},{"$f":"'Resultados Cultivos'!AL6*(1+Sensibilidade!$D3)","v":474847.0614181335}]
[]
[null,"Deduções sobre a Receita Operacional",{"$f":"SUM(D16:AL16)","v":-941400.30962402828},{"$f":"SUM(D17:D20)","v":-2498.1329121605927},{"$f":"SUM(E17:E20)","v":-2498.1329121605927},-2498.1329121605927,-12644.512971742708,-19858.604741015446,-25336.652040650511,-28314.27870162699,-30276.852229732514,-30276.852229732514,-30276.852229732514,-30276.852229732514,-30276.852229732514,-30276.852229732514,-30276.852229732514,-30276.852229732514,-30276.852229732514,-30276.852229732514,-30276.852229732514,-30276.852229732514,-30276.852229732514,-30276.852229732514,-30276.852229732514,-30276.852229732514,-30276.852229732514,-30276.852229732514,-30276.852229732514,-30276.852229732514,-30276.852229732514,-30276.852229732514,-30276.852229732514,-30276.852229732514,-30276.852229732514,-30276.852229732514,-30276.852229732514,-30276.852229732514]
[null,"PIS",{"$f":"SUM(D17:AL17)","v":-98949.077541195846},{"$f":"-Tributação!D16","v":0},{"$f":"-Tributação!E16","v":0},{"$f":"-Tributação!F16","v":0},{"$f":"-Tributação!G16","v":-1175.6619698079296},{"$f":"-Tributação!H16","v":-2011.5594317632099},{"$f":"-Tributação!I16","v":-2646.3012649264369},{"$f":"-Tributação!J16","v":-2991.3191338648485},{"$f":"-Tributação!K16","v":-3218.7227050297633},{"$f":"-Tributação!L16","v":-3218.7227050297633},{"$f":"-Tributação!M16","v":-3218.7227050297633},{"$f":"-Tributação!N16","v":-3218.7227050297633},{"$f":"-Tributação!O16","v":-3218.7227050297633},{"$f":"-Tributação!P16","v":-3218.7227050297633},{"$f":"-Tributação!Q16","v":-3218.7227050297633},{"$f":"-Tributação!R16","v":-3218.7227050297633},{"$f":"-Tributação!S16","v":-3218.7227050297633},{"$f":"-Tributação!T16","v":-3218.7227050297633},{"$f":"-Tributação!U16","v":-3218.7227050297633},{"$f":"-Tributação!V16","v":-3218.7227050297633},{"$f":"-Tributação!W16","v":-3218.7227050297633},{"$f":"-Tributação!X16","v":-3218.7227050297633},{"$f":"-Tributação!Y16","v":-3218.7227050297633},{"$f":"-Tributação!Z16","v":-3218.7227050297633},{"$f":"-Tributação!AA16","v":-3218.7227050297633},{"$f":"-Tributação!AB16","v":-3218.7227050297633},{"$f":"-Tributação!AC16","v":-3218.7227050297633},{"$f":"-Tributação!AD16","v":-3218.7227050297633},{"$f":"-Tributação!AE16","v":-3218.7227050297633},{"$f":"-Tributação!AF16","v":-3218.7227050297633},{"$f":"-Tributação!AG16","v":-3218.7227050297633},{"$f":"-Tributação!AH16","v":-3218.7227050297633},{"$f":"-Tributação!AI16","v":-3218.7227050297633},{"$f":"-Tributação!AJ16","v":-3218.7227050297633},{"$f":"-Tributação!AK16","v":-3218.7227050297633},{"$f":"-Tributação!AL16","v":-3218.7227050297633}]
[null,"COFINS",-455765.44806853798,{"$f":"-Tributação!D17","v":0},{"$f":"-Tributação!E17","v":0},{"$f":"-Tributação!F17","v":0},{"$f":"-Tributação!G17","v":-5415.1702851759173},{"$f":"-Tributação!H17","v":-9265.3646553941799},{"$f":"-Tributação!I17","v":-12189.024008146014},{"$f":"-Tributação!J17","v":-13778.197222650215},{"$f":"-Tributação!K17","v":-14825.631853470422},{"$f":"-Tributação!L17","v":-14825.631853470422},{"$f":"-Tributação!M17","v":-14825.631853470422},{"$f":"-Tributação!N17","v":-14825.631853470422},{"$f":"-Tributação!O17","v":-14825.631853470422},{"$f":"-Tributação!P17","v":-14825.631853470422},{"$f":"-Tributação!Q17","v":-14825.631853470422},{"$f":"-Tributação!R17","v":-14825.631853470422},{"$f":"-Tributação!S17","v":-14825.631853470422},{"$f":"-Tributação!T17","v":-14825.631853470422},{"$f":"-Tributação!U17","v":-14825.631853470422},{"$f":"-Tributação!V17","v":-14825.631853470422},{"$f":"-Tributação!W17","v":-14825.631853470422},{"$f":"-Tributação!X17","v":-14825.631853470422},{"$f":"-Tributação!Y17","v":-14825.631853470422},{"$f":"-Tributação!Z17","v":-14825.631853470422},{"$f":"-Tributação!AA17","v":-14825.631853470422},{"$f":"-Tributação!AB17","v":-14825.631853470422},{"$f":"-Tributação!AC17","v":-14825.631853470422},{"$f":"-Tributação!AD17","v":-14825.631853470422},{"$f":"-Tributação!AE17","v":-14825.631853470422},{"$f":"-Tributação!AF17","v":-14825.631853470422},{"$f":"-Tributação!AG17","v":-14825.631853470422},{"$f":"-Tributação!AH17","v":-14825.631853470422},{"$f":"-Tributação!AI17","v":-14825.631853470422},{"$f":"-Tributação!AJ17","v":-14825.631853470422},{"$f":"-Tributação!AK17","v":-14825.631853470422},{"$f":"-Tributação!AL17","v":-14825.631853470422}]
[null,"FUNRURAL",-299251.13208867301,{"$f":"-'Painel de Controle'!$G$8*'FC Projeto'!D14","v":0},{"$f":"-'Painel de Controle'!$G$8*'FC Projeto'!E14","v":0},{"$f":"-'Painel de Controle'!$G$8*'FC Projeto'!F14","v":0},{"$f":"-'Painel de Controle'!$G$8*'FC Projeto'!G14","v":-3555.5478045982682},{"$f":"-'Painel de Controle'!$G$8*'FC Projeto'!H14","v":-6083.5477416974663},{"$f":"-'Painel de Controle'!$G$8*'FC Projeto'!I14","v":-8003.1938554174676},{"$f":"-'Painel de Controle'!$G$8*'FC Projeto'!J14","v":-9046.6294329513348},{"$f":"-'Painel de Controle'!$G$8*'FC Projeto'!K14","v":-9734.3647590717374},{"$f":"-'Painel de Controle'!$G$8*'FC Projeto'!L14","v":-9734.3647590717374},{"$f":"-'Painel de Controle'!$G$8*'FC Projeto'!M14","v":-9734.3647590717374},{"$f":"-'Painel de Controle'!$G$8*'FC Projeto'!N14","v":-9734.3647590717374},{"$f":"-'Painel de Controle'!$G$8*'FC Projeto'!O14","v":-9734.3647590717374},{"$f":"-'Painel de Controle'!$G$8*'FC Projeto'!P14","v":-9734.3647590717374},{"$f":"-'Painel de Controle'!$G$8*'FC Projeto'!Q14","v":-9734.3647590717374},{"$f":"-'Painel de Controle'!$G$8*'FC Projeto'!R14","v":-9734.3647590717374},{"$f":"-'Painel de Controle'!$G$8*'FC Projeto'!S14","v":-9734.3647590717374},{"$f":"-'Painel de Controle'!$G$8*'FC Projeto'!T14","v":-9734.3647590717374},{"$f":"-'Painel de Controle'!$G$8*'FC Projeto'!U14","v":-9734.3647590717374},{"$f":"-'Painel de Controle'!$G$8*'FC Projeto'!V14","v":-9734.3647590717374},{"$f":"-'Painel de Controle'!$G$8*'FC Projeto'!W14","v":-9734.3647590717374},{"$f":"-'Painel de Controle'!$G$8*'FC Projeto'!X14","v":-9734.3647590717374},{"$f":"-'Painel de Controle'!$G$8*'FC Projeto'!Y14","v":-9734.3647590717374},{"$f":"-'Painel de Controle'!$G$8*'FC Projeto'!Z14","v":-9734.3647590717374},{"$f":"-'Painel de Controle'!$G$8*'FC Projeto'!AA14","v":-9734.3647590717374},{"$f":"-'Painel de Controle'!$G$8*'FC Projeto'!AB14","v":-9734.3647590717374},{"$f":"-'Painel de Controle'!$G$8*'FC Projeto'!AC14","v":-9734.3647590717374},{"$f":"-'Painel de Controle'!$G$8*'FC Projeto'!AD14","v":-9734.3647590717374},{"$f":"-'Painel de Controle'!$G$8*'FC Projeto'!AE14","v":-9734.3647590717374},{"$f":"-'Painel de Controle'!$G$8*'FC Projeto'!AF14","v":-9734.3647590717374},{"$f":"-'Painel de Controle'!$G$8*'FC Projeto'!AG14","v":-9734.3647590717374},{"$f":"-'Painel de Controle'!$G$8*'FC Projeto'!AH14","v":-9734.3647590717374},{"$f":"-'Painel de Controle'!$G$8*'FC Projeto'!AI14","v":-9734.3647590717374},{"$f":"-'Painel de Controle'!$G$8*'FC Projeto'!AJ14","v":-9734.3647590717374},{"$f":"-'Painel de Controle'!$G$8*'FC Projeto'!AK14","v":-9734.3647590717374},{"$f":"-'Painel de Controle'!$G$8*'FC Projeto'!AL14","v":-9734.3647590717374}]
[null,"ITR",{"$f":"SUM(D20:AL20)","v":-87434.651925620812},{"$f":"-'Painel de Controle'!$D$7*'Painel de Controle'!$G$19/1000","v":-2498.1329121605927},{"$f":"-'Painel de Controle'!$D$7*'Painel de Controle'!$G$19/1000","v":-2498.1329121605927},{"$f":"-'Painel de Controle'!$D$7*'Painel de Controle'!$G$19/1000","v":-2498.1329121605927},{"$f":"-'Painel de Controle'!$D$7*'Painel de Controle'!$G$19/1000","v":-2498.1329121605927},{"$f":"-'Painel de Controle'!$D$7*'Painel de Controle'!$G$19/1000","v":-2498.1329121605927},{"$f":"-'Painel de Controle'!$D$7*'Painel de Controle'!$G$19/1000","v":-2498.1329121605927},{"$f":"-'Painel de Controle'!$D$7*'Painel de Controle'!$G$19/1000","v":-2498.1329121605927},{"$f":"-'Painel de Controle'!$D$7*'Painel de Controle'!$G$19/1000","v":-2498.1329121605927},{"$f":"-'Painel de Controle'!$D$7*'Painel de Controle'!$G$19/1000","v":-2498.1329121605927},{"$f":"-'Painel de Controle'!$D$7*'Painel de Controle'!$G$19/1000","v":-2498.1329121605927},{"$f":"-'Painel de Controle'!$D$7*'Painel de Controle'!$G$19/1000","v":-2498.1329121605927},{"$f":"-'Painel de Controle'!$D$7*'Painel de Controle'!$G$19/1000","v":-2498.1329121605927},{"$f":"-'Painel de Controle'!$D$7*'Painel de Controle'!$G$19/1000","v":-2498.1329121605927},{"$f":"-'Painel de Controle'!$D$7*'Painel de Controle'!$G$19/1000","v":-2498.1329121605927},{"$f":"-'Painel de Controle'!$D$7*'Painel de Controle'!$G$19/1000","v":-2498.1329121605927},{"$f":"-'Painel de Controle'!$D$7*'Painel de Controle'!$G$19/1000","v":-2498.1329121605927},{"$f":"-'Painel de Controle'!$D$7*'Painel de Controle'!$G$19/1000","v":-2498.1329121605927},{"$f":"-'Painel de Controle'!$D$7*'Painel de Controle'!$G$19/1000","v":-2498.1329121605927},{"$f":"-'Painel de Controle'!$D$7*'Painel de Controle'!$G$19/1000","v":-2498.1329121605927},{"$f":"-'Painel de Controle'!$D$7*'Painel de Controle'!$G$19/1000","v":-2498.1329121605927},{"$f":"-'Painel de Controle'!$D$7*'Painel de Controle'!$G$19/1000","v":-2498.1329121605927},{"$f":"-'Painel de Controle'!$D$7*'Painel de Controle'!$G$19/1000","v":-2498.1329121605927},{"$f":"-'Painel de Controle'!$D$7*'Painel de Controle'!$G$19/1000","v":-2498.1329121605927},{"$f":"-'Painel de Controle'!$D$7*'Painel de Controle'!$G$19/1000","v":-2498.1329121605927},{"$f":"-'Painel de Controle'!$D$7*'Painel de Controle'!$G$19/1000","v":-2498.1329121605927},{"$f":"-'Painel de Controle'!$D$7*'Painel de Controle'!$G$19/1000","v":-2498.1329121605927},{"$f":"-'Painel de Controle'!$D$7*'Painel de Controle'!$G$19/1000","v":-2498.1329121605927},{"$f":"-'Painel de Controle'!$D$7*'Painel de Controle'!$G$19/1000","v":-2498.1329121605927},{"$f":"-'Painel de Controle'!$D$7*'Painel de Controle'!$G$19/1000","v":-2498.1329121605927},{"$f":"-'Painel de Controle'!$D$7*'Painel de Controle'!$G$19/1000","v":-2498.1329121605927},{"$f":"-'Painel de Controle'!$D$7*'Painel de Controle'!$G$19/1000","v":-2498.1329121605927},{"$f":"-'Painel de Controle'!$D$7*'Painel de Controle'!$G$19/1000","v":-2498.1329121605927},{"$f":"-'Painel de Controle'!$D$7*'Painel de Controle'!$G$19/1000","v":-2498.1329121605927},{"$f":"-'Painel de Controle'!$D$7*'Painel de Controle'!$G$19/1000","v":-2498.1329121605927},{"$f":"-'Painel de Controle'!$D$7*'Painel de Controle'!$G$19/1000","v":-2498.1329121605927}]
[]
[null,"Receita Operacional Líquida",{"$f":"C14+C16","v":13656215.889823437},{"$f":"D14+D16","v":-2498.1329121605927},{"$f":"E14+E16","v":-2498.1329121605927},-2498.1329121605927,160796.84335012402,276899.82168325118,365063.04822361621,412984.71802770637,444570.209188401,444570.209188401,444570.209188401,444570.209188401,444570.209188401,444570.209188401,444570.209188401,444570.209188401,444570.209188401,444570.209188401,444570.209188401,444570.209188401,444570.209188401,444570.209188401,444570.209188401,444570.209188401,444570.209188401,444570.209188401,444570.209188401,444570.209188401,444570.209188401,444570.209188401,444570.209188401,444570.209188401,444570.209188401,444570.209188401,444570.209188401,444570.209188401]
[null,null,null,0,{"$f":"E15","v":0},0,0,0,0,0,0,0,0,0,null,0,0,0,0,0,0,0,0,0,0,0,0,0,0,0,0,0,0,0,0,0,0,0]
[null,"Custos e Despesas Operacionais",{"$f":"SUM(C25:C36)","v":-9104340.770143915},{"$f":"SUM(D25:D36)*(1+Sensibilidade!$D5)","v":-39916.808241741506},{"$f":"SUM(E25:E36)*(1+Sensibilidade!$D5)","v":-1002.6286387603038},{"$f":"SUM(F25:F36)*(1+Sensibilidade!$D5)","v":-3096.334235068166},{"$f":"SUM(G25:G36)*(1+Sensibilidade!$D5)","v":-106304.88310741444},{"$f":"SUM(H25:H36)*(1+Sensibilidade!$D5)","v":-263909.26069504954},{"$f":"SUM(I25:I36)*(1+Sensibilidade!$D5)","v":-239859.21964384968},{"$f":"SUM(J25:J36)*(1+Sensibilidade!$D5)","v":-270269.04030863527},{"$f":"SUM(K25:K36)*(1+Sensibilidade!$D5)","v":-293259.84601201414},{"$f":"SUM(L25:L36)*(1+Sensibilidade!$D5)","v":-467981.9941473158},{"$f":"SUM(M25:M36)*(1+Sensibilidade!$D5)","v":-286838.68144596327},{"$f":"SUM(N25:N36)*(1+Sensibilidade!$D5)","v":-286153.48763089324},{"$f":"SUM(O25:O36)*(1+Sensibilidade!$D5)","v":-286162.61621987796},{"$f":"SUM(P25:P36)*(1+Sensibilidade!$D5)","v":-285368.05883424799},{"$f":"SUM(Q25:Q36)*(1+Sensibilidade!$D5)","v":-285115.00388388796},{"$f":"SUM(R25:R36)*(1+Sensibilidade!$D5)","v":-285138.73821524828},{"$f":"SUM(S25:S36)*(1+Sensibilidade!$D5)","v":-285138.73821524828},{"$f":"SUM(T25:T36)*(1+Sensibilidade!$D5)","v":-285400.92175459303},{"$f":"SUM(U25:U36)*(1+Sensibilidade!$D5)","v":-285115.00388388796},{"$f":"SUM(V25:V36)*(1+Sensibilidade!$D5)","v":-285115.00388388796},{"$f":"SUM(W25:W36)*(1+Sensibilidade!$D5)","v":-285158.13219381188},{"$f":"SUM(X25:X36)*(1+Sensibilidade!$D5)","v":-285411.18714417191},{"$f":"SUM(Y25:Y36)*(1+Sensibilidade!$D5)","v":-285167.2607827966},{"$f":"SUM(Z25:Z36)*(1+Sensibilidade!$D5)","v":-285115.00388388796},{"$f":"SUM(AA25:AA36)*(1+Sensibilidade!$D5)","v":-285115.00388388796},{"$f":"SUM(AB25:AB36)*(1+Sensibilidade!$D5)","v":-285358.93024215184},{"$f":"SUM(AC25:AC36)*(1+Sensibilidade!$D5)","v":-285105.87529179186},{"$f":"SUM(AD25:AD36)*(1+Sensibilidade!$D5)","v":-285115.00388077658},{"$f":"SUM(AE25:AE36)*(1+Sensibilidade!$D5)","v":-285115.00388077658},{"$f":"SUM(AF25:AF36)*(1+Sensibilidade!$D5)","v":-285368.05883113656},{"$f":"SUM(AG25:AG36)*(1+Sensibilidade!$D5)","v":-285188.9915128171},{"$f":"SUM(AH25:AH36)*(1+Sensibilidade!$D5)","v":-285188.9915128171},{"$f":"SUM(AI25:AI36)*(1+Sensibilidade!$D5)","v":-285198.12010180182},{"$f":"SUM(AJ25:AJ36)*(1+Sensibilidade!$D5)","v":-285368.05883113656},{"$f":"SUM(AK25:AK36)*(1+Sensibilidade!$D5)","v":-285115.00388077658},{"$f":"SUM(AL25:AL36)*(1+Sensibilidade!$D5)","v":-285105.87529179186}]
[null,"Despesas Agrícolas",{"$f":"SUM(D25:AL25)","v":-7732262.7103630686},{"$f":"-'Resultados Cultivos'!D7","v":0},{"$f":"-'Resultados Cultivos'!E7","v":0},{"$f":"-'Resultados Cultivos'!F7","v":0},{"$f":"-'Resultados Cultivos'!G7","v":-91870.762568283273},{"$f":"-'Resultados Cultivos'!H7","v":-157191.01552438631},{"$f":"-'Resultados Cultivos'!I7","v":-206792.19149525033},{"$f":"-'Resultados Cultivos'!J7","v":-233753.2190125683},{"$f":"-'Resultados Cultivos'!K7","v":-251523.41149152082},{"$f":"-'Resultados Cultivos'!L7","v":-251523.41149152082},{"$f":"-'Resultados Cultivos'!M7","v":-251523.41149152082},{"$f":"-'Resultados Cultivos'!N7","v":-251523.41149152082},{"$f":"-'Resultados Cultivos'!O7","v":-251523.41149152082},{"$f":"-'Resultados Cultivos'!P7","v":-251523.41149152082},{"$f":"-'Resultados Cultivos'!Q7","v":-251523.41149152082},{"$f":"-'Resultados Cultivos'!R7","v":-251523.41149152082},{"$f":"-'Resultados Cultivos'!S7","v":-251523.41149152082},{"$f":"-'Resultados Cultivos'!T7","v":-251523.41149152082},{"$f":"-'Resultados Cultivos'!U7","v":-251523.41149152082},{"$f":"-'Resultados Cultivos'!V7","v":-251523.41149152082},{"$f":"-'Resultados Cultivos'!W7","v":-251523.41149152082},{"$f":"-'Resultados Cultivos'!X7","v":-251523.41149152082},{"$f":"-'Resultados Cultivos'!Y7","v":-251523.41149152082},{"$f":"-'Resultados Cultivos'!Z7","v":-251523.41149152082},{"$f":"-'Resultados Cultivos'!AA7","v":-251523.41149152082},{"$f":"-'Resultados Cultivos'!AB7","v":-251523.41149152082},{"$f":"-'Resultados Cultivos'!AC7","v":-251523.41149152082},{"$f":"-'Resultados Cultivos'!AD7","v":-251523.41149152082},{"$f":"-'Resultados Cultivos'!AE7","v":-251523.41149152082},{"$f":"-'Resultados Cultivos'!AF7","v":-251523.41149152082},{"$f":"-'Resultados Cultivos'!AG7","v":-251523.41149152082},{"$f":"-'Resultados Cultivos'!AH7","v":-251523.41149152082},{"$f":"-'Resultados Cultivos'!AI7","v":-251523.41149152082},{"$f":"-'Resultados Cultivos'!AJ7","v":-251523.41149152082},{"$f":"-'Resultados Cultivos'!AK7","v":-251523.41149152082},{"$f":"-'Resultados Cultivos'!AL7","v":-251523.41149152082}]
[null,"Energia",{"$f":"SUM(D26:AL26)","v":-633080.07136788405},{"$f":"-D7*Energia!$I$26/1000","v":0},{"$f":"-E7*Energia!$I$26/1000","v":0},{"$f":"-F7*Energia!$I$26/1000","v":0},{"$f":"-G7*Energia!$I$26/1000","v":-7521.9313029031482},{"$f":"-H7*Energia!$I$26/1000","v":-12870.035984834762},{"$f":"-I7*Energia!$I$26/1000","v":-16931.139079725741},{"$f":"-J7*Energia!$I$26/1000","v":-19138.576910561384},{"$f":"-K7*Energia!$I$26/1000","v":-20593.513860352115},{"$f":"-L7*Energia!$I$26/1000","v":-20593.513860352115},{"$f":"-M7*Energia!$I$26/1000","v":-20593.513860352115},{"$f":"-N7*Energia!$I$26/1000","v":-20593.513860352115},{"$f":"-O7*Energia!$I$26/1000","v":-20593.513860352115},{"$f":"-P7*Energia!$I$26/1000","v":-20593.513860352115},{"$f":"-Q7*Energia!$I$26/1000","v":-20593.513860352115},{"$f":"-R7*Energia!$I$26/1000","v":-20593.513860352115},{"$f":"-S7*Energia!$I$26/1000","v":-20593.513860352115},{"$f":"-T7*Energia!$I$26/1000","v":-20593.513860352115},{"$f":"-U7*Energia!$I$26/1000","v":-20593.513860352115},{"$f":"-V7*Energia!$I$26/1000","v":-20593.513860352115},{"$f":"-W7*Energia!$I$26/1000","v":-20593.513860352115},{"$f":"-X7*Energia!$I$26/1000","v":-20593.513860352115},{"$f":"-Y7*Energia!$I$26/1000","v":-20593.513860352115},{"$f":"-Z7*Energia!$I$26/1000","v":-20593.513860352115},{"$f":"-AA7*Energia!$I$26/1000","v":-20593.513860352115},{"$f":"-AB7*Energia!$I$26/1000","v":-20593.513860352115},{"$f":"-AC7*Energia!$I$26/1000","v":-20593.513860352115},{"$f":"-AD7*Energia!$I$26/1000","v":-20593.513860352115},{"$f":"-AE7*Energia!$I$26/1000","v":-20593.513860352115},{"$f":"-AF7*Energia!$I$26/1000","v":-20593.513860352115},{"$f":"-AG7*Energia!$I$26/1000","v":-20593.513860352115},{"$f":"-AH7*Energia!$I$26/1000","v":-20593.513860352115},{"$f":"-AI7*Energia!$I$26/1000","v":-20593.513860352115},{"$f":"-AJ7*Energia!$I$26/1000","v":-20593.513860352115},{"$f":"-AK7*Energia!$I$26/1000","v":-20593.513860352115},{"$f":"-AL7*Energia!$I$26/1000","v":-20593.513860352115}]
[null,"Manutenção de Equipamentos",{"$f":"SUM(D27:AL27)","v":-145375.64996409282},{"$f":"-D8*'Base Ativos'!$K$6/1000","v":0},{"$f":"-E8*'Base Ativos'!$K$6/1000","v":0},{"$f":"-F8*'Base Ativos'!$K$6/1000","v":0},{"$f":"-G8*'Base Ativos'!$K$6/1000","v":-1727.2785886026763},{"$f":"-H8*'Base Ativos'!$K$6/1000","v":-2955.3763117420585},{"$f":"-I8*'Base Ativos'!$K$6/1000","v":-3887.9368655995349},{"$f":"-J8*'Base Ativos'!$K$6/1000","v":-4394.8359513971327},{"$f":"-K8*'Base Ativos'!$K$6/1000","v":-4728.9365088125505},{"$f":"-L8*'Base Ativos'!$K$6/1000","v":-4728.9365088125505},{"$f":"-M8*'Base Ativos'!$K$6/1000","v":-4728.9365088125505},{"$f":"-N8*'Base Ativos'!$K$6/1000","v":-4728.9365088125505},{"$f":"-O8*'Base Ativos'!$K$6/1000","v":-4728.9365088125505},{"$f":"-P8*'Base Ativos'!$K$6/1000","v":-4728.9365088125505},{"$f":"-Q8*'Base Ativos'!$K$6/1000","v":-4728.9365088125505},{"$f":"-R8*'Base Ativos'!$K$6/1000","v":-4728.9365088125505},{"$f":"-S8*'Base Ativos'!$K$6/1000","v":-4728.9365088125505},{"$f":"-T8*'Base Ativos'!$K$6/1000","v":-4728.9365088125505},{"$f":"-U8*'Base Ativos'!$K$6/1000","v":-4728.9365088125505},{"$f":"-V8*'Base Ativos'!$K$6/1000","v":-4728.9365088125505},{"$f":"-W8*'Base Ativos'!$K$6/1000","v":-4728.9365088125505},{"$f":"-X8*'Base Ativos'!$K$6/1000","v":-4728.9365088125505},{"$f":"-Y8*'Base Ativos'!$K$6/1000","v":-4728.9365088125505},{"$f":"-Z8*'Base Ativos'!$K$6/1000","v":-4728.9365088125505},{"$f":"-AA8*'Base Ativos'!$K$6/1000","v":-4728.9365088125505},{"$f":"-AB8*'Base Ativos'!$K$6/1000","v":-4728.9365088125505},{"$f":"-AC8*'Base Ativos'!$K$6/1000","v":-4728.9365088125505},{"$f":"-AD8*'Base Ativos'!$K$6/1000","v":-4728.9365088125505},{"$f":"-AE8*'Base Ativos'!$K$6/1000","v":-4728.9365088125505},{"$f":"-AF8*'Base Ativos'!$K$6/1000","v":-4728.9365088125505},{"$f":"-AG8*'Base Ativos'!$K$6/1000","v":-4728.9365088125505},{"$f":"-AH8*'Base Ativos'!$K$6/1000","v":-4728.9365088125505},{"$f":"-AI8*'Base Ativos'!$K$6/1000","v":-4728.9365088125505},{"$f":"-AJ8*'Base Ativos'!$K$6/1000","v":-4728.9365088125505},{"$f":"-AK8*'Base Ativos'!$K$6/1000","v":-4728.9365088125505},{"$f":"-AL8*'Base Ativos'!$K$6/1000","v":-4728.9365088125505}]
[null,"Manutenção de Obras Civis",-89983.977376922878,{"$f":"-D8*'Base Ativos'!$K$7/1000","v":0},{"$f":"-E8*'Base Ativos'!$K$7/1000","v":0},{"$f":"-F8*'Base Ativos'!$K$7/1000","v":0},{"$f":"-G8*'Base Ativos'!$K$7/1000","v":-1069.1432676576605},{"$f":"-H8*'Base Ativos'!$K$7/1000","v":-1829.3057691695706},{"$f":"-I8*'Base Ativos'!$K$7/1000","v":-2406.5379796645784},{"$f":"-J8*'Base Ativos'!$K$7/1000","v":-2720.2961357248273},{"$f":"-K8*'Base Ativos'!$K$7/1000","v":-2927.0962223109359},{"$f":"-L8*'Base Ativos'!$K$7/1000","v":-2927.0962223109359},{"$f":"-M8*'Base Ativos'!$K$7/1000","v":-2927.0962223109359},{"$f":"-N8*'Base Ativos'!$K$7/1000","v":-2927.0962223109359},{"$f":"-O8*'Base Ativos'!$K$7/1000","v":-2927.0962223109359},{"$f":"-P8*'Base Ativos'!$K$7/1000","v":-2927.0962223109359},{"$f":"-Q8*'Base Ativos'!$K$7/1000","v":-2927.0962223109359},{"$f":"-R8*'Base Ativos'!$K$7/1000","v":-2927.0962223109359},{"$f":"-S8*'Base Ativos'!$K$7/1000","v":-2927.0962223109359},{"$f":"-T8*'Base Ativos'!$K$7/1000","v":-2927.0962223109359},{"$f":"-U8*'Base Ativos'!$K$7/1000","v":-2927.0962223109359},{"$f":"-V8*'Base Ativos'!$K$7/1000","v":-2927.0962223109359},{"$f":"-W8*'Base Ativos'!$K$7/1000","v":-2927.0962223109359},{"$f":"-X8*'Base Ativos'!$K$7/1000","v":-2927.0962223109359},{"$f":"-Y8*'Base Ativos'!$K$7/1000","v":-2927.0962223109359},{"$f":"-Z8*'Base Ativos'!$K$7/1000","v":-2927.0962223109359},{"$f":"-AA8*'Base Ativos'!$K$7/1000","v":-2927.0962223109359},{"$f":"-AB8*'Base Ativos'!$K$7/1000","v":-2927.0962223109359},{"$f":"-AC8*'Base Ativos'!$K$7/1000","v":-2927.0962223109359},{"$f":"-AD8*'Base Ativos'!$K$7/1000","v":-2927.0962223109359},{"$f":"-AE8*'Base Ativos'!$K$7/1000","v":-2927.0962223109359},{"$f":"-AF8*'Base Ativos'!$K$7/1000","v":-2927.0962223109359},{"$f":"-AG8*'Base Ativos'!$K$7/1000","v":-2927.0962223109359},{"$f":"-AH8*'Base Ativos'!$K$7/1000","v":-2927.0962223109359},{"$f":"-AI8*'Base Ativos'!$K$7/1000","v":-2927.0962223109359},{"$f":"-AJ8*'Base Ativos'!$K$7/1000","v":-2927.0962223109359},{"$f":"-AK8*'Base Ativos'!$K$7/1000","v":-2927.0962223109359},{"$f":"-AL8*'Base Ativos'!$K$7/1000","v":-2927.0962223109359}]
[null,"Despesas de Pessoal",-116993.78508877648,{"$f":"-D10*Despesas!$I$25/1000","v":0},{"$f":"-E10*Despesas!$I$25/1000","v":-546.43924474541245},{"$f":"-F10*Despesas!$I$25/1000","v":-2125.7513892051275},{"$f":"-G10*Despesas!$I$25/1000","v":-2944.8078960032044},{"$f":"-H10*Despesas!$I$25/1000","v":-3309.3279150784056},{"$f":"-I10*Despesas!$I$25/1000","v":-3602.2486214581454},{"$f":"-J10*Despesas!$I$25/1000","v":-3602.2486214581454},{"$f":"-K10*Despesas!$I$25/1000","v":-3602.2486214581454},{"$f":"-L10*Despesas!$I$25/1000","v":-3602.2486214581454},{"$f":"-M10*Despesas!$I$25/1000","v":-3602.2486214581454},{"$f":"-N10*Despesas!$I$25/1000","v":-3602.2486214581454},{"$f":"-O10*Despesas!$I$25/1000","v":-3602.2486214581454},{"$f":"-P10*Despesas!$I$25/1000","v":-3602.2486214581454},{"$f":"-Q10*Despesas!$I$25/1000","v":-3602.2486214581454},{"$f":"-R10*Despesas!$I$25/1000","v":-3602.2486214581454},{"$f":"-S10*Despesas!$I$25/1000","v":-3602.2486214581454},{"$f":"-T10*Despesas!$I$25/1000","v":-3602.2486214581454},{"$f":"-U10*Despesas!$I$25/1000","v":-3602.2486214581454},{"$f":"-V10*Despesas!$I$25/1000","v":-3602.2486214581454},{"$f":"-W10*Despesas!$I$25/1000","v":-3602.2486214581454},{"$f":"-X10*Despesas!$I$25/1000","v":-3602.2486214581454},{"$f":"-Y10*Despesas!$I$25/1000","v":-3602.2486214581454},{"$f":"-Z10*Despesas!$I$25/1000","v":-3602.2486214581454},{"$f":"-AA10*Despesas!$I$25/1000","v":-3602.2486214581454},{"$f":"-AB10*Despesas!$I$25/1000","v":-3602.2486214581454},{"$f":"-AC10*Despesas!$I$25/1000","v":-3602.2486214581454},{"$f":"-AD10*Despesas!$I$25/1000","v":-3602.2486214581454},{"$f":"-AE10*Despesas!$I$25/1000","v":-3602.2486214581454},{"$f":"-AF10*Despesas!$I$25/1000","v":-3602.2486214581454},{"$f":"-AG10*Despesas!$I$25/1000","v":-3602.2486214581454},{"$f":"-AH10*Despesas!$I$25/1000","v":-3602.2486214581454},{"$f":"-AI10*Despesas!$I$25/1000","v":-3602.2486214581454},{"$f":"-AJ10*Despesas!$I$25/1000","v":-3602.2486214581454},{"$f":"-AK10*Despesas!$I$25/1000","v":-3602.2486214581454},{"$f":"-AL10*Despesas!$I$25/1000","v":-3602.2486214581454}]
[null,"Meio Ambiente",{"$f":"SUM(D30:AL30)","v":-26442.596851634611},0,0,0,0,0,0,0,{"$f":"-IF('Painel de Controle'!$G$16=\"S\",CAPEX!M76*(1-'Painel de Controle'!$G$17),CAPEX!M76)/1000","v":-2831.33310295},{"$f":"-IF('Painel de Controle'!$G$16=\"S\",CAPEX!N76*(1-'Painel de Controle'!$G$17),CAPEX!N76)/1000","v":-2588.7885886900003},{"$f":"-IF('Painel de Controle'!$G$16=\"S\",CAPEX!O76*(1-'Painel de Controle'!$G$17),CAPEX!O76)/1000","v":-2335.7336383299998},{"$f":"-IF('Painel de Controle'!$G$16=\"S\",CAPEX!P76*(1-'Painel de Controle'!$G$17),CAPEX!P76)/1000","v":-1650.53982326},{"$f":"-IF('Painel de Controle'!$G$16=\"S\",CAPEX!Q76*(1-'Painel de Controle'!$G$17),CAPEX!Q76)/1000","v":-1650.53982326},{"$f":"-IF('Painel de Controle'!$G$16=\"S\",CAPEX!R76*(1-'Painel de Controle'!$G$17),CAPEX!R76)/1000","v":-855.98243763000005},{"$f":"-IF('Painel de Controle'!$G$16=\"S\",CAPEX!S76*(1-'Painel de Controle'!$G$17),CAPEX!S76)/1000","v":-602.92748727000003},{"$f":"-IF('Painel de Controle'!$G$16=\"S\",CAPEX!T76*(1-'Painel de Controle'!$G$17),CAPEX!T76)/1000","v":-602.92748727000003},{"$f":"-IF('Painel de Controle'!$G$16=\"S\",CAPEX!U76*(1-'Painel de Controle'!$G$17),CAPEX!U76)/1000","v":-602.92748727000003},{"$f":"-IF('Painel de Controle'!$G$16=\"S\",CAPEX!V76*(1-'Painel de Controle'!$G$17),CAPEX!V76)/1000","v":-855.98243763000005},{"$f":"-IF('Painel de Controle'!$G$16=\"S\",CAPEX!W76*(1-'Painel de Controle'!$G$17),CAPEX!W76)/1000","v":-602.92748727000003},{"$f":"-IF('Painel de Controle'!$G$16=\"S\",CAPEX!X76*(1-'Painel de Controle'!$G$17),CAPEX!X76)/1000","v":-602.92748727000003},{"$f":"-IF('Painel de Controle'!$G$16=\"S\",CAPEX!Y76*(1-'Painel de Controle'!$G$17),CAPEX!Y76)/1000","v":-602.92748727000003},{"$f":"-IF('Painel de Controle'!$G$16=\"S\",CAPEX!Z76*(1-'Painel de Controle'!$G$17),CAPEX!Z76)/1000","v":-855.98243763000005},{"$f":"-IF('Painel de Controle'!$G$16=\"S\",CAPEX!AA76*(1-'Painel de Controle'!$G$17),CAPEX!AA76)/1000","v":-602.92748727000003},{"$f":"-IF('Painel de Controle'!$G$16=\"S\",CAPEX!AB76*(1-'Painel de Controle'!$G$17),CAPEX!AB76)/1000","v":-602.92748727000003},{"$f":"-IF('Painel de Controle'!$G$16=\"S\",CAPEX!AC76*(1-'Painel de Controle'!$G$17),CAPEX!AC76)/1000","v":-602.92748727000003},{"$f":"-IF('Painel de Controle'!$G$16=\"S\",CAPEX!AD76*(1-'Painel de Controle'!$G$17),CAPEX!AD76)/1000","v":-855.98243451860014},{"$f":"-IF('Painel de Controle'!$G$16=\"S\",CAPEX!AE76*(1-'Painel de Controle'!$G$17),CAPEX!AE76)/1000","v":-602.92748415860012},{"$f":"-IF('Painel de Controle'!$G$16=\"S\",CAPEX!AF76*(1-'Painel de Controle'!$G$17),CAPEX!AF76)/1000","v":-602.92748415860012},{"$f":"-IF('Painel de Controle'!$G$16=\"S\",CAPEX!AG76*(1-'Painel de Controle'!$G$17),CAPEX!AG76)/1000","v":-602.92748415860012},{"$f":"-IF('Painel de Controle'!$G$16=\"S\",CAPEX!AH76*(1-'Painel de Controle'!$G$17),CAPEX!AH76)/1000","v":-855.98243451860014},{"$f":"-IF('Painel de Controle'!$G$16=\"S\",CAPEX!AI76*(1-'Painel de Controle'!$G$17),CAPEX!AI76)/1000","v":-602.92748415860012},{"$f":"-IF('Painel de Controle'!$G$16=\"S\",CAPEX!AJ76*(1-'Painel de Controle'!$G$17),CAPEX!AJ76)/1000","v":-602.92748415860012},{"$f":"-IF('Painel de Controle'!$G$16=\"S\",CAPEX!AK76*(1-'Painel de Controle'!$G$17),CAPEX!AK76)/1000","v":-602.92748415860012},{"$f":"-IF('Painel de Controle'!$G$16=\"S\",CAPEX!AL76*(1-'Painel de Controle'!$G$17),CAPEX!AL76)/1000","v":-855.98243451860014},{"$f":"-IF('Painel de Controle'!$G$16=\"S\",CAPEX!AM76*(1-'Painel de Controle'!$G$17),CAPEX!AM76)/1000","v":-602.92748415860012},{"$f":"-IF('Painel de Controle'!$G$16=\"S\",CAPEX!AN76*(1-'Painel de Controle'!$G$17),CAPEX!AN76)/1000","v":-602.92748415860012}]
[null,"Outras Despesas",{"$f":"SUM(D31:AL31)","v":-31034.405244998274},{"$f":"-D10*(Despesas!$I$38+Despesas!$I$46)/1000","v":0},{"$f":"-E10*(Despesas!$I$38+Despesas!$I$46)/1000","v":-144.95143438885796},{"$f":"-F10*(Despesas!$I$38+Despesas!$I$46)/1000","v":-563.88832973178876},{"$f":"-G10*(Despesas!$I$38+Despesas!$I$46)/1000","v":-781.1556959533018},{"$f":"-H10*(Despesas!$I$38+Despesas!$I$46)/1000","v":-877.85025099577797},{"$f":"-I10*(Despesas!$I$38+Despesas!$I$46)/1000","v":-955.55198446428574},{"$f":"-J10*(Despesas!$I$38+Despesas!$I$46)/1000","v":-955.55198446428574},{"$f":"-K10*(Despesas!$I$38+Despesas!$I$46)/1000","v":-955.55198446428574},{"$f":"-L10*(Despesas!$I$38+Despesas!$I$46)/1000","v":-955.55198446428574},{"$f":"-M10*(Despesas!$I$38+Despesas!$I$46)/1000","v":-955.55198446428574},{"$f":"-N10*(Despesas!$I$38+Despesas!$I$46)/1000","v":-955.55198446428574},{"$f":"-O10*(Despesas!$I$38+Despesas!$I$46)/1000","v":-955.55198446428574},{"$f":"-P10*(Despesas!$I$38+Despesas!$I$46)/1000","v":-955.55198446428574},{"$f":"-Q10*(Despesas!$I$38+Despesas!$I$46)/1000","v":-955.55198446428574},{"$f":"-R10*(Despesas!$I$38+Despesas!$I$46)/1000","v":-955.55198446428574},{"$f":"-S10*(Despesas!$I$38+Despesas!$I$46)/1000","v":-955.55198446428574},{"$f":"-T10*(Despesas!$I$38+Despesas!$I$46)/1000","v":-955.55198446428574},{"$f":"-U10*(Despesas!$I$38+Despesas!$I$46)/1000","v":-955.55198446428574},{"$f":"-V10*(Despesas!$I$38+Despesas!$I$46)/1000","v":-955.55198446428574},{"$f":"-W10*(Despesas!$I$38+Despesas!$I$46)/1000","v":-955.55198446428574},{"$f":"-X10*(Despesas!$I$38+Despesas!$I$46)/1000","v":-955.55198446428574},{"$f":"-Y10*(Despesas!$I$38+Despesas!$I$46)/1000","v":-955.55198446428574},{"$f":"-Z10*(Despesas!$I$38+Despesas!$I$46)/1000","v":-955.55198446428574},{"$f":"-AA10*(Despesas!$I$38+Despesas!$I$46)/1000","v":-955.55198446428574},{"$f":"-AB10*(Despesas!$I$38+Despesas!$I$46)/1000","v":-955.55198446428574},{"$f":"-AC10*(Despesas!$I$38+Despesas!$I$46)/1000","v":-955.55198446428574},{"$f":"-AD10*(Despesas!$I$38+Despesas!$I$46)/1000","v":-955.55198446428574},{"$f":"-AE10*(Despesas!$I$38+Despesas!$I$46)/1000","v":-955.55198446428574},{"$f":"-AF10*(Despesas!$I$38+Despesas!$I$46)/1000","v":-955.55198446428574},{"$f":"-AG10*(Despesas!$I$38+Despesas!$I$46)/1000","v":-955.55198446428574},{"$f":"-AH10*(Despesas!$I$38+Despesas!$I$46)/1000","v":-955.55198446428574},{"$f":"-AI10*(Despesas!$I$38+Despesas!$I$46)/1000","v":-955.55198446428574},{"$f":"-AJ10*(Despesas!$I$38+Despesas!$I$46)/1000","v":-955.55198446428574},{"$f":"-AK10*(Despesas!$I$38+Despesas!$I$46)/1000","v":-955.55198446428574},{"$f":"-AL10*(Despesas!$I$38+Despesas!$I$46)/1000","v":-955.55198446428574}]
[null,"Outorga da Terra",{"$f":"SUM(D32:AL32)","v":-321375.31065747625},{"$f":"-VLOOKUP(D12,'Painel de Controle'!$L$6:$N$41,3,FALSE)/1000","v":-39649.479095961171},{"$f":"-VLOOKUP(E12,'Painel de Controle'!$L$6:$N$41,3,FALSE)/1000","v":0},{"$f":"-VLOOKUP(F12,'Painel de Controle'!$L$6:$N$41,3,FALSE)/1000","v":0},{"$f":"-VLOOKUP(G12,'Painel de Controle'!$L$6:$N$41,3,FALSE)/1000","v":0},{"$f":"-VLOOKUP(H12,'Painel de Controle'!$L$6:$N$41,3,FALSE)/1000","v":-84537.503377573725},{"$f":"-VLOOKUP(I12,'Painel de Controle'!$L$6:$N$41,3,FALSE)/1000","v":-4962.6842223307203},{"$f":"-VLOOKUP(J12,'Painel de Controle'!$L$6:$N$41,3,FALSE)/1000","v":-5418.7212413718917},{"$f":"-VLOOKUP(K12,'Painel de Controle'!$L$6:$N$41,3,FALSE)/1000","v":-5916.6649692461888},{"$f":"-VLOOKUP(L12,'Painel de Controle'!$L$6:$N$41,3,FALSE)/1000","v":-180890.25775099255},{"$f":"-VLOOKUP(M12,'Painel de Controle'!$L$6:$N$41,3,FALSE)/1000","v":0},{"$f":"-VLOOKUP(N12,'Painel de Controle'!$L$6:$N$41,3,FALSE)/1000","v":0},{"$f":"-VLOOKUP(O12,'Painel de Controle'!$L$6:$N$41,3,FALSE)/1000","v":0},{"$f":"-VLOOKUP(P12,'Painel de Controle'!$L$6:$N$41,3,FALSE)/1000","v":0},{"$f":"-VLOOKUP(Q12,'Painel de Controle'!$L$6:$N$41,3,FALSE)/1000","v":0},{"$f":"-VLOOKUP(R12,'Painel de Controle'!$L$6:$N$41,3,FALSE)/1000","v":0},{"$f":"-VLOOKUP(S12,'Painel de Controle'!$L$6:$N$41,3,FALSE)/1000","v":0},{"$f":"-VLOOKUP(T12,'Painel de Controle'!$L$6:$N$41,3,FALSE)/1000","v":0},{"$f":"-VLOOKUP(U12,'Painel de Controle'!$L$6:$N$41,3,FALSE)/1000","v":0},{"$f":"-VLOOKUP(V12,'Painel de Controle'!$L$6:$N$41,3,FALSE)/1000","v":0},{"$f":"-VLOOKUP(W12,'Painel de Controle'!$L$6:$N$41,3,FALSE)/1000","v":0},{"$f":"-VLOOKUP(X12,'Painel de Controle'!$L$6:$N$41,3,FALSE)/1000","v":0},{"$f":"-VLOOKUP(Y12,'Painel de Controle'!$L$6:$N$41,3,FALSE)/1000","v":0},{"$f":"-VLOOKUP(Z12,'Painel de Controle'!$L$6:$N$41,3,FALSE)/1000","v":0},{"$f":"-VLOOKUP(AA12,'Painel de Controle'!$L$6:$N$41,3,FALSE)/1000","v":0},{"$f":"-VLOOKUP(AB12,'Painel de Controle'!$L$6:$N$41,3,FALSE)/1000","v":0},{"$f":"-VLOOKUP(AC12,'Painel de Controle'!$L$6:$N$41,3,FALSE)/1000","v":0},{"$f":"-VLOOKUP(AD12,'Painel de Controle'!$L$6:$N$41,3,FALSE)/1000","v":0},{"$f":"-VLOOKUP(AE12,'Painel de Controle'!$L$6:$N$41,3,FALSE)/1000","v":0},{"$f":"-VLOOKUP(AF12,'Painel de Controle'!$L$6:$N$41,3,FALSE)/1000","v":0},{"$f":"-VLOOKUP(AG12,'Painel de Controle'!$L$6:$N$41,3,FALSE)/1000","v":0},{"$f":"-VLOOKUP(AH12,'Painel de Controle'!$L$6:$N$41,3,FALSE)/1000","v":0},{"$f":"-VLOOKUP(AI12,'Painel de Controle'!$L$6:$N$41,3,FALSE)/1000","v":0},{"$f":"-VLOOKUP(AJ12,'Painel de Controle'!$L$6:$N$41,3,FALSE)/1000","v":0},{"$f":"-VLOOKUP(AK12,'Painel de Controle'!$L$6:$N$41,3,FALSE)/1000","v":0},{"$f":"-VLOOKUP(AL12,'Painel de Controle'!$L$6:$N$41,3,FALSE)/1000","v":0}]
[null,"Seguros e Garantias",-3896.1316145301403,{"$f":"SUM(D34:D36)","v":-133.66457289016759},{"$f":"SUM(E34:E36)","v":-155.61897981301678},-203.34725806562494,-194.90189400557583,-169.42278063444186,-160.46469767817914,-142.79522554464231,-90.544625449560698,-86.094559357229102,-86.094559357229102,-86.094559357229102,-90.658853849588766,-90.658853849588766,-90.658853849588766,-102.52601952972388,-102.52601952972388,-107.09031402208353,-90.658853849588766,-90.658853849588766,-112.22300881155951,-112.22300881155951,-116.78730330391917,-90.658853849588766,-90.658853849588766,-86.094559357229102,-86.094559357229102,-90.658853849588766,-90.658853849588766,-90.658853849588766,-127.65266986985365,-127.65266986985365,-132.2169643622133,-90.658853849588766,-90.658853849588766,-86.094559357229102]
[null,"Garantia de Execução",-1442.7227907366771,{"$f":"-IF(D5<=7,'Painel de Controle'!$G$24,'Painel de Controle'!$G$25)*'Painel de Controle'!$G$26*'Painel de Controle'!$G$27*(1+'Painel de Controle'!$G$28)","v":-77.102869319549981},{"$f":"-IF(E5<=7,'Painel de Controle'!$G$24,'Painel de Controle'!$G$25)*'Painel de Controle'!$G$26*'Painel de Controle'!$G$27*(1+'Painel de Controle'!$G$28)","v":-77.102869319549981},{"$f":"-IF(F5<=7,'Painel de Controle'!$G$24,'Painel de Controle'!$G$25)*'Painel de Controle'!$G$26*'Painel de Controle'!$G$27*(1+'Painel de Controle'!$G$28)","v":-77.102869319549981},{"$f":"-IF(G5<=7,'Painel de Controle'!$G$24,'Painel de Controle'!$G$25)*'Painel de Controle'!$G$26*'Painel de Controle'!$G$27*(1+'Painel de Controle'!$G$28)","v":-77.102869319549981},{"$f":"-IF(H5<=7,'Painel de Controle'!$G$24,'Painel de Controle'!$G$25)*'Painel de Controle'!$G$26*'Painel de Controle'!$G$27*(1+'Painel de Controle'!$G$28)","v":-77.102869319549981},{"$f":"-IF(I5<=7,'Painel de Controle'!$G$24,'Painel de Controle'!$G$25)*'Painel de Controle'!$G$26*'Painel de Controle'!$G$27*(1+'Painel de Controle'!$G$28)","v":-77.102869319549981},{"$f":"-IF(J5<=7,'Painel de Controle'!$G$24,'Painel de Controle'!$G$25)*'Painel de Controle'!$G$26*'Painel de Controle'!$G$27*(1+'Painel de Controle'!$G$28)","v":-77.102869319549981},{"$f":"-IF(K5<=7,'Painel de Controle'!$G$24,'Painel de Controle'!$G$25)*'Painel de Controle'!$G$26*'Painel de Controle'!$G$27*(1+'Painel de Controle'!$G$28)","v":-32.25009662499383},{"$f":"-IF(L5<=7,'Painel de Controle'!$G$24,'Painel de Controle'!$G$25)*'Painel de Controle'!$G$26*'Painel de Controle'!$G$27*(1+'Painel de Controle'!$G$28)","v":-32.25009662499383},{"$f":"-IF(M5<=7,'Painel de Controle'!$G$24,'Painel de Controle'!$G$25)*'Painel de Controle'!$G$26*'Painel de Controle'!$G$27*(1+'Painel de Controle'!$G$28)","v":-32.25009662499383},{"$f":"-IF(N5<=7,'Painel de Controle'!$G$24,'Painel de Controle'!$G$25)*'Painel de Controle'!$G$26*'Painel de Controle'!$G$27*(1+'Painel de Controle'!$G$28)","v":-32.25009662499383},{"$f":"-IF(O5<=7,'Painel de Controle'!$G$24,'Painel de Controle'!$G$25)*'Painel de Controle'!$G$26*'Painel de Controle'!$G$27*(1+'Painel de Controle'!$G$28)","v":-32.25009662499383},{"$f":"-IF(P5<=7,'Painel de Controle'!$G$24,'Painel de Controle'!$G$25)*'Painel de Controle'!$G$26*'Painel de Controle'!$G$27*(1+'Painel de Controle'!$G$28)","v":-32.25009662499383},{"$f":"-IF(Q5<=7,'Painel de Controle'!$G$24,'Painel de Controle'!$G$25)*'Painel de Controle'!$G$26*'Painel de Controle'!$G$27*(1+'Painel de Controle'!$G$28)","v":-32.25009662499383},{"$f":"-IF(R5<=7,'Painel de Controle'!$G$24,'Painel de Controle'!$G$25)*'Painel de Controle'!$G$26*'Painel de Controle'!$G$27*(1+'Painel de Controle'!$G$28)","v":-32.25009662499383},{"$f":"-IF(S5<=7,'Painel de Controle'!$G$24,'Painel de Controle'!$G$25)*'Painel de Controle'!$G$26*'Painel de Controle'!$G$27*(1+'Painel de Controle'!$G$28)","v":-32.25009662499383},{"$f":"-IF(T5<=7,'Painel de Controle'!$G$24,'Painel de Controle'!$G$25)*'Painel de Controle'!$G$26*'Painel de Controle'!$G$27*(1+'Painel de Controle'!$G$28)","v":-32.25009662499383},{"$f":"-IF(U5<=7,'Painel de Controle'!$G$24,'Painel de Controle'!$G$25)*'Painel de Controle'!$G$26*'Painel de Controle'!$G$27*(1+'Painel de Controle'!$G$28)","v":-32.25009662499383},{"$f":"-IF(V5<=7,'Painel de Controle'!$G$24,'Painel de Controle'!$G$25)*'Painel de Controle'!$G$26*'Painel de Controle'!$G$27*(1+'Painel de Controle'!$G$28)","v":-32.25009662499383},{"$f":"-IF(W5<=7,'Painel de Controle'!$G$24,'Painel de Controle'!$G$25)*'Painel de Controle'!$G$26*'Painel de Controle'!$G$27*(1+'Painel de Controle'!$G$28)","v":-32.25009662499383},{"$f":"-IF(X5<=7,'Painel de Controle'!$G$24,'Painel de Controle'!$G$25)*'Painel de Controle'!$G$26*'Painel de Controle'!$G$27*(1+'Painel de Controle'!$G$28)","v":-32.25009662499383},{"$f":"-IF(Y5<=7,'Painel de Controle'!$G$24,'Painel de Controle'!$G$25)*'Painel de Controle'!$G$26*'Painel de Controle'!$G$27*(1+'Painel de Controle'!$G$28)","v":-32.25009662499383},{"$f":"-IF(Z5<=7,'Painel de Controle'!$G$24,'Painel de Controle'!$G$25)*'Painel de Controle'!$G$26*'Painel de Controle'!$G$27*(1+'Painel de Controle'!$G$28)","v":-32.25009662499383},{"$f":"-IF(AA5<=7,'Painel de Controle'!$G$24,'Painel de Controle'!$G$25)*'Painel de Controle'!$G$26*'Painel de Controle'!$G$27*(1+'Painel de Controle'!$G$28)","v":-32.25009662499383},{"$f":"-IF(AB5<=7,'Painel de Controle'!$G$24,'Painel de Controle'!$G$25)*'Painel de Controle'!$G$26*'Painel de Controle'!$G$27*(1+'Painel de Controle'!$G$28)","v":-32.25009662499383},{"$f":"-IF(AC5<=7,'Painel de Controle'!$G$24,'Painel de Controle'!$G$25)*'Painel de Controle'!$G$26*'Painel de Controle'!$G$27*(1+'Painel de Controle'!$G$28)","v":-32.25009662499383},{"$f":"-IF(AD5<=7,'Painel de Controle'!$G$24,'Painel de Controle'!$G$25)*'Painel de Controle'!$G$26*'Painel de Controle'!$G$27*(1+'Painel de Controle'!$G$28)","v":-32.25009662499383},{"$f":"-IF(AE5<=7,'Painel de Controle'!$G$24,'Painel de Controle'!$G$25)*'Painel de Controle'!$G$26*'Painel de Controle'!$G$27*(1+'Painel de Controle'!$G$28)","v":-32.25009662499383},{"$f":"-IF(AF5<=7,'Painel de Controle'!$G$24,'Painel de Controle'!$G$25)*'Painel de Controle'!$G$26*'Painel de Controle'!$G$27*(1+'Painel de Controle'!$G$28)","v":-32.25009662499383},{"$f":"-IF(AG5<=7,'Painel de Controle'!$G$24,'Painel de Controle'!$G$25)*'Painel de Controle'!$G$26*'Painel de Controle'!$G$27*(1+'Painel de Controle'!$G$28)","v":-32.25009662499383},{"$f":"-IF(AH5<=7,'Painel de Controle'!$G$24,'Painel de Controle'!$G$25)*'Painel de Controle'!$G$26*'Painel de Controle'!$G$27*(1+'Painel de Controle'!$G$28)","v":-32.25009662499383},{"$f":"-IF(AI5<=7,'Painel de Controle'!$G$24,'Painel de Controle'!$G$25)*'Painel de Controle'!$G$26*'Painel de Controle'!$G$27*(1+'Painel de Controle'!$G$28)","v":-32.25009662499383},{"$f":"-IF(AJ5<=7,'Painel de Controle'!$G$24,'Painel de Controle'!$G$25)*'Painel de Controle'!$G$26*'Painel de Controle'!$G$27*(1+'Painel de Controle'!$G$28)","v":-32.25009662499383},{"$f":"-IF(AK5<=7,'Painel de Controle'!$G$24,'Painel de Controle'!$G$25)*'Painel de Controle'!$G$26*'Painel de Controle'!$G$27*(1+'Painel de Controle'!$G$28)","v":-32.25009662499383},{"$f":"-IF(AL5<=7,'Painel de Controle'!$G$24,'Painel de Controle'!$G$25)*'Painel de Controle'!$G$26*'Painel de Controle'!$G$27*(1+'Painel de Controle'!$G$28)","v":-32.25009662499383}]
[null,"Seguro de Responsabilidade Civil",-1884.5561956282352,{"$f":"-'Painel de Controle'!$G$30*'Painel de Controle'!$G$31*'Painel de Controle'!$G$32*(1+'Painel de Controle'!$G$33)","v":-53.844462732235272},{"$f":"-'Painel de Controle'!$G$30*'Painel de Controle'!$G$31*'Painel de Controle'!$G$32*(1+'Painel de Controle'!$G$33)","v":-53.844462732235272},{"$f":"-'Painel de Controle'!$G$30*'Painel de Controle'!$G$31*'Painel de Controle'!$G$32*(1+'Painel de Controle'!$G$33)","v":-53.844462732235272},{"$f":"-'Painel de Controle'!$G$30*'Painel de Controle'!$G$31*'Painel de Controle'!$G$32*(1+'Painel de Controle'!$G$33)","v":-53.844462732235272},{"$f":"-'Painel de Controle'!$G$30*'Painel de Controle'!$G$31*'Painel de Controle'!$G$32*(1+'Painel de Controle'!$G$33)","v":-53.844462732235272},{"$f":"-'Painel de Controle'!$G$30*'Painel de Controle'!$G$31*'Painel de Controle'!$G$32*(1+'Painel de Controle'!$G$33)","v":-53.844462732235272},{"$f":"-'Painel de Controle'!$G$30*'Painel de Controle'!$G$31*'Painel de Controle'!$G$32*(1+'Painel de Controle'!$G$33)","v":-53.844462732235272},{"$f":"-'Painel de Controle'!$G$30*'Painel de Controle'!$G$31*'Painel de Controle'!$G$32*(1+'Painel de Controle'!$G$33)","v":-53.844462732235272},{"$f":"-'Painel de Controle'!$G$30*'Painel de Controle'!$G$31*'Painel de Controle'!$G$32*(1+'Painel de Controle'!$G$33)","v":-53.844462732235272},{"$f":"-'Painel de Controle'!$G$30*'Painel de Controle'!$G$31*'Painel de Controle'!$G$32*(1+'Painel de Controle'!$G$33)","v":-53.844462732235272},{"$f":"-'Painel de Controle'!$G$30*'Painel de Controle'!$G$31*'Painel de Controle'!$G$32*(1+'Painel de Controle'!$G$33)","v":-53.844462732235272},{"$f":"-'Painel de Controle'!$G$30*'Painel de Controle'!$G$31*'Painel de Controle'!$G$32*(1+'Painel de Controle'!$G$33)","v":-53.844462732235272},{"$f":"-'Painel de Controle'!$G$30*'Painel de Controle'!$G$31*'Painel de Controle'!$G$32*(1+'Painel de Controle'!$G$33)","v":-53.844462732235272},{"$f":"-'Painel de Controle'!$G$30*'Painel de Controle'!$G$31*'Painel de Controle'!$G$32*(1+'Painel de Controle'!$G$33)","v":-53.844462732235272},{"$f":"-'Painel de Controle'!$G$30*'Painel de Controle'!$G$31*'Painel de Controle'!$G$32*(1+'Painel de Controle'!$G$33)","v":-53.844462732235272},{"$f":"-'Painel de Controle'!$G$30*'Painel de Controle'!$G$31*'Painel de Controle'!$G$32*(1+'Painel de Controle'!$G$33)","v":-53.844462732235272},{"$f":"-'Painel de Controle'!$G$30*'Painel de Controle'!$G$31*'Painel de Controle'!$G$32*(1+'Painel de Controle'!$G$33)","v":-53.844462732235272},{"$f":"-'Painel de Controle'!$G$30*'Painel de Controle'!$G$31*'Painel de Controle'!$G$32*(1+'Painel de Controle'!$G$33)","v":-53.844462732235272},{"$f":"-'Painel de Controle'!$G$30*'Painel de Controle'!$G$31*'Painel de Controle'!$G$32*(1+'Painel de Controle'!$G$33)","v":-53.844462732235272},{"$f":"-'Painel de Controle'!$G$30*'Painel de Controle'!$G$31*'Painel de Controle'!$G$32*(1+'Painel de Controle'!$G$33)","v":-53.844462732235272},{"$f":"-'Painel de Controle'!$G$30*'Painel de Controle'!$G$31*'Painel de Controle'!$G$32*(1+'Painel de Controle'!$G$33)","v":-53.844462732235272},{"$f":"-'Painel de Controle'!$G$30*'Painel de Controle'!$G$31*'Painel de Controle'!$G$32*(1+'Painel de Controle'!$G$33)","v":-53.844462732235272},{"$f":"-'Painel de Controle'!$G$30*'Painel de Controle'!$G$31*'Painel de Controle'!$G$32*(1+'Painel de Controle'!$G$33)","v":-53.844462732235272},{"$f":"-'Painel de Controle'!$G$30*'Painel de Controle'!$G$31*'Painel de Controle'!$G$32*(1+'Painel de Controle'!$G$33)","v":-53.844462732235272},{"$f":"-'Painel de Controle'!$G$30*'Painel de Controle'!$G$31*'Painel de Controle'!$G$32*(1+'Painel de Controle'!$G$33)","v":-53.844462732235272},{"$f":"-'Painel de Controle'!$G$30*'Painel de Controle'!$G$31*'Painel de Controle'!$G$32*(1+'Painel de Controle'!$G$33)","v":-53.844462732235272},{"$f":"-'Painel de Controle'!$G$30*'Painel de Controle'!$G$31*'Painel de Controle'!$G$32*(1+'Painel de Controle'!$G$33)","v":-53.844462732235272},{"$f":"-'Painel de Controle'!$G$30*'Painel de Controle'!$G$31*'Painel de Controle'!$G$32*(1+'Painel de Controle'!$G$33)","v":-53.844462732235272},{"$f":"-'Painel de Controle'!$G$30*'Painel de Controle'!$G$31*'Painel de Controle'!$G$32*(1+'Painel de Controle'!$G$33)","v":-53.844462732235272},{"$f":"-'Painel de Controle'!$G$30*'Painel de Controle'!$G$31*'Painel de Controle'!$G$32*(1+'Painel de Controle'!$G$33)","v":-53.844462732235272},{"$f":"-'Painel de Controle'!$G$30*'Painel de Controle'!$G$31*'Painel de Controle'!$G$32*(1+'Painel de Controle'!$G$33)","v":-53.844462732235272},{"$f":"-'Painel de Controle'!$G$30*'Painel de Controle'!$G$31*'Painel de Controle'!$G$32*(1+'Painel de Controle'!$G$33)","v":-53.844462732235272},{"$f":"-'Painel de Controle'!$G$30*'Painel de Controle'!$G$31*'Painel de Controle'!$G$32*(1+'Painel de Controle'!$G$33)","v":-53.844462732235272},{"$f":"-'Painel de Controle'!$G$30*'Painel de Controle'!$G$31*'Painel de Controle'!$G$32*(1+'Painel de Controle'!$G$33)","v":-53.844462732235272},{"$f":"-'Painel de Controle'!$G$30*'Painel de Controle'!$G$31*'Painel de Controle'!$G$32*(1+'Painel de Controle'!$G$33)","v":-53.844462732235272}]
[null,"Seguro de Engenharia",-568.85262816522709,{"$f":"'Painel de Controle'!$G$35*'FC Projeto'!D57*'Painel de Controle'!$G$36*(1+'Painel de Controle'!$G$37)","v":-2.7172408383823257},{"$f":"'Painel de Controle'!$G$35*'FC Projeto'!E57*'Painel de Controle'!$G$36*(1+'Painel de Controle'!$G$37)","v":-24.671647761231529},{"$f":"'Painel de Controle'!$G$35*'FC Projeto'!F57*'Painel de Controle'!$G$36*(1+'Painel de Controle'!$G$37)","v":-72.399926013839675},{"$f":"'Painel de Controle'!$G$35*'FC Projeto'!G57*'Painel de Controle'!$G$36*(1+'Painel de Controle'!$G$37)","v":-63.954561953790567},{"$f":"'Painel de Controle'!$G$35*'FC Projeto'!H57*'Painel de Controle'!$G$36*(1+'Painel de Controle'!$G$37)","v":-38.475448582656611},{"$f":"'Painel de Controle'!$G$35*'FC Projeto'!I57*'Painel de Controle'!$G$36*(1+'Painel de Controle'!$G$37)","v":-29.517365626393875},{"$f":"'Painel de Controle'!$G$35*'FC Projeto'!J57*'Painel de Controle'!$G$36*(1+'Painel de Controle'!$G$37)","v":-11.847893492857041},{"$f":"'Painel de Controle'!$G$35*'FC Projeto'!K57*'Painel de Controle'!$G$36*(1+'Painel de Controle'!$G$37)","v":-4.4500660923315944},{"$f":"'Painel de Controle'!$G$35*'FC Projeto'!L57*'Painel de Controle'!$G$36*(1+'Painel de Controle'!$G$37)","v":0},{"$f":"'Painel de Controle'!$G$35*'FC Projeto'!M57*'Painel de Controle'!$G$36*(1+'Painel de Controle'!$G$37)","v":0},{"$f":"'Painel de Controle'!$G$35*'FC Projeto'!N57*'Painel de Controle'!$G$36*(1+'Painel de Controle'!$G$37)","v":0},{"$f":"'Painel de Controle'!$G$35*'FC Projeto'!O57*'Painel de Controle'!$G$36*(1+'Painel de Controle'!$G$37)","v":-4.5642944923596609},{"$f":"'Painel de Controle'!$G$35*'FC Projeto'!P57*'Painel de Controle'!$G$36*(1+'Painel de Controle'!$G$37)","v":-4.5642944923596609},{"$f":"'Painel de Controle'!$G$35*'FC Projeto'!Q57*'Painel de Controle'!$G$36*(1+'Painel de Controle'!$G$37)","v":-4.5642944923596609},{"$f":"'Painel de Controle'!$G$35*'FC Projeto'!R57*'Painel de Controle'!$G$36*(1+'Painel de Controle'!$G$37)","v":-16.431460172494781},{"$f":"'Painel de Controle'!$G$35*'FC Projeto'!S57*'Painel de Controle'!$G$36*(1+'Painel de Controle'!$G$37)","v":-16.431460172494781},{"$f":"'Painel de Controle'!$G$35*'FC Projeto'!T57*'Painel de Controle'!$G$36*(1+'Painel de Controle'!$G$37)","v":-20.995754664854438},{"$f":"'Painel de Controle'!$G$35*'FC Projeto'!U57*'Painel de Controle'!$G$36*(1+'Painel de Controle'!$G$37)","v":-4.5642944923596609},{"$f":"'Painel de Controle'!$G$35*'FC Projeto'!V57*'Painel de Controle'!$G$36*(1+'Painel de Controle'!$G$37)","v":-4.5642944923596609},{"$f":"'Painel de Controle'!$G$35*'FC Projeto'!W57*'Painel de Controle'!$G$36*(1+'Painel de Controle'!$G$37)","v":-26.128449454330408},{"$f":"'Painel de Controle'!$G$35*'FC Projeto'!X57*'Painel de Controle'!$G$36*(1+'Painel de Controle'!$G$37)","v":-26.128449454330408},{"$f":"'Painel de Controle'!$G$35*'FC Projeto'!Y57*'Painel de Controle'!$G$36*(1+'Painel de Controle'!$G$37)","v":-30.692743946690076},{"$f":"'Painel de Controle'!$G$35*'FC Projeto'!Z57*'Painel de Controle'!$G$36*(1+'Painel de Controle'!$G$37)","v":-4.5642944923596609},{"$f":"'Painel de Controle'!$G$35*'FC Projeto'!AA57*'Painel de Controle'!$G$36*(1+'Painel de Controle'!$G$37)","v":-4.5642944923596609},{"$f":"'Painel de Controle'!$G$35*'FC Projeto'!AB57*'Painel de Controle'!$G$36*(1+'Painel de Controle'!$G$37)","v":0},{"$f":"'Painel de Controle'!$G$35*'FC Projeto'!AC57*'Painel de Controle'!$G$36*(1+'Painel de Controle'!$G$37)","v":0},{"$f":"'Painel de Controle'!$G$35*'FC Projeto'!AD57*'Painel de Controle'!$G$36*(1+'Painel de Controle'!$G$37)","v":-4.5642944923596609},{"$f":"'Painel de Controle'!$G$35*'FC Projeto'!AE57*'Painel de Controle'!$G$36*(1+'Painel de Controle'!$G$37)","v":-4.5642944923596609},{"$f":"'Painel de Controle'!$G$35*'FC Projeto'!AF57*'Painel de Controle'!$G$36*(1+'Painel de Controle'!$G$37)","v":-4.5642944923596609},{"$f":"'Painel de Controle'!$G$35*'FC Projeto'!AG57*'Painel de Controle'!$G$36*(1+'Painel de Controle'!$G$37)","v":-41.558110512624552},{"$f":"'Painel de Controle'!$G$35*'FC Projeto'!AH57*'Painel de Controle'!$G$36*(1+'Painel de Controle'!$G$37)","v":-41.558110512624552},{"$f":"'Painel de Controle'!$G$35*'FC Projeto'!AI57*'Painel de Controle'!$G$36*(1+'Painel de Controle'!$G$37)","v":-46.122405004984209},{"$f":"'Painel de Controle'!$G$35*'FC Projeto'!AJ57*'Painel de Controle'!$G$36*(1+'Painel de Controle'!$G$37)","v":-4.5642944923596609},{"$f":"'Painel de Controle'!$G$35*'FC Projeto'!AK57*'Painel de Controle'!$G$36*(1+'Painel de Controle'!$G$37)","v":-4.5642944923596609},{"$f":"'Painel de Controle'!$G$35*'FC Projeto'!AL57*'Painel de Controle'!$G$36*(1+'Painel de Controle'!$G$37)","v":0}]
[]
[null,"EBITDA",{"$f":"C22+C24","v":4551875.1196795218},{"$f":"D22+D24","v":-42414.941153902102},-3500.7615509208963,-5594.4671472287591,54491.960242709582,12990.560988201643,125203.82857976653,142715.6777190711,151310.36317638686,-23411.784958914795,157731.52774243773,158416.72155750776,158407.59296852304,159202.15035415301,159455.20530451305,159431.47097315273,159431.47097315273,159169.28743380797,159455.20530451305,159455.20530451305,159412.07699458912,159159.02204422909,159402.9484056044,159455.20530451305,159455.20530451305,159211.27894624916,159464.33389660914,159455.20530762442,159455.20530762442,159202.15035726444,159381.2176755839,159381.2176755839,159372.08908659918,159202.15035726444,159455.20530762442,159464.33389660914]
[null,"Margem EBITDA",{"$f":"C38/C22","v":0.33331891912104017},{"$f":"IFERROR(D38/D22,0)","v":16.978656718956614},1.4013511986810769,2.2394593658310198,0.33888700242738662,4.6914298858096386E-2,0.34296494588812509,0.34557132864537754,0.34035200750994138,-5.2661614465024341E-2,0.35479554068723912,0.35633679064260815,0.35631625712777504,0.35810350550656433,0.35867271807441048,0.35861933093584436,0.35861933093584436,0.35802958485316511,0.35867271807441048,0.35867271807441048,0.35857570682841933,0.35800649426057313,0.35855517331358622,0.35867271807441048,0.35867271807441048,0.35812403902839618,0.35869325159624221,0.3586727180814091,0.3586727180814091,0.35810350551356307,0.35850629300273462,0.35850629300273462,0.35848575948790151,0.35810350551356307,0.3586727180814091,0.35869325159624221]
[]
[null,"Depreciação",{"$f":"SUM(D41:AL41)","v":-1374936.5132396789},{"$f":"-Depreciação!F27/1000","v":-240.9991076091429},{"$f":"-Depreciação!G27/1000","v":-3244.9900019525508},{"$f":"-Depreciação!H27/1000","v":-11963.66235737729},{"$f":"-Depreciação!I27/1000","v":-23662.999276224997},{"$f":"-Depreciação!J27/1000","v":-30915.484381207574},{"$f":"-Depreciação!K27/1000","v":-36528.274190446195},{"$f":"-Depreciação!L27/1000","v":-38985.025421181585},{"$f":"-Depreciação!M27/1000","v":-40306.371717165443},{"$f":"-Depreciação!N27/1000","v":-37201.246200412526},{"$f":"-Depreciação!O27/1000","v":-34993.497200136204},{"$f":"-Depreciação!P27/1000","v":-33317.034821219873},{"$f":"-Depreciação!Q27/1000","v":-35239.516739532541},{"$f":"-Depreciação!R27/1000","v":-37472.638251989025},{"$f":"-Depreciação!S27/1000","v":-40306.37171716545},{"$f":"-Depreciação!T27/1000","v":-43706.85187537715},{"$f":"-Depreciação!U27/1000","v":-47107.332033588857},{"$f":"-Depreciação!V27/1000","v":-50507.812191800564},{"$f":"-Depreciação!W27/1000","v":-50507.812191800564},{"$f":"-Depreciação!X27/1000","v":-46781.661571697063},{"$f":"-Depreciação!Y27/1000","v":-48187.812180679823},{"$f":"-Depreciação!Z27/1000","v":-50231.506735294555},{"$f":"-Depreciação!AA27/1000","v":-51658.737844759045},{"$f":"-Depreciação!AB27/1000","v":-46949.119625054271},{"$f":"-Depreciação!AC27/1000","v":-44783.028518451087},{"$f":"-Depreciação!AD27/1000","v":-44054.783098594882},{"$f":"-Depreciação!AE27/1000","v":-43326.537678738685},{"$f":"-Depreciação!AF27/1000","v":-43149.443511768484},{"$f":"-Depreciação!AG27/1000","v":-42441.06684388766},{"$f":"-Depreciação!AH27/1000","v":-41998.331426462137},{"$f":"-Depreciação!AI27/1000","v":-44450.725051018249},{"$f":"-Depreciação!AJ27/1000","v":-46903.118675574369},{"$f":"-Depreciação!AK27/1000","v":-48750.837282359716},{"$f":"-Depreciação!AL27/1000","v":-46052.890706909537},{"$f":"-Depreciação!AM27/1000","v":-44782.698909301485},{"$f":"-Depreciação!AN27/1000","v":-44226.293902940226}]
[null,null,null,0,{"$f":"E15","v":0},0,0,0,0,0,0,0,0,0,0,0,0,0,0,0,0,0,0,0,0,0,0,0,0,0,0,0,0,0,0,0,0,0]
[null,"EBIT",{"$f":"SUM(D43:AL43)","v":3176938.6064398503},{"$f":"D38+D41","v":-42655.940261511249},{"$f":"E38+E41","v":-6745.7515528734475},{"$f":"F38+F41","v":-17558.129504606048},{"$f":"G38+G41","v":30828.960966484585},{"$f":"H38+H41","v":-17924.923393005931},88675.554389320343,103730.65229788952,111003.99145922142,-60613.031159327322,122738.03054230152,125099.68673628788,123168.0762289905,121729.51210216398,119148.83358734759,115724.61909777558,112324.13893956387,108661.47524200741,108947.39311271248,112673.54373281598,111224.26481390931,108927.51530893453,107744.21056084536,112506.08567945877,114672.17678606196,115156.49584765428,116137.79621787046,116305.76179585594,117014.13846373676,117203.81893080231,114930.49262456565,112478.09900000953,110621.25180423947,113149.25965035491,114672.50639832293,115238.03999366891]
[null,"Margem EBIT",{"$f":"IFERROR(C43/C22,0)","v":0.23263681770052372},17.075128410449086,2.7003173129964337,7.0285009332911432,0.19172615782858779,-6.4734326241316448E-2,0.24290476623370247,0.25117310101273632,0.24968832630928692,-0.1363407396774996,0.27608244548452709,0.28139466871760821,0.27704977455381863,0.27381392092014234,0.26800903687375599,0.26030673379811092,0.25265781786103192,0.24441915584127363,0.24506228906251903,0.25344375624833404,0.2501838011524844,0.24501757665631835,0.24235589415120989,0.25306708221598512,0.25793940848039576,0.25902881809800482,0.26123611932947427,0.26161393496919544,0.26320733158741239,0.26363399190595205,0.25852045469798929,0.25300413000085503,0.24882740570086229,0.25451381426775777,0.25794014989818348,0.25921224052337044]
[]
[null,"Tributos Sobre o Lucro",{"$f":"SUM(D46:AL46)","v":-1016665.8069806994},{"$f":"D47+D48","v":0},{"$f":"E47+E48","v":0},0,-3284.9915831722292,0,-9460.1154310599468,-11067.247132799706,-14190.194049108291,0,-13096.284760390688,-34420.742011481343,-41853.145917856767,-41364.034114735754,-40486.603419698178,-39322.370493243696,-38166.207239451709,-36920.901582282517,-37018.11365832224,-38285.004869157434,-37792.250036729165,-37011.35520503774,-36609.031590687417,-38228.069131015982,-38964.540107261069,-39129.208588202455,-39462.850714075961,-39519.959010591017,-39760.807077670492,-39825.298436472789,-39052.367492352321,-38218.553660003243,-37587.22561344142,-38446.748281120672,-38964.652175429801,-39156.933597847426]
[null,"IRPJ",{"$f":"SUM(E47:AL47)","v":-730741.33240111289},{"$f":"-Tributação!D26","v":0},{"$f":"-Tributação!E26","v":0},{"$f":"-Tributação!F26","v":0},{"$f":"-Tributação!G26","v":-1342.7670422837004},{"$f":"-Tributação!H26","v":0},{"$f":"-Tributação!I26","v":-3873.5555045327656},{"$f":"-Tributação!J26","v":-4532.2160380326668},{"$f":"-Tributação!K26","v":-5812.1123152083164},{"$f":"-Tributação!L26","v":0},{"$f":"-Tributação!M26","v":-5363.7888362256917},{"$f":"-Tributação!N26","v":-25303.016184912754},{"$f":"-Tributação!O26","v":-30768.019057247624},{"$f":"-Tributação!P26","v":-30408.378025540995},{"$f":"-Tributação!Q26","v":-29763.208396836897},{"$f":"-Tributação!R26","v":-28907.154774443894},{"$f":"-Tributação!S26","v":-28057.034734890964},{"$f":"-Tributação!T26","v":-27141.368810501852},{"$f":"-Tributação!U26","v":-27212.84827817812},{"$f":"-Tributação!V26","v":-28144.385933203994},{"$f":"-Tributação!W26","v":-27782.066203477327},{"$f":"-Tributação!X26","v":-27207.878827233631},{"$f":"-Tributação!Y26","v":-26912.052640211339},{"$f":"-Tributação!Z26","v":-28102.521419864694},{"$f":"-Tributação!AA26","v":-28644.04419651549},{"$f":"-Tributação!AB26","v":-28765.12396191357},{"$f":"-Tributação!AC26","v":-29010.449054467615},{"$f":"-Tributação!AD26","v":-29052.440448963986},{"$f":"-Tributação!AE26","v":-29229.534615934186},{"$f":"-Tributação!AF26","v":-29276.954732700578},{"$f":"-Tributação!AG26","v":-28708.623156141413},{"$f":"-Tributação!AH26","v":-28095.524750002383},{"$f":"-Tributação!AI26","v":-27631.312951059866},{"$f":"-Tributação!AJ26","v":-28263.314912588728},{"$f":"-Tributação!AK26","v":-28644.126599580733},{"$f":"-Tributação!AL26","v":-28785.509998417227}]
[null,"CSLL",{"$f":"SUM(E48:AL48)","v":-285924.47457958647},{"$f":"-Tributação!D25","v":0},{"$f":"-Tributação!E25","v":0},{"$f":"-Tributação!F25","v":0},{"$f":"-Tributação!G25","v":-1942.2245408885285},{"$f":"-Tributação!H25","v":0},{"$f":"-Tributação!I25","v":-5586.5599265271812},{"$f":"-Tributação!J25","v":-6535.0310947670396},{"$f":"-Tributação!K25","v":-8378.081733899975},{"$f":"-Tributação!L25","v":0},{"$f":"-Tributação!M25","v":-7732.4959241649958},{"$f":"-Tributação!N25","v":-9117.7258265685905},{"$f":"-Tributação!O25","v":-11085.126860609143},{"$f":"-Tributação!P25","v":-10955.656089194757},{"$f":"-Tributação!Q25","v":-10723.395022861283},{"$f":"-Tributação!R25","v":-10415.215718799802},{"$f":"-Tributação!S25","v":-10109.172504560747},{"$f":"-Tributação!T25","v":-9779.5327717806667},{"$f":"-Tributação!U25","v":-9805.2653801441229},{"$f":"-Tributação!V25","v":-10140.618935953438},{"$f":"-Tributação!W25","v":-10010.183833251836},{"$f":"-Tributação!X25","v":-9803.476377804107},{"$f":"-Tributação!Y25","v":-9696.9789504760811},{"$f":"-Tributação!Z25","v":-10125.54771115129},{"$f":"-Tributação!AA25","v":-10320.495910745576},{"$f":"-Tributação!AB25","v":-10364.084626288884},{"$f":"-Tributação!AC25","v":-10452.401659608342},{"$f":"-Tributação!AD25","v":-10467.518561627034},{"$f":"-Tributação!AE25","v":-10531.272461736307},{"$f":"-Tributação!AF25","v":-10548.343703772209},{"$f":"-Tributação!AG25","v":-10343.744336210908},{"$f":"-Tributação!AH25","v":-10123.028910000858},{"$f":"-Tributação!AI25","v":-9955.9126623815519},{"$f":"-Tributação!AJ25","v":-10183.433368531942},{"$f":"-Tributação!AK25","v":-10320.525575849064},{"$f":"-Tributação!AL25","v":-10371.423599430202}]
[]
[null,"LLE",{"$f":"SUM(D50:AL50)","v":2160272.7994591505},{"$f":"D43+D46","v":-42655.940261511249},{"$f":"E43+E46","v":-6745.7515528734475},-17558.129504606048,27543.969383312357,-17924.923393005931,79215.438958260391,92663.405165089818,96813.797410113126,-60613.031159327322,109641.74578191084,90678.944724806541,81314.930311133736,80365.477987428225,78662.23016764941,76402.24860453188,74157.931700112153,71740.573659724891,71929.279454390242,74388.538863658541,73432.014777180142,71916.160103896778,71135.17897015794,74278.0165484428,75707.636678800889,76027.287259451827,76674.945503794501,76785.802785264925,77253.331386066275,77378.520494329525,75878.125132213332,74259.545340006298,73034.026190798046,74702.511369234242,75707.854222893133,76081.10639582148]
[]
[null,"Fluxo de Caixa do Projeto","TOTAL",1,{"$f":"D52+1","v":2},{"$f":"E52+1","v":3},{"$f":"F52+1","v":4},{"$f":"G52+1","v":5},{"$f":"H52+1","v":6},{"$f":"I52+1","v":7},{"$f":"J52+1","v":8},{"$f":"K52+1","v":9},{"$f":"L52+1","v":10},{"$f":"M52+1","v":11},{"$f":"N52+1","v":12},{"$f":"O52+1","v":13},{"$f":"P52+1","v":14},{"$f":"Q52+1","v":15},{"$f":"R52+1","v":16},{"$f":"S52+1","v":17},{"$f":"T52+1","v":18},{"$f":"U52+1","v":19},{"$f":"V52+1","v":20},{"$f":"W52+1","v":21},{"$f":"X52+1","v":22},{"$f":"Y52+1","v":23},{"$f":"Z52+1","v":24},{"$f":"AA52+1","v":25},{"$f":"AB52+1","v":26},{"$f":"AC52+1","v":27},{"$f":"AD52+1","v":28},{"$f":"AE52+1","v":29},{"$f":"AF52+1","v":30},{"$f":"AG52+1","v":31},{"$f":"AH52+1","v":32},{"$f":"AI52+1","v":33},{"$f":"AJ52+1","v":34},{"$f":"AK52+1","v":35}]
[null,"(+) EBITDA",{"$f":"SUM(D53:AL53)","v":4551875.1196795283},{"$f":"D38","v":-42414.941153902102},{"$f":"E38","v":-3500.7615509208963},-5594.4671472287591,54491.960242709582,12990.560988201643,125203.82857976653,142715.6777190711,151310.36317638686,-23411.784958914795,157731.52774243773,158416.72155750776,158407.59296852304,159202.15035415301,159455.20530451305,159431.47097315273,159431.47097315273,159169.28743380797,159455.20530451305,159455.20530451305,159412.07699458912,159159.02204422909,159402.9484056044,159455.20530451305,159455.20530451305,159211.27894624916,159464.33389660914,159455.20530762442,159455.20530762442,159202.15035726444,159381.2176755839,159381.2176755839,159372.08908659918,159202.15035726444,159455.20530762442,159464.33389660914]
[null,"(-) Tributos Sobre o Lucro",-1016665.8069806994,{"$f":"D46","v":0},{"$f":"E46","v":0},{"$f":"F46","v":0},{"$f":"G46","v":-3284.9915831722292},0,-9460.1154310599468,-11067.247132799706,-14190.194049108291,0,-13096.284760390688,-34420.742011481343,-41853.145917856767,-41364.034114735754,-40486.603419698178,-39322.370493243696,-38166.207239451709,-36920.901582282517,-37018.11365832224,-38285.004869157434,-37792.250036729165,-37011.35520503774,-36609.031590687417,-38228.069131015982,-38964.540107261069,-39129.208588202455,-39462.850714075961,-39519.959010591017,-39760.807077670492,-39825.298436472789,-39052.367492352321,-38218.553660003243,-37587.22561344142,-38446.748281120672,-38964.652175429801,-39156.933597847426]
[null,"(+/-) Variação da NCG",-156114.10238404392,{"$f":"-D14/365*'Painel de Controle'!$J$8","v":0},{"$f":"-('Painel de Controle'!$J$8/365*'FC Projeto'!E14-'FC Projeto'!D55)","v":0},{"$f":"-('Painel de Controle'!$J$8/365*'FC Projeto'!F14-'FC Projeto'!E55)","v":0},{"$f":"-(G14-F14)*'Painel de Controle'!$J$8/365","v":-57021.815777052085},{"$f":"-(H14-G14)*'Painel de Controle'!$J$8/365","v":-40542.598389830106},{"$f":"-(I14-H14)*'Painel de Controle'!$J$8/365","v":-30786.172221369878},{"$f":"-(J14-I14)*'Painel de Controle'!$J$8/365","v":-16734.015276186299},{"$f":"-(K14-J14)*'Painel de Controle'!$J$8/365","v":-11029.500719605525},{"$f":"-(L14-K14)*'Painel de Controle'!$J$8/365","v":0},{"$f":"-(M14-L14)*'Painel de Controle'!$J$8/365","v":0},{"$f":"-(N14-M14)*'Painel de Controle'!$J$8/365","v":0},{"$f":"-(O14-N14)*'Painel de Controle'!$J$8/365","v":0},{"$f":"-(P14-O14)*'Painel de Controle'!$J$8/365","v":0},{"$f":"-(Q14-P14)*'Painel de Controle'!$J$8/365","v":0},{"$f":"-(R14-Q14)*'Painel de Controle'!$J$8/365","v":0},{"$f":"-(S14-R14)*'Painel de Controle'!$J$8/365","v":0},{"$f":"-(T14-S14)*'Painel de Controle'!$J$8/365","v":0},{"$f":"-(U14-T14)*'Painel de Controle'!$J$8/365","v":0},{"$f":"-(V14-U14)*'Painel de Controle'!$J$8/365","v":0},{"$f":"-(W14-V14)*'Painel de Controle'!$J$8/365","v":0},{"$f":"-(X14-W14)*'Painel de Controle'!$J$8/365","v":0},{"$f":"-(Y14-X14)*'Painel de Controle'!$J$8/365","v":0},{"$f":"-(Z14-Y14)*'Painel de Controle'!$J$8/365","v":0},{"$f":"-(AA14-Z14)*'Painel de Controle'!$J$8/365","v":0},{"$f":"-(AB14-AA14)*'Painel de Controle'!$J$8/365","v":0},{"$f":"-(AC14-AB14)*'Painel de Controle'!$J$8/365","v":0},{"$f":"-(AD14-AC14)*'Painel de Controle'!$J$8/365","v":0},{"$f":"-(AE14-AD14)*'Painel de Controle'!$J$8/365","v":0},{"$f":"-(AF14-AE14)*'Painel de Controle'!$J$8/365","v":0},{"$f":"-(AG14-AF14)*'Painel de Controle'!$J$8/365","v":0},{"$f":"-(AH14-AG14)*'Painel de Controle'!$J$8/365","v":0},{"$f":"-(AI14-AH14)*'Painel de Controle'!$J$8/365","v":0},{"$f":"-(AJ14-AI14)*'Painel de Controle'!$J$8/365","v":0},{"$f":"-(AK14-AJ14)*'Painel de Controle'!$J$8/365","v":0},{"$f":"-(AL14-AK14)*'Painel de Controle'!$J$8/365","v":0}]
[null,"(=) Fluxo de Caixa Operacional",3379095.2103147847,{"$f":"SUM(D53:D55)","v":-42414.941153902102},{"$f":"SUM(E53:E55)","v":-3500.7615509208963},-5594.4671472287591,-5814.8471175147351,-27552.037401628462,84957.540927336697,114914.4153100851,126090.66840767306,-23411.784958914795,144635.24298204703,123995.97954602641,116554.44705066626,117838.11623941726,118968.60188481487,120109.10047990903,121265.26373370102,122248.38585152545,122437.09164619081,121170.20043535561,121619.82695785996,122147.66683919134,122793.91681491699,121227.13617349707,120490.66519725198,120082.07035804671,120001.48318253318,119935.2462970334,119694.39822995392,119376.85192079165,120328.85018323158,121162.66401558067,121784.86347315776,120755.40207614377,120490.55313219462,120307.40029876171,{"$f":"AVERAGE(K56:AL56)","v":116575.01101601994}]
[null,"(-) Fluxo de Caixa de Investimento",-1765855.3056597351,{"$f":"(-CAPEX!F70/1000)*(1+Sensibilidade!$D4)","v":-8434.968766320002},{"$f":"(-CAPEX!G70/1000)*(1+Sensibilidade!$D4)","v":-76586.725526887472},{"$f":"(-CAPEX!H70/1000)*(1+Sensibilidade!$D4)","v":-224746.77473719398},{"$f":"(-CAPEX!I70/1000)*(1+Sensibilidade!$D4)","v":-198530.3344936691},{"$f":"(-CAPEX!J70/1000)*(1+Sensibilidade!$D4)","v":-119437.04160506802},{"$f":"(-CAPEX!K70/1000)*(1+Sensibilidade!$D4)","v":-91628.998653982344},{"$f":"(-CAPEX!L70/1000)*(1+Sensibilidade!$D4)","v":-36778.709545095429},{"$f":"(-CAPEX!M70/1000)*(1+Sensibilidade!$D4)","v":-13814.074912558497},{"$f":"(-CAPEX!N70/1000)*(1+Sensibilidade!$D4)","v":0},{"$f":"(-CAPEX!O70/1000)*(1+Sensibilidade!$D4)","v":0},{"$f":"(-CAPEX!P70/1000)*(1+Sensibilidade!$D4)","v":0},{"$f":"(-CAPEX!Q70/1000)*(1+Sensibilidade!$D4)","v":-14168.667325882103},{"$f":"(-CAPEX!R70/1000)*(1+Sensibilidade!$D4)","v":-14168.667325882103},{"$f":"(-CAPEX!S70/1000)*(1+Sensibilidade!$D4)","v":-14168.667325882103},{"$f":"(-CAPEX!T70/1000)*(1+Sensibilidade!$D4)","v":-51007.202373175569},{"$f":"(-CAPEX!U70/1000)*(1+Sensibilidade!$D4)","v":-51007.202373175569},{"$f":"(-CAPEX!V70/1000)*(1+Sensibilidade!$D4)","v":-65175.869699057672},{"$f":"(-CAPEX!W70/1000)*(1+Sensibilidade!$D4)","v":-14168.667325882103},{"$f":"(-CAPEX!X70/1000)*(1+Sensibilidade!$D4)","v":-14168.667325882103},{"$f":"(-CAPEX!Y70/1000)*(1+Sensibilidade!$D4)","v":-81108.988186286733},{"$f":"(-CAPEX!Z70/1000)*(1+Sensibilidade!$D4)","v":-81108.988186286733},{"$f":"(-CAPEX!AA70/1000)*(1+Sensibilidade!$D4)","v":-95277.655512168843},{"$f":"(-CAPEX!AB70/1000)*(1+Sensibilidade!$D4)","v":-14168.667325882103},{"$f":"(-CAPEX!AC70/1000)*(1+Sensibilidade!$D4)","v":-14168.667325882103},{"$f":"(-CAPEX!AD70/1000)*(1+Sensibilidade!$D4)","v":0},{"$f":"(-CAPEX!AE70/1000)*(1+Sensibilidade!$D4)","v":0},{"$f":"(-CAPEX!AF70/1000)*(1+Sensibilidade!$D4)","v":-14168.667325882103},{"$f":"(-CAPEX!AG70/1000)*(1+Sensibilidade!$D4)","v":-14168.667325882103},{"$f":"(-CAPEX!AH70/1000)*(1+Sensibilidade!$D4)","v":-14168.667325882103},{"$f":"(-CAPEX!AI70/1000)*(1+Sensibilidade!$D4)","v":-129006.36528411419},{"$f":"(-CAPEX!AJ70/1000)*(1+Sensibilidade!$D4)","v":-129006.36528411419},{"$f":"(-CAPEX!AK70/1000)*(1+Sensibilidade!$D4)","v":-143175.0326099963},{"$f":"(-CAPEX!AL70/1000)*(1+Sensibilidade!$D4)","v":-14168.667325882103},{"$f":"(-CAPEX!AM70/1000)*(1+Sensibilidade!$D4)","v":-14168.667325882103},{"$f":"(-CAPEX!AN70/1000)*(1+Sensibilidade!$D4)","v":0},{"$f":"AVERAGE(K57:AL57)","v":-36061.134011839982}]
[null,"(+/-) Fluxo de Caixa do Projeto",1613239.9046550496,{"$f":"D56+D57","v":-50849.909920222104},{"$f":"E56+E57","v":-80087.487077808371},-230341.24188442272,-204345.18161118383,-146989.07900669647,-6671.4577266456472,78135.70576498966,112276.59349511456,-23411.784958914795,144635.24298204703,123995.97954602641,102385.77972478417,103669.44891353516,104799.93455893276,69101.898106733453,70258.061360525462,57072.516152467782,108268.4243203087,107001.5331094735,40510.838771573224,41038.678652904608,27516.261302748142,107058.46884761497,106321.99787136988,120082.07035804671,120001.48318253318,105766.57897115129,105525.73090407182,105208.18459490954,-8677.5151008826069,-7843.7012685335212,-21390.169136838536,106586.73475026168,106321.88580631252,120307.40029876171,{"$f":"AVERAGE(L58:AL58)/WACC!D22","v":863366.00819209067}]
[null,"(=) Fluxo de Caixa do Projeto Acumulado",null,{"$f":"D58","v":-50849.909920222104},{"$f":"D59+E58","v":-130937.39699803048},{"$f":"E59+F58","v":-361278.6388824532},{"$f":"F59+G58","v":-565623.820493637},{"$f":"G59+H58","v":-712612.89950033347},-719284.3572269791,-641148.65146198939,-528872.0579668748,-552283.84292578953,-407648.59994374251,-283652.62039771606,-181266.8406729319,-77597.391759396734,27202.542799536022,96304.440906269476,166562.50226679494,223635.01841926272,331903.44273957144,438904.97584904497,479415.81462061818,520454.49327352282,547970.75457627093,655029.22342388588,761351.2212952557,881433.29165330238,1001434.7748358356,1107201.3538069869,1212727.0847110588,1317935.2693059682,1309257.7542050856,1301414.0529365521,1280023.8837997136,1386610.6185499753,1492932.5043562879,1613239.9046550496]
[null,null,null,null,{"$f":"IF(AND(E59>0,D59<0),E52,\"\")","v":""},{"$f":"IF(AND(F59>0,E59<0),F52,\"\")","v":""},"","","","","","","","","","",14,"","","","","","","","","","","","","","","","","","","","",""]
[null,"VPL 35 anos",{"$f":"D58+NPV(WACC!D22,'FC Projeto'!E58:AL58)","v":-40474.589658827361}]
[null,"VPL Perpetuidade",{"$f":"AM58/((1+WACC!$D$22)^35)","v":39800.548752813265}]
[null,"VPL Total",{"$f":"C61+C62","v":-674.04090601409553}]
[null,"TIR",{"$f":"IRR(D58:AM58)","v":9.1797457159313867E-2}]
[null,"Payback",{"$f":"SUM(D60:AL60)","v":14}]
[]
[]
[null,null,"Fluxo de Caixa Operacional",{"$f":"D56","v":-42414.941153902102},{"$f":"E56","v":-3500.7615509208963},-5594.4671472287591,-5814.8471175147351,-27552.037401628462,84957.540927336697,114914.4153100851,126090.66840767306,-23411.784958914795,144635.24298204703,123995.97954602641,116554.44705066626,117838.11623941726,118968.60188481487,120109.10047990903,121265.26373370102,122248.38585152545,122437.09164619081,121170.20043535561,121619.82695785996,122147.66683919134,122793.91681491699,121227.13617349707,120490.66519725198,120082.07035804671,120001.48318253318,119935.2462970334,119694.39822995392,119376.85192079165,120328.85018323158,121162.66401558067,121784.86347315776,120755.40207614377,120490.55313219462,120307.40029876171]
[null,null,"Investimento",{"$f":"-D57","v":8434.968766320002},{"$f":"-E57","v":76586.725526887472},{"$f":"-F57","v":224746.77473719398},198530.3344936691,119437.04160506802,91628.998653982344,36778.709545095429,13814.074912558497,0,0,0,14168.667325882103,14168.667325882103,14168.667325882103,51007.202373175569,51007.202373175569,65175.869699057672,14168.667325882103,14168.667325882103,81108.988186286733,81108.988186286733,95277.655512168843,14168.667325882103,14168.667325882103,0,0,14168.667325882103,14168.667325882103,14168.667325882103,129006.36528411419,129006.36528411419,143175.0326099963,14168.667325882103,14168.667325882103,0]
[]
[null,"Capex VPL",{"$f":"SUM(D71:AL71)","v":-739753.88372687926},{"$f":"D57/((1+WACC!$D$22)^(D12-1))","v":-8434.968766320002},{"$f":"E57/((1+WACC!$D$22)^(E12-1))","v":-70141.222897827392},{"$f":"F57/((1+WACC!$D$22)^(F12-1))","v":-188509.45233596512},{"$f":"G57/((1+WACC!$D$22)^(G12-1))","v":-152505.8031597074},{"$f":"H57/((1+WACC!$D$22)^(H12-1))","v":-84026.904542934397},{"$f":"I57/((1+WACC!$D$22)^(I12-1))","v":-59038.062935052309},{"$f":"J57/((1+WACC!$D$22)^(J12-1))","v":-21702.785499120713},{"$f":"K57/((1+WACC!$D$22)^(K12-1))","v":-7465.5297357124518},{"$f":"L57/((1+WACC!$D$22)^(L12-1))","v":0},{"$f":"M57/((1+WACC!$D$22)^(M12-1))","v":0},{"$f":"N57/((1+WACC!$D$22)^(N12-1))","v":0},{"$f":"O57/((1+WACC!$D$22)^(O12-1))","v":-5387.002207342568},{"$f":"P57/((1+WACC!$D$22)^(P12-1))","v":-4933.6346472163805},{"$f":"Q57/((1+WACC!$D$22)^(Q12-1))","v":-4518.422286710238},{"$f":"R57/((1+WACC!$D$22)^(R12-1))","v":-14897.35440811608},{"$f":"S57/((1+WACC!$D$22)^(S12-1))","v":-13643.600100917745},{"$f":"T57/((1+WACC!$D$22)^(T12-1))","v":-15966.294820344581},{"$f":"U57/((1+WACC!$D$22)^(U12-1))","v":-3178.8215202573992},{"$f":"V57/((1+WACC!$D$22)^(V12-1))","v":-2911.2934032740113},{"$f":"W57/((1+WACC!$D$22)^(W12-1))","v":-15263.206800234091},{"$f":"X57/((1+WACC!$D$22)^(X12-1))","v":-13978.662528599729},{"$f":"Y57/((1+WACC!$D$22)^(Y12-1))","v":-15038.604237235762},{"$f":"Z57/((1+WACC!$D$22)^(Z12-1))","v":-2048.1667128215254},{"$f":"AA57/((1+WACC!$D$22)^(AA12-1))","v":-1875.7939701376799},{"$f":"AB57/((1+WACC!$D$22)^(AB12-1))","v":0},{"$f":"AC57/((1+WACC!$D$22)^(AC12-1))","v":0},{"$f":"AD57/((1+WACC!$D$22)^(AD12-1))","v":-1440.9357980863399},{"$f":"AE57/((1+WACC!$D$22)^(AE12-1))","v":-1319.6673222378499},{"$f":"AF57/((1+WACC!$D$22)^(AF12-1))","v":-1208.6047440109935},{"$f":"AG57/((1+WACC!$D$22)^(AG12-1))","v":-10078.276342062562},{"$f":"AH57/((1+WACC!$D$22)^(AH12-1))","v":-9230.0933676337518},{"$f":"AI57/((1+WACC!$D$22)^(AI12-1))","v":-9381.7115807539449},{"$f":"AJ57/((1+WACC!$D$22)^(AJ12-1))","v":-850.28324622233583},{"$f":"AK57/((1+WACC!$D$22)^(AK12-1))","v":-778.72381002411703},{"$f":"AL57/((1+WACC!$D$22)^(AL12-1))","v":0}]
[null,"Opex VPL",-2396317.3722669524,{"$f":"D24/((1+WACC!$D$22)^(D12-1))","v":-39916.808241741506},{"$f":"E24/((1+WACC!$D$22)^(E12-1))","v":-918.24788631735373},{"$f":"F24/((1+WACC!$D$22)^(F12-1))","v":-2597.092979796178},{"$f":"G24/((1+WACC!$D$22)^(G12-1))","v":-81660.626923549731},{"$f":"H24/((1+WACC!$D$22)^(H12-1))","v":-185666.67390963202},{"$f":"I24/((1+WACC!$D$22)^(I12-1))","v":-154545.21944915614},{"$f":"J24/((1+WACC!$D$22)^(J12-1))","v":-159483.32830110725},{"$f":"K24/((1+WACC!$D$22)^(K12-1))","v":-158486.18995853263},{"$f":"L24/((1+WACC!$D$22)^(L12-1))","v":-231626.26187671514},{"$f":"M24/((1+WACC!$D$22)^(M12-1))","v":-130021.80894317872},{"$f":"N24/((1+WACC!$D$22)^(N12-1))","v":-118794.78113647128},{"$f":"O24/((1+WACC!$D$22)^(O12-1))","v":-108800.5392306318},{"$f":"P24/((1+WACC!$D$22)^(P12-1))","v":-99367.266510781483},{"$f":"Q24/((1+WACC!$D$22)^(Q12-1))","v":-90923.864481674609},{"$f":"R24/((1+WACC!$D$22)^(R12-1))","v":-83278.686950874398},{"$f":"S24/((1+WACC!$D$22)^(S12-1))","v":-76269.99201067767},{"$f":"T24/((1+WACC!$D$22)^(T12-1))","v":-69915.373278061699},{"$f":"U24/((1+WACC!$D$22)^(U12-1))","v":-63967.181192741387},{"$f":"V24/((1+WACC!$D$22)^(V12-1))","v":-58583.733451440195},{"$f":"W24/((1+WACC!$D$22)^(W12-1))","v":-53661.470075871512},{"$f":"X24/((1+WACC!$D$22)^(X12-1))","v":-49188.958661549943},{"$f":"Y24/((1+WACC!$D$22)^(Y12-1))","v":-45010.7378616317},{"$f":"Z24/((1+WACC!$D$22)^(Z12-1))","v":-41215.101381781038},{"$f":"AA24/((1+WACC!$D$22)^(AA12-1))","v":-37746.457925807917},{"$f":"AB24/((1+WACC!$D$22)^(AB12-1))","v":-34599.309541059039},{"$f":"AC24/((1+WACC!$D$22)^(AC12-1))","v":-31659.347720998932},{"$f":"AD24/((1+WACC!$D$22)^(AD12-1))","v":-28995.840343633688},{"$f":"AE24/((1+WACC!$D$22)^(AE12-1))","v":-26555.564122383254},{"$f":"AF24/((1+WACC!$D$22)^(AF12-1))","v":-24342.246293163465},{"$f":"AG24/((1+WACC!$D$22)^(AG12-1))","v":-22279.62519407742},{"$f":"AH24/((1+WACC!$D$22)^(AH12-1))","v":-20404.582466046388},{"$f":"AI24/((1+WACC!$D$22)^(AI12-1))","v":-18687.940609426609},{"$f":"AJ24/((1+WACC!$D$22)^(AJ12-1))","v":-17125.370640036461},{"$f":"AK24/((1+WACC!$D$22)^(AK12-1))","v":-15670.199392112308},{"$f":"AL24/((1+WACC!$D$22)^(AL12-1))","v":-14350.943324291015}]
[null,"Receita VPL",3643078.6458122972,{"$f":"D14/((1+WACC!$D$22)^(D12-1))","v":0},{"$f":"E14/((1+WACC!$D$22)^(E12-1))","v":0},{"$f":"F14/((1+WACC!$D$22)^(F12-1))","v":0},{"$f":"G14/((1+WACC!$D$22)^(G12-1))","v":133233.10724497252},{"$f":"H14/((1+WACC!$D$22)^(H12-1))","v":208776.87218606719},{"$f":"I14/((1+WACC!$D$22)^(I12-1))","v":251540.91404037856},{"$f":"J14/((1+WACC!$D$22)^(J12-1))","v":260406.5663383526},{"$f":"K14/((1+WACC!$D$22)^(K12-1))","v":256621.22721731989},{"$f":"L14/((1+WACC!$D$22)^(L12-1))","v":235024.10600182723},{"$f":"M14/((1+WACC!$D$22)^(M12-1))","v":215244.58830204714},{"$f":"N14/((1+WACC!$D$22)^(N12-1))","v":197129.70546501118},{"$f":"O14/((1+WACC!$D$22)^(O12-1))","v":180539.36260729891},{"$f":"P14/((1+WACC!$D$22)^(P12-1))","v":165345.25516467629},{"$f":"Q14/((1+WACC!$D$22)^(Q12-1))","v":151429.8766244046},{"$f":"R14/((1+WACC!$D$22)^(R12-1))","v":138685.60976632903},{"$f":"S14/((1+WACC!$D$22)^(S12-1))","v":127013.89438468823},{"$f":"T14/((1+WACC!$D$22)^(T12-1))","v":116324.46505406288},{"$f":"U14/((1+WACC!$D$22)^(U12-1))","v":106534.65304458162},{"$f":"V14/((1+WACC!$D$22)^(V12-1))","v":97568.746987613777},{"$f":"W14/((1+WACC!$D$22)^(W12-1))","v":89357.407347535031},{"$f":"X14/((1+WACC!$D$22)^(X12-1))","v":81837.130171272569},{"$f":"Y14/((1+WACC!$D$22)^(Y12-1))","v":74949.755968435231},{"$f":"Z14/((1+WACC!$D$22)^(Z12-1))","v":68642.019923859712},{"$f":"AA14/((1+WACC!$D$22)^(AA12-1))","v":62865.13996405642},{"$f":"AB14/((1+WACC!$D$22)^(AB12-1))","v":57574.439491788529},{"$f":"AC14/((1+WACC!$D$22)^(AC12-1))","v":52729.001871130611},{"$f":"AD14/((1+WACC!$D$22)^(AD12-1))","v":48291.353990901436},{"$f":"AE14/((1+WACC!$D$22)^(AE12-1))","v":44227.176459248767},{"$f":"AF14/((1+WACC!$D$22)^(AF12-1))","v":40505.038188120925},{"$f":"AG14/((1+WACC!$D$22)^(AG12-1))","v":37096.153314983792},{"$f":"AH14/((1+WACC!$D$22)^(AH12-1))","v":33974.158581891294},{"$f":"AI14/((1+WACC!$D$22)^(AI12-1))","v":31114.90945022805},{"$f":"AJ14/((1+WACC!$D$22)^(AJ12-1))","v":28496.293374338984},{"$f":"AK14/((1+WACC!$D$22)^(AK12-1))","v":26098.058789962},{"$f":"AL14/((1+WACC!$D$22)^(AL12-1))","v":23901.658494913368}]
[null,"NCG VPL",-107996.6740256866,{"$f":"D55/((1+WACC!$D$22)^(D12-1))","v":0},{"$f":"E55/((1+WACC!$D$22)^(E12-1))","v":0},{"$f":"F55/((1+WACC!$D$22)^(F12-1))","v":0},{"$f":"G55/((1+WACC!$D$22)^(G12-1))","v":-43802.665395607401},{"$f":"H55/((1+WACC!$D$22)^(H12-1))","v":-28522.717902619472},{"$f":"I55/((1+WACC!$D$22)^(I12-1))","v":-19836.034441434989},{"$f":"J55/((1+WACC!$D$22)^(J12-1))","v":-9874.5918105903511},{"$f":"K55/((1+WACC!$D$22)^(K12-1))","v":-5960.6644754343952},{"$f":"L55/((1+WACC!$D$22)^(L12-1))","v":0},{"$f":"M55/((1+WACC!$D$22)^(M12-1))","v":0},{"$f":"N55/((1+WACC!$D$22)^(N12-1))","v":0},{"$f":"O55/((1+WACC!$D$22)^(O12-1))","v":0},{"$f":"P55/((1+WACC!$D$22)^(P12-1))","v":0},{"$f":"Q55/((1+WACC!$D$22)^(Q12-1))","v":0},{"$f":"R55/((1+WACC!$D$22)^(R12-1))","v":0},{"$f":"S55/((1+WACC!$D$22)^(S12-1))","v":0},{"$f":"T55/((1+WACC!$D$22)^(T12-1))","v":0},{"$f":"U55/((1+WACC!$D$22)^(U12-1))","v":0},{"$f":"V55/((1+WACC!$D$22)^(V12-1))","v":0},{"$f":"W55/((1+WACC!$D$22)^(W12-1))","v":0},{"$f":"X55/((1+WACC!$D$22)^(X12-1))","v":0},{"$f":"Y55/((1+WACC!$D$22)^(Y12-1))","v":0},{"$f":"Z55/((1+WACC!$D$22)^(Z12-1))","v":0},{"$f":"AA55/((1+WACC!$D$22)^(AA12-1))","v":0},{"$f":"AB55/((1+WACC!$D$22)^(AB12-1))","v":0},{"$f":"AC55/((1+WACC!$D$22)^(AC12-1))","v":0},{"$f":"AD55/((1+WACC!$D$22)^(AD12-1))","v":0},{"$f":"AE55/((1+WACC!$D$22)^(AE12-1))","v":0},{"$f":"AF55/((1+WACC!$D$22)^(AF12-1))","v":0},{"$f":"AG55/((1+WACC!$D$22)^(AG12-1))","v":0},{"$f":"AH55/((1+WACC!$D$22)^(AH12-1))","v":0},{"$f":"AI55/((1+WACC!$D$22)^(AI12-1))","v":0},{"$f":"AJ55/((1+WACC!$D$22)^(AJ12-1))","v":0},{"$f":"AK55/((1+WACC!$D$22)^(AK12-1))","v":0},{"$f":"AL55/((1+WACC!$D$22)^(AL12-1))","v":0}]
[null,"Tributação VPL",-439485.30545160756,{"$f":"(D54+D16)/((1+WACC!$D$22)^(D12-1))","v":-2498.1329121605927},{"$f":"(E54+E16)/((1+WACC!$D$22)^(E12-1))","v":-2287.8912267732244},{"$f":"(F54+F16)/((1+WACC!$D$22)^(F12-1))","v":-2095.3433822777297},{"$f":"(G54+G16)/((1+WACC!$D$22)^(G12-1))","v":-12236.628182183355},{"$f":"(H54+H16)/((1+WACC!$D$22)^(H12-1))","v":-13971.018224369382},{"$f":"(I54+I16)/((1+WACC!$D$22)^(I12-1))","v":-22420.126576838222},{"$f":"(J54+J16)/((1+WACC!$D$22)^(J12-1))","v":-23238.683966458506},{"$f":"(K54+K16)/((1+WACC!$D$22)^(K12-1))","v":-24031.291154515951},{"$f":"(L54+L16)/((1+WACC!$D$22)^(L12-1))","v":-14985.435745545028},{"$f":"(M54+M16)/((1+WACC!$D$22)^(M12-1))","v":-19660.715572137775},{"$f":"(N54+N16)/((1+WACC!$D$22)^(N12-1))","v":-26858.790405011543},{"$f":"(O54+O16)/((1+WACC!$D$22)^(O12-1))","v":-27424.206546714715},{"$f":"(P54+P16)/((1+WACC!$D$22)^(P12-1))","v":-24945.885939512995},{"$f":"(Q54+Q16)/((1+WACC!$D$22)^(Q12-1))","v":-22566.63719578955},{"$f":"(R54+R16)/((1+WACC!$D$22)^(R12-1))","v":-20327.409447942075},{"$f":"(S54+S16)/((1+WACC!$D$22)^(S12-1))","v":-18307.409338959689},{"$f":"(T54+T16)/((1+WACC!$D$22)^(T12-1))","v":-16461.60079768108},{"$f":"(U54+U16)/((1+WACC!$D$22)^(U12-1))","v":-15098.010338570642},{"$f":"(V54+V16)/((1+WACC!$D$22)^(V12-1))","v":-14087.682186142862},{"$f":"(W54+W16)/((1+WACC!$D$22)^(W12-1))","v":-12809.342192915501},{"$f":"(X54+X16)/((1+WACC!$D$22)^(X12-1))","v":-11596.731323102582},{"$f":"(Y54+Y16)/((1+WACC!$D$22)^(Y12-1))","v":-10557.253224021202},{"$f":"(Z54+Z16)/((1+WACC!$D$22)^(Z12-1))","v":-9902.8014680841607},{"$f":"(AA54+AA16)/((1+WACC!$D$22)^(AA12-1))","v":-9166.8879819354333},{"$f":"(AB54+AB16)/((1+WACC!$D$22)^(AB12-1))","v":-8415.372808650156},{"$f":"(AC54+AC16)/((1+WACC!$D$22)^(AC12-1))","v":-7744.1880255800206},{"$f":"(AD54+AD16)/((1+WACC!$D$22)^(AD12-1))","v":-7098.2486634250781},{"$f":"(AE54+AE16)/((1+WACC!$D$22)^(AE12-1))","v":-6523.2959591881126},{"$f":"(AF54+AF16)/((1+WACC!$D$22)^(AF12-1))","v":-5979.7996460668792},{"$f":"(AG54+AG16)/((1+WACC!$D$22)^(AG12-1))","v":-5416.159376321757},{"$f":"(AH54+AH16)/((1+WACC!$D$22)^(AH12-1))","v":-4900.6805999369026},{"$f":"(AI54+AI16)/((1+WACC!$D$22)^(AI12-1))","v":-4446.8731273335143},{"$f":"(AJ54+AJ16)/((1+WACC!$D$22)^(AJ12-1))","v":-4124.2076470884494},{"$f":"(AK54+AK16)/((1+WACC!$D$22)^(AK12-1))","v":-3805.5807848415811},{"$f":"(AL54+AL16)/((1+WACC!$D$22)^(AL12-1))","v":-3494.9834835313463}]
[null,"Fluxo de Caixa VPL",-40474.589658827193,{"$f":"D58/((1+WACC!$D$22)^(D12-1))","v":-50849.909920222104},{"$f":"E58/((1+WACC!$D$22)^(E12-1))","v":-73347.362010917976},{"$f":"F58/((1+WACC!$D$22)^(F12-1))","v":-193201.88869803902},{"$f":"G58/((1+WACC!$D$22)^(G12-1))","v":-156972.61641607538},{"$f":"H58/((1+WACC!$D$22)^(H12-1))","v":-103410.44239348809},{"$f":"I58/((1+WACC!$D$22)^(I12-1))","v":-4298.5293621030805},{"$f":"J58/((1+WACC!$D$22)^(J12-1))","v":46107.176761075789},{"$f":"K58/((1+WACC!$D$22)^(K12-1))","v":60677.551893124459},{"$f":"L58/((1+WACC!$D$22)^(L12-1))","v":-11587.591620432951},{"$f":"M58/((1+WACC!$D$22)^(M12-1))","v":65562.063786730621},{"$f":"N58/((1+WACC!$D$22)^(N12-1))","v":51476.133923528359},{"$f":"O58/((1+WACC!$D$22)^(O12-1))","v":38927.614622609828},{"$f":"P58/((1+WACC!$D$22)^(P12-1))","v":36098.468067165457},{"$f":"Q58/((1+WACC!$D$22)^(Q12-1))","v":33420.952660230199},{"$f":"R58/((1+WACC!$D$22)^(R12-1))","v":20182.158959396464},{"$f":"S58/((1+WACC!$D$22)^(S12-1))","v":18792.892934133142},{"$f":"T58/((1+WACC!$D$22)^(T12-1))","v":13981.196157975528},{"$f":"U58/((1+WACC!$D$22)^(U12-1))","v":24290.639993012188},{"$f":"V58/((1+WACC!$D$22)^(V12-1))","v":21986.037946756715},{"$f":"W58/((1+WACC!$D$22)^(W12-1))","v":7623.3882785139322},{"$f":"X58/((1+WACC!$D$22)^(X12-1))","v":7072.7776580203245},{"$f":"Y58/((1+WACC!$D$22)^(Y12-1))","v":4343.1606455465671},{"$f":"Z58/((1+WACC!$D$22)^(Z12-1))","v":15475.950361173003},{"$f":"AA58/((1+WACC!$D$22)^(AA12-1))","v":14076.000086175385},{"$f":"AB58/((1+WACC!$D$22)^(AB12-1))","v":14559.757142079334},{"$f":"AC58/((1+WACC!$D$22)^(AC12-1))","v":13325.466124551664},{"$f":"AD58/((1+WACC!$D$22)^(AD12-1))","v":10756.329185756333},{"$f":"AE58/((1+WACC!$D$22)^(AE12-1))","v":9828.6490554395532},{"$f":"AF58/((1+WACC!$D$22)^(AF12-1))","v":8974.3875048795853},{"$f":"AG58/((1+WACC!$D$22)^(AG12-1))","v":-677.90759747794323},{"$f":"AH58/((1+WACC!$D$22)^(AH12-1))","v":-561.19785172574575},{"$f":"AI58/((1+WACC!$D$22)^(AI12-1))","v":-1401.615867286017},{"$f":"AJ58/((1+WACC!$D$22)^(AJ12-1))","v":6396.4318409917378},{"$f":"AK58/((1+WACC!$D$22)^(AK12-1))","v":5843.5548029839965},{"$f":"AL58/((1+WACC!$D$22)^(AL12-1))","v":6055.7316870910072}]
[null,"Fluxo de Caixa Acumulado VPL",null,{"$f":"D76","v":-50849.909920222104},{"$f":"D77+E76","v":-124197.27193114007},{"$f":"E77+F76","v":-317399.1606291791},-474371.77704525448,-577782.21943874261,-582080.7488008457,-535973.57203976996,-475296.02014664549,-486883.61176707846,-421321.54798034782,-369845.41405681946,-330917.79943420965,-294819.33136704419,-261398.37870681399,-241216.21974741752,-222423.32681328437,-208442.13065530884,-184151.49066229665,-162165.45271553993,-154542.06443702598,-147469.28677900566,-143126.1261334591,-127650.17577228609,-113574.17568611071,-99014.418544031374,-85688.952419479712,-74932.623233723381,-65103.974178283825,-56129.586673404236,-56807.494270882176,-57368.692122607921,-58770.30798989394,-52373.8761489022,-46530.321345918201,-40474.589658827193]
[null,"Payback VPL",null,null,{"$f":"IF(AND(E77>0,D77<0),E52,\"\")","v":""},{"$f":"IF(AND(F77>0,E77<0),F52,\"\")","v":""},"","","","","","","","","","","","","","","","","","","","","","","","","","","","","","","",""]

{"sheet":"FC Acionista","index":7,"n_rows":87,"n_cols":39,"rows_kept":87,"cut":false,"hidden":false,"merged":[]}
[]
[null,"FLUXO DE CAIXA DO ACIONISTA"]
[]
[null,null,null,2025,2026,2027,2028,2029,2030,2031,2032,2033,2034,2035,2036,2037,2038,2039,2040,2041,2042,2043,2044,2045,2046,2047,2048,2049,2050,2051,2052,2053,2054,2055,2056,2057,2058,2059]
[null,null,null,1,{"$f":"D5+1","v":2},{"$f":"E5+1","v":3},4,5,6,7,8,9,10,11,12,13,14,15,16,17,18,19,20,21,22,23,24,25,26,27,28,29,30,31,32,33,34,35]
[null,"Área com início de cultivo no ano",null,{"$f":"IF(D5<10,VLOOKUP(D5,'Painel de Controle'!$B$10:$C$20,2,FALSE),0)","v":0},{"$f":"IF(E5<10,VLOOKUP(E5,'Painel de Controle'!$B$10:$C$20,2,FALSE),0)","v":0},{"$f":"IF(F5<10,VLOOKUP(F5,'Painel de Controle'!$B$10:$C$20,2,FALSE),0)","v":0},{"$f":"IF(G5<10,VLOOKUP(G5,'Painel de Controle'!$B$10:$C$20,2,FALSE),0)","v":3739.57},{"$f":"IF(H5<10,VLOOKUP(H5,'Painel de Controle'!$B$10:$C$20,2,FALSE),0)","v":2658.84},{"$f":"IF(I5<10,VLOOKUP(I5,'Painel de Controle'!$B$10:$C$20,2,FALSE),0)","v":2019},{"$f":"IF(J5<10,VLOOKUP(J5,'Painel de Controle'!$B$10:$C$20,2,FALSE),0)","v":1097.44},{"$f":"IF(K5<10,VLOOKUP(K5,'Painel de Controle'!$B$10:$C$20,2,FALSE),0)","v":723.33},{"$f":"IF(L5<10,VLOOKUP(L5,'Painel de Controle'!$B$10:$C$20,2,FALSE),0)","v":0},{"$f":"IF(M5<10,VLOOKUP(M5,'Painel de Controle'!$B$10:$C$20,2,FALSE),0)","v":0},{"$f":"IF(N5<10,VLOOKUP(N5,'Painel de Controle'!$B$10:$C$20,2,FALSE),0)","v":0},{"$f":"IF(O5<10,VLOOKUP(O5,'Painel de Controle'!$B$10:$C$20,2,FALSE),0)","v":0},{"$f":"IF(P5<10,VLOOKUP(P5,'Painel de Controle'!$B$10:$C$20,2,FALSE),0)","v":0},{"$f":"IF(Q5<10,VLOOKUP(Q5,'Painel de Controle'!$B$10:$C$20,2,FALSE),0)","v":0},{"$f":"IF(R5<10,VLOOKUP(R5,'Painel de Controle'!$B$10:$C$20,2,FALSE),0)","v":0},{"$f":"IF(S5<10,VLOOKUP(S5,'Painel de Controle'!$B$10:$C$20,2,FALSE),0)","v":0},{"$f":"IF(T5<10,VLOOKUP(T5,'Painel de Controle'!$B$10:$C$20,2,FALSE),0)","v":0},{"$f":"IF(U5<10,VLOOKUP(U5,'Painel de Controle'!$B$10:$C$20,2,FALSE),0)","v":0},{"$f":"IF(V5<10,VLOOKUP(V5,'Painel de Controle'!$B$10:$C$20,2,FALSE),0)","v":0},{"$f":"IF(W5<10,VLOOKUP(W5,'Painel de Controle'!$B$10:$C$20,2,FALSE),0)","v":0},{"$f":"IF(X5<10,VLOOKUP(X5,'Painel de Controle'!$B$10:$C$20,2,FALSE),0)","v":0},{"$f":"IF(Y5<10,VLOOKUP(Y5,'Painel de Controle'!$B$10:$C$20,2,FALSE),0)","v":0},{"$f":"IF(Z5<10,VLOOKUP(Z5,'Painel de Controle'!$B$10:$C$20,2,FALSE),0)","v":0},{"$f":"IF(AA5<10,VLOOKUP(AA5,'Painel de Controle'!$B$10:$C$20,2,FALSE),0)","v":0},{"$f":"IF(AB5<10,VLOOKUP(AB5,'Painel de Controle'!$B$10:$C$20,2,FALSE),0)","v":0},{"$f":"IF(AC5<10,VLOOKUP(AC5,'Painel de Controle'!$B$10:$C$20,2,FALSE),0)","v":0},{"$f":"IF(AD5<10,VLOOKUP(AD5,'Painel de Controle'!$B$10:$C$20,2,FALSE),0)","v":0},{"$f":"IF(AE5<10,VLOOKUP(AE5,'Painel de Controle'!$B$10:$C$20,2,FALSE),0)","v":0},{"$f":"IF(AF5<10,VLOOKUP(AF5,'Painel de Controle'!$B$10:$C$20,2,FALSE),0)","v":0},{"$f":"IF(AG5<10,VLOOKUP(AG5,'Painel de Controle'!$B$10:$C$20,2,FALSE),0)","v":0},{"$f":"IF(AH5<10,VLOOKUP(AH5,'Painel de Controle'!$B$10:$C$20,2,FALSE),0)","v":0},{"$f":"IF(AI5<10,VLOOKUP(AI5,'Painel de Controle'!$B$10:$C$20,2,FALSE),0)","v":0},{"$f":"IF(AJ5<10,VLOOKUP(AJ5,'Painel de Controle'!$B$10:$C$20,2,FALSE),0)","v":0},{"$f":"IF(AK5<10,VLOOKUP(AK5,'Painel de Controle'!$B$10:$C$20,2,FALSE),0)","v":0},{"$f":"IF(AL5<10,VLOOKUP(AL5,'Painel de Controle'!$B$10:$C$20,2,FALSE),0)","v":0}]
[null,"Área Cultivada",null,{"$f":"D6","v":0},{"$f":"D7+E6","v":0},{"$f":"E7+F6","v":0},3739.57,6398.41,8417.41,9514.85,10238.18,10238.18,10238.18,10238.18,10238.18,10238.18,10238.18,10238.18,10238.18,10238.18,10238.18,10238.18,10238.18,10238.18,10238.18,10238.18,10238.18,10238.18,10238.18,10238.18,10238.18,10238.18,10238.18,10238.18,10238.18,10238.18,10238.18,10238.18]
[null,"% Área Cultiva",null,{"$f":"D7/SUM($D$6:$AL$6)","v":0},{"$f":"E7/SUM($D$6:$AL$6)","v":0},0,0.3652573015907124,0.62495580269149398,0.82215882119673611,0.92934974770906553,1,1,1,1,1,1,1,1,1,1,1,1,1,1,1,1,1,1,1,1,1,1,1,1,1,1,1,1]
[null,"% CAPEX Infraestrutura de Irrigação",null,{"$f":"SUM(CAPEX!F$20:F$48)/SUM(CAPEX!$E$20:$E$48)","v":0},{"$f":"SUM(CAPEX!G$20:G$48)/SUM(CAPEX!$E$20:$E$48)","v":0.15169392847854588},{"$f":"SUM(CAPEX!H$20:H$48)/SUM(CAPEX!$E$20:$E$48)","v":0.43842397080866369},{"$f":"SUM(CAPEX!I$20:I$48)/SUM(CAPEX!$E$20:$E$48)","v":0.22737367485382851},{"$f":"SUM(CAPEX!J$20:J$48)/SUM(CAPEX!$E$20:$E$48)","v":0.10119235438214935},{"$f":"SUM(CAPEX!K$20:K$48)/SUM(CAPEX!$E$20:$E$48)","v":8.1316071476812427E-2},{"$f":"SUM(CAPEX!L$20:L$48)/SUM(CAPEX!$E$20:$E$48)","v":0}]
[null,"% Implantação Infraestrutura de Irrigação",null,{"$f":"D9","v":0},{"$f":"D10+E9","v":0.15169392847854588},{"$f":"E10+F9","v":0.59011789928720959},0.81749157414103812,0.91868392852318748,0.99999999999999989,0.99999999999999989,{"$f":"J10","v":0.99999999999999989},{"$f":"K10","v":0.99999999999999989},0.99999999999999989,0.99999999999999989,0.99999999999999989,0.99999999999999989,0.99999999999999989,0.99999999999999989,0.99999999999999989,0.99999999999999989,0.99999999999999989,0.99999999999999989,0.99999999999999989,0.99999999999999989,0.99999999999999989,0.99999999999999989,0.99999999999999989,0.99999999999999989,0.99999999999999989,0.99999999999999989,0.99999999999999989,0.99999999999999989,0.99999999999999989,0.99999999999999989,0.99999999999999989,0.99999999999999989,0.99999999999999989,0.99999999999999989]
[]
[null,"Demonstração de Resultados do Exercício (R$ mil)","TOTAL",1,{"$f":"D12+1","v":2},{"$f":"E12+1","v":3},4,5,6,7,8,9,10,11,12,13,14,15,16,17,18,19,20,21,22,23,24,25,26,27,28,29,30,31,32,33,34,35]
[]
[null,"Receita Operacional Bruta",{"$f":"SUM(D14:AL14)","v":14597616.199447464},{"$f":"'FC Projeto'!D14","v":0},{"$f":"'FC Projeto'!E14","v":0},{"$f":"'FC Projeto'!F14","v":0},{"$f":"'FC Projeto'!G14","v":173441.35632186674},{"$f":"'FC Projeto'!H14","v":296758.42642426665},{"$f":"'FC Projeto'!I14","v":390399.70026426669},{"$f":"'FC Projeto'!J14","v":441298.99672933336},{"$f":"'FC Projeto'!K14","v":474847.0614181335},{"$f":"'FC Projeto'!L14","v":474847.0614181335},{"$f":"'FC Projeto'!M14","v":474847.0614181335},{"$f":"'FC Projeto'!N14","v":474847.0614181335},{"$f":"'FC Projeto'!O14","v":474847.0614181335},{"$f":"'FC Projeto'!P14","v":474847.0614181335},{"$f":"'FC Projeto'!Q14","v":474847.0614181335},{"$f":"'FC Projeto'!R14","v":474847.0614181335},{"$f":"'FC Projeto'!S14","v":474847.0614181335},{"$f":"'FC Projeto'!T14","v":474847.0614181335},{"$f":"'FC Projeto'!U14","v":474847.0614181335},{"$f":"'FC Projeto'!V14","v":474847.0614181335},{"$f":"'FC Projeto'!W14","v":474847.0614181335},{"$f":"'FC Projeto'!X14","v":474847.0614181335},{"$f":"'FC Projeto'!Y14","v":474847.0614181335},{"$f":"'FC Projeto'!Z14","v":474847.0614181335},{"$f":"'FC Projeto'!AA14","v":474847.0614181335},{"$f":"'FC Projeto'!AB14","v":474847.0614181335},{"$f":"'FC Projeto'!AC14","v":474847.0614181335},{"$f":"'FC Projeto'!AD14","v":474847.0614181335},{"$f":"'FC Projeto'!AE14","v":474847.0614181335},{"$f":"'FC Projeto'!AF14","v":474847.0614181335},{"$f":"'FC Projeto'!AG14","v":474847.0614181335},{"$f":"'FC Projeto'!AH14","v":474847.0614181335},{"$f":"'FC Projeto'!AI14","v":474847.0614181335},{"$f":"'FC Projeto'!AJ14","v":474847.0614181335},{"$f":"'FC Projeto'!AK14","v":474847.0614181335},{"$f":"'FC Projeto'!AL14","v":474847.0614181335}]
[]
[null,"Deduções sobre a Receita Operacional",{"$f":"SUM(D16:AL16)","v":-941400.30962402828},{"$f":"SUM(D17:D20)","v":-2498.1329121605927},{"$f":"SUM(E17:E20)","v":-2498.1329121605927},-2498.1329121605927,-12644.512971742708,-19858.604741015446,-25336.652040650511,-28314.27870162699,-30276.852229732514,-30276.852229732514,-30276.852229732514,-30276.852229732514,-30276.852229732514,-30276.852229732514,-30276.852229732514,-30276.852229732514,-30276.852229732514,-30276.852229732514,-30276.852229732514,-30276.852229732514,-30276.852229732514,-30276.852229732514,-30276.852229732514,-30276.852229732514,-30276.852229732514,-30276.852229732514,-30276.852229732514,-30276.852229732514,-30276.852229732514,-30276.852229732514,-30276.852229732514,-30276.852229732514,-30276.852229732514,-30276.852229732514,-30276.852229732514,-30276.852229732514]
[null,"PIS",-98949.077541195846,{"$f":"-Tributação!D16","v":0},{"$f":"-Tributação!E16","v":0},{"$f":"-Tributação!F16","v":0},{"$f":"-Tributação!G16","v":-1175.6619698079296},{"$f":"-Tributação!H16","v":-2011.5594317632099},{"$f":"-Tributação!I16","v":-2646.3012649264369},{"$f":"-Tributação!J16","v":-2991.3191338648485},{"$f":"-Tributação!K16","v":-3218.7227050297633},{"$f":"-Tributação!L16","v":-3218.7227050297633},{"$f":"-Tributação!M16","v":-3218.7227050297633},{"$f":"-Tributação!N16","v":-3218.7227050297633},{"$f":"-Tributação!O16","v":-3218.7227050297633},{"$f":"-Tributação!P16","v":-3218.7227050297633},{"$f":"-Tributação!Q16","v":-3218.7227050297633},{"$f":"-Tributação!R16","v":-3218.7227050297633},{"$f":"-Tributação!S16","v":-3218.7227050297633},{"$f":"-Tributação!T16","v":-3218.7227050297633},{"$f":"-Tributação!U16","v":-3218.7227050297633},{"$f":"-Tributação!V16","v":-3218.7227050297633},{"$f":"-Tributação!W16","v":-3218.7227050297633},{"$f":"-Tributação!X16","v":-3218.7227050297633},{"$f":"-Tributação!Y16","v":-3218.7227050297633},{"$f":"-Tributação!Z16","v":-3218.7227050297633},{"$f":"-Tributação!AA16","v":-3218.7227050297633},{"$f":"-Tributação!AB16","v":-3218.7227050297633},{"$f":"-Tributação!AC16","v":-3218.7227050297633},{"$f":"-Tributação!AD16","v":-3218.7227050297633},{"$f":"-Tributação!AE16","v":-3218.7227050297633},{"$f":"-Tributação!AF16","v":-3218.7227050297633},{"$f":"-Tributação!AG16","v":-3218.7227050297633},{"$f":"-Tributação!AH16","v":-3218.7227050297633},{"$f":"-Tributação!AI16","v":-3218.7227050297633},{"$f":"-Tributação!AJ16","v":-3218.7227050297633},{"$f":"-Tributação!AK16","v":-3218.7227050297633},{"$f":"-Tributação!AL16","v":-3218.7227050297633}]
[null,"COFINS",-455765.44806853798,{"$f":"-Tributação!D17","v":0},{"$f":"-Tributação!E17","v":0},{"$f":"-Tributação!F17","v":0},{"$f":"-Tributação!G17","v":-5415.1702851759173},{"$f":"-Tributação!H17","v":-9265.3646553941799},{"$f":"-Tributação!I17","v":-12189.024008146014},{"$f":"-Tributação!J17","v":-13778.197222650215},{"$f":"-Tributação!K17","v":-14825.631853470422},{"$f":"-Tributação!L17","v":-14825.631853470422},{"$f":"-Tributação!M17","v":-14825.631853470422},{"$f":"-Tributação!N17","v":-14825.631853470422},{"$f":"-Tributação!O17","v":-14825.631853470422},{"$f":"-Tributação!P17","v":-14825.631853470422},{"$f":"-Tributação!Q17","v":-14825.631853470422},{"$f":"-Tributação!R17","v":-14825.631853470422},{"$f":"-Tributação!S17","v":-14825.631853470422},{"$f":"-Tributação!T17","v":-14825.631853470422},{"$f":"-Tributação!U17","v":-14825.631853470422},{"$f":"-Tributação!V17","v":-14825.631853470422},{"$f":"-Tributação!W17","v":-14825.631853470422},{"$f":"-Tributação!X17","v":-14825.631853470422},{"$f":"-Tributação!Y17","v":-14825.631853470422},{"$f":"-Tributação!Z17","v":-14825.631853470422},{"$f":"-Tributação!AA17","v":-14825.631853470422},{"$f":"-Tributação!AB17","v":-14825.631853470422},{"$f":"-Tributação!AC17","v":-14825.631853470422},{"$f":"-Tributação!AD17","v":-14825.631853470422},{"$f":"-Tributação!AE17","v":-14825.631853470422},{"$f":"-Tributação!AF17","v":-14825.631853470422},{"$f":"-Tributação!AG17","v":-14825.631853470422},{"$f":"-Tributação!AH17","v":-14825.631853470422},{"$f":"-Tributação!AI17","v":-14825.631853470422},{"$f":"-Tributação!AJ17","v":-14825.631853470422},{"$f":"-Tributação!AK17","v":-14825.631853470422},{"$f":"-Tributação!AL17","v":-14825.631853470422}]
[null,"FUNRURAL",-299251.13208867301,{"$f":"-'Painel de Controle'!$G$8*'FC Acionista'!D14","v":0},{"$f":"-'Painel de Controle'!$G$8*'FC Acionista'!E14","v":0},{"$f":"-'Painel de Controle'!$G$8*'FC Acionista'!F14","v":0},{"$f":"-'Painel de Controle'!$G$8*'FC Acionista'!G14","v":-3555.5478045982682},{"$f":"-'Painel de Controle'!$G$8*'FC Acionista'!H14","v":-6083.5477416974663},{"$f":"-'Painel de Controle'!$G$8*'FC Acionista'!I14","v":-8003.1938554174676},{"$f":"-'Painel de Controle'!$G$8*'FC Acionista'!J14","v":-9046.6294329513348},{"$f":"-'Painel de Controle'!$G$8*'FC Acionista'!K14","v":-9734.3647590717374},{"$f":"-'Painel de Controle'!$G$8*'FC Acionista'!L14","v":-9734.3647590717374},{"$f":"-'Painel de Controle'!$G$8*'FC Acionista'!M14","v":-9734.3647590717374},{"$f":"-'Painel de Controle'!$G$8*'FC Acionista'!N14","v":-9734.3647590717374},{"$f":"-'Painel de Controle'!$G$8*'FC Acionista'!O14","v":-9734.3647590717374},{"$f":"-'Painel de Controle'!$G$8*'FC Acionista'!P14","v":-9734.3647590717374},{"$f":"-'Painel de Controle'!$G$8*'FC Acionista'!Q14","v":-9734.3647590717374},{"$f":"-'Painel de Controle'!$G$8*'FC Acionista'!R14","v":-9734.3647590717374},{"$f":"-'Painel de Controle'!$G$8*'FC Acionista'!S14","v":-9734.3647590717374},{"$f":"-'Painel de Controle'!$G$8*'FC Acionista'!T14","v":-9734.3647590717374},{"$f":"-'Painel de Controle'!$G$8*'FC Acionista'!U14","v":-9734.3647590717374},{"$f":"-'Painel de Controle'!$G$8*'FC Acionista'!V14","v":-9734.3647590717374},{"$f":"-'Painel de Controle'!$G$8*'FC Acionista'!W14","v":-9734.3647590717374},{"$f":"-'Painel de Controle'!$G$8*'FC Acionista'!X14","v":-9734.3647590717374},{"$f":"-'Painel de Controle'!$G$8*'FC Acionista'!Y14","v":-9734.3647590717374},{"$f":"-'Painel de Controle'!$G$8*'FC Acionista'!Z14","v":-9734.3647590717374},{"$f":"-'Painel de Controle'!$G$8*'FC Acionista'!AA14","v":-9734.3647590717374},{"$f":"-'Painel de Controle'!$G$8*'FC Acionista'!AB14","v":-9734.3647590717374},{"$f":"-'Painel de Controle'!$G$8*'FC Acionista'!AC14","v":-9734.3647590717374},{"$f":"-'Painel de Controle'!$G$8*'FC Acionista'!AD14","v":-9734.3647590717374},{"$f":"-'Painel de Controle'!$G$8*'FC Acionista'!AE14","v":-9734.3647590717374},{"$f":"-'Painel de Controle'!$G$8*'FC Acionista'!AF14","v":-9734.3647590717374},{"$f":"-'Painel de Controle'!$G$8*'FC Acionista'!AG14","v":-9734.3647590717374},{"$f":"-'Painel de Controle'!$G$8*'FC Acionista'!AH14","v":-9734.3647590717374},{"$f":"-'Painel de Controle'!$G$8*'FC Acionista'!AI14","v":-9734.3647590717374},{"$f":"-'Painel de Controle'!$G$8*'FC Acionista'!AJ14","v":-9734.3647590717374},{"$f":"-'Painel de Controle'!$G$8*'FC Acionista'!AK14","v":-9734.3647590717374},{"$f":"-'Painel de Controle'!$G$8*'FC Acionista'!AL14","v":-9734.3647590717374}]
[null,"ITR",{"$f":"SUM(D20:AL20)","v":-87434.651925620812},{"$f":"-'Painel de Controle'!$D$7*'Painel de Controle'!$G$19/1000","v":-2498.1329121605927},{"$f":"-'Painel de Controle'!$D$7*'Painel de Controle'!$G$19/1000","v":-2498.1329121605927},{"$f":"-'Painel de Controle'!$D$7*'Painel de Controle'!$G$19/1000","v":-2498.1329121605927},{"$f":"-'Painel de Controle'!$D$7*'Painel de Controle'!$G$19/1000","v":-2498.1329121605927},{"$f":"-'Painel de Controle'!$D$7*'Painel de Controle'!$G$19/1000","v":-2498.1329121605927},{"$f":"-'Painel de Controle'!$D$7*'Painel de Controle'!$G$19/1000","v":-2498.1329121605927},{"$f":"-'Painel de Controle'!$D$7*'Painel de Controle'!$G$19/1000","v":-2498.1329121605927},{"$f":"-'Painel de Controle'!$D$7*'Painel de Controle'!$G$19/1000","v":-2498.1329121605927},{"$f":"-'Painel de Controle'!$D$7*'Painel de Controle'!$G$19/1000","v":-2498.1329121605927},{"$f":"-'Painel de Controle'!$D$7*'Painel de Controle'!$G$19/1000","v":-2498.1329121605927},{"$f":"-'Painel de Controle'!$D$7*'Painel de Controle'!$G$19/1000","v":-2498.1329121605927},{"$f":"-'Painel de Controle'!$D$7*'Painel de Controle'!$G$19/1000","v":-2498.1329121605927},{"$f":"-'Painel de Controle'!$D$7*'Painel de Controle'!$G$19/1000","v":-2498.1329121605927},{"$f":"-'Painel de Controle'!$D$7*'Painel de Controle'!$G$19/1000","v":-2498.1329121605927},{"$f":"-'Painel de Controle'!$D$7*'Painel de Controle'!$G$19/1000","v":-2498.1329121605927},{"$f":"-'Painel de Controle'!$D$7*'Painel de Controle'!$G$19/1000","v":-2498.1329121605927},{"$f":"-'Painel de Controle'!$D$7*'Painel de Controle'!$G$19/1000","v":-2498.1329121605927},{"$f":"-'Painel de Controle'!$D$7*'Painel de Controle'!$G$19/1000","v":-2498.1329121605927},{"$f":"-'Painel de Controle'!$D$7*'Painel de Controle'!$G$19/1000","v":-2498.1329121605927},{"$f":"-'Painel de Controle'!$D$7*'Painel de Controle'!$G$19/1000","v":-2498.1329121605927},{"$f":"-'Painel de Controle'!$D$7*'Painel de Controle'!$G$19/1000","v":-2498.1329121605927},{"$f":"-'Painel de Controle'!$D$7*'Painel de Controle'!$G$19/1000","v":-2498.1329121605927},{"$f":"-'Painel de Controle'!$D$7*'Painel de Controle'!$G$19/1000","v":-2498.1329121605927},{"$f":"-'Painel de Controle'!$D$7*'Painel de Controle'!$G$19/1000","v":-2498.1329121605927},{"$f":"-'Painel de Controle'!$D$7*'Painel de Controle'!$G$19/1000","v":-2498.1329121605927},{"$f":"-'Painel de Controle'!$D$7*'Painel de Controle'!$G$19/1000","v":-2498.1329121605927},{"$f":"-'Painel de Controle'!$D$7*'Painel de Controle'!$G$19/1000","v":-2498.1329121605927},{"$f":"-'Painel de Controle'!$D$7*'Painel de Controle'!$G$19/1000","v":-2498.1329121605927},{"$f":"-'Painel de Controle'!$D$7*'Painel de Controle'!$G$19/1000","v":-2498.1329121605927},{"$f":"-'Painel de Controle'!$D$7*'Painel de Controle'!$G$19/1000","v":-2498.1329121605927},{"$f":"-'Painel de Controle'!$D$7*'Painel de Controle'!$G$19/1000","v":-2498.1329121605927},{"$f":"-'Painel de Controle'!$D$7*'Painel de Controle'!$G$19/1000","v":-2498.1329121605927},{"$f":"-'Painel de Controle'!$D$7*'Painel de Controle'!$G$19/1000","v":-2498.1329121605927},{"$f":"-'Painel de Controle'!$D$7*'Painel de Controle'!$G$19/1000","v":-2498.1329121605927},{"$f":"-'Painel de Controle'!$D$7*'Painel de Controle'!$G$19/1000","v":-2498.1329121605927}]
[]
[null,"Receita Operacional Líquida",{"$f":"C14+C16","v":13656215.889823437},{"$f":"D14+D16","v":-2498.1329121605927},{"$f":"E14+E16","v":-2498.1329121605927},-2498.1329121605927,160796.84335012402,276899.82168325118,365063.04822361621,412984.71802770637,444570.209188401,444570.209188401,444570.209188401,444570.209188401,444570.209188401,444570.209188401,444570.209188401,444570.209188401,444570.209188401,444570.209188401,444570.209188401,444570.209188401,444570.209188401,444570.209188401,444570.209188401,444570.209188401,444570.209188401,444570.209188401,444570.209188401,444570.209188401,444570.209188401,444570.209188401,444570.209188401,444570.209188401,444570.209188401,444570.209188401,444570.209188401,444570.209188401]
[null,null,null,0,{"$f":"E15","v":0},0,0,0,0,0,0,0,0,0,0,0,0,0,0,0,0,0,0,0,0,0,0,0,0,0,0,0,0,0,0,0,0,0]
[null,"Custos e Despesas Operacionais",{"$f":"SUM(C25:C36)","v":-9104340.770143915},{"$f":"SUM(D25:D36)*(1+Sensibilidade!$D5)","v":-39916.808241741506},{"$f":"SUM(E25:E36)*(1+Sensibilidade!$D5)","v":-1002.6286387603038},{"$f":"SUM(F25:F36)*(1+Sensibilidade!$D5)","v":-3096.334235068166},{"$f":"SUM(G25:G36)*(1+Sensibilidade!$D5)","v":-106304.88310741444},{"$f":"SUM(H25:H36)*(1+Sensibilidade!$D5)","v":-263909.26069504954},{"$f":"SUM(I25:I36)*(1+Sensibilidade!$D5)","v":-239859.21964384968},{"$f":"SUM(J25:J36)*(1+Sensibilidade!$D5)","v":-270269.04030863527},{"$f":"SUM(K25:K36)*(1+Sensibilidade!$D5)","v":-293259.84601201414},{"$f":"SUM(L25:L36)*(1+Sensibilidade!$D5)","v":-467981.9941473158},{"$f":"SUM(M25:M36)*(1+Sensibilidade!$D5)","v":-286838.68144596327},{"$f":"SUM(N25:N36)*(1+Sensibilidade!$D5)","v":-286153.48763089324},{"$f":"SUM(O25:O36)*(1+Sensibilidade!$D5)","v":-286162.61621987796},{"$f":"SUM(P25:P36)*(1+Sensibilidade!$D5)","v":-285368.05883424799},{"$f":"SUM(Q25:Q36)*(1+Sensibilidade!$D5)","v":-285115.00388388796},{"$f":"SUM(R25:R36)*(1+Sensibilidade!$D5)","v":-285138.73821524828},{"$f":"SUM(S25:S36)*(1+Sensibilidade!$D5)","v":-285138.73821524828},{"$f":"SUM(T25:T36)*(1+Sensibilidade!$D5)","v":-285400.92175459303},{"$f":"SUM(U25:U36)*(1+Sensibilidade!$D5)","v":-285115.00388388796},{"$f":"SUM(V25:V36)*(1+Sensibilidade!$D5)","v":-285115.00388388796},{"$f":"SUM(W25:W36)*(1+Sensibilidade!$D5)","v":-285158.13219381188},{"$f":"SUM(X25:X36)*(1+Sensibilidade!$D5)","v":-285411.18714417191},{"$f":"SUM(Y25:Y36)*(1+Sensibilidade!$D5)","v":-285167.2607827966},{"$f":"SUM(Z25:Z36)*(1+Sensibilidade!$D5)","v":-285115.00388388796},{"$f":"SUM(AA25:AA36)*(1+Sensibilidade!$D5)","v":-285115.00388388796},{"$f":"SUM(AB25:AB36)*(1+Sensibilidade!$D5)","v":-285358.93024215184},{"$f":"SUM(AC25:AC36)*(1+Sensibilidade!$D5)","v":-285105.87529179186},{"$f":"SUM(AD25:AD36)*(1+Sensibilidade!$D5)","v":-285115.00388077658},{"$f":"SUM(AE25:AE36)*(1+Sensibilidade!$D5)","v":-285115.00388077658},{"$f":"SUM(AF25:AF36)*(1+Sensibilidade!$D5)","v":-285368.05883113656},{"$f":"SUM(AG25:AG36)*(1+Sensibilidade!$D5)","v":-285188.9915128171},{"$f":"SUM(AH25:AH36)*(1+Sensibilidade!$D5)","v":-285188.9915128171},{"$f":"SUM(AI25:AI36)*(1+Sensibilidade!$D5)","v":-285198.12010180182},{"$f":"SUM(AJ25:AJ36)*(1+Sensibilidade!$D5)","v":-285368.05883113656},{"$f":"SUM(AK25:AK36)*(1+Sensibilidade!$D5)","v":-285115.00388077658},{"$f":"SUM(AL25:AL36)*(1+Sensibilidade!$D5)","v":-285105.87529179186}]
[null,"Despesas Agrícolas",{"$f":"SUM(D25:AL25)","v":-7732262.7103630686},{"$f":"-'Resultados Cultivos'!D7","v":0},{"$f":"-'Resultados Cultivos'!E7","v":0},{"$f":"-'Resultados Cultivos'!F7","v":0},{"$f":"-'Resultados Cultivos'!G7","v":-91870.762568283273},{"$f":"-'Resultados Cultivos'!H7","v":-157191.01552438631},{"$f":"-'Resultados Cultivos'!I7","v":-206792.19149525033},{"$f":"-'Resultados Cultivos'!J7","v":-233753.2190125683},{"$f":"-'Resultados Cultivos'!K7","v":-251523.41149152082},{"$f":"-'Resultados Cultivos'!L7","v":-251523.41149152082},{"$f":"-'Resultados Cultivos'!M7","v":-251523.41149152082},{"$f":"-'Resultados Cultivos'!N7","v":-251523.41149152082},{"$f":"-'Resultados Cultivos'!O7","v":-251523.41149152082},{"$f":"-'Resultados Cultivos'!P7","v":-251523.41149152082},{"$f":"-'Resultados Cultivos'!Q7","v":-251523.41149152082},{"$f":"-'Resultados Cultivos'!R7","v":-251523.41149152082},{"$f":"-'Resultados Cultivos'!S7","v":-251523.41149152082},{"$f":"-'Resultados Cultivos'!T7","v":-251523.41149152082},{"$f":"-'Resultados Cultivos'!U7","v":-251523.41149152082},{"$f":"-'Resultados Cultivos'!V7","v":-251523.41149152082},{"$f":"-'Resultados Cultivos'!W7","v":-251523.41149152082},{"$f":"-'Resultados Cultivos'!X7","v":-251523.41149152082},{"$f":"-'Resultados Cultivos'!Y7","v":-251523.41149152082},{"$f":"-'Resultados Cultivos'!Z7","v":-251523.41149152082},{"$f":"-'Resultados Cultivos'!AA7","v":-251523.41149152082},{"$f":"-'Resultados Cultivos'!AB7","v":-251523.41149152082},{"$f":"-'Resultados Cultivos'!AC7","v":-251523.41149152082},{"$f":"-'Resultados Cultivos'!AD7","v":-251523.41149152082},{"$f":"-'Resultados Cultivos'!AE7","v":-251523.41149152082},{"$f":"-'Resultados Cultivos'!AF7","v":-251523.41149152082},{"$f":"-'Resultados Cultivos'!AG7","v":-251523.41149152082},{"$f":"-'Resultados Cultivos'!AH7","v":-251523.41149152082},{"$f":"-'Resultados Cultivos'!AI7","v":-251523.41149152082},{"$f":"-'Resultados Cultivos'!AJ7","v":-251523.41149152082},{"$f":"-'Resultados Cultivos'!AK7","v":-251523.41149152082},{"$f":"-'Resultados Cultivos'!AL7","v":-251523.41149152082}]
[null,"Energia",{"$f":"SUM(D26:AL26)","v":-633080.07136788405},{"$f":"-D7*Energia!$I$26/1000","v":0},{"$f":"-E7*Energia!$I$26/1000","v":0},{"$f":"-F7*Energia!$I$26/1000","v":0},{"$f":"-G7*Energia!$I$26/1000","v":-7521.9313029031482},{"$f":"-H7*Energia!$I$26/1000","v":-12870.035984834762},{"$f":"-I7*Energia!$I$26/1000","v":-16931.139079725741},{"$f":"-J7*Energia!$I$26/1000","v":-19138.576910561384},{"$f":"-K7*Energia!$I$26/1000","v":-20593.513860352115},{"$f":"-L7*Energia!$I$26/1000","v":-20593.513860352115},{"$f":"-M7*Energia!$I$26/1000","v":-20593.513860352115},{"$f":"-N7*Energia!$I$26/1000","v":-20593.513860352115},{"$f":"-O7*Energia!$I$26/1000","v":-20593.513860352115},{"$f":"-P7*Energia!$I$26/1000","v":-20593.513860352115},{"$f":"-Q7*Energia!$I$26/1000","v":-20593.513860352115},{"$f":"-R7*Energia!$I$26/1000","v":-20593.513860352115},{"$f":"-S7*Energia!$I$26/1000","v":-20593.513860352115},{"$f":"-T7*Energia!$I$26/1000","v":-20593.513860352115},{"$f":"-U7*Energia!$I$26/1000","v":-20593.513860352115},{"$f":"-V7*Energia!$I$26/1000","v":-20593.513860352115},{"$f":"-W7*Energia!$I$26/1000","v":-20593.513860352115},{"$f":"-X7*Energia!$I$26/1000","v":-20593.513860352115},{"$f":"-Y7*Energia!$I$26/1000","v":-20593.513860352115},{"$f":"-Z7*Energia!$I$26/1000","v":-20593.513860352115},{"$f":"-AA7*Energia!$I$26/1000","v":-20593.513860352115},{"$f":"-AB7*Energia!$I$26/1000","v":-20593.513860352115},{"$f":"-AC7*Energia!$I$26/1000","v":-20593.513860352115},{"$f":"-AD7*Energia!$I$26/1000","v":-20593.513860352115},{"$f":"-AE7*Energia!$I$26/1000","v":-20593.513860352115},{"$f":"-AF7*Energia!$I$26/1000","v":-20593.513860352115},{"$f":"-AG7*Energia!$I$26/1000","v":-20593.513860352115},{"$f":"-AH7*Energia!$I$26/1000","v":-20593.513860352115},{"$f":"-AI7*Energia!$I$26/1000","v":-20593.513860352115},{"$f":"-AJ7*Energia!$I$26/1000","v":-20593.513860352115},{"$f":"-AK7*Energia!$I$26/1000","v":-20593.513860352115},{"$f":"-AL7*Energia!$I$26/1000","v":-20593.513860352115}]
[null,"Manutenção de Equipamentos",{"$f":"SUM(D27:AL27)","v":-145375.64996409282},{"$f":"-D8*'Base Ativos'!$K$6/1000","v":0},{"$f":"-E8*'Base Ativos'!$K$6/1000","v":0},{"$f":"-F8*'Base Ativos'!$K$6/1000","v":0},{"$f":"-G8*'Base Ativos'!$K$6/1000","v":-1727.2785886026763},{"$f":"-H8*'Base Ativos'!$K$6/1000","v":-2955.3763117420585},{"$f":"-I8*'Base Ativos'!$K$6/1000","v":-3887.9368655995349},{"$f":"-J8*'Base Ativos'!$K$6/1000","v":-4394.8359513971327},{"$f":"-K8*'Base Ativos'!$K$6/1000","v":-4728.9365088125505},{"$f":"-L8*'Base Ativos'!$K$6/1000","v":-4728.9365088125505},{"$f":"-M8*'Base Ativos'!$K$6/1000","v":-4728.9365088125505},{"$f":"-N8*'Base Ativos'!$K$6/1000","v":-4728.9365088125505},{"$f":"-O8*'Base Ativos'!$K$6/1000","v":-4728.9365088125505},{"$f":"-P8*'Base Ativos'!$K$6/1000","v":-4728.9365088125505},{"$f":"-Q8*'Base Ativos'!$K$6/1000","v":-4728.9365088125505},{"$f":"-R8*'Base Ativos'!$K$6/1000","v":-4728.9365088125505},{"$f":"-S8*'Base Ativos'!$K$6/1000","v":-4728.9365088125505},{"$f":"-T8*'Base Ativos'!$K$6/1000","v":-4728.9365088125505},{"$f":"-U8*'Base Ativos'!$K$6/1000","v":-4728.9365088125505},{"$f":"-V8*'Base Ativos'!$K$6/1000","v":-4728.9365088125505},{"$f":"-W8*'Base Ativos'!$K$6/1000","v":-4728.9365088125505},{"$f":"-X8*'Base Ativos'!$K$6/1000","v":-4728.9365088125505},{"$f":"-Y8*'Base Ativos'!$K$6/1000","v":-4728.9365088125505},{"$f":"-Z8*'Base Ativos'!$K$6/1000","v":-4728.9365088125505},{"$f":"-AA8*'Base Ativos'!$K$6/1000","v":-4728.9365088125505},{"$f":"-AB8*'Base Ativos'!$K$6/1000","v":-4728.9365088125505},{"$f":"-AC8*'Base Ativos'!$K$6/1000","v":-4728.9365088125505},{"$f":"-AD8*'Base Ativos'!$K$6/1000","v":-4728.9365088125505},{"$f":"-AE8*'Base Ativos'!$K$6/1000","v":-4728.9365088125505},{"$f":"-AF8*'Base Ativos'!$K$6/1000","v":-4728.9365088125505},{"$f":"-AG8*'Base Ativos'!$K$6/1000","v":-4728.9365088125505},{"$f":"-AH8*'Base Ativos'!$K$6/1000","v":-4728.9365088125505},{"$f":"-AI8*'Base Ativos'!$K$6/1000","v":-4728.9365088125505},{"$f":"-AJ8*'Base Ativos'!$K$6/1000","v":-4728.9365088125505},{"$f":"-AK8*'Base Ativos'!$K$6/1000","v":-4728.9365088125505},{"$f":"-AL8*'Base Ativos'!$K$6/1000","v":-4728.9365088125505}]
[null,"Manutenção de Obras Civis",-89983.977376922878,{"$f":"-D8*'Base Ativos'!$K$7/1000","v":0},{"$f":"-E8*'Base Ativos'!$K$7/1000","v":0},{"$f":"-F8*'Base Ativos'!$K$7/1000","v":0},{"$f":"-G8*'Base Ativos'!$K$7/1000","v":-1069.1432676576605},{"$f":"-H8*'Base Ativos'!$K$7/1000","v":-1829.3057691695706},{"$f":"-I8*'Base Ativos'!$K$7/1000","v":-2406.5379796645784},{"$f":"-J8*'Base Ativos'!$K$7/1000","v":-2720.2961357248273},{"$f":"-K8*'Base Ativos'!$K$7/1000","v":-2927.0962223109359},{"$f":"-L8*'Base Ativos'!$K$7/1000","v":-2927.0962223109359},{"$f":"-M8*'Base Ativos'!$K$7/1000","v":-2927.0962223109359},{"$f":"-N8*'Base Ativos'!$K$7/1000","v":-2927.0962223109359},{"$f":"-O8*'Base Ativos'!$K$7/1000","v":-2927.0962223109359},{"$f":"-P8*'Base Ativos'!$K$7/1000","v":-2927.0962223109359},{"$f":"-Q8*'Base Ativos'!$K$7/1000","v":-2927.0962223109359},{"$f":"-R8*'Base Ativos'!$K$7/1000","v":-2927.0962223109359},{"$f":"-S8*'Base Ativos'!$K$7/1000","v":-2927.0962223109359},{"$f":"-T8*'Base Ativos'!$K$7/1000","v":-2927.0962223109359},{"$f":"-U8*'Base Ativos'!$K$7/1000","v":-2927.0962223109359},{"$f":"-V8*'Base Ativos'!$K$7/1000","v":-2927.0962223109359},{"$f":"-W8*'Base Ativos'!$K$7/1000","v":-2927.0962223109359},{"$f":"-X8*'Base Ativos'!$K$7/1000","v":-2927.0962223109359},{"$f":"-Y8*'Base Ativos'!$K$7/1000","v":-2927.0962223109359},{"$f":"-Z8*'Base Ativos'!$K$7/1000","v":-2927.0962223109359},{"$f":"-AA8*'Base Ativos'!$K$7/1000","v":-2927.0962223109359},{"$f":"-AB8*'Base Ativos'!$K$7/1000","v":-2927.0962223109359},{"$f":"-AC8*'Base Ativos'!$K$7/1000","v":-2927.0962223109359},{"$f":"-AD8*'Base Ativos'!$K$7/1000","v":-2927.0962223109359},{"$f":"-AE8*'Base Ativos'!$K$7/1000","v":-2927.0962223109359},{"$f":"-AF8*'Base Ativos'!$K$7/1000","v":-2927.0962223109359},{"$f":"-AG8*'Base Ativos'!$K$7/1000","v":-2927.0962223109359},{"$f":"-AH8*'Base Ativos'!$K$7/1000","v":-2927.0962223109359},{"$f":"-AI8*'Base Ativos'!$K$7/1000","v":-2927.0962223109359},{"$f":"-AJ8*'Base Ativos'!$K$7/1000","v":-2927.0962223109359},{"$f":"-AK8*'Base Ativos'!$K$7/1000","v":-2927.0962223109359},{"$f":"-AL8*'Base Ativos'!$K$7/1000","v":-2927.0962223109359}]
[null,"Despesas de Pessoal",-116993.78508877648,{"$f":"-D10*Despesas!$I$25/1000","v":0},{"$f":"-E10*Despesas!$I$25/1000","v":-546.43924474541245},{"$f":"-F10*Despesas!$I$25/1000","v":-2125.7513892051275},{"$f":"-G10*Despesas!$I$25/1000","v":-2944.8078960032044},{"$f":"-H10*Despesas!$I$25/1000","v":-3309.3279150784056},{"$f":"-I10*Despesas!$I$25/1000","v":-3602.2486214581454},{"$f":"-J10*Despesas!$I$25/1000","v":-3602.2486214581454},{"$f":"-K10*Despesas!$I$25/1000","v":-3602.2486214581454},{"$f":"-L10*Despesas!$I$25/1000","v":-3602.2486214581454},{"$f":"-M10*Despesas!$I$25/1000","v":-3602.2486214581454},{"$f":"-N10*Despesas!$I$25/1000","v":-3602.2486214581454},{"$f":"-O10*Despesas!$I$25/1000","v":-3602.2486214581454},{"$f":"-P10*Despesas!$I$25/1000","v":-3602.2486214581454},{"$f":"-Q10*Despesas!$I$25/1000","v":-3602.2486214581454},{"$f":"-R10*Despesas!$I$25/1000","v":-3602.2486214581454},{"$f":"-S10*Despesas!$I$25/1000","v":-3602.2486214581454},{"$f":"-T10*Despesas!$I$25/1000","v":-3602.2486214581454},{"$f":"-U10*Despesas!$I$25/1000","v":-3602.2486214581454},{"$f":"-V10*Despesas!$I$25/1000","v":-3602.2486214581454},{"$f":"-W10*Despesas!$I$25/1000","v":-3602.2486214581454},{"$f":"-X10*Despesas!$I$25/1000","v":-3602.2486214581454},{"$f":"-Y10*Despesas!$I$25/1000","v":-3602.2486214581454},{"$f":"-Z10*Despesas!$I$25/1000","v":-3602.2486214581454},{"$f":"-AA10*Despesas!$I$25/1000","v":-3602.2486214581454},{"$f":"-AB10*Despesas!$I$25/1000","v":-3602.2486214581454},{"$f":"-AC10*Despesas!$I$25/1000","v":-3602.2486214581454},{"$f":"-AD10*Despesas!$I$25/1000","v":-3602.2486214581454},{"$f":"-AE10*Despesas!$I$25/1000","v":-3602.2486214581454},{"$f":"-AF10*Despesas!$I$25/1000","v":-3602.2486214581454},{"$f":"-AG10*Despesas!$I$25/1000","v":-3602.2486214581454},{"$f":"-AH10*Despesas!$I$25/1000","v":-3602.2486214581454},{"$f":"-AI10*Despesas!$I$25/1000","v":-3602.2486214581454},{"$f":"-AJ10*Despesas!$I$25/1000","v":-3602.2486214581454},{"$f":"-AK10*Despesas!$I$25/1000","v":-3602.2486214581454},{"$f":"-AL10*Despesas!$I$25/1000","v":-3602.2486214581454}]
[null,"Meio Ambiente",-26442.596851634611,null,null,null,null,null,null,null,{"$f":"'FC Projeto'!K30","v":-2831.33310295},{"$f":"'FC Projeto'!L30","v":-2588.7885886900003},{"$f":"'FC Projeto'!M30","v":-2335.7336383299998},{"$f":"'FC Projeto'!N30","v":-1650.53982326},{"$f":"'FC Projeto'!O30","v":-1650.53982326},{"$f":"'FC Projeto'!P30","v":-855.98243763000005},{"$f":"'FC Projeto'!Q30","v":-602.92748727000003},{"$f":"'FC Projeto'!R30","v":-602.92748727000003},{"$f":"'FC Projeto'!S30","v":-602.92748727000003},{"$f":"'FC Projeto'!T30","v":-855.98243763000005},{"$f":"'FC Projeto'!U30","v":-602.92748727000003},{"$f":"'FC Projeto'!V30","v":-602.92748727000003},{"$f":"'FC Projeto'!W30","v":-602.92748727000003},{"$f":"'FC Projeto'!X30","v":-855.98243763000005},{"$f":"'FC Projeto'!Y30","v":-602.92748727000003},{"$f":"'FC Projeto'!Z30","v":-602.92748727000003},{"$f":"'FC Projeto'!AA30","v":-602.92748727000003},{"$f":"'FC Projeto'!AB30","v":-855.98243451860014},{"$f":"'FC Projeto'!AC30","v":-602.92748415860012},{"$f":"'FC Projeto'!AD30","v":-602.92748415860012},{"$f":"'FC Projeto'!AE30","v":-602.92748415860012},{"$f":"'FC Projeto'!AF30","v":-855.98243451860014},{"$f":"'FC Projeto'!AG30","v":-602.92748415860012},{"$f":"'FC Projeto'!AH30","v":-602.92748415860012},{"$f":"'FC Projeto'!AI30","v":-602.92748415860012},{"$f":"'FC Projeto'!AJ30","v":-855.98243451860014},{"$f":"'FC Projeto'!AK30","v":-602.92748415860012},{"$f":"'FC Projeto'!AL30","v":-602.92748415860012}]
[null,"Outras Despesas",{"$f":"SUM(D31:AL31)","v":-31034.405244998274},{"$f":"-D10*(Despesas!$I$38+Despesas!$I$46)/1000","v":0},{"$f":"-E10*(Despesas!$I$38+Despesas!$I$46)/1000","v":-144.95143438885796},{"$f":"-F10*(Despesas!$I$38+Despesas!$I$46)/1000","v":-563.88832973178876},{"$f":"-G10*(Despesas!$I$38+Despesas!$I$46)/1000","v":-781.1556959533018},{"$f":"-H10*(Despesas!$I$38+Despesas!$I$46)/1000","v":-877.85025099577797},{"$f":"-I10*(Despesas!$I$38+Despesas!$I$46)/1000","v":-955.55198446428574},{"$f":"-J10*(Despesas!$I$38+Despesas!$I$46)/1000","v":-955.55198446428574},{"$f":"-K10*(Despesas!$I$38+Despesas!$I$46)/1000","v":-955.55198446428574},{"$f":"-L10*(Despesas!$I$38+Despesas!$I$46)/1000","v":-955.55198446428574},{"$f":"-M10*(Despesas!$I$38+Despesas!$I$46)/1000","v":-955.55198446428574},{"$f":"-N10*(Despesas!$I$38+Despesas!$I$46)/1000","v":-955.55198446428574},{"$f":"-O10*(Despesas!$I$38+Despesas!$I$46)/1000","v":-955.55198446428574},{"$f":"-P10*(Despesas!$I$38+Despesas!$I$46)/1000","v":-955.55198446428574},{"$f":"-Q10*(Despesas!$I$38+Despesas!$I$46)/1000","v":-955.55198446428574},{"$f":"-R10*(Despesas!$I$38+Despesas!$I$46)/1000","v":-955.55198446428574},{"$f":"-S10*(Despesas!$I$38+Despesas!$I$46)/1000","v":-955.55198446428574},{"$f":"-T10*(Despesas!$I$38+Despesas!$I$46)/1000","v":-955.55198446428574},{"$f":"-U10*(Despesas!$I$38+Despesas!$I$46)/1000","v":-955.55198446428574},{"$f":"-V10*(Despesas!$I$38+Despesas!$I$46)/1000","v":-955.55198446428574},{"$f":"-W10*(Despesas!$I$38+Despesas!$I$46)/1000","v":-955.55198446428574},{"$f":"-X10*(Despesas!$I$38+Despesas!$I$46)/1000","v":-955.55198446428574},{"$f":"-Y10*(Despesas!$I$38+Despesas!$I$46)/1000","v":-955.55198446428574},{"$f":"-Z10*(Despesas!$I$38+Despesas!$I$46)/1000","v":-955.55198446428574},{"$f":"-AA10*(Despesas!$I$38+Despesas!$I$46)/1000","v":-955.55198446428574},{"$f":"-AB10*(Despesas!$I$38+Despesas!$I$46)/1000","v":-955.55198446428574},{"$f":"-AC10*(Despesas!$I$38+Despesas!$I$46)/1000","v":-955.55198446428574},{"$f":"-AD10*(Despesas!$I$38+Despesas!$I$46)/1000","v":-955.55198446428574},{"$f":"-AE10*(Despesas!$I$38+Despesas!$I$46)/1000","v":-955.55198446428574},{"$f":"-AF10*(Despesas!$I$38+Despesas!$I$46)/1000","v":-955.55198446428574},{"$f":"-AG10*(Despesas!$I$38+Despesas!$I$46)/1000","v":-955.55198446428574},{"$f":"-AH10*(Despesas!$I$38+Despesas!$I$46)/1000","v":-955.55198446428574},{"$f":"-AI10*(Despesas!$I$38+Despesas!$I$46)/1000","v":-955.55198446428574},{"$f":"-AJ10*(Despesas!$I$38+Despesas!$I$46)/1000","v":-955.55198446428574},{"$f":"-AK10*(Despesas!$I$38+Despesas!$I$46)/1000","v":-955.55198446428574},{"$f":"-AL10*(Despesas!$I$38+Despesas!$I$46)/1000","v":-955.55198446428574}]
[null,"Outorga da Terra",{"$f":"'FC Projeto'!C32","v":-321375.31065747625},{"$f":"'FC Projeto'!D32","v":-39649.479095961171},{"$f":"'FC Projeto'!E32","v":0},{"$f":"'FC Projeto'!F32","v":0},{"$f":"'FC Projeto'!G32","v":0},{"$f":"'FC Projeto'!H32","v":-84537.503377573725},{"$f":"'FC Projeto'!I32","v":-4962.6842223307203},{"$f":"'FC Projeto'!J32","v":-5418.7212413718917},{"$f":"'FC Projeto'!K32","v":-5916.6649692461888},{"$f":"'FC Projeto'!L32","v":-180890.25775099255},{"$f":"'FC Projeto'!M32","v":0},{"$f":"'FC Projeto'!N32","v":0},{"$f":"'FC Projeto'!O32","v":0},{"$f":"'FC Projeto'!P32","v":0},{"$f":"'FC Projeto'!Q32","v":0},{"$f":"'FC Projeto'!R32","v":0},{"$f":"'FC Projeto'!S32","v":0},{"$f":"'FC Projeto'!T32","v":0},{"$f":"'FC Projeto'!U32","v":0},{"$f":"'FC Projeto'!V32","v":0},{"$f":"'FC Projeto'!W32","v":0},{"$f":"'FC Projeto'!X32","v":0},{"$f":"'FC Projeto'!Y32","v":0},{"$f":"'FC Projeto'!Z32","v":0},{"$f":"'FC Projeto'!AA32","v":0},{"$f":"'FC Projeto'!AB32","v":0},{"$f":"'FC Projeto'!AC32","v":0},{"$f":"'FC Projeto'!AD32","v":0},{"$f":"'FC Projeto'!AE32","v":0},{"$f":"'FC Projeto'!AF32","v":0},{"$f":"'FC Projeto'!AG32","v":0},{"$f":"'FC Projeto'!AH32","v":0},{"$f":"'FC Projeto'!AI32","v":0},{"$f":"'FC Projeto'!AJ32","v":0},{"$f":"'FC Projeto'!AK32","v":0},{"$f":"'FC Projeto'!AL32","v":0}]
[null,"Seguros e Garantias",-3896.1316145301403,{"$f":"SUM(D34:D36)","v":-133.66457289016759},{"$f":"SUM(E34:E36)","v":-155.61897981301678},-203.34725806562494,-194.90189400557583,-169.42278063444186,-160.46469767817914,-142.79522554464231,-90.544625449560698,-86.094559357229102,-86.094559357229102,-86.094559357229102,-90.658853849588766,-90.658853849588766,-90.658853849588766,-102.52601952972388,-102.52601952972388,-107.09031402208353,-90.658853849588766,-90.658853849588766,-112.22300881155951,-112.22300881155951,-116.78730330391917,-90.658853849588766,-90.658853849588766,-86.094559357229102,-86.094559357229102,-90.658853849588766,-90.658853849588766,-90.658853849588766,-127.65266986985365,-127.65266986985365,-132.2169643622133,-90.658853849588766,-90.658853849588766,-86.094559357229102]
[null,"Garantia de Execução",-1442.7227907366771,{"$f":"-IF(D5<=7,'Painel de Controle'!$G$24,'Painel de Controle'!$G$25)*'Painel de Controle'!$G$26*'Painel de Controle'!$G$27*(1+'Painel de Controle'!$G$28)","v":-77.102869319549981},{"$f":"-IF(E5<=7,'Painel de Controle'!$G$24,'Painel de Controle'!$G$25)*'Painel de Controle'!$G$26*'Painel de Controle'!$G$27*(1+'Painel de Controle'!$G$28)","v":-77.102869319549981},{"$f":"-IF(F5<=7,'Painel de Controle'!$G$24,'Painel de Controle'!$G$25)*'Painel de Controle'!$G$26*'Painel de Controle'!$G$27*(1+'Painel de Controle'!$G$28)","v":-77.102869319549981},{"$f":"-IF(G5<=7,'Painel de Controle'!$G$24,'Painel de Controle'!$G$25)*'Painel de Controle'!$G$26*'Painel de Controle'!$G$27*(1+'Painel de Controle'!$G$28)","v":-77.102869319549981},{"$f":"-IF(H5<=7,'Painel de Controle'!$G$24,'Painel de Controle'!$G$25)*'Painel de Controle'!$G$26*'Painel de Controle'!$G$27*(1+'Painel de Controle'!$G$28)","v":-77.102869319549981},{"$f":"-IF(I5<=7,'Painel de Controle'!$G$24,'Painel de Controle'!$G$25)*'Painel de Controle'!$G$26*'Painel de Controle'!$G$27*(1+'Painel de Controle'!$G$28)","v":-77.102869319549981},{"$f":"-IF(J5<=7,'Painel de Controle'!$G$24,'Painel de Controle'!$G$25)*'Painel de Controle'!$G$26*'Painel de Controle'!$G$27*(1+'Painel de Controle'!$G$28)","v":-77.102869319549981},{"$f":"-IF(K5<=7,'Painel de Controle'!$G$24,'Painel de Controle'!$G$25)*'Painel de Controle'!$G$26*'Painel de Controle'!$G$27*(1+'Painel de Controle'!$G$28)","v":-32.25009662499383},{"$f":"-IF(L5<=7,'Painel de Controle'!$G$24,'Painel de Controle'!$G$25)*'Painel de Controle'!$G$26*'Painel de Controle'!$G$27*(1+'Painel de Controle'!$G$28)","v":-32.25009662499383},{"$f":"-IF(M5<=7,'Painel de Controle'!$G$24,'Painel de Controle'!$G$25)*'Painel de Controle'!$G$26*'Painel de Controle'!$G$27*(1+'Painel de Controle'!$G$28)","v":-32.25009662499383},{"$f":"-IF(N5<=7,'Painel de Controle'!$G$24,'Painel de Controle'!$G$25)*'Painel de Controle'!$G$26*'Painel de Controle'!$G$27*(1+'Painel de Controle'!$G$28)","v":-32.25009662499383},{"$f":"-IF(O5<=7,'Painel de Controle'!$G$24,'Painel de Controle'!$G$25)*'Painel de Controle'!$G$26*'Painel de Controle'!$G$27*(1+'Painel de Controle'!$G$28)","v":-32.25009662499383},{"$f":"-IF(P5<=7,'Painel de Controle'!$G$24,'Painel de Controle'!$G$25)*'Painel de Controle'!$G$26*'Painel de Controle'!$G$27*(1+'Painel de Controle'!$G$28)","v":-32.25009662499383},{"$f":"-IF(Q5<=7,'Painel de Controle'!$G$24,'Painel de Controle'!$G$25)*'Painel de Controle'!$G$26*'Painel de Controle'!$G$27*(1+'Painel de Controle'!$G$28)","v":-32.25009662499383},{"$f":"-IF(R5<=7,'Painel de Controle'!$G$24,'Painel de Controle'!$G$25)*'Painel de Controle'!$G$26*'Painel de Controle'!$G$27*(1+'Painel de Controle'!$G$28)","v":-32.25009662499383},{"$f":"-IF(S5<=7,'Painel de Controle'!$G$24,'Painel de Controle'!$G$25)*'Painel de Controle'!$G$26*'Painel de Controle'!$G$27*(1+'Painel de Controle'!$G$28)","v":-32.25009662499383},{"$f":"-IF(T5<=7,'Painel de Controle'!$G$24,'Painel de Controle'!$G$25)*'Painel de Controle'!$G$26*'Painel de Controle'!$G$27*(1+'Painel de Controle'!$G$28)","v":-32.25009662499383},{"$f":"-IF(U5<=7,'Painel de Controle'!$G$24,'Painel de Controle'!$G$25)*'Painel de Controle'!$G$26*'Painel de Controle'!$G$27*(1+'Painel de Controle'!$G$28)","v":-32.25009662499383},{"$f":"-IF(V5<=7,'Painel de Controle'!$G$24,'Painel de Controle'!$G$25)*'Painel de Controle'!$G$26*'Painel de Controle'!$G$27*(1+'Painel de Controle'!$G$28)","v":-32.25009662499383},{"$f":"-IF(W5<=7,'Painel de Controle'!$G$24,'Painel de Controle'!$G$25)*'Painel de Controle'!$G$26*'Painel de Controle'!$G$27*(1+'Painel de Controle'!$G$28)","v":-32.25009662499383},{"$f":"-IF(X5<=7,'Painel de Controle'!$G$24,'Painel de Controle'!$G$25)*'Painel de Controle'!$G$26*'Painel de Controle'!$G$27*(1+'Painel de Controle'!$G$28)","v":-32.25009662499383},{"$f":"-IF(Y5<=7,'Painel de Controle'!$G$24,'Painel de Controle'!$G$25)*'Painel de Controle'!$G$26*'Painel de Controle'!$G$27*(1+'Painel de Controle'!$G$28)","v":-32.25009662499383},{"$f":"-IF(Z5<=7,'Painel de Controle'!$G$24,'Painel de Controle'!$G$25)*'Painel de Controle'!$G$26*'Painel de Controle'!$G$27*(1+'Painel de Controle'!$G$28)","v":-32.25009662499383},{"$f":"-IF(AA5<=7,'Painel de Controle'!$G$24,'Painel de Controle'!$G$25)*'Painel de Controle'!$G$26*'Painel de Controle'!$G$27*(1+'Painel de Controle'!$G$28)","v":-32.25009662499383},{"$f":"-IF(AB5<=7,'Painel de Controle'!$G$24,'Painel de Controle'!$G$25)*'Painel de Controle'!$G$26*'Painel de Controle'!$G$27*(1+'Painel de Controle'!$G$28)","v":-32.25009662499383},{"$f":"-IF(AC5<=7,'Painel de Controle'!$G$24,'Painel de Controle'!$G$25)*'Painel de Controle'!$G$26*'Painel de Controle'!$G$27*(1+'Painel de Controle'!$G$28)","v":-32.25009662499383},{"$f":"-IF(AD5<=7,'Painel de Controle'!$G$24,'Painel de Controle'!$G$25)*'Painel de Controle'!$G$26*'Painel de Controle'!$G$27*(1+'Painel de Controle'!$G$28)","v":-32.25009662499383},{"$f":"-IF(AE5<=7,'Painel de Controle'!$G$24,'Painel de Controle'!$G$25)*'Painel de Controle'!$G$26*'Painel de Controle'!$G$27*(1+'Painel de Controle'!$G$28)","v":-32.25009662499383},{"$f":"-IF(AF5<=7,'Painel de Controle'!$G$24,'Painel de Controle'!$G$25)*'Painel de Controle'!$G$26*'Painel de Controle'!$G$27*(1+'Painel de Controle'!$G$28)","v":-32.25009662499383},{"$f":"-IF(AG5<=7,'Painel de Controle'!$G$24,'Painel de Controle'!$G$25)*'Painel de Controle'!$G$26*'Painel de Controle'!$G$27*(1+'Painel de Controle'!$G$28)","v":-32.25009662499383},{"$f":"-IF(AH5<=7,'Painel de Controle'!$G$24,'Painel de Controle'!$G$25)*'Painel de Controle'!$G$26*'Painel de Controle'!$G$27*(1+'Painel de Controle'!$G$28)","v":-32.25009662499383},{"$f":"-IF(AI5<=7,'Painel de Controle'!$G$24,'Painel de Controle'!$G$25)*'Painel de Controle'!$G$26*'Painel de Controle'!$G$27*(1+'Painel de Controle'!$G$28)","v":-32.25009662499383},{"$f":"-IF(AJ5<=7,'Painel de Controle'!$G$24,'Painel de Controle'!$G$25)*'Painel de Controle'!$G$26*'Painel de Controle'!$G$27*(1+'Painel de Controle'!$G$28)","v":-32.25009662499383},{"$f":"-IF(AK5<=7,'Painel de Controle'!$G$24,'Painel de Controle'!$G$25)*'Painel de Controle'!$G$26*'Painel de Controle'!$G$27*(1+'Painel de Controle'!$G$28)","v":-32.25009662499383},{"$f":"-IF(AL5<=7,'Painel de Controle'!$G$24,'Painel de Controle'!$G$25)*'Painel de Controle'!$G$26*'Painel de Controle'!$G$27*(1+'Painel de Controle'!$G$28)","v":-32.25009662499383}]
[null,"Seguro de Responsabilidade Civil",-1884.5561956282352,{"$f":"-'Painel de Controle'!$G$30*'Painel de Controle'!$G$31*'Painel de Controle'!$G$32*(1+'Painel de Controle'!$G$33)","v":-53.844462732235272},{"$f":"-'Painel de Controle'!$G$30*'Painel de Controle'!$G$31*'Painel de Controle'!$G$32*(1+'Painel de Controle'!$G$33)","v":-53.844462732235272},{"$f":"-'Painel de Controle'!$G$30*'Painel de Controle'!$G$31*'Painel de Controle'!$G$32*(1+'Painel de Controle'!$G$33)","v":-53.844462732235272},{"$f":"-'Painel de Controle'!$G$30*'Painel de Controle'!$G$31*'Painel de Controle'!$G$32*(1+'Painel de Controle'!$G$33)","v":-53.844462732235272},{"$f":"-'Painel de Controle'!$G$30*'Painel de Controle'!$G$31*'Painel de Controle'!$G$32*(1+'Painel de Controle'!$G$33)","v":-53.844462732235272},{"$f":"-'Painel de Controle'!$G$30*'Painel de Controle'!$G$31*'Painel de Controle'!$G$32*(1+'Painel de Controle'!$G$33)","v":-53.844462732235272},{"$f":"-'Painel de Controle'!$G$30*'Painel de Controle'!$G$31*'Painel de Controle'!$G$32*(1+'Painel de Controle'!$G$33)","v":-53.844462732235272},{"$f":"-'Painel de Controle'!$G$30*'Painel de Controle'!$G$31*'Painel de Controle'!$G$32*(1+'Painel de Controle'!$G$33)","v":-53.844462732235272},{"$f":"-'Painel de Controle'!$G$30*'Painel de Controle'!$G$31*'Painel de Controle'!$G$32*(1+'Painel de Controle'!$G$33)","v":-53.844462732235272},{"$f":"-'Painel de Controle'!$G$30*'Painel de Controle'!$G$31*'Painel de Controle'!$G$32*(1+'Painel de Controle'!$G$33)","v":-53.844462732235272},{"$f":"-'Painel de Controle'!$G$30*'Painel de Controle'!$G$31*'Painel de Controle'!$G$32*(1+'Painel de Controle'!$G$33)","v":-53.844462732235272},{"$f":"-'Painel de Controle'!$G$30*'Painel de Controle'!$G$31*'Painel de Controle'!$G$32*(1+'Painel de Controle'!$G$33)","v":-53.844462732235272},{"$f":"-'Painel de Controle'!$G$30*'Painel de Controle'!$G$31*'Painel de Controle'!$G$32*(1+'Painel de Controle'!$G$33)","v":-53.844462732235272},{"$f":"-'Painel de Controle'!$G$30*'Painel de Controle'!$G$31*'Painel de Controle'!$G$32*(1+'Painel de Controle'!$G$33)","v":-53.844462732235272},{"$f":"-'Painel de Controle'!$G$30*'Painel de Controle'!$G$31*'Painel de Controle'!$G$32*(1+'Painel de Controle'!$G$33)","v":-53.844462732235272},{"$f":"-'Painel de Controle'!$G$30*'Painel de Controle'!$G$31*'Painel de Controle'!$G$32*(1+'Painel de Controle'!$G$33)","v":-53.844462732235272},{"$f":"-'Painel de Controle'!$G$30*'Painel de Controle'!$G$31*'Painel de Controle'!$G$32*(1+'Painel de Controle'!$G$33)","v":-53.844462732235272},{"$f":"-'Painel de Controle'!$G$30*'Painel de Controle'!$G$31*'Painel de Controle'!$G$32*(1+'Painel de Controle'!$G$33)","v":-53.844462732235272},{"$f":"-'Painel de Controle'!$G$30*'Painel de Controle'!$G$31*'Painel de Controle'!$G$32*(1+'Painel de Controle'!$G$33)","v":-53.844462732235272},{"$f":"-'Painel de Controle'!$G$30*'Painel de Controle'!$G$31*'Painel de Controle'!$G$32*(1+'Painel de Controle'!$G$33)","v":-53.844462732235272},{"$f":"-'Painel de Controle'!$G$30*'Painel de Controle'!$G$31*'Painel de Controle'!$G$32*(1+'Painel de Controle'!$G$33)","v":-53.844462732235272},{"$f":"-'Painel de Controle'!$G$30*'Painel de Controle'!$G$31*'Painel de Controle'!$G$32*(1+'Painel de Controle'!$G$33)","v":-53.844462732235272},{"$f":"-'Painel de Controle'!$G$30*'Painel de Controle'!$G$31*'Painel de Controle'!$G$32*(1+'Painel de Controle'!$G$33)","v":-53.844462732235272},{"$f":"-'Painel de Controle'!$G$30*'Painel de Controle'!$G$31*'Painel de Controle'!$G$32*(1+'Painel de Controle'!$G$33)","v":-53.844462732235272},{"$f":"-'Painel de Controle'!$G$30*'Painel de Controle'!$G$31*'Painel de Controle'!$G$32*(1+'Painel de Controle'!$G$33)","v":-53.844462732235272},{"$f":"-'Painel de Controle'!$G$30*'Painel de Controle'!$G$31*'Painel de Controle'!$G$32*(1+'Painel de Controle'!$G$33)","v":-53.844462732235272},{"$f":"-'Painel de Controle'!$G$30*'Painel de Controle'!$G$31*'Painel de Controle'!$G$32*(1+'Painel de Controle'!$G$33)","v":-53.844462732235272},{"$f":"-'Painel de Controle'!$G$30*'Painel de Controle'!$G$31*'Painel de Controle'!$G$32*(1+'Painel de Controle'!$G$33)","v":-53.844462732235272},{"$f":"-'Painel de Controle'!$G$30*'Painel de Controle'!$G$31*'Painel de Controle'!$G$32*(1+'Painel de Controle'!$G$33)","v":-53.844462732235272},{"$f":"-'Painel de Controle'!$G$30*'Painel de Controle'!$G$31*'Painel de Controle'!$G$32*(1+'Painel de Controle'!$G$33)","v":-53.844462732235272},{"$f":"-'Painel de Controle'!$G$30*'Painel de Controle'!$G$31*'Painel de Controle'!$G$32*(1+'Painel de Controle'!$G$33)","v":-53.844462732235272},{"$f":"-'Painel de Controle'!$G$30*'Painel de Controle'!$G$31*'Painel de Controle'!$G$32*(1+'Painel de Controle'!$G$33)","v":-53.844462732235272},{"$f":"-'Painel de Controle'!$G$30*'Painel de Controle'!$G$31*'Painel de Controle'!$G$32*(1+'Painel de Controle'!$G$33)","v":-53.844462732235272},{"$f":"-'Painel de Controle'!$G$30*'Painel de Controle'!$G$31*'Painel de Controle'!$G$32*(1+'Painel de Controle'!$G$33)","v":-53.844462732235272},{"$f":"-'Painel de Controle'!$G$30*'Painel de Controle'!$G$31*'Painel de Controle'!$G$32*(1+'Painel de Controle'!$G$33)","v":-53.844462732235272}]
[null,"Seguro de Engenharia",-568.85262816522709,{"$f":"'Painel de Controle'!$G$35*'FC Acionista'!D62*'Painel de Controle'!$G$36*(1+'Painel de Controle'!$G$37)","v":-2.7172408383823257},{"$f":"'Painel de Controle'!$G$35*'FC Acionista'!E62*'Painel de Controle'!$G$36*(1+'Painel de Controle'!$G$37)","v":-24.671647761231529},{"$f":"'Painel de Controle'!$G$35*'FC Acionista'!F62*'Painel de Controle'!$G$36*(1+'Painel de Controle'!$G$37)","v":-72.399926013839675},{"$f":"'Painel de Controle'!$G$35*'FC Acionista'!G62*'Painel de Controle'!$G$36*(1+'Painel de Controle'!$G$37)","v":-63.954561953790567},{"$f":"'Painel de Controle'!$G$35*'FC Acionista'!H62*'Painel de Controle'!$G$36*(1+'Painel de Controle'!$G$37)","v":-38.475448582656611},{"$f":"'Painel de Controle'!$G$35*'FC Acionista'!I62*'Painel de Controle'!$G$36*(1+'Painel de Controle'!$G$37)","v":-29.517365626393875},{"$f":"'Painel de Controle'!$G$35*'FC Acionista'!J62*'Painel de Controle'!$G$36*(1+'Painel de Controle'!$G$37)","v":-11.847893492857041},{"$f":"'Painel de Controle'!$G$35*'FC Acionista'!K62*'Painel de Controle'!$G$36*(1+'Painel de Controle'!$G$37)","v":-4.4500660923315944},{"$f":"'Painel de Controle'!$G$35*'FC Acionista'!L62*'Painel de Controle'!$G$36*(1+'Painel de Controle'!$G$37)","v":0},{"$f":"'Painel de Controle'!$G$35*'FC Acionista'!M62*'Painel de Controle'!$G$36*(1+'Painel de Controle'!$G$37)","v":0},{"$f":"'Painel de Controle'!$G$35*'FC Acionista'!N62*'Painel de Controle'!$G$36*(1+'Painel de Controle'!$G$37)","v":0},{"$f":"'Painel de Controle'!$G$35*'FC Acionista'!O62*'Painel de Controle'!$G$36*(1+'Painel de Controle'!$G$37)","v":-4.5642944923596609},{"$f":"'Painel de Controle'!$G$35*'FC Acionista'!P62*'Painel de Controle'!$G$36*(1+'Painel de Controle'!$G$37)","v":-4.5642944923596609},{"$f":"'Painel de Controle'!$G$35*'FC Acionista'!Q62*'Painel de Controle'!$G$36*(1+'Painel de Controle'!$G$37)","v":-4.5642944923596609},{"$f":"'Painel de Controle'!$G$35*'FC Acionista'!R62*'Painel de Controle'!$G$36*(1+'Painel de Controle'!$G$37)","v":-16.431460172494781},{"$f":"'Painel de Controle'!$G$35*'FC Acionista'!S62*'Painel de Controle'!$G$36*(1+'Painel de Controle'!$G$37)","v":-16.431460172494781},{"$f":"'Painel de Controle'!$G$35*'FC Acionista'!T62*'Painel de Controle'!$G$36*(1+'Painel de Controle'!$G$37)","v":-20.995754664854438},{"$f":"'Painel de Controle'!$G$35*'FC Acionista'!U62*'Painel de Controle'!$G$36*(1+'Painel de Controle'!$G$37)","v":-4.5642944923596609},{"$f":"'Painel de Controle'!$G$35*'FC Acionista'!V62*'Painel de Controle'!$G$36*(1+'Painel de Controle'!$G$37)","v":-4.5642944923596609},{"$f":"'Painel de Controle'!$G$35*'FC Acionista'!W62*'Painel de Controle'!$G$36*(1+'Painel de Controle'!$G$37)","v":-26.128449454330408},{"$f":"'Painel de Controle'!$G$35*'FC Acionista'!X62*'Painel de Controle'!$G$36*(1+'Painel de Controle'!$G$37)","v":-26.128449454330408},{"$f":"'Painel de Controle'!$G$35*'FC Acionista'!Y62*'Painel de Controle'!$G$36*(1+'Painel de Controle'!$G$37)","v":-30.692743946690076},{"$f":"'Painel de Controle'!$G$35*'FC Acionista'!Z62*'Painel de Controle'!$G$36*(1+'Painel de Controle'!$G$37)","v":-4.5642944923596609},{"$f":"'Painel de Controle'!$G$35*'FC Acionista'!AA62*'Painel de Controle'!$G$36*(1+'Painel de Controle'!$G$37)","v":-4.5642944923596609},{"$f":"'Painel de Controle'!$G$35*'FC Acionista'!AB62*'Painel de Controle'!$G$36*(1+'Painel de Controle'!$G$37)","v":0},{"$f":"'Painel de Controle'!$G$35*'FC Acionista'!AC62*'Painel de Controle'!$G$36*(1+'Painel de Controle'!$G$37)","v":0},{"$f":"'Painel de Controle'!$G$35*'FC Acionista'!AD62*'Painel de Controle'!$G$36*(1+'Painel de Controle'!$G$37)","v":-4.5642944923596609},{"$f":"'Painel de Controle'!$G$35*'FC Acionista'!AE62*'Painel de Controle'!$G$36*(1+'Painel de Controle'!$G$37)","v":-4.5642944923596609},{"$f":"'Painel de Controle'!$G$35*'FC Acionista'!AF62*'Painel de Controle'!$G$36*(1+'Painel de Controle'!$G$37)","v":-4.5642944923596609},{"$f":"'Painel de Controle'!$G$35*'FC Acionista'!AG62*'Painel de Controle'!$G$36*(1+'Painel de Controle'!$G$37)","v":-41.558110512624552},{"$f":"'Painel de Controle'!$G$35*'FC Acionista'!AH62*'Painel de Controle'!$G$36*(1+'Painel de Controle'!$G$37)","v":-41.558110512624552},{"$f":"'Painel de Controle'!$G$35*'FC Acionista'!AI62*'Painel de Controle'!$G$36*(1+'Painel de Controle'!$G$37)","v":-46.122405004984209},{"$f":"'Painel de Controle'!$G$35*'FC Acionista'!AJ62*'Painel de Controle'!$G$36*(1+'Painel de Controle'!$G$37)","v":-4.5642944923596609},{"$f":"'Painel de Controle'!$G$35*'FC Acionista'!AK62*'Painel de Controle'!$G$36*(1+'Painel de Controle'!$G$37)","v":-4.5642944923596609},{"$f":"'Painel de Controle'!$G$35*'FC Acionista'!AL62*'Painel de Controle'!$G$36*(1+'Painel de Controle'!$G$37)","v":0}]
[]
[null,"EBITDA",{"$f":"C22+C24","v":4551875.1196795218},-42414.941153902102,-3500.7615509208963,-5594.4671472287591,54491.960242709582,12990.560988201643,125203.82857976653,142715.6777190711,151310.36317638686,-23411.784958914795,157731.52774243773,158416.72155750776,158407.59296852304,159202.15035415301,159455.20530451305,159431.47097315273,159431.47097315273,159169.28743380797,159455.20530451305,159455.20530451305,159412.07699458912,159159.02204422909,159402.9484056044,159455.20530451305,159455.20530451305,159211.27894624916,159464.33389660914,159455.20530762442,159455.20530762442,159202.15035726444,159381.2176755839,159381.2176755839,159372.08908659918,159202.15035726444,159455.20530762442,159464.33389660914]
[null,"Margem EBITDA",{"$f":"C38/C22","v":0.33331891912104017},{"$f":"IFERROR(D38/D22,0)","v":16.978656718956614},1.4013511986810769,2.2394593658310198,0.33888700242738662,4.6914298858096386E-2,0.34296494588812509,0.34557132864537754,0.34035200750994138,-5.2661614465024341E-2,0.35479554068723912,0.35633679064260815,0.35631625712777504,0.35810350550656433,0.35867271807441048,0.35861933093584436,0.35861933093584436,0.35802958485316511,0.35867271807441048,0.35867271807441048,0.35857570682841933,0.35800649426057313,0.35855517331358622,0.35867271807441048,0.35867271807441048,0.35812403902839618,0.35869325159624221,0.3586727180814091,0.3586727180814091,0.35810350551356307,0.35850629300273462,0.35850629300273462,0.35848575948790151,0.35810350551356307,0.3586727180814091,0.35869325159624221]
[]
[null,"Depreciação",{"$f":"SUM(D41:AL41)","v":-1374936.5132396789},{"$f":"-Depreciação!F27/1000","v":-240.9991076091429},{"$f":"-Depreciação!G27/1000","v":-3244.9900019525508},{"$f":"-Depreciação!H27/1000","v":-11963.66235737729},{"$f":"-Depreciação!I27/1000","v":-23662.999276224997},{"$f":"-Depreciação!J27/1000","v":-30915.484381207574},{"$f":"-Depreciação!K27/1000","v":-36528.274190446195},{"$f":"-Depreciação!L27/1000","v":-38985.025421181585},{"$f":"-Depreciação!M27/1000","v":-40306.371717165443},{"$f":"-Depreciação!N27/1000","v":-37201.246200412526},{"$f":"-Depreciação!O27/1000","v":-34993.497200136204},{"$f":"-Depreciação!P27/1000","v":-33317.034821219873},{"$f":"-Depreciação!Q27/1000","v":-35239.516739532541},{"$f":"-Depreciação!R27/1000","v":-37472.638251989025},{"$f":"-Depreciação!S27/1000","v":-40306.37171716545},{"$f":"-Depreciação!T27/1000","v":-43706.85187537715},{"$f":"-Depreciação!U27/1000","v":-47107.332033588857},{"$f":"-Depreciação!V27/1000","v":-50507.812191800564},{"$f":"-Depreciação!W27/1000","v":-50507.812191800564},{"$f":"-Depreciação!X27/1000","v":-46781.661571697063},{"$f":"-Depreciação!Y27/1000","v":-48187.812180679823},{"$f":"-Depreciação!Z27/1000","v":-50231.506735294555},{"$f":"-Depreciação!AA27/1000","v":-51658.737844759045},{"$f":"-Depreciação!AB27/1000","v":-46949.119625054271},{"$f":"-Depreciação!AC27/1000","v":-44783.028518451087},{"$f":"-Depreciação!AD27/1000","v":-44054.783098594882},{"$f":"-Depreciação!AE27/1000","v":-43326.537678738685},{"$f":"-Depreciação!AF27/1000","v":-43149.443511768484},{"$f":"-Depreciação!AG27/1000","v":-42441.06684388766},{"$f":"-Depreciação!AH27/1000","v":-41998.331426462137},{"$f":"-Depreciação!AI27/1000","v":-44450.725051018249},{"$f":"-Depreciação!AJ27/1000","v":-46903.118675574369},{"$f":"-Depreciação!AK27/1000","v":-48750.837282359716},{"$f":"-Depreciação!AL27/1000","v":-46052.890706909537},{"$f":"-Depreciação!AM27/1000","v":-44782.698909301485},{"$f":"-Depreciação!AN27/1000","v":-44226.293902940226}]
[null,null,null,0,{"$f":"E15","v":0},0,0,0,0,0,0,0,0,0,0,0,0,0,0,0,0,0,0,0,0,0,0,0,0,0,0,0,0,0,0,0,0,0]
[null,"EBIT",{"$f":"SUM(D43:AL43)","v":3176938.6064398503},{"$f":"D38+D41","v":-42655.940261511249},{"$f":"E38+E41","v":-6745.7515528734475},{"$f":"F38+F41","v":-17558.129504606048},{"$f":"G38+G41","v":30828.960966484585},{"$f":"H38+H41","v":-17924.923393005931},88675.554389320343,103730.65229788952,111003.99145922142,-60613.031159327322,122738.03054230152,125099.68673628788,123168.0762289905,121729.51210216398,119148.83358734759,115724.61909777558,112324.13893956387,108661.47524200741,108947.39311271248,112673.54373281598,111224.26481390931,108927.51530893453,107744.21056084536,112506.08567945877,114672.17678606196,115156.49584765428,116137.79621787046,116305.76179585594,117014.13846373676,117203.81893080231,114930.49262456565,112478.09900000953,110621.25180423947,113149.25965035491,114672.50639832293,115238.03999366891]
[null,"Margem EBIT",{"$f":"IFERROR(C43/C22,0)","v":0.23263681770052372},17.075128410449086,2.7003173129964337,7.0285009332911432,0.19172615782858779,-6.4734326241316448E-2,0.24290476623370247,0.25117310101273632,0.24968832630928692,-0.1363407396774996,0.27608244548452709,0.28139466871760821,0.27704977455381863,0.27381392092014234,0.26800903687375599,0.26030673379811092,0.25265781786103192,0.24441915584127363,0.24506228906251903,0.25344375624833404,0.2501838011524844,0.24501757665631835,0.24235589415120989,0.25306708221598512,0.25793940848039576,0.25902881809800482,0.26123611932947427,0.26161393496919544,0.26320733158741239,0.26363399190595205,0.25852045469798929,0.25300413000085503,0.24882740570086229,0.25451381426775777,0.25794014989818348,0.25921224052337044]
[]
[null,"Despesas Financeiras",null,{"$f":"-Financiamento!E21","v":-2230.9096906852274},{"$f":"-Financiamento!F21","v":-5354.874785073629},{"$f":"-Financiamento!G21","v":-14522.273894059937},{"$f":"-Financiamento!H21","v":-22620.306952252773},{"$f":"-Financiamento!I21","v":-31383.891604045737},{"$f":"-Financiamento!J21","v":-35042.602232185651},{"$f":"-Financiamento!K21","v":-35946.418114761305},{"$f":"-Financiamento!L21","v":-35460.850151419654},{"$f":"-Financiamento!M21","v":-42215.264851609965},{"$f":"-Financiamento!N21","v":-40127.686919350745},{"$f":"-Financiamento!O21","v":-37936.693264261608},{"$f":"-Financiamento!P21","v":-35695.991472233211},{"$f":"-Financiamento!Q21","v":-32948.922304810054},{"$f":"-Financiamento!R21","v":-30201.853137386901},{"$f":"-Financiamento!S21","v":-29535.362799780207},{"$f":"-Financiamento!T21","v":-28868.872462173509},{"$f":"-Financiamento!U21","v":-28780.320688404721},{"$f":"-Financiamento!V21","v":-26033.251520981565},{"$f":"-Financiamento!W21","v":-23112.800784407038},{"$f":"-Financiamento!X21","v":-23327.396227640922},{"$f":"-Financiamento!Y21","v":-23320.44855473694},{"$f":"-Financiamento!Z21","v":-24022.669427475881},{"$f":"-Financiamento!AA21","v":-21022.286640028218},{"$f":"-Financiamento!AB21","v":-18088.530088131713},{"$f":"-Financiamento!AC21","v":-15158.495886445569},{"$f":"-Financiamento!AD21","v":-12196.49088742855},{"$f":"-Financiamento!AE21","v":-9468.2331391501157},{"$f":"-Financiamento!AF21","v":-6843.3911137016003},{"$f":"-Financiamento!AG21","v":-4268.2572251923393},{"$f":"-Financiamento!AH21","v":-2199.4907120778398},{"$f":"-Financiamento!AI21","v":-776.73830368039455},{"$f":"-Financiamento!AJ21","v":-4.467241647684463E-12},{"$f":"-Financiamento!AK21","v":-4.467241647684463E-12},{"$f":"-Financiamento!AL21","v":-4.467241647684463E-12},{"$f":"-Financiamento!AM21","v":-4.467241647684463E-12}]
[]
[null,"EBT",{"$f":"SUM(D48:AL48)","v":2478227.0306042759},{"$f":"D43+D46","v":-44886.849952196477},{"$f":"E43+E46","v":-12100.626337947077},-32080.403398665985,{"$f":"G43+G46","v":8208.6540142318117},-49308.814997051668,53632.952157134692,67784.234183128225,75543.141307801765,-102828.29601093728,82610.343622950779,87162.993472026283,87472.084756757278,88780.589797353925,88946.980449960683,86189.256297995365,83455.266477390367,79881.154553602682,82914.14159173092,89560.742948408937,87896.868586268392,85607.066754197585,83721.541133369479,91483.799039430553,96583.64669793025,99997.999961208712,103941.30533044192,106837.52865670582,110170.74735003516,112935.56170560997,112731.00191248782,111701.36069632914,110621.25180423947,113149.25965035491,114672.50639832293,115238.03999366891]
[null,"Margem EBT",{"$f":"IFERROR(C48/C22,0)","v":0.18147245551756705},17.968159233519167,4.8438681060734474,12.841752031087966,5.1049845526867928E-2,-0.17807456392462606,0.14691421774433411,0.16413254831037286,0.16992398443816534,-0.23129821541272116,0.18582069134538426,0.19606125572640012,0.19675651437923533,0.1996998178520106,0.20007409091207576,0.19387096687234362,0.18772122997117763,0.17968175307884937,0.18650404340654633,0.20145466587135774,0.19771200761906935,0.19256141096471632,0.18832017846227248,0.20578031804344618,0.21725172920212429,0.22493185079531797,0.23380177794682916,0.24031643697346794,0.24781405742674661,0.25403312991165783,0.25357300058023996,0.25125696321453711,0.24882740570086229,0.25451381426775777,0.25794014989818348,0.25921224052337044]
[]
[null,"Tributos Sobre o Lucro",{"$f":"SUM(D51:AL51)","v":-804196.15396176523},{"$f":"D52+D53","v":0},{"$f":"E52+E53","v":0},0,-870.27381601924594,0,-5719.3176427741282,-7229.9669990489374,-8058.2303346078388,0,-8812.6541817499965,-20720.792446342253,-20794.356172108233,-21105.780371770234,-21145.381347090643,-20489.042998922898,-20426.879231454001,-27135.592548224911,-28166.808141188514,-30426.652602459038,-29860.935319331253,-29082.40269642718,-28441.323985345622,-31080.491673406388,-32814.439877296289,-33975.319986810966,-35316.043812350254,-36300.759743279981,-37434.054099011955,-38374.090979907392,-38304.540650245857,-37954.462636751909,-37587.22561344142,-38446.748281120672,-38964.652175429801,-39156.933597847426]
[null,"IRPJ",{"$f":"SUM(E52:AL52)","v":-581155.72120738029},{"$f":"-Tributação!D34","v":0},{"$f":"-Tributação!E34","v":0},{"$f":"-Tributação!F34","v":0},{"$f":"-Tributação!G34","v":-353.12861312264181},{"$f":"-Tributação!H34","v":0},{"$f":"-Tributação!I34","v":-2340.4416568746428},{"$f":"-Tributação!J34","v":-2959.5602455118596},{"$f":"-Tributação!K34","v":-3299.0124322163274},{"$f":"-Tributação!L34","v":0},{"$f":"-Tributação!M34","v":-3608.2025335040967},{"$f":"-Tributação!N34","v":-15229.523857604599},{"$f":"-Tributação!O34","v":-15283.614832432526},{"$f":"-Tributação!P34","v":-15512.603214536935},{"$f":"-Tributação!Q34","v":-15541.72157874312},{"$f":"-Tributação!R34","v":-15059.11985214919},{"$f":"-Tributação!S34","v":-15013.411199598529},{"$f":"-Tributação!T34","v":-19946.288638400671},{"$f":"-Tributação!U34","v":-20704.53539793273},{"$f":"-Tributação!V34","v":-22366.185737102234},{"$f":"-Tributação!W34","v":-21950.217146567098},{"$f":"-Tributação!X34","v":-21377.766688549396},{"$f":"-Tributação!Y34","v":-20906.38528334237},{"$f":"-Tributação!Z34","v":-22846.949759857638},{"$f":"-Tributação!AA34","v":-24121.911674482562},{"$f":"-Tributação!AB34","v":-24975.499990302178},{"$f":"-Tributação!AC34","v":-25961.326332610479},{"$f":"-Tributação!AD34","v":-26685.382164176455},{"$f":"-Tributação!AE34","v":-27518.686837508791},{"$f":"-Tributação!AF34","v":-28209.890426402493},{"$f":"-Tributação!AG34","v":-28158.750478121954},{"$f":"-Tributação!AH34","v":-27901.340174082285},{"$f":"-Tributação!AI34","v":-27631.312951059866},{"$f":"-Tributação!AJ34","v":-28263.314912588728},{"$f":"-Tributação!AK34","v":-28644.126599580733},{"$f":"-Tributação!AL34","v":-28785.509998417227}]
[null,"CSLL",{"$f":"SUM(E53:AL53)","v":-223040.43275438482},{"$f":"-Tributação!D33","v":0},{"$f":"-Tributação!E33","v":0},{"$f":"-Tributação!F33","v":0},{"$f":"-Tributação!G33","v":-517.14520289660413},{"$f":"-Tributação!H33","v":0},{"$f":"-Tributação!I33","v":-3378.8759858994854},{"$f":"-Tributação!J33","v":-4270.4067535370777},{"$f":"-Tributação!K33","v":-4759.2179023915114},{"$f":"-Tributação!L33","v":0},{"$f":"-Tributação!M33","v":-5204.4516482458994},{"$f":"-Tributação!N33","v":-5491.2685887376556},{"$f":"-Tributação!O33","v":-5510.7413396757083},{"$f":"-Tributação!P33","v":-5593.1771572332973},{"$f":"-Tributação!Q33","v":-5603.6597683475229},{"$f":"-Tributação!R33","v":-5429.9231467737081},{"$f":"-Tributação!S33","v":-5413.4680318554701},{"$f":"-Tributação!T33","v":-7189.3039098242416},{"$f":"-Tributação!U33","v":-7462.2727432557822},{"$f":"-Tributação!V33","v":-8060.4668653568042},{"$f":"-Tributação!W33","v":-7910.7181727641546},{"$f":"-Tributação!X33","v":-7704.6360078777825},{"$f":"-Tributação!Y33","v":-7534.9387020032527},{"$f":"-Tributação!Z33","v":-8233.54191354875},{"$f":"-Tributação!AA33","v":-8692.5282028137226},{"$f":"-Tributação!AB33","v":-8999.8199965087842},{"$f":"-Tributação!AC33","v":-9354.7174797397729},{"$f":"-Tributação!AD33","v":-9615.3775791035241},{"$f":"-Tributação!AE33","v":-9915.3672615031646},{"$f":"-Tributação!AF33","v":-10164.200553504897},{"$f":"-Tributação!AG33","v":-10145.790172123903},{"$f":"-Tributação!AH33","v":-10053.122462669622},{"$f":"-Tributação!AI33","v":-9955.9126623815519},{"$f":"-Tributação!AJ33","v":-10183.433368531942},{"$f":"-Tributação!AK33","v":-10320.525575849064},{"$f":"-Tributação!AL33","v":-10371.423599430202}]
[]
[null,"LLE",{"$f":"SUM(D55:AL55)","v":2372742.4524780852},{"$f":"D43+D51","v":-42655.940261511249},-6745.7515528734475,-17558.129504606048,29958.687150465339,-17924.923393005931,82956.236746546216,96500.685298840588,102945.76112461358,-60613.031159327322,113925.37636055153,104378.89428994563,102373.72005688226,100623.73173039375,98003.452240256942,95235.576098852674,91897.259708109865,81525.882693782492,80780.58497152396,82246.891130356933,81363.329494578051,79845.11261250735,79302.886575499739,81425.594006052386,81857.73690876567,81181.175860843316,80821.752405520208,80005.002052575961,79580.084364724811,78829.727950894914,76625.951974319789,74523.636363257625,73034.026190798046,74702.511369234242,75707.854222893133,76081.10639582148]
[]
[null,"Fluxo de Caixa do Acionista","TOTAL",1,{"$f":"D57+1","v":2},{"$f":"E57+1","v":3},{"$f":"F57+1","v":4},{"$f":"G57+1","v":5},{"$f":"H57+1","v":6},{"$f":"I57+1","v":7},{"$f":"J57+1","v":8},{"$f":"K57+1","v":9},{"$f":"L57+1","v":10},{"$f":"M57+1","v":11},{"$f":"N57+1","v":12},{"$f":"O57+1","v":13},{"$f":"P57+1","v":14},{"$f":"Q57+1","v":15},{"$f":"R57+1","v":16},{"$f":"S57+1","v":17},{"$f":"T57+1","v":18},{"$f":"U57+1","v":19},{"$f":"V57+1","v":20},{"$f":"W57+1","v":21},{"$f":"X57+1","v":22},{"$f":"Y57+1","v":23},{"$f":"Z57+1","v":24},{"$f":"AA57+1","v":25},{"$f":"AB57+1","v":26},{"$f":"AC57+1","v":27},{"$f":"AD57+1","v":28},{"$f":"AE57+1","v":29},{"$f":"AF57+1","v":30},{"$f":"AG57+1","v":31},{"$f":"AH57+1","v":32},{"$f":"AI57+1","v":33},{"$f":"AJ57+1","v":34},{"$f":"AK57+1","v":35}]
[null,"(+) EBITDA",{"$f":"SUM(D58:AL58)","v":4551875.1196795283},{"$f":"D38","v":-42414.941153902102},{"$f":"E38","v":-3500.7615509208963},-5594.4671472287591,54491.960242709582,12990.560988201643,125203.82857976653,142715.6777190711,151310.36317638686,-23411.784958914795,157731.52774243773,158416.72155750776,158407.59296852304,159202.15035415301,159455.20530451305,159431.47097315273,159431.47097315273,159169.28743380797,159455.20530451305,159455.20530451305,159412.07699458912,159159.02204422909,159402.9484056044,159455.20530451305,159455.20530451305,159211.27894624916,159464.33389660914,159455.20530762442,159455.20530762442,159202.15035726444,159381.2176755839,159381.2176755839,159372.08908659918,159202.15035726444,159455.20530762442,159464.33389660914]
[null,"(-) Tributos Sobre o Lucro",{"$f":"SUM(D59:AL59)","v":-804196.15396176523},{"$f":"D51","v":0},{"$f":"E51","v":0},0,-870.27381601924594,0,-5719.3176427741282,-7229.9669990489374,-8058.2303346078388,0,-8812.6541817499965,-20720.792446342253,-20794.356172108233,-21105.780371770234,-21145.381347090643,-20489.042998922898,-20426.879231454001,-27135.592548224911,-28166.808141188514,-30426.652602459038,-29860.935319331253,-29082.40269642718,-28441.323985345622,-31080.491673406388,-32814.439877296289,-33975.319986810966,-35316.043812350254,-36300.759743279981,-37434.054099011955,-38374.090979907392,-38304.540650245857,-37954.462636751909,-37587.22561344142,-38446.748281120672,-38964.652175429801,-39156.933597847426]
[null,"(+/-) Variação da NCG",{"$f":"SUM(D60:AL60)","v":-156114.10238404392},{"$f":"-D14/365*'Painel de Controle'!$J$8","v":0},{"$f":"-('Painel de Controle'!$J$8/365*'FC Acionista'!E14-'FC Acionista'!D60)","v":0},{"$f":"-('Painel de Controle'!$J$8/365*'FC Acionista'!F14-'FC Acionista'!E60)","v":0},{"$f":"-(G14-F14)*'Painel de Controle'!$J$8/365","v":-57021.815777052085},{"$f":"-(H14-G14)*'Painel de Controle'!$J$8/365","v":-40542.598389830106},{"$f":"-(I14-H14)*'Painel de Controle'!$J$8/365","v":-30786.172221369878},{"$f":"-(J14-I14)*'Painel de Controle'!$J$8/365","v":-16734.015276186299},{"$f":"-(K14-J14)*'Painel de Controle'!$J$8/365","v":-11029.500719605525},{"$f":"-(L14-K14)*'Painel de Controle'!$J$8/365","v":0},{"$f":"-(M14-L14)*'Painel de Controle'!$J$8/365","v":0},{"$f":"-(N14-M14)*'Painel de Controle'!$J$8/365","v":0},{"$f":"-(O14-N14)*'Painel de Controle'!$J$8/365","v":0},{"$f":"-(P14-O14)*'Painel de Controle'!$J$8/365","v":0},{"$f":"-(Q14-P14)*'Painel de Controle'!$J$8/365","v":0},{"$f":"-(R14-Q14)*'Painel de Controle'!$J$8/365","v":0},{"$f":"-(S14-R14)*'Painel de Controle'!$J$8/365","v":0},{"$f":"-(T14-S14)*'Painel de Controle'!$J$8/365","v":0},{"$f":"-(U14-T14)*'Painel de Controle'!$J$8/365","v":0},{"$f":"-(V14-U14)*'Painel de Controle'!$J$8/365","v":0},{"$f":"-(W14-V14)*'Painel de Controle'!$J$8/365","v":0},{"$f":"-(X14-W14)*'Painel de Controle'!$J$8/365","v":0},{"$f":"-(Y14-X14)*'Painel de Controle'!$J$8/365","v":0},{"$f":"-(Z14-Y14)*'Painel de Controle'!$J$8/365","v":0},{"$f":"-(AA14-Z14)*'Painel de Controle'!$J$8/365","v":0},{"$f":"-(AB14-AA14)*'Painel de Controle'!$J$8/365","v":0},{"$f":"-(AC14-AB14)*'Painel de Controle'!$J$8/365","v":0},{"$f":"-(AD14-AC14)*'Painel de Controle'!$J$8/365","v":0},{"$f":"-(AE14-AD14)*'Painel de Controle'!$J$8/365","v":0},{"$f":"-(AF14-AE14)*'Painel de Controle'!$J$8/365","v":0},{"$f":"-(AG14-AF14)*'Painel de Controle'!$J$8/365","v":0},{"$f":"-(AH14-AG14)*'Painel de Controle'!$J$8/365","v":0},{"$f":"-(AI14-AH14)*'Painel de Controle'!$J$8/365","v":0},{"$f":"-(AJ14-AI14)*'Painel de Controle'!$J$8/365","v":0},{"$f":"-(AK14-AJ14)*'Painel de Controle'!$J$8/365","v":0},{"$f":"-(AL14-AK14)*'Painel de Controle'!$J$8/365","v":0}]
[null,"(=) Fluxo de Caixa Operacional",{"$f":"SUM(D61:AL61)","v":3591564.8633337193},{"$f":"SUM(D58:D60)","v":-42414.941153902102},{"$f":"SUM(E58:E60)","v":-3500.7615509208963},-5594.4671472287591,-3400.1293503617489,-27552.037401628462,88698.338715622522,118751.69544383585,132222.6321221735,-23411.784958914795,148918.87356068773,137695.92911116552,137613.2367964148,138096.36998238278,138309.8239574224,138942.42797422982,139004.59174169874,132033.69488558307,131288.39716332452,129028.552702054,129551.14167525787,130076.61934780191,130961.62442025878,128374.71363110666,126640.76542721676,125235.9589594382,124148.29008425889,123154.44556434444,122021.15120861246,120828.05937735704,121076.67702533805,121426.75503883199,121784.86347315776,120755.40207614377,120490.55313219462,120307.40029876171]
[null,"(-) Fluxo de Caixa de Investimento",-1765855.3056597351,{"$f":"(-CAPEX!F70/1000)*(1+Sensibilidade!$D4)","v":-8434.968766320002},{"$f":"(-CAPEX!G70/1000)*(1+Sensibilidade!$D4)","v":-76586.725526887472},{"$f":"(-CAPEX!H70/1000)*(1+Sensibilidade!$D4)","v":-224746.77473719398},{"$f":"(-CAPEX!I70/1000)*(1+Sensibilidade!$D4)","v":-198530.3344936691},{"$f":"(-CAPEX!J70/1000)*(1+Sensibilidade!$D4)","v":-119437.04160506802},{"$f":"(-CAPEX!K70/1000)*(1+Sensibilidade!$D4)","v":-91628.998653982344},{"$f":"(-CAPEX!L70/1000)*(1+Sensibilidade!$D4)","v":-36778.709545095429},{"$f":"(-CAPEX!M70/1000)*(1+Sensibilidade!$D4)","v":-13814.074912558497},{"$f":"(-CAPEX!N70/1000)*(1+Sensibilidade!$D4)","v":0},{"$f":"(-CAPEX!O70/1000)*(1+Sensibilidade!$D4)","v":0},{"$f":"(-CAPEX!P70/1000)*(1+Sensibilidade!$D4)","v":0},{"$f":"(-CAPEX!Q70/1000)*(1+Sensibilidade!$D4)","v":-14168.667325882103},{"$f":"(-CAPEX!R70/1000)*(1+Sensibilidade!$D4)","v":-14168.667325882103},{"$f":"(-CAPEX!S70/1000)*(1+Sensibilidade!$D4)","v":-14168.667325882103},{"$f":"(-CAPEX!T70/1000)*(1+Sensibilidade!$D4)","v":-51007.202373175569},{"$f":"(-CAPEX!U70/1000)*(1+Sensibilidade!$D4)","v":-51007.202373175569},{"$f":"(-CAPEX!V70/1000)*(1+Sensibilidade!$D4)","v":-65175.869699057672},{"$f":"(-CAPEX!W70/1000)*(1+Sensibilidade!$D4)","v":-14168.667325882103},{"$f":"(-CAPEX!X70/1000)*(1+Sensibilidade!$D4)","v":-14168.667325882103},{"$f":"(-CAPEX!Y70/1000)*(1+Sensibilidade!$D4)","v":-81108.988186286733},{"$f":"(-CAPEX!Z70/1000)*(1+Sensibilidade!$D4)","v":-81108.988186286733},{"$f":"(-CAPEX!AA70/1000)*(1+Sensibilidade!$D4)","v":-95277.655512168843},{"$f":"(-CAPEX!AB70/1000)*(1+Sensibilidade!$D4)","v":-14168.667325882103},{"$f":"(-CAPEX!AC70/1000)*(1+Sensibilidade!$D4)","v":-14168.667325882103},{"$f":"(-CAPEX!AD70/1000)*(1+Sensibilidade!$D4)","v":0},{"$f":"(-CAPEX!AE70/1000)*(1+Sensibilidade!$D4)","v":0},{"$f":"(-CAPEX!AF70/1000)*(1+Sensibilidade!$D4)","v":-14168.667325882103},{"$f":"(-CAPEX!AG70/1000)*(1+Sensibilidade!$D4)","v":-14168.667325882103},{"$f":"(-CAPEX!AH70/1000)*(1+Sensibilidade!$D4)","v":-14168.667325882103},{"$f":"(-CAPEX!AI70/1000)*(1+Sensibilidade!$D4)","v":-129006.36528411419},{"$f":"(-CAPEX!AJ70/1000)*(1+Sensibilidade!$D4)","v":-129006.36528411419},{"$f":"(-CAPEX!AK70/1000)*(1+Sensibilidade!$D4)","v":-143175.0326099963},{"$f":"(-CAPEX!AL70/1000)*(1+Sensibilidade!$D4)","v":-14168.667325882103},{"$f":"(-CAPEX!AM70/1000)*(1+Sensibilidade!$D4)","v":-14168.667325882103},{"$f":"(-CAPEX!AN70/1000)*(1+Sensibilidade!$D4)","v":0}]
[null,"(+/-) Fluxo de Caixa de Financiamento",{"$f":"SUM(D63:AL63)","v":-698711.57583557337},{"$f":"SUM(D64:D66)","v":30584.706936279588},{"$f":"SUM(E64:E66)","v":40597.160531058849},120325.79094825644,94567.563354127225,94821.194432526245,10843.045516693277,{"$f":"SUM(J64:J66)","v":-29658.670900015204},-50299.704125939141,53700.640694262562,-72356.157716585803,-70896.347027732409,-76104.067613686057,-73356.998446262893,-70609.929278839743,-39339.117517327701,-38672.627179721007,-30082.875010422958,-68991.687781093176,-68621.59716317743,-23429.593179592157,-21492.315116866717,-10990.274693127423,-64176.445092005524,-61187.934545375523,-58728.175511191279,-52327.860032878903,-48078.406367187672,-44722.381375503421,-34698.825109012119,-23127.499489842838,-12202.187975390609,-4.467241647684463E-12,-4.467241647684463E-12,-4.467241647684463E-12,-4.467241647684463E-12]
[null,"(+) Liberações",{"$f":"SUM(D64:AL64)","v":941748.83820278884},{"$f":"Financiamento!E20","v":32815.616626964817},{"$f":"Financiamento!F20","v":45952.035316132482},{"$f":"Financiamento!G20","v":134848.06484231638},{"$f":"Financiamento!H20","v":119118.20069620146},{"$f":"Financiamento!I20","v":130838.47732734241},{"$f":"Financiamento!J20","v":58451.278148020909},{"$f":"Financiamento!K20","v":25860.330596017579},{"$f":"Financiamento!L20","v":12430.11042600743},{"$f":"Financiamento!M20","v":126623.18042569478},{"$f":"Financiamento!N20","v":0},{"$f":"Financiamento!O20","v":0},{"$f":"Financiamento!P20","v":0},{"$f":"Financiamento!Q20","v":0},{"$f":"Financiamento!R20","v":0},{"$f":"Financiamento!S20","v":30604.321423905341},{"$f":"Financiamento!T20","v":30604.321423905341},{"$f":"Financiamento!U20","v":39105.521819434602},{"$f":"Financiamento!V20","v":0},{"$f":"Financiamento!W20","v":0},{"$f":"Financiamento!X20","v":48665.39291177204},{"$f":"Financiamento!Y20","v":48665.39291177204},{"$f":"Financiamento!Z20","v":57166.593307301308},{"$f":"Financiamento!AA20","v":0},{"$f":"Financiamento!AB20","v":0},{"$f":"Financiamento!AC20","v":0},{"$f":"Financiamento!AD20","v":0},{"$f":"Financiamento!AE20","v":0},{"$f":"Financiamento!AF20","v":0},{"$f":"Financiamento!AG20","v":0},{"$f":"Financiamento!AH20","v":0},{"$f":"Financiamento!AI20","v":0},{"$f":"Financiamento!AJ20","v":0},{"$f":"Financiamento!AK20","v":0},{"$f":"Financiamento!AL20","v":0},{"$f":"Financiamento!AM20","v":0}]
[null,"(-) Juros Pagos",-698711.57583557349,{"$f":"Financiamento!E22","v":-2230.9096906852274},{"$f":"Financiamento!F22","v":-5354.874785073629},{"$f":"Financiamento!G22","v":-14522.273894059937},{"$f":"Financiamento!H22","v":-22620.306952252773},{"$f":"Financiamento!I22","v":-31383.891604045737},{"$f":"Financiamento!J22","v":-35042.602232185651},{"$f":"Financiamento!K22","v":-35946.418114761305},{"$f":"Financiamento!L22","v":-35460.850151419654},{"$f":"Financiamento!M22","v":-42215.264851609965},{"$f":"Financiamento!N22","v":-40127.686919350745},{"$f":"Financiamento!O22","v":-37936.693264261608},{"$f":"Financiamento!P22","v":-35695.991472233211},{"$f":"Financiamento!Q22","v":-32948.922304810054},{"$f":"Financiamento!R22","v":-30201.853137386901},{"$f":"Financiamento!S22","v":-29535.362799780207},{"$f":"Financiamento!T22","v":-28868.872462173509},{"$f":"Financiamento!U22","v":-28780.320688404721},{"$f":"Financiamento!V22","v":-26033.251520981565},{"$f":"Financiamento!W22","v":-23112.800784407038},{"$f":"Financiamento!X22","v":-23327.396227640922},{"$f":"Financiamento!Y22","v":-23320.44855473694},{"$f":"Financiamento!Z22","v":-24022.669427475881},{"$f":"Financiamento!AA22","v":-21022.286640028218},{"$f":"Financiamento!AB22","v":-18088.530088131713},{"$f":"Financiamento!AC22","v":-15158.495886445569},{"$f":"Financiamento!AD22","v":-12196.49088742855},{"$f":"Financiamento!AE22","v":-9468.2331391501157},{"$f":"Financiamento!AF22","v":-6843.3911137016003},{"$f":"Financiamento!AG22","v":-4268.2572251923393},{"$f":"Financiamento!AH22","v":-2199.4907120778398},{"$f":"Financiamento!AI22","v":-776.73830368039455},{"$f":"Financiamento!AJ22","v":-4.467241647684463E-12},{"$f":"Financiamento!AK22","v":-4.467241647684463E-12},{"$f":"Financiamento!AL22","v":-4.467241647684463E-12},{"$f":"Financiamento!AM22","v":-4.467241647684463E-12}]
[null,"(-) Amortizações",-941748.83820278908,{"$f":"Financiamento!E23","v":0},{"$f":"Financiamento!F23","v":0},{"$f":"Financiamento!G23","v":0},{"$f":"Financiamento!H23","v":-1930.3303898214599},{"$f":"Financiamento!I23","v":-4633.3912907704289},{"$f":"Financiamento!J23","v":-12565.630399141981},{"$f":"Financiamento!K23","v":-19572.583381271477},{"$f":"Financiamento!L23","v":-27268.964400526915},{"$f":"Financiamento!M23","v":-30707.274879822264},{"$f":"Financiamento!N23","v":-32228.470797235062},{"$f":"Financiamento!O23","v":-32959.653763470793},{"$f":"Financiamento!P23","v":-40408.076141452839},{"$f":"Financiamento!Q23","v":-40408.076141452839},{"$f":"Financiamento!R23","v":-40408.076141452839},{"$f":"Financiamento!S23","v":-40408.076141452839},{"$f":"Financiamento!T23","v":-40408.076141452839},{"$f":"Financiamento!U23","v":-40408.076141452839},{"$f":"Financiamento!V23","v":-42958.436260111615},{"$f":"Financiamento!W23","v":-45508.796378770392},{"$f":"Financiamento!X23","v":-48767.589863723275},{"$f":"Financiamento!Y23","v":-46837.259473901817},{"$f":"Financiamento!Z23","v":-44134.198572952846},{"$f":"Financiamento!AA23","v":-43154.158451977302},{"$f":"Financiamento!AB23","v":-43099.404457243807},{"$f":"Financiamento!AC23","v":-43569.67962474571},{"$f":"Financiamento!AD23","v":-40131.369145450357},{"$f":"Financiamento!AE23","v":-38610.173228037558},{"$f":"Financiamento!AF23","v":-37878.990261801824},{"$f":"Financiamento!AG23","v":-30430.567883819778},{"$f":"Financiamento!AH23","v":-20928.008777764997},{"$f":"Financiamento!AI23","v":-11425.449671710214},{"$f":"Financiamento!AJ23","v":0},{"$f":"Financiamento!AK23","v":0},{"$f":"Financiamento!AL23","v":0},{"$f":"Financiamento!AM23","v":0}]
[null,"(=) Fluxo de Caixa do Acionista",{"$f":"SUM(D67:AL67)","v":1126997.9818384103},{"$f":"D61+D62+D63","v":-20265.202983942516},{"$f":"E61+E62+E63","v":-39490.326546749522},-110015.45093616628,-107362.90048990364,-52167.884574170224,7912.3855783334548,52314.314998725211,68108.853083675858,30288.855735347766,76562.715844101927,66799.58208343311,47340.501856846648,50570.704210237789,53531.22735270056,48596.108083726562,49324.762188802168,36774.950176102444,48128.042056349252,46238.288212994477,25012.560309378976,27475.316044648462,24693.694214962517,50029.601213219037,51284.163555959123,66507.783448246919,71820.430051379983,60907.37187127467,63130.10250722694,71960.566942462829,-31057.187748618973,-19781.798220672805,-21390.16913683854,106586.73475026168,106321.88580631252,120307.40029876171,{"$f":"('FC Projeto'!AM56+'FC Projeto'!AM57)/WACC!D22","v":876167.78990314074}]
[null,"Fluxo de Caixa do Projeto Acumulado",null,{"$f":"D67","v":-20265.202983942516},{"$f":"D68+E67","v":-59755.529530692038},{"$f":"E68+F67","v":-169770.98046685831},-277133.88095676195,-329301.76553093217,-321389.37995259871,-269075.06495387352,-200966.21187019767,-170677.35613484989,-94114.640290747964,-27315.058207314854,20025.443649531793,70596.147859769582,124127.37521247014,172723.4832961967,222048.24548499886,258823.19566110132,306951.2377174506,353189.52593044506,378202.08623982401,405677.40228447248,430371.09649943502,480400.69771265407,531684.86126861325,598192.64471686014,670013.0747682401,730920.44663951476,794050.54914674175,866011.11608920456,834953.92834058555,815172.13011991279,793781.96098307427,900368.69573333592,1006690.5815396485,1126997.9818384103]
[null,null,null,null,{"$f":"IF(AND(E68>0,D68<0),E57,\"\")","v":""},{"$f":"IF(AND(F68>0,E68<0),F57,\"\")","v":""},"","","","","","","","",12,"","","","","","","","","","","","","","","","","","","","","","",""]
[null,"VPL 35 anos",{"$f":"D67+NPV(WACC!D18,'FC Acionista'!E67:AL67)","v":-29354.930344602712}]
[null,"VPL Perpetuidade",{"$f":"AM67/((1+WACC!$D$18)^35)","v":13032.458544017469}]
[null,"VPL Total",{"$f":"C70+C71","v":-16322.471800585243}]
[null,"TIR",{"$f":"IRR(D67:AM67)","v":0.12111706903160524}]
[null,"Payback",{"$f":"SUM(D69:AL69)","v":12}]
[]
[]
[]
[null,"Receita Financeira VPL",{"$f":"SUM(D78:AL78)","v":547140.64849671675},{"$f":"D64/((1+WACC!$D$22)^(D12-1))","v":32815.616626964817},{"$f":"E64/((1+WACC!$D$22)^(E12-1))","v":42084.733738696435},{"$f":"F64/((1+WACC!$D$22)^(F12-1))","v":113105.67140157906},{"$f":"G64/((1+WACC!$D$22)^(G12-1))","v":91503.481895824429},{"$f":"H64/((1+WACC!$D$22)^(H12-1))","v":92048.095776519855},{"$f":"I64/((1+WACC!$D$22)^(I12-1))","v":37661.114806771126},{"$f":"J64/((1+WACC!$D$22)^(J12-1))","v":15259.948345212169},{"$f":"K64/((1+WACC!$D$22)^(K12-1))","v":6717.5948871672135},{"$f":"L64/((1+WACC!$D$22)^(L12-1))","v":62671.757280712794},{"$f":"M64/((1+WACC!$D$22)^(M12-1))","v":0},{"$f":"N64/((1+WACC!$D$22)^(N12-1))","v":0},{"$f":"O64/((1+WACC!$D$22)^(O12-1))","v":0},{"$f":"P64/((1+WACC!$D$22)^(P12-1))","v":0},{"$f":"Q64/((1+WACC!$D$22)^(Q12-1))","v":0},{"$f":"R64/((1+WACC!$D$22)^(R12-1))","v":8938.4126448696479},{"$f":"S64/((1+WACC!$D$22)^(S12-1))","v":8186.1600605506474},{"$f":"T64/((1+WACC!$D$22)^(T12-1))","v":9579.776892206748},{"$f":"U64/((1+WACC!$D$22)^(U12-1))","v":0},{"$f":"V64/((1+WACC!$D$22)^(V12-1))","v":0},{"$f":"W64/((1+WACC!$D$22)^(W12-1))","v":9157.924080140454},{"$f":"X64/((1+WACC!$D$22)^(X12-1))","v":8387.1975171598369},{"$f":"Y64/((1+WACC!$D$22)^(Y12-1))","v":9023.1625423414571},{"$f":"Z64/((1+WACC!$D$22)^(Z12-1))","v":0},{"$f":"AA64/((1+WACC!$D$22)^(AA12-1))","v":0},{"$f":"AB64/((1+WACC!$D$22)^(AB12-1))","v":0},{"$f":"AC64/((1+WACC!$D$22)^(AC12-1))","v":0},{"$f":"AD64/((1+WACC!$D$22)^(AD12-1))","v":0},{"$f":"AE64/((1+WACC!$D$22)^(AE12-1))","v":0},{"$f":"AF64/((1+WACC!$D$22)^(AF12-1))","v":0},{"$f":"AG64/((1+WACC!$D$22)^(AG12-1))","v":0},{"$f":"AH64/((1+WACC!$D$22)^(AH12-1))","v":0},{"$f":"AI64/((1+WACC!$D$22)^(AI12-1))","v":0},{"$f":"AJ64/((1+WACC!$D$22)^(AJ12-1))","v":0},{"$f":"AK64/((1+WACC!$D$22)^(AK12-1))","v":0},{"$f":"AL64/((1+WACC!$D$22)^(AL12-1))","v":0}]
[null,"Despesa Financeira VPL",{"$f":"SUM(D79:AL79)","v":-503077.04565022746},{"$f":"(D65+D66)/((1+WACC!$D$22)^(D12-1))","v":-2230.9096906852274},{"$f":"(E65+E66)/((1+WACC!$D$22)^(E12-1))","v":-4904.2110536236878},{"$f":"(F65+F66)/((1+WACC!$D$22)^(F12-1))","v":-12180.757217287317},{"$f":"(G65+G66)/((1+WACC!$D$22)^(G12-1))","v":-18859.156589267368},{"$f":"(H65+H66)/((1+WACC!$D$22)^(H12-1))","v":-25339.046840307561},{"$f":"(I65+I66)/((1+WACC!$D$22)^(I12-1))","v":-30674.763182002469},{"$f":"(J65+J66)/((1+WACC!$D$22)^(J12-1))","v":-32761.263119261381},{"$f":"(K65+K66)/((1+WACC!$D$22)^(K12-1))","v":-33901.024774922771},{"$f":"(L65+L66)/((1+WACC!$D$22)^(L12-1))","v":-36092.788816209992},{"$f":"(M65+M66)/((1+WACC!$D$22)^(M12-1))","v":-32798.500073501244},{"$f":"(N65+N66)/((1+WACC!$D$22)^(N12-1))","v":-29432.162781808893},{"$f":"(O65+O66)/((1+WACC!$D$22)^(O12-1))","v":-28935.168763103909},{"$f":"(P65+P66)/((1+WACC!$D$22)^(P12-1))","v":-25543.448852748672},{"$f":"(Q65+Q66)/((1+WACC!$D$22)^(Q12-1))","v":-22517.677264800932},{"$f":"(R65+R66)/((1+WACC!$D$22)^(R12-1))","v":-20427.942524798105},{"$f":"(S65+S66)/((1+WACC!$D$22)^(S12-1))","v":-18530.461169867627},{"$f":"(T65+T66)/((1+WACC!$D$22)^(T12-1))","v":-16949.253566285315},{"$f":"(U65+U66)/((1+WACC!$D$22)^(U12-1))","v":-15478.679595842983},{"$f":"(V65+V66)/((1+WACC!$D$22)^(V12-1))","v":-14099.957218866202},{"$f":"(W65+W66)/((1+WACC!$D$22)^(W12-1))","v":-13566.938838457108},{"$f":"(X65+X66)/((1+WACC!$D$22)^(X12-1))","v":-12091.273066554959},{"$f":"(Y65+Y66)/((1+WACC!$D$22)^(Y12-1))","v":-10757.865088074666},{"$f":"(Z65+Z66)/((1+WACC!$D$22)^(Z12-1))","v":-9277.0939963106739},{"$f":"(AA65+AA66)/((1+WACC!$D$22)^(AA12-1))","v":-8100.6883728388202},{"$f":"(AB65+AB66)/((1+WACC!$D$22)^(AB12-1))","v":-7120.6964561055111},{"$f":"(AC65+AC66)/((1+WACC!$D$22)^(AC12-1))","v":-5810.7042325282127},{"$f":"(AD65+AD66)/((1+WACC!$D$22)^(AD12-1))","v":-4889.5139716402291},{"$f":"(AE65+AE66)/((1+WACC!$D$22)^(AE12-1))","v":-4165.4351758333878},{"$f":"(AF65+AF66)/((1+WACC!$D$22)^(AF12-1))","v":-2959.8524458085499},{"$f":"(AG65+AG66)/((1+WACC!$D$22)^(AG12-1))","v":-1806.7738785308532},{"$f":"(AH65+AH66)/((1+WACC!$D$22)^(AH12-1))","v":-873.03703235286855},{"$f":"(AI65+AI66)/((1+WACC!$D$22)^(AI12-1))","v":-2.9272123732822906E-13},{"$f":"(AJ65+AJ66)/((1+WACC!$D$22)^(AJ12-1))","v":-2.6808595632096841E-13},{"$f":"(AK65+AK66)/((1+WACC!$D$22)^(AK12-1))","v":-2.4552396892180418E-13},{"$f":"(AL65+AL66)/((1+WACC!$D$22)^(AL12-1))","v":-2.2486078772041994E-13}]
[null,"Tributação VPL",{"$f":"SUM(D80:AL80)","v":-376714.57922138833},{"$f":"(D16+D59)/((1+WACC!$D$22)^(D12-1))","v":-2498.1329121605927},{"$f":"(E16+E59)/((1+WACC!$D$22)^(E12-1))","v":-2287.8912267732244},{"$f":"(F16+F59)/((1+WACC!$D$22)^(F12-1))","v":-2095.3433822777297},{"$f":"(G16+G59)/((1+WACC!$D$22)^(G12-1))","v":-10381.705238428258},{"$f":"(H16+H59)/((1+WACC!$D$22)^(H12-1))","v":-13971.018224369382},{"$f":"(I16+I59)/((1+WACC!$D$22)^(I12-1))","v":-20009.86936027609},{"$f":"(J16+J59)/((1+WACC!$D$22)^(J12-1))","v":-20974.339494537362},{"$f":"(K16+K59)/((1+WACC!$D$22)^(K12-1))","v":-20717.398784691362},{"$f":"(L16+L59)/((1+WACC!$D$22)^(L12-1))","v":-14985.435745545028},{"$f":"(M16+M59)/((1+WACC!$D$22)^(M12-1))","v":-17718.978168132508},{"$f":"(N16+N59)/((1+WACC!$D$22)^(N12-1))","v":-21171.344399563346},{"$f":"(O16+O59)/((1+WACC!$D$22)^(O12-1))","v":-19417.543376842616},{"$f":"(P16+P59)/((1+WACC!$D$22)^(P12-1))","v":-17891.812309326098},{"$f":"(Q16+Q59)/((1+WACC!$D$22)^(Q12-1))","v":-16398.674687033203},{"$f":"(R16+R59)/((1+WACC!$D$22)^(R12-1))","v":-14826.877340449697},{"$f":"(S16+S59)/((1+WACC!$D$22)^(S12-1))","v":-13562.426549481863},{"$f":"(T16+T59)/((1+WACC!$D$22)^(T12-1))","v":-14064.469318387542},{"$f":"(U16+U59)/((1+WACC!$D$22)^(U12-1))","v":-13112.16934074864},{"$f":"(V16+V59)/((1+WACC!$D$22)^(V12-1))","v":-12472.994750236248},{"$f":"(W16+W59)/((1+WACC!$D$22)^(W12-1))","v":-11316.815909005429},{"$f":"(X16+X59)/((1+WACC!$D$22)^(X12-1))","v":-10230.222458898792},{"$f":"(Y16+Y59)/((1+WACC!$D$22)^(Y12-1))","v":-9268.0640480080729},{"$f":"(Z16+Z59)/((1+WACC!$D$22)^(Z12-1))","v":-8869.5758379469171},{"$f":"(AA16+AA59)/((1+WACC!$D$22)^(AA12-1))","v":-8352.6744315871438},{"$f":"(AB16+AB59)/((1+WACC!$D$22)^(AB12-1))","v":-7790.4721373855173},{"$f":"(AC16+AC59)/((1+WACC!$D$22)^(AC12-1))","v":-7283.7092595805179},{"$f":"(AD16+AD59)/((1+WACC!$D$22)^(AD12-1))","v":-6770.860112423652},{"$f":"(AE16+AE59)/((1+WACC!$D$22)^(AE12-1))","v":-6306.5825730783081},{"$f":"(AF16+AF59)/((1+WACC!$D$22)^(AF12-1))","v":-5856.0098656868204},{"$f":"(AG16+AG59)/((1+WACC!$D$22)^(AG12-1))","v":-5357.7374096679232},{"$f":"(AH16+AH59)/((1+WACC!$D$22)^(AH12-1))","v":-4881.7855260636443},{"$f":"(AI16+AI59)/((1+WACC!$D$22)^(AI12-1))","v":-4446.8731273335143},{"$f":"(AJ16+AJ59)/((1+WACC!$D$22)^(AJ12-1))","v":-4124.2076470884494},{"$f":"(AK16+AK59)/((1+WACC!$D$22)^(AK12-1))","v":-3805.5807848415811},{"$f":"(AL16+AL59)/((1+WACC!$D$22)^(AL12-1))","v":-3494.9834835313463}]
[null,"Fluxo de Caixa VPL",{"$f":"SUM(D81:AL81)","v":66359.739417881239},{"$f":"D67/((1+WACC!$D$22)^(D12-1))","v":-20265.202983942516},{"$f":"E67/((1+WACC!$D$22)^(E12-1))","v":-36166.839325845234},{"$f":"F67/((1+WACC!$D$22)^(F12-1))","v":-92276.974513747264},{"$f":"G67/((1+WACC!$D$22)^(G12-1))","v":-82473.368165763241},{"$f":"H67/((1+WACC!$D$22)^(H12-1))","v":-36701.393457275808},{"$f":"I67/((1+WACC!$D$22)^(I12-1))","v":5098.0794792277093},{"$f":"J67/((1+WACC!$D$22)^(J12-1))","v":30870.206458947712},{"$f":"K67/((1+WACC!$D$22)^(K12-1))","v":36808.014375193481},{"$f":"L67/((1+WACC!$D$22)^(L12-1))","v":14991.376844069862},{"$f":"M67/((1+WACC!$D$22)^(M12-1))","v":34705.301117234652},{"$f":"N67/((1+WACC!$D$22)^(N12-1))","v":27731.417147167671},{"$f":"O67/((1+WACC!$D$22)^(O12-1))","v":17999.109029378014},{"$f":"P67/((1+WACC!$D$22)^(P12-1))","v":17609.092844603678},{"$f":"Q67/((1+WACC!$D$22)^(Q12-1))","v":17071.237904185622},{"$f":"R67/((1+WACC!$D$22)^(R12-1))","v":14193.161186960389},{"$f":"S67/((1+WACC!$D$22)^(S12-1))","v":13193.574614293984},{"$f":"T67/((1+WACC!$D$22)^(T12-1))","v":9008.8509631905035},{"$f":"U67/((1+WACC!$D$22)^(U12-1))","v":10797.801394991213},{"$f":"V67/((1+WACC!$D$22)^(V12-1))","v":9500.7681637971291},{"$f":"W67/((1+WACC!$D$22)^(W12-1))","v":4706.899804107351},{"$f":"X67/((1+WACC!$D$22)^(X12-1))","v":4735.2109728289961},{"$f":"Y67/((1+WACC!$D$22)^(Y12-1))","v":3897.647275826489},{"$f":"Z67/((1+WACC!$D$22)^(Z12-1))","v":7232.0819949995685},{"$f":"AA67/((1+WACC!$D$22)^(AA12-1))","v":6789.5252636848554},{"$f":"AB67/((1+WACC!$D$22)^(AB12-1))","v":8063.9613572384615},{"$f":"AC67/((1+WACC!$D$22)^(AC12-1))","v":7975.2406580229526},{"$f":"AD67/((1+WACC!$D$22)^(AD12-1))","v":6194.2037651175315},{"$f":"AE67/((1+WACC!$D$22)^(AE12-1))","v":5879.92726571597},{"$f":"AF67/((1+WACC!$D$22)^(AF12-1))","v":6138.3248394510956},{"$f":"AG67/((1+WACC!$D$22)^(AG12-1))","v":-2426.2595093549612},{"$f":"AH67/((1+WACC!$D$22)^(AH12-1))","v":-1415.3398102053577},{"$f":"AI67/((1+WACC!$D$22)^(AI12-1))","v":-1401.6158672860172},{"$f":"AJ67/((1+WACC!$D$22)^(AJ12-1))","v":6396.4318409917378},{"$f":"AK67/((1+WACC!$D$22)^(AK12-1))","v":5843.5548029839965},{"$f":"AL67/((1+WACC!$D$22)^(AL12-1))","v":6055.7316870910072}]
[null,"Fluxo de Caixa Acumulado VPL",null,{"$f":"D81","v":-20265.202983942516},{"$f":"D82+E81","v":-56432.04230978775},{"$f":"E82+F81","v":-148709.01682353503},-231182.38498929827,-267883.77844657406,-262785.69896734634,-231915.49250839863,-195107.47813320515,-180116.10128913529,-145410.80017190063,-117679.38302473296,-99680.273995354946,-82071.181150751276,-64999.943246565657,-50806.78205960527,-37613.207445311287,-28604.356482120784,-17806.555087129571,-8305.7869233324418,-3598.8871192250908,1136.3238536039053,5033.9711294303943,12266.053124429964,19055.57838811482,27119.539745353282,35094.780403376237,41288.984168493771,47168.911434209738,53307.236273660834,50880.976764305873,49465.636954100519,48064.0210868145,54460.45292780624,60304.007730790239,66359.739417881239]
[null,"Payback VPL",null,null,{"$f":"IF(AND(E82>0,D82<0),E57,\"\")","v":""},{"$f":"IF(AND(F82>0,E82<0),F57,\"\")","v":""},"","","","","","","","","","","","","","","","","",21,"","","","","","","","","","","","","",""]
[]
[null,"EBITDA - IR/CS (exclui pagto outorga)",null,{"$f":"SUM(D58:D59)-D32","v":-2765.4620579409311},{"$f":"SUM(E58:E59)-E32","v":-3500.7615509208963},-5594.4671472287591,53621.686426690336,97528.064365775368,124447.19515932312,140904.43196139403,149168.79781102523,157478.47279207775,148918.87356068773,137695.92911116552,137613.2367964148,138096.36998238278,138309.8239574224,138942.42797422982,139004.59174169874,132033.69488558307,131288.39716332452,129028.552702054,129551.14167525787,130076.61934780191,130961.62442025878,128374.71363110666,126640.76542721676,125235.9589594382,124148.29008425889,123154.44556434444,122021.15120861246,120828.05937735704,121076.67702533805,121426.75503883199,121784.86347315776,120755.40207614377,120490.55313219462,120307.40029876171]
[null,"Serviço da Dívida",null,{"$f":"SUM(D65:D66)","v":-2230.9096906852274},{"$f":"SUM(E65:E66)","v":-5354.874785073629},-14522.273894059937,-24550.637342074231,-36017.282894816162,-47608.232631327628,-55519.001496032783,-62729.814551946569,-72922.539731432233,-72356.157716585803,-70896.347027732409,-76104.067613686057,-73356.998446262893,-70609.929278839743,-69943.438941233049,-69276.948603626341,-69188.396829857564,-68991.687781093176,-68621.59716317743,-72094.986091364204,-70157.708028638765,-68156.868000428731,-64176.445092005524,-61187.934545375523,-58728.175511191279,-52327.860032878903,-48078.406367187672,-44722.381375503421,-34698.825109012119,-23127.499489842838,-12202.187975390609,-4.467241647684463E-12,-4.467241647684463E-12,-4.467241647684463E-12,-4.467241647684463E-12]
[null,"ICSD",null,null,null,null,null,{"$f":"H85/-H86","v":2.7078129311029242},{"$f":"I85/-I86","v":2.6139847728233705},2.5379496778497113,2.3779569392397697,2.1595308305505831,2.0581368367291271,1.9422147245090531,1.8082244630465367,1.8825248157276258,1.9587871758267126,1.9864969477833394,2.0065056926370235,1.9083213506199532,1.902959637397122,1.8802907253125134,1.7969507825562361,1.8540602736723371,1.9214736278585305,2.0003400538478613,2.0697015901607689,2.1324680678284165,2.3725084497293301,2.5615334381880492,2.7284135472143989,3.4821945411049406,5.2351823455238922,9.9512280325238116]

{"sheet":"Sensibilidade","index":8,"n_rows":25,"n_cols":12,"rows_kept":25,"cut":false,"hidden":false,"merged":[[21,7,24,7],[6,2,6,5],[8,1,11,1],[14,1,17,1],[21,1,24,1],[20,8,20,11],[1,2,1,3],[7,2,7,5],[13,2,13,5],[20,2,20,5],[6,8,6,11],[7,8,7,11],[8,7,11,7],[13,8,13,11],[14,7,17,7]]}
[]
[null,null,"Variação"]
[null,null,"Receita",0]
[null,null,"Capex",0]
[null,null,"Opex",0]
[]
[null,null,"TIR do Projeto",null,null,null,null,null,"TIR do Acionista"]
[null,null,"Capex",null,null,null,null,null,"Capex"]
[null,"O\np\ne\nx",{"$f":"'Painel de Controle'!Q6","v":9.1797457159313867E-2},{"$f":"-'Painel de Controle'!Q21","v":-0.1},0,{"$f":"'Painel de Controle'!Q21","v":0.1},null,"O\np\ne\nx",{"$f":"'Painel de Controle'!Q12","v":0.12111706903160524},{"$f":"D9","v":-0.1},{"$f":"E9","v":0},{"$f":"F9","v":0.1}]
[null,null,{"$f":"-'Painel de Controle'!Q22","v":-0.05},0.11721966537461515,0.10507108960131406,9.4203999843444741E-2,null,null,{"$f":"C10","v":-0.05},0.18318457550733269,0.14880755580926275,0.12318908415698515]
[null,null,0,0.103165571108498,9.1797457159313867E-2,8.1525932524480149E-2,null,null,{"$f":"C11","v":0},0.14959153604259279,0.12111706903160524,9.9428933033065103E-2]
[null,null,{"$f":"'Painel de Controle'!Q22","v":0.05},8.9227075590615712E-2,7.8521771472659374E-2,6.8731264928207914E-2,null,null,{"$f":"C12","v":0.05},0.11783727511677733,9.4590128221465619E-2,7.627225118687142E-2]
[]
[null,null,"Receita Agrícola",null,null,null,null,null,"Receita Agrícola"]
[null,"C\na\np\ne\nx",{"$f":"'Painel de Controle'!Q6","v":9.1797457159313867E-2},{"$f":"-'Painel de Controle'!Q20","v":-0.1},0,{"$f":"'Painel de Controle'!Q20","v":0.1},null,"C\na\np\ne\nx",{"$f":"'Painel de Controle'!Q12","v":0.12111706903160524},{"$f":"D15","v":-0.1},{"$f":"E15","v":0},{"$f":"F15","v":0.1}]
[null,null,{"$f":"-'Painel de Controle'!Q21","v":-0.1},6.5928620338643329E-2,0.103165571108498,0.13785762708632832,null,null,{"$f":"C16","v":-0.1},7.0811812463963841E-2,0.14959153604259279,0.22668488702116574]
[null,null,0,5.5583841611216434E-2,9.1797457159313867E-2,0.12484941718256848,null,null,{"$f":"C17","v":0},5.2624318129295133E-2,0.12111706903160524,0.18700749262760041]
[null,null,{"$f":"'Painel de Controle'!Q21","v":0.1},4.5884650851250042E-2,8.1525932524480149E-2,0.11330970592429934,null,null,{"$f":"C18","v":0.1},3.7307917768678145E-2,9.9428933033065103E-2,0.15737446127099619]
[]
[]
[null,null,"Receita Agrícola",null,null,null,null,null,"Receita Agrícola"]
[null,"O\np\ne\nx",{"$f":"'Painel de Controle'!Q6","v":9.1797457159313867E-2},{"$f":"D15","v":-0.1},{"$f":"E15","v":0},0.1,null,"O\np\ne\nx",{"$f":"'Painel de Controle'!Q12","v":0.12111706903160524},{"$f":"J15","v":-0.1},{"$f":"K15","v":0},0.1]
[null,null,{"$f":"C10","v":-0.05},7.0024283516610053E-2,0.10507108960131406,0.13795647953689816,null,null,{"$f":"I10","v":-0.05},7.9379280752916115E-2,0.14880755580926275,0.21529954308207899]
[null,null,{"$f":"C11","v":0},5.5583841611216434E-2,9.1797457159313867E-2,0.12484941718256848,null,null,{"$f":"I11","v":0},5.2624318129295133E-2,0.12111706903160524,0.18700749262760041]
[null,null,{"$f":"C12","v":0.05},4.020321205398325E-2,7.8521771472659374E-2,0.1118155932876792,null,null,{"$f":"I12","v":0.05},2.6184300221317569E-2,9.4590128221465619E-2,0.15973241810571448]

{"sheet":"Premissas >>>>","index":9,"n_rows":0,"n_cols":0,"rows_kept":0,"cut":false,"hidden":false,"merged":[]}

{"sheet":"Tributação","index":10,"n_rows":34,"n_cols":38,"rows_kept":34,"cut":false,"hidden":false,"merged":[]}
[]
[null,"TRIBUTAÇÃO"]
[]
[null,null,null,1,{"$f":"D4+1","v":2},{"$f":"E4+1","v":3},4,5,6,7,8,9,10,11,12,13,14,15,16,17,18,19,20,21,22,23,24,25,26,27,28,29,30,31,32,33,34,35]
[null,"PIS-COFINS"]
[null,"Receita Tributada",null,{"$f":"'FC Projeto'!D14","v":0},{"$f":"'FC Projeto'!E14","v":0},{"$f":"'FC Projeto'!F14","v":0},{"$f":"'FC Projeto'!G14","v":173441.35632186674},{"$f":"'FC Projeto'!H14","v":296758.42642426665},{"$f":"'FC Projeto'!I14","v":390399.70026426669},{"$f":"'FC Projeto'!J14","v":441298.99672933336},{"$f":"'FC Projeto'!K14","v":474847.0614181335},{"$f":"'FC Projeto'!L14","v":474847.0614181335},{"$f":"'FC Projeto'!M14","v":474847.0614181335},{"$f":"'FC Projeto'!N14","v":474847.0614181335},{"$f":"'FC Projeto'!O14","v":474847.0614181335},{"$f":"'FC Projeto'!P14","v":474847.0614181335},{"$f":"'FC Projeto'!Q14","v":474847.0614181335},{"$f":"'FC Projeto'!R14","v":474847.0614181335},{"$f":"'FC Projeto'!S14","v":474847.0614181335},{"$f":"'FC Projeto'!T14","v":474847.0614181335},{"$f":"'FC Projeto'!U14","v":474847.0614181335},{"$f":"'FC Projeto'!V14","v":474847.0614181335},{"$f":"'FC Projeto'!W14","v":474847.0614181335},{"$f":"'FC Projeto'!X14","v":474847.0614181335},{"$f":"'FC Projeto'!Y14","v":474847.0614181335},{"$f":"'FC Projeto'!Z14","v":474847.0614181335},{"$f":"'FC Projeto'!AA14","v":474847.0614181335},{"$f":"'FC Projeto'!AB14","v":474847.0614181335},{"$f":"'FC Projeto'!AC14","v":474847.0614181335},{"$f":"'FC Projeto'!AD14","v":474847.0614181335},{"$f":"'FC Projeto'!AE14","v":474847.0614181335},{"$f":"'FC Projeto'!AF14","v":474847.0614181335},{"$f":"'FC Projeto'!AG14","v":474847.0614181335},{"$f":"'FC Projeto'!AH14","v":474847.0614181335},{"$f":"'FC Projeto'!AI14","v":474847.0614181335},{"$f":"'FC Projeto'!AJ14","v":474847.0614181335},{"$f":"'FC Projeto'!AK14","v":474847.0614181335},{"$f":"'FC Projeto'!AL14","v":474847.0614181335}]
[null,"PIS",null,{"$f":"'Painel de Controle'!$G$6*Tributação!D$6","v":0},{"$f":"'Painel de Controle'!$G$6*Tributação!E$6","v":0},{"$f":"'Painel de Controle'!$G$6*Tributação!F$6","v":0},{"$f":"'Painel de Controle'!$G$6*Tributação!G$6","v":2861.7823793108014},{"$f":"'Painel de Controle'!$G$6*Tributação!H$6","v":4896.5140360003998},{"$f":"'Painel de Controle'!$G$6*Tributação!I$6","v":6441.5950543604004},{"$f":"'Painel de Controle'!$G$6*Tributação!J$6","v":7281.4334460340006},{"$f":"'Painel de Controle'!$G$6*Tributação!K$6","v":7834.9765133992032},{"$f":"'Painel de Controle'!$G$6*Tributação!L$6","v":7834.9765133992032},{"$f":"'Painel de Controle'!$G$6*Tributação!M$6","v":7834.9765133992032},{"$f":"'Painel de Controle'!$G$6*Tributação!N$6","v":7834.9765133992032},{"$f":"'Painel de Controle'!$G$6*Tributação!O$6","v":7834.9765133992032},{"$f":"'Painel de Controle'!$G$6*Tributação!P$6","v":7834.9765133992032},{"$f":"'Painel de Controle'!$G$6*Tributação!Q$6","v":7834.9765133992032},{"$f":"'Painel de Controle'!$G$6*Tributação!R$6","v":7834.9765133992032},{"$f":"'Painel de Controle'!$G$6*Tributação!S$6","v":7834.9765133992032},{"$f":"'Painel de Controle'!$G$6*Tributação!T$6","v":7834.9765133992032},{"$f":"'Painel de Controle'!$G$6*Tributação!U$6","v":7834.9765133992032},{"$f":"'Painel de Controle'!$G$6*Tributação!V$6","v":7834.9765133992032},{"$f":"'Painel de Controle'!$G$6*Tributação!W$6","v":7834.9765133992032},{"$f":"'Painel de Controle'!$G$6*Tributação!X$6","v":7834.9765133992032},{"$f":"'Painel de Controle'!$G$6*Tributação!Y$6","v":7834.9765133992032},{"$f":"'Painel de Controle'!$G$6*Tributação!Z$6","v":7834.9765133992032},{"$f":"'Painel de Controle'!$G$6*Tributação!AA$6","v":7834.9765133992032},{"$f":"'Painel de Controle'!$G$6*Tributação!AB$6","v":7834.9765133992032},{"$f":"'Painel de Controle'!$G$6*Tributação!AC$6","v":7834.9765133992032},{"$f":"'Painel de Controle'!$G$6*Tributação!AD$6","v":7834.9765133992032},{"$f":"'Painel de Controle'!$G$6*Tributação!AE$6","v":7834.9765133992032},{"$f":"'Painel de Controle'!$G$6*Tributação!AF$6","v":7834.9765133992032},{"$f":"'Painel de Controle'!$G$6*Tributação!AG$6","v":7834.9765133992032},{"$f":"'Painel de Controle'!$G$6*Tributação!AH$6","v":7834.9765133992032},{"$f":"'Painel de Controle'!$G$6*Tributação!AI$6","v":7834.9765133992032},{"$f":"'Painel de Controle'!$G$6*Tributação!AJ$6","v":7834.9765133992032},{"$f":"'Painel de Controle'!$G$6*Tributação!AK$6","v":7834.9765133992032},{"$f":"'Painel de Controle'!$G$6*Tributação!AL$6","v":7834.9765133992032}]
[null,"COFINS",null,{"$f":"'Painel de Controle'!$G$7*Tributação!D$6","v":0},{"$f":"'Painel de Controle'!$G$7*Tributação!E$6","v":0},{"$f":"'Painel de Controle'!$G$7*Tributação!F$6","v":0},{"$f":"'Painel de Controle'!$G$7*Tributação!G$6","v":13181.543080461872},{"$f":"'Painel de Controle'!$G$7*Tributação!H$6","v":22553.640408244264},{"$f":"'Painel de Controle'!$G$7*Tributação!I$6","v":29670.377220084269},{"$f":"'Painel de Controle'!$G$7*Tributação!J$6","v":33538.723751429337},{"$f":"'Painel de Controle'!$G$7*Tributação!K$6","v":36088.376667778146},{"$f":"'Painel de Controle'!$G$7*Tributação!L$6","v":36088.376667778146},{"$f":"'Painel de Controle'!$G$7*Tributação!M$6","v":36088.376667778146},{"$f":"'Painel de Controle'!$G$7*Tributação!N$6","v":36088.376667778146},{"$f":"'Painel de Controle'!$G$7*Tributação!O$6","v":36088.376667778146},{"$f":"'Painel de Controle'!$G$7*Tributação!P$6","v":36088.376667778146},{"$f":"'Painel de Controle'!$G$7*Tributação!Q$6","v":36088.376667778146},{"$f":"'Painel de Controle'!$G$7*Tributação!R$6","v":36088.376667778146},{"$f":"'Painel de Controle'!$G$7*Tributação!S$6","v":36088.376667778146},{"$f":"'Painel de Controle'!$G$7*Tributação!T$6","v":36088.376667778146},{"$f":"'Painel de Controle'!$G$7*Tributação!U$6","v":36088.376667778146},{"$f":"'Painel de Controle'!$G$7*Tributação!V$6","v":36088.376667778146},{"$f":"'Painel de Controle'!$G$7*Tributação!W$6","v":36088.376667778146},{"$f":"'Painel de Controle'!$G$7*Tributação!X$6","v":36088.376667778146},{"$f":"'Painel de Controle'!$G$7*Tributação!Y$6","v":36088.376667778146},{"$f":"'Painel de Controle'!$G$7*Tributação!Z$6","v":36088.376667778146},{"$f":"'Painel de Controle'!$G$7*Tributação!AA$6","v":36088.376667778146},{"$f":"'Painel de Controle'!$G$7*Tributação!AB$6","v":36088.376667778146},{"$f":"'Painel de Controle'!$G$7*Tributação!AC$6","v":36088.376667778146},{"$f":"'Painel de Controle'!$G$7*Tributação!AD$6","v":36088.376667778146},{"$f":"'Painel de Controle'!$G$7*Tributação!AE$6","v":36088.376667778146},{"$f":"'Painel de Controle'!$G$7*Tributação!AF$6","v":36088.376667778146},{"$f":"'Painel de Controle'!$G$7*Tributação!AG$6","v":36088.376667778146},{"$f":"'Painel de Controle'!$G$7*Tributação!AH$6","v":36088.376667778146},{"$f":"'Painel de Controle'!$G$7*Tributação!AI$6","v":36088.376667778146},{"$f":"'Painel de Controle'!$G$7*Tributação!AJ$6","v":36088.376667778146},{"$f":"'Painel de Controle'!$G$7*Tributação!AK$6","v":36088.376667778146},{"$f":"'Painel de Controle'!$G$7*Tributação!AL$6","v":36088.376667778146}]
[null,"Alíquota Base",null,{"$f":"IFERROR(SUM(D7:D8)/D6,0)","v":0},{"$f":"IFERROR(SUM(E7:E8)/E6,0)","v":0},0,9.2499999999999999E-2,9.2499999999999999E-2,9.2499999999999999E-2,9.2500000000000013E-2,9.2499999999999999E-2,9.2499999999999999E-2,9.2499999999999999E-2,9.2499999999999999E-2,9.2499999999999999E-2,9.2499999999999999E-2,9.2499999999999999E-2,9.2499999999999999E-2,9.2499999999999999E-2,9.2499999999999999E-2,9.2499999999999999E-2,9.2499999999999999E-2,9.2499999999999999E-2,9.2499999999999999E-2,9.2499999999999999E-2,9.2499999999999999E-2,9.2499999999999999E-2,9.2499999999999999E-2,9.2499999999999999E-2,9.2499999999999999E-2,9.2499999999999999E-2,9.2499999999999999E-2,9.2499999999999999E-2,9.2499999999999999E-2,9.2499999999999999E-2,9.2499999999999999E-2,9.2499999999999999E-2,9.2499999999999999E-2]
[]
[null,"Custos Operacionais Tributados",null,{"$f":"-SUM('FC Projeto'!D25:D28)","v":0},{"$f":"-SUM('FC Projeto'!E25:E28)","v":0},{"$f":"-SUM('FC Projeto'!F25:F28)","v":0},{"$f":"-SUM('FC Projeto'!G25:G28)","v":102189.11572744677},{"$f":"-SUM('FC Projeto'!H25:H28)","v":174845.7335901327},{"$f":"-SUM('FC Projeto'!I25:I28)","v":230017.80542024018},{"$f":"-SUM('FC Projeto'!J25:J28)","v":260006.92801025163},{"$f":"-SUM('FC Projeto'!K25:K28)","v":279772.95808299637},{"$f":"-SUM('FC Projeto'!L25:L28)","v":279772.95808299637},{"$f":"-SUM('FC Projeto'!M25:M28)","v":279772.95808299637},{"$f":"-SUM('FC Projeto'!N25:N28)","v":279772.95808299637},{"$f":"-SUM('FC Projeto'!O25:O28)","v":279772.95808299637},{"$f":"-SUM('FC Projeto'!P25:P28)","v":279772.95808299637},{"$f":"-SUM('FC Projeto'!Q25:Q28)","v":279772.95808299637},{"$f":"-SUM('FC Projeto'!R25:R28)","v":279772.95808299637},{"$f":"-SUM('FC Projeto'!S25:S28)","v":279772.95808299637},{"$f":"-SUM('FC Projeto'!T25:T28)","v":279772.95808299637},{"$f":"-SUM('FC Projeto'!U25:U28)","v":279772.95808299637},{"$f":"-SUM('FC Projeto'!V25:V28)","v":279772.95808299637},{"$f":"-SUM('FC Projeto'!W25:W28)","v":279772.95808299637},{"$f":"-SUM('FC Projeto'!X25:X28)","v":279772.95808299637},{"$f":"-SUM('FC Projeto'!Y25:Y28)","v":279772.95808299637},{"$f":"-SUM('FC Projeto'!Z25:Z28)","v":279772.95808299637},{"$f":"-SUM('FC Projeto'!AA25:AA28)","v":279772.95808299637},{"$f":"-SUM('FC Projeto'!AB25:AB28)","v":279772.95808299637},{"$f":"-SUM('FC Projeto'!AC25:AC28)","v":279772.95808299637},{"$f":"-SUM('FC Projeto'!AD25:AD28)","v":279772.95808299637},{"$f":"-SUM('FC Projeto'!AE25:AE28)","v":279772.95808299637},{"$f":"-SUM('FC Projeto'!AF25:AF28)","v":279772.95808299637},{"$f":"-SUM('FC Projeto'!AG25:AG28)","v":279772.95808299637},{"$f":"-SUM('FC Projeto'!AH25:AH28)","v":279772.95808299637},{"$f":"-SUM('FC Projeto'!AI25:AI28)","v":279772.95808299637},{"$f":"-SUM('FC Projeto'!AJ25:AJ28)","v":279772.95808299637},{"$f":"-SUM('FC Projeto'!AK25:AK28)","v":279772.95808299637},{"$f":"-SUM('FC Projeto'!AL25:AL28)","v":279772.95808299637}]
[null,"PIS",null,{"$f":"'Painel de Controle'!$G$6*Tributação!D$11","v":0},{"$f":"'Painel de Controle'!$G$6*Tributação!E$11","v":0},{"$f":"'Painel de Controle'!$G$6*Tributação!F$11","v":0},{"$f":"'Painel de Controle'!$G$6*Tributação!G$11","v":1686.1204095028718},{"$f":"'Painel de Controle'!$G$6*Tributação!H$11","v":2884.9546042371899},{"$f":"'Painel de Controle'!$G$6*Tributação!I$11","v":3795.2937894339634},{"$f":"'Painel de Controle'!$G$6*Tributação!J$11","v":4290.1143121691521},{"$f":"'Painel de Controle'!$G$6*Tributação!K$11","v":4616.2538083694399},{"$f":"'Painel de Controle'!$G$6*Tributação!L$11","v":4616.2538083694399},{"$f":"'Painel de Controle'!$G$6*Tributação!M$11","v":4616.2538083694399},{"$f":"'Painel de Controle'!$G$6*Tributação!N$11","v":4616.2538083694399},{"$f":"'Painel de Controle'!$G$6*Tributação!O$11","v":4616.2538083694399},{"$f":"'Painel de Controle'!$G$6*Tributação!P$11","v":4616.2538083694399},{"$f":"'Painel de Controle'!$G$6*Tributação!Q$11","v":4616.2538083694399},{"$f":"'Painel de Controle'!$G$6*Tributação!R$11","v":4616.2538083694399},{"$f":"'Painel de Controle'!$G$6*Tributação!S$11","v":4616.2538083694399},{"$f":"'Painel de Controle'!$G$6*Tributação!T$11","v":4616.2538083694399},{"$f":"'Painel de Controle'!$G$6*Tributação!U$11","v":4616.2538083694399},{"$f":"'Painel de Controle'!$G$6*Tributação!V$11","v":4616.2538083694399},{"$f":"'Painel de Controle'!$G$6*Tributação!W$11","v":4616.2538083694399},{"$f":"'Painel de Controle'!$G$6*Tributação!X$11","v":4616.2538083694399},{"$f":"'Painel de Controle'!$G$6*Tributação!Y$11","v":4616.2538083694399},{"$f":"'Painel de Controle'!$G$6*Tributação!Z$11","v":4616.2538083694399},{"$f":"'Painel de Controle'!$G$6*Tributação!AA$11","v":4616.2538083694399},{"$f":"'Painel de Controle'!$G$6*Tributação!AB$11","v":4616.2538083694399},{"$f":"'Painel de Controle'!$G$6*Tributação!AC$11","v":4616.2538083694399},{"$f":"'Painel de Controle'!$G$6*Tributação!AD$11","v":4616.2538083694399},{"$f":"'Painel de Controle'!$G$6*Tributação!AE$11","v":4616.2538083694399},{"$f":"'Painel de Controle'!$G$6*Tributação!AF$11","v":4616.2538083694399},{"$f":"'Painel de Controle'!$G$6*Tributação!AG$11","v":4616.2538083694399},{"$f":"'Painel de Controle'!$G$6*Tributação!AH$11","v":4616.2538083694399},{"$f":"'Painel de Controle'!$G$6*Tributação!AI$11","v":4616.2538083694399},{"$f":"'Painel de Controle'!$G$6*Tributação!AJ$11","v":4616.2538083694399},{"$f":"'Painel de Controle'!$G$6*Tributação!AK$11","v":4616.2538083694399},{"$f":"'Painel de Controle'!$G$6*Tributação!AL$11","v":4616.2538083694399}]
[null,"COFINS",null,{"$f":"'Painel de Controle'!$G$7*Tributação!D$11","v":0},{"$f":"'Painel de Controle'!$G$7*Tributação!E$11","v":0},{"$f":"'Painel de Controle'!$G$7*Tributação!F$11","v":0},{"$f":"'Painel de Controle'!$G$7*Tributação!G$11","v":7766.3727952859545},{"$f":"'Painel de Controle'!$G$7*Tributação!H$11","v":13288.275752850084},{"$f":"'Painel de Controle'!$G$7*Tributação!I$11","v":17481.353211938254},{"$f":"'Painel de Controle'!$G$7*Tributação!J$11","v":19760.526528779123},{"$f":"'Painel de Controle'!$G$7*Tributação!K$11","v":21262.744814307724},{"$f":"'Painel de Controle'!$G$7*Tributação!L$11","v":21262.744814307724},{"$f":"'Painel de Controle'!$G$7*Tributação!M$11","v":21262.744814307724},{"$f":"'Painel de Controle'!$G$7*Tributação!N$11","v":21262.744814307724},{"$f":"'Painel de Controle'!$G$7*Tributação!O$11","v":21262.744814307724},{"$f":"'Painel de Controle'!$G$7*Tributação!P$11","v":21262.744814307724},{"$f":"'Painel de Controle'!$G$7*Tributação!Q$11","v":21262.744814307724},{"$f":"'Painel de Controle'!$G$7*Tributação!R$11","v":21262.744814307724},{"$f":"'Painel de Controle'!$G$7*Tributação!S$11","v":21262.744814307724},{"$f":"'Painel de Controle'!$G$7*Tributação!T$11","v":21262.744814307724},{"$f":"'Painel de Controle'!$G$7*Tributação!U$11","v":21262.744814307724},{"$f":"'Painel de Controle'!$G$7*Tributação!V$11","v":21262.744814307724},{"$f":"'Painel de Controle'!$G$7*Tributação!W$11","v":21262.744814307724},{"$f":"'Painel de Controle'!$G$7*Tributação!X$11","v":21262.744814307724},{"$f":"'Painel de Controle'!$G$7*Tributação!Y$11","v":21262.744814307724},{"$f":"'Painel de Controle'!$G$7*Tributação!Z$11","v":21262.744814307724},{"$f":"'Painel de Controle'!$G$7*Tributação!AA$11","v":21262.744814307724},{"$f":"'Painel de Controle'!$G$7*Tributação!AB$11","v":21262.744814307724},{"$f":"'Painel de Controle'!$G$7*Tributação!AC$11","v":21262.744814307724},{"$f":"'Painel de Controle'!$G$7*Tributação!AD$11","v":21262.744814307724},{"$f":"'Painel de Controle'!$G$7*Tributação!AE$11","v":21262.744814307724},{"$f":"'Painel de Controle'!$G$7*Tributação!AF$11","v":21262.744814307724},{"$f":"'Painel de Controle'!$G$7*Tributação!AG$11","v":21262.744814307724},{"$f":"'Painel de Controle'!$G$7*Tributação!AH$11","v":21262.744814307724},{"$f":"'Painel de Controle'!$G$7*Tributação!AI$11","v":21262.744814307724},{"$f":"'Painel de Controle'!$G$7*Tributação!AJ$11","v":21262.744814307724},{"$f":"'Painel de Controle'!$G$7*Tributação!AK$11","v":21262.744814307724},{"$f":"'Painel de Controle'!$G$7*Tributação!AL$11","v":21262.744814307724}]
[]
[null,"Tributação Cumulativa"]
[null,"PIS",null,{"$f":"D7-D12","v":0},{"$f":"E7-E12","v":0},0,{"$f":"G7-G12","v":1175.6619698079296},{"$f":"H7-H12","v":2011.5594317632099},2646.3012649264369,2991.3191338648485,3218.7227050297633,3218.7227050297633,3218.7227050297633,3218.7227050297633,3218.7227050297633,3218.7227050297633,3218.7227050297633,3218.7227050297633,3218.7227050297633,3218.7227050297633,3218.7227050297633,3218.7227050297633,3218.7227050297633,3218.7227050297633,3218.7227050297633,3218.7227050297633,3218.7227050297633,3218.7227050297633,3218.7227050297633,3218.7227050297633,3218.7227050297633,3218.7227050297633,3218.7227050297633,3218.7227050297633,3218.7227050297633,3218.7227050297633,3218.7227050297633,3218.7227050297633]
[null,"COFINS",null,{"$f":"D8-D13","v":0},{"$f":"E8-E13","v":0},0,5415.1702851759173,9265.3646553941799,12189.024008146014,13778.197222650215,14825.631853470422,14825.631853470422,14825.631853470422,14825.631853470422,14825.631853470422,14825.631853470422,14825.631853470422,14825.631853470422,14825.631853470422,14825.631853470422,14825.631853470422,14825.631853470422,14825.631853470422,14825.631853470422,14825.631853470422,14825.631853470422,14825.631853470422,14825.631853470422,14825.631853470422,14825.631853470422,14825.631853470422,14825.631853470422,14825.631853470422,14825.631853470422,14825.631853470422,14825.631853470422,14825.631853470422,14825.631853470422]
[null,"Alíquota Efetiva",null,{"$f":"IFERROR(SUM(D16:D17)/D6,0)","v":0},{"$f":"IFERROR(SUM(E16:E17)/E6,0)","v":0},0,{"$f":"IFERROR(SUM(G16:G17)/G6,0)","v":3.8000350059260363E-2},3.8000350059260349E-2,3.8000350059260356E-2,3.800035005926037E-2,3.8000350059260377E-2,3.8000350059260377E-2,3.8000350059260377E-2,3.8000350059260377E-2,3.8000350059260377E-2,3.8000350059260377E-2,3.8000350059260377E-2,3.8000350059260377E-2,3.8000350059260377E-2,3.8000350059260377E-2,3.8000350059260377E-2,3.8000350059260377E-2,3.8000350059260377E-2,3.8000350059260377E-2,3.8000350059260377E-2,3.8000350059260377E-2,3.8000350059260377E-2,3.8000350059260377E-2,3.8000350059260377E-2,3.8000350059260377E-2,3.8000350059260377E-2,3.8000350059260377E-2,3.8000350059260377E-2,3.8000350059260377E-2,3.8000350059260377E-2,3.8000350059260377E-2,3.8000350059260377E-2,3.8000350059260377E-2]
[null,"IRPJ/CSLL não alavancado"]
[null,"EBIT",null,{"$f":"'FC Projeto'!D43","v":-42655.940261511249},{"$f":"'FC Projeto'!E43","v":-6745.7515528734475},{"$f":"'FC Projeto'!F43","v":-17558.129504606048},{"$f":"'FC Projeto'!G43","v":30828.960966484585},{"$f":"'FC Projeto'!H43","v":-17924.923393005931},{"$f":"'FC Projeto'!I43","v":88675.554389320343},{"$f":"'FC Projeto'!J43","v":103730.65229788952},{"$f":"'FC Projeto'!K43","v":111003.99145922142},{"$f":"'FC Projeto'!L43","v":-60613.031159327322},{"$f":"'FC Projeto'!M43","v":122738.03054230152},{"$f":"'FC Projeto'!N43","v":125099.68673628788},{"$f":"'FC Projeto'!O43","v":123168.0762289905},{"$f":"'FC Projeto'!P43","v":121729.51210216398},{"$f":"'FC Projeto'!Q43","v":119148.83358734759},{"$f":"'FC Projeto'!R43","v":115724.61909777558},{"$f":"'FC Projeto'!S43","v":112324.13893956387},{"$f":"'FC Projeto'!T43","v":108661.47524200741},{"$f":"'FC Projeto'!U43","v":108947.39311271248},{"$f":"'FC Projeto'!V43","v":112673.54373281598},{"$f":"'FC Projeto'!W43","v":111224.26481390931},{"$f":"'FC Projeto'!X43","v":108927.51530893453},{"$f":"'FC Projeto'!Y43","v":107744.21056084536},{"$f":"'FC Projeto'!Z43","v":112506.08567945877},{"$f":"'FC Projeto'!AA43","v":114672.17678606196},{"$f":"'FC Projeto'!AB43","v":115156.49584765428},{"$f":"'FC Projeto'!AC43","v":116137.79621787046},{"$f":"'FC Projeto'!AD43","v":116305.76179585594},{"$f":"'FC Projeto'!AE43","v":117014.13846373676},{"$f":"'FC Projeto'!AF43","v":117203.81893080231},{"$f":"'FC Projeto'!AG43","v":114930.49262456565},{"$f":"'FC Projeto'!AH43","v":112478.09900000953},{"$f":"'FC Projeto'!AI43","v":110621.25180423947},{"$f":"'FC Projeto'!AJ43","v":113149.25965035491},{"$f":"'FC Projeto'!AK43","v":114672.50639832293},{"$f":"'FC Projeto'!AL43","v":115238.03999366891}]
[null,"Prejuízo Acumulado",null,{"$f":"IF(D20<0,-D20)","v":42655.940261511249},{"$f":"D21+IF(E20<0,-E20)-D22","v":49401.6918143847},{"$f":"E21+IF(F20<0,-F20)-E22","v":66959.821318990755},66959.821318990755,75636.056422051304,75636.056422051304,49033.390105255203,17914.194415888349,60613.031159327329,60613.031159327329,23791.621996636874,0,0,0,0,0,0,0,0,0,0,0,0,0,0,0,0,0,0,0,0,0,0,0,0]
[null,"Dedução da Base de Cálculo",null,{"$f":"IF(D20<0,0,IF(D21<=0,0,IF(D21<=0.3*D20,D21,0.3*D20)))","v":0},{"$f":"IF(E20<0,0,IF(E21<=0,0,IF(E21<=0.3*E20,E21,0.3*E20)))","v":0},{"$f":"IF(F20<0,0,IF(F21<=0,0,IF(F21<=0.3*F20,F21,0.3*F20)))","v":0},{"$f":"IF(G20<0,0,IF(G21<=0,0,IF(G21<=0.3*G20,G21,0.3*G20)))","v":9248.6882899453758},0,26602.666316796101,31119.195689366854,17914.194415888349,0,36821.409162690456,23791.621996636874,0,0,0,0,0,0,0,0,0,0,0,0,0,0,0,0,0,0,0,0,0,0,0,0]
[null,"Base de Cálculo",null,{"$f":"IF(D20<0,0,D20-D22)","v":0},{"$f":"IF(E20<0,0,E20-E22)","v":0},0,{"$f":"IF(G20<0,0,G20-G22)","v":21580.272676539207},0,62072.888072524242,72611.456608522669,93089.797043333063,0,85916.621379611068,101308.06473965102,123168.0762289905,121729.51210216398,119148.83358734759,115724.61909777558,112324.13893956387,108661.47524200741,108947.39311271248,112673.54373281598,111224.26481390931,108927.51530893453,107744.21056084536,112506.08567945877,114672.17678606196,115156.49584765428,116137.79621787046,116305.76179585594,117014.13846373676,117203.81893080231,114930.49262456565,112478.09900000953,110621.25180423947,113149.25965035491,114672.50639832293,115238.03999366891]
[null,"IRPJ",null,{"$f":"IF(D23<=0,0,'Painel de Controle'!$G$9*D23+'Painel de Controle'!$G$10*(D23-'Painel de Controle'!$G$11))","v":0},{"$f":"IF(E23<=0,0,'Painel de Controle'!$G$9*E23+'Painel de Controle'!$G$10*(E23-'Painel de Controle'!$G$11))","v":0},{"$f":"IF(F23<=0,0,'Painel de Controle'!$G$9*F23+'Painel de Controle'!$G$10*(F23-'Painel de Controle'!$G$11))","v":0},{"$f":"IF(G23<=0,0,'Painel de Controle'!$G$9*G23+'Painel de Controle'!$G$10*(G23-'Painel de Controle'!$G$11))","v":5371.0681691348018},{"$f":"IF(H23<=0,0,'Painel de Controle'!$G$9*H23+'Painel de Controle'!$G$10*(H23-'Painel de Controle'!$G$11))","v":0},{"$f":"IF(I23<=0,0,'Painel de Controle'!$G$9*I23+'Painel de Controle'!$G$10*(I23-'Painel de Controle'!$G$11))","v":15494.222018131062},{"$f":"IF(J23<=0,0,'Painel de Controle'!$G$9*J23+'Painel de Controle'!$G$10*(J23-'Painel de Controle'!$G$11))","v":18128.864152130667},{"$f":"IF(K23<=0,0,'Painel de Controle'!$G$9*K23+'Painel de Controle'!$G$10*(K23-'Painel de Controle'!$G$11))","v":23248.449260833266},{"$f":"IF(L23<=0,0,'Painel de Controle'!$G$9*L23+'Painel de Controle'!$G$10*(L23-'Painel de Controle'!$G$11))","v":0},{"$f":"IF(M23<=0,0,'Painel de Controle'!$G$9*M23+'Painel de Controle'!$G$10*(M23-'Painel de Controle'!$G$11))","v":21455.155344902767},{"$f":"IF(N23<=0,0,'Painel de Controle'!$G$9*N23+'Painel de Controle'!$G$10*(N23-'Painel de Controle'!$G$11))","v":25303.016184912754},{"$f":"IF(O23<=0,0,'Painel de Controle'!$G$9*O23+'Painel de Controle'!$G$10*(O23-'Painel de Controle'!$G$11))","v":30768.019057247624},{"$f":"IF(P23<=0,0,'Painel de Controle'!$G$9*P23+'Painel de Controle'!$G$10*(P23-'Painel de Controle'!$G$11))","v":30408.378025540995},{"$f":"IF(Q23<=0,0,'Painel de Controle'!$G$9*Q23+'Painel de Controle'!$G$10*(Q23-'Painel de Controle'!$G$11))","v":29763.208396836897},{"$f":"IF(R23<=0,0,'Painel de Controle'!$G$9*R23+'Painel de Controle'!$G$10*(R23-'Painel de Controle'!$G$11))","v":28907.154774443894},{"$f":"IF(S23<=0,0,'Painel de Controle'!$G$9*S23+'Painel de Controle'!$G$10*(S23-'Painel de Controle'!$G$11))","v":28057.034734890964},{"$f":"IF(T23<=0,0,'Painel de Controle'!$G$9*T23+'Painel de Controle'!$G$10*(T23-'Painel de Controle'!$G$11))","v":27141.368810501852},{"$f":"IF(U23<=0,0,'Painel de Controle'!$G$9*U23+'Painel de Controle'!$G$10*(U23-'Painel de Controle'!$G$11))","v":27212.84827817812},{"$f":"IF(V23<=0,0,'Painel de Controle'!$G$9*V23+'Painel de Controle'!$G$10*(V23-'Painel de Controle'!$G$11))","v":28144.385933203994},{"$f":"IF(W23<=0,0,'Painel de Controle'!$G$9*W23+'Painel de Controle'!$G$10*(W23-'Painel de Controle'!$G$11))","v":27782.066203477327},{"$f":"IF(X23<=0,0,'Painel de Controle'!$G$9*X23+'Painel de Controle'!$G$10*(X23-'Painel de Controle'!$G$11))","v":27207.878827233631},{"$f":"IF(Y23<=0,0,'Painel de Controle'!$G$9*Y23+'Painel de Controle'!$G$10*(Y23-'Painel de Controle'!$G$11))","v":26912.052640211339},{"$f":"IF(Z23<=0,0,'Painel de Controle'!$G$9*Z23+'Painel de Controle'!$G$10*(Z23-'Painel de Controle'!$G$11))","v":28102.521419864694},{"$f":"IF(AA23<=0,0,'Painel de Controle'!$G$9*AA23+'Painel de Controle'!$G$10*(AA23-'Painel de Controle'!$G$11))","v":28644.04419651549},{"$f":"IF(AB23<=0,0,'Painel de Controle'!$G$9*AB23+'Painel de Controle'!$G$10*(AB23-'Painel de Controle'!$G$11))","v":28765.12396191357},{"$f":"IF(AC23<=0,0,'Painel de Controle'!$G$9*AC23+'Painel de Controle'!$G$10*(AC23-'Painel de Controle'!$G$11))","v":29010.449054467615},{"$f":"IF(AD23<=0,0,'Painel de Controle'!$G$9*AD23+'Painel de Controle'!$G$10*(AD23-'Painel de Controle'!$G$11))","v":29052.440448963986},{"$f":"IF(AE23<=0,0,'Painel de Controle'!$G$9*AE23+'Painel de Controle'!$G$10*(AE23-'Painel de Controle'!$G$11))","v":29229.534615934186},{"$f":"IF(AF23<=0,0,'Painel de Controle'!$G$9*AF23+'Painel de Controle'!$G$10*(AF23-'Painel de Controle'!$G$11))","v":29276.954732700578},{"$f":"IF(AG23<=0,0,'Painel de Controle'!$G$9*AG23+'Painel de Controle'!$G$10*(AG23-'Painel de Controle'!$G$11))","v":28708.623156141413},{"$f":"IF(AH23<=0,0,'Painel de Controle'!$G$9*AH23+'Painel de Controle'!$G$10*(AH23-'Painel de Controle'!$G$11))","v":28095.524750002383},{"$f":"IF(AI23<=0,0,'Painel de Controle'!$G$9*AI23+'Painel de Controle'!$G$10*(AI23-'Painel de Controle'!$G$11))","v":27631.312951059866},{"$f":"IF(AJ23<=0,0,'Painel de Controle'!$G$9*AJ23+'Painel de Controle'!$G$10*(AJ23-'Painel de Controle'!$G$11))","v":28263.314912588728},{"$f":"IF(AK23<=0,0,'Painel de Controle'!$G$9*AK23+'Painel de Controle'!$G$10*(AK23-'Painel de Controle'!$G$11))","v":28644.126599580733},{"$f":"IF(AL23<=0,0,'Painel de Controle'!$G$9*AL23+'Painel de Controle'!$G$10*(AL23-'Painel de Controle'!$G$11))","v":28785.509998417227}]
[null,"CSLL",null,{"$f":"'Painel de Controle'!$G$12*Tributação!D23","v":0},{"$f":"'Painel de Controle'!$G$12*Tributação!E23","v":0},{"$f":"'Painel de Controle'!$G$12*Tributação!F23","v":0},{"$f":"'Painel de Controle'!$G$12*Tributação!G23","v":1942.2245408885285},{"$f":"'Painel de Controle'!$G$12*Tributação!H23","v":0},{"$f":"'Painel de Controle'!$G$12*Tributação!I23","v":5586.5599265271812},{"$f":"'Painel de Controle'!$G$12*Tributação!J23","v":6535.0310947670396},{"$f":"'Painel de Controle'!$G$12*Tributação!K23","v":8378.081733899975},{"$f":"'Painel de Controle'!$G$12*Tributação!L23","v":0},{"$f":"'Painel de Controle'!$G$12*Tributação!M23","v":7732.4959241649958},{"$f":"'Painel de Controle'!$G$12*Tributação!N23","v":9117.7258265685905},{"$f":"'Painel de Controle'!$G$12*Tributação!O23","v":11085.126860609143},{"$f":"'Painel de Controle'!$G$12*Tributação!P23","v":10955.656089194757},{"$f":"'Painel de Controle'!$G$12*Tributação!Q23","v":10723.395022861283},{"$f":"'Painel de Controle'!$G$12*Tributação!R23","v":10415.215718799802},{"$f":"'Painel de Controle'!$G$12*Tributação!S23","v":10109.172504560747},{"$f":"'Painel de Controle'!$G$12*Tributação!T23","v":9779.5327717806667},{"$f":"'Painel de Controle'!$G$12*Tributação!U23","v":9805.2653801441229},{"$f":"'Painel de Controle'!$G$12*Tributação!V23","v":10140.618935953438},{"$f":"'Painel de Controle'!$G$12*Tributação!W23","v":10010.183833251836},{"$f":"'Painel de Controle'!$G$12*Tributação!X23","v":9803.476377804107},{"$f":"'Painel de Controle'!$G$12*Tributação!Y23","v":9696.9789504760811},{"$f":"'Painel de Controle'!$G$12*Tributação!Z23","v":10125.54771115129},{"$f":"'Painel de Controle'!$G$12*Tributação!AA23","v":10320.495910745576},{"$f":"'Painel de Controle'!$G$12*Tributação!AB23","v":10364.084626288884},{"$f":"'Painel de Controle'!$G$12*Tributação!AC23","v":10452.401659608342},{"$f":"'Painel de Controle'!$G$12*Tributação!AD23","v":10467.518561627034},{"$f":"'Painel de Controle'!$G$12*Tributação!AE23","v":10531.272461736307},{"$f":"'Painel de Controle'!$G$12*Tributação!AF23","v":10548.343703772209},{"$f":"'Painel de Controle'!$G$12*Tributação!AG23","v":10343.744336210908},{"$f":"'Painel de Controle'!$G$12*Tributação!AH23","v":10123.028910000858},{"$f":"'Painel de Controle'!$G$12*Tributação!AI23","v":9955.9126623815519},{"$f":"'Painel de Controle'!$G$12*Tributação!AJ23","v":10183.433368531942},{"$f":"'Painel de Controle'!$G$12*Tributação!AK23","v":10320.525575849064},{"$f":"'Painel de Controle'!$G$12*Tributação!AL23","v":10371.423599430202}]
[null,"IRPJ Sudene",null,{"$f":"IF('Painel de Controle'!$G$13=\"S\",IF(Tributação!D4<=10,(1-'Painel de Controle'!$G$14),1),1)*Tributação!D24","v":0},{"$f":"IF('Painel de Controle'!$G$13=\"S\",IF(Tributação!E4<=10,(1-'Painel de Controle'!$G$14),1),1)*Tributação!E24","v":0},{"$f":"IF('Painel de Controle'!$G$13=\"S\",IF(Tributação!F4<=10,(1-'Painel de Controle'!$G$14),1),1)*Tributação!F24","v":0},{"$f":"IF('Painel de Controle'!$G$13=\"S\",IF(Tributação!G4<=10,(1-'Painel de Controle'!$G$14),1),1)*Tributação!G24","v":1342.7670422837004},{"$f":"IF('Painel de Controle'!$G$13=\"S\",IF(Tributação!H4<=10,(1-'Painel de Controle'!$G$14),1),1)*Tributação!H24","v":0},{"$f":"IF('Painel de Controle'!$G$13=\"S\",IF(Tributação!I4<=10,(1-'Painel de Controle'!$G$14),1),1)*Tributação!I24","v":3873.5555045327656},{"$f":"IF('Painel de Controle'!$G$13=\"S\",IF(Tributação!J4<=10,(1-'Painel de Controle'!$G$14),1),1)*Tributação!J24","v":4532.2160380326668},{"$f":"IF('Painel de Controle'!$G$13=\"S\",IF(Tributação!K4<=10,(1-'Painel de Controle'!$G$14),1),1)*Tributação!K24","v":5812.1123152083164},{"$f":"IF('Painel de Controle'!$G$13=\"S\",IF(Tributação!L4<=10,(1-'Painel de Controle'!$G$14),1),1)*Tributação!L24","v":0},{"$f":"IF('Painel de Controle'!$G$13=\"S\",IF(Tributação!M4<=10,(1-'Painel de Controle'!$G$14),1),1)*Tributação!M24","v":5363.7888362256917},{"$f":"IF('Painel de Controle'!$G$13=\"S\",IF(Tributação!N4<=10,(1-'Painel de Controle'!$G$14),1),1)*Tributação!N24","v":25303.016184912754},{"$f":"IF('Painel de Controle'!$G$13=\"S\",IF(Tributação!O4<=10,(1-'Painel de Controle'!$G$14),1),1)*Tributação!O24","v":30768.019057247624},{"$f":"IF('Painel de Controle'!$G$13=\"S\",IF(Tributação!P4<=10,(1-'Painel de Controle'!$G$14),1),1)*Tributação!P24","v":30408.378025540995},{"$f":"IF('Painel de Controle'!$G$13=\"S\",IF(Tributação!Q4<=10,(1-'Painel de Controle'!$G$14),1),1)*Tributação!Q24","v":29763.208396836897},{"$f":"IF('Painel de Controle'!$G$13=\"S\",IF(Tributação!R4<=10,(1-'Painel de Controle'!$G$14),1),1)*Tributação!R24","v":28907.154774443894},{"$f":"IF('Painel de Controle'!$G$13=\"S\",IF(Tributação!S4<=10,(1-'Painel de Controle'!$G$14),1),1)*Tributação!S24","v":28057.034734890964},{"$f":"IF('Painel de Controle'!$G$13=\"S\",IF(Tributação!T4<=10,(1-'Painel de Controle'!$G$14),1),1)*Tributação!T24","v":27141.368810501852},{"$f":"IF('Painel de Controle'!$G$13=\"S\",IF(Tributação!U4<=10,(1-'Painel de Controle'!$G$14),1),1)*Tributação!U24","v":27212.84827817812},{"$f":"IF('Painel de Controle'!$G$13=\"S\",IF(Tributação!V4<=10,(1-'Painel de Controle'!$G$14),1),1)*Tributação!V24","v":28144.385933203994},{"$f":"IF('Painel de Controle'!$G$13=\"S\",IF(Tributação!W4<=10,(1-'Painel de Controle'!$G$14),1),1)*Tributação!W24","v":27782.066203477327},{"$f":"IF('Painel de Controle'!$G$13=\"S\",IF(Tributação!X4<=10,(1-'Painel de Controle'!$G$14),1),1)*Tributação!X24","v":27207.878827233631},{"$f":"IF('Painel de Controle'!$G$13=\"S\",IF(Tributação!Y4<=10,(1-'Painel de Controle'!$G$14),1),1)*Tributação!Y24","v":26912.052640211339},{"$f":"IF('Painel de Controle'!$G$13=\"S\",IF(Tributação!Z4<=10,(1-'Painel de Controle'!$G$14),1),1)*Tributação!Z24","v":28102.521419864694},{"$f":"IF('Painel de Controle'!$G$13=\"S\",IF(Tributação!AA4<=10,(1-'Painel de Controle'!$G$14),1),1)*Tributação!AA24","v":28644.04419651549},{"$f":"IF('Painel de Controle'!$G$13=\"S\",IF(Tributação!AB4<=10,(1-'Painel de Controle'!$G$14),1),1)*Tributação!AB24","v":28765.12396191357},{"$f":"IF('Painel de Controle'!$G$13=\"S\",IF(Tributação!AC4<=10,(1-'Painel de Controle'!$G$14),1),1)*Tributação!AC24","v":29010.449054467615},{"$f":"IF('Painel de Controle'!$G$13=\"S\",IF(Tributação!AD4<=10,(1-'Painel de Controle'!$G$14),1),1)*Tributação!AD24","v":29052.440448963986},{"$f":"IF('Painel de Controle'!$G$13=\"S\",IF(Tributação!AE4<=10,(1-'Painel de Controle'!$G$14),1),1)*Tributação!AE24","v":29229.534615934186},{"$f":"IF('Painel de Controle'!$G$13=\"S\",IF(Tributação!AF4<=10,(1-'Painel de Controle'!$G$14),1),1)*Tributação!AF24","v":29276.954732700578},{"$f":"IF('Painel de Controle'!$G$13=\"S\",IF(Tributação!AG4<=10,(1-'Painel de Controle'!$G$14),1),1)*Tributação!AG24","v":28708.623156141413},{"$f":"IF('Painel de Controle'!$G$13=\"S\",IF(Tributação!AH4<=10,(1-'Painel de Controle'!$G$14),1),1)*Tributação!AH24","v":28095.524750002383},{"$f":"IF('Painel de Controle'!$G$13=\"S\",IF(Tributação!AI4<=10,(1-'Painel de Controle'!$G$14),1),1)*Tributação!AI24","v":27631.312951059866},{"$f":"IF('Painel de Controle'!$G$13=\"S\",IF(Tributação!AJ4<=10,(1-'Painel de Controle'!$G$14),1),1)*Tributação!AJ24","v":28263.314912588728},{"$f":"IF('Painel de Controle'!$G$13=\"S\",IF(Tributação!AK4<=10,(1-'Painel de Controle'!$G$14),1),1)*Tributação!AK24","v":28644.126599580733},{"$f":"IF('Painel de Controle'!$G$13=\"S\",IF(Tributação!AL4<=10,(1-'Painel de Controle'!$G$14),1),1)*Tributação!AL24","v":28785.509998417227}]
[null,"IRPJ/CSLL alavancado"]
[null,"EBT",null,{"$f":"'FC Acionista'!D48","v":-44886.849952196477},{"$f":"'FC Acionista'!E48","v":-12100.626337947077},{"$f":"'FC Acionista'!F48","v":-32080.403398665985},{"$f":"'FC Acionista'!G48","v":8208.6540142318117},{"$f":"'FC Acionista'!H48","v":-49308.814997051668},{"$f":"'FC Acionista'!I48","v":53632.952157134692},{"$f":"'FC Acionista'!J48","v":67784.234183128225},{"$f":"'FC Acionista'!K48","v":75543.141307801765},{"$f":"'FC Acionista'!L48","v":-102828.29601093728},{"$f":"'FC Acionista'!M48","v":82610.343622950779},{"$f":"'FC Acionista'!N48","v":87162.993472026283},{"$f":"'FC Acionista'!O48","v":87472.084756757278},{"$f":"'FC Acionista'!P48","v":88780.589797353925},{"$f":"'FC Acionista'!Q48","v":88946.980449960683},{"$f":"'FC Acionista'!R48","v":86189.256297995365},{"$f":"'FC Acionista'!S48","v":83455.266477390367},{"$f":"'FC Acionista'!T48","v":79881.154553602682},{"$f":"'FC Acionista'!U48","v":82914.14159173092},{"$f":"'FC Acionista'!V48","v":89560.742948408937},{"$f":"'FC Acionista'!W48","v":87896.868586268392},{"$f":"'FC Acionista'!X48","v":85607.066754197585},{"$f":"'FC Acionista'!Y48","v":83721.541133369479},{"$f":"'FC Acionista'!Z48","v":91483.799039430553},{"$f":"'FC Acionista'!AA48","v":96583.64669793025},{"$f":"'FC Acionista'!AB48","v":99997.999961208712},{"$f":"'FC Acionista'!AC48","v":103941.30533044192},{"$f":"'FC Acionista'!AD48","v":106837.52865670582},{"$f":"'FC Acionista'!AE48","v":110170.74735003516},{"$f":"'FC Acionista'!AF48","v":112935.56170560997},{"$f":"'FC Acionista'!AG48","v":112731.00191248782},{"$f":"'FC Acionista'!AH48","v":111701.36069632914},{"$f":"'FC Acionista'!AI48","v":110621.25180423947},{"$f":"'FC Acionista'!AJ48","v":113149.25965035491},{"$f":"'FC Acionista'!AK48","v":114672.50639832293},{"$f":"'FC Acionista'!AL48","v":115238.03999366891}]
[null,"Prejuízo Acumulado",null,{"$f":"IF(D28<0,-D28)","v":44886.849952196477},{"$f":"D29+IF(E28<0,-E28)-D30","v":56987.476290143553},{"$f":"E29+IF(F28<0,-F28)-E30","v":89067.879688809538},{"$f":"F29+IF(G28<0,-G28)-F30","v":89067.879688809538},{"$f":"G29+IF(H28<0,-H28)-G30","v":135914.09848159167},{"$f":"H29+IF(I28<0,-I28)-H30","v":135914.09848159167},{"$f":"I29+IF(J28<0,-J28)-I30","v":119824.21283445126},{"$f":"J29+IF(K28<0,-K28)-J30","v":99488.94257951279},{"$f":"K29+IF(L28<0,-L28)-K30","v":179654.29619810954},{"$f":"L29+IF(M28<0,-M28)-L30","v":179654.29619810954},{"$f":"M29+IF(N28<0,-N28)-M30","v":154871.1931112243},{"$f":"N29+IF(O28<0,-O28)-N30","v":128722.29506961642},{"$f":"O29+IF(P28<0,-P28)-O30","v":102480.66964258923},{"$f":"P29+IF(Q28<0,-Q28)-P30","v":75846.492703383061},{"$f":"Q29+IF(R28<0,-R28)-Q30","v":49162.398568394856},{"$f":"R29+IF(S28<0,-S28)-R30","v":23305.621678996245},{"$f":"S29+IF(T28<0,-T28)-S30","v":0},{"$f":"T29+IF(U28<0,-U28)-T30","v":0},{"$f":"U29+IF(V28<0,-V28)-U30","v":0},{"$f":"V29+IF(W28<0,-W28)-V30","v":0},{"$f":"W29+IF(X28<0,-X28)-W30","v":0},{"$f":"X29+IF(Y28<0,-Y28)-X30","v":0},{"$f":"Y29+IF(Z28<0,-Z28)-Y30","v":0},{"$f":"Z29+IF(AA28<0,-AA28)-Z30","v":0},{"$f":"AA29+IF(AB28<0,-AB28)-AA30","v":0},{"$f":"AB29+IF(AC28<0,-AC28)-AB30","v":0},{"$f":"AC29+IF(AD28<0,-AD28)-AC30","v":0},{"$f":"AD29+IF(AE28<0,-AE28)-AD30","v":0},{"$f":"AE29+IF(AF28<0,-AF28)-AE30","v":0},{"$f":"AF29+IF(AG28<0,-AG28)-AF30","v":0},{"$f":"AG29+IF(AH28<0,-AH28)-AG30","v":0},{"$f":"AH29+IF(AI28<0,-AI28)-AH30","v":0},{"$f":"AI29+IF(AJ28<0,-AJ28)-AI30","v":0},{"$f":"AJ29+IF(AK28<0,-AK28)-AJ30","v":0},{"$f":"AK29+IF(AL28<0,-AL28)-AK30","v":0}]
[null,"Dedução da Base de Cálculo",null,{"$f":"IF(D28<0,0,IF(D29<=0,0,IF(D29<=0.3*D28,D29,0.3*D28)))","v":0},{"$f":"IF(E28<0,0,IF(E29<=0,0,IF(E29<=0.3*E28,E29,0.3*E28)))","v":0},{"$f":"IF(F28<0,0,IF(F29<=0,0,IF(F29<=0.3*F28,F29,0.3*F28)))","v":0},{"$f":"IF(G28<0,0,IF(G29<=0,0,IF(G29<=0.3*G28,G29,0.3*G28)))","v":2462.5962042695433},{"$f":"IF(H28<0,0,IF(H29<=0,0,IF(H29<=0.3*H28,H29,0.3*H28)))","v":0},{"$f":"IF(I28<0,0,IF(I29<=0,0,IF(I29<=0.3*I28,I29,0.3*I28)))","v":16089.885647140407},{"$f":"IF(J28<0,0,IF(J29<=0,0,IF(J29<=0.3*J28,J29,0.3*J28)))","v":20335.270254938467},{"$f":"IF(K28<0,0,IF(K29<=0,0,IF(K29<=0.3*K28,K29,0.3*K28)))","v":22662.94239234053},{"$f":"IF(L28<0,0,IF(L29<=0,0,IF(L29<=0.3*L28,L29,0.3*L28)))","v":0},{"$f":"IF(M28<0,0,IF(M29<=0,0,IF(M29<=0.3*M28,M29,0.3*M28)))","v":24783.103086885232},{"$f":"IF(N28<0,0,IF(N29<=0,0,IF(N29<=0.3*N28,N29,0.3*N28)))","v":26148.898041607885},{"$f":"IF(O28<0,0,IF(O29<=0,0,IF(O29<=0.3*O28,O29,0.3*O28)))","v":26241.625427027182},{"$f":"IF(P28<0,0,IF(P29<=0,0,IF(P29<=0.3*P28,P29,0.3*P28)))","v":26634.176939206176},{"$f":"IF(Q28<0,0,IF(Q29<=0,0,IF(Q29<=0.3*Q28,Q29,0.3*Q28)))","v":26684.094134988205},{"$f":"IF(R28<0,0,IF(R29<=0,0,IF(R29<=0.3*R28,R29,0.3*R28)))","v":25856.77688939861},{"$f":"IF(S28<0,0,IF(S29<=0,0,IF(S29<=0.3*S28,S29,0.3*S28)))","v":23305.621678996245},{"$f":"IF(T28<0,0,IF(T29<=0,0,IF(T29<=0.3*T28,T29,0.3*T28)))","v":0},{"$f":"IF(U28<0,0,IF(U29<=0,0,IF(U29<=0.3*U28,U29,0.3*U28)))","v":0},{"$f":"IF(V28<0,0,IF(V29<=0,0,IF(V29<=0.3*V28,V29,0.3*V28)))","v":0},{"$f":"IF(W28<0,0,IF(W29<=0,0,IF(W29<=0.3*W28,W29,0.3*W28)))","v":0},{"$f":"IF(X28<0,0,IF(X29<=0,0,IF(X29<=0.3*X28,X29,0.3*X28)))","v":0},{"$f":"IF(Y28<0,0,IF(Y29<=0,0,IF(Y29<=0.3*Y28,Y29,0.3*Y28)))","v":0},{"$f":"IF(Z28<0,0,IF(Z29<=0,0,IF(Z29<=0.3*Z28,Z29,0.3*Z28)))","v":0},{"$f":"IF(AA28<0,0,IF(AA29<=0,0,IF(AA29<=0.3*AA28,AA29,0.3*AA28)))","v":0},{"$f":"IF(AB28<0,0,IF(AB29<=0,0,IF(AB29<=0.3*AB28,AB29,0.3*AB28)))","v":0},{"$f":"IF(AC28<0,0,IF(AC29<=0,0,IF(AC29<=0.3*AC28,AC29,0.3*AC28)))","v":0},{"$f":"IF(AD28<0,0,IF(AD29<=0,0,IF(AD29<=0.3*AD28,AD29,0.3*AD28)))","v":0},{"$f":"IF(AE28<0,0,IF(AE29<=0,0,IF(AE29<=0.3*AE28,AE29,0.3*AE28)))","v":0},{"$f":"IF(AF28<0,0,IF(AF29<=0,0,IF(AF29<=0.3*AF28,AF29,0.3*AF28)))","v":0},{"$f":"IF(AG28<0,0,IF(AG29<=0,0,IF(AG29<=0.3*AG28,AG29,0.3*AG28)))","v":0},{"$f":"IF(AH28<0,0,IF(AH29<=0,0,IF(AH29<=0.3*AH28,AH29,0.3*AH28)))","v":0},{"$f":"IF(AI28<0,0,IF(AI29<=0,0,IF(AI29<=0.3*AI28,AI29,0.3*AI28)))","v":0},{"$f":"IF(AJ28<0,0,IF(AJ29<=0,0,IF(AJ29<=0.3*AJ28,AJ29,0.3*AJ28)))","v":0},{"$f":"IF(AK28<0,0,IF(AK29<=0,0,IF(AK29<=0.3*AK28,AK29,0.3*AK28)))","v":0},{"$f":"IF(AL28<0,0,IF(AL29<=0,0,IF(AL29<=0.3*AL28,AL29,0.3*AL28)))","v":0}]
[null,"Base de Cálculo",null,{"$f":"IF(D28<0,0,D28-D30)","v":0},{"$f":"IF(E28<0,0,E28-E30)","v":0},{"$f":"IF(F28<0,0,F28-F30)","v":0},{"$f":"IF(G28<0,0,G28-G30)","v":5746.0578099622689},{"$f":"IF(H28<0,0,H28-H30)","v":0},{"$f":"IF(I28<0,0,I28-I30)","v":37543.066509994285},{"$f":"IF(J28<0,0,J28-J30)","v":47448.963928189754},{"$f":"IF(K28<0,0,K28-K30)","v":52880.198915461238},{"$f":"IF(L28<0,0,L28-L30)","v":0},{"$f":"IF(M28<0,0,M28-M30)","v":57827.240536065547},{"$f":"IF(N28<0,0,N28-N30)","v":61014.095430418398},{"$f":"IF(O28<0,0,O28-O30)","v":61230.459329730096},{"$f":"IF(P28<0,0,P28-P30)","v":62146.412858147749},{"$f":"IF(Q28<0,0,Q28-Q30)","v":62262.886314972478},{"$f":"IF(R28<0,0,R28-R30)","v":60332.479408596759},{"$f":"IF(S28<0,0,S28-S30)","v":60149.644798394118},{"$f":"IF(T28<0,0,T28-T30)","v":79881.154553602682},{"$f":"IF(U28<0,0,U28-U30)","v":82914.14159173092},{"$f":"IF(V28<0,0,V28-V30)","v":89560.742948408937},{"$f":"IF(W28<0,0,W28-W30)","v":87896.868586268392},{"$f":"IF(X28<0,0,X28-X30)","v":85607.066754197585},{"$f":"IF(Y28<0,0,Y28-Y30)","v":83721.541133369479},{"$f":"IF(Z28<0,0,Z28-Z30)","v":91483.799039430553},{"$f":"IF(AA28<0,0,AA28-AA30)","v":96583.64669793025},{"$f":"IF(AB28<0,0,AB28-AB30)","v":99997.999961208712},{"$f":"IF(AC28<0,0,AC28-AC30)","v":103941.30533044192},{"$f":"IF(AD28<0,0,AD28-AD30)","v":106837.52865670582},{"$f":"IF(AE28<0,0,AE28-AE30)","v":110170.74735003516},{"$f":"IF(AF28<0,0,AF28-AF30)","v":112935.56170560997},{"$f":"IF(AG28<0,0,AG28-AG30)","v":112731.00191248782},{"$f":"IF(AH28<0,0,AH28-AH30)","v":111701.36069632914},{"$f":"IF(AI28<0,0,AI28-AI30)","v":110621.25180423947},{"$f":"IF(AJ28<0,0,AJ28-AJ30)","v":113149.25965035491},{"$f":"IF(AK28<0,0,AK28-AK30)","v":114672.50639832293},{"$f":"IF(AL28<0,0,AL28-AL30)","v":115238.03999366891}]
[null,"IRPJ",null,{"$f":"IF(D31<=0,0,'Painel de Controle'!$G$9*D31+'Painel de Controle'!$G$10*(D31-'Painel de Controle'!$G$11))","v":0},{"$f":"IF(E31<=0,0,'Painel de Controle'!$G$9*E31+'Painel de Controle'!$G$10*(E31-'Painel de Controle'!$G$11))","v":0},{"$f":"IF(F31<=0,0,'Painel de Controle'!$G$9*F31+'Painel de Controle'!$G$10*(F31-'Painel de Controle'!$G$11))","v":0},{"$f":"IF(G31<=0,0,'Painel de Controle'!$G$9*G31+'Painel de Controle'!$G$10*(G31-'Painel de Controle'!$G$11))","v":1412.5144524905672},{"$f":"IF(H31<=0,0,'Painel de Controle'!$G$9*H31+'Painel de Controle'!$G$10*(H31-'Painel de Controle'!$G$11))","v":0},{"$f":"IF(I31<=0,0,'Painel de Controle'!$G$9*I31+'Painel de Controle'!$G$10*(I31-'Painel de Controle'!$G$11))","v":9361.7666274985713},{"$f":"IF(J31<=0,0,'Painel de Controle'!$G$9*J31+'Painel de Controle'!$G$10*(J31-'Painel de Controle'!$G$11))","v":11838.240982047439},{"$f":"IF(K31<=0,0,'Painel de Controle'!$G$9*K31+'Painel de Controle'!$G$10*(K31-'Painel de Controle'!$G$11))","v":13196.04972886531},{"$f":"IF(L31<=0,0,'Painel de Controle'!$G$9*L31+'Painel de Controle'!$G$10*(L31-'Painel de Controle'!$G$11))","v":0},{"$f":"IF(M31<=0,0,'Painel de Controle'!$G$9*M31+'Painel de Controle'!$G$10*(M31-'Painel de Controle'!$G$11))","v":14432.810134016387},{"$f":"IF(N31<=0,0,'Painel de Controle'!$G$9*N31+'Painel de Controle'!$G$10*(N31-'Painel de Controle'!$G$11))","v":15229.523857604599},{"$f":"IF(O31<=0,0,'Painel de Controle'!$G$9*O31+'Painel de Controle'!$G$10*(O31-'Painel de Controle'!$G$11))","v":15283.614832432526},{"$f":"IF(P31<=0,0,'Painel de Controle'!$G$9*P31+'Painel de Controle'!$G$10*(P31-'Painel de Controle'!$G$11))","v":15512.603214536935},{"$f":"IF(Q31<=0,0,'Painel de Controle'!$G$9*Q31+'Painel de Controle'!$G$10*(Q31-'Painel de Controle'!$G$11))","v":15541.72157874312},{"$f":"IF(R31<=0,0,'Painel de Controle'!$G$9*R31+'Painel de Controle'!$G$10*(R31-'Painel de Controle'!$G$11))","v":15059.11985214919},{"$f":"IF(S31<=0,0,'Painel de Controle'!$G$9*S31+'Painel de Controle'!$G$10*(S31-'Painel de Controle'!$G$11))","v":15013.411199598529},{"$f":"IF(T31<=0,0,'Painel de Controle'!$G$9*T31+'Painel de Controle'!$G$10*(T31-'Painel de Controle'!$G$11))","v":19946.288638400671},{"$f":"IF(U31<=0,0,'Painel de Controle'!$G$9*U31+'Painel de Controle'!$G$10*(U31-'Painel de Controle'!$G$11))","v":20704.53539793273},{"$f":"IF(V31<=0,0,'Painel de Controle'!$G$9*V31+'Painel de Controle'!$G$10*(V31-'Painel de Controle'!$G$11))","v":22366.185737102234},{"$f":"IF(W31<=0,0,'Painel de Controle'!$G$9*W31+'Painel de Controle'!$G$10*(W31-'Painel de Controle'!$G$11))","v":21950.217146567098},{"$f":"IF(X31<=0,0,'Painel de Controle'!$G$9*X31+'Painel de Controle'!$G$10*(X31-'Painel de Controle'!$G$11))","v":21377.766688549396},{"$f":"IF(Y31<=0,0,'Painel de Controle'!$G$9*Y31+'Painel de Controle'!$G$10*(Y31-'Painel de Controle'!$G$11))","v":20906.38528334237},{"$f":"IF(Z31<=0,0,'Painel de Controle'!$G$9*Z31+'Painel de Controle'!$G$10*(Z31-'Painel de Controle'!$G$11))","v":22846.949759857638},{"$f":"IF(AA31<=0,0,'Painel de Controle'!$G$9*AA31+'Painel de Controle'!$G$10*(AA31-'Painel de Controle'!$G$11))","v":24121.911674482562},{"$f":"IF(AB31<=0,0,'Painel de Controle'!$G$9*AB31+'Painel de Controle'!$G$10*(AB31-'Painel de Controle'!$G$11))","v":24975.499990302178},{"$f":"IF(AC31<=0,0,'Painel de Controle'!$G$9*AC31+'Painel de Controle'!$G$10*(AC31-'Painel de Controle'!$G$11))","v":25961.326332610479},{"$f":"IF(AD31<=0,0,'Painel de Controle'!$G$9*AD31+'Painel de Controle'!$G$10*(AD31-'Painel de Controle'!$G$11))","v":26685.382164176455},{"$f":"IF(AE31<=0,0,'Painel de Controle'!$G$9*AE31+'Painel de Controle'!$G$10*(AE31-'Painel de Controle'!$G$11))","v":27518.686837508791},{"$f":"IF(AF31<=0,0,'Painel de Controle'!$G$9*AF31+'Painel de Controle'!$G$10*(AF31-'Painel de Controle'!$G$11))","v":28209.890426402493},{"$f":"IF(AG31<=0,0,'Painel de Controle'!$G$9*AG31+'Painel de Controle'!$G$10*(AG31-'Painel de Controle'!$G$11))","v":28158.750478121954},{"$f":"IF(AH31<=0,0,'Painel de Controle'!$G$9*AH31+'Painel de Controle'!$G$10*(AH31-'Painel de Controle'!$G$11))","v":27901.340174082285},{"$f":"IF(AI31<=0,0,'Painel de Controle'!$G$9*AI31+'Painel de Controle'!$G$10*(AI31-'Painel de Controle'!$G$11))","v":27631.312951059866},{"$f":"IF(AJ31<=0,0,'Painel de Controle'!$G$9*AJ31+'Painel de Controle'!$G$10*(AJ31-'Painel de Controle'!$G$11))","v":28263.314912588728},{"$f":"IF(AK31<=0,0,'Painel de Controle'!$G$9*AK31+'Painel de Controle'!$G$10*(AK31-'Painel de Controle'!$G$11))","v":28644.126599580733},{"$f":"IF(AL31<=0,0,'Painel de Controle'!$G$9*AL31+'Painel de Controle'!$G$10*(AL31-'Painel de Controle'!$G$11))","v":28785.509998417227}]
[null,"CSLL",null,{"$f":"'Painel de Controle'!$G$12*Tributação!D31","v":0},{"$f":"'Painel de Controle'!$G$12*Tributação!E31","v":0},{"$f":"'Painel de Controle'!$G$12*Tributação!F31","v":0},{"$f":"'Painel de Controle'!$G$12*Tributação!G31","v":517.14520289660413},{"$f":"'Painel de Controle'!$G$12*Tributação!H31","v":0},{"$f":"'Painel de Controle'!$G$12*Tributação!I31","v":3378.8759858994854},{"$f":"'Painel de Controle'!$G$12*Tributação!J31","v":4270.4067535370777},{"$f":"'Painel de Controle'!$G$12*Tributação!K31","v":4759.2179023915114},{"$f":"'Painel de Controle'!$G$12*Tributação!L31","v":0},{"$f":"'Painel de Controle'!$G$12*Tributação!M31","v":5204.4516482458994},{"$f":"'Painel de Controle'!$G$12*Tributação!N31","v":5491.2685887376556},{"$f":"'Painel de Controle'!$G$12*Tributação!O31","v":5510.7413396757083},{"$f":"'Painel de Controle'!$G$12*Tributação!P31","v":5593.1771572332973},{"$f":"'Painel de Controle'!$G$12*Tributação!Q31","v":5603.6597683475229},{"$f":"'Painel de Controle'!$G$12*Tributação!R31","v":5429.9231467737081},{"$f":"'Painel de Controle'!$G$12*Tributação!S31","v":5413.4680318554701},{"$f":"'Painel de Controle'!$G$12*Tributação!T31","v":7189.3039098242416},{"$f":"'Painel de Controle'!$G$12*Tributação!U31","v":7462.2727432557822},{"$f":"'Painel de Controle'!$G$12*Tributação!V31","v":8060.4668653568042},{"$f":"'Painel de Controle'!$G$12*Tributação!W31","v":7910.7181727641546},{"$f":"'Painel de Controle'!$G$12*Tributação!X31","v":7704.6360078777825},{"$f":"'Painel de Controle'!$G$12*Tributação!Y31","v":7534.9387020032527},{"$f":"'Painel de Controle'!$G$12*Tributação!Z31","v":8233.54191354875},{"$f":"'Painel de Controle'!$G$12*Tributação!AA31","v":8692.5282028137226},{"$f":"'Painel de Controle'!$G$12*Tributação!AB31","v":8999.8199965087842},{"$f":"'Painel de Controle'!$G$12*Tributação!AC31","v":9354.7174797397729},{"$f":"'Painel de Controle'!$G$12*Tributação!AD31","v":9615.3775791035241},{"$f":"'Painel de Controle'!$G$12*Tributação!AE31","v":9915.3672615031646},{"$f":"'Painel de Controle'!$G$12*Tributação!AF31","v":10164.200553504897},{"$f":"'Painel de Controle'!$G$12*Tributação!AG31","v":10145.790172123903},{"$f":"'Painel de Controle'!$G$12*Tributação!AH31","v":10053.122462669622},{"$f":"'Painel de Controle'!$G$12*Tributação!AI31","v":9955.9126623815519},{"$f":"'Painel de Controle'!$G$12*Tributação!AJ31","v":10183.433368531942},{"$f":"'Painel de Controle'!$G$12*Tributação!AK31","v":10320.525575849064},{"$f":"'Painel de Controle'!$G$12*Tributação!AL31","v":10371.423599430202}]
[null,"IRPJ Sudene",null,{"$f":"IF('Painel de Controle'!$G$13=\"S\",IF(Tributação!D4<=10,(1-'Painel de Controle'!$G$14),1),1)*Tributação!D32","v":0},{"$f":"IF('Painel de Controle'!$G$13=\"S\",IF(Tributação!E4<=10,(1-'Painel de Controle'!$G$14),1),1)*Tributação!E32","v":0},{"$f":"IF('Painel de Controle'!$G$13=\"S\",IF(Tributação!F4<=10,(1-'Painel de Controle'!$G$14),1),1)*Tributação!F32","v":0},{"$f":"IF('Painel de Controle'!$G$13=\"S\",IF(Tributação!G4<=10,(1-'Painel de Controle'!$G$14),1),1)*Tributação!G32","v":353.12861312264181},{"$f":"IF('Painel de Controle'!$G$13=\"S\",IF(Tributação!H4<=10,(1-'Painel de Controle'!$G$14),1),1)*Tributação!H32","v":0},{"$f":"IF('Painel de Controle'!$G$13=\"S\",IF(Tributação!I4<=10,(1-'Painel de Controle'!$G$14),1),1)*Tributação!I32","v":2340.4416568746428},{"$f":"IF('Painel de Controle'!$G$13=\"S\",IF(Tributação!J4<=10,(1-'Painel de Controle'!$G$14),1),1)*Tributação!J32","v":2959.5602455118596},{"$f":"IF('Painel de Controle'!$G$13=\"S\",IF(Tributação!K4<=10,(1-'Painel de Controle'!$G$14),1),1)*Tributação!K32","v":3299.0124322163274},{"$f":"IF('Painel de Controle'!$G$13=\"S\",IF(Tributação!L4<=10,(1-'Painel de Controle'!$G$14),1),1)*Tributação!L32","v":0},{"$f":"IF('Painel de Controle'!$G$13=\"S\",IF(Tributação!M4<=10,(1-'Painel de Controle'!$G$14),1),1)*Tributação!M32","v":3608.2025335040967},{"$f":"IF('Painel de Controle'!$G$13=\"S\",IF(Tributação!N4<=10,(1-'Painel de Controle'!$G$14),1),1)*Tributação!N32","v":15229.523857604599},{"$f":"IF('Painel de Controle'!$G$13=\"S\",IF(Tributação!O4<=10,(1-'Painel de Controle'!$G$14),1),1)*Tributação!O32","v":15283.614832432526},{"$f":"IF('Painel de Controle'!$G$13=\"S\",IF(Tributação!P4<=10,(1-'Painel de Controle'!$G$14),1),1)*Tributação!P32","v":15512.603214536935},{"$f":"IF('Painel de Controle'!$G$13=\"S\",IF(Tributação!Q4<=10,(1-'Painel de Controle'!$G$14),1),1)*Tributação!Q32","v":15541.72157874312},{"$f":"IF('Painel de Controle'!$G$13=\"S\",IF(Tributação!R4<=10,(1-'Painel de Controle'!$G$14),1),1)*Tributação!R32","v":15059.11985214919},{"$f":"IF('Painel de Controle'!$G$13=\"S\",IF(Tributação!S4<=10,(1-'Painel de Controle'!$G$14),1),1)*Tributação!S32","v":15013.411199598529},{"$f":"IF('Painel de Controle'!$G$13=\"S\",IF(Tributação!T4<=10,(1-'Painel de Controle'!$G$14),1),1)*Tributação!T32","v":19946.288638400671},{"$f":"IF('Painel de Controle'!$G$13=\"S\",IF(Tributação!U4<=10,(1-'Painel de Controle'!$G$14),1),1)*Tributação!U32","v":20704.53539793273},{"$f":"IF('Painel de Controle'!$G$13=\"S\",IF(Tributação!V4<=10,(1-'Painel de Controle'!$G$14),1),1)*Tributação!V32","v":22366.185737102234},{"$f":"IF('Painel de Controle'!$G$13=\"S\",IF(Tributação!W4<=10,(1-'Painel de Controle'!$G$14),1),1)*Tributação!W32","v":21950.217146567098},{"$f":"IF('Painel de Controle'!$G$13=\"S\",IF(Tributação!X4<=10,(1-'Painel de Controle'!$G$14),1),1)*Tributação!X32","v":21377.766688549396},{"$f":"IF('Painel de Controle'!$G$13=\"S\",IF(Tributação!Y4<=10,(1-'Painel de Controle'!$G$14),1),1)*Tributação!Y32","v":20906.38528334237},{"$f":"IF('Painel de Controle'!$G$13=\"S\",IF(Tributação!Z4<=10,(1-'Painel de Controle'!$G$14),1),1)*Tributação!Z32","v":22846.949759857638},{"$f":"IF('Painel de Controle'!$G$13=\"S\",IF(Tributação!AA4<=10,(1-'Painel de Controle'!$G$14),1),1)*Tributação!AA32","v":24121.911674482562},{"$f":"IF('Painel de Controle'!$G$13=\"S\",IF(Tributação!AB4<=10,(1-'Painel de Controle'!$G$14),1),1)*Tributação!AB32","v":24975.499990302178},{"$f":"IF('Painel de Controle'!$G$13=\"S\",IF(Tributação!AC4<=10,(1-'Painel de Controle'!$G$14),1),1)*Tributação!AC32","v":25961.326332610479},{"$f":"IF('Painel de Controle'!$G$13=\"S\",IF(Tributação!AD4<=10,(1-'Painel de Controle'!$G$14),1),1)*Tributação!AD32","v":26685.382164176455},{"$f":"IF('Painel de Controle'!$G$13=\"S\",IF(Tributação!AE4<=10,(1-'Painel de Controle'!$G$14),1),1)*Tributação!AE32","v":27518.686837508791},{"$f":"IF('Painel de Controle'!$G$13=\"S\",IF(Tributação!AF4<=10,(1-'Painel de Controle'!$G$14),1),1)*Tributação!AF32","v":28209.890426402493},{"$f":"IF('Painel de Controle'!$G$13=\"S\",IF(Tributação!AG4<=10,(1-'Painel de Controle'!$G$14),1),1)*Tributação!AG32","v":28158.750478121954},{"$f":"IF('Painel de Controle'!$G$13=\"S\",IF(Tributação!AH4<=10,(1-'Painel de Controle'!$G$14),1),1)*Tributação!AH32","v":27901.340174082285},{"$f":"IF('Painel de Controle'!$G$13=\"S\",IF(Tributação!AI4<=10,(1-'Painel de Controle'!$G$14),1),1)*Tributação!AI32","v":27631.312951059866},{"$f":"IF('Painel de Controle'!$G$13=\"S\",IF(Tributação!AJ4<=10,(1-'Painel de Controle'!$G$14),1),1)*Tributação!AJ32","v":28263.314912588728},{"$f":"IF('Painel de Controle'!$G$13=\"S\",IF(Tributação!AK4<=10,(1-'Painel de Controle'!$G$14),1),1)*Tributação!AK32","v":28644.126599580733},{"$f":"IF('Painel de Controle'!$G$13=\"S\",IF(Tributação!AL4<=10,(1-'Painel de Controle'!$G$14),1),1)*Tributação!AL32","v":28785.509998417227}]

{"sheet":"WACC","index":11,"n_rows":22,"n_cols":4,"rows_kept":22,"cut":false,"hidden":false,"merged":[]}
[]
[null,"WACC"]
[]
[null,"Estrutura de Capital"]
[null,"(A) Participação Capital Próprio",null,0.4]
[null,"(B) Participação Capital Terceiros",null,0.6]
[null,"Custo do Capital Próprio (CAPM)"]
[null,"(1) Taxa Livre de Risco",null,3.7068046440541957E-2]
[null,"(2) Taxa de Retorno do Mercado",null,0.10089927578651858]
[null,"(3) Prêmio de Risco de Mercado","(2) - (1)",6.3831229345976626E-2]
[null,"(4) Beta Desalavancado",null,0.66993775653500909]
[null,"(5) IR + CSLL",null,0.34]
[null,"(6) Beta Alavancado  "," {(A) + (B) * [1 - (5)]} / (A) * (4)",{"$f":"(D5+D6*(1-D12))/D5*D11","v":1.3331761355046681}]
[null,"(7) Prêmio de Risco do Negócio"," (3) * (6) ",{"$f":"D10*D13","v":8.5098271663981276E-2}]
[null,"(8) Prêmio de Risco Brasil",null,2.8319413629160062E-2]
[null,"(9) Custo de Capital Próprio Nominal (USD)","(1) + (7) + (8) ",{"$f":"D8+D14+D15","v":0.15048573173368329}]
[null,"(10) Taxa de Inflação Americana ",null,2.0152763416717123E-2]
[null,"(14) Custo Real do Capital Próprio (CAPM)","[1+(13)]/[1+(11)]-1",{"$f":"(1+D16)/(1+D17)-1","v":0.12775828580854109}]
[null,"Custo do Capital de Terceiros"]
[null,"(15) Custo Real da Dívida Líquido de impostos",null,6.7983171428571409E-2]
[null,"WACC"]
[null,"(16) WACC = ","(A) x (14) + (B) x (16) ",{"$f":"D5*D18+D6*D20","v":9.1893217180559289E-2}]

{"sheet":"Investimentos >>>>","index":12,"n_rows":0,"n_cols":0,"rows_kept":0,"cut":false,"hidden":false,"merged":[]}

{"sheet":"CAPEX","index":13,"n_rows":134,"n_cols":40,"rows_kept":134,"cut":false,"hidden":false,"merged":[[7,0,8,0]]}
[]
[null,null,"INVESTIMENTOS"]
[]
[null,null,null,null,"Total",1,2,3,4,5,6,7,8,9,10]
[null,null,"Ocupação da área (hectares)",null,{"$f":"SUM(F5:O5)","v":10238.18},{"$f":"VLOOKUP(F4,'Painel de Controle'!$B$11:$C$20,2,FALSE)","v":0},{"$f":"VLOOKUP(G4,'Painel de Controle'!$B$11:$C$20,2,FALSE)","v":0},{"$f":"VLOOKUP(H4,'Painel de Controle'!$B$11:$C$20,2,FALSE)","v":0},{"$f":"VLOOKUP(I4,'Painel de Controle'!$B$11:$C$20,2,FALSE)","v":3739.57},{"$f":"VLOOKUP(J4,'Painel de Controle'!$B$11:$C$20,2,FALSE)","v":2658.84},{"$f":"VLOOKUP(K4,'Painel de Controle'!$B$11:$C$20,2,FALSE)","v":2019},{"$f":"VLOOKUP(L4,'Painel de Controle'!$B$11:$C$20,2,FALSE)","v":1097.44},{"$f":"VLOOKUP(M4,'Painel de Controle'!$B$11:$C$20,2,FALSE)","v":723.33},{"$f":"VLOOKUP(N4,'Painel de Controle'!$B$11:$C$20,2,FALSE)","v":0},{"$f":"VLOOKUP(O4,'Painel de Controle'!$B$11:$C$20,2,FALSE)","v":0}]
[null,null,"Área Total Ocupada (hectares)",null,null,{"$f":"F5","v":0},{"$f":"F6+G5","v":0},{"$f":"G6+H5","v":0},3739.57,6398.41,8417.41,9514.85,10238.18,10238.18,10238.18]
[null,null,null,null,null,null,null,null,{"$f":"I5/$E$5","v":0.3652573015907124},{"$f":"J5/$E$5","v":0.25969850110078158},0.19720301850524213,0.10719092651232934,7.0650252290934523E-2,0,0]
["Item",null,"CAPEX FINAL"]
[null,null,"Discriminação","Vida Útil\n(anos)","Valores (R$)",1,2,3,4,5,6,7,8,9,10,11,12,13,14,15,16,17,18,19,20,21,22,23,24,25,26,27,28,29,30,31,32,33,34,35]
[null,null,"Custos diversos"]
[null,null,"Desmatamento das áreas agrícolas (SAU)  ",35,{"$f":"SUM(F11:O11)","v":60562555.126900002},{"$f":"IF('Painel de Controle'!$G$16=\"S\",CAPEX!F75*(1-'Painel de Controle'!$G$17),CAPEX!F75)","v":0},{"$f":"IF('Painel de Controle'!$G$16=\"S\",CAPEX!G75*(1-'Painel de Controle'!$G$17),CAPEX!G75)","v":0},{"$f":"IF('Painel de Controle'!$G$16=\"S\",CAPEX!H75*(1-'Painel de Controle'!$G$17),CAPEX!H75)","v":22120915.46309026},{"$f":"IF('Painel de Controle'!$G$16=\"S\",CAPEX!I75*(1-'Painel de Controle'!$G$17),CAPEX!I75)","v":15728004.789289385},{"$f":"IF('Painel de Controle'!$G$16=\"S\",CAPEX!J75*(1-'Painel de Controle'!$G$17),CAPEX!J75)","v":11943118.679414807},{"$f":"IF('Painel de Controle'!$G$16=\"S\",CAPEX!K75*(1-'Painel de Controle'!$G$17),CAPEX!K75)","v":6491756.3960064324},{"$f":"IF('Painel de Controle'!$G$16=\"S\",CAPEX!L75*(1-'Painel de Controle'!$G$17),CAPEX!L75)","v":4278759.7990991157},{"$f":"IF('Painel de Controle'!$G$16=\"S\",CAPEX!M75*(1-'Painel de Controle'!$G$17),CAPEX!M75)","v":0},{"$f":"IF('Painel de Controle'!$G$16=\"S\",CAPEX!N75*(1-'Painel de Controle'!$G$17),CAPEX!N75)","v":0},{"$f":"IF('Painel de Controle'!$G$16=\"S\",CAPEX!O75*(1-'Painel de Controle'!$G$17),CAPEX!O75)","v":0}]
[null,null,"M. Ambiente (Estudos, Licenças e Exec. PBAs )",35,{"$f":"SUM(F12:AN12)","v":51989500.700860001},{"$f":"IF('Painel de Controle'!$G$16=\"S\",CAPEX!F76*(1-'Painel de Controle'!$G$17),CAPEX!F76)","v":3042292.9888200006},{"$f":"IF('Painel de Controle'!$G$16=\"S\",CAPEX!G76*(1-'Painel de Controle'!$G$17),CAPEX!G76)","v":4869516.7153749997},{"$f":"IF('Painel de Controle'!$G$16=\"S\",CAPEX!H76*(1-'Painel de Controle'!$G$17),CAPEX!H76)","v":9227865.4151749983},{"$f":"IF('Painel de Controle'!$G$16=\"S\",CAPEX!I76*(1-'Painel de Controle'!$G$17),CAPEX!I76)","v":9373531.9796099998},{"$f":"IF('Painel de Controle'!$G$16=\"S\",CAPEX!J76*(1-'Painel de Controle'!$G$17),CAPEX!J76)","v":9626586.9299700018},{"$f":"IF('Painel de Controle'!$G$16=\"S\",CAPEX!K76*(1-'Painel de Controle'!$G$17),CAPEX!K76)","v":8261458.4778650003},{"$f":"IF('Painel de Controle'!$G$16=\"S\",CAPEX!L76*(1-'Painel de Controle'!$G$17),CAPEX!L76)","v":7588248.1940449988}]
[null,null,"Consultoria (projetos)",35,{"$f":"SUM(F13:O13)","v":5392675.7774999999},{"$f":"IF('Painel de Controle'!$G$16=\"S\",CAPEX!F77*(1-'Painel de Controle'!$G$17),CAPEX!F77)","v":5392675.7774999999},{"$f":"IF('Painel de Controle'!$G$16=\"S\",CAPEX!G77*(1-'Painel de Controle'!$G$17),CAPEX!G77)","v":0},{"$f":"IF('Painel de Controle'!$G$16=\"S\",CAPEX!H77*(1-'Painel de Controle'!$G$17),CAPEX!H77)","v":0},{"$f":"IF('Painel de Controle'!$G$16=\"S\",CAPEX!I77*(1-'Painel de Controle'!$G$17),CAPEX!I77)","v":0},{"$f":"IF('Painel de Controle'!$G$16=\"S\",CAPEX!J77*(1-'Painel de Controle'!$G$17),CAPEX!J77)","v":0},{"$f":"IF('Painel de Controle'!$G$16=\"S\",CAPEX!K77*(1-'Painel de Controle'!$G$17),CAPEX!K77)","v":0},{"$f":"IF('Painel de Controle'!$G$16=\"S\",CAPEX!L77*(1-'Painel de Controle'!$G$17),CAPEX!L77)","v":0},{"$f":"IF('Painel de Controle'!$G$16=\"S\",CAPEX!M77*(1-'Painel de Controle'!$G$17),CAPEX!M77)","v":0},{"$f":"IF('Painel de Controle'!$G$16=\"S\",CAPEX!N77*(1-'Painel de Controle'!$G$17),CAPEX!N77)","v":0},{"$f":"IF('Painel de Controle'!$G$16=\"S\",CAPEX!O77*(1-'Painel de Controle'!$G$17),CAPEX!O77)","v":0}]
[null,null,"Consultoria (supervisão de obras)",35,{"$f":"SUM(F14:O14)","v":5392675.7775000008},{"$f":"IF('Painel de Controle'!$G$16=\"S\",CAPEX!F78*(1-'Painel de Controle'!$G$17),CAPEX!F78)","v":0},{"$f":"IF('Painel de Controle'!$G$16=\"S\",CAPEX!G78*(1-'Painel de Controle'!$G$17),CAPEX!G78)","v":1969714.2028432472},{"$f":"IF('Painel de Controle'!$G$16=\"S\",CAPEX!H78*(1-'Painel de Controle'!$G$17),CAPEX!H78)","v":1400469.816339242},{"$f":"IF('Painel de Controle'!$G$16=\"S\",CAPEX!I78*(1-'Painel de Controle'!$G$17),CAPEX!I78)","v":1063451.9411431036},{"$f":"IF('Painel de Controle'!$G$16=\"S\",CAPEX!J78*(1-'Painel de Controle'!$G$17),CAPEX!J78)","v":578045.91297082102},{"$f":"IF('Painel de Controle'!$G$16=\"S\",CAPEX!K78*(1-'Painel de Controle'!$G$17),CAPEX!K78)","v":380993.90420358645},{"$f":"IF('Painel de Controle'!$G$16=\"S\",CAPEX!L78*(1-'Painel de Controle'!$G$17),CAPEX!L78)","v":0},{"$f":"IF('Painel de Controle'!$G$16=\"S\",CAPEX!M78*(1-'Painel de Controle'!$G$17),CAPEX!M78)","v":0},{"$f":"IF('Painel de Controle'!$G$16=\"S\",CAPEX!N78*(1-'Painel de Controle'!$G$17),CAPEX!N78)","v":0},{"$f":"IF('Painel de Controle'!$G$16=\"S\",CAPEX!O78*(1-'Painel de Controle'!$G$17),CAPEX!O78)","v":0}]
[null,null,"Serviços preliminares"]
[null,null,"Mobilização e desmobilização",35,{"$f":"SUM(F16:O16)","v":2195314.7833856451},{"$f":"IF('Painel de Controle'!$G$16=\"S\",CAPEX!F80*(1-'Painel de Controle'!$G$17),CAPEX!F80)","v":0},{"$f":"IF('Painel de Controle'!$G$16=\"S\",CAPEX!G80*(1-'Painel de Controle'!$G$17),CAPEX!G80)","v":1097657.3916928226},{"$f":"IF('Painel de Controle'!$G$16=\"S\",CAPEX!H80*(1-'Painel de Controle'!$G$17),CAPEX!H80)","v":0},{"$f":"IF('Painel de Controle'!$G$16=\"S\",CAPEX!I80*(1-'Painel de Controle'!$G$17),CAPEX!I80)","v":0},{"$f":"IF('Painel de Controle'!$G$16=\"S\",CAPEX!J80*(1-'Painel de Controle'!$G$17),CAPEX!J80)","v":0},{"$f":"IF('Painel de Controle'!$G$16=\"S\",CAPEX!K80*(1-'Painel de Controle'!$G$17),CAPEX!K80)","v":0},{"$f":"IF('Painel de Controle'!$G$16=\"S\",CAPEX!L80*(1-'Painel de Controle'!$G$17),CAPEX!L80)","v":1097657.3916928226},{"$f":"IF('Painel de Controle'!$G$16=\"S\",CAPEX!M80*(1-'Painel de Controle'!$G$17),CAPEX!M80)","v":0},{"$f":"IF('Painel de Controle'!$G$16=\"S\",CAPEX!N80*(1-'Painel de Controle'!$G$17),CAPEX!N80)","v":0},{"$f":"IF('Painel de Controle'!$G$16=\"S\",CAPEX!O80*(1-'Painel de Controle'!$G$17),CAPEX!O80)","v":0}]
[null,null,"Administração direta",35,17131551.494351756,{"$f":"IF('Painel de Controle'!$G$16=\"S\",CAPEX!F81*(1-'Painel de Controle'!$G$17),CAPEX!F81)","v":0},{"$f":"IF('Painel de Controle'!$G$16=\"S\",CAPEX!G81*(1-'Painel de Controle'!$G$17),CAPEX!G81)","v":2855258.5823919596},{"$f":"IF('Painel de Controle'!$G$16=\"S\",CAPEX!H81*(1-'Painel de Controle'!$G$17),CAPEX!H81)","v":2855258.5823919596},{"$f":"IF('Painel de Controle'!$G$16=\"S\",CAPEX!I81*(1-'Painel de Controle'!$G$17),CAPEX!I81)","v":2855258.5823919596},{"$f":"IF('Painel de Controle'!$G$16=\"S\",CAPEX!J81*(1-'Painel de Controle'!$G$17),CAPEX!J81)","v":2855258.5823919596},{"$f":"IF('Painel de Controle'!$G$16=\"S\",CAPEX!K81*(1-'Painel de Controle'!$G$17),CAPEX!K81)","v":2855258.5823919596},{"$f":"IF('Painel de Controle'!$G$16=\"S\",CAPEX!L81*(1-'Painel de Controle'!$G$17),CAPEX!L81)","v":2855258.5823919596},{"$f":"IF('Painel de Controle'!$G$16=\"S\",CAPEX!M81*(1-'Painel de Controle'!$G$17),CAPEX!M81)","v":0},{"$f":"IF('Painel de Controle'!$G$16=\"S\",CAPEX!N81*(1-'Painel de Controle'!$G$17),CAPEX!N81)","v":0},{"$f":"IF('Painel de Controle'!$G$16=\"S\",CAPEX!O81*(1-'Painel de Controle'!$G$17),CAPEX!O81)","v":0}]
[null,null,"Implantação do canteiro de obras",35,351684.99884632987,{"$f":"IF('Painel de Controle'!$G$16=\"S\",CAPEX!F82*(1-'Painel de Controle'!$G$17),CAPEX!F82)","v":0},{"$f":"IF('Painel de Controle'!$G$16=\"S\",CAPEX!G82*(1-'Painel de Controle'!$G$17),CAPEX!G82)","v":351684.99884632987},{"$f":"IF('Painel de Controle'!$G$16=\"S\",CAPEX!H82*(1-'Painel de Controle'!$G$17),CAPEX!H82)","v":0},{"$f":"IF('Painel de Controle'!$G$16=\"S\",CAPEX!I82*(1-'Painel de Controle'!$G$17),CAPEX!I82)","v":0},{"$f":"IF('Painel de Controle'!$G$16=\"S\",CAPEX!J82*(1-'Painel de Controle'!$G$17),CAPEX!J82)","v":0},{"$f":"IF('Painel de Controle'!$G$16=\"S\",CAPEX!K82*(1-'Painel de Controle'!$G$17),CAPEX!K82)","v":0},{"$f":"IF('Painel de Controle'!$G$16=\"S\",CAPEX!L82*(1-'Painel de Controle'!$G$17),CAPEX!L82)","v":0},{"$f":"IF('Painel de Controle'!$G$16=\"S\",CAPEX!M82*(1-'Painel de Controle'!$G$17),CAPEX!M82)","v":0},{"$f":"IF('Painel de Controle'!$G$16=\"S\",CAPEX!N82*(1-'Painel de Controle'!$G$17),CAPEX!N82)","v":0},{"$f":"IF('Painel de Controle'!$G$16=\"S\",CAPEX!O82*(1-'Painel de Controle'!$G$17),CAPEX!O82)","v":0}]
[null,null,"Infraestrutura Sul"]
[null,null,"EBP-Sul",20,22095987.805720981,{"$f":"IF('Painel de Controle'!$G$16=\"S\",CAPEX!F84*(1-'Painel de Controle'!$G$17),CAPEX!F84)","v":0},{"$f":"IF('Painel de Controle'!$G$16=\"S\",CAPEX!G84*(1-'Painel de Controle'!$G$17),CAPEX!G84)","v":8838395.1222883929},{"$f":"IF('Painel de Controle'!$G$16=\"S\",CAPEX!H84*(1-'Painel de Controle'!$G$17),CAPEX!H84)","v":13257592.683432588},{"$f":"IF('Painel de Controle'!$G$16=\"S\",CAPEX!I84*(1-'Painel de Controle'!$G$17),CAPEX!I84)","v":0},{"$f":"IF('Painel de Controle'!$G$16=\"S\",CAPEX!J84*(1-'Painel de Controle'!$G$17),CAPEX!J84)","v":0},{"$f":"IF('Painel de Controle'!$G$16=\"S\",CAPEX!K84*(1-'Painel de Controle'!$G$17),CAPEX!K84)","v":0},{"$f":"IF('Painel de Controle'!$G$16=\"S\",CAPEX!L84*(1-'Painel de Controle'!$G$17),CAPEX!L84)","v":0},{"$f":"IF('Painel de Controle'!$G$16=\"S\",CAPEX!M84*(1-'Painel de Controle'!$G$17),CAPEX!M84)","v":0},{"$f":"IF('Painel de Controle'!$G$16=\"S\",CAPEX!N84*(1-'Painel de Controle'!$G$17),CAPEX!N84)","v":0},{"$f":"IF('Painel de Controle'!$G$16=\"S\",CAPEX!O84*(1-'Painel de Controle'!$G$17),CAPEX!O84)","v":0}]
[null,null,"Adutora EBP-Sul",30,89046.661582440051,{"$f":"IF('Painel de Controle'!$G$16=\"S\",CAPEX!F85*(1-'Painel de Controle'!$G$17),CAPEX!F85)","v":0},{"$f":"IF('Painel de Controle'!$G$16=\"S\",CAPEX!G85*(1-'Painel de Controle'!$G$17),CAPEX!G85)","v":89046.661582440051},{"$f":"IF('Painel de Controle'!$G$16=\"S\",CAPEX!H85*(1-'Painel de Controle'!$G$17),CAPEX!H85)","v":0},{"$f":"IF('Painel de Controle'!$G$16=\"S\",CAPEX!I85*(1-'Painel de Controle'!$G$17),CAPEX!I85)","v":0},{"$f":"IF('Painel de Controle'!$G$16=\"S\",CAPEX!J85*(1-'Painel de Controle'!$G$17),CAPEX!J85)","v":0},{"$f":"IF('Painel de Controle'!$G$16=\"S\",CAPEX!K85*(1-'Painel de Controle'!$G$17),CAPEX!K85)","v":0},{"$f":"IF('Painel de Controle'!$G$16=\"S\",CAPEX!L85*(1-'Painel de Controle'!$G$17),CAPEX!L85)","v":0},{"$f":"IF('Painel de Controle'!$G$16=\"S\",CAPEX!M85*(1-'Painel de Controle'!$G$17),CAPEX!M85)","v":0},{"$f":"IF('Painel de Controle'!$G$16=\"S\",CAPEX!N85*(1-'Painel de Controle'!$G$17),CAPEX!N85)","v":0},{"$f":"IF('Painel de Controle'!$G$16=\"S\",CAPEX!O85*(1-'Painel de Controle'!$G$17),CAPEX!O85)","v":0}]
[null,null,"Reservatório pulmão",35,380921.61847019999,{"$f":"IF('Painel de Controle'!$G$16=\"S\",CAPEX!F86*(1-'Painel de Controle'!$G$17),CAPEX!F86)","v":0},{"$f":"IF('Painel de Controle'!$G$16=\"S\",CAPEX!G86*(1-'Painel de Controle'!$G$17),CAPEX!G86)","v":380921.61847019999},{"$f":"IF('Painel de Controle'!$G$16=\"S\",CAPEX!H86*(1-'Painel de Controle'!$G$17),CAPEX!H86)","v":0},{"$f":"IF('Painel de Controle'!$G$16=\"S\",CAPEX!I86*(1-'Painel de Controle'!$G$17),CAPEX!I86)","v":0},{"$f":"IF('Painel de Controle'!$G$16=\"S\",CAPEX!J86*(1-'Painel de Controle'!$G$17),CAPEX!J86)","v":0},{"$f":"IF('Painel de Controle'!$G$16=\"S\",CAPEX!K86*(1-'Painel de Controle'!$G$17),CAPEX!K86)","v":0},{"$f":"IF('Painel de Controle'!$G$16=\"S\",CAPEX!L86*(1-'Painel de Controle'!$G$17),CAPEX!L86)","v":0},{"$f":"IF('Painel de Controle'!$G$16=\"S\",CAPEX!M86*(1-'Painel de Controle'!$G$17),CAPEX!M86)","v":0},{"$f":"IF('Painel de Controle'!$G$16=\"S\",CAPEX!N86*(1-'Painel de Controle'!$G$17),CAPEX!N86)","v":0},{"$f":"IF('Painel de Controle'!$G$16=\"S\",CAPEX!O86*(1-'Painel de Controle'!$G$17),CAPEX!O86)","v":0}]
[null,null,"Canal CP2-Sul",35,1411566.5773624675,{"$f":"IF('Painel de Controle'!$G$16=\"S\",CAPEX!F87*(1-'Painel de Controle'!$G$17),CAPEX!F87)","v":0},{"$f":"IF('Painel de Controle'!$G$16=\"S\",CAPEX!G87*(1-'Painel de Controle'!$G$17),CAPEX!G87)","v":1411566.5773624675},{"$f":"IF('Painel de Controle'!$G$16=\"S\",CAPEX!H87*(1-'Painel de Controle'!$G$17),CAPEX!H87)","v":0},{"$f":"IF('Painel de Controle'!$G$16=\"S\",CAPEX!I87*(1-'Painel de Controle'!$G$17),CAPEX!I87)","v":0},{"$f":"IF('Painel de Controle'!$G$16=\"S\",CAPEX!J87*(1-'Painel de Controle'!$G$17),CAPEX!J87)","v":0},{"$f":"IF('Painel de Controle'!$G$16=\"S\",CAPEX!K87*(1-'Painel de Controle'!$G$17),CAPEX!K87)","v":0},{"$f":"IF('Painel de Controle'!$G$16=\"S\",CAPEX!L87*(1-'Painel de Controle'!$G$17),CAPEX!L87)","v":0},{"$f":"IF('Painel de Controle'!$G$16=\"S\",CAPEX!M87*(1-'Painel de Controle'!$G$17),CAPEX!M87)","v":0},{"$f":"IF('Painel de Controle'!$G$16=\"S\",CAPEX!N87*(1-'Painel de Controle'!$G$17),CAPEX!N87)","v":0},{"$f":"IF('Painel de Controle'!$G$16=\"S\",CAPEX!O87*(1-'Painel de Controle'!$G$17),CAPEX!O87)","v":0}]
[null,null,"EBS-Sul",20,17528904.150587454,{"$f":"IF('Painel de Controle'!$G$16=\"S\",CAPEX!F88*(1-'Painel de Controle'!$G$17),CAPEX!F88)","v":0},{"$f":"IF('Painel de Controle'!$G$16=\"S\",CAPEX!G88*(1-'Painel de Controle'!$G$17),CAPEX!G88)","v":7011561.6602349821},{"$f":"IF('Painel de Controle'!$G$16=\"S\",CAPEX!H88*(1-'Painel de Controle'!$G$17),CAPEX!H88)","v":10517342.49035247},{"$f":"IF('Painel de Controle'!$G$16=\"S\",CAPEX!I88*(1-'Painel de Controle'!$G$17),CAPEX!I88)","v":0},{"$f":"IF('Painel de Controle'!$G$16=\"S\",CAPEX!J88*(1-'Painel de Controle'!$G$17),CAPEX!J88)","v":0},{"$f":"IF('Painel de Controle'!$G$16=\"S\",CAPEX!K88*(1-'Painel de Controle'!$G$17),CAPEX!K88)","v":0},{"$f":"IF('Painel de Controle'!$G$16=\"S\",CAPEX!L88*(1-'Painel de Controle'!$G$17),CAPEX!L88)","v":0},{"$f":"IF('Painel de Controle'!$G$16=\"S\",CAPEX!M88*(1-'Painel de Controle'!$G$17),CAPEX!M88)","v":0},{"$f":"IF('Painel de Controle'!$G$16=\"S\",CAPEX!N88*(1-'Painel de Controle'!$G$17),CAPEX!N88)","v":0},{"$f":"IF('Painel de Controle'!$G$16=\"S\",CAPEX!O88*(1-'Painel de Controle'!$G$17),CAPEX!O88)","v":0}]
[null,null,"Adutora da EBS-Sul",30,84003.451275972417,{"$f":"IF('Painel de Controle'!$G$16=\"S\",CAPEX!F89*(1-'Painel de Controle'!$G$17),CAPEX!F89)","v":0},{"$f":"IF('Painel de Controle'!$G$16=\"S\",CAPEX!G89*(1-'Painel de Controle'!$G$17),CAPEX!G89)","v":84003.451275972417},{"$f":"IF('Painel de Controle'!$G$16=\"S\",CAPEX!H89*(1-'Painel de Controle'!$G$17),CAPEX!H89)","v":0},{"$f":"IF('Painel de Controle'!$G$16=\"S\",CAPEX!I89*(1-'Painel de Controle'!$G$17),CAPEX!I89)","v":0},{"$f":"IF('Painel de Controle'!$G$16=\"S\",CAPEX!J89*(1-'Painel de Controle'!$G$17),CAPEX!J89)","v":0},{"$f":"IF('Painel de Controle'!$G$16=\"S\",CAPEX!K89*(1-'Painel de Controle'!$G$17),CAPEX!K89)","v":0},{"$f":"IF('Painel de Controle'!$G$16=\"S\",CAPEX!L89*(1-'Painel de Controle'!$G$17),CAPEX!L89)","v":0},{"$f":"IF('Painel de Controle'!$G$16=\"S\",CAPEX!M89*(1-'Painel de Controle'!$G$17),CAPEX!M89)","v":0},{"$f":"IF('Painel de Controle'!$G$16=\"S\",CAPEX!N89*(1-'Painel de Controle'!$G$17),CAPEX!N89)","v":0},{"$f":"IF('Painel de Controle'!$G$16=\"S\",CAPEX!O89*(1-'Painel de Controle'!$G$17),CAPEX!O89)","v":0}]
[null,null,"Canal CP3-Sul",35,2547427.5854191193,{"$f":"IF('Painel de Controle'!$G$16=\"S\",CAPEX!F90*(1-'Painel de Controle'!$G$17),CAPEX!F90)","v":0},{"$f":"IF('Painel de Controle'!$G$16=\"S\",CAPEX!G90*(1-'Painel de Controle'!$G$17),CAPEX!G90)","v":2547427.5854191193},{"$f":"IF('Painel de Controle'!$G$16=\"S\",CAPEX!H90*(1-'Painel de Controle'!$G$17),CAPEX!H90)","v":0},{"$f":"IF('Painel de Controle'!$G$16=\"S\",CAPEX!I90*(1-'Painel de Controle'!$G$17),CAPEX!I90)","v":0},{"$f":"IF('Painel de Controle'!$G$16=\"S\",CAPEX!J90*(1-'Painel de Controle'!$G$17),CAPEX!J90)","v":0},{"$f":"IF('Painel de Controle'!$G$16=\"S\",CAPEX!K90*(1-'Painel de Controle'!$G$17),CAPEX!K90)","v":0},{"$f":"IF('Painel de Controle'!$G$16=\"S\",CAPEX!L90*(1-'Painel de Controle'!$G$17),CAPEX!L90)","v":0},{"$f":"IF('Painel de Controle'!$G$16=\"S\",CAPEX!M90*(1-'Painel de Controle'!$G$17),CAPEX!M90)","v":0},{"$f":"IF('Painel de Controle'!$G$16=\"S\",CAPEX!N90*(1-'Painel de Controle'!$G$17),CAPEX!N90)","v":0},{"$f":"IF('Painel de Controle'!$G$16=\"S\",CAPEX!O90*(1-'Painel de Controle'!$G$17),CAPEX!O90)","v":0}]
[null,null,"EBA-9",20,4339886.3308293745,{"$f":"IF('Painel de Controle'!$G$16=\"S\",CAPEX!F91*(1-'Painel de Controle'!$G$17),CAPEX!F91)","v":0},{"$f":"IF('Painel de Controle'!$G$16=\"S\",CAPEX!G91*(1-'Painel de Controle'!$G$17),CAPEX!G91)","v":1735954.5323317498},{"$f":"IF('Painel de Controle'!$G$16=\"S\",CAPEX!H91*(1-'Painel de Controle'!$G$17),CAPEX!H91)","v":2603931.7984976247},{"$f":"IF('Painel de Controle'!$G$16=\"S\",CAPEX!I91*(1-'Painel de Controle'!$G$17),CAPEX!I91)","v":0},{"$f":"IF('Painel de Controle'!$G$16=\"S\",CAPEX!J91*(1-'Painel de Controle'!$G$17),CAPEX!J91)","v":0},{"$f":"IF('Painel de Controle'!$G$16=\"S\",CAPEX!K91*(1-'Painel de Controle'!$G$17),CAPEX!K91)","v":0},{"$f":"IF('Painel de Controle'!$G$16=\"S\",CAPEX!L91*(1-'Painel de Controle'!$G$17),CAPEX!L91)","v":0},{"$f":"IF('Painel de Controle'!$G$16=\"S\",CAPEX!M91*(1-'Painel de Controle'!$G$17),CAPEX!M91)","v":0},{"$f":"IF('Painel de Controle'!$G$16=\"S\",CAPEX!N91*(1-'Painel de Controle'!$G$17),CAPEX!N91)","v":0},{"$f":"IF('Painel de Controle'!$G$16=\"S\",CAPEX!O91*(1-'Painel de Controle'!$G$17),CAPEX!O91)","v":0}]
[null,null,"EBAs 10-11-12",25,11068385.435637914,{"$f":"IF('Painel de Controle'!$G$16=\"S\",CAPEX!F92*(1-'Painel de Controle'!$G$17),CAPEX!F92)","v":0},{"$f":"IF('Painel de Controle'!$G$16=\"S\",CAPEX!G92*(1-'Painel de Controle'!$G$17),CAPEX!G92)","v":4427354.1742551662},{"$f":"IF('Painel de Controle'!$G$16=\"S\",CAPEX!H92*(1-'Painel de Controle'!$G$17),CAPEX!H92)","v":6641031.2613827474},{"$f":"IF('Painel de Controle'!$G$16=\"S\",CAPEX!I92*(1-'Painel de Controle'!$G$17),CAPEX!I92)","v":0},{"$f":"IF('Painel de Controle'!$G$16=\"S\",CAPEX!J92*(1-'Painel de Controle'!$G$17),CAPEX!J92)","v":0},{"$f":"IF('Painel de Controle'!$G$16=\"S\",CAPEX!K92*(1-'Painel de Controle'!$G$17),CAPEX!K92)","v":0},{"$f":"IF('Painel de Controle'!$G$16=\"S\",CAPEX!L92*(1-'Painel de Controle'!$G$17),CAPEX!L92)","v":0},{"$f":"IF('Painel de Controle'!$G$16=\"S\",CAPEX!M92*(1-'Painel de Controle'!$G$17),CAPEX!M92)","v":0},{"$f":"IF('Painel de Controle'!$G$16=\"S\",CAPEX!N92*(1-'Painel de Controle'!$G$17),CAPEX!N92)","v":0},{"$f":"IF('Painel de Controle'!$G$16=\"S\",CAPEX!O92*(1-'Painel de Controle'!$G$17),CAPEX!O92)","v":0}]
[null,null,"Tomadas empresariais (24)",30,3006894.9002329158,{"$f":"IF('Painel de Controle'!$G$16=\"S\",CAPEX!F93*(1-'Painel de Controle'!$G$17),CAPEX!F93)","v":0},{"$f":"IF('Painel de Controle'!$G$16=\"S\",CAPEX!G93*(1-'Painel de Controle'!$G$17),CAPEX!G93)","v":1202757.9600931664},{"$f":"IF('Painel de Controle'!$G$16=\"S\",CAPEX!H93*(1-'Painel de Controle'!$G$17),CAPEX!H93)","v":1804136.9401397496},{"$f":"IF('Painel de Controle'!$G$16=\"S\",CAPEX!I93*(1-'Painel de Controle'!$G$17),CAPEX!I93)","v":0},{"$f":"IF('Painel de Controle'!$G$16=\"S\",CAPEX!J93*(1-'Painel de Controle'!$G$17),CAPEX!J93)","v":0},{"$f":"IF('Painel de Controle'!$G$16=\"S\",CAPEX!K93*(1-'Painel de Controle'!$G$17),CAPEX!K93)","v":0},{"$f":"IF('Painel de Controle'!$G$16=\"S\",CAPEX!L93*(1-'Painel de Controle'!$G$17),CAPEX!L93)","v":0},{"$f":"IF('Painel de Controle'!$G$16=\"S\",CAPEX!M93*(1-'Painel de Controle'!$G$17),CAPEX!M93)","v":0},{"$f":"IF('Painel de Controle'!$G$16=\"S\",CAPEX!N93*(1-'Painel de Controle'!$G$17),CAPEX!N93)","v":0},{"$f":"IF('Painel de Controle'!$G$16=\"S\",CAPEX!O93*(1-'Painel de Controle'!$G$17),CAPEX!O93)","v":0}]
[null,null,"Tomadas gravitárias (5)",30,187243.77127984306,{"$f":"IF('Painel de Controle'!$G$16=\"S\",CAPEX!F94*(1-'Painel de Controle'!$G$17),CAPEX!F94)","v":0},{"$f":"IF('Painel de Controle'!$G$16=\"S\",CAPEX!G94*(1-'Painel de Controle'!$G$17),CAPEX!G94)","v":187243.77127984306},{"$f":"IF('Painel de Controle'!$G$16=\"S\",CAPEX!H94*(1-'Painel de Controle'!$G$17),CAPEX!H94)","v":0},{"$f":"IF('Painel de Controle'!$G$16=\"S\",CAPEX!I94*(1-'Painel de Controle'!$G$17),CAPEX!I94)","v":0},{"$f":"IF('Painel de Controle'!$G$16=\"S\",CAPEX!J94*(1-'Painel de Controle'!$G$17),CAPEX!J94)","v":0},{"$f":"IF('Painel de Controle'!$G$16=\"S\",CAPEX!K94*(1-'Painel de Controle'!$G$17),CAPEX!K94)","v":0},{"$f":"IF('Painel de Controle'!$G$16=\"S\",CAPEX!L94*(1-'Painel de Controle'!$G$17),CAPEX!L94)","v":0},{"$f":"IF('Painel de Controle'!$G$16=\"S\",CAPEX!M94*(1-'Painel de Controle'!$G$17),CAPEX!M94)","v":0},{"$f":"IF('Painel de Controle'!$G$16=\"S\",CAPEX!N94*(1-'Painel de Controle'!$G$17),CAPEX!N94)","v":0},{"$f":"IF('Painel de Controle'!$G$16=\"S\",CAPEX!O94*(1-'Painel de Controle'!$G$17),CAPEX!O94)","v":0}]
[null,null,"Adutoras das EBAs / Setores (36,1% de \"L\")",30,52511382.157866552,{"$f":"IF('Painel de Controle'!$G$16=\"S\",CAPEX!F95*(1-'Painel de Controle'!$G$17),CAPEX!F95)","v":0},{"$f":"IF('Painel de Controle'!$G$16=\"S\",CAPEX!G95*(1-'Painel de Controle'!$G$17),CAPEX!G95)","v":21004552.863146622},{"$f":"IF('Painel de Controle'!$G$16=\"S\",CAPEX!H95*(1-'Painel de Controle'!$G$17),CAPEX!H95)","v":31506829.294719927},{"$f":"IF('Painel de Controle'!$G$16=\"S\",CAPEX!I95*(1-'Painel de Controle'!$G$17),CAPEX!I95)","v":0},{"$f":"IF('Painel de Controle'!$G$16=\"S\",CAPEX!J95*(1-'Painel de Controle'!$G$17),CAPEX!J95)","v":0},{"$f":"IF('Painel de Controle'!$G$16=\"S\",CAPEX!K95*(1-'Painel de Controle'!$G$17),CAPEX!K95)","v":0},{"$f":"IF('Painel de Controle'!$G$16=\"S\",CAPEX!L95*(1-'Painel de Controle'!$G$17),CAPEX!L95)","v":0},{"$f":"IF('Painel de Controle'!$G$16=\"S\",CAPEX!M95*(1-'Painel de Controle'!$G$17),CAPEX!M95)","v":0},{"$f":"IF('Painel de Controle'!$G$16=\"S\",CAPEX!N95*(1-'Painel de Controle'!$G$17),CAPEX!N95)","v":0},{"$f":"IF('Painel de Controle'!$G$16=\"S\",CAPEX!O95*(1-'Painel de Controle'!$G$17),CAPEX!O95)","v":0}]
[null,null,"Estradas dos canais e estradas dos setores",35,2130009.6829070332,{"$f":"IF('Painel de Controle'!$G$16=\"S\",CAPEX!F96*(1-'Painel de Controle'!$G$17),CAPEX!F96)","v":0},{"$f":"IF('Painel de Controle'!$G$16=\"S\",CAPEX!G96*(1-'Painel de Controle'!$G$17),CAPEX!G96)","v":852003.87316281337},{"$f":"IF('Painel de Controle'!$G$16=\"S\",CAPEX!H96*(1-'Painel de Controle'!$G$17),CAPEX!H96)","v":1278005.80974422},{"$f":"IF('Painel de Controle'!$G$16=\"S\",CAPEX!I96*(1-'Painel de Controle'!$G$17),CAPEX!I96)","v":0},{"$f":"IF('Painel de Controle'!$G$16=\"S\",CAPEX!J96*(1-'Painel de Controle'!$G$17),CAPEX!J96)","v":0},{"$f":"IF('Painel de Controle'!$G$16=\"S\",CAPEX!K96*(1-'Painel de Controle'!$G$17),CAPEX!K96)","v":0},{"$f":"IF('Painel de Controle'!$G$16=\"S\",CAPEX!L96*(1-'Painel de Controle'!$G$17),CAPEX!L96)","v":0},{"$f":"IF('Painel de Controle'!$G$16=\"S\",CAPEX!M96*(1-'Painel de Controle'!$G$17),CAPEX!M96)","v":0},{"$f":"IF('Painel de Controle'!$G$16=\"S\",CAPEX!N96*(1-'Painel de Controle'!$G$17),CAPEX!N96)","v":0},{"$f":"IF('Painel de Controle'!$G$16=\"S\",CAPEX!O96*(1-'Painel de Controle'!$G$17),CAPEX!O96)","v":0}]
[null,null,"Drenos  dos canais e drenos nos setores",35,6404215.5685590087,{"$f":"IF('Painel de Controle'!$G$16=\"S\",CAPEX!F97*(1-'Painel de Controle'!$G$17),CAPEX!F97)","v":0},{"$f":"IF('Painel de Controle'!$G$16=\"S\",CAPEX!G97*(1-'Painel de Controle'!$G$17),CAPEX!G97)","v":2561686.2274236036},{"$f":"IF('Painel de Controle'!$G$16=\"S\",CAPEX!H97*(1-'Painel de Controle'!$G$17),CAPEX!H97)","v":3842529.341135405},{"$f":"IF('Painel de Controle'!$G$16=\"S\",CAPEX!I97*(1-'Painel de Controle'!$G$17),CAPEX!I97)","v":0},{"$f":"IF('Painel de Controle'!$G$16=\"S\",CAPEX!J97*(1-'Painel de Controle'!$G$17),CAPEX!J97)","v":0},{"$f":"IF('Painel de Controle'!$G$16=\"S\",CAPEX!K97*(1-'Painel de Controle'!$G$17),CAPEX!K97)","v":0},{"$f":"IF('Painel de Controle'!$G$16=\"S\",CAPEX!L97*(1-'Painel de Controle'!$G$17),CAPEX!L97)","v":0},{"$f":"IF('Painel de Controle'!$G$16=\"S\",CAPEX!M97*(1-'Painel de Controle'!$G$17),CAPEX!M97)","v":0},{"$f":"IF('Painel de Controle'!$G$16=\"S\",CAPEX!N97*(1-'Painel de Controle'!$G$17),CAPEX!N97)","v":0},{"$f":"IF('Painel de Controle'!$G$16=\"S\",CAPEX!O97*(1-'Painel de Controle'!$G$17),CAPEX!O97)","v":0}]
[null,null,"Infraestr. de Suprim. de Energia Elétrica",20,32771043.893528972,{"$f":"IF('Painel de Controle'!$G$16=\"S\",CAPEX!F98*(1-'Painel de Controle'!$G$17),CAPEX!F98)","v":0},{"$f":"IF('Painel de Controle'!$G$16=\"S\",CAPEX!G98*(1-'Painel de Controle'!$G$17),CAPEX!G98)","v":13108417.557411589},{"$f":"IF('Painel de Controle'!$G$16=\"S\",CAPEX!H98*(1-'Painel de Controle'!$G$17),CAPEX!H98)","v":19662626.336117383},{"$f":"IF('Painel de Controle'!$G$16=\"S\",CAPEX!I98*(1-'Painel de Controle'!$G$17),CAPEX!I98)","v":0},{"$f":"IF('Painel de Controle'!$G$16=\"S\",CAPEX!J98*(1-'Painel de Controle'!$G$17),CAPEX!J98)","v":0},{"$f":"IF('Painel de Controle'!$G$16=\"S\",CAPEX!K98*(1-'Painel de Controle'!$G$17),CAPEX!K98)","v":0},{"$f":"IF('Painel de Controle'!$G$16=\"S\",CAPEX!L98*(1-'Painel de Controle'!$G$17),CAPEX!L98)","v":0},{"$f":"IF('Painel de Controle'!$G$16=\"S\",CAPEX!M98*(1-'Painel de Controle'!$G$17),CAPEX!M98)","v":0},{"$f":"IF('Painel de Controle'!$G$16=\"S\",CAPEX!N98*(1-'Painel de Controle'!$G$17),CAPEX!N98)","v":0},{"$f":"IF('Painel de Controle'!$G$16=\"S\",CAPEX!O98*(1-'Painel de Controle'!$G$17),CAPEX!O98)","v":0}]
[null,null,"Infraestrutura Norte"]
[null,null,"EBP-Norte (8,37 m³/s)",20,47928189.558232695,{"$f":"IF('Painel de Controle'!$G$16=\"S\",CAPEX!F100*(1-'Painel de Controle'!$G$17),CAPEX!F100)","v":0},{"$f":"IF('Painel de Controle'!$G$16=\"S\",CAPEX!G100*(1-'Painel de Controle'!$G$17),CAPEX!G100)","v":0},{"$f":"IF('Painel de Controle'!$G$16=\"S\",CAPEX!H100*(1-'Painel de Controle'!$G$17),CAPEX!H100)","v":19171275.823293079},{"$f":"IF('Painel de Controle'!$G$16=\"S\",CAPEX!I100*(1-'Painel de Controle'!$G$17),CAPEX!I100)","v":28756913.734939612},{"$f":"IF('Painel de Controle'!$G$16=\"S\",CAPEX!J100*(1-'Painel de Controle'!$G$17),CAPEX!J100)","v":0},{"$f":"IF('Painel de Controle'!$G$16=\"S\",CAPEX!K100*(1-'Painel de Controle'!$G$17),CAPEX!K100)","v":0},{"$f":"IF('Painel de Controle'!$G$16=\"S\",CAPEX!L100*(1-'Painel de Controle'!$G$17),CAPEX!L100)","v":0},{"$f":"IF('Painel de Controle'!$G$16=\"S\",CAPEX!M100*(1-'Painel de Controle'!$G$17),CAPEX!M100)","v":0},{"$f":"IF('Painel de Controle'!$G$16=\"S\",CAPEX!N100*(1-'Painel de Controle'!$G$17),CAPEX!N100)","v":0},{"$f":"IF('Painel de Controle'!$G$16=\"S\",CAPEX!O100*(1-'Painel de Controle'!$G$17),CAPEX!O100)","v":0}]
[null,null,"Adutora EBP-Norte",30,370056.27134608623,{"$f":"IF('Painel de Controle'!$G$16=\"S\",CAPEX!F101*(1-'Painel de Controle'!$G$17),CAPEX!F101)","v":0},{"$f":"IF('Painel de Controle'!$G$16=\"S\",CAPEX!G101*(1-'Painel de Controle'!$G$17),CAPEX!G101)","v":0},{"$f":"IF('Painel de Controle'!$G$16=\"S\",CAPEX!H101*(1-'Painel de Controle'!$G$17),CAPEX!H101)","v":370056.27134608623},{"$f":"IF('Painel de Controle'!$G$16=\"S\",CAPEX!I101*(1-'Painel de Controle'!$G$17),CAPEX!I101)","v":0},{"$f":"IF('Painel de Controle'!$G$16=\"S\",CAPEX!J101*(1-'Painel de Controle'!$G$17),CAPEX!J101)","v":0},{"$f":"IF('Painel de Controle'!$G$16=\"S\",CAPEX!K101*(1-'Painel de Controle'!$G$17),CAPEX!K101)","v":0},{"$f":"IF('Painel de Controle'!$G$16=\"S\",CAPEX!L101*(1-'Painel de Controle'!$G$17),CAPEX!L101)","v":0},{"$f":"IF('Painel de Controle'!$G$16=\"S\",CAPEX!M101*(1-'Painel de Controle'!$G$17),CAPEX!M101)","v":0},{"$f":"IF('Painel de Controle'!$G$16=\"S\",CAPEX!N101*(1-'Painel de Controle'!$G$17),CAPEX!N101)","v":0},{"$f":"IF('Painel de Controle'!$G$16=\"S\",CAPEX!O101*(1-'Painel de Controle'!$G$17),CAPEX!O101)","v":0}]
[null,null,"Canal CP-3 Norte (8,37 m³/s) - (SH-1, 2, 3, 4, 5 e 6)",30,16465092.911082665,{"$f":"IF('Painel de Controle'!$G$16=\"S\",CAPEX!F102*(1-'Painel de Controle'!$G$17),CAPEX!F102)","v":0},{"$f":"IF('Painel de Controle'!$G$16=\"S\",CAPEX!G102*(1-'Painel de Controle'!$G$17),CAPEX!G102)","v":0},{"$f":"IF('Painel de Controle'!$G$16=\"S\",CAPEX!H102*(1-'Painel de Controle'!$G$17),CAPEX!H102)","v":8232546.4555413323},{"$f":"IF('Painel de Controle'!$G$16=\"S\",CAPEX!I102*(1-'Painel de Controle'!$G$17),CAPEX!I102)","v":8232546.4555413323},{"$f":"IF('Painel de Controle'!$G$16=\"S\",CAPEX!J102*(1-'Painel de Controle'!$G$17),CAPEX!J102)","v":0},{"$f":"IF('Painel de Controle'!$G$16=\"S\",CAPEX!K102*(1-'Painel de Controle'!$G$17),CAPEX!K102)","v":0},{"$f":"IF('Painel de Controle'!$G$16=\"S\",CAPEX!L102*(1-'Painel de Controle'!$G$17),CAPEX!L102)","v":0},{"$f":"IF('Painel de Controle'!$G$16=\"S\",CAPEX!M102*(1-'Painel de Controle'!$G$17),CAPEX!M102)","v":0},{"$f":"IF('Painel de Controle'!$G$16=\"S\",CAPEX!N102*(1-'Painel de Controle'!$G$17),CAPEX!N102)","v":0},{"$f":"IF('Painel de Controle'!$G$16=\"S\",CAPEX!O102*(1-'Painel de Controle'!$G$17),CAPEX!O102)","v":0}]
[null,null,"Canal CS2/CP3 Norte (2,24 m³/s) - (SH-7 e 8)",35,3224018.8364445968,{"$f":"IF('Painel de Controle'!$G$16=\"S\",CAPEX!F103*(1-'Painel de Controle'!$G$17),CAPEX!F103)","v":0},{"$f":"IF('Painel de Controle'!$G$16=\"S\",CAPEX!G103*(1-'Painel de Controle'!$G$17),CAPEX!G103)","v":0},{"$f":"IF('Painel de Controle'!$G$16=\"S\",CAPEX!H103*(1-'Painel de Controle'!$G$17),CAPEX!H103)","v":0},{"$f":"IF('Painel de Controle'!$G$16=\"S\",CAPEX!I103*(1-'Painel de Controle'!$G$17),CAPEX!I103)","v":0},{"$f":"IF('Painel de Controle'!$G$16=\"S\",CAPEX!J103*(1-'Painel de Controle'!$G$17),CAPEX!J103)","v":3224018.8364445968},{"$f":"IF('Painel de Controle'!$G$16=\"S\",CAPEX!K103*(1-'Painel de Controle'!$G$17),CAPEX!K103)","v":0},{"$f":"IF('Painel de Controle'!$G$16=\"S\",CAPEX!L103*(1-'Painel de Controle'!$G$17),CAPEX!L103)","v":0},{"$f":"IF('Painel de Controle'!$G$16=\"S\",CAPEX!M103*(1-'Painel de Controle'!$G$17),CAPEX!M103)","v":0},{"$f":"IF('Painel de Controle'!$G$16=\"S\",CAPEX!N103*(1-'Painel de Controle'!$G$17),CAPEX!N103)","v":0},{"$f":"IF('Painel de Controle'!$G$16=\"S\",CAPEX!O103*(1-'Painel de Controle'!$G$17),CAPEX!O103)","v":0}]
[null,null,"Sifões invertidos no CP-3 Norte ",35,221947.12459019999,{"$f":"IF('Painel de Controle'!$G$16=\"S\",CAPEX!F104*(1-'Painel de Controle'!$G$17),CAPEX!F104)","v":0},{"$f":"IF('Painel de Controle'!$G$16=\"S\",CAPEX!G104*(1-'Painel de Controle'!$G$17),CAPEX!G104)","v":0},{"$f":"IF('Painel de Controle'!$G$16=\"S\",CAPEX!H104*(1-'Painel de Controle'!$G$17),CAPEX!H104)","v":110973.5622951},{"$f":"IF('Painel de Controle'!$G$16=\"S\",CAPEX!I104*(1-'Painel de Controle'!$G$17),CAPEX!I104)","v":110973.5622951},{"$f":"IF('Painel de Controle'!$G$16=\"S\",CAPEX!J104*(1-'Painel de Controle'!$G$17),CAPEX!J104)","v":0},{"$f":"IF('Painel de Controle'!$G$16=\"S\",CAPEX!K104*(1-'Painel de Controle'!$G$17),CAPEX!K104)","v":0},{"$f":"IF('Painel de Controle'!$G$16=\"S\",CAPEX!L104*(1-'Painel de Controle'!$G$17),CAPEX!L104)","v":0},{"$f":"IF('Painel de Controle'!$G$16=\"S\",CAPEX!M104*(1-'Painel de Controle'!$G$17),CAPEX!M104)","v":0},{"$f":"IF('Painel de Controle'!$G$16=\"S\",CAPEX!N104*(1-'Painel de Controle'!$G$17),CAPEX!N104)","v":0},{"$f":"IF('Painel de Controle'!$G$16=\"S\",CAPEX!O104*(1-'Painel de Controle'!$G$17),CAPEX!O104)","v":0}]
[null,null,"Tomadas empresariais (27 no CP-3 e no CS-2)",30,3382756.7627620306,{"$f":"IF('Painel de Controle'!$G$16=\"S\",CAPEX!F105*(1-'Painel de Controle'!$G$17),CAPEX!F105)","v":0},{"$f":"IF('Painel de Controle'!$G$16=\"S\",CAPEX!G105*(1-'Painel de Controle'!$G$17),CAPEX!G105)","v":0},{"$f":"IF('Painel de Controle'!$G$16=\"S\",CAPEX!H105*(1-'Painel de Controle'!$G$17),CAPEX!H105)","v":845689.19069050765},{"$f":"IF('Painel de Controle'!$G$16=\"S\",CAPEX!I105*(1-'Painel de Controle'!$G$17),CAPEX!I105)","v":845689.19069050765},{"$f":"IF('Painel de Controle'!$G$16=\"S\",CAPEX!J105*(1-'Painel de Controle'!$G$17),CAPEX!J105)","v":845689.19069050765},{"$f":"IF('Painel de Controle'!$G$16=\"S\",CAPEX!K105*(1-'Painel de Controle'!$G$17),CAPEX!K105)","v":845689.19069050765},{"$f":"IF('Painel de Controle'!$G$16=\"S\",CAPEX!L105*(1-'Painel de Controle'!$G$17),CAPEX!L105)","v":0},{"$f":"IF('Painel de Controle'!$G$16=\"S\",CAPEX!M105*(1-'Painel de Controle'!$G$17),CAPEX!M105)","v":0},{"$f":"IF('Painel de Controle'!$G$16=\"S\",CAPEX!N105*(1-'Painel de Controle'!$G$17),CAPEX!N105)","v":0},{"$f":"IF('Painel de Controle'!$G$16=\"S\",CAPEX!O105*(1-'Painel de Controle'!$G$17),CAPEX!O105)","v":0}]
[null,null,"Tomadas gravitárias (13 no CP-3 e 3 no CS-2)",30,599180.06809549779,{"$f":"IF('Painel de Controle'!$G$16=\"S\",CAPEX!F106*(1-'Painel de Controle'!$G$17),CAPEX!F106)","v":0},{"$f":"IF('Painel de Controle'!$G$16=\"S\",CAPEX!G106*(1-'Painel de Controle'!$G$17),CAPEX!G106)","v":0},{"$f":"IF('Painel de Controle'!$G$16=\"S\",CAPEX!H106*(1-'Painel de Controle'!$G$17),CAPEX!H106)","v":149795.01702387445},{"$f":"IF('Painel de Controle'!$G$16=\"S\",CAPEX!I106*(1-'Painel de Controle'!$G$17),CAPEX!I106)","v":149795.01702387445},{"$f":"IF('Painel de Controle'!$G$16=\"S\",CAPEX!J106*(1-'Painel de Controle'!$G$17),CAPEX!J106)","v":149795.01702387445},{"$f":"IF('Painel de Controle'!$G$16=\"S\",CAPEX!K106*(1-'Painel de Controle'!$G$17),CAPEX!K106)","v":149795.01702387445},{"$f":"IF('Painel de Controle'!$G$16=\"S\",CAPEX!L106*(1-'Painel de Controle'!$G$17),CAPEX!L106)","v":0},{"$f":"IF('Painel de Controle'!$G$16=\"S\",CAPEX!M106*(1-'Painel de Controle'!$G$17),CAPEX!M106)","v":0},{"$f":"IF('Painel de Controle'!$G$16=\"S\",CAPEX!N106*(1-'Painel de Controle'!$G$17),CAPEX!N106)","v":0},{"$f":"IF('Painel de Controle'!$G$16=\"S\",CAPEX!O106*(1-'Painel de Controle'!$G$17),CAPEX!O106)","v":0}]
[null,null,"EBAs 1 a 8",25,29515694.495034434,{"$f":"IF('Painel de Controle'!$G$16=\"S\",CAPEX!F107*(1-'Painel de Controle'!$G$17),CAPEX!F107)","v":0},{"$f":"IF('Painel de Controle'!$G$16=\"S\",CAPEX!G107*(1-'Painel de Controle'!$G$17),CAPEX!G107)","v":0},{"$f":"IF('Painel de Controle'!$G$16=\"S\",CAPEX!H107*(1-'Painel de Controle'!$G$17),CAPEX!H107)","v":11068385.435637914},{"$f":"IF('Painel de Controle'!$G$16=\"S\",CAPEX!I107*(1-'Painel de Controle'!$G$17),CAPEX!I107)","v":11068385.435637914},{"$f":"IF('Painel de Controle'!$G$16=\"S\",CAPEX!J107*(1-'Painel de Controle'!$G$17),CAPEX!J107)","v":3689461.8118793047},{"$f":"IF('Painel de Controle'!$G$16=\"S\",CAPEX!K107*(1-'Painel de Controle'!$G$17),CAPEX!K107)","v":3689461.8118793047},{"$f":"IF('Painel de Controle'!$G$16=\"S\",CAPEX!L107*(1-'Painel de Controle'!$G$17),CAPEX!L107)","v":0},{"$f":"IF('Painel de Controle'!$G$16=\"S\",CAPEX!M107*(1-'Painel de Controle'!$G$17),CAPEX!M107)","v":0},{"$f":"IF('Painel de Controle'!$G$16=\"S\",CAPEX!N107*(1-'Painel de Controle'!$G$17),CAPEX!N107)","v":0},{"$f":"IF('Painel de Controle'!$G$16=\"S\",CAPEX!O107*(1-'Painel de Controle'!$G$17),CAPEX!O107)","v":0}]
[null,null,"Adutoras das EBAs / Setores (63,9% de SAU ) ",30,92949510.246195897,{"$f":"IF('Painel de Controle'!$G$16=\"S\",CAPEX!F108*(1-'Painel de Controle'!$G$17),CAPEX!F108)","v":0},{"$f":"IF('Painel de Controle'!$G$16=\"S\",CAPEX!G108*(1-'Painel de Controle'!$G$17),CAPEX!G108)","v":0},{"$f":"IF('Painel de Controle'!$G$16=\"S\",CAPEX!H108*(1-'Painel de Controle'!$G$17),CAPEX!H108)","v":38029344.094044037},{"$f":"IF('Painel de Controle'!$G$16=\"S\",CAPEX!I108*(1-'Painel de Controle'!$G$17),CAPEX!I108)","v":28877723.264985822},{"$f":"IF('Painel de Controle'!$G$16=\"S\",CAPEX!J108*(1-'Painel de Controle'!$G$17),CAPEX!J108)","v":15696665.983123349},{"$f":"IF('Painel de Controle'!$G$16=\"S\",CAPEX!K108*(1-'Painel de Controle'!$G$17),CAPEX!K108)","v":10345776.904042693},{"$f":"IF('Painel de Controle'!$G$16=\"S\",CAPEX!L108*(1-'Painel de Controle'!$G$17),CAPEX!L108)","v":0},{"$f":"IF('Painel de Controle'!$G$16=\"S\",CAPEX!M108*(1-'Painel de Controle'!$G$17),CAPEX!M108)","v":0},{"$f":"IF('Painel de Controle'!$G$16=\"S\",CAPEX!N108*(1-'Painel de Controle'!$G$17),CAPEX!N108)","v":0},{"$f":"IF('Painel de Controle'!$G$16=\"S\",CAPEX!O108*(1-'Painel de Controle'!$G$17),CAPEX!O108)","v":0}]
[null,null,"Casa de Comando - Comportas",35,151239.31222723261,{"$f":"IF('Painel de Controle'!$G$16=\"S\",CAPEX!F109*(1-'Painel de Controle'!$G$17),CAPEX!F109)","v":0},{"$f":"IF('Painel de Controle'!$G$16=\"S\",CAPEX!G109*(1-'Painel de Controle'!$G$17),CAPEX!G109)","v":0},{"$f":"IF('Painel de Controle'!$G$16=\"S\",CAPEX!H109*(1-'Painel de Controle'!$G$17),CAPEX!H109)","v":37809.828056808154},{"$f":"IF('Painel de Controle'!$G$16=\"S\",CAPEX!I109*(1-'Painel de Controle'!$G$17),CAPEX!I109)","v":37809.828056808154},{"$f":"IF('Painel de Controle'!$G$16=\"S\",CAPEX!J109*(1-'Painel de Controle'!$G$17),CAPEX!J109)","v":37809.828056808154},{"$f":"IF('Painel de Controle'!$G$16=\"S\",CAPEX!K109*(1-'Painel de Controle'!$G$17),CAPEX!K109)","v":37809.828056808154},{"$f":"IF('Painel de Controle'!$G$16=\"S\",CAPEX!L109*(1-'Painel de Controle'!$G$17),CAPEX!L109)","v":0},{"$f":"IF('Painel de Controle'!$G$16=\"S\",CAPEX!M109*(1-'Painel de Controle'!$G$17),CAPEX!M109)","v":0},{"$f":"IF('Painel de Controle'!$G$16=\"S\",CAPEX!N109*(1-'Painel de Controle'!$G$17),CAPEX!N109)","v":0},{"$f":"IF('Painel de Controle'!$G$16=\"S\",CAPEX!O109*(1-'Painel de Controle'!$G$17),CAPEX!O109)","v":0}]
[null,null,"Estradas dos canais e estradas dos setores",35,12099692.121515274,{"$f":"IF('Painel de Controle'!$G$16=\"S\",CAPEX!F110*(1-'Painel de Controle'!$G$17),CAPEX!F110)","v":0},{"$f":"IF('Painel de Controle'!$G$16=\"S\",CAPEX!G110*(1-'Painel de Controle'!$G$17),CAPEX!G110)","v":0},{"$f":"IF('Painel de Controle'!$G$16=\"S\",CAPEX!H110*(1-'Painel de Controle'!$G$17),CAPEX!H110)","v":3024923.0303788185},{"$f":"IF('Painel de Controle'!$G$16=\"S\",CAPEX!I110*(1-'Painel de Controle'!$G$17),CAPEX!I110)","v":3024923.0303788185},{"$f":"IF('Painel de Controle'!$G$16=\"S\",CAPEX!J110*(1-'Painel de Controle'!$G$17),CAPEX!J110)","v":3024923.0303788185},{"$f":"IF('Painel de Controle'!$G$16=\"S\",CAPEX!K110*(1-'Painel de Controle'!$G$17),CAPEX!K110)","v":3024923.0303788185},{"$f":"IF('Painel de Controle'!$G$16=\"S\",CAPEX!L110*(1-'Painel de Controle'!$G$17),CAPEX!L110)","v":0},{"$f":"IF('Painel de Controle'!$G$16=\"S\",CAPEX!M110*(1-'Painel de Controle'!$G$17),CAPEX!M110)","v":0},{"$f":"IF('Painel de Controle'!$G$16=\"S\",CAPEX!N110*(1-'Painel de Controle'!$G$17),CAPEX!N110)","v":0},{"$f":"IF('Painel de Controle'!$G$16=\"S\",CAPEX!O110*(1-'Painel de Controle'!$G$17),CAPEX!O110)","v":0}]
[null,null,"Drenos  dos canais e drenos nos setores",35,9690129.5969752558,{"$f":"IF('Painel de Controle'!$G$16=\"S\",CAPEX!F111*(1-'Painel de Controle'!$G$17),CAPEX!F111)","v":0},{"$f":"IF('Painel de Controle'!$G$16=\"S\",CAPEX!G111*(1-'Painel de Controle'!$G$17),CAPEX!G111)","v":0},{"$f":"IF('Painel de Controle'!$G$16=\"S\",CAPEX!H111*(1-'Painel de Controle'!$G$17),CAPEX!H111)","v":2422532.3992438139},{"$f":"IF('Painel de Controle'!$G$16=\"S\",CAPEX!I111*(1-'Painel de Controle'!$G$17),CAPEX!I111)","v":2422532.3992438139},{"$f":"IF('Painel de Controle'!$G$16=\"S\",CAPEX!J111*(1-'Painel de Controle'!$G$17),CAPEX!J111)","v":2422532.3992438139},{"$f":"IF('Painel de Controle'!$G$16=\"S\",CAPEX!K111*(1-'Painel de Controle'!$G$17),CAPEX!K111)","v":2422532.3992438139},{"$f":"IF('Painel de Controle'!$G$16=\"S\",CAPEX!L111*(1-'Painel de Controle'!$G$17),CAPEX!L111)","v":0},{"$f":"IF('Painel de Controle'!$G$16=\"S\",CAPEX!M111*(1-'Painel de Controle'!$G$17),CAPEX!M111)","v":0},{"$f":"IF('Painel de Controle'!$G$16=\"S\",CAPEX!N111*(1-'Painel de Controle'!$G$17),CAPEX!N111)","v":0},{"$f":"IF('Painel de Controle'!$G$16=\"S\",CAPEX!O111*(1-'Painel de Controle'!$G$17),CAPEX!O111)","v":0}]
[null,null,"Infraestr. de Suprim. de Energia Elétrica",20,58259633.588495947,{"$f":"IF('Painel de Controle'!$G$16=\"S\",CAPEX!F112*(1-'Painel de Controle'!$G$17),CAPEX!F112)","v":0},{"$f":"IF('Painel de Controle'!$G$16=\"S\",CAPEX!G112*(1-'Painel de Controle'!$G$17),CAPEX!G112)","v":0},{"$f":"IF('Painel de Controle'!$G$16=\"S\",CAPEX!H112*(1-'Painel de Controle'!$G$17),CAPEX!H112)","v":14564908.397123987},{"$f":"IF('Painel de Controle'!$G$16=\"S\",CAPEX!I112*(1-'Painel de Controle'!$G$17),CAPEX!I112)","v":14564908.397123987},{"$f":"IF('Painel de Controle'!$G$16=\"S\",CAPEX!J112*(1-'Painel de Controle'!$G$17),CAPEX!J112)","v":14564908.397123987},{"$f":"IF('Painel de Controle'!$G$16=\"S\",CAPEX!K112*(1-'Painel de Controle'!$G$17),CAPEX!K112)","v":14564908.397123987},{"$f":"IF('Painel de Controle'!$G$16=\"S\",CAPEX!L112*(1-'Painel de Controle'!$G$17),CAPEX!L112)","v":0},{"$f":"IF('Painel de Controle'!$G$16=\"S\",CAPEX!M112*(1-'Painel de Controle'!$G$17),CAPEX!M112)","v":0},{"$f":"IF('Painel de Controle'!$G$16=\"S\",CAPEX!N112*(1-'Painel de Controle'!$G$17),CAPEX!N112)","v":0},{"$f":"IF('Painel de Controle'!$G$16=\"S\",CAPEX!O112*(1-'Painel de Controle'!$G$17),CAPEX!O112)","v":0}]
[null,null,"Infraestrutura de Irrigação e de Apoio",null,{"$f":"SUM(E11:E48)","v":574430019.14360189},{"$f":"SUM(F11:F48)","v":8434968.7663200013},{"$f":"SUM(G11:G48)","v":76586725.526887476},{"$f":"SUM(H11:H48)","v":224746774.73719397},{"$f":"SUM(I11:I48)","v":127112447.60835205},68658814.598712653,53070363.938906781,15819923.967228897,{"$f":"SUM(M11:M48)","v":0},0,0,0,0,0,{"$f":"SUM(S11:S48)","v":0},0,0,0,0,0,0,0,0,0,0,0,0,0,0,0,0,0,0,0,0,0]
[]
[null,null,"Discriminação","Vida Útil\n(anos)","Valores (R$)",1,2,3,4,5,6,7,8,9,10,11,12,13,14,15,16,17,18,19,20,21,22,23,24,25,26,27,28,29,30,31,32,33,34,35]
[null,null,"Investimento on farm"]
[null,null,"Ramais móveis e emissores",5,{"$f":"SUM(F53:O53)","v":42506001.977646299},{"$f":"IF('Painel de Controle'!$G$16=\"S\",CAPEX!F117*(1-'Painel de Controle'!$G$17),CAPEX!F117)","v":0},{"$f":"IF('Painel de Controle'!$G$16=\"S\",CAPEX!G117*(1-'Painel de Controle'!$G$17),CAPEX!G117)","v":0},{"$f":"IF('Painel de Controle'!$G$16=\"S\",CAPEX!H117*(1-'Painel de Controle'!$G$17),CAPEX!H117)","v":0},{"$f":"IF('Painel de Controle'!$G$16=\"S\",CAPEX!I117*(1-'Painel de Controle'!$G$17),CAPEX!I117)","v":15525627.583764575},{"$f":"IF('Painel de Controle'!$G$16=\"S\",CAPEX!J117*(1-'Painel de Controle'!$G$17),CAPEX!J117)","v":11038745.001381602},{"$f":"IF('Painel de Controle'!$G$16=\"S\",CAPEX!K117*(1-'Painel de Controle'!$G$17),CAPEX!K117)","v":8382311.8945816439},{"$f":"IF('Painel de Controle'!$G$16=\"S\",CAPEX!L117*(1-'Painel de Controle'!$G$17),CAPEX!L117)","v":4556257.7343188105},{"$f":"IF('Painel de Controle'!$G$16=\"S\",CAPEX!M117*(1-'Painel de Controle'!$G$17),CAPEX!M117)","v":3003059.7635996738},{"$f":"IF('Painel de Controle'!$G$16=\"S\",CAPEX!N117*(1-'Painel de Controle'!$G$17),CAPEX!N117)","v":0},{"$f":"IF('Painel de Controle'!$G$16=\"S\",CAPEX!O117*(1-'Painel de Controle'!$G$17),CAPEX!O117)","v":0}]
[null,null,"Rede de distribuição e cavaletes (fornec.)",15,127518005.93293893,{"$f":"IF('Painel de Controle'!$G$16=\"S\",CAPEX!F118*(1-'Painel de Controle'!$G$17),CAPEX!F118)","v":0},{"$f":"IF('Painel de Controle'!$G$16=\"S\",CAPEX!G118*(1-'Painel de Controle'!$G$17),CAPEX!G118)","v":0},{"$f":"IF('Painel de Controle'!$G$16=\"S\",CAPEX!H118*(1-'Painel de Controle'!$G$17),CAPEX!H118)","v":0},{"$f":"IF('Painel de Controle'!$G$16=\"S\",CAPEX!I118*(1-'Painel de Controle'!$G$17),CAPEX!I118)","v":46576882.751293726},{"$f":"IF('Painel de Controle'!$G$16=\"S\",CAPEX!J118*(1-'Painel de Controle'!$G$17),CAPEX!J118)","v":33116235.004144814},{"$f":"IF('Painel de Controle'!$G$16=\"S\",CAPEX!K118*(1-'Painel de Controle'!$G$17),CAPEX!K118)","v":25146935.683744933},{"$f":"IF('Painel de Controle'!$G$16=\"S\",CAPEX!L118*(1-'Painel de Controle'!$G$17),CAPEX!L118)","v":13668773.202956432},{"$f":"IF('Painel de Controle'!$G$16=\"S\",CAPEX!M118*(1-'Painel de Controle'!$G$17),CAPEX!M118)","v":9009179.2907990199},{"$f":"IF('Painel de Controle'!$G$16=\"S\",CAPEX!N118*(1-'Painel de Controle'!$G$17),CAPEX!N118)","v":0},{"$f":"IF('Painel de Controle'!$G$16=\"S\",CAPEX!O118*(1-'Painel de Controle'!$G$17),CAPEX!O118)","v":0}]
[null,null,"Assentam. e montagem dos tubos da rede e cavaletes",15,25503601.186587781,{"$f":"IF('Painel de Controle'!$G$16=\"S\",CAPEX!F119*(1-'Painel de Controle'!$G$17),CAPEX!F119)","v":0},{"$f":"IF('Painel de Controle'!$G$16=\"S\",CAPEX!G119*(1-'Painel de Controle'!$G$17),CAPEX!G119)","v":0},{"$f":"IF('Painel de Controle'!$G$16=\"S\",CAPEX!H119*(1-'Painel de Controle'!$G$17),CAPEX!H119)","v":0},{"$f":"IF('Painel de Controle'!$G$16=\"S\",CAPEX!I119*(1-'Painel de Controle'!$G$17),CAPEX!I119)","v":9315376.5502587445},{"$f":"IF('Painel de Controle'!$G$16=\"S\",CAPEX!J119*(1-'Painel de Controle'!$G$17),CAPEX!J119)","v":6623247.0008289618},{"$f":"IF('Painel de Controle'!$G$16=\"S\",CAPEX!K119*(1-'Painel de Controle'!$G$17),CAPEX!K119)","v":5029387.1367489863},{"$f":"IF('Painel de Controle'!$G$16=\"S\",CAPEX!L119*(1-'Painel de Controle'!$G$17),CAPEX!L119)","v":2733754.6405912866},{"$f":"IF('Painel de Controle'!$G$16=\"S\",CAPEX!M119*(1-'Painel de Controle'!$G$17),CAPEX!M119)","v":1801835.858159804},{"$f":"IF('Painel de Controle'!$G$16=\"S\",CAPEX!N119*(1-'Painel de Controle'!$G$17),CAPEX!N119)","v":0},{"$f":"IF('Painel de Controle'!$G$16=\"S\",CAPEX!O119*(1-'Painel de Controle'!$G$17),CAPEX!O119)","v":0}]
[null,null,"Investimento on farm",null,{"$f":"SUM(E53:E55)","v":195527609.09717301},0,0,0,{"$f":"SUM(I53:I55)","v":71417886.885317042},50778227.006355375,38558634.71507556,20958785.577866528,13814074.912558498,0,0]
[]
[null,null,"Discriminação","Vida Útil\n(anos)","Valores (R$)",1,2,3,4,5,6,7,8,9,10,11,12,13,14,15,16,17,18,19,20,21,22,23,24,25,26,27,28,29,30,31,32,33,34,35]
[null,null,"Reinvestimento"]
[null,null,"Ramais móveis e emissores",5,{"$f":"SUM(F60:AN60)","v":212530009.88823158},{"$f":"IF('Painel de Controle'!$G$16=\"S\",CAPEX!F124*(1-'Painel de Controle'!$G$17),CAPEX!F124)","v":0},{"$f":"IF('Painel de Controle'!$G$16=\"S\",CAPEX!G124*(1-'Painel de Controle'!$G$17),CAPEX!G124)","v":0},{"$f":"IF('Painel de Controle'!$G$16=\"S\",CAPEX!H124*(1-'Painel de Controle'!$G$17),CAPEX!H124)","v":0},{"$f":"IF('Painel de Controle'!$G$16=\"S\",CAPEX!I124*(1-'Painel de Controle'!$G$17),CAPEX!I124)","v":0},{"$f":"IF('Painel de Controle'!$G$16=\"S\",CAPEX!J124*(1-'Painel de Controle'!$G$17),CAPEX!J124)","v":0},{"$f":"IF('Painel de Controle'!$G$16=\"S\",CAPEX!K124*(1-'Painel de Controle'!$G$17),CAPEX!K124)","v":0},{"$f":"IF('Painel de Controle'!$G$16=\"S\",CAPEX!L124*(1-'Painel de Controle'!$G$17),CAPEX!L124)","v":0},{"$f":"IF('Painel de Controle'!$G$16=\"S\",CAPEX!M124*(1-'Painel de Controle'!$G$17),CAPEX!M124)","v":0},{"$f":"IF('Painel de Controle'!$G$16=\"S\",CAPEX!N124*(1-'Painel de Controle'!$G$17),CAPEX!N124)","v":0},{"$f":"IF('Painel de Controle'!$G$16=\"S\",CAPEX!O124*(1-'Painel de Controle'!$G$17),CAPEX!O124)","v":0},{"$f":"IF('Painel de Controle'!$G$16=\"S\",CAPEX!P124*(1-'Painel de Controle'!$G$17),CAPEX!P124)","v":0},{"$f":"IF('Painel de Controle'!$G$16=\"S\",CAPEX!Q124*(1-'Painel de Controle'!$G$17),CAPEX!Q124)","v":14168667.325882103},{"$f":"IF('Painel de Controle'!$G$16=\"S\",CAPEX!R124*(1-'Painel de Controle'!$G$17),CAPEX!R124)","v":14168667.325882103},{"$f":"IF('Painel de Controle'!$G$16=\"S\",CAPEX!S124*(1-'Painel de Controle'!$G$17),CAPEX!S124)","v":14168667.325882103},{"$f":"IF('Painel de Controle'!$G$16=\"S\",CAPEX!T124*(1-'Painel de Controle'!$G$17),CAPEX!T124)","v":0},{"$f":"IF('Painel de Controle'!$G$16=\"S\",CAPEX!U124*(1-'Painel de Controle'!$G$17),CAPEX!U124)","v":0},{"$f":"IF('Painel de Controle'!$G$16=\"S\",CAPEX!V124*(1-'Painel de Controle'!$G$17),CAPEX!V124)","v":14168667.325882103},{"$f":"IF('Painel de Controle'!$G$16=\"S\",CAPEX!W124*(1-'Painel de Controle'!$G$17),CAPEX!W124)","v":14168667.325882103},{"$f":"IF('Painel de Controle'!$G$16=\"S\",CAPEX!X124*(1-'Painel de Controle'!$G$17),CAPEX!X124)","v":14168667.325882103},{"$f":"IF('Painel de Controle'!$G$16=\"S\",CAPEX!Y124*(1-'Painel de Controle'!$G$17),CAPEX!Y124)","v":0},{"$f":"IF('Painel de Controle'!$G$16=\"S\",CAPEX!Z124*(1-'Painel de Controle'!$G$17),CAPEX!Z124)","v":0},{"$f":"IF('Painel de Controle'!$G$16=\"S\",CAPEX!AA124*(1-'Painel de Controle'!$G$17),CAPEX!AA124)","v":14168667.325882103},{"$f":"IF('Painel de Controle'!$G$16=\"S\",CAPEX!AB124*(1-'Painel de Controle'!$G$17),CAPEX!AB124)","v":14168667.325882103},{"$f":"IF('Painel de Controle'!$G$16=\"S\",CAPEX!AC124*(1-'Painel de Controle'!$G$17),CAPEX!AC124)","v":14168667.325882103},{"$f":"IF('Painel de Controle'!$G$16=\"S\",CAPEX!AD124*(1-'Painel de Controle'!$G$17),CAPEX!AD124)","v":0},{"$f":"IF('Painel de Controle'!$G$16=\"S\",CAPEX!AE124*(1-'Painel de Controle'!$G$17),CAPEX!AE124)","v":0},{"$f":"IF('Painel de Controle'!$G$16=\"S\",CAPEX!AF124*(1-'Painel de Controle'!$G$17),CAPEX!AF124)","v":14168667.325882103},{"$f":"IF('Painel de Controle'!$G$16=\"S\",CAPEX!AG124*(1-'Painel de Controle'!$G$17),CAPEX!AG124)","v":14168667.325882103},{"$f":"IF('Painel de Controle'!$G$16=\"S\",CAPEX!AH124*(1-'Painel de Controle'!$G$17),CAPEX!AH124)","v":14168667.325882103},{"$f":"IF('Painel de Controle'!$G$16=\"S\",CAPEX!AI124*(1-'Painel de Controle'!$G$17),CAPEX!AI124)","v":0},{"$f":"IF('Painel de Controle'!$G$16=\"S\",CAPEX!AJ124*(1-'Painel de Controle'!$G$17),CAPEX!AJ124)","v":0},{"$f":"IF('Painel de Controle'!$G$16=\"S\",CAPEX!AK124*(1-'Painel de Controle'!$G$17),CAPEX!AK124)","v":14168667.325882103},{"$f":"IF('Painel de Controle'!$G$16=\"S\",CAPEX!AL124*(1-'Painel de Controle'!$G$17),CAPEX!AL124)","v":14168667.325882103},{"$f":"IF('Painel de Controle'!$G$16=\"S\",CAPEX!AM124*(1-'Painel de Controle'!$G$17),CAPEX!AM124)","v":14168667.325882103},{"$f":"IF('Painel de Controle'!$G$16=\"S\",CAPEX!AN124*(1-'Painel de Controle'!$G$17),CAPEX!AN124)","v":0}]
[null,null,"Rede de distribuição e cavaletes",15,{"$f":"SUM(F61:AN61)","v":306043214.23905343},{"$f":"IF('Painel de Controle'!$G$16=\"S\",CAPEX!F125*(1-'Painel de Controle'!$G$17),CAPEX!F125)","v":0},{"$f":"IF('Painel de Controle'!$G$16=\"S\",CAPEX!G125*(1-'Painel de Controle'!$G$17),CAPEX!G125)","v":0},{"$f":"IF('Painel de Controle'!$G$16=\"S\",CAPEX!H125*(1-'Painel de Controle'!$G$17),CAPEX!H125)","v":0},{"$f":"IF('Painel de Controle'!$G$16=\"S\",CAPEX!I125*(1-'Painel de Controle'!$G$17),CAPEX!I125)","v":0},{"$f":"IF('Painel de Controle'!$G$16=\"S\",CAPEX!J125*(1-'Painel de Controle'!$G$17),CAPEX!J125)","v":0},{"$f":"IF('Painel de Controle'!$G$16=\"S\",CAPEX!K125*(1-'Painel de Controle'!$G$17),CAPEX!K125)","v":0},{"$f":"IF('Painel de Controle'!$G$16=\"S\",CAPEX!L125*(1-'Painel de Controle'!$G$17),CAPEX!L125)","v":0},{"$f":"IF('Painel de Controle'!$G$16=\"S\",CAPEX!M125*(1-'Painel de Controle'!$G$17),CAPEX!M125)","v":0},{"$f":"IF('Painel de Controle'!$G$16=\"S\",CAPEX!N125*(1-'Painel de Controle'!$G$17),CAPEX!N125)","v":0},{"$f":"IF('Painel de Controle'!$G$16=\"S\",CAPEX!O125*(1-'Painel de Controle'!$G$17),CAPEX!O125)","v":0},{"$f":"IF('Painel de Controle'!$G$16=\"S\",CAPEX!P125*(1-'Painel de Controle'!$G$17),CAPEX!P125)","v":0},{"$f":"IF('Painel de Controle'!$G$16=\"S\",CAPEX!Q125*(1-'Painel de Controle'!$G$17),CAPEX!Q125)","v":0},{"$f":"IF('Painel de Controle'!$G$16=\"S\",CAPEX!R125*(1-'Painel de Controle'!$G$17),CAPEX!R125)","v":0},{"$f":"IF('Painel de Controle'!$G$16=\"S\",CAPEX!S125*(1-'Painel de Controle'!$G$17),CAPEX!S125)","v":0},{"$f":"IF('Painel de Controle'!$G$16=\"S\",CAPEX!T125*(1-'Painel de Controle'!$G$17),CAPEX!T125)","v":51007202.373175569},{"$f":"IF('Painel de Controle'!$G$16=\"S\",CAPEX!U125*(1-'Painel de Controle'!$G$17),CAPEX!U125)","v":51007202.373175569},{"$f":"IF('Painel de Controle'!$G$16=\"S\",CAPEX!V125*(1-'Painel de Controle'!$G$17),CAPEX!V125)","v":51007202.373175569},{"$f":"IF('Painel de Controle'!$G$16=\"S\",CAPEX!W125*(1-'Painel de Controle'!$G$17),CAPEX!W125)","v":0},{"$f":"IF('Painel de Controle'!$G$16=\"S\",CAPEX!X125*(1-'Painel de Controle'!$G$17),CAPEX!X125)","v":0},{"$f":"IF('Painel de Controle'!$G$16=\"S\",CAPEX!Y125*(1-'Painel de Controle'!$G$17),CAPEX!Y125)","v":0},{"$f":"IF('Painel de Controle'!$G$16=\"S\",CAPEX!Z125*(1-'Painel de Controle'!$G$17),CAPEX!Z125)","v":0},{"$f":"IF('Painel de Controle'!$G$16=\"S\",CAPEX!AA125*(1-'Painel de Controle'!$G$17),CAPEX!AA125)","v":0},{"$f":"IF('Painel de Controle'!$G$16=\"S\",CAPEX!AB125*(1-'Painel de Controle'!$G$17),CAPEX!AB125)","v":0},{"$f":"IF('Painel de Controle'!$G$16=\"S\",CAPEX!AC125*(1-'Painel de Controle'!$G$17),CAPEX!AC125)","v":0},{"$f":"IF('Painel de Controle'!$G$16=\"S\",CAPEX!AD125*(1-'Painel de Controle'!$G$17),CAPEX!AD125)","v":0},{"$f":"IF('Painel de Controle'!$G$16=\"S\",CAPEX!AE125*(1-'Painel de Controle'!$G$17),CAPEX!AE125)","v":0},{"$f":"IF('Painel de Controle'!$G$16=\"S\",CAPEX!AF125*(1-'Painel de Controle'!$G$17),CAPEX!AF125)","v":0},{"$f":"IF('Painel de Controle'!$G$16=\"S\",CAPEX!AG125*(1-'Painel de Controle'!$G$17),CAPEX!AG125)","v":0},{"$f":"IF('Painel de Controle'!$G$16=\"S\",CAPEX!AH125*(1-'Painel de Controle'!$G$17),CAPEX!AH125)","v":0},{"$f":"IF('Painel de Controle'!$G$16=\"S\",CAPEX!AI125*(1-'Painel de Controle'!$G$17),CAPEX!AI125)","v":51007202.373175569},{"$f":"IF('Painel de Controle'!$G$16=\"S\",CAPEX!AJ125*(1-'Painel de Controle'!$G$17),CAPEX!AJ125)","v":51007202.373175569},{"$f":"IF('Painel de Controle'!$G$16=\"S\",CAPEX!AK125*(1-'Painel de Controle'!$G$17),CAPEX!AK125)","v":51007202.373175569},{"$f":"IF('Painel de Controle'!$G$16=\"S\",CAPEX!AL125*(1-'Painel de Controle'!$G$17),CAPEX!AL125)","v":0},{"$f":"IF('Painel de Controle'!$G$16=\"S\",CAPEX!AM125*(1-'Painel de Controle'!$G$17),CAPEX!AM125)","v":0},{"$f":"IF('Painel de Controle'!$G$16=\"S\",CAPEX!AN125*(1-'Painel de Controle'!$G$17),CAPEX!AN125)","v":0}]
[null,null,"Equipamentos EBPs, EBS, EBAs - Redes e Equip. Elétricos",20,243326964.55886018,{"$f":"IF('Painel de Controle'!$G$16=\"S\",CAPEX!F126*(1-'Painel de Controle'!$G$17),CAPEX!F126)","v":0},{"$f":"IF('Painel de Controle'!$G$16=\"S\",CAPEX!G126*(1-'Painel de Controle'!$G$17),CAPEX!G126)","v":0},{"$f":"IF('Painel de Controle'!$G$16=\"S\",CAPEX!H126*(1-'Painel de Controle'!$G$17),CAPEX!H126)","v":0},{"$f":"IF('Painel de Controle'!$G$16=\"S\",CAPEX!I126*(1-'Painel de Controle'!$G$17),CAPEX!I126)","v":0},{"$f":"IF('Painel de Controle'!$G$16=\"S\",CAPEX!J126*(1-'Painel de Controle'!$G$17),CAPEX!J126)","v":0},{"$f":"IF('Painel de Controle'!$G$16=\"S\",CAPEX!K126*(1-'Painel de Controle'!$G$17),CAPEX!K126)","v":0},{"$f":"IF('Painel de Controle'!$G$16=\"S\",CAPEX!L126*(1-'Painel de Controle'!$G$17),CAPEX!L126)","v":0},{"$f":"IF('Painel de Controle'!$G$16=\"S\",CAPEX!M126*(1-'Painel de Controle'!$G$17),CAPEX!M126)","v":0},{"$f":"IF('Painel de Controle'!$G$16=\"S\",CAPEX!N126*(1-'Painel de Controle'!$G$17),CAPEX!N126)","v":0},{"$f":"IF('Painel de Controle'!$G$16=\"S\",CAPEX!O126*(1-'Painel de Controle'!$G$17),CAPEX!O126)","v":0},{"$f":"IF('Painel de Controle'!$G$16=\"S\",CAPEX!P126*(1-'Painel de Controle'!$G$17),CAPEX!P126)","v":0},{"$f":"IF('Painel de Controle'!$G$16=\"S\",CAPEX!Q126*(1-'Painel de Controle'!$G$17),CAPEX!Q126)","v":0},{"$f":"IF('Painel de Controle'!$G$16=\"S\",CAPEX!R126*(1-'Painel de Controle'!$G$17),CAPEX!R126)","v":0},{"$f":"IF('Painel de Controle'!$G$16=\"S\",CAPEX!S126*(1-'Painel de Controle'!$G$17),CAPEX!S126)","v":0},{"$f":"IF('Painel de Controle'!$G$16=\"S\",CAPEX!T126*(1-'Painel de Controle'!$G$17),CAPEX!T126)","v":0},{"$f":"IF('Painel de Controle'!$G$16=\"S\",CAPEX!U126*(1-'Painel de Controle'!$G$17),CAPEX!U126)","v":0},{"$f":"IF('Painel de Controle'!$G$16=\"S\",CAPEX!V126*(1-'Painel de Controle'!$G$17),CAPEX!V126)","v":0},{"$f":"IF('Painel de Controle'!$G$16=\"S\",CAPEX!W126*(1-'Painel de Controle'!$G$17),CAPEX!W126)","v":0},{"$f":"IF('Painel de Controle'!$G$16=\"S\",CAPEX!X126*(1-'Painel de Controle'!$G$17),CAPEX!X126)","v":0},{"$f":"IF('Painel de Controle'!$G$16=\"S\",CAPEX!Y126*(1-'Painel de Controle'!$G$17),CAPEX!Y126)","v":81108988.186286733},{"$f":"IF('Painel de Controle'!$G$16=\"S\",CAPEX!Z126*(1-'Painel de Controle'!$G$17),CAPEX!Z126)","v":81108988.186286733},{"$f":"IF('Painel de Controle'!$G$16=\"S\",CAPEX!AA126*(1-'Painel de Controle'!$G$17),CAPEX!AA126)","v":81108988.186286733},{"$f":"IF('Painel de Controle'!$G$16=\"S\",CAPEX!AB126*(1-'Painel de Controle'!$G$17),CAPEX!AB126)","v":0},{"$f":"IF('Painel de Controle'!$G$16=\"S\",CAPEX!AC126*(1-'Painel de Controle'!$G$17),CAPEX!AC126)","v":0},{"$f":"IF('Painel de Controle'!$G$16=\"S\",CAPEX!AD126*(1-'Painel de Controle'!$G$17),CAPEX!AD126)","v":0},{"$f":"IF('Painel de Controle'!$G$16=\"S\",CAPEX!AE126*(1-'Painel de Controle'!$G$17),CAPEX!AE126)","v":0},{"$f":"IF('Painel de Controle'!$G$16=\"S\",CAPEX!AF126*(1-'Painel de Controle'!$G$17),CAPEX!AF126)","v":0},{"$f":"IF('Painel de Controle'!$G$16=\"S\",CAPEX!AG126*(1-'Painel de Controle'!$G$17),CAPEX!AG126)","v":0},{"$f":"IF('Painel de Controle'!$G$16=\"S\",CAPEX!AH126*(1-'Painel de Controle'!$G$17),CAPEX!AH126)","v":0},{"$f":"IF('Painel de Controle'!$G$16=\"S\",CAPEX!AI126*(1-'Painel de Controle'!$G$17),CAPEX!AI126)","v":0},{"$f":"IF('Painel de Controle'!$G$16=\"S\",CAPEX!AJ126*(1-'Painel de Controle'!$G$17),CAPEX!AJ126)","v":0},{"$f":"IF('Painel de Controle'!$G$16=\"S\",CAPEX!AK126*(1-'Painel de Controle'!$G$17),CAPEX!AK126)","v":0},{"$f":"IF('Painel de Controle'!$G$16=\"S\",CAPEX!AL126*(1-'Painel de Controle'!$G$17),CAPEX!AL126)","v":0},{"$f":"IF('Painel de Controle'!$G$16=\"S\",CAPEX!AM126*(1-'Painel de Controle'!$G$17),CAPEX!AM126)","v":0},{"$f":"IF('Painel de Controle'!$G$16=\"S\",CAPEX!AN126*(1-'Painel de Controle'!$G$17),CAPEX!AN126)","v":0}]
[null,null,"Equipamentos Adutoras, Canais, Sifões Inv. e Redes Tubos Setores",30,233997488.73281586,{"$f":"IF('Painel de Controle'!$G$16=\"S\",CAPEX!F127*(1-'Painel de Controle'!$G$17),CAPEX!F127)","v":0},{"$f":"IF('Painel de Controle'!$G$16=\"S\",CAPEX!G127*(1-'Painel de Controle'!$G$17),CAPEX!G127)","v":0},{"$f":"IF('Painel de Controle'!$G$16=\"S\",CAPEX!H127*(1-'Painel de Controle'!$G$17),CAPEX!H127)","v":0},{"$f":"IF('Painel de Controle'!$G$16=\"S\",CAPEX!I127*(1-'Painel de Controle'!$G$17),CAPEX!I127)","v":0},{"$f":"IF('Painel de Controle'!$G$16=\"S\",CAPEX!J127*(1-'Painel de Controle'!$G$17),CAPEX!J127)","v":0},{"$f":"IF('Painel de Controle'!$G$16=\"S\",CAPEX!K127*(1-'Painel de Controle'!$G$17),CAPEX!K127)","v":0},{"$f":"IF('Painel de Controle'!$G$16=\"S\",CAPEX!L127*(1-'Painel de Controle'!$G$17),CAPEX!L127)","v":0},{"$f":"IF('Painel de Controle'!$G$16=\"S\",CAPEX!M127*(1-'Painel de Controle'!$G$17),CAPEX!M127)","v":0},{"$f":"IF('Painel de Controle'!$G$16=\"S\",CAPEX!N127*(1-'Painel de Controle'!$G$17),CAPEX!N127)","v":0},{"$f":"IF('Painel de Controle'!$G$16=\"S\",CAPEX!O127*(1-'Painel de Controle'!$G$17),CAPEX!O127)","v":0},{"$f":"IF('Painel de Controle'!$G$16=\"S\",CAPEX!P127*(1-'Painel de Controle'!$G$17),CAPEX!P127)","v":0},{"$f":"IF('Painel de Controle'!$G$16=\"S\",CAPEX!Q127*(1-'Painel de Controle'!$G$17),CAPEX!Q127)","v":0},{"$f":"IF('Painel de Controle'!$G$16=\"S\",CAPEX!R127*(1-'Painel de Controle'!$G$17),CAPEX!R127)","v":0},{"$f":"IF('Painel de Controle'!$G$16=\"S\",CAPEX!S127*(1-'Painel de Controle'!$G$17),CAPEX!S127)","v":0},{"$f":"IF('Painel de Controle'!$G$16=\"S\",CAPEX!T127*(1-'Painel de Controle'!$G$17),CAPEX!T127)","v":0},{"$f":"IF('Painel de Controle'!$G$16=\"S\",CAPEX!U127*(1-'Painel de Controle'!$G$17),CAPEX!U127)","v":0},{"$f":"IF('Painel de Controle'!$G$16=\"S\",CAPEX!V127*(1-'Painel de Controle'!$G$17),CAPEX!V127)","v":0},{"$f":"IF('Painel de Controle'!$G$16=\"S\",CAPEX!W127*(1-'Painel de Controle'!$G$17),CAPEX!W127)","v":0},{"$f":"IF('Painel de Controle'!$G$16=\"S\",CAPEX!X127*(1-'Painel de Controle'!$G$17),CAPEX!X127)","v":0},{"$f":"IF('Painel de Controle'!$G$16=\"S\",CAPEX!Y127*(1-'Painel de Controle'!$G$17),CAPEX!Y127)","v":0},{"$f":"IF('Painel de Controle'!$G$16=\"S\",CAPEX!Z127*(1-'Painel de Controle'!$G$17),CAPEX!Z127)","v":0},{"$f":"IF('Painel de Controle'!$G$16=\"S\",CAPEX!AA127*(1-'Painel de Controle'!$G$17),CAPEX!AA127)","v":0},{"$f":"IF('Painel de Controle'!$G$16=\"S\",CAPEX!AB127*(1-'Painel de Controle'!$G$17),CAPEX!AB127)","v":0},{"$f":"IF('Painel de Controle'!$G$16=\"S\",CAPEX!AC127*(1-'Painel de Controle'!$G$17),CAPEX!AC127)","v":0},{"$f":"IF('Painel de Controle'!$G$16=\"S\",CAPEX!AD127*(1-'Painel de Controle'!$G$17),CAPEX!AD127)","v":0},{"$f":"IF('Painel de Controle'!$G$16=\"S\",CAPEX!AE127*(1-'Painel de Controle'!$G$17),CAPEX!AE127)","v":0},{"$f":"IF('Painel de Controle'!$G$16=\"S\",CAPEX!AF127*(1-'Painel de Controle'!$G$17),CAPEX!AF127)","v":0},{"$f":"IF('Painel de Controle'!$G$16=\"S\",CAPEX!AG127*(1-'Painel de Controle'!$G$17),CAPEX!AG127)","v":0},{"$f":"IF('Painel de Controle'!$G$16=\"S\",CAPEX!AH127*(1-'Painel de Controle'!$G$17),CAPEX!AH127)","v":0},{"$f":"IF('Painel de Controle'!$G$16=\"S\",CAPEX!AI127*(1-'Painel de Controle'!$G$17),CAPEX!AI127)","v":77999162.910938621},{"$f":"IF('Painel de Controle'!$G$16=\"S\",CAPEX!AJ127*(1-'Painel de Controle'!$G$17),CAPEX!AJ127)","v":77999162.910938621},{"$f":"IF('Painel de Controle'!$G$16=\"S\",CAPEX!AK127*(1-'Painel de Controle'!$G$17),CAPEX!AK127)","v":77999162.910938621},{"$f":"IF('Painel de Controle'!$G$16=\"S\",CAPEX!AL127*(1-'Painel de Controle'!$G$17),CAPEX!AL127)","v":0},{"$f":"IF('Painel de Controle'!$G$16=\"S\",CAPEX!AM127*(1-'Painel de Controle'!$G$17),CAPEX!AM127)","v":0},{"$f":"IF('Painel de Controle'!$G$16=\"S\",CAPEX!AN127*(1-'Painel de Controle'!$G$17),CAPEX!AN127)","v":0}]
[null,null,"Reinvestimento",null,{"$f":"SUM(E60:E63)","v":995897677.41896105},0,0,0,0,0,0,0,0,0,0,0,14168667.325882103,14168667.325882103,14168667.325882103,51007202.373175569,51007202.373175569,65175869.699057668,14168667.325882103,14168667.325882103,81108988.186286733,81108988.186286733,95277655.51216884,14168667.325882103,14168667.325882103,0,0,14168667.325882103,14168667.325882103,14168667.325882103,129006365.28411418,129006365.28411418,143175032.60999629,14168667.325882103,14168667.325882103,0]
[]
[null,null,"Discriminação","Vida Útil\n(anos)","Valores (R$)",1,2,3,4,5,6,7,8,9,10,11,12,13,14,15,16,17,18,19,20,21,22,23,24,25,26,27,28,29,30,31,32,33,34,35]
[null,null,"Infraestrutura de Irrigação",null,{"$f":"SUM(F67:AN67)","v":574430019.14360189},{"$f":"F49","v":8434968.7663200013},{"$f":"G49","v":76586725.526887476},224746774.73719397,127112447.60835205,{"$f":"J49","v":68658814.598712653},53070363.938906781,15819923.967228897,0,0,0,0,0,0,0,0,0,0,0,0,0,0,0,0,0,{"$f":"AD49","v":0},0,0,0,{"$f":"AH49","v":0},0,0,0,0,0,{"$f":"AN49","v":0}]
[null,null,"Investimento on farm",null,{"$f":"SUM(F68:AN68)","v":195527609.09717301},{"$f":"F56","v":0},{"$f":"G56","v":0},0,71417886.885317042,50778227.006355375,38558634.71507556,20958785.577866528,{"$f":"M56","v":13814074.912558498},0,0,0,0,0,0,0,0,0,0,0,0,0,0,0,0,0,0,0,0,0,0,0,0,0,0,0]
[null,null,"Reinvestimento",null,{"$f":"SUM(F69:AN69)","v":995897677.41896081},{"$f":"F64","v":0},{"$f":"G64","v":0},0,0,0,0,0,0,0,0,0,{"$f":"Q64","v":14168667.325882103},14168667.325882103,14168667.325882103,51007202.373175569,51007202.373175569,65175869.699057668,14168667.325882103,14168667.325882103,81108988.186286733,81108988.186286733,95277655.51216884,14168667.325882103,14168667.325882103,0,0,14168667.325882103,14168667.325882103,14168667.325882103,129006365.28411418,129006365.28411418,143175032.60999629,14168667.325882103,14168667.325882103,0]
[null,null,"Investimento Total",null,{"$f":"SUM(F70:AN70)","v":1765855305.6597364},{"$f":"SUM(F67:F69)","v":8434968.7663200013},{"$f":"SUM(G67:G69)","v":76586725.526887476},224746774.73719397,{"$f":"SUM(I67:I69)","v":198530334.49366909},119437041.60506803,91628998.653982341,36778709.545095429,{"$f":"SUM(M67:M69)","v":13814074.912558498},0,0,0,{"$f":"SUM(Q67:Q69)","v":14168667.325882103},14168667.325882103,14168667.325882103,51007202.373175569,51007202.373175569,65175869.699057668,14168667.325882103,14168667.325882103,81108988.186286733,81108988.186286733,95277655.51216884,14168667.325882103,14168667.325882103,{"$f":"SUM(AD67:AD69)","v":0},0,14168667.325882103,14168667.325882103,14168667.325882103,129006365.28411418,129006365.28411418,143175032.60999629,14168667.325882103,14168667.325882103,0]
[]
[null,null,"BASE CAPEX"]
[null,null,"Discriminação","Vida Útil\n(anos)","Valores (R$)",1,2,3,4,5,6,7,8,9,10,11,12,13,14,15,16,17,18,19,20,21,22,23,24,25,26,27,28,29,30,31,32,33,34,35]
[null,null,"Custos diversos"]
[null,null,"Desmatamento das áreas agrícolas (SAU)  ",35,{"$f":"SUM(F75:AN75)","v":62856829.400000006},0,0,22958915.893191759,16323824.37912754,12395556.491349047,6737681.7810134217,4440850.8553182306,0,0,0,0,0,0,0,0,0,0,0,0,0,0,0,0,0,0,0,0,0,0,0,0,0,0,0,0]
[null,null,"M. Ambiente (Estudos, Licenças e Exec. PBAs )",35,{"$f":"SUM(F76:AN76)","v":81403318.684478059},3157543.3200000003,5053987.2499999991,9577442.0499999989,9728626.8599999994,9991268.2200000025,8574424.9900000002,7875711.669999999,2938591.7,2686858.94,2424217.58,1713066.76,1713066.76,888409.38,625768.02,625768.02,625768.02,888409.38,625768.02,625768.02,625768.02,888409.38,625768.02,625768.02,625768.02,888409.37677073176,625768.01677073177,625768.01677073177,625768.01677073177,888409.37677073176,625768.01677073177,625768.01677073177,625768.01677073177,888409.37677073176,625768.01677073177,625768.01677073177]
[null,null,"Consultoria (projetos)",35,5596965,5596965,0,0,0,0,0,0,0,0,0,0,0,0,0,0,0,0,0,0,0,0,0,0,0,0,0,0,0,0,0,0,0,0,0,0]
[null,null,"Consultoria (supervisão de obras)",35,5596965,0,2044332.3329976618,1453523.4212135361,1103738.3924681926,599943.86400707939,395426.98931353033,0,0,0,0,0,0,0,0,0,0,0,0,0,0,0,0,0,0,0,0,0,0,0,0,0,0,0,0,0]
[null,null,"Serviços preliminares"]
[null,null,"Mobilização e desmobilização",35,{"$f":"SUM(F80:AN80)","v":2278479.2769959993},0,1139239.6384979996,0,0,0,0,1139239.6384979996,0,0,0,0,0,0,0,0,0,0,0,0,0,0,0,0,0,0,0,0,0,0,0,0,0,0,0,0]
[null,null,"Administração direta",35,17780541.249975875,0,2963423.541662646,2963423.541662646,2963423.541662646,2963423.541662646,2963423.541662646,2963423.541662646,0,0,0,0,0,0,0,0,0,0,0,0,0,0,0,0,0,0,0,0,0,0,0,0,0,0,0,0]
[null,null,"Implantação do canteiro de obras",35,365007.78292302007,0,365007.78292302007,0,0,0,0,0,0,0,0,0,0,0,0,0,0,0,0,0,0,0,0,0,0,0,0,0,0,0,0,0,0,0,0,0]
[null,null,"Infraestrutura Sul"]
[null,null,"EBP-Sul",20,{"$f":"SUM(F84:AN84)","v":22933043.908376731},0,9173217.5633506924,13759826.345026039,0,0,0,0,0,0,0,0,0,0,0,0,0,0,0,0,0,0,0,0,0,0,0,0,0,0,0,0,0,0,0,0]
[null,null,"Adutora EBP-Sul",30,92419.99126355999,0,92419.99126355999,0,0,0,0,0,0,0,0,0,0,0,0,0,0,0,0,0,0,0,0,0,0,0,0,0,0,0,0,0,0,0,0,0]
[null,null,"Reservatório pulmão",35,395351.96519999998,0,395351.96519999998,0,0,0,0,0,0,0,0,0,0,0,0,0,0,0,0,0,0,0,0,0,0,0,0,0,0,0,0,0,0,0,0,0]
[null,null,"Canal CP2-Sul",35,1465040.557719219,0,1465040.557719219,0,0,0,0,0,0,0,0,0,0,0,0,0,0,0,0,0,0,0,0,0,0,0,0,0,0,0,0,0,0,0,0,0]
[null,null,"EBS-Sul",20,18192946.705332074,0,7277178.6821328299,10915768.023199243,0,0,0,0,0,0,0,0,0,0,0,0,0,0,0,0,0,0,0,0,0,0,0,0,0,0,0,0,0,0,0,0]
[null,null,"Adutora da EBS-Sul",30,87185.730436919999,0,87185.730436919999,0,0,0,0,0,0,0,0,0,0,0,0,0,0,0,0,0,0,0,0,0,0,0,0,0,0,0,0,0,0,0,0,0]
[null,null,"Canal CP3-Sul",35,2643931.0694541973,0,2643931.0694541973,0,0,0,0,0,0,0,0,0,0,0,0,0,0,0,0,0,0,0,0,0,0,0,0,0,0,0,0,0,0,0,0,0]
[null,null,"EBA-9",20,4504293.0262889201,0,1801717.210515568,2702575.815773352,0,0,0,0,0,0,0,0,0,0,0,0,0,0,0,0,0,0,0,0,0,0,0,0,0,0,0,0,0,0,0,0]
[null,null,"EBAs 10-11-12",25,11487685.973677129,0,4595074.389470852,6892611.5842062766,0,0,0,0,0,0,0,0,0,0,0,0,0,0,0,0,0,0,0,0,0,0,0,0,0,0,0,0,0,0,0,0]
[null,null,"Tomadas empresariais (24)",30,3120804.2555608884,0,1248321.7022243554,1872482.553336533,0,0,0,0,0,0,0,0,0,0,0,0,0,0,0,0,0,0,0,0,0,0,0,0,0,0,0,0,0,0,0,0]
[null,null,"Tomadas gravitárias (5)",30,194337.07449905868,0,194337.07449905868,0,0,0,0,0,0,0,0,0,0,0,0,0,0,0,0,0,0,0,0,0,0,0,0,0,0,0,0,0,0,0,0,0]
[null,null,"Adutoras das EBAs / Setores (36,1% de \"L\")",30,54500656.105725527,0,21800262.442290213,32700393.663435314,0,0,0,0,0,0,0,0,0,0,0,0,0,0,0,0,0,0,0,0,0,0,0,0,0,0,0,0,0,0,0,0]
[null,null,"Estradas dos canais e estradas dos setores",35,2210700.2417301852,0,884280.09669207409,1326420.1450381111,0,0,0,0,0,0,0,0,0,0,0,0,0,0,0,0,0,0,0,0,0,0,0,0,0,0,0,0,0,0,0,0]
[null,null,"Drenos  dos canais e drenos nos setores",35,6646824.6689766562,0,2658729.8675906626,3988094.8013859936,0,0,0,0,0,0,0,0,0,0,0,0,0,0,0,0,0,0,0,0,0,0,0,0,0,0,0,0,0,0,0,0]
[null,null,"Infraestr. de Suprim. de Energia Elétrica",20,34012500.148966238,0,13605000.059586495,20407500.089379743,0,0,0,0,0,0,0,0,0,0,0,0,0,0,0,0,0,0,0,0,0,0,0,0,0,0,0,0,0,0,0,0]
[null,null,"Infraestrutura Norte"]
[null,null,"EBP-Norte (8,37 m³/s)",20,{"$f":"SUM(F100:AN100)","v":49743839.70755858},0,0,19897535.883023433,29846303.824535146,0,0,0,0,0,0,0,0,0,0,0,0,0,0,0,0,0,0,0,0,0,0,0,0,0,0,0,0,0,0,0]
[null,null,"Adutora EBP-Norte",30,384075.0091812,0,0,384075.0091812,0,0,0,0,0,0,0,0,0,0,0,0,0,0,0,0,0,0,0,0,0,0,0,0,0,0,0,0,0,0,0,0]
[null,null,"Canal CP-3 Norte (8,37 m³/s) - (SH-1, 2, 3, 4, 5 e 6)",30,17088835.403303232,0,0,8544417.701651616,8544417.701651616,0,0,0,0,0,0,0,0,0,0,0,0,0,0,0,0,0,0,0,0,0,0,0,0,0,0,0,0,0,0,0]
[null,null,"Canal CS2/CP3 Norte (2,24 m³/s) - (SH-7 e 8)",35,3346153.4368911227,0,0,0,0,3346153.4368911227,0,0,0,0,0,0,0,0,0,0,0,0,0,0,0,0,0,0,0,0,0,0,0,0,0,0,0,0,0,0]
[null,null,"Sifões invertidos no CP-3 Norte ",35,230355.0852,0,0,115177.5426,115177.5426,0,0,0,0,0,0,0,0,0,0,0,0,0,0,0,0,0,0,0,0,0,0,0,0,0,0,0,0,0,0,0]
[null,null,"Tomadas empresariais (27 no CP-3 e no CS-2)",30,3510904.7875059997,0,0,877726.19687649992,877726.19687649992,877726.19687649992,877726.19687649992,0,0,0,0,0,0,0,0,0,0,0,0,0,0,0,0,0,0,0,0,0,0,0,0,0,0,0,0,0]
[null,null,"Tomadas gravitárias (13 no CP-3 e 3 no CS-2)",30,621878.63839698781,0,0,155469.65959924695,155469.65959924695,155469.65959924695,155469.65959924695,0,0,0,0,0,0,0,0,0,0,0,0,0,0,0,0,0,0,0,0,0,0,0,0,0,0,0,0,0]
[null,null,"EBAs 1 a 8",25,30633829.263139009,0,0,11487685.973677129,11487685.973677129,3829228.6578923762,3829228.6578923762,0,0,0,0,0,0,0,0,0,0,0,0,0,0,0,0,0,0,0,0,0,0,0,0,0,0,0,0,0]
[null,null,"Adutoras das EBAs / Setores (63,9% de SAU ) ",30,96470690.447530761,0,0,39469999.059723958,29971689.948091149,16291298.3737658,10737703.065949863,0,0,0,0,0,0,0,0,0,0,0,0,0,0,0,0,0,0,0,0,0,0,0,0,0,0,0,0,0]
[null,null,"Casa de Comando - Comportas",35,156968.66863231201,0,0,39242.167158078002,39242.167158078002,39242.167158078002,39242.167158078002,0,0,0,0,0,0,0,0,0,0,0,0,0,0,0,0,0,0,0,0,0,0,0,0,0,0,0,0,0]
[null,null,"Estradas dos canais e estradas dos setores",35,12558061.361199038,0,0,3139515.3402997595,3139515.3402997595,3139515.3402997595,3139515.3402997595,0,0,0,0,0,0,0,0,0,0,0,0,0,0,0,0,0,0,0,0,0,0,0,0,0,0,0,0,0]
[null,null,"Drenos  dos canais e drenos nos setores",35,10057218.056019984,0,0,2514304.514004996,2514304.514004996,2514304.514004996,2514304.514004996,0,0,0,0,0,0,0,0,0,0,0,0,0,0,0,0,0,0,0,0,0,0,0,0,0,0,0,0,0]
[null,null,"Infraestr. de Suprim. de Energia Elétrica",20,60466666.931495532,0,0,15116666.732873883,15116666.732873883,15116666.732873883,15116666.732873883,0,0,0,0,0,0,0,0,0,0,0,0,0,0,0,0,0,0,0,0,0,0,0,0,0,0,0,0,0]
[null,null,"Infraestrutura de Irrigação e Apoio",null,{"$f":"SUM(E75:E112)","v":623635304.61363411},8754508.3200000003,{"$f":"SUM(G75:G112)","v":79488038.948508024},233260793.70751834,131927812.77462588,71259797.196380526,55080813.636644304,{"$f":"SUM(L75:L112)","v":16419225.705478875},{"$f":"SUM(M75:M112)","v":2938591.7},{"$f":"SUM(N75:N112)","v":2686858.94},{"$f":"SUM(O75:O112)","v":2424217.58},{"$f":"SUM(P75:P112)","v":1713066.76},{"$f":"SUM(Q75:Q112)","v":1713066.76},{"$f":"SUM(R75:R112)","v":888409.38},{"$f":"SUM(S75:S112)","v":625768.02},{"$f":"SUM(T75:T112)","v":625768.02},{"$f":"SUM(U75:U112)","v":625768.02},{"$f":"SUM(V75:V112)","v":888409.38},{"$f":"SUM(W75:W112)","v":625768.02},{"$f":"SUM(X75:X112)","v":625768.02},{"$f":"SUM(Y75:Y112)","v":625768.02},{"$f":"SUM(Z75:Z112)","v":888409.38},{"$f":"SUM(AA75:AA112)","v":625768.02},{"$f":"SUM(AB75:AB112)","v":625768.02},{"$f":"SUM(AC75:AC112)","v":625768.02},{"$f":"SUM(AD75:AD112)","v":888409.37677073176},{"$f":"SUM(AE75:AE112)","v":625768.01677073177},{"$f":"SUM(AF75:AF112)","v":625768.01677073177},{"$f":"SUM(AG75:AG112)","v":625768.01677073177},{"$f":"SUM(AH75:AH112)","v":888409.37677073176},{"$f":"SUM(AI75:AI112)","v":625768.01677073177},{"$f":"SUM(AJ75:AJ112)","v":625768.01677073177},{"$f":"SUM(AK75:AK112)","v":625768.01677073177},{"$f":"SUM(AL75:AL112)","v":888409.37677073176},{"$f":"SUM(AM75:AM112)","v":625768.01677073177},{"$f":"SUM(AN75:AN112)","v":625768.01677073177}]
[]
[null,null,"Discriminação","Vida Útil\n(anos)","Valores (R$)",1,2,3,4,5,6,7,8,9,10,11,12,13,14,15,16,17,18,19,20,21,22,23,24,25,26,27,28,29,30,31,32,33,34,35]
[null,null,"Investimento on farm"]
[null,null,"Ramais móveis e emissores",0,44116244.917121232,{"$f":"F$5/$E$5*$E117","v":0},{"$f":"G$5/$E$5*$E117","v":0},0,{"$f":"I$5/$E$5*$E117","v":16113780.574742682},11456922.679171357,8699856.6627728529,4728861.1669110646,3116823.833523273,0,0]
[null,null,"Rede de distribuição e cavaletes (fornec.)",0,132348734.75136369,{"$f":"F$5/$E$5*$E118","v":0},0,0,{"$f":"I$5/$E$5*$E118","v":48341341.724228047},34370768.037514076,26099569.988318559,14186583.500733193,9350471.5005698185,0,0]
[null,null,"Assentam. e montagem dos tubos da rede e cavaletes",0,26469746.950272739,0,0,0,{"$f":"I$5/$E$5*$E119","v":9668268.3448456097},6874153.6075028144,5219913.9976637112,2837316.7001466388,1870094.3001139637,0,0]
[null,null,"Investimento on farm",null,{"$f":"SUM(E117:E119)","v":202934726.61875767},{"$f":"SUM(F117:F119)","v":0},{"$f":"SUM(G117:G119)","v":0},{"$f":"SUM(H117:H119)","v":0},{"$f":"SUM(I117:I119)","v":74123390.643816337},{"$f":"SUM(J117:J119)","v":52701844.324188247},{"$f":"SUM(K117:K119)","v":40019340.648755126},{"$f":"SUM(L117:L119)","v":21752761.367790896},{"$f":"SUM(M117:M119)","v":14337389.634207055},{"$f":"SUM(N117:N119)","v":0},{"$f":"SUM(O117:O119)","v":0}]
[]
[null,null,"Discriminação","Vida Útil\n(anos)","Valores (R$)",1,2,3,4,5,6,7,8,9,10,11,12,13,14,15,16,17,18,19,20,21,22,23,24,25,26,27,28,29,30,31,32,33,34,35]
[null,null,"Reinvestimento"]
[null,null,"Ramais móveis e emissores",5,{"$f":"SUM(F124:AN124)","v":220581224.58560619},null,null,null,null,null,null,null,null,null,null,null,{"$f":"$E$117/3","v":14705414.972373744},{"$f":"$E$117/3","v":14705414.972373744},{"$f":"$E$117/3","v":14705414.972373744},null,null,{"$f":"Q124","v":14705414.972373744},{"$f":"R124","v":14705414.972373744},{"$f":"S124","v":14705414.972373744},null,null,{"$f":"V124","v":14705414.972373744},{"$f":"W124","v":14705414.972373744},{"$f":"X124","v":14705414.972373744},null,null,{"$f":"AA124","v":14705414.972373744},{"$f":"AB124","v":14705414.972373744},{"$f":"AC124","v":14705414.972373744},null,null,{"$f":"AF124","v":14705414.972373744},{"$f":"AG124","v":14705414.972373744},{"$f":"AH124","v":14705414.972373744}]
[null,null,"Rede de distribuição e cavaletes",15,{"$f":"SUM(F125:AN125)","v":317636963.40327287},null,null,null,null,null,null,null,null,null,null,null,null,null,null,{"$f":"($E$118+$E$119)/3","v":52939493.900545478},{"$f":"($E$118+$E$119)/3","v":52939493.900545478},{"$f":"($E$118+$E$119)/3","v":52939493.900545478},null,null,null,null,null,null,null,null,null,null,null,null,{"$f":"T125","v":52939493.900545478},{"$f":"U125","v":52939493.900545478},{"$f":"V125","v":52939493.900545478}]
[null,null,"Equipamentos EBPs, EBS, EBAs - Redes e Equip. Elétricos",20,252544851.64386111,null,null,null,null,null,null,null,null,null,null,null,null,null,null,null,null,null,null,null,84181617.214620367,84181617.214620367,84181617.214620367]
[null,null,"Equipamentos Adutoras, Canais, Sifões Inv. e Redes Tubos Setores",30,242861949.90432367,null,null,null,null,null,null,null,null,null,null,null,null,null,null,null,null,null,null,null,null,null,null,null,null,null,null,null,null,null,80953983.301441222,80953983.301441222,80953983.301441222]
[null,null,"Reinvestimento",null,{"$f":"SUM(E124:E127)","v":1033624989.537064},{"$f":"SUM(F124:F127)","v":0},{"$f":"SUM(G124:G127)","v":0},{"$f":"SUM(H124:H127)","v":0},{"$f":"SUM(I124:I127)","v":0},{"$f":"SUM(J124:J127)","v":0},{"$f":"SUM(K124:K127)","v":0},{"$f":"SUM(L124:L127)","v":0},{"$f":"SUM(M124:M127)","v":0},{"$f":"SUM(N124:N127)","v":0},{"$f":"SUM(O124:O127)","v":0},{"$f":"SUM(P124:P127)","v":0},{"$f":"SUM(Q124:Q127)","v":14705414.972373744},{"$f":"SUM(R124:R127)","v":14705414.972373744},{"$f":"SUM(S124:S127)","v":14705414.972373744},{"$f":"SUM(T124:T127)","v":52939493.900545478},{"$f":"SUM(U124:U127)","v":52939493.900545478},{"$f":"SUM(V124:V127)","v":67644908.872919217},{"$f":"SUM(W124:W127)","v":14705414.972373744},{"$f":"SUM(X124:X127)","v":14705414.972373744},{"$f":"SUM(Y124:Y127)","v":84181617.214620367},{"$f":"SUM(Z124:Z127)","v":84181617.214620367},{"$f":"SUM(AA124:AA127)","v":98887032.186994106},{"$f":"SUM(AB124:AB127)","v":14705414.972373744},{"$f":"SUM(AC124:AC127)","v":14705414.972373744},{"$f":"SUM(AD124:AD127)","v":0},{"$f":"SUM(AE124:AE127)","v":0},{"$f":"SUM(AF124:AF127)","v":14705414.972373744},{"$f":"SUM(AG124:AG127)","v":14705414.972373744},{"$f":"SUM(AH124:AH127)","v":14705414.972373744},{"$f":"SUM(AI124:AI127)","v":133893477.2019867},{"$f":"SUM(AJ124:AJ127)","v":133893477.2019867},{"$f":"SUM(AK124:AK127)","v":148598892.17436045},{"$f":"SUM(AL124:AL127)","v":14705414.972373744},{"$f":"SUM(AM124:AM127)","v":14705414.972373744},{"$f":"SUM(AN124:AN127)","v":0}]
[]
[null,null,"Discriminação","Vida Útil\n(anos)","Valores (R$)",1,2,3,4,5,6,7,8,9,10,11,12,13,14,15,16,17,18,19,20,21,22,23,24,25,26,27,28,29,30,31,32,33,34,35]
[null,null,"Infraestrutura de Irrigação",null,{"$f":"SUM(F131:AN131)","v":623635304.61363387},{"$f":"F113","v":8754508.3200000003},79488038.948508024,233260793.70751834,131927812.77462588,71259797.196380526,55080813.636644304,16419225.705478875,2938591.7,2686858.94,2424217.58,1713066.76,1713066.76,888409.38,625768.02,625768.02,625768.02,888409.38,625768.02,625768.02,625768.02,888409.38,625768.02,625768.02,625768.02,888409.37677073176,625768.01677073177,625768.01677073177,625768.01677073177,888409.37677073176,625768.01677073177,625768.01677073177,625768.01677073177,888409.37677073176,625768.01677073177,625768.01677073177]
[null,null,"Investimento on farm",null,{"$f":"SUM(F132:AN132)","v":202934726.61875767},{"$f":"F120","v":0},0,0,74123390.643816337,52701844.324188247,40019340.648755126,21752761.367790896,14337389.634207055,0,0,0,0,0,0,0,0,0,0,0,0,0,0,0,0,0,0,0,0,0,0,0,0,0,0,0]
[null,null,"Reinvestimento",null,{"$f":"SUM(F133:AN133)","v":1033624989.5370636},{"$f":"F128","v":0},0,0,0,0,0,0,0,0,0,0,14705414.972373744,14705414.972373744,14705414.972373744,52939493.900545478,52939493.900545478,67644908.872919217,14705414.972373744,14705414.972373744,84181617.214620367,84181617.214620367,98887032.186994106,14705414.972373744,14705414.972373744,0,0,14705414.972373744,14705414.972373744,14705414.972373744,133893477.2019867,133893477.2019867,148598892.17436045,14705414.972373744,14705414.972373744,0]
[null,null,"Investimento Total",null,{"$f":"SUM(F134:AN134)","v":1860195020.7694554},{"$f":"SUM(F131:F133)","v":8754508.3200000003},{"$f":"SUM(G131:G133)","v":79488038.948508024},{"$f":"SUM(H131:H133)","v":233260793.70751834},{"$f":"SUM(I131:I133)","v":206051203.41844222},{"$f":"SUM(J131:J133)","v":123961641.52056877},{"$f":"SUM(K131:K133)","v":95100154.285399437},{"$f":"SUM(L131:L133)","v":38171987.07326977},{"$f":"SUM(M131:M133)","v":17275981.334207054},{"$f":"SUM(N131:N133)","v":2686858.94},{"$f":"SUM(O131:O133)","v":2424217.58},{"$f":"SUM(P131:P133)","v":1713066.76},{"$f":"SUM(Q131:Q133)","v":16418481.732373744},{"$f":"SUM(R131:R133)","v":15593824.352373745},{"$f":"SUM(S131:S133)","v":15331182.992373744},{"$f":"SUM(T131:T133)","v":53565261.920545481},{"$f":"SUM(U131:U133)","v":53565261.920545481},{"$f":"SUM(V131:V133)","v":68533318.252919212},{"$f":"SUM(W131:W133)","v":15331182.992373744},{"$f":"SUM(X131:X133)","v":15331182.992373744},{"$f":"SUM(Y131:Y133)","v":84807385.234620363},{"$f":"SUM(Z131:Z133)","v":85070026.594620362},{"$f":"SUM(AA131:AA133)","v":99512800.206994101},{"$f":"SUM(AB131:AB133)","v":15331182.992373744},{"$f":"SUM(AC131:AC133)","v":15331182.992373744},{"$f":"SUM(AD131:AD133)","v":888409.37677073176},{"$f":"SUM(AE131:AE133)","v":625768.01677073177},{"$f":"SUM(AF131:AF133)","v":15331182.989144476},{"$f":"SUM(AG131:AG133)","v":15331182.989144476},{"$f":"SUM(AH131:AH133)","v":15593824.349144476},{"$f":"SUM(AI131:AI133)","v":134519245.21875742},{"$f":"SUM(AJ131:AJ133)","v":134519245.21875742},{"$f":"SUM(AK131:AK133)","v":149224660.19113117},{"$f":"SUM(AL131:AL133)","v":15593824.349144476},{"$f":"SUM(AM131:AM133)","v":15331182.989144476},{"$f":"SUM(AN131:AN133)","v":625768.01677073177}]

{"sheet":"Base Ativos","index":14,"n_rows":45,"n_cols":11,"rows_kept":45,"cut":false,"hidden":false,"merged":[[16,1,21,1],[16,7,21,7],[3,1,4,1],[3,2,4,2],[3,3,4,3],[3,4,4,4],[3,5,4,5],[3,6,4,6],[3,7,4,7],[5,1,8,1],[6,7,8,7],[9,1,15,1],[9,7,15,7],[42,1,42,2],[43,1,43,2],[44,1,44,2],[22,1,34,1],[22,7,34,7],[35,1,38,1],[35,7,38,7],[39,1,41,1],[39,7,41,7]]}
[]
[null,"BASE DE ATIVOS"]
[]
[null,"Obra / Grupo","Descriçao das obras e equipamentos","Valor Total (R$)","Vida útil (anos)","Taxa de Manut. (%)","Valores de Manut. (R$)","Agrupam custos invest (R$)"]
[null,null,null,null,null,null,null,null,null,"Grupos de Manutenção","Custo Anual (R$)"]
[null,"\"ON-FARM\"","Ramais móveis e emissores",50014344.494118035,5,1.0499999999999999E-2,{"$f":"D6*F6","v":525150.61718823935},{"$f":"D6","v":50014344.494118035},null,"Manutenção de Equipamentos",{"$f":"SUM(G6:G22)","v":4728936.5088125505}]
[null,null,"Rede de distribuição e cavaletes (fornec.)",150043033.4823541,15,5.2499999999999995E-3,787725.92578235897,{"$f":"SUM(D7:D9)","v":180051640.17882493},null,"Manutenção de Obras Civis",{"$f":"SUM(G23:G35)","v":2927096.2223109361}]
[null,null,"Montagem dos equip. da rede e cavaletes",30008606.696470819,15,5.2499999999999995E-3,157545.18515647179,null,null,"Total",{"$f":"SUM(K6:K7)","v":7656032.7311234865}]
[null,null,"Serviços de recuperação/finalização de obras e equipamentos",0,15,5.2499999999999995E-3,0]
[null,"EQUIP. P/ EBPs, EBS, EBAs; REDES E EQUIP. ELÉTRICOS","Grupos motobombase equip. mecânicos (fornec.)",115452330.85379462,20,6.9999999999999993E-3,808166.31597656221,{"$f":"SUM(D10:D16)","v":252061738.5371992}]
[null,null,"Equipamentos elétricos / automação (fornec.)",23851491.167744692,20,6.9999999999999993E-3,166960.43817421282]
[null,null,"Equipamentos mecânicos  e elétricos (montagem)",17652300.895798124,20,6.9999999999999993E-3,{"$f":"D12*F12","v":123566.10627058685}]
[null,null,"Redes elétricas (fornec e montagem) ",40232095.337764002,20,6.9999999999999993E-3,{"$f":"D13*F13","v":281624.66736434796}]
[null,null,"Subestações",49429072.634920001,20,1.0499999999999999E-2,{"$f":"D14*F14","v":519005.26266665995}]
[null,null,"Sistema de Instrumentação, Automação e CFTV",4817999.1077777781,20,1.0499999999999999E-2,{"$f":"D15*F15","v":50588.990631666667}]
[null,null,"Serviços de recuperação/finalização de obras e equipamentos",626448.53940000001,20,3.4999999999999996E-3,{"$f":"D16*F16","v":2192.5698878999997}]
[null,"EQUIP. P/ ADUTORAS, CANAIS, SIFÕES INVERT.  E REDES TUBOS SETORES ","Equip das adutoras (fornec e montagem)",73446787.034820348,30,5.2499999999999995E-3,385595.63193280681,{"$f":"SUM(D17:D22)","v":242862178.96915388}]
[null,null,"Equip dos canais (fornec e montagem)",13496924.282050865,30,6.9999999999999993E-3,94478.469974356049]
[null,null,"Equip dos sifões invert. (fornec e montagem)",12323036.281710001,30,5.2499999999999995E-3,64695.9404789775]
[null,null,"Equip das tomadas de água nos canais",4436784.361084396,30,6.9999999999999993E-3,31057.490527590769]
[null,null,"Equip das redes tubulareas (fornec e montagem) ",139158647.00948828,30,5.2499999999999995E-3,{"$f":"D21*F21","v":730582.89679981337}]
[null,null,"Serviços de recuperação/finalização de obras e equipamentos",0,30,5.2499999999999995E-3,{"$f":"D22*F22","v":0}]
[null,"OBRAS CIVIS","EBPs, EBS e EBAs",29405317.918590423,35,6.9999999999999993E-3,205837.22543013294,{"$f":"SUM(D23:D35)","v":286444621.70184219}]
[null,null,"Adutoras das EBPs e EBS ",7262194.7541000005,35,3.4999999999999996E-3,25417.681639349998]
[null,null,"Reservatório pulmão",3172459.5916167372,35,1.0499999999999999E-2,33310.82571197574]
[null,null,"Canais de distribuição (e obras auxiliares)",130742591.84355326,35,1.3999999999999999E-2,1830396.2858097455]
[null,null,"Sifões invertidos",1848455.4422565005,35,6.9999999999999993E-3,12939.188095795502]
[null,null,"Tomadas de água (gravitacionais e empresariais)",9405087.023976313,35,5.2499999999999995E-3,49376.706875875636]
[null,null,"Redes pressurizadas e gravitacionais",11812699.543768009,35,3.4999999999999996E-3,41344.448403188027]
[null,null,"Sistema \"on farm\"",0,0,0,0]
[null,null,"Canais de aproximação",19984175.57260735,35,1.4E-3,27977.845801650288]
[null,null,"Sistema de drenagem (viária e agrícola)",24951849.401573047,35,1.0499999999999999E-2,261994.41871651696]
[null,null,"Sistema viário (canais e setores)",38713189.813200548,35,1.0499999999999999E-2,406488.49303860572]
[null,null,"Subestações e redes elétricas",0,35,3.4999999999999996E-3,0]
[null,null,"Serviços de recuperação/finalização de obras e equipamentos",9146600.7965999991,35,3.4999999999999996E-3,{"$f":"D35*F35","v":32013.102788099994}]
[null,"DIVERSOS","Desmatamento das áreas agrícolas (SAU)  ",62856829.399999999,0,"-",null,{"$f":"SUM(D36:D39)","v":169486079.02497804}]
[null,null,"Estudos, licenças e programas ambientais",81403318.684478059,0,"-"]
[null,null,"Consultoria (projeto e supervisão de obras)",11193930,0,"-"]
[null,null,"Valor da terra",14032000.9405,0,"-"]
[null,"SERVIÇOS PRELIMINARES","Mobilização e desmobilização",2278479.2769959993,0,"-",null,{"$f":"SUM(D40:D42)","v":20424028.309894893}]
[null,null,"Administração direta",17780541.249975875,0,"-"]
[null,null,"Implantação do canteiro de obras",365007.78292302007,0,"-"]
[null,"TOTAL GERAL DAS OBRAS",null,{"$f":"SUM(D6:D42)","v":1201344631.2160113},null,null,{"$f":"SUM(G6:G42)","v":7656032.7311234884},{"$f":"SUM(H6:H42)","v":1201344631.216011}]
[null,"Área SAU (ha)",null,{"$f":"'Painel de Controle'!C21","v":10238.18}]
[null,"Valor dos ativos por hectare (R$/ha)",null,{"$f":"D43/D44","v":117339.66693455393}]

{"sheet":"Investimentos Prévios","index":15,"n_rows":24,"n_cols":4,"rows_kept":24,"cut":false,"hidden":false,"merged":[]}
[null,"ITEM","DESCRIÇÃO","TOTAL (R$ até 2012)"]
[null,1,"Canais de aproximação",19984175.57260735]
[null,2,"EBP-Sul (9,05 m³/s)",39290423.012017101]
[null,3,"EBP-Norte (8,37 m³/s)",5788883.8173393458]
[null,4,"EBS-Sul (3,95 m³/s)",2360371.2316833371]
[null,5,"EBA-9 (0,836 m³/s)",2052572.7299156468]
[null,6,"Tomadas empresariais",6669348.2641723864]
[null,7,"Adutora EBP-Sul",5371334.3443364399]
[null,8,"Adutora EBS-Sul",14328771.209563082]
[null,9,"Adutora EBP-Norte",59681563.123318806]
[null,10,"Reserv. Pulmão EBP-Sul (9,05 m³/s)",3997299.0854370887]
[null,11,"Canal CP-2 Sul (~5,60 m³/s)",35035672.722900137]
[null,12,"Canal CP-3 Sul (3,95 m³/s)",14857330.083524615]
[null,13,"Canal CS2/CP3 Norte (2,24 m³/s)",13119536.569460548]
[null,14,"Canal CP-3 Norte (8,37 m³/s)",61321930.370310001]
[null,15,"Sifões invertidos no CP-2 Norte",14171491.7239665]
[null,16,"Casa de Comando - Comportas",366260.22680872801]
[null,17,"Tomada gravitária",435038.2919253881]
[null,18,"Estradas dos canais",17134336.945121977]
[null,19,"Drenagem dos canais",4785014.423597577]
[null,20,"Estradas dos setores",8303093.697949348]
[null,21,"Drenagem dos setores",4556893.5429788269]
[null,22,"Custos diversos",14032000.9405]
[null,null,"TOTAL GERAL",347643341.92943424]

{"sheet":"Depreciação","index":16,"n_rows":255,"n_cols":41,"rows_kept":255,"cut":false,"hidden":false,"merged":[[2,0,3,0]]}
[]
[null,null,"DEPRECIAÇÃO"]
["Item"]
[null,null,"Discriminação","Vida Útil\n(anos)","Valores (R$)",1,2,3,4,5,6,7,8,9,10,11,12,13,14,15,16,17,18,19,20,21,22,23,24,25,26,27,28,29,30,31,32,33,34,35]
[null,null,"Adições"]
[null,null,"Infraestrutura de Irrigação"]
[null,null,"Vida Útil = 20 anos",20,{"$f":"SUM(F7:AN7)","v":182923645.32739544},{"$f":"SUMIF(CAPEX!$D$11:$D$48,Depreciação!$D7,CAPEX!F$11:F$48)","v":0},{"$f":"SUMIF(CAPEX!$D$11:$D$48,Depreciação!$D7,CAPEX!G$11:G$48)","v":30694328.872266714},{"$f":"SUMIF(CAPEX!$D$11:$D$48,Depreciação!$D7,CAPEX!H$11:H$48)","v":79777677.528817132},{"$f":"SUMIF(CAPEX!$D$11:$D$48,Depreciação!$D7,CAPEX!I$11:I$48)","v":43321822.132063597},{"$f":"SUMIF(CAPEX!$D$11:$D$48,Depreciação!$D7,CAPEX!J$11:J$48)","v":14564908.397123987},{"$f":"SUMIF(CAPEX!$D$11:$D$48,Depreciação!$D7,CAPEX!K$11:K$48)","v":14564908.397123987},{"$f":"SUMIF(CAPEX!$D$11:$D$48,Depreciação!$D7,CAPEX!L$11:L$48)","v":0},{"$f":"SUMIF(CAPEX!$D$11:$D$48,Depreciação!$D7,CAPEX!M$11:M$48)","v":0},{"$f":"SUMIF(CAPEX!$D$11:$D$48,Depreciação!$D7,CAPEX!N$11:N$48)","v":0},{"$f":"SUMIF(CAPEX!$D$11:$D$48,Depreciação!$D7,CAPEX!O$11:O$48)","v":0},{"$f":"SUMIF(CAPEX!$D$11:$D$48,Depreciação!$D7,CAPEX!P$11:P$48)","v":0},{"$f":"SUMIF(CAPEX!$D$11:$D$48,Depreciação!$D7,CAPEX!Q$11:Q$48)","v":0},{"$f":"SUMIF(CAPEX!$D$11:$D$48,Depreciação!$D7,CAPEX!R$11:R$48)","v":0},{"$f":"SUMIF(CAPEX!$D$11:$D$48,Depreciação!$D7,CAPEX!S$11:S$48)","v":0},{"$f":"SUMIF(CAPEX!$D$11:$D$48,Depreciação!$D7,CAPEX!T$11:T$48)","v":0},{"$f":"SUMIF(CAPEX!$D$11:$D$48,Depreciação!$D7,CAPEX!U$11:U$48)","v":0},{"$f":"SUMIF(CAPEX!$D$11:$D$48,Depreciação!$D7,CAPEX!V$11:V$48)","v":0},{"$f":"SUMIF(CAPEX!$D$11:$D$48,Depreciação!$D7,CAPEX!W$11:W$48)","v":0},{"$f":"SUMIF(CAPEX!$D$11:$D$48,Depreciação!$D7,CAPEX!X$11:X$48)","v":0},{"$f":"SUMIF(CAPEX!$D$11:$D$48,Depreciação!$D7,CAPEX!Y$11:Y$48)","v":0},{"$f":"SUMIF(CAPEX!$D$11:$D$48,Depreciação!$D7,CAPEX!Z$11:Z$48)","v":0},{"$f":"SUMIF(CAPEX!$D$11:$D$48,Depreciação!$D7,CAPEX!AA$11:AA$48)","v":0},{"$f":"SUMIF(CAPEX!$D$11:$D$48,Depreciação!$D7,CAPEX!AB$11:AB$48)","v":0},{"$f":"SUMIF(CAPEX!$D$11:$D$48,Depreciação!$D7,CAPEX!AC$11:AC$48)","v":0},{"$f":"SUMIF(CAPEX!$D$11:$D$48,Depreciação!$D7,CAPEX!AD$11:AD$48)","v":0},{"$f":"SUMIF(CAPEX!$D$11:$D$48,Depreciação!$D7,CAPEX!AE$11:AE$48)","v":0},{"$f":"SUMIF(CAPEX!$D$11:$D$48,Depreciação!$D7,CAPEX!AF$11:AF$48)","v":0},{"$f":"SUMIF(CAPEX!$D$11:$D$48,Depreciação!$D7,CAPEX!AG$11:AG$48)","v":0},{"$f":"SUMIF(CAPEX!$D$11:$D$48,Depreciação!$D7,CAPEX!AH$11:AH$48)","v":0},{"$f":"SUMIF(CAPEX!$D$11:$D$48,Depreciação!$D7,CAPEX!AI$11:AI$48)","v":0},{"$f":"SUMIF(CAPEX!$D$11:$D$48,Depreciação!$D7,CAPEX!AJ$11:AJ$48)","v":0},{"$f":"SUMIF(CAPEX!$D$11:$D$48,Depreciação!$D7,CAPEX!AK$11:AK$48)","v":0},{"$f":"SUMIF(CAPEX!$D$11:$D$48,Depreciação!$D7,CAPEX!AL$11:AL$48)","v":0},{"$f":"SUMIF(CAPEX!$D$11:$D$48,Depreciação!$D7,CAPEX!AM$11:AM$48)","v":0},{"$f":"SUMIF(CAPEX!$D$11:$D$48,Depreciação!$D7,CAPEX!AN$11:AN$48)","v":0}]
[null,null,"Vida Útil = 25 anos",25,{"$f":"SUM(F8:AN8)","v":40584079.930672355},{"$f":"SUMIF(CAPEX!$D$11:$D$48,Depreciação!$D8,CAPEX!F$11:F$48)","v":0},{"$f":"SUMIF(CAPEX!$D$11:$D$48,Depreciação!$D8,CAPEX!G$11:G$48)","v":4427354.1742551662},{"$f":"SUMIF(CAPEX!$D$11:$D$48,Depreciação!$D8,CAPEX!H$11:H$48)","v":17709416.697020661},{"$f":"SUMIF(CAPEX!$D$11:$D$48,Depreciação!$D8,CAPEX!I$11:I$48)","v":11068385.435637914},{"$f":"SUMIF(CAPEX!$D$11:$D$48,Depreciação!$D8,CAPEX!J$11:J$48)","v":3689461.8118793047},{"$f":"SUMIF(CAPEX!$D$11:$D$48,Depreciação!$D8,CAPEX!K$11:K$48)","v":3689461.8118793047},{"$f":"SUMIF(CAPEX!$D$11:$D$48,Depreciação!$D8,CAPEX!L$11:L$48)","v":0},{"$f":"SUMIF(CAPEX!$D$11:$D$48,Depreciação!$D8,CAPEX!M$11:M$48)","v":0},{"$f":"SUMIF(CAPEX!$D$11:$D$48,Depreciação!$D8,CAPEX!N$11:N$48)","v":0},{"$f":"SUMIF(CAPEX!$D$11:$D$48,Depreciação!$D8,CAPEX!O$11:O$48)","v":0},{"$f":"SUMIF(CAPEX!$D$11:$D$48,Depreciação!$D8,CAPEX!P$11:P$48)","v":0},{"$f":"SUMIF(CAPEX!$D$11:$D$48,Depreciação!$D8,CAPEX!Q$11:Q$48)","v":0},{"$f":"SUMIF(CAPEX!$D$11:$D$48,Depreciação!$D8,CAPEX!R$11:R$48)","v":0},{"$f":"SUMIF(CAPEX!$D$11:$D$48,Depreciação!$D8,CAPEX!S$11:S$48)","v":0},{"$f":"SUMIF(CAPEX!$D$11:$D$48,Depreciação!$D8,CAPEX!T$11:T$48)","v":0},{"$f":"SUMIF(CAPEX!$D$11:$D$48,Depreciação!$D8,CAPEX!U$11:U$48)","v":0},{"$f":"SUMIF(CAPEX!$D$11:$D$48,Depreciação!$D8,CAPEX!V$11:V$48)","v":0},{"$f":"SUMIF(CAPEX!$D$11:$D$48,Depreciação!$D8,CAPEX!W$11:W$48)","v":0},{"$f":"SUMIF(CAPEX!$D$11:$D$48,Depreciação!$D8,CAPEX!X$11:X$48)","v":0},{"$f":"SUMIF(CAPEX!$D$11:$D$48,Depreciação!$D8,CAPEX!Y$11:Y$48)","v":0},{"$f":"SUMIF(CAPEX!$D$11:$D$48,Depreciação!$D8,CAPEX!Z$11:Z$48)","v":0},{"$f":"SUMIF(CAPEX!$D$11:$D$48,Depreciação!$D8,CAPEX!AA$11:AA$48)","v":0},{"$f":"SUMIF(CAPEX!$D$11:$D$48,Depreciação!$D8,CAPEX!AB$11:AB$48)","v":0},{"$f":"SUMIF(CAPEX!$D$11:$D$48,Depreciação!$D8,CAPEX!AC$11:AC$48)","v":0},{"$f":"SUMIF(CAPEX!$D$11:$D$48,Depreciação!$D8,CAPEX!AD$11:AD$48)","v":0},{"$f":"SUMIF(CAPEX!$D$11:$D$48,Depreciação!$D8,CAPEX!AE$11:AE$48)","v":0},{"$f":"SUMIF(CAPEX!$D$11:$D$48,Depreciação!$D8,CAPEX!AF$11:AF$48)","v":0},{"$f":"SUMIF(CAPEX!$D$11:$D$48,Depreciação!$D8,CAPEX!AG$11:AG$48)","v":0},{"$f":"SUMIF(CAPEX!$D$11:$D$48,Depreciação!$D8,CAPEX!AH$11:AH$48)","v":0},{"$f":"SUMIF(CAPEX!$D$11:$D$48,Depreciação!$D8,CAPEX!AI$11:AI$48)","v":0},{"$f":"SUMIF(CAPEX!$D$11:$D$48,Depreciação!$D8,CAPEX!AJ$11:AJ$48)","v":0},{"$f":"SUMIF(CAPEX!$D$11:$D$48,Depreciação!$D8,CAPEX!AK$11:AK$48)","v":0},{"$f":"SUMIF(CAPEX!$D$11:$D$48,Depreciação!$D8,CAPEX!AL$11:AL$48)","v":0},{"$f":"SUMIF(CAPEX!$D$11:$D$48,Depreciação!$D8,CAPEX!AM$11:AM$48)","v":0},{"$f":"SUMIF(CAPEX!$D$11:$D$48,Depreciação!$D8,CAPEX!AN$11:AN$48)","v":0}]
[null,null,"Vida Útil = 30 anos",30,169645167.20171991,{"$f":"SUMIF(CAPEX!$D$11:$D$48,Depreciação!$D9,CAPEX!F$11:F$48)","v":0},{"$f":"SUMIF(CAPEX!$D$11:$D$48,Depreciação!$D9,CAPEX!G$11:G$48)","v":22567604.707378045},{"$f":"SUMIF(CAPEX!$D$11:$D$48,Depreciação!$D9,CAPEX!H$11:H$48)","v":80938397.263505518},{"$f":"SUMIF(CAPEX!$D$11:$D$48,Depreciação!$D9,CAPEX!I$11:I$48)","v":38105753.928241536},{"$f":"SUMIF(CAPEX!$D$11:$D$48,Depreciação!$D9,CAPEX!J$11:J$48)","v":16692150.190837732},{"$f":"SUMIF(CAPEX!$D$11:$D$48,Depreciação!$D9,CAPEX!K$11:K$48)","v":11341261.111757075},{"$f":"SUMIF(CAPEX!$D$11:$D$48,Depreciação!$D9,CAPEX!L$11:L$48)","v":0},{"$f":"SUMIF(CAPEX!$D$11:$D$48,Depreciação!$D9,CAPEX!M$11:M$48)","v":0},{"$f":"SUMIF(CAPEX!$D$11:$D$48,Depreciação!$D9,CAPEX!N$11:N$48)","v":0},{"$f":"SUMIF(CAPEX!$D$11:$D$48,Depreciação!$D9,CAPEX!O$11:O$48)","v":0},{"$f":"SUMIF(CAPEX!$D$11:$D$48,Depreciação!$D9,CAPEX!P$11:P$48)","v":0},{"$f":"SUMIF(CAPEX!$D$11:$D$48,Depreciação!$D9,CAPEX!Q$11:Q$48)","v":0},{"$f":"SUMIF(CAPEX!$D$11:$D$48,Depreciação!$D9,CAPEX!R$11:R$48)","v":0},{"$f":"SUMIF(CAPEX!$D$11:$D$48,Depreciação!$D9,CAPEX!S$11:S$48)","v":0},{"$f":"SUMIF(CAPEX!$D$11:$D$48,Depreciação!$D9,CAPEX!T$11:T$48)","v":0},{"$f":"SUMIF(CAPEX!$D$11:$D$48,Depreciação!$D9,CAPEX!U$11:U$48)","v":0},{"$f":"SUMIF(CAPEX!$D$11:$D$48,Depreciação!$D9,CAPEX!V$11:V$48)","v":0},{"$f":"SUMIF(CAPEX!$D$11:$D$48,Depreciação!$D9,CAPEX!W$11:W$48)","v":0},{"$f":"SUMIF(CAPEX!$D$11:$D$48,Depreciação!$D9,CAPEX!X$11:X$48)","v":0},{"$f":"SUMIF(CAPEX!$D$11:$D$48,Depreciação!$D9,CAPEX!Y$11:Y$48)","v":0},{"$f":"SUMIF(CAPEX!$D$11:$D$48,Depreciação!$D9,CAPEX!Z$11:Z$48)","v":0},{"$f":"SUMIF(CAPEX!$D$11:$D$48,Depreciação!$D9,CAPEX!AA$11:AA$48)","v":0},{"$f":"SUMIF(CAPEX!$D$11:$D$48,Depreciação!$D9,CAPEX!AB$11:AB$48)","v":0},{"$f":"SUMIF(CAPEX!$D$11:$D$48,Depreciação!$D9,CAPEX!AC$11:AC$48)","v":0},{"$f":"SUMIF(CAPEX!$D$11:$D$48,Depreciação!$D9,CAPEX!AD$11:AD$48)","v":0},{"$f":"SUMIF(CAPEX!$D$11:$D$48,Depreciação!$D9,CAPEX!AE$11:AE$48)","v":0},{"$f":"SUMIF(CAPEX!$D$11:$D$48,Depreciação!$D9,CAPEX!AF$11:AF$48)","v":0},{"$f":"SUMIF(CAPEX!$D$11:$D$48,Depreciação!$D9,CAPEX!AG$11:AG$48)","v":0},{"$f":"SUMIF(CAPEX!$D$11:$D$48,Depreciação!$D9,CAPEX!AH$11:AH$48)","v":0},{"$f":"SUMIF(CAPEX!$D$11:$D$48,Depreciação!$D9,CAPEX!AI$11:AI$48)","v":0},{"$f":"SUMIF(CAPEX!$D$11:$D$48,Depreciação!$D9,CAPEX!AJ$11:AJ$48)","v":0},{"$f":"SUMIF(CAPEX!$D$11:$D$48,Depreciação!$D9,CAPEX!AK$11:AK$48)","v":0},{"$f":"SUMIF(CAPEX!$D$11:$D$48,Depreciação!$D9,CAPEX!AL$11:AL$48)","v":0},{"$f":"SUMIF(CAPEX!$D$11:$D$48,Depreciação!$D9,CAPEX!AM$11:AM$48)","v":0},{"$f":"SUMIF(CAPEX!$D$11:$D$48,Depreciação!$D9,CAPEX!AN$11:AN$48)","v":0}]
[null,null,"Vida Útil = 35 anos",35,181277126.68381411,{"$f":"SUMIF(CAPEX!$D$11:$D$48,Depreciação!$D10,CAPEX!F$11:F$48)","v":8434968.7663200013},{"$f":"SUMIF(CAPEX!$D$11:$D$48,Depreciação!$D10,CAPEX!G$11:G$48)","v":18897437.772987563},{"$f":"SUMIF(CAPEX!$D$11:$D$48,Depreciação!$D10,CAPEX!H$11:H$48)","v":46321283.247850627},{"$f":"SUMIF(CAPEX!$D$11:$D$48,Depreciação!$D10,CAPEX!I$11:I$48)","v":34616486.112408988},{"$f":"SUMIF(CAPEX!$D$11:$D$48,Depreciação!$D10,CAPEX!J$11:J$48)","v":33712294.198871627},{"$f":"SUMIF(CAPEX!$D$11:$D$48,Depreciação!$D10,CAPEX!K$11:K$48)","v":23474732.61814642},{"$f":"SUMIF(CAPEX!$D$11:$D$48,Depreciação!$D10,CAPEX!L$11:L$48)","v":15819923.967228897},{"$f":"SUMIF(CAPEX!$D$11:$D$48,Depreciação!$D10,CAPEX!M$11:M$48)","v":0},{"$f":"SUMIF(CAPEX!$D$11:$D$48,Depreciação!$D10,CAPEX!N$11:N$48)","v":0},{"$f":"SUMIF(CAPEX!$D$11:$D$48,Depreciação!$D10,CAPEX!O$11:O$48)","v":0},{"$f":"SUMIF(CAPEX!$D$11:$D$48,Depreciação!$D10,CAPEX!P$11:P$48)","v":0},{"$f":"SUMIF(CAPEX!$D$11:$D$48,Depreciação!$D10,CAPEX!Q$11:Q$48)","v":0},{"$f":"SUMIF(CAPEX!$D$11:$D$48,Depreciação!$D10,CAPEX!R$11:R$48)","v":0},{"$f":"SUMIF(CAPEX!$D$11:$D$48,Depreciação!$D10,CAPEX!S$11:S$48)","v":0},{"$f":"SUMIF(CAPEX!$D$11:$D$48,Depreciação!$D10,CAPEX!T$11:T$48)","v":0},{"$f":"SUMIF(CAPEX!$D$11:$D$48,Depreciação!$D10,CAPEX!U$11:U$48)","v":0},{"$f":"SUMIF(CAPEX!$D$11:$D$48,Depreciação!$D10,CAPEX!V$11:V$48)","v":0},{"$f":"SUMIF(CAPEX!$D$11:$D$48,Depreciação!$D10,CAPEX!W$11:W$48)","v":0},{"$f":"SUMIF(CAPEX!$D$11:$D$48,Depreciação!$D10,CAPEX!X$11:X$48)","v":0},{"$f":"SUMIF(CAPEX!$D$11:$D$48,Depreciação!$D10,CAPEX!Y$11:Y$48)","v":0},{"$f":"SUMIF(CAPEX!$D$11:$D$48,Depreciação!$D10,CAPEX!Z$11:Z$48)","v":0},{"$f":"SUMIF(CAPEX!$D$11:$D$48,Depreciação!$D10,CAPEX!AA$11:AA$48)","v":0},{"$f":"SUMIF(CAPEX!$D$11:$D$48,Depreciação!$D10,CAPEX!AB$11:AB$48)","v":0},{"$f":"SUMIF(CAPEX!$D$11:$D$48,Depreciação!$D10,CAPEX!AC$11:AC$48)","v":0},{"$f":"SUMIF(CAPEX!$D$11:$D$48,Depreciação!$D10,CAPEX!AD$11:AD$48)","v":0},{"$f":"SUMIF(CAPEX!$D$11:$D$48,Depreciação!$D10,CAPEX!AE$11:AE$48)","v":0},{"$f":"SUMIF(CAPEX!$D$11:$D$48,Depreciação!$D10,CAPEX!AF$11:AF$48)","v":0},{"$f":"SUMIF(CAPEX!$D$11:$D$48,Depreciação!$D10,CAPEX!AG$11:AG$48)","v":0},{"$f":"SUMIF(CAPEX!$D$11:$D$48,Depreciação!$D10,CAPEX!AH$11:AH$48)","v":0},{"$f":"SUMIF(CAPEX!$D$11:$D$48,Depreciação!$D10,CAPEX!AI$11:AI$48)","v":0},{"$f":"SUMIF(CAPEX!$D$11:$D$48,Depreciação!$D10,CAPEX!AJ$11:AJ$48)","v":0},{"$f":"SUMIF(CAPEX!$D$11:$D$48,Depreciação!$D10,CAPEX!AK$11:AK$48)","v":0},{"$f":"SUMIF(CAPEX!$D$11:$D$48,Depreciação!$D10,CAPEX!AL$11:AL$48)","v":0},{"$f":"SUMIF(CAPEX!$D$11:$D$48,Depreciação!$D10,CAPEX!AM$11:AM$48)","v":0},{"$f":"SUMIF(CAPEX!$D$11:$D$48,Depreciação!$D10,CAPEX!AN$11:AN$48)","v":0}]
[null,null,"Investimento on farm"]
[null,null,"Vida Útil = 5 anos",5,42506001.977646299,{"$f":"SUMIF(CAPEX!$D$53:$D$55,Depreciação!$D12,CAPEX!F$53:F$55)","v":0},{"$f":"SUMIF(CAPEX!$D$53:$D$55,Depreciação!$D12,CAPEX!G$53:G$55)","v":0},{"$f":"SUMIF(CAPEX!$D$53:$D$55,Depreciação!$D12,CAPEX!H$53:H$55)","v":0},{"$f":"SUMIF(CAPEX!$D$53:$D$55,Depreciação!$D12,CAPEX!I$53:I$55)","v":15525627.583764575},{"$f":"SUMIF(CAPEX!$D$53:$D$55,Depreciação!$D12,CAPEX!J$53:J$55)","v":11038745.001381602},{"$f":"SUMIF(CAPEX!$D$53:$D$55,Depreciação!$D12,CAPEX!K$53:K$55)","v":8382311.8945816439},{"$f":"SUMIF(CAPEX!$D$53:$D$55,Depreciação!$D12,CAPEX!L$53:L$55)","v":4556257.7343188105},{"$f":"SUMIF(CAPEX!$D$53:$D$55,Depreciação!$D12,CAPEX!M$53:M$55)","v":3003059.7635996738},{"$f":"SUMIF(CAPEX!$D$53:$D$55,Depreciação!$D12,CAPEX!N$53:N$55)","v":0},{"$f":"SUMIF(CAPEX!$D$53:$D$55,Depreciação!$D12,CAPEX!O$53:O$55)","v":0},{"$f":"SUMIF(CAPEX!$D$53:$D$55,Depreciação!$D12,CAPEX!P$53:P$55)","v":0},{"$f":"SUMIF(CAPEX!$D$53:$D$55,Depreciação!$D12,CAPEX!Q$53:Q$55)","v":0},{"$f":"SUMIF(CAPEX!$D$53:$D$55,Depreciação!$D12,CAPEX!R$53:R$55)","v":0},{"$f":"SUMIF(CAPEX!$D$53:$D$55,Depreciação!$D12,CAPEX!S$53:S$55)","v":0},{"$f":"SUMIF(CAPEX!$D$53:$D$55,Depreciação!$D12,CAPEX!T$53:T$55)","v":0},{"$f":"SUMIF(CAPEX!$D$53:$D$55,Depreciação!$D12,CAPEX!U$53:U$55)","v":0},{"$f":"SUMIF(CAPEX!$D$53:$D$55,Depreciação!$D12,CAPEX!V$53:V$55)","v":0},{"$f":"SUMIF(CAPEX!$D$53:$D$55,Depreciação!$D12,CAPEX!W$53:W$55)","v":0},{"$f":"SUMIF(CAPEX!$D$53:$D$55,Depreciação!$D12,CAPEX!X$53:X$55)","v":0},{"$f":"SUMIF(CAPEX!$D$53:$D$55,Depreciação!$D12,CAPEX!Y$53:Y$55)","v":0},{"$f":"SUMIF(CAPEX!$D$53:$D$55,Depreciação!$D12,CAPEX!Z$53:Z$55)","v":0},{"$f":"SUMIF(CAPEX!$D$53:$D$55,Depreciação!$D12,CAPEX!AA$53:AA$55)","v":0},{"$f":"SUMIF(CAPEX!$D$53:$D$55,Depreciação!$D12,CAPEX!AB$53:AB$55)","v":0},{"$f":"SUMIF(CAPEX!$D$53:$D$55,Depreciação!$D12,CAPEX!AC$53:AC$55)","v":0},{"$f":"SUMIF(CAPEX!$D$53:$D$55,Depreciação!$D12,CAPEX!AD$53:AD$55)","v":0},{"$f":"SUMIF(CAPEX!$D$53:$D$55,Depreciação!$D12,CAPEX!AE$53:AE$55)","v":0},{"$f":"SUMIF(CAPEX!$D$53:$D$55,Depreciação!$D12,CAPEX!AF$53:AF$55)","v":0},{"$f":"SUMIF(CAPEX!$D$53:$D$55,Depreciação!$D12,CAPEX!AG$53:AG$55)","v":0},{"$f":"SUMIF(CAPEX!$D$53:$D$55,Depreciação!$D12,CAPEX!AH$53:AH$55)","v":0},{"$f":"SUMIF(CAPEX!$D$53:$D$55,Depreciação!$D12,CAPEX!AI$53:AI$55)","v":0},{"$f":"SUMIF(CAPEX!$D$53:$D$55,Depreciação!$D12,CAPEX!AJ$53:AJ$55)","v":0},{"$f":"SUMIF(CAPEX!$D$53:$D$55,Depreciação!$D12,CAPEX!AK$53:AK$55)","v":0},{"$f":"SUMIF(CAPEX!$D$53:$D$55,Depreciação!$D12,CAPEX!AL$53:AL$55)","v":0},{"$f":"SUMIF(CAPEX!$D$53:$D$55,Depreciação!$D12,CAPEX!AM$53:AM$55)","v":0},{"$f":"SUMIF(CAPEX!$D$53:$D$55,Depreciação!$D12,CAPEX!AN$53:AN$55)","v":0}]
[null,null,"Vida Útil = 15 anos",15,153021607.11952671,{"$f":"SUMIF(CAPEX!$D$53:$D$55,Depreciação!$D13,CAPEX!F$53:F$55)","v":0},{"$f":"SUMIF(CAPEX!$D$53:$D$55,Depreciação!$D13,CAPEX!G$53:G$55)","v":0},{"$f":"SUMIF(CAPEX!$D$53:$D$55,Depreciação!$D13,CAPEX!H$53:H$55)","v":0},{"$f":"SUMIF(CAPEX!$D$53:$D$55,Depreciação!$D13,CAPEX!I$53:I$55)","v":55892259.301552474},{"$f":"SUMIF(CAPEX!$D$53:$D$55,Depreciação!$D13,CAPEX!J$53:J$55)","v":39739482.004973777},{"$f":"SUMIF(CAPEX!$D$53:$D$55,Depreciação!$D13,CAPEX!K$53:K$55)","v":30176322.820493922},{"$f":"SUMIF(CAPEX!$D$53:$D$55,Depreciação!$D13,CAPEX!L$53:L$55)","v":16402527.843547719},{"$f":"SUMIF(CAPEX!$D$53:$D$55,Depreciação!$D13,CAPEX!M$53:M$55)","v":10811015.148958825},{"$f":"SUMIF(CAPEX!$D$53:$D$55,Depreciação!$D13,CAPEX!N$53:N$55)","v":0},{"$f":"SUMIF(CAPEX!$D$53:$D$55,Depreciação!$D13,CAPEX!O$53:O$55)","v":0},{"$f":"SUMIF(CAPEX!$D$53:$D$55,Depreciação!$D13,CAPEX!P$53:P$55)","v":0},{"$f":"SUMIF(CAPEX!$D$53:$D$55,Depreciação!$D13,CAPEX!Q$53:Q$55)","v":0},{"$f":"SUMIF(CAPEX!$D$53:$D$55,Depreciação!$D13,CAPEX!R$53:R$55)","v":0},{"$f":"SUMIF(CAPEX!$D$53:$D$55,Depreciação!$D13,CAPEX!S$53:S$55)","v":0},{"$f":"SUMIF(CAPEX!$D$53:$D$55,Depreciação!$D13,CAPEX!T$53:T$55)","v":0},{"$f":"SUMIF(CAPEX!$D$53:$D$55,Depreciação!$D13,CAPEX!U$53:U$55)","v":0},{"$f":"SUMIF(CAPEX!$D$53:$D$55,Depreciação!$D13,CAPEX!V$53:V$55)","v":0},{"$f":"SUMIF(CAPEX!$D$53:$D$55,Depreciação!$D13,CAPEX!W$53:W$55)","v":0},{"$f":"SUMIF(CAPEX!$D$53:$D$55,Depreciação!$D13,CAPEX!X$53:X$55)","v":0},{"$f":"SUMIF(CAPEX!$D$53:$D$55,Depreciação!$D13,CAPEX!Y$53:Y$55)","v":0},{"$f":"SUMIF(CAPEX!$D$53:$D$55,Depreciação!$D13,CAPEX!Z$53:Z$55)","v":0},{"$f":"SUMIF(CAPEX!$D$53:$D$55,Depreciação!$D13,CAPEX!AA$53:AA$55)","v":0},{"$f":"SUMIF(CAPEX!$D$53:$D$55,Depreciação!$D13,CAPEX!AB$53:AB$55)","v":0},{"$f":"SUMIF(CAPEX!$D$53:$D$55,Depreciação!$D13,CAPEX!AC$53:AC$55)","v":0},{"$f":"SUMIF(CAPEX!$D$53:$D$55,Depreciação!$D13,CAPEX!AD$53:AD$55)","v":0},{"$f":"SUMIF(CAPEX!$D$53:$D$55,Depreciação!$D13,CAPEX!AE$53:AE$55)","v":0},{"$f":"SUMIF(CAPEX!$D$53:$D$55,Depreciação!$D13,CAPEX!AF$53:AF$55)","v":0},{"$f":"SUMIF(CAPEX!$D$53:$D$55,Depreciação!$D13,CAPEX!AG$53:AG$55)","v":0},{"$f":"SUMIF(CAPEX!$D$53:$D$55,Depreciação!$D13,CAPEX!AH$53:AH$55)","v":0},{"$f":"SUMIF(CAPEX!$D$53:$D$55,Depreciação!$D13,CAPEX!AI$53:AI$55)","v":0},{"$f":"SUMIF(CAPEX!$D$53:$D$55,Depreciação!$D13,CAPEX!AJ$53:AJ$55)","v":0},{"$f":"SUMIF(CAPEX!$D$53:$D$55,Depreciação!$D13,CAPEX!AK$53:AK$55)","v":0},{"$f":"SUMIF(CAPEX!$D$53:$D$55,Depreciação!$D13,CAPEX!AL$53:AL$55)","v":0},{"$f":"SUMIF(CAPEX!$D$53:$D$55,Depreciação!$D13,CAPEX!AM$53:AM$55)","v":0},{"$f":"SUMIF(CAPEX!$D$53:$D$55,Depreciação!$D13,CAPEX!AN$53:AN$55)","v":0}]
[null,null,"Reinvestimento"]
[null,null,"Vida Útil = 5 anos",5,212530009.88823158,{"$f":"SUMIF(CAPEX!$D$60:$D$63,Depreciação!$D15,CAPEX!F$60:F$63)","v":0},{"$f":"SUMIF(CAPEX!$D$60:$D$63,Depreciação!$D15,CAPEX!G$60:G$63)","v":0},{"$f":"SUMIF(CAPEX!$D$60:$D$63,Depreciação!$D15,CAPEX!H$60:H$63)","v":0},{"$f":"SUMIF(CAPEX!$D$60:$D$63,Depreciação!$D15,CAPEX!I$60:I$63)","v":0},{"$f":"SUMIF(CAPEX!$D$60:$D$63,Depreciação!$D15,CAPEX!J$60:J$63)","v":0},{"$f":"SUMIF(CAPEX!$D$60:$D$63,Depreciação!$D15,CAPEX!K$60:K$63)","v":0},{"$f":"SUMIF(CAPEX!$D$60:$D$63,Depreciação!$D15,CAPEX!L$60:L$63)","v":0},{"$f":"SUMIF(CAPEX!$D$60:$D$63,Depreciação!$D15,CAPEX!M$60:M$63)","v":0},{"$f":"SUMIF(CAPEX!$D$60:$D$63,Depreciação!$D15,CAPEX!N$60:N$63)","v":0},{"$f":"SUMIF(CAPEX!$D$60:$D$63,Depreciação!$D15,CAPEX!O$60:O$63)","v":0},{"$f":"SUMIF(CAPEX!$D$60:$D$63,Depreciação!$D15,CAPEX!P$60:P$63)","v":0},{"$f":"SUMIF(CAPEX!$D$60:$D$63,Depreciação!$D15,CAPEX!Q$60:Q$63)","v":14168667.325882103},{"$f":"SUMIF(CAPEX!$D$60:$D$63,Depreciação!$D15,CAPEX!R$60:R$63)","v":14168667.325882103},{"$f":"SUMIF(CAPEX!$D$60:$D$63,Depreciação!$D15,CAPEX!S$60:S$63)","v":14168667.325882103},{"$f":"SUMIF(CAPEX!$D$60:$D$63,Depreciação!$D15,CAPEX!T$60:T$63)","v":0},{"$f":"SUMIF(CAPEX!$D$60:$D$63,Depreciação!$D15,CAPEX!U$60:U$63)","v":0},{"$f":"SUMIF(CAPEX!$D$60:$D$63,Depreciação!$D15,CAPEX!V$60:V$63)","v":14168667.325882103},{"$f":"SUMIF(CAPEX!$D$60:$D$63,Depreciação!$D15,CAPEX!W$60:W$63)","v":14168667.325882103},{"$f":"SUMIF(CAPEX!$D$60:$D$63,Depreciação!$D15,CAPEX!X$60:X$63)","v":14168667.325882103},{"$f":"SUMIF(CAPEX!$D$60:$D$63,Depreciação!$D15,CAPEX!Y$60:Y$63)","v":0},{"$f":"SUMIF(CAPEX!$D$60:$D$63,Depreciação!$D15,CAPEX!Z$60:Z$63)","v":0},{"$f":"SUMIF(CAPEX!$D$60:$D$63,Depreciação!$D15,CAPEX!AA$60:AA$63)","v":14168667.325882103},{"$f":"SUMIF(CAPEX!$D$60:$D$63,Depreciação!$D15,CAPEX!AB$60:AB$63)","v":14168667.325882103},{"$f":"SUMIF(CAPEX!$D$60:$D$63,Depreciação!$D15,CAPEX!AC$60:AC$63)","v":14168667.325882103},{"$f":"SUMIF(CAPEX!$D$60:$D$63,Depreciação!$D15,CAPEX!AD$60:AD$63)","v":0},{"$f":"SUMIF(CAPEX!$D$60:$D$63,Depreciação!$D15,CAPEX!AE$60:AE$63)","v":0},{"$f":"SUMIF(CAPEX!$D$60:$D$63,Depreciação!$D15,CAPEX!AF$60:AF$63)","v":14168667.325882103},{"$f":"SUMIF(CAPEX!$D$60:$D$63,Depreciação!$D15,CAPEX!AG$60:AG$63)","v":14168667.325882103},{"$f":"SUMIF(CAPEX!$D$60:$D$63,Depreciação!$D15,CAPEX!AH$60:AH$63)","v":14168667.325882103},{"$f":"SUMIF(CAPEX!$D$60:$D$63,Depreciação!$D15,CAPEX!AI$60:AI$63)","v":0},{"$f":"SUMIF(CAPEX!$D$60:$D$63,Depreciação!$D15,CAPEX!AJ$60:AJ$63)","v":0},{"$f":"SUMIF(CAPEX!$D$60:$D$63,Depreciação!$D15,CAPEX!AK$60:AK$63)","v":14168667.325882103},{"$f":"SUMIF(CAPEX!$D$60:$D$63,Depreciação!$D15,CAPEX!AL$60:AL$63)","v":14168667.325882103},{"$f":"SUMIF(CAPEX!$D$60:$D$63,Depreciação!$D15,CAPEX!AM$60:AM$63)","v":14168667.325882103},{"$f":"SUMIF(CAPEX!$D$60:$D$63,Depreciação!$D15,CAPEX!AN$60:AN$63)","v":0}]
[null,null,"Vida Útil = 15 anos",15,306043214.23905343,{"$f":"SUMIF(CAPEX!$D$60:$D$63,Depreciação!$D16,CAPEX!F$60:F$63)","v":0},{"$f":"SUMIF(CAPEX!$D$60:$D$63,Depreciação!$D16,CAPEX!G$60:G$63)","v":0},{"$f":"SUMIF(CAPEX!$D$60:$D$63,Depreciação!$D16,CAPEX!H$60:H$63)","v":0},{"$f":"SUMIF(CAPEX!$D$60:$D$63,Depreciação!$D16,CAPEX!I$60:I$63)","v":0},{"$f":"SUMIF(CAPEX!$D$60:$D$63,Depreciação!$D16,CAPEX!J$60:J$63)","v":0},{"$f":"SUMIF(CAPEX!$D$60:$D$63,Depreciação!$D16,CAPEX!K$60:K$63)","v":0},{"$f":"SUMIF(CAPEX!$D$60:$D$63,Depreciação!$D16,CAPEX!L$60:L$63)","v":0},{"$f":"SUMIF(CAPEX!$D$60:$D$63,Depreciação!$D16,CAPEX!M$60:M$63)","v":0},{"$f":"SUMIF(CAPEX!$D$60:$D$63,Depreciação!$D16,CAPEX!N$60:N$63)","v":0},{"$f":"SUMIF(CAPEX!$D$60:$D$63,Depreciação!$D16,CAPEX!O$60:O$63)","v":0},{"$f":"SUMIF(CAPEX!$D$60:$D$63,Depreciação!$D16,CAPEX!P$60:P$63)","v":0},{"$f":"SUMIF(CAPEX!$D$60:$D$63,Depreciação!$D16,CAPEX!Q$60:Q$63)","v":0},{"$f":"SUMIF(CAPEX!$D$60:$D$63,Depreciação!$D16,CAPEX!R$60:R$63)","v":0},{"$f":"SUMIF(CAPEX!$D$60:$D$63,Depreciação!$D16,CAPEX!S$60:S$63)","v":0},{"$f":"SUMIF(CAPEX!$D$60:$D$63,Depreciação!$D16,CAPEX!T$60:T$63)","v":51007202.373175569},{"$f":"SUMIF(CAPEX!$D$60:$D$63,Depreciação!$D16,CAPEX!U$60:U$63)","v":51007202.373175569},{"$f":"SUMIF(CAPEX!$D$60:$D$63,Depreciação!$D16,CAPEX!V$60:V$63)","v":51007202.373175569},{"$f":"SUMIF(CAPEX!$D$60:$D$63,Depreciação!$D16,CAPEX!W$60:W$63)","v":0},{"$f":"SUMIF(CAPEX!$D$60:$D$63,Depreciação!$D16,CAPEX!X$60:X$63)","v":0},{"$f":"SUMIF(CAPEX!$D$60:$D$63,Depreciação!$D16,CAPEX!Y$60:Y$63)","v":0},{"$f":"SUMIF(CAPEX!$D$60:$D$63,Depreciação!$D16,CAPEX!Z$60:Z$63)","v":0},{"$f":"SUMIF(CAPEX!$D$60:$D$63,Depreciação!$D16,CAPEX!AA$60:AA$63)","v":0},{"$f":"SUMIF(CAPEX!$D$60:$D$63,Depreciação!$D16,CAPEX!AB$60:AB$63)","v":0},{"$f":"SUMIF(CAPEX!$D$60:$D$63,Depreciação!$D16,CAPEX!AC$60:AC$63)","v":0},{"$f":"SUMIF(CAPEX!$D$60:$D$63,Depreciação!$D16,CAPEX!AD$60:AD$63)","v":0},{"$f":"SUMIF(CAPEX!$D$60:$D$63,Depreciação!$D16,CAPEX!AE$60:AE$63)","v":0},{"$f":"SUMIF(CAPEX!$D$60:$D$63,Depreciação!$D16,CAPEX!AF$60:AF$63)","v":0},{"$f":"SUMIF(CAPEX!$D$60:$D$63,Depreciação!$D16,CAPEX!AG$60:AG$63)","v":0},{"$f":"SUMIF(CAPEX!$D$60:$D$63,Depreciação!$D16,CAPEX!AH$60:AH$63)","v":0},{"$f":"SUMIF(CAPEX!$D$60:$D$63,Depreciação!$D16,CAPEX!AI$60:AI$63)","v":51007202.373175569},{"$f":"SUMIF(CAPEX!$D$60:$D$63,Depreciação!$D16,CAPEX!AJ$60:AJ$63)","v":51007202.373175569},{"$f":"SUMIF(CAPEX!$D$60:$D$63,Depreciação!$D16,CAPEX!AK$60:AK$63)","v":51007202.373175569},{"$f":"SUMIF(CAPEX!$D$60:$D$63,Depreciação!$D16,CAPEX!AL$60:AL$63)","v":0},{"$f":"SUMIF(CAPEX!$D$60:$D$63,Depreciação!$D16,CAPEX!AM$60:AM$63)","v":0},{"$f":"SUMIF(CAPEX!$D$60:$D$63,Depreciação!$D16,CAPEX!AN$60:AN$63)","v":0}]
[null,null,"Vida Útil = 20 anos",20,243326964.55886018,{"$f":"SUMIF(CAPEX!$D$60:$D$63,Depreciação!$D17,CAPEX!F$60:F$63)","v":0},{"$f":"SUMIF(CAPEX!$D$60:$D$63,Depreciação!$D17,CAPEX!G$60:G$63)","v":0},{"$f":"SUMIF(CAPEX!$D$60:$D$63,Depreciação!$D17,CAPEX!H$60:H$63)","v":0},{"$f":"SUMIF(CAPEX!$D$60:$D$63,Depreciação!$D17,CAPEX!I$60:I$63)","v":0},{"$f":"SUMIF(CAPEX!$D$60:$D$63,Depreciação!$D17,CAPEX!J$60:J$63)","v":0},{"$f":"SUMIF(CAPEX!$D$60:$D$63,Depreciação!$D17,CAPEX!K$60:K$63)","v":0},{"$f":"SUMIF(CAPEX!$D$60:$D$63,Depreciação!$D17,CAPEX!L$60:L$63)","v":0},{"$f":"SUMIF(CAPEX!$D$60:$D$63,Depreciação!$D17,CAPEX!M$60:M$63)","v":0},{"$f":"SUMIF(CAPEX!$D$60:$D$63,Depreciação!$D17,CAPEX!N$60:N$63)","v":0},{"$f":"SUMIF(CAPEX!$D$60:$D$63,Depreciação!$D17,CAPEX!O$60:O$63)","v":0},{"$f":"SUMIF(CAPEX!$D$60:$D$63,Depreciação!$D17,CAPEX!P$60:P$63)","v":0},{"$f":"SUMIF(CAPEX!$D$60:$D$63,Depreciação!$D17,CAPEX!Q$60:Q$63)","v":0},{"$f":"SUMIF(CAPEX!$D$60:$D$63,Depreciação!$D17,CAPEX!R$60:R$63)","v":0},{"$f":"SUMIF(CAPEX!$D$60:$D$63,Depreciação!$D17,CAPEX!S$60:S$63)","v":0},{"$f":"SUMIF(CAPEX!$D$60:$D$63,Depreciação!$D17,CAPEX!T$60:T$63)","v":0},{"$f":"SUMIF(CAPEX!$D$60:$D$63,Depreciação!$D17,CAPEX!U$60:U$63)","v":0},{"$f":"SUMIF(CAPEX!$D$60:$D$63,Depreciação!$D17,CAPEX!V$60:V$63)","v":0},{"$f":"SUMIF(CAPEX!$D$60:$D$63,Depreciação!$D17,CAPEX!W$60:W$63)","v":0},{"$f":"SUMIF(CAPEX!$D$60:$D$63,Depreciação!$D17,CAPEX!X$60:X$63)","v":0},{"$f":"SUMIF(CAPEX!$D$60:$D$63,Depreciação!$D17,CAPEX!Y$60:Y$63)","v":81108988.186286733},{"$f":"SUMIF(CAPEX!$D$60:$D$63,Depreciação!$D17,CAPEX!Z$60:Z$63)","v":81108988.186286733},{"$f":"SUMIF(CAPEX!$D$60:$D$63,Depreciação!$D17,CAPEX!AA$60:AA$63)","v":81108988.186286733},{"$f":"SUMIF(CAPEX!$D$60:$D$63,Depreciação!$D17,CAPEX!AB$60:AB$63)","v":0},{"$f":"SUMIF(CAPEX!$D$60:$D$63,Depreciação!$D17,CAPEX!AC$60:AC$63)","v":0},{"$f":"SUMIF(CAPEX!$D$60:$D$63,Depreciação!$D17,CAPEX!AD$60:AD$63)","v":0},{"$f":"SUMIF(CAPEX!$D$60:$D$63,Depreciação!$D17,CAPEX!AE$60:AE$63)","v":0},{"$f":"SUMIF(CAPEX!$D$60:$D$63,Depreciação!$D17,CAPEX!AF$60:AF$63)","v":0},{"$f":"SUMIF(CAPEX!$D$60:$D$63,Depreciação!$D17,CAPEX!AG$60:AG$63)","v":0},{"$f":"SUMIF(CAPEX!$D$60:$D$63,Depreciação!$D17,CAPEX!AH$60:AH$63)","v":0},{"$f":"SUMIF(CAPEX!$D$60:$D$63,Depreciação!$D17,CAPEX!AI$60:AI$63)","v":0},{"$f":"SUMIF(CAPEX!$D$60:$D$63,Depreciação!$D17,CAPEX!AJ$60:AJ$63)","v":0},{"$f":"SUMIF(CAPEX!$D$60:$D$63,Depreciação!$D17,CAPEX!AK$60:AK$63)","v":0},{"$f":"SUMIF(CAPEX!$D$60:$D$63,Depreciação!$D17,CAPEX!AL$60:AL$63)","v":0},{"$f":"SUMIF(CAPEX!$D$60:$D$63,Depreciação!$D17,CAPEX!AM$60:AM$63)","v":0},{"$f":"SUMIF(CAPEX!$D$60:$D$63,Depreciação!$D17,CAPEX!AN$60:AN$63)","v":0}]
[null,null,"Vida Útil = 30 anos",30,233997488.73281586,{"$f":"SUMIF(CAPEX!$D$60:$D$63,Depreciação!$D18,CAPEX!F$60:F$63)","v":0},{"$f":"SUMIF(CAPEX!$D$60:$D$63,Depreciação!$D18,CAPEX!G$60:G$63)","v":0},{"$f":"SUMIF(CAPEX!$D$60:$D$63,Depreciação!$D18,CAPEX!H$60:H$63)","v":0},{"$f":"SUMIF(CAPEX!$D$60:$D$63,Depreciação!$D18,CAPEX!I$60:I$63)","v":0},{"$f":"SUMIF(CAPEX!$D$60:$D$63,Depreciação!$D18,CAPEX!J$60:J$63)","v":0},{"$f":"SUMIF(CAPEX!$D$60:$D$63,Depreciação!$D18,CAPEX!K$60:K$63)","v":0},{"$f":"SUMIF(CAPEX!$D$60:$D$63,Depreciação!$D18,CAPEX!L$60:L$63)","v":0},{"$f":"SUMIF(CAPEX!$D$60:$D$63,Depreciação!$D18,CAPEX!M$60:M$63)","v":0},{"$f":"SUMIF(CAPEX!$D$60:$D$63,Depreciação!$D18,CAPEX!N$60:N$63)","v":0},{"$f":"SUMIF(CAPEX!$D$60:$D$63,Depreciação!$D18,CAPEX!O$60:O$63)","v":0},{"$f":"SUMIF(CAPEX!$D$60:$D$63,Depreciação!$D18,CAPEX!P$60:P$63)","v":0},{"$f":"SUMIF(CAPEX!$D$60:$D$63,Depreciação!$D18,CAPEX!Q$60:Q$63)","v":0},{"$f":"SUMIF(CAPEX!$D$60:$D$63,Depreciação!$D18,CAPEX!R$60:R$63)","v":0},{"$f":"SUMIF(CAPEX!$D$60:$D$63,Depreciação!$D18,CAPEX!S$60:S$63)","v":0},{"$f":"SUMIF(CAPEX!$D$60:$D$63,Depreciação!$D18,CAPEX!T$60:T$63)","v":0},{"$f":"SUMIF(CAPEX!$D$60:$D$63,Depreciação!$D18,CAPEX!U$60:U$63)","v":0},{"$f":"SUMIF(CAPEX!$D$60:$D$63,Depreciação!$D18,CAPEX!V$60:V$63)","v":0},{"$f":"SUMIF(CAPEX!$D$60:$D$63,Depreciação!$D18,CAPEX!W$60:W$63)","v":0},{"$f":"SUMIF(CAPEX!$D$60:$D$63,Depreciação!$D18,CAPEX!X$60:X$63)","v":0},{"$f":"SUMIF(CAPEX!$D$60:$D$63,Depreciação!$D18,CAPEX!Y$60:Y$63)","v":0},{"$f":"SUMIF(CAPEX!$D$60:$D$63,Depreciação!$D18,CAPEX!Z$60:Z$63)","v":0},{"$f":"SUMIF(CAPEX!$D$60:$D$63,Depreciação!$D18,CAPEX!AA$60:AA$63)","v":0},{"$f":"SUMIF(CAPEX!$D$60:$D$63,Depreciação!$D18,CAPEX!AB$60:AB$63)","v":0},{"$f":"SUMIF(CAPEX!$D$60:$D$63,Depreciação!$D18,CAPEX!AC$60:AC$63)","v":0},{"$f":"SUMIF(CAPEX!$D$60:$D$63,Depreciação!$D18,CAPEX!AD$60:AD$63)","v":0},{"$f":"SUMIF(CAPEX!$D$60:$D$63,Depreciação!$D18,CAPEX!AE$60:AE$63)","v":0},{"$f":"SUMIF(CAPEX!$D$60:$D$63,Depreciação!$D18,CAPEX!AF$60:AF$63)","v":0},{"$f":"SUMIF(CAPEX!$D$60:$D$63,Depreciação!$D18,CAPEX!AG$60:AG$63)","v":0},{"$f":"SUMIF(CAPEX!$D$60:$D$63,Depreciação!$D18,CAPEX!AH$60:AH$63)","v":0},{"$f":"SUMIF(CAPEX!$D$60:$D$63,Depreciação!$D18,CAPEX!AI$60:AI$63)","v":77999162.910938621},{"$f":"SUMIF(CAPEX!$D$60:$D$63,Depreciação!$D18,CAPEX!AJ$60:AJ$63)","v":77999162.910938621},{"$f":"SUMIF(CAPEX!$D$60:$D$63,Depreciação!$D18,CAPEX!AK$60:AK$63)","v":77999162.910938621},{"$f":"SUMIF(CAPEX!$D$60:$D$63,Depreciação!$D18,CAPEX!AL$60:AL$63)","v":0},{"$f":"SUMIF(CAPEX!$D$60:$D$63,Depreciação!$D18,CAPEX!AM$60:AM$63)","v":0},{"$f":"SUMIF(CAPEX!$D$60:$D$63,Depreciação!$D18,CAPEX!AN$60:AN$63)","v":0}]
[null,null,"Investimento Total"]
[null,null,"Vida Útil = 5 anos",5,255036011.8658779,{"$f":"SUMIF($D$7:$D$18,$D20,F$7:F$18)","v":0},{"$f":"SUMIF($D$7:$D$18,$D20,G$7:G$18)","v":0},0,15525627.583764575,11038745.001381602,8382311.8945816439,4556257.7343188105,3003059.7635996738,0,0,0,14168667.325882103,14168667.325882103,14168667.325882103,0,0,14168667.325882103,14168667.325882103,14168667.325882103,0,0,14168667.325882103,14168667.325882103,14168667.325882103,0,0,14168667.325882103,14168667.325882103,14168667.325882103,0,0,14168667.325882103,14168667.325882103,14168667.325882103,0]
[null,null,"Vida Útil = 15 anos",15,459064821.35858011,{"$f":"SUMIF($D$7:$D$18,$D21,F$7:F$18)","v":0},0,0,55892259.301552474,39739482.004973777,30176322.820493922,16402527.843547719,10811015.148958825,0,0,0,0,0,0,51007202.373175569,51007202.373175569,51007202.373175569,0,0,0,0,0,0,0,0,0,0,0,0,51007202.373175569,51007202.373175569,51007202.373175569,0,0,0]
[null,null,"Vida Útil = 20 anos",20,426250609.88625568,{"$f":"SUMIF($D$7:$D$18,$D22,F$7:F$18)","v":0},30694328.872266714,79777677.528817132,43321822.132063597,14564908.397123987,14564908.397123987,0,0,0,0,0,0,0,0,0,0,0,0,0,81108988.186286733,81108988.186286733,81108988.186286733,0,0,0,0,0,0,0,0,0,0,0,0,0]
[null,null,"Vida Útil = 25 anos",25,40584079.930672355,0,4427354.1742551662,17709416.697020661,11068385.435637914,3689461.8118793047,3689461.8118793047,0,0,0,0,0,0,0,0,0,0,0,0,0,0,0,0,0,0,0,0,0,0,0,0,0,0,0,0,0]
[null,null,"Vida Útil = 30 anos",30,403642655.93453574,0,22567604.707378045,80938397.263505518,38105753.928241536,16692150.190837732,11341261.111757075,0,0,0,0,0,0,0,0,0,0,0,0,0,0,0,0,0,0,0,0,0,0,0,77999162.910938621,77999162.910938621,77999162.910938621,0,0,0]
[null,null,"Vida Útil = 35 anos",35,181277126.68381411,8434968.7663200013,18897437.772987563,46321283.247850627,34616486.112408988,33712294.198871627,23474732.61814642,15819923.967228897,0,0,0,0,0,0,0,0,0,0,0,0,0,0,0,0,0,0,0,0,0,0,0,0,0,0,0,0]
[]
[null,null,"Depreciação Total",null,null,{"$f":"F65+F103+F141+F179+F217+F255","v":240999.1076091429},{"$f":"G65+G103+G141+G179+G217+G255","v":3244990.0019525508},11963662.357377291,23662999.276224997,30915484.381207574,36528274.190446198,38985025.421181582,40306371.71716544,37201246.200412527,34993497.200136207,33317034.821219876,35239516.739532538,37472638.251989022,40306371.717165448,43706851.875377148,47107332.033588856,50507812.191800565,50507812.191800565,46781661.571697064,48187812.18067982,50231506.735294558,51658737.844759047,46949119.62505427,44783028.518451087,44054783.098594882,43326537.678738683,43149443.511768483,42441066.843887657,41998331.426462136,44450725.051018253,46903118.67557437,48750837.282359719,46052890.706909537,44782698.909301482,44226293.902940229]
[]
[null,null,"Vida útil = 5 anos","Ano","Adição",1,2,3,4,5,6,7,8,9,10,11,12,13,14,15,16,17,18,19,20,21,22,23,24,25,26,27,28,29,30,31,32,33,34,35,"Total"]
[null,null,5,1,{"$f":"HLOOKUP(D30,$F$4:$AN$25,17,FALSE)","v":0},{"$f":"IF(OR(F$29<$D30,F$29>$D30+$C$30-1),0,$E30/$C$30)","v":0},{"$f":"IF(OR(G$29<$D30,G$29>$D30+$C$30-1),0,$E30/$C$30)","v":0},0,0,0,0,0,0,0,0,0,0,0,0,0,0,0,{"$f":"IF(OR(W$29<$D30,W$29>$D30+$C$30-1),0,$E30/$C$30)","v":0},0,0,0,0,0,0,0,0,0,0,0,0,0,0,0,{"$f":"IF(OR(AM$29<$D30,AM$29>$D30+$C$30-1),0,$E30/$C$30)","v":0},0,{"$f":"SUM(F30:AN30)","v":0}]
[null,null,null,2,{"$f":"HLOOKUP(D31,$F$4:$AN$25,17,FALSE)","v":0},{"$f":"IF(OR(F$29<$D31,F$29>$D31+$C$30-1),0,$E31/$C$30)","v":0},0,0,0,0,0,0,0,0,0,0,0,0,0,0,0,0,0,0,0,0,0,0,0,0,0,0,0,0,0,0,0,0,0,0,{"$f":"SUM(F31:AN31)","v":0}]
[null,null,null,3,{"$f":"HLOOKUP(D32,$F$4:$AN$25,17,FALSE)","v":0},0,0,0,0,0,0,0,0,0,0,0,0,0,0,0,0,0,0,0,0,0,0,0,0,0,0,0,0,0,0,0,0,0,0,0,0]
[null,null,null,4,{"$f":"HLOOKUP(D33,$F$4:$AN$25,17,FALSE)","v":15525627.583764575},0,0,0,{"$f":"IF(OR(I$29<$D33,I$29>$D33+$C$30-1),0,$E33/$C$30)","v":3105125.516752915},{"$f":"IF(OR(J$29<$D33,J$29>$D33+$C$30-1),0,$E33/$C$30)","v":3105125.516752915},3105125.516752915,3105125.516752915,3105125.516752915,0,0,0,0,0,0,0,0,0,0,0,0,0,0,0,0,0,0,0,0,0,0,0,0,0,0,0,15525627.583764575]
[null,null,null,5,11038745.001381602,0,0,0,0,2207749.0002763206,2207749.0002763206,2207749.0002763206,2207749.0002763206,2207749.0002763206,0,0,0,0,0,0,0,0,0,0,0,0,0,0,0,0,0,0,0,0,0,0,0,0,0,0,11038745.001381602]
[null,null,null,6,8382311.8945816439,0,0,0,0,0,1676462.3789163288,1676462.3789163288,1676462.3789163288,1676462.3789163288,1676462.3789163288,0,0,0,0,0,0,0,0,0,0,0,0,0,0,0,0,0,0,0,0,0,0,0,0,0,8382311.8945816439]
[null,null,null,7,4556257.7343188105,0,0,0,0,0,0,911251.54686376208,911251.54686376208,911251.54686376208,911251.54686376208,911251.54686376208,0,0,0,0,0,0,0,0,0,0,0,0,0,0,0,0,0,0,0,0,0,0,0,0,4556257.7343188105]
[null,null,null,8,{"$f":"HLOOKUP(D37,$F$4:$AN$25,17,FALSE)","v":3003059.7635996738},0,0,0,0,0,0,0,600611.95271993475,600611.95271993475,600611.95271993475,600611.95271993475,600611.95271993475,0,0,0,0,0,0,0,0,0,0,0,0,0,0,0,0,0,0,0,0,0,0,0,3003059.7635996738]
[null,null,null,9,0,0,0,0,0,0,0,0,0,0,0,0,0,0,0,0,0,0,0,0,0,0,0,0,0,0,0,0,0,0,0,0,0,0,0,0,0]
[null,null,null,10,0,0,0,0,0,0,0,0,0,0,0,0,0,0,0,0,0,0,0,0,0,0,0,0,0,0,0,0,0,0,0,0,0,0,0,0,0]
[null,null,null,11,0,0,0,0,0,0,0,0,0,0,0,0,0,0,0,0,0,0,0,0,0,0,0,0,0,0,0,0,0,0,0,0,0,0,0,0,0]
[null,null,null,12,14168667.325882103,0,0,0,0,0,0,0,0,0,0,0,2833733.4651764208,2833733.4651764208,2833733.4651764208,2833733.4651764208,2833733.4651764208,0,0,0,0,0,0,0,0,0,0,0,0,0,0,0,0,0,0,0,14168667.325882103]
[null,null,null,13,14168667.325882103,0,0,0,0,0,0,0,0,0,0,0,0,2833733.4651764208,2833733.4651764208,2833733.4651764208,2833733.4651764208,2833733.4651764208,0,0,0,0,0,0,0,0,0,0,0,0,0,0,0,0,0,0,14168667.325882103]
[null,null,null,14,14168667.325882103,0,0,0,0,0,0,0,0,0,0,0,0,0,2833733.4651764208,2833733.4651764208,2833733.4651764208,2833733.4651764208,2833733.4651764208,0,0,0,0,0,0,0,0,0,0,0,0,0,0,0,0,0,14168667.325882103]
[null,null,null,15,0,0,0,0,0,0,0,0,0,0,0,0,0,0,0,0,0,0,0,0,0,0,0,0,0,0,0,0,0,0,0,0,0,0,0,0,0]
[null,null,null,16,0,0,0,0,0,0,0,0,0,0,0,0,0,0,0,0,0,{"$f":"IF(OR(V$29<$D45,V$29>$D45+$C$30-1),0,$E45/$C$30)","v":0},0,0,0,0,0,0,0,0,0,0,0,0,0,0,0,{"$f":"IF(OR(AL$29<$D45,AL$29>$D45+$C$30-1),0,$E45/$C$30)","v":0},0,0,0]
[null,null,null,17,14168667.325882103,0,0,0,0,0,0,0,0,0,0,0,0,0,0,0,0,2833733.4651764208,2833733.4651764208,2833733.4651764208,2833733.4651764208,2833733.4651764208,0,0,0,0,0,0,0,0,0,0,0,0,0,0,14168667.325882103]
[null,null,null,18,14168667.325882103,{"$f":"IF(OR(F$29<$D47,F$29>$D47+$C$30-1),0,$E47/$C$30)","v":0},0,0,0,0,0,0,0,0,0,0,0,0,0,0,0,0,2833733.4651764208,2833733.4651764208,2833733.4651764208,2833733.4651764208,2833733.4651764208,0,0,0,0,0,0,0,0,0,0,0,0,0,14168667.325882103]
[null,null,null,19,14168667.325882103,0,0,0,0,0,0,0,0,0,0,0,0,0,0,0,0,0,0,2833733.4651764208,2833733.4651764208,2833733.4651764208,2833733.4651764208,2833733.4651764208,0,0,0,0,0,0,0,0,0,0,0,0,14168667.325882103]
[null,null,null,20,0,0,0,0,0,0,0,0,0,0,0,0,0,0,0,0,0,0,0,0,0,0,0,0,0,0,0,0,0,0,0,0,0,0,0,0,0]
[null,null,null,21,0,0,0,0,0,0,0,0,0,0,0,0,0,0,0,0,0,0,0,0,0,0,0,0,0,0,0,0,0,0,0,0,0,0,0,0,0]
[null,null,null,22,14168667.325882103,0,0,0,0,0,0,0,0,0,0,0,0,0,0,0,0,0,0,0,0,0,2833733.4651764208,2833733.4651764208,2833733.4651764208,2833733.4651764208,2833733.4651764208,0,0,0,0,0,0,0,0,0,14168667.325882103]
[null,null,null,23,14168667.325882103,0,0,0,0,0,0,0,0,0,0,0,0,0,0,0,0,0,0,0,0,0,0,2833733.4651764208,2833733.4651764208,2833733.4651764208,2833733.4651764208,2833733.4651764208,0,0,0,0,0,0,0,0,14168667.325882103]
[null,null,null,24,14168667.325882103,0,0,0,0,0,0,0,0,0,0,0,0,0,0,0,0,0,0,0,0,0,0,0,2833733.4651764208,2833733.4651764208,2833733.4651764208,2833733.4651764208,2833733.4651764208,0,0,0,0,0,0,0,14168667.325882103]
[null,null,null,25,0,0,0,0,0,0,0,0,0,0,0,0,0,0,0,0,0,0,0,0,0,0,0,0,0,0,0,0,0,0,0,0,0,0,0,0,0]
[null,null,null,26,0,0,0,0,0,0,0,0,0,0,0,0,0,0,0,0,0,0,0,0,0,0,0,0,0,0,0,0,0,0,0,0,0,0,0,0,0]
[null,null,null,27,14168667.325882103,0,0,0,0,0,0,0,0,0,0,0,0,0,0,0,0,0,0,0,0,0,0,0,0,0,0,2833733.4651764208,2833733.4651764208,2833733.4651764208,2833733.4651764208,2833733.4651764208,0,0,0,0,14168667.325882103]
[null,null,null,28,14168667.325882103,0,0,0,0,0,0,0,0,0,0,0,0,0,0,0,0,0,0,0,0,0,0,0,0,0,0,0,2833733.4651764208,2833733.4651764208,2833733.4651764208,2833733.4651764208,2833733.4651764208,0,0,0,14168667.325882103]
[null,null,null,29,14168667.325882103,0,0,0,0,0,0,0,0,0,0,0,0,0,0,0,0,0,0,0,0,0,0,0,0,0,0,0,0,2833733.4651764208,2833733.4651764208,2833733.4651764208,2833733.4651764208,2833733.4651764208,0,0,14168667.325882103]
[null,null,null,30,0,0,0,0,0,0,0,0,0,0,0,0,0,0,0,0,0,0,0,0,0,0,0,0,0,0,0,0,0,0,0,0,0,0,0,0,0]
[null,null,null,31,0,0,0,0,0,0,0,0,0,0,0,0,0,0,0,0,0,0,0,0,0,0,0,0,0,0,0,0,0,0,0,0,0,0,0,0,0]
[null,null,null,32,14168667.325882103,0,0,0,0,0,0,0,0,0,0,0,0,0,0,0,0,{"$f":"IF(OR(V$29<$D61,V$29>$D61+$C$30-1),0,$E61/$C$30)","v":0},0,0,0,0,0,0,0,0,0,0,0,0,0,0,2833733.4651764208,2833733.4651764208,2833733.4651764208,2833733.4651764208,11334933.860705683]
[null,null,null,33,14168667.325882103,0,0,0,0,0,0,0,0,0,0,0,0,0,0,0,{"$f":"IF(OR(U$29<$D62,U$29>$D62+$C$30-1),0,$E62/$C$30)","v":0},0,0,0,0,0,0,0,0,0,0,0,0,0,0,0,0,2833733.4651764208,2833733.4651764208,2833733.4651764208,8501200.3955292627]
[null,null,null,34,14168667.325882103,{"$f":"IF(OR(F$29<$D63,F$29>$D63+$C$30-1),0,$E63/$C$30)","v":0},0,0,0,0,0,0,0,0,0,0,0,0,0,0,0,0,0,0,0,0,0,0,0,0,0,0,0,0,0,0,0,0,2833733.4651764208,2833733.4651764208,5667466.9303528415]
[null,null,null,35,0,0,0,0,0,0,0,0,0,0,0,0,0,0,0,0,0,0,0,0,0,0,0,0,0,0,0,0,0,0,0,0,0,0,0,0,0]
[null,null,null,"Total",{"$f":"SUM(E30:E64)","v":255036011.8658779},{"$f":"SUM(F30:F64)","v":0},{"$f":"SUM(G30:G64)","v":0},0,3105125.516752915,5312874.5170292351,6989336.8959455639,7900588.4428093256,8501200.3955292609,5396074.8787763454,3188325.8785000257,1511863.4995836969,3434345.4178963555,5667466.9303528415,8501200.3955292627,8501200.3955292627,8501200.3955292627,8501200.3955292627,8501200.3955292627,8501200.3955292627,8501200.3955292627,8501200.3955292627,8501200.3955292627,8501200.3955292627,8501200.3955292627,8501200.3955292627,8501200.3955292627,8501200.3955292627,8501200.3955292627,8501200.3955292627,8501200.3955292627,8501200.3955292627,8501200.3955292627,8501200.3955292627,8501200.3955292627,8501200.3955292627,238033611.07481936]
[]
[null,null,"Vida útil = 15 anos","Ano","Adição",1,2,3,4,5,6,7,8,9,10,11,12,13,14,15,16,17,18,19,20,21,22,23,24,25,26,27,28,29,30,31,32,33,34,35,"Total"]
[null,null,15,1,{"$f":"HLOOKUP(D68,$F$4:$AN$25,18,FALSE)","v":0},{"$f":"IF(OR(F$29<$D68,F$29>$D68+$C$68-1),0,$E68/$C$68)","v":0},{"$f":"IF(OR(G$29<$D68,G$29>$D68+$C$68-1),0,$E68/$C$68)","v":0},0,0,0,0,0,0,0,0,0,0,0,0,0,0,0,{"$f":"IF(OR(W$29<$D68,W$29>$D68+$C$68-1),0,$E68/$C$68)","v":0},0,0,0,0,0,0,0,0,0,0,0,0,0,0,0,{"$f":"IF(OR(AM$29<$D68,AM$29>$D68+$C$68-1),0,$E68/$C$68)","v":0},0,{"$f":"SUM(F68:AN68)","v":0}]
[null,null,null,2,{"$f":"HLOOKUP(D69,$F$4:$AN$25,18,FALSE)","v":0},{"$f":"IF(OR(F$29<$D69,F$29>$D69+$C$68-1),0,$E69/$C$68)","v":0},0,0,0,0,0,0,0,0,0,0,0,0,0,0,0,0,0,0,0,0,0,0,0,0,0,0,0,0,0,0,0,0,0,0,{"$f":"SUM(F69:AN69)","v":0}]
[null,null,null,3,0,0,0,0,0,0,0,0,0,0,0,0,0,0,0,0,0,0,0,0,0,0,0,0,0,0,0,0,0,0,0,0,0,0,0,0,0]
[null,null,null,4,55892259.301552474,0,0,0,3726150.6201034985,3726150.6201034985,3726150.6201034985,3726150.6201034985,3726150.6201034985,3726150.6201034985,3726150.6201034985,3726150.6201034985,3726150.6201034985,3726150.6201034985,3726150.6201034985,3726150.6201034985,3726150.6201034985,3726150.6201034985,3726150.6201034985,0,0,0,0,0,0,0,0,0,0,0,0,0,0,0,0,0,55892259.301552482]
[null,null,null,5,39739482.004973777,0,0,0,0,2649298.8003315851,2649298.8003315851,2649298.8003315851,2649298.8003315851,2649298.8003315851,2649298.8003315851,2649298.8003315851,2649298.8003315851,2649298.8003315851,2649298.8003315851,2649298.8003315851,2649298.8003315851,2649298.8003315851,2649298.8003315851,2649298.8003315851,0,0,0,0,0,0,0,0,0,0,0,0,0,0,0,0,39739482.004973777]
[null,null,null,6,30176322.820493922,0,0,0,0,0,2011754.8546995947,2011754.8546995947,2011754.8546995947,2011754.8546995947,2011754.8546995947,2011754.8546995947,2011754.8546995947,2011754.8546995947,2011754.8546995947,2011754.8546995947,2011754.8546995947,2011754.8546995947,2011754.8546995947,2011754.8546995947,2011754.8546995947,0,0,0,0,0,0,0,0,0,0,0,0,0,0,0,30176322.82049391]
[null,null,null,7,16402527.843547719,0,0,0,0,0,0,1093501.8562365146,1093501.8562365146,1093501.8562365146,1093501.8562365146,1093501.8562365146,1093501.8562365146,1093501.8562365146,1093501.8562365146,1093501.8562365146,1093501.8562365146,1093501.8562365146,1093501.8562365146,1093501.8562365146,1093501.8562365146,1093501.8562365146,0,0,0,0,0,0,0,0,0,0,0,0,0,0,16402527.843547713]
[null,null,null,8,10811015.148958825,0,0,0,0,0,0,0,720734.34326392168,720734.34326392168,720734.34326392168,720734.34326392168,720734.34326392168,720734.34326392168,720734.34326392168,720734.34326392168,720734.34326392168,720734.34326392168,720734.34326392168,720734.34326392168,720734.34326392168,720734.34326392168,720734.34326392168,0,0,0,0,0,0,0,0,0,0,0,0,0,10811015.148958825]
[null,null,null,9,0,0,0,0,0,0,0,0,0,0,0,0,0,0,0,0,0,0,0,0,0,0,0,0,0,0,0,0,0,0,0,0,0,0,0,0,0]
[null,null,null,10,0,0,0,0,0,0,0,0,0,0,0,0,0,0,0,0,0,0,0,0,0,0,0,0,0,0,0,0,0,0,0,0,0,0,0,0,0]
[null,null,null,11,0,0,0,0,0,0,0,0,0,0,0,0,0,0,0,0,0,0,0,0,0,0,0,0,0,0,0,0,0,0,0,0,0,0,0,0,0]
[null,null,null,12,0,0,0,0,0,0,0,0,0,0,0,0,0,0,0,0,0,0,0,0,0,0,0,0,0,0,0,0,0,0,0,0,0,0,0,0,0]
[null,null,null,13,0,0,0,0,0,0,0,0,0,0,0,0,0,0,0,0,0,0,0,0,0,0,0,0,0,0,0,0,0,0,0,0,0,0,0,0,0]
[null,null,null,14,0,0,0,0,0,0,0,0,0,0,0,0,0,0,0,0,0,0,0,0,0,0,0,0,0,0,0,0,0,0,0,0,0,0,0,0,0]
[null,null,null,15,51007202.373175569,0,0,0,0,0,0,0,0,0,0,0,0,0,0,3400480.1582117048,3400480.1582117048,3400480.1582117048,3400480.1582117048,3400480.1582117048,3400480.1582117048,3400480.1582117048,3400480.1582117048,3400480.1582117048,3400480.1582117048,3400480.1582117048,3400480.1582117048,3400480.1582117048,3400480.1582117048,3400480.1582117048,0,0,0,0,0,0,51007202.373175591]
[null,null,null,16,51007202.373175569,0,0,0,0,0,0,0,0,0,0,0,0,0,0,0,3400480.1582117048,{"$f":"IF(OR(V$29<$D83,V$29>$D83+$C$68-1),0,$E83/$C$68)","v":3400480.1582117048},3400480.1582117048,3400480.1582117048,3400480.1582117048,3400480.1582117048,3400480.1582117048,3400480.1582117048,3400480.1582117048,3400480.1582117048,3400480.1582117048,3400480.1582117048,3400480.1582117048,3400480.1582117048,3400480.1582117048,0,0,{"$f":"IF(OR(AL$29<$D83,AL$29>$D83+$C$68-1),0,$E83/$C$68)","v":0},0,0,51007202.373175591]
[null,null,null,17,51007202.373175569,0,0,0,0,0,0,0,0,0,0,0,0,0,0,0,0,3400480.1582117048,3400480.1582117048,3400480.1582117048,3400480.1582117048,3400480.1582117048,3400480.1582117048,3400480.1582117048,3400480.1582117048,3400480.1582117048,3400480.1582117048,3400480.1582117048,3400480.1582117048,3400480.1582117048,3400480.1582117048,3400480.1582117048,0,0,0,0,51007202.373175591]
[null,null,null,18,0,{"$f":"IF(OR(F$29<$D85,F$29>$D85+$C$68-1),0,$E85/$C$68)","v":0},0,0,0,0,0,0,0,0,0,0,0,0,0,0,0,0,0,0,0,0,0,0,0,0,0,0,0,0,0,0,0,0,0,0,0]
[null,null,null,19,0,0,0,0,0,0,0,0,0,0,0,0,0,0,0,0,0,0,0,0,0,0,0,0,0,0,0,0,0,0,0,0,0,0,0,0,0]
[null,null,null,20,0,0,0,0,0,0,0,0,0,0,0,0,0,0,0,0,0,0,0,0,0,0,0,0,0,0,0,0,0,0,0,0,0,0,0,0,0]
[null,null,null,21,0,0,0,0,0,0,0,0,0,0,0,0,0,0,0,0,0,0,0,0,0,0,0,0,0,0,0,0,0,0,0,0,0,0,0,0,0]
[null,null,null,22,0,0,0,0,0,0,0,0,0,0,0,0,0,0,0,0,0,0,0,0,0,0,0,0,0,0,0,0,0,0,0,0,0,0,0,0,0]
[null,null,null,23,0,0,0,0,0,0,0,0,0,0,0,0,0,0,0,0,0,0,0,0,0,0,0,0,0,0,0,0,0,0,0,0,0,0,0,0,0]
[null,null,null,24,0,0,0,0,0,0,0,0,0,0,0,0,0,0,0,0,0,0,0,0,0,0,0,0,0,0,0,0,0,0,0,0,0,0,0,0,0]
[null,null,null,25,0,0,0,0,0,0,0,0,0,0,0,0,0,0,0,0,0,0,0,0,0,0,0,0,0,0,0,0,0,0,0,0,0,0,0,0,0]
[null,null,null,26,0,0,0,0,0,0,0,0,0,0,0,0,0,0,0,0,0,0,0,0,0,0,0,0,0,0,0,0,0,0,0,0,0,0,0,0,0]
[null,null,null,27,0,0,0,0,0,0,0,0,0,0,0,0,0,0,0,0,0,0,0,0,0,0,0,0,0,0,0,0,0,0,0,0,0,0,0,0,0]
[null,null,null,28,0,0,0,0,0,0,0,0,0,0,0,0,0,0,0,0,0,0,0,0,0,0,0,0,0,0,0,0,0,0,0,0,0,0,0,0,0]
[null,null,null,29,0,0,0,0,0,0,0,0,0,0,0,0,0,0,0,0,0,0,0,0,0,0,0,0,0,0,0,0,0,0,0,0,0,0,0,0,0]
[null,null,null,30,51007202.373175569,0,0,0,0,0,0,0,0,0,0,0,0,0,0,0,0,0,0,0,0,0,0,0,0,0,0,0,0,0,3400480.1582117048,3400480.1582117048,3400480.1582117048,3400480.1582117048,3400480.1582117048,3400480.1582117048,20402880.94927023]
[null,null,null,31,51007202.373175569,0,0,0,0,0,0,0,0,0,0,0,0,0,0,0,0,0,0,0,0,0,0,0,0,0,0,0,0,0,0,3400480.1582117048,3400480.1582117048,3400480.1582117048,3400480.1582117048,3400480.1582117048,17002400.791058525]
[null,null,null,32,51007202.373175569,0,0,0,0,0,0,0,0,0,0,0,0,0,0,0,0,{"$f":"IF(OR(V$29<$D99,V$29>$D99+$C$68-1),0,$E99/$C$68)","v":0},0,0,0,0,0,0,0,0,0,0,0,0,0,0,3400480.1582117048,3400480.1582117048,3400480.1582117048,3400480.1582117048,13601920.632846819]
[null,null,null,33,0,0,0,0,0,0,0,0,0,0,0,0,0,0,0,0,{"$f":"IF(OR(U$29<$D100,U$29>$D100+$C$68-1),0,$E100/$C$68)","v":0},0,0,0,0,0,0,0,0,0,0,0,0,0,0,0,0,0,0,0,0]
[null,null,null,34,0,{"$f":"IF(OR(F$29<$D101,F$29>$D101+$C$68-1),0,$E101/$C$68)","v":0},0,0,0,0,0,0,0,0,0,0,0,0,0,0,0,0,0,0,0,0,0,0,0,0,0,0,0,0,0,0,0,0,0,0,0]
[null,null,null,35,0,0,0,0,0,0,0,0,0,0,0,0,0,0,0,0,0,0,0,0,0,0,0,0,0,0,0,0,0,0,0,0,0,0,0,0,0]
[null,null,null,"Total",{"$f":"SUM(E68:E102)","v":459064821.35858011},{"$f":"SUM(F68:F102)","v":0},{"$f":"SUM(G68:G102)","v":0},{"$f":"SUM(H68:H102)","v":0},{"$f":"SUM(I68:I102)","v":3726150.6201034985},{"$f":"SUM(J68:J102)","v":6375449.420435084},{"$f":"SUM(K68:K102)","v":8387204.2751346789},{"$f":"SUM(L68:L102)","v":9480706.1313711926},{"$f":"SUM(M68:M102)","v":10201440.474635115},{"$f":"SUM(N68:N102)","v":10201440.474635115},{"$f":"SUM(O68:O102)","v":10201440.474635115},{"$f":"SUM(P68:P102)","v":10201440.474635115},{"$f":"SUM(Q68:Q102)","v":10201440.474635115},{"$f":"SUM(R68:R102)","v":10201440.474635115},{"$f":"SUM(S68:S102)","v":10201440.474635115},{"$f":"SUM(T68:T102)","v":13601920.632846819},{"$f":"SUM(U68:U102)","v":17002400.791058525},{"$f":"SUM(V68:V102)","v":20402880.94927023},{"$f":"SUM(W68:W102)","v":20402880.94927023},{"$f":"SUM(X68:X102)","v":16676730.329166729},{"$f":"SUM(Y68:Y102)","v":14027431.528835146},{"$f":"SUM(Z68:Z102)","v":12015676.674135551},{"$f":"SUM(AA68:AA102)","v":10922174.817899035},{"$f":"SUM(AB68:AB102)","v":10201440.474635115},{"$f":"SUM(AC68:AC102)","v":10201440.474635115},{"$f":"SUM(AD68:AD102)","v":10201440.474635115},{"$f":"SUM(AE68:AE102)","v":10201440.474635115},{"$f":"SUM(AF68:AF102)","v":10201440.474635115},{"$f":"SUM(AG68:AG102)","v":10201440.474635115},{"$f":"SUM(AH68:AH102)","v":10201440.474635115},{"$f":"SUM(AI68:AI102)","v":10201440.474635115},{"$f":"SUM(AJ68:AJ102)","v":10201440.474635115},{"$f":"SUM(AK68:AK102)","v":10201440.474635115},{"$f":"SUM(AL68:AL102)","v":10201440.474635115},{"$f":"SUM(AM68:AM102)","v":10201440.474635115},{"$f":"SUM(AN68:AN102)","v":10201440.474635115},{"$f":"SUM(AO68:AO102)","v":357050416.61222911}]
[]
[null,null,"Vida útil = 20 anos","Ano","Adição",1,2,3,4,5,6,7,8,9,10,11,12,13,14,15,16,17,18,19,20,21,22,23,24,25,26,27,28,29,30,31,32,33,34,35,"Total"]
[null,null,20,1,{"$f":"HLOOKUP(D106,$F$4:$AN$25,19,FALSE)","v":0},{"$f":"IF(OR(F$29<$D106,F$29>$D106+$C$106-1),0,$E106/$C$106)","v":0},{"$f":"IF(OR(G$29<$D106,G$29>$D106+$C$106-1),0,$E106/$C$106)","v":0},0,0,0,0,0,0,0,0,0,0,0,0,0,0,0,{"$f":"IF(OR(W$29<$D106,W$29>$D106+$C$106-1),0,$E106/$C$106)","v":0},0,0,0,0,0,0,0,0,0,0,0,0,0,0,0,{"$f":"IF(OR(AM$29<$D106,AM$29>$D106+$C$106-1),0,$E106/$C$106)","v":0},0,{"$f":"SUM(F106:AN106)","v":0}]
[null,null,null,2,{"$f":"HLOOKUP(D107,$F$4:$AN$25,19,FALSE)","v":30694328.872266714},{"$f":"IF(OR(F$29<$D107,F$29>$D107+$C$106-1),0,$E107/$C$106)","v":0},1534716.4436133357,1534716.4436133357,1534716.4436133357,1534716.4436133357,1534716.4436133357,1534716.4436133357,1534716.4436133357,1534716.4436133357,1534716.4436133357,1534716.4436133357,1534716.4436133357,1534716.4436133357,1534716.4436133357,1534716.4436133357,1534716.4436133357,1534716.4436133357,1534716.4436133357,1534716.4436133357,1534716.4436133357,1534716.4436133357,0,0,0,0,0,0,0,0,0,0,0,0,0,0,{"$f":"SUM(F107:AN107)","v":30694328.872266714}]
[null,null,null,3,79777677.528817132,0,0,3988883.8764408566,3988883.8764408566,3988883.8764408566,3988883.8764408566,3988883.8764408566,3988883.8764408566,3988883.8764408566,3988883.8764408566,3988883.8764408566,3988883.8764408566,3988883.8764408566,3988883.8764408566,3988883.8764408566,3988883.8764408566,3988883.8764408566,3988883.8764408566,3988883.8764408566,3988883.8764408566,3988883.8764408566,3988883.8764408566,0,0,0,0,0,0,0,0,0,0,0,0,0,79777677.528817087]
[null,null,null,4,43321822.132063597,0,0,0,2166091.1066031801,2166091.1066031801,2166091.1066031801,2166091.1066031801,2166091.1066031801,2166091.1066031801,2166091.1066031801,2166091.1066031801,2166091.1066031801,2166091.1066031801,2166091.1066031801,2166091.1066031801,2166091.1066031801,2166091.1066031801,2166091.1066031801,2166091.1066031801,2166091.1066031801,2166091.1066031801,2166091.1066031801,2166091.1066031801,0,0,0,0,0,0,0,0,0,0,0,0,43321822.132063605]
[null,null,null,5,14564908.397123987,0,0,0,0,728245.4198561993,728245.4198561993,728245.4198561993,728245.4198561993,728245.4198561993,728245.4198561993,728245.4198561993,728245.4198561993,728245.4198561993,728245.4198561993,728245.4198561993,728245.4198561993,728245.4198561993,728245.4198561993,728245.4198561993,728245.4198561993,728245.4198561993,728245.4198561993,728245.4198561993,728245.4198561993,0,0,0,0,0,0,0,0,0,0,0,14564908.397123991]
[null,null,null,6,14564908.397123987,0,0,0,0,0,728245.4198561993,728245.4198561993,728245.4198561993,728245.4198561993,728245.4198561993,728245.4198561993,728245.4198561993,728245.4198561993,728245.4198561993,728245.4198561993,728245.4198561993,728245.4198561993,728245.4198561993,728245.4198561993,728245.4198561993,728245.4198561993,728245.4198561993,728245.4198561993,728245.4198561993,728245.4198561993,0,0,0,0,0,0,0,0,0,0,14564908.397123991]
[null,null,null,7,0,0,0,0,0,0,0,0,0,0,0,0,0,0,0,0,0,0,0,0,0,0,0,0,0,0,0,0,0,0,0,0,0,0,0,0,0]
[null,null,null,8,0,0,0,0,0,0,0,0,0,0,0,0,0,0,0,0,0,0,0,0,0,0,0,0,0,0,0,0,0,0,0,0,0,0,0,0,0]
[null,null,null,9,0,0,0,0,0,0,0,0,0,0,0,0,0,0,0,0,0,0,0,0,0,0,0,0,0,0,0,0,0,0,0,0,0,0,0,0,0]
[null,null,null,10,0,0,0,0,0,0,0,0,0,0,0,0,0,0,0,0,0,0,0,0,0,0,0,0,0,0,0,0,0,0,0,0,0,0,0,0,0]
[null,null,null,11,0,0,0,0,0,0,0,0,0,0,0,0,0,0,0,0,0,0,0,0,0,0,0,0,0,0,0,0,0,0,0,0,0,0,0,0,0]
[null,null,null,12,0,0,0,0,0,0,0,0,0,0,0,0,0,0,0,0,0,0,0,0,0,0,0,0,0,0,0,0,0,0,0,0,0,0,0,0,0]
[null,null,null,13,0,0,0,0,0,0,0,0,0,0,0,0,0,0,0,0,0,0,0,0,0,0,0,0,0,0,0,0,0,0,0,0,0,0,0,0,0]
[null,null,null,14,0,0,0,0,0,0,0,0,0,0,0,0,0,0,0,0,0,0,0,0,0,0,0,0,0,0,0,0,0,0,0,0,0,0,0,0,0]
[null,null,null,15,0,0,0,0,0,0,0,0,0,0,0,0,0,0,0,0,0,0,0,0,0,0,0,0,0,0,0,0,0,0,0,0,0,0,0,0,0]
[null,null,null,16,0,0,0,0,0,0,0,0,0,0,0,0,0,0,0,0,0,{"$f":"IF(OR(V$29<$D121,V$29>$D121+$C$106-1),0,$E121/$C$106)","v":0},0,0,0,0,0,0,0,0,0,0,0,0,0,0,0,{"$f":"IF(OR(AL$29<$D121,AL$29>$D121+$C$106-1),0,$E121/$C$106)","v":0},0,0,0]
[null,null,null,17,0,0,0,0,0,0,0,0,0,0,0,0,0,0,0,0,0,0,0,0,0,0,0,0,0,0,0,0,0,0,0,0,0,0,0,0,0]
[null,null,null,18,0,{"$f":"IF(OR(F$29<$D123,F$29>$D123+$C$106-1),0,$E123/$C$106)","v":0},0,0,0,0,0,0,0,0,0,0,0,0,0,0,0,0,0,0,0,0,0,0,0,0,0,0,0,0,0,0,0,0,0,0,0]
[null,null,null,19,0,0,0,0,0,0,0,0,0,0,0,0,0,0,0,0,0,0,0,0,0,0,0,0,0,0,0,0,0,0,0,0,0,0,0,0,0]
[null,null,null,20,81108988.186286733,0,0,0,0,0,0,0,0,0,0,0,0,0,0,0,0,0,0,0,4055449.4093143367,4055449.4093143367,4055449.4093143367,4055449.4093143367,4055449.4093143367,4055449.4093143367,4055449.4093143367,4055449.4093143367,4055449.4093143367,4055449.4093143367,4055449.4093143367,4055449.4093143367,4055449.4093143367,4055449.4093143367,4055449.4093143367,4055449.4093143367,64887190.549029373]
[null,null,null,21,81108988.186286733,0,0,0,0,0,0,0,0,0,0,0,0,0,0,0,0,0,0,0,0,4055449.4093143367,4055449.4093143367,4055449.4093143367,4055449.4093143367,4055449.4093143367,4055449.4093143367,4055449.4093143367,4055449.4093143367,4055449.4093143367,4055449.4093143367,4055449.4093143367,4055449.4093143367,4055449.4093143367,4055449.4093143367,4055449.4093143367,60831741.139715038]
[null,null,null,22,81108988.186286733,0,0,0,0,0,0,0,0,0,0,0,0,0,0,0,0,0,0,0,0,0,4055449.4093143367,4055449.4093143367,4055449.4093143367,4055449.4093143367,4055449.4093143367,4055449.4093143367,4055449.4093143367,4055449.4093143367,4055449.4093143367,4055449.4093143367,4055449.4093143367,4055449.4093143367,4055449.4093143367,4055449.4093143367,56776291.730400704]
[null,null,null,23,0,0,0,0,0,0,0,0,0,0,0,0,0,0,0,0,0,0,0,0,0,0,0,0,0,0,0,0,0,0,0,0,0,0,0,0,0]
[null,null,null,24,0,0,0,0,0,0,0,0,0,0,0,0,0,0,0,0,0,0,0,0,0,0,0,0,0,0,0,0,0,0,0,0,0,0,0,0,0]
[null,null,null,25,0,0,0,0,0,0,0,0,0,0,0,0,0,0,0,0,0,0,0,0,0,0,0,0,0,0,0,0,0,0,0,0,0,0,0,0,0]
[null,null,null,26,0,0,0,0,0,0,0,0,0,0,0,0,0,0,0,0,0,0,0,0,0,0,0,0,0,0,0,0,0,0,0,0,0,0,0,0,0]
[null,null,null,27,0,0,0,0,0,0,0,0,0,0,0,0,0,0,0,0,0,0,0,0,0,0,0,0,0,0,0,0,0,0,0,0,0,0,0,0,0]
[null,null,null,28,0,0,0,0,0,0,0,0,0,0,0,0,0,0,0,0,0,0,0,0,0,0,0,0,0,0,0,0,0,0,0,0,0,0,0,0,0]
[null,null,null,29,0,0,0,0,0,0,0,0,0,0,0,0,0,0,0,0,0,0,0,0,0,0,0,0,0,0,0,0,0,0,0,0,0,0,0,0,0]
[null,null,null,30,0,0,0,0,0,0,0,0,0,0,0,0,0,0,0,0,0,0,0,0,0,0,0,0,0,0,0,0,0,0,0,0,0,0,0,0,0]
[null,null,null,31,0,0,0,0,0,0,0,0,0,0,0,0,0,0,0,0,0,0,0,0,0,0,0,0,0,0,0,0,0,0,0,0,0,0,0,0,0]
[null,null,null,32,0,0,0,0,0,0,0,0,0,0,0,0,0,0,0,0,0,{"$f":"IF(OR(V$29<$D137,V$29>$D137+$C$106-1),0,$E137/$C$106)","v":0},0,0,0,0,0,0,0,0,0,0,0,0,0,0,0,0,0,0,0]
[null,null,null,33,0,0,0,0,0,0,0,0,0,0,0,0,0,0,0,0,{"$f":"IF(OR(U$29<$D138,U$29>$D138+$C$106-1),0,$E138/$C$106)","v":0},0,0,0,0,0,0,0,0,0,0,0,0,0,0,0,0,0,0,0,0]
[null,null,null,34,0,{"$f":"IF(OR(F$29<$D139,F$29>$D139+$C$106-1),0,$E139/$C$106)","v":0},0,0,0,0,0,0,0,0,0,0,0,0,0,0,0,0,0,0,0,0,0,0,0,0,0,0,0,0,0,0,0,0,0,0,0]
[null,null,null,35,0,0,0,0,0,0,0,0,0,0,0,0,0,0,0,0,0,0,0,0,0,0,0,0,0,0,0,0,0,0,0,0,0,0,0,0,0]
[null,null,null,"Total",{"$f":"SUM(E106:E140)","v":426250609.88625568},{"$f":"SUM(F106:F140)","v":0},{"$f":"SUM(G106:G140)","v":1534716.4436133357},{"$f":"SUM(H106:H140)","v":5523600.3200541921},{"$f":"SUM(I106:I140)","v":7689691.4266573722},{"$f":"SUM(J106:J140)","v":8417936.8465135712},{"$f":"SUM(K106:K140)","v":9146182.2663697712},{"$f":"SUM(L106:L140)","v":9146182.2663697712},{"$f":"SUM(M106:M140)","v":9146182.2663697712},{"$f":"SUM(N106:N140)","v":9146182.2663697712},{"$f":"SUM(O106:O140)","v":9146182.2663697712},{"$f":"SUM(P106:P140)","v":9146182.2663697712},{"$f":"SUM(Q106:Q140)","v":9146182.2663697712},{"$f":"SUM(R106:R140)","v":9146182.2663697712},{"$f":"SUM(S106:S140)","v":9146182.2663697712},{"$f":"SUM(T106:T140)","v":9146182.2663697712},{"$f":"SUM(U106:U140)","v":9146182.2663697712},{"$f":"SUM(V106:V140)","v":9146182.2663697712},{"$f":"SUM(W106:W140)","v":9146182.2663697712},{"$f":"SUM(X106:X140)","v":9146182.2663697712},{"$f":"SUM(Y106:Y140)","v":13201631.675684107},{"$f":"SUM(Z106:Z140)","v":17257081.084998444},{"$f":"SUM(AA106:AA140)","v":19777814.050699446},{"$f":"SUM(AB106:AB140)","v":15788930.174258588},{"$f":"SUM(AC106:AC140)","v":13622839.067655409},{"$f":"SUM(AD106:AD140)","v":12894593.647799209},{"$f":"SUM(AE106:AE140)","v":12166348.227943011},{"$f":"SUM(AF106:AF140)","v":12166348.227943011},{"$f":"SUM(AG106:AG140)","v":12166348.227943011},{"$f":"SUM(AH106:AH140)","v":12166348.227943011},{"$f":"SUM(AI106:AI140)","v":12166348.227943011},{"$f":"SUM(AJ106:AJ140)","v":12166348.227943011},{"$f":"SUM(AK106:AK140)","v":12166348.227943011},{"$f":"SUM(AL106:AL140)","v":12166348.227943011},{"$f":"SUM(AM106:AM140)","v":12166348.227943011},{"$f":"SUM(AN106:AN140)","v":12166348.227943011},{"$f":"SUM(AO106:AO140)","v":365418868.74654049}]
[]
[null,null,"Vida útil = 25 anos","Ano","Adição",1,2,3,4,5,6,7,8,9,10,11,12,13,14,15,16,17,18,19,20,21,22,23,24,25,26,27,28,29,30,31,32,33,34,35,"Total"]
[null,null,25,1,{"$f":"HLOOKUP(D144,$F$4:$AN$25,20,FALSE)","v":0},{"$f":"IF(OR(F$29<$D144,F$29>$D144+$C$144-1),0,$E144/$C$144)","v":0},{"$f":"IF(OR(G$29<$D144,G$29>$D144+$C$144-1),0,$E144/$C$144)","v":0},0,0,0,0,0,0,0,0,0,0,0,0,0,0,0,{"$f":"IF(OR(W$29<$D144,W$29>$D144+$C$144-1),0,$E144/$C$144)","v":0},0,0,0,0,0,0,0,0,0,0,0,0,0,0,0,{"$f":"IF(OR(AM$29<$D144,AM$29>$D144+$C$144-1),0,$E144/$C$144)","v":0},0,{"$f":"SUM(F144:AN144)","v":0}]
[null,null,null,2,{"$f":"HLOOKUP(D145,$F$4:$AN$25,20,FALSE)","v":4427354.1742551662},{"$f":"IF(OR(F$29<$D145,F$29>$D145+$C$144-1),0,$E145/$C$144)","v":0},177094.16697020666,177094.16697020666,177094.16697020666,177094.16697020666,177094.16697020666,177094.16697020666,177094.16697020666,177094.16697020666,177094.16697020666,177094.16697020666,177094.16697020666,177094.16697020666,177094.16697020666,177094.16697020666,177094.16697020666,177094.16697020666,177094.16697020666,177094.16697020666,177094.16697020666,177094.16697020666,177094.16697020666,177094.16697020666,177094.16697020666,177094.16697020666,177094.16697020666,0,0,0,0,0,0,0,0,0,{"$f":"SUM(F145:AN145)","v":4427354.1742551634}]
[null,null,null,3,17709416.697020661,0,0,708376.6678808264,708376.6678808264,708376.6678808264,708376.6678808264,708376.6678808264,708376.6678808264,708376.6678808264,708376.6678808264,708376.6678808264,708376.6678808264,708376.6678808264,708376.6678808264,708376.6678808264,708376.6678808264,708376.6678808264,708376.6678808264,708376.6678808264,708376.6678808264,708376.6678808264,708376.6678808264,708376.6678808264,708376.6678808264,708376.6678808264,708376.6678808264,708376.6678808264,0,0,0,0,0,0,0,0,17709416.697020654]
[null,null,null,4,11068385.435637914,0,0,0,442735.41742551653,442735.41742551653,442735.41742551653,442735.41742551653,442735.41742551653,442735.41742551653,442735.41742551653,442735.41742551653,442735.41742551653,442735.41742551653,442735.41742551653,442735.41742551653,442735.41742551653,442735.41742551653,442735.41742551653,442735.41742551653,442735.41742551653,442735.41742551653,442735.41742551653,442735.41742551653,442735.41742551653,442735.41742551653,442735.41742551653,442735.41742551653,442735.41742551653,0,0,0,0,0,0,0,11068385.435637919]
[null,null,null,5,3689461.8118793047,0,0,0,0,147578.4724751722,147578.4724751722,147578.4724751722,147578.4724751722,147578.4724751722,147578.4724751722,147578.4724751722,147578.4724751722,147578.4724751722,147578.4724751722,147578.4724751722,147578.4724751722,147578.4724751722,147578.4724751722,147578.4724751722,147578.4724751722,147578.4724751722,147578.4724751722,147578.4724751722,147578.4724751722,147578.4724751722,147578.4724751722,147578.4724751722,147578.4724751722,147578.4724751722,0,0,0,0,0,0,3689461.8118793038]
[null,null,null,6,3689461.8118793047,0,0,0,0,0,147578.4724751722,147578.4724751722,147578.4724751722,147578.4724751722,147578.4724751722,147578.4724751722,147578.4724751722,147578.4724751722,147578.4724751722,147578.4724751722,147578.4724751722,147578.4724751722,147578.4724751722,147578.4724751722,147578.4724751722,147578.4724751722,147578.4724751722,147578.4724751722,147578.4724751722,147578.4724751722,147578.4724751722,147578.4724751722,147578.4724751722,147578.4724751722,147578.4724751722,0,0,0,0,0,3689461.8118793038]
[null,null,null,7,0,0,0,0,0,0,0,0,0,0,0,0,0,0,0,0,0,0,0,0,0,0,0,0,0,0,0,0,0,0,0,0,0,0,0,0,0]
[null,null,null,8,0,0,0,0,0,0,0,0,0,0,0,0,0,0,0,0,0,0,0,0,0,0,0,0,0,0,0,0,0,0,0,0,0,0,0,0,0]
[null,null,null,9,0,0,0,0,0,0,0,0,0,0,0,0,0,0,0,0,0,0,0,0,0,0,0,0,0,0,0,0,0,0,0,0,0,0,0,0,0]
[null,null,null,10,0,0,0,0,0,0,0,0,0,0,0,0,0,0,0,0,0,0,0,0,0,0,0,0,0,0,0,0,0,0,0,0,0,0,0,0,0]
[null,null,null,11,0,0,0,0,0,0,0,0,0,0,0,0,0,0,0,0,0,0,0,0,0,0,0,0,0,0,0,0,0,0,0,0,0,0,0,0,0]
[null,null,null,12,0,0,0,0,0,0,0,0,0,0,0,0,0,0,0,0,0,0,0,0,0,0,0,0,0,0,0,0,0,0,0,0,0,0,0,0,0]
[null,null,null,13,0,0,0,0,0,0,0,0,0,0,0,0,0,0,0,0,0,0,0,0,0,0,0,0,0,0,0,0,0,0,0,0,0,0,0,0,0]
[null,null,null,14,0,0,0,0,0,0,0,0,0,0,0,0,0,0,0,0,0,0,0,0,0,0,0,0,0,0,0,0,0,0,0,0,0,0,0,0,0]
[null,null,null,15,0,0,0,0,0,0,0,0,0,0,0,0,0,0,0,0,0,0,0,0,0,0,0,0,0,0,0,0,0,0,0,0,0,0,0,0,0]
[null,null,null,16,0,0,0,0,0,0,0,0,0,0,0,0,0,0,0,0,0,{"$f":"IF(OR(V$29<$D159,V$29>$D159+$C$144-1),0,$E159/$C$144)","v":0},0,0,0,0,0,0,0,0,0,0,0,0,0,0,0,{"$f":"IF(OR(AL$29<$D159,AL$29>$D159+$C$144-1),0,$E159/$C$144)","v":0},0,0,0]
[null,null,null,17,0,0,0,0,0,0,0,0,0,0,0,0,0,0,0,0,0,0,0,0,0,0,0,0,0,0,0,0,0,0,0,0,0,0,0,0,0]
[null,null,null,18,0,{"$f":"IF(OR(F$29<$D161,F$29>$D161+$C$144-1),0,$E161/$C$144)","v":0},0,0,0,0,0,0,0,0,0,0,0,0,0,0,0,0,0,0,0,0,0,0,0,0,0,0,0,0,0,0,0,0,0,0,0]
[null,null,null,19,0,0,0,0,0,0,0,0,0,0,0,0,0,0,0,0,0,0,0,0,0,0,0,0,0,0,0,0,0,0,0,0,0,0,0,0,0]
[null,null,null,20,0,0,0,0,0,0,0,0,0,0,0,0,0,0,0,0,0,0,0,0,0,0,0,0,0,0,0,0,0,0,0,0,0,0,0,0,0]
[null,null,null,21,0,0,0,0,0,0,0,0,0,0,0,0,0,0,0,0,0,0,0,0,0,0,0,0,0,0,0,0,0,0,0,0,0,0,0,0,0]
[null,null,null,22,0,0,0,0,0,0,0,0,0,0,0,0,0,0,0,0,0,0,0,0,0,0,0,0,0,0,0,0,0,0,0,0,0,0,0,0,0]
[null,null,null,23,0,0,0,0,0,0,0,0,0,0,0,0,0,0,0,0,0,0,0,0,0,0,0,0,0,0,0,0,0,0,0,0,0,0,0,0,0]
[null,null,null,24,0,0,0,0,0,0,0,0,0,0,0,0,0,0,0,0,0,0,0,0,0,0,0,0,0,0,0,0,0,0,0,0,0,0,0,0,0]
[null,null,null,25,0,0,0,0,0,0,0,0,0,0,0,0,0,0,0,0,0,0,0,0,0,0,0,0,0,0,0,0,0,0,0,0,0,0,0,0,0]
[null,null,null,26,0,0,0,0,0,0,0,0,0,0,0,0,0,0,0,0,0,0,0,0,0,0,0,0,0,0,0,0,0,0,0,0,0,0,0,0,0]
[null,null,null,27,0,0,0,0,0,0,0,0,0,0,0,0,0,0,0,0,0,0,0,0,0,0,0,0,0,0,0,0,0,0,0,0,0,0,0,0,0]
[null,null,null,28,0,0,0,0,0,0,0,0,0,0,0,0,0,0,0,0,0,0,0,0,0,0,0,0,0,0,0,0,0,0,0,0,0,0,0,0,0]
[null,null,null,29,0,0,0,0,0,0,0,0,0,0,0,0,0,0,0,0,0,0,0,0,0,0,0,0,0,0,0,0,0,0,0,0,0,0,0,0,0]
[null,null,null,30,0,0,0,0,0,0,0,0,0,0,0,0,0,0,0,0,0,0,0,0,0,0,0,0,0,0,0,0,0,0,0,0,0,0,0,0,0]
[null,null,null,31,0,0,0,0,0,0,0,0,0,0,0,0,0,0,0,0,0,0,0,0,0,0,0,0,0,0,0,0,0,0,0,0,0,0,0,0,0]
[null,null,null,32,0,0,0,0,0,0,0,0,0,0,0,0,0,0,0,0,0,{"$f":"IF(OR(V$29<$D175,V$29>$D175+$C$144-1),0,$E175/$C$144)","v":0},0,0,0,0,0,0,0,0,0,0,0,0,0,0,0,0,0,0,0]
[null,null,null,33,0,0,0,0,0,0,0,0,0,0,0,0,0,0,0,0,{"$f":"IF(OR(U$29<$D176,U$29>$D176+$C$144-1),0,$E176/$C$144)","v":0},0,0,0,0,0,0,0,0,0,0,0,0,0,0,0,0,0,0,0,0]
[null,null,null,34,0,{"$f":"IF(OR(F$29<$D177,F$29>$D177+$C$144-1),0,$E177/$C$144)","v":0},0,0,0,0,0,0,0,0,0,0,0,0,0,0,0,0,0,0,0,0,0,0,0,0,0,0,0,0,0,0,0,0,0,0,0]
[null,null,null,35,0,0,0,0,0,0,0,0,0,0,0,0,0,0,0,0,0,0,0,0,0,0,0,0,0,0,0,0,0,0,0,0,0,0,0,0,0]
[null,null,null,"Total",{"$f":"SUM(E144:E178)","v":40584079.930672355},{"$f":"SUM(F144:F178)","v":0},{"$f":"SUM(G144:G178)","v":177094.16697020666},{"$f":"SUM(H144:H178)","v":885470.83485103305},{"$f":"SUM(I144:I178)","v":1328206.2522765496},{"$f":"SUM(J144:J178)","v":1475784.7247517218},{"$f":"SUM(K144:K178)","v":1623363.1972268941},{"$f":"SUM(L144:L178)","v":1623363.1972268941},{"$f":"SUM(M144:M178)","v":1623363.1972268941},{"$f":"SUM(N144:N178)","v":1623363.1972268941},{"$f":"SUM(O144:O178)","v":1623363.1972268941},{"$f":"SUM(P144:P178)","v":1623363.1972268941},{"$f":"SUM(Q144:Q178)","v":1623363.1972268941},{"$f":"SUM(R144:R178)","v":1623363.1972268941},{"$f":"SUM(S144:S178)","v":1623363.1972268941},{"$f":"SUM(T144:T178)","v":1623363.1972268941},{"$f":"SUM(U144:U178)","v":1623363.1972268941},{"$f":"SUM(V144:V178)","v":1623363.1972268941},{"$f":"SUM(W144:W178)","v":1623363.1972268941},{"$f":"SUM(X144:X178)","v":1623363.1972268941},{"$f":"SUM(Y144:Y178)","v":1623363.1972268941},{"$f":"SUM(Z144:Z178)","v":1623363.1972268941},{"$f":"SUM(AA144:AA178)","v":1623363.1972268941},{"$f":"SUM(AB144:AB178)","v":1623363.1972268941},{"$f":"SUM(AC144:AC178)","v":1623363.1972268941},{"$f":"SUM(AD144:AD178)","v":1623363.1972268941},{"$f":"SUM(AE144:AE178)","v":1623363.1972268941},{"$f":"SUM(AF144:AF178)","v":1446269.0302566874},{"$f":"SUM(AG144:AG178)","v":737892.36237586103},{"$f":"SUM(AH144:AH178)","v":295156.94495034439},{"$f":"SUM(AI144:AI178)","v":147578.4724751722},{"$f":"SUM(AJ144:AJ178)","v":0},{"$f":"SUM(AK144:AK178)","v":0},{"$f":"SUM(AL144:AL178)","v":0},{"$f":"SUM(AM144:AM178)","v":0},{"$f":"SUM(AN144:AN178)","v":0},{"$f":"SUM(AO144:AO178)","v":40584079.930672348}]
[]
[null,null,"Vida útil = 30 anos","Ano","Adição",1,2,3,4,5,6,7,8,9,10,11,12,13,14,15,16,17,18,19,20,21,22,23,24,25,26,27,28,29,30,31,32,33,34,35,"Total"]
[null,null,30,1,{"$f":"HLOOKUP(D182,$F$4:$AN$25,21,FALSE)","v":0},{"$f":"IF(OR(F$29<$D182,F$29>$D182+$C$182-1),0,$E182/$C$182)","v":0},{"$f":"IF(OR(G$29<$D182,G$29>$D182+$C$182-1),0,$E182/$C$182)","v":0},0,0,0,0,0,0,0,0,0,0,0,0,0,0,0,{"$f":"IF(OR(W$29<$D182,W$29>$D182+$C$182-1),0,$E182/$C$182)","v":0},0,0,0,0,0,0,0,0,0,0,0,0,0,0,0,{"$f":"IF(OR(AM$29<$D182,AM$29>$D182+$C$182-1),0,$E182/$C$182)","v":0},0,{"$f":"SUM(F182:AN182)","v":0}]
[null,null,null,2,{"$f":"HLOOKUP(D183,$F$4:$AN$25,21,FALSE)","v":22567604.707378045},{"$f":"IF(OR(F$29<$D183,F$29>$D183+$C$182-1),0,$E183/$C$182)","v":0},752253.49024593481,752253.49024593481,752253.49024593481,752253.49024593481,752253.49024593481,752253.49024593481,752253.49024593481,752253.49024593481,752253.49024593481,752253.49024593481,752253.49024593481,752253.49024593481,752253.49024593481,752253.49024593481,752253.49024593481,752253.49024593481,752253.49024593481,752253.49024593481,752253.49024593481,752253.49024593481,752253.49024593481,752253.49024593481,752253.49024593481,752253.49024593481,752253.49024593481,752253.49024593481,752253.49024593481,752253.49024593481,752253.49024593481,752253.49024593481,0,0,0,0,{"$f":"SUM(F183:AN183)","v":22567604.707378041}]
[null,null,null,3,80938397.263505518,0,0,2697946.5754501838,2697946.5754501838,2697946.5754501838,2697946.5754501838,2697946.5754501838,2697946.5754501838,2697946.5754501838,2697946.5754501838,2697946.5754501838,2697946.5754501838,2697946.5754501838,2697946.5754501838,2697946.5754501838,2697946.5754501838,2697946.5754501838,2697946.5754501838,2697946.5754501838,2697946.5754501838,2697946.5754501838,2697946.5754501838,2697946.5754501838,2697946.5754501838,2697946.5754501838,2697946.5754501838,2697946.5754501838,2697946.5754501838,2697946.5754501838,2697946.5754501838,2697946.5754501838,2697946.5754501838,0,0,0,80938397.263505474]
[null,null,null,4,38105753.928241536,0,0,0,1270191.7976080512,1270191.7976080512,1270191.7976080512,1270191.7976080512,1270191.7976080512,1270191.7976080512,1270191.7976080512,1270191.7976080512,1270191.7976080512,1270191.7976080512,1270191.7976080512,1270191.7976080512,1270191.7976080512,1270191.7976080512,1270191.7976080512,1270191.7976080512,1270191.7976080512,1270191.7976080512,1270191.7976080512,1270191.7976080512,1270191.7976080512,1270191.7976080512,1270191.7976080512,1270191.7976080512,1270191.7976080512,1270191.7976080512,1270191.7976080512,1270191.7976080512,1270191.7976080512,1270191.7976080512,0,0,38105753.928241529]
[null,null,null,5,16692150.190837732,0,0,0,0,556405.00636125775,556405.00636125775,556405.00636125775,556405.00636125775,556405.00636125775,556405.00636125775,556405.00636125775,556405.00636125775,556405.00636125775,556405.00636125775,556405.00636125775,556405.00636125775,556405.00636125775,556405.00636125775,556405.00636125775,556405.00636125775,556405.00636125775,556405.00636125775,556405.00636125775,556405.00636125775,556405.00636125775,556405.00636125775,556405.00636125775,556405.00636125775,556405.00636125775,556405.00636125775,556405.00636125775,556405.00636125775,556405.00636125775,556405.00636125775,0,16692150.190837722]
[null,null,null,6,11341261.111757075,0,0,0,0,0,378042.0370585692,378042.0370585692,378042.0370585692,378042.0370585692,378042.0370585692,378042.0370585692,378042.0370585692,378042.0370585692,378042.0370585692,378042.0370585692,378042.0370585692,378042.0370585692,378042.0370585692,378042.0370585692,378042.0370585692,378042.0370585692,378042.0370585692,378042.0370585692,378042.0370585692,378042.0370585692,378042.0370585692,378042.0370585692,378042.0370585692,378042.0370585692,378042.0370585692,378042.0370585692,378042.0370585692,378042.0370585692,378042.0370585692,378042.0370585692,11341261.111757079]
[null,null,null,7,0,0,0,0,0,0,0,0,0,0,0,0,0,0,0,0,0,0,0,0,0,0,0,0,0,0,0,0,0,0,0,0,0,0,0,0,0]
[null,null,null,8,0,0,0,0,0,0,0,0,0,0,0,0,0,0,0,0,0,0,0,0,0,0,0,0,0,0,0,0,0,0,0,0,0,0,0,0,0]
[null,null,null,9,0,0,0,0,0,0,0,0,0,0,0,0,0,0,0,0,0,0,0,0,0,0,0,0,0,0,0,0,0,0,0,0,0,0,0,0,0]
[null,null,null,10,0,0,0,0,0,0,0,0,0,0,0,0,0,0,0,0,0,0,0,0,0,0,0,0,0,0,0,0,0,0,0,0,0,0,0,0,0]
[null,null,null,11,0,0,0,0,0,0,0,0,0,0,0,0,0,0,0,0,0,0,0,0,0,0,0,0,0,0,0,0,0,0,0,0,0,0,0,0,0]
[null,null,null,12,0,0,0,0,0,0,0,0,0,0,0,0,0,0,0,0,0,0,0,0,0,0,0,0,0,0,0,0,0,0,0,0,0,0,0,0,0]
[null,null,null,13,0,0,0,0,0,0,0,0,0,0,0,0,0,0,0,0,0,0,0,0,0,0,0,0,0,0,0,0,0,0,0,0,0,0,0,0,0]
[null,null,null,14,0,0,0,0,0,0,0,0,0,0,0,0,0,0,0,0,0,0,0,0,0,0,0,0,0,0,0,0,0,0,0,0,0,0,0,0,0]
[null,null,null,15,0,0,0,0,0,0,0,0,0,0,0,0,0,0,0,0,0,0,0,0,0,0,0,0,0,0,0,0,0,0,0,0,0,0,0,0,0]
[null,null,null,16,0,0,0,0,0,0,0,0,0,0,0,0,0,0,0,0,0,{"$f":"IF(OR(V$29<$D197,V$29>$D197+$C$182-1),0,$E197/$C$182)","v":0},0,0,0,0,0,0,0,0,0,0,0,0,0,0,0,{"$f":"IF(OR(AL$29<$D197,AL$29>$D197+$C$182-1),0,$E197/$C$182)","v":0},0,0,0]
[null,null,null,17,0,0,0,0,0,0,0,0,0,0,0,0,0,0,0,0,0,0,0,0,0,0,0,0,0,0,0,0,0,0,0,0,0,0,0,0,0]
[null,null,null,18,0,{"$f":"IF(OR(F$29<$D199,F$29>$D199+$C$182-1),0,$E199/$C$182)","v":0},0,0,0,0,0,0,0,0,0,0,0,0,0,0,0,0,0,0,0,0,0,0,0,0,0,0,0,0,0,0,0,0,0,0,0]
[null,null,null,19,0,0,0,0,0,0,0,0,0,0,0,0,0,0,0,0,0,0,0,0,0,0,0,0,0,0,0,0,0,0,0,0,0,0,0,0,0]
[null,null,null,20,0,0,0,0,0,0,0,0,0,0,0,0,0,0,0,0,0,0,0,0,0,0,0,0,0,0,0,0,0,0,0,0,0,0,0,0,0]
[null,null,null,21,0,0,0,0,0,0,0,0,0,0,0,0,0,0,0,0,0,0,0,0,0,0,0,0,0,0,0,0,0,0,0,0,0,0,0,0,0]
[null,null,null,22,0,0,0,0,0,0,0,0,0,0,0,0,0,0,0,0,0,0,0,0,0,0,0,0,0,0,0,0,0,0,0,0,0,0,0,0,0]
[null,null,null,23,0,0,0,0,0,0,0,0,0,0,0,0,0,0,0,0,0,0,0,0,0,0,0,0,0,0,0,0,0,0,0,0,0,0,0,0,0]
[null,null,null,24,0,0,0,0,0,0,0,0,0,0,0,0,0,0,0,0,0,0,0,0,0,0,0,0,0,0,0,0,0,0,0,0,0,0,0,0,0]
[null,null,null,25,0,0,0,0,0,0,0,0,0,0,0,0,0,0,0,0,0,0,0,0,0,0,0,0,0,0,0,0,0,0,0,0,0,0,0,0,0]
[null,null,null,26,0,0,0,0,0,0,0,0,0,0,0,0,0,0,0,0,0,0,0,0,0,0,0,0,0,0,0,0,0,0,0,0,0,0,0,0,0]
[null,null,null,27,0,0,0,0,0,0,0,0,0,0,0,0,0,0,0,0,0,0,0,0,0,0,0,0,0,0,0,0,0,0,0,0,0,0,0,0,0]
[null,null,null,28,0,0,0,0,0,0,0,0,0,0,0,0,0,0,0,0,0,0,0,0,0,0,0,0,0,0,0,0,0,0,0,0,0,0,0,0,0]
[null,null,null,29,0,0,0,0,0,0,0,0,0,0,0,0,0,0,0,0,0,0,0,0,0,0,0,0,0,0,0,0,0,0,0,0,0,0,0,0,0]
[null,null,null,30,77999162.910938621,0,0,0,0,0,0,0,0,0,0,0,0,0,0,0,0,0,0,0,0,0,0,0,0,0,0,0,0,0,2599972.0970312874,2599972.0970312874,2599972.0970312874,2599972.0970312874,2599972.0970312874,2599972.0970312874,15599832.582187725]
[null,null,null,31,77999162.910938621,0,0,0,0,0,0,0,0,0,0,0,0,0,0,0,0,0,0,0,0,0,0,0,0,0,0,0,0,0,0,2599972.0970312874,2599972.0970312874,2599972.0970312874,2599972.0970312874,2599972.0970312874,12999860.485156437]
[null,null,null,32,77999162.910938621,0,0,0,0,0,0,0,0,0,0,0,0,0,0,0,0,{"$f":"IF(OR(V$29<$D213,V$29>$D213+$C$182-1),0,$E213/$C$182)","v":0},0,0,0,0,0,0,0,0,0,0,0,0,0,0,2599972.0970312874,2599972.0970312874,2599972.0970312874,2599972.0970312874,10399888.38812515]
[null,null,null,33,0,0,0,0,0,0,0,0,0,0,0,0,0,0,0,0,{"$f":"IF(OR(U$29<$D214,U$29>$D214+$C$182-1),0,$E214/$C$182)","v":0},0,0,0,0,0,0,0,0,0,0,0,0,0,0,0,0,0,0,0,0]
[null,null,null,34,0,{"$f":"IF(OR(F$29<$D215,F$29>$D215+$C$182-1),0,$E215/$C$182)","v":0},0,0,0,0,0,0,0,0,0,0,0,0,0,0,0,0,0,0,0,0,0,0,0,0,0,0,0,0,0,0,0,0,0,0,0]
[null,null,null,35,0,0,0,0,0,0,0,0,0,0,0,0,0,0,0,0,0,0,0,0,0,0,0,0,0,0,0,0,0,0,0,0,0,0,0,0,0]
[null,null,null,"Total",{"$f":"SUM(E182:E216)","v":403642655.93453574},{"$f":"SUM(F182:F216)","v":0},{"$f":"SUM(G182:G216)","v":752253.49024593481},{"$f":"SUM(H182:H216)","v":3450200.0656961184},{"$f":"SUM(I182:I216)","v":4720391.8633041698},{"$f":"SUM(J182:J216)","v":5276796.8696654271},{"$f":"SUM(K182:K216)","v":5654838.9067239966},{"$f":"SUM(L182:L216)","v":5654838.9067239966},{"$f":"SUM(M182:M216)","v":5654838.9067239966},{"$f":"SUM(N182:N216)","v":5654838.9067239966},{"$f":"SUM(O182:O216)","v":5654838.9067239966},{"$f":"SUM(P182:P216)","v":5654838.9067239966},{"$f":"SUM(Q182:Q216)","v":5654838.9067239966},{"$f":"SUM(R182:R216)","v":5654838.9067239966},{"$f":"SUM(S182:S216)","v":5654838.9067239966},{"$f":"SUM(T182:T216)","v":5654838.9067239966},{"$f":"SUM(U182:U216)","v":5654838.9067239966},{"$f":"SUM(V182:V216)","v":5654838.9067239966},{"$f":"SUM(W182:W216)","v":5654838.9067239966},{"$f":"SUM(X182:X216)","v":5654838.9067239966},{"$f":"SUM(Y182:Y216)","v":5654838.9067239966},{"$f":"SUM(Z182:Z216)","v":5654838.9067239966},{"$f":"SUM(AA182:AA216)","v":5654838.9067239966},{"$f":"SUM(AB182:AB216)","v":5654838.9067239966},{"$f":"SUM(AC182:AC216)","v":5654838.9067239966},{"$f":"SUM(AD182:AD216)","v":5654838.9067239966},{"$f":"SUM(AE182:AE216)","v":5654838.9067239966},{"$f":"SUM(AF182:AF216)","v":5654838.9067239966},{"$f":"SUM(AG182:AG216)","v":5654838.9067239966},{"$f":"SUM(AH182:AH216)","v":5654838.9067239966},{"$f":"SUM(AI182:AI216)","v":8254811.0037552845},{"$f":"SUM(AJ182:AJ216)","v":10854783.100786572},{"$f":"SUM(AK182:AK216)","v":12702501.707571926},{"$f":"SUM(AL182:AL216)","v":10004555.132121742},{"$f":"SUM(AM182:AM216)","v":8734363.3345136903},{"$f":"SUM(AN182:AN216)","v":8177958.3281524312},{"$f":"SUM(AO182:AO216)","v":208644748.65718913}]
[]
[null,null,"Vida útil = 35 anos","Ano","Adição",1,2,3,4,5,6,7,8,9,10,11,12,13,14,15,16,17,18,19,20,21,22,23,24,25,26,27,28,29,30,31,32,33,34,35,"Total"]
[null,null,35,1,{"$f":"HLOOKUP(D220,$F$4:$AN$25,22,FALSE)","v":8434968.7663200013},{"$f":"IF(OR(F$29<$D220,F$29>$D220+$C$220-1),0,$E220/$C$220)","v":240999.1076091429},{"$f":"IF(OR(G$29<$D220,G$29>$D220+$C$220-1),0,$E220/$C$220)","v":240999.1076091429},240999.1076091429,240999.1076091429,240999.1076091429,240999.1076091429,240999.1076091429,240999.1076091429,240999.1076091429,240999.1076091429,240999.1076091429,240999.1076091429,240999.1076091429,240999.1076091429,240999.1076091429,240999.1076091429,240999.1076091429,{"$f":"IF(OR(W$29<$D220,W$29>$D220+$C$220-1),0,$E220/$C$220)","v":240999.1076091429},240999.1076091429,240999.1076091429,240999.1076091429,240999.1076091429,240999.1076091429,240999.1076091429,240999.1076091429,240999.1076091429,240999.1076091429,240999.1076091429,240999.1076091429,240999.1076091429,240999.1076091429,240999.1076091429,240999.1076091429,{"$f":"IF(OR(AM$29<$D220,AM$29>$D220+$C$220-1),0,$E220/$C$220)","v":240999.1076091429},240999.1076091429,{"$f":"SUM(F220:AN220)","v":8434968.7663199976}]
[null,null,null,2,18897437.772987563,{"$f":"IF(OR(F$29<$D221,F$29>$D221+$C$220-1),0,$E221/$C$220)","v":0},539926.7935139304,539926.7935139304,539926.7935139304,539926.7935139304,539926.7935139304,539926.7935139304,539926.7935139304,539926.7935139304,539926.7935139304,539926.7935139304,539926.7935139304,539926.7935139304,539926.7935139304,539926.7935139304,539926.7935139304,539926.7935139304,539926.7935139304,539926.7935139304,539926.7935139304,539926.7935139304,539926.7935139304,539926.7935139304,539926.7935139304,539926.7935139304,539926.7935139304,539926.7935139304,539926.7935139304,539926.7935139304,539926.7935139304,539926.7935139304,539926.7935139304,539926.7935139304,539926.7935139304,539926.7935139304,{"$f":"SUM(F221:AN221)","v":18357510.97947365}]
[null,null,null,3,46321283.247850627,0,0,1323465.2356528752,1323465.2356528752,1323465.2356528752,1323465.2356528752,1323465.2356528752,1323465.2356528752,1323465.2356528752,1323465.2356528752,1323465.2356528752,1323465.2356528752,1323465.2356528752,1323465.2356528752,1323465.2356528752,1323465.2356528752,1323465.2356528752,1323465.2356528752,1323465.2356528752,1323465.2356528752,1323465.2356528752,1323465.2356528752,1323465.2356528752,1323465.2356528752,1323465.2356528752,1323465.2356528752,1323465.2356528752,1323465.2356528752,1323465.2356528752,1323465.2356528752,1323465.2356528752,1323465.2356528752,1323465.2356528752,1323465.2356528752,1323465.2356528752,43674352.776544899]
[null,null,null,4,34616486.112408988,0,0,0,989042.46035454248,989042.46035454248,989042.46035454248,989042.46035454248,989042.46035454248,989042.46035454248,989042.46035454248,989042.46035454248,989042.46035454248,989042.46035454248,989042.46035454248,989042.46035454248,989042.46035454248,989042.46035454248,989042.46035454248,989042.46035454248,989042.46035454248,989042.46035454248,989042.46035454248,989042.46035454248,989042.46035454248,989042.46035454248,989042.46035454248,989042.46035454248,989042.46035454248,989042.46035454248,989042.46035454248,989042.46035454248,989042.46035454248,989042.46035454248,989042.46035454248,989042.46035454248,31649358.731345385]
[null,null,null,5,33712294.198871627,0,0,0,0,963208.40568204655,963208.40568204655,963208.40568204655,963208.40568204655,963208.40568204655,963208.40568204655,963208.40568204655,963208.40568204655,963208.40568204655,963208.40568204655,963208.40568204655,963208.40568204655,963208.40568204655,963208.40568204655,963208.40568204655,963208.40568204655,963208.40568204655,963208.40568204655,963208.40568204655,963208.40568204655,963208.40568204655,963208.40568204655,963208.40568204655,963208.40568204655,963208.40568204655,963208.40568204655,963208.40568204655,963208.40568204655,963208.40568204655,963208.40568204655,963208.40568204655,29859460.576143432]
[null,null,null,6,23474732.61814642,0,0,0,0,0,670706.64623275481,670706.64623275481,670706.64623275481,670706.64623275481,670706.64623275481,670706.64623275481,670706.64623275481,670706.64623275481,670706.64623275481,670706.64623275481,670706.64623275481,670706.64623275481,670706.64623275481,670706.64623275481,670706.64623275481,670706.64623275481,670706.64623275481,670706.64623275481,670706.64623275481,670706.64623275481,670706.64623275481,670706.64623275481,670706.64623275481,670706.64623275481,670706.64623275481,670706.64623275481,670706.64623275481,670706.64623275481,670706.64623275481,670706.64623275481,20121199.386982631]
[null,null,null,7,15819923.967228897,0,0,0,0,0,0,451997.82763511135,451997.82763511135,451997.82763511135,451997.82763511135,451997.82763511135,451997.82763511135,451997.82763511135,451997.82763511135,451997.82763511135,451997.82763511135,451997.82763511135,451997.82763511135,451997.82763511135,451997.82763511135,451997.82763511135,451997.82763511135,451997.82763511135,451997.82763511135,451997.82763511135,451997.82763511135,451997.82763511135,451997.82763511135,451997.82763511135,451997.82763511135,451997.82763511135,451997.82763511135,451997.82763511135,451997.82763511135,451997.82763511135,13107937.001418229]
[null,null,null,8,0,0,0,0,0,0,0,0,0,0,0,0,0,0,0,0,0,0,0,0,0,0,0,0,0,0,0,0,0,0,0,0,0,0,0,0,0]
[null,null,null,9,0,0,0,0,0,0,0,0,0,0,0,0,0,0,0,0,0,0,0,0,0,0,0,0,0,0,0,0,0,0,0,0,0,0,0,0,0]
[null,null,null,10,0,0,0,0,0,0,0,0,0,0,0,0,0,0,0,0,0,0,0,0,0,0,0,0,0,0,0,0,0,0,0,0,0,0,0,0,0]
[null,null,null,11,0,0,0,0,0,0,0,0,0,0,0,0,0,0,0,0,0,0,0,0,0,0,0,0,0,0,0,0,0,0,0,0,0,0,0,0,0]
[null,null,null,12,0,0,0,0,0,0,0,0,0,0,0,0,0,0,0,0,0,0,0,0,0,0,0,0,0,0,0,0,0,0,0,0,0,0,0,0,0]
[null,null,null,13,0,0,0,0,0,0,0,0,0,0,0,0,0,0,0,0,0,0,0,0,0,0,0,0,0,0,0,0,0,0,0,0,0,0,0,0,0]
[null,null,null,14,0,0,0,0,0,0,0,0,0,0,0,0,0,0,0,0,0,0,0,0,0,0,0,0,0,0,0,0,0,0,0,0,0,0,0,0,0]
[null,null,null,15,0,0,0,0,0,0,0,0,0,0,0,0,0,0,0,0,0,0,0,0,0,0,0,0,0,0,0,0,0,0,0,0,0,0,0,0,0]
[null,null,null,16,0,0,0,0,0,0,0,0,0,0,0,0,0,0,0,0,0,{"$f":"IF(OR(V$29<$D235,V$29>$D235+$C$220-1),0,$E235/$C$220)","v":0},0,0,0,0,0,0,0,0,0,0,0,0,0,0,0,{"$f":"IF(OR(AL$29<$D235,AL$29>$D235+$C$220-1),0,$E235/$C$220)","v":0},0,0,0]
[null,null,null,17,0,0,0,0,0,0,0,0,0,0,0,0,0,0,0,0,0,0,0,0,0,0,0,0,0,0,0,0,0,0,0,0,0,0,0,0,0]
[null,null,null,18,0,{"$f":"IF(OR(F$29<$D237,F$29>$D237+$C$220-1),0,$E237/$C$220)","v":0},0,0,0,0,0,0,0,0,0,0,0,0,0,0,0,0,0,0,0,0,0,0,0,0,0,0,0,0,0,0,0,0,0,0,0]
[null,null,null,19,0,0,0,0,0,0,0,0,0,0,0,0,0,0,0,0,0,0,0,0,0,0,0,0,0,0,0,0,0,0,0,0,0,0,0,0,0]
[null,null,null,20,0,0,0,0,0,0,0,0,0,0,0,0,0,0,0,0,0,0,0,0,0,0,0,0,0,0,0,0,0,0,0,0,0,0,0,0,0]
[null,null,null,21,0,0,0,0,0,0,0,0,0,0,0,0,0,0,0,0,0,0,0,0,0,0,0,0,0,0,0,0,0,0,0,0,0,0,0,0,0]
[null,null,null,22,0,0,0,0,0,0,0,0,0,0,0,0,0,0,0,0,0,0,0,0,0,0,0,0,0,0,0,0,0,0,0,0,0,0,0,0,0]
[null,null,null,23,0,0,0,0,0,0,0,0,0,0,0,0,0,0,0,0,0,0,0,0,0,0,0,0,0,0,0,0,0,0,0,0,0,0,0,0,0]
[null,null,null,24,0,0,0,0,0,0,0,0,0,0,0,0,0,0,0,0,0,0,0,0,0,0,0,0,0,0,0,0,0,0,0,0,0,0,0,0,0]
[null,null,null,25,0,0,0,0,0,0,0,0,0,0,0,0,0,0,0,0,0,0,0,0,0,0,0,0,0,0,0,0,0,0,0,0,0,0,0,0,0]
[null,null,null,26,0,0,0,0,0,0,0,0,0,0,0,0,0,0,0,0,0,0,0,0,0,0,0,0,0,0,0,0,0,0,0,0,0,0,0,0,0]
[null,null,null,27,0,0,0,0,0,0,0,0,0,0,0,0,0,0,0,0,0,0,0,0,0,0,0,0,0,0,0,0,0,0,0,0,0,0,0,0,0]
[null,null,null,28,0,0,0,0,0,0,0,0,0,0,0,0,0,0,0,0,0,0,0,0,0,0,0,0,0,0,0,0,0,0,0,0,0,0,0,0,0]
[null,null,null,29,0,0,0,0,0,0,0,0,0,0,0,0,0,0,0,0,0,0,0,0,0,0,0,0,0,0,0,0,0,0,0,0,0,0,0,0,0]
[null,null,null,30,0,0,0,0,0,0,0,0,0,0,0,0,0,0,0,0,0,0,0,0,0,0,0,0,0,0,0,0,0,0,0,0,0,0,0,0,0]
[null,null,null,31,0,0,0,0,0,0,0,0,0,0,0,0,0,0,0,0,0,0,0,0,0,0,0,0,0,0,0,0,0,0,0,0,0,0,0,0,0]
[null,null,null,32,0,0,0,0,0,0,0,0,0,0,0,0,0,0,0,0,0,{"$f":"IF(OR(V$29<$D251,V$29>$D251+$C$220-1),0,$E251/$C$220)","v":0},0,0,0,0,0,0,0,0,0,0,0,0,0,0,0,0,0,0,0]
[null,null,null,33,0,0,0,0,0,0,0,0,0,0,0,0,0,0,0,0,{"$f":"IF(OR(U$29<$D252,U$29>$D252+$C$220-1),0,$E252/$C$220)","v":0},0,0,0,0,0,0,0,0,0,0,0,0,0,0,0,0,0,0,0,0]
[null,null,null,34,0,{"$f":"IF(OR(F$29<$D253,F$29>$D253+$C$220-1),0,$E253/$C$220)","v":0},0,0,0,0,0,0,0,0,0,0,0,0,0,0,0,0,0,0,0,0,0,0,0,0,0,0,0,0,0,0,0,0,0,0,0]
[null,null,null,35,0,0,0,0,0,0,0,0,0,0,0,0,0,0,0,0,0,0,0,0,0,0,0,0,0,0,0,0,0,0,0,0,0,0,0,0,0]
[null,null,null,"Total",{"$f":"SUM(E220:E254)","v":181277126.68381411},{"$f":"SUM(F220:F254)","v":240999.1076091429},{"$f":"SUM(G220:G254)","v":780925.9011230733},{"$f":"SUM(H220:H254)","v":2104391.1367759486},{"$f":"SUM(I220:I254)","v":3093433.5971304909},{"$f":"SUM(J220:J254)","v":4056642.0028125374},{"$f":"SUM(K220:K254)","v":4727348.6490452923},{"$f":"SUM(L220:L254)","v":5179346.4766804036},{"$f":"SUM(M220:M254)","v":5179346.4766804036},{"$f":"SUM(N220:N254)","v":5179346.4766804036},{"$f":"SUM(O220:O254)","v":5179346.4766804036},{"$f":"SUM(P220:P254)","v":5179346.4766804036},{"$f":"SUM(Q220:Q254)","v":5179346.4766804036},{"$f":"SUM(R220:R254)","v":5179346.4766804036},{"$f":"SUM(S220:S254)","v":5179346.4766804036},{"$f":"SUM(T220:T254)","v":5179346.4766804036},{"$f":"SUM(U220:U254)","v":5179346.4766804036},{"$f":"SUM(V220:V254)","v":5179346.4766804036},{"$f":"SUM(W220:W254)","v":5179346.4766804036},{"$f":"SUM(X220:X254)","v":5179346.4766804036},{"$f":"SUM(Y220:Y254)","v":5179346.4766804036},{"$f":"SUM(Z220:Z254)","v":5179346.4766804036},{"$f":"SUM(AA220:AA254)","v":5179346.4766804036},{"$f":"SUM(AB220:AB254)","v":5179346.4766804036},{"$f":"SUM(AC220:AC254)","v":5179346.4766804036},{"$f":"SUM(AD220:AD254)","v":5179346.4766804036},{"$f":"SUM(AE220:AE254)","v":5179346.4766804036},{"$f":"SUM(AF220:AF254)","v":5179346.4766804036},{"$f":"SUM(AG220:AG254)","v":5179346.4766804036},{"$f":"SUM(AH220:AH254)","v":5179346.4766804036},{"$f":"SUM(AI220:AI254)","v":5179346.4766804036},{"$f":"SUM(AJ220:AJ254)","v":5179346.4766804036},{"$f":"SUM(AK220:AK254)","v":5179346.4766804036},{"$f":"SUM(AL220:AL254)","v":5179346.4766804036},{"$f":"SUM(AM220:AM254)","v":5179346.4766804036},{"$f":"SUM(AN220:AN254)","v":5179346.4766804036},{"$f":"SUM(AO220:AO254)","v":165204788.21822822}]

{"sheet":"Financiamento >>>>","index":17,"n_rows":0,"n_cols":0,"rows_kept":0,"cut":false,"hidden":false,"merged":[]}

{"sheet":"Financiamento","index":18,"n_rows":128,"n_cols":39,"rows_kept":128,"cut":false,"hidden":false,"merged":[]}
[]
[null,"FINANCIAMENTO",null,null,{"$f":"SUM(E22:AM22)","v":-698711.57583557349}]
[]
[]
[null,null,"Total",null,1,2,3,4,5,6,7,8,9,10,11,12,13,14,15,16,17,18,19,20,21,22,23,24,25,26,27,28,29,30,31,32,33,34,35]
[null,"Investimento",{"$f":"SUM(E6:AM6)","v":1194643.5345709259},null,{"$f":"CAPEX!F70/1000","v":8434.968766320002},{"$f":"CAPEX!G70/1000","v":76586.725526887472},{"$f":"CAPEX!H70/1000","v":224746.77473719398},{"$f":"CAPEX!I70/1000","v":198530.3344936691},{"$f":"CAPEX!J70/1000","v":119437.04160506802},{"$f":"CAPEX!K70/1000","v":91628.998653982344},{"$f":"CAPEX!L70/1000","v":36778.709545095429},{"$f":"CAPEX!M70/1000","v":13814.074912558497},null,null,null,null,null,null,{"$f":"IF('Painel de Controle'!$J$17=\"Sim\",CAPEX!T70/1000,0)","v":51007.202373175569},{"$f":"IF('Painel de Controle'!$J$17=\"Sim\",CAPEX!U70/1000,0)","v":51007.202373175569},{"$f":"IF('Painel de Controle'!$J$17=\"Sim\",CAPEX!V70/1000,0)","v":65175.869699057672},null,null,{"$f":"IF('Painel de Controle'!$J$17=\"Sim\",CAPEX!Y70/1000,0)","v":81108.988186286733},{"$f":"IF('Painel de Controle'!$J$17=\"Sim\",CAPEX!Z70/1000,0)","v":81108.988186286733},{"$f":"IF('Painel de Controle'!$J$17=\"Sim\",CAPEX!AA70/1000,0)","v":95277.655512168843}]
[null,"Outorga",{"$f":"SUM(E7:AM7)","v":321375.31065747625},null,{"$f":"IF('Painel de Controle'!$J$16=\"Sim\",-'FC Projeto'!D32,0)","v":39649.479095961171},{"$f":"IF('Painel de Controle'!$J$16=\"Sim\",-'FC Projeto'!E32,0)","v":0},{"$f":"IF('Painel de Controle'!$J$16=\"Sim\",-'FC Projeto'!F32,0)","v":0},{"$f":"IF('Painel de Controle'!$J$16=\"Sim\",-'FC Projeto'!G32,0)","v":0},{"$f":"IF('Painel de Controle'!$J$16=\"Sim\",-'FC Projeto'!H32,0)","v":84537.503377573725},{"$f":"IF('Painel de Controle'!$J$16=\"Sim\",-'FC Projeto'!I32,0)","v":4962.6842223307203},{"$f":"IF('Painel de Controle'!$J$16=\"Sim\",-'FC Projeto'!J32,0)","v":5418.7212413718917},{"$f":"IF('Painel de Controle'!$J$16=\"Sim\",-'FC Projeto'!K32,0)","v":5916.6649692461888},{"$f":"IF('Painel de Controle'!$J$16=\"Sim\",-'FC Projeto'!L32,0)","v":180890.25775099255},{"$f":"IF('Painel de Controle'!$J$16=\"Sim\",-'FC Projeto'!M32,0)","v":0},{"$f":"IF('Painel de Controle'!$J$16=\"Sim\",-'FC Projeto'!N32,0)","v":0},{"$f":"IF('Painel de Controle'!$J$16=\"Sim\",-'FC Projeto'!O32,0)","v":0},{"$f":"IF('Painel de Controle'!$J$16=\"Sim\",-'FC Projeto'!P32,0)","v":0},{"$f":"IF('Painel de Controle'!$J$16=\"Sim\",-'FC Projeto'!Q32,0)","v":0},{"$f":"IF('Painel de Controle'!$J$16=\"Sim\",-'FC Projeto'!R32,0)","v":0},{"$f":"IF('Painel de Controle'!$J$16=\"Sim\",-'FC Projeto'!S32,0)","v":0},{"$f":"IF('Painel de Controle'!$J$16=\"Sim\",-'FC Projeto'!T32,0)","v":0},{"$f":"IF('Painel de Controle'!$J$16=\"Sim\",-'FC Projeto'!U32,0)","v":0},{"$f":"IF('Painel de Controle'!$J$16=\"Sim\",-'FC Projeto'!V32,0)","v":0},{"$f":"IF('Painel de Controle'!$J$16=\"Sim\",-'FC Projeto'!W32,0)","v":0},{"$f":"IF('Painel de Controle'!$J$16=\"Sim\",-'FC Projeto'!X32,0)","v":0},{"$f":"IF('Painel de Controle'!$J$16=\"Sim\",-'FC Projeto'!Y32,0)","v":0},{"$f":"IF('Painel de Controle'!$J$16=\"Sim\",-'FC Projeto'!Z32,0)","v":0},{"$f":"IF('Painel de Controle'!$J$16=\"Sim\",-'FC Projeto'!AA32,0)","v":0},{"$f":"IF('Painel de Controle'!$J$16=\"Sim\",-'FC Projeto'!AB32,0)","v":0},{"$f":"IF('Painel de Controle'!$J$16=\"Sim\",-'FC Projeto'!AC32,0)","v":0},{"$f":"IF('Painel de Controle'!$J$16=\"Sim\",-'FC Projeto'!AD32,0)","v":0},{"$f":"IF('Painel de Controle'!$J$16=\"Sim\",-'FC Projeto'!AE32,0)","v":0},{"$f":"IF('Painel de Controle'!$J$16=\"Sim\",-'FC Projeto'!AF32,0)","v":0},{"$f":"IF('Painel de Controle'!$J$16=\"Sim\",-'FC Projeto'!AG32,0)","v":0},{"$f":"IF('Painel de Controle'!$J$16=\"Sim\",-'FC Projeto'!AH32,0)","v":0},{"$f":"IF('Painel de Controle'!$J$16=\"Sim\",-'FC Projeto'!AI32,0)","v":0},{"$f":"IF('Painel de Controle'!$J$16=\"Sim\",-'FC Projeto'!AJ32,0)","v":0},{"$f":"IF('Painel de Controle'!$J$16=\"Sim\",-'FC Projeto'!AK32,0)","v":0},{"$f":"IF('Painel de Controle'!$J$16=\"Sim\",-'FC Projeto'!AL32,0)","v":0}]
[null,"Base do Financiamento",{"$f":"SUM(E8:AM8)","v":1335128.5874774097},null,{"$f":"E6+IF('Painel de Controle'!$J$16=\"Sim\",E7,0)","v":48084.447862281173},{"$f":"F6+IF('Painel de Controle'!$J$16=\"Sim\",F7,0)","v":76586.725526887472},{"$f":"G6+IF('Painel de Controle'!$J$16=\"Sim\",G7,0)","v":224746.77473719398},{"$f":"H6+IF('Painel de Controle'!$J$16=\"Sim\",H7,0)","v":198530.3344936691},{"$f":"I6+IF('Painel de Controle'!$J$16=\"Sim\",I7,0)","v":203974.54498264176},{"$f":"J6+IF('Painel de Controle'!$J$16=\"Sim\",J7,0)","v":96591.682876313062},{"$f":"K6+IF('Painel de Controle'!$J$16=\"Sim\",K7,0)","v":42197.430786467317},{"$f":"L6+IF('Painel de Controle'!$J$16=\"Sim\",L7,0)","v":19730.739881804686},null,null,null,null,null,null,{"$f":"IF('Painel de Controle'!$J$17=\"Sim\",S6,0)+IF('Painel de Controle'!X15=\"Sim\",S7,0)","v":51007.202373175569},{"$f":"IF('Painel de Controle'!$J$17=\"Sim\",T6,0)+IF('Painel de Controle'!Y15=\"Sim\",T7,0)","v":51007.202373175569},{"$f":"IF('Painel de Controle'!$J$17=\"Sim\",U6,0)+IF('Painel de Controle'!Z15=\"Sim\",U7,0)","v":65175.869699057672},null,null,{"$f":"IF('Painel de Controle'!$J$17=\"Sim\",X6,0)+IF('Painel de Controle'!AC15=\"Sim\",X7,0)","v":81108.988186286733},{"$f":"IF('Painel de Controle'!$J$17=\"Sim\",Y6,0)+IF('Painel de Controle'!AD15=\"Sim\",Y7,0)","v":81108.988186286733},{"$f":"IF('Painel de Controle'!$J$17=\"Sim\",Z6,0)+IF('Painel de Controle'!AE15=\"Sim\",Z7,0)","v":95277.655512168843}]
[]
[null,"Alavancagem CapEx",{"$f":"'Painel de Controle'!J11","v":0.6},null,{"$f":"$C10","v":0.6},{"$f":"$C10","v":0.6},0.6,0.6,0.6,0.6,0.6,0.6,0.6,null,null,null,null,null,{"$f":"$C10","v":0.6},{"$f":"$C10","v":0.6},0.6,null,null,{"$f":"$C10","v":0.6},0.6,0.6]
[null,"Alavancagem Outorga",{"$f":"'Painel de Controle'!J12","v":0.7},null,{"$f":"$C11","v":0.7},0.7,0.7,0.7,0.7,0.7,0.7,0.7,0.7]
[null,"Juros",{"$f":"'Painel de Controle'!J13","v":6.7983171428571409E-2},null,{"$f":"$C12","v":6.7983171428571409E-2},6.7983171428571409E-2,6.7983171428571409E-2,6.7983171428571409E-2,6.7983171428571409E-2,6.7983171428571409E-2,6.7983171428571409E-2,6.7983171428571409E-2,6.7983171428571409E-2,null,null,null,null,null,{"$f":"$C12","v":6.7983171428571409E-2},6.7983171428571409E-2,6.7983171428571409E-2,null,null,6.7983171428571409E-2,6.7983171428571409E-2,6.7983171428571409E-2]
[null,"Prazo",{"$f":"'Painel de Controle'!J14","v":20},null,{"$f":"$C13","v":20},20,20,20,20,20,20,20,20,null,null,null,null,null,15,{"$f":"S13","v":15},15,null,null,10,10,10,""]
[null,"Carência",{"$f":"'Painel de Controle'!J15","v":3},null,{"$f":"$C14","v":3},3,3,3,3,3,3,3,3,null,null,null,null,null,3,3,3,null,null,3,3,3]
[null,"Início Amortização",null,null,{"$f":"E14+E5","v":4},{"$f":"F14+F5","v":5},6,7,8,9,10,{"$f":"L14+L5","v":11},12,null,null,null,null,null,{"$f":"S14+S5","v":18},19,20,null,null,{"$f":"X14+X5","v":23},24,25]
[null,"Término Amortização",null,null,{"$f":"E13+E5-1","v":20},{"$f":"F13+F5-1","v":21},22,23,24,25,26,{"$f":"L13+L5-1","v":27},28,null,null,null,null,null,{"$f":"S13+S5-1","v":29},30,31,null,null,{"$f":"X13+X5-1","v":29},30,31]
[]
[null,"Financiamento Consolidado"]
[null,"Saldo Devedor",null,null,{"$f":"E26+E33+E40+E47+E54+E61+E68+E75+E82+E89+E96+E103+E110+E117+E124","v":0},{"$f":"F26+F33+F40+F47+F54+F61+F68+F75+F82+F89+F96+F103+F110+F117+F124","v":32815.616626964817},78767.651943097298,213615.71678541368,330803.58709179366,457008.67312836566,502894.32087724464,509182.06809199066,494343.21411747125,590259.11966334376,558030.64886610862,525070.99510263791,484662.91896118503,444254.84281973226,403846.76667827938,394043.01196073188,384239.25724318437,382936.70292116608,339978.26666105451,294469.47028228419,294367.27333033294,296195.40676820313,309227.80150255159,266073.64305057429,222974.23859333049,179404.55896858481,139273.18982313445,100663.01659509689,62784.026333295064,32353.458449475278,11425.449671710276,6.5710992203094065E-11,6.5710992203094065E-11,6.5710992203094065E-11,6.5710992203094065E-11]
[null,"Liberações",null,null,{"$f":"E27+E34+E41+E48+E55+E62+E69+E76+E83+E90+E97+E104+E111+E118+E125","v":32815.616626964817},{"$f":"F27+F34+F41+F48+F55+F62+F69+F76+F83+F90+F97+F104+F111+F118+F125","v":45952.035316132482},134848.06484231638,119118.20069620146,130838.47732734241,58451.278148020909,25860.330596017579,12430.11042600743,126623.18042569478,0,0,0,0,0,30604.321423905341,30604.321423905341,39105.521819434602,0,0,48665.39291177204,48665.39291177204,57166.593307301308,0,0,0,0,0,0,0,0,0,0,0,0,0]
[null,"Juros Contabilizados",null,null,{"$f":"E28+E35+E42+E49+E56+E63+E70+E77+E84+E91+E98+E105+E112+E119+E126","v":2230.9096906852274},{"$f":"F28+F35+F42+F49+F56+F63+F70+F77+F84+F91+F98+F105+F112+F119+F126","v":5354.874785073629},14522.273894059937,22620.306952252773,31383.891604045737,35042.602232185651,35946.418114761305,35460.850151419654,42215.264851609965,40127.686919350745,37936.693264261608,35695.991472233211,32948.922304810054,30201.853137386901,29535.362799780207,28868.872462173509,28780.320688404721,26033.251520981565,23112.800784407038,23327.396227640922,23320.44855473694,24022.669427475881,21022.286640028218,18088.530088131713,15158.495886445569,12196.49088742855,9468.2331391501157,6843.3911137016003,4268.2572251923393,2199.4907120778398,776.73830368039455,4.467241647684463E-12,4.467241647684463E-12,4.467241647684463E-12,4.467241647684463E-12]
[null,"Juros Pagos",null,null,{"$f":"E29+E36+E43+E50+E57+E64+E71+E78+E85+E92+E99+E106+E113+E120+E127","v":-2230.9096906852274},{"$f":"F29+F36+F43+F50+F57+F64+F71+F78+F85+F92+F99+F106+F113+F120+F127","v":-5354.874785073629},-14522.273894059937,-22620.306952252773,-31383.891604045737,-35042.602232185651,-35946.418114761305,-35460.850151419654,-42215.264851609965,-40127.686919350745,-37936.693264261608,-35695.991472233211,-32948.922304810054,-30201.853137386901,-29535.362799780207,-28868.872462173509,-28780.320688404721,-26033.251520981565,-23112.800784407038,-23327.396227640922,-23320.44855473694,-24022.669427475881,-21022.286640028218,-18088.530088131713,-15158.495886445569,-12196.49088742855,-9468.2331391501157,-6843.3911137016003,-4268.2572251923393,-2199.4907120778398,-776.73830368039455,-4.467241647684463E-12,-4.467241647684463E-12,-4.467241647684463E-12,-4.467241647684463E-12]
[null,"Amortização",null,null,{"$f":"E30+E37+E44+E51+E58+E65+E72+E79+E86+E93+E100+E107+E114+E121+E128","v":0},0,0,-1930.3303898214599,-4633.3912907704289,-12565.630399141981,-19572.583381271477,-27268.964400526915,-30707.274879822264,-32228.470797235062,-32959.653763470793,-40408.076141452839,-40408.076141452839,-40408.076141452839,-40408.076141452839,-40408.076141452839,-40408.076141452839,-42958.436260111615,-45508.796378770392,-48767.589863723275,-46837.259473901817,-44134.198572952846,-43154.158451977302,-43099.404457243807,-43569.67962474571,-40131.369145450357,-38610.173228037558,-37878.990261801824,-30430.567883819778,-20928.008777764997,-11425.449671710214,0,0,0,0]
[]
[null,"Tranche 1"]
[null,"Saldo Devedor",null,null,0,{"$f":"SUM(E26:E30)","v":32815.616626964817},{"$f":"SUM(F26:F30)","v":32815.616626964817},32815.616626964817,30885.286237143358,28954.9558473219,27024.625457500442,25094.295067678984,23163.964677857526,21233.634288036068,19303.30389821461,17372.973508393152,15442.643118571692,13512.312728750232,11581.982338928772,9651.6519491073122,7721.3215592858523,5790.9911694643924,3860.6607796429325,1930.3303898214726,1.2732925824820995E-11,1.2732925824820995E-11,1.2732925824820995E-11,{"$f":"SUM(AA26:AA30)","v":1.2732925824820995E-11},1.2732925824820995E-11,1.2732925824820995E-11,1.2732925824820995E-11,1.2732925824820995E-11,1.2732925824820995E-11,1.2732925824820995E-11,1.2732925824820995E-11,1.2732925824820995E-11,1.2732925824820995E-11,1.2732925824820995E-11,1.2732925824820995E-11]
[null,"Liberações",null,null,{"$f":"E$10*E$6+E$7*E$11","v":32815.616626964817}]
[null,"Juros Contabilizados",null,null,{"$f":"SUM(E26:E27)*$E$12","v":2230.9096906852274},{"$f":"SUM(F26:F27)*$E$12","v":2230.9096906852274},{"$f":"SUM(G26:G27)*$E$12","v":2230.9096906852274},{"$f":"SUM(H26:H27)*$E$12","v":2230.9096906852274},2099.6797088802141,1968.4497270752008,1837.2197452701876,1705.9897634651743,1574.759781660161,1443.5297998551478,1312.2998180501345,1181.0698362451212,1049.839854440108,918.60987263509458,787.37989083008119,656.14990902506781,524.91992722005443,393.689945415041,262.45996361002761,131.22998180501426,8.6562467913608974E-13,8.6562467913608974E-13,8.6562467913608974E-13,{"$f":"SUM(AB26:AB27)*$E$12","v":8.6562467913608974E-13},8.6562467913608974E-13,8.6562467913608974E-13,8.6562467913608974E-13,8.6562467913608974E-13,8.6562467913608974E-13,8.6562467913608974E-13,8.6562467913608974E-13,8.6562467913608974E-13,8.6562467913608974E-13,8.6562467913608974E-13,8.6562467913608974E-13]
[null,"Juros Pagos",null,null,{"$f":"-E28","v":-2230.9096906852274},{"$f":"-F28","v":-2230.9096906852274},{"$f":"-G28","v":-2230.9096906852274},{"$f":"-H28","v":-2230.9096906852274},-2099.6797088802141,-1968.4497270752008,-1837.2197452701876,-1705.9897634651743,-1574.759781660161,-1443.5297998551478,-1312.2998180501345,-1181.0698362451212,-1049.839854440108,-918.60987263509458,-787.37989083008119,-656.14990902506781,-524.91992722005443,-393.689945415041,-262.45996361002761,-131.22998180501426,-8.6562467913608974E-13,-8.6562467913608974E-13,-8.6562467913608974E-13,-8.6562467913608974E-13,-8.6562467913608974E-13,-8.6562467913608974E-13,-8.6562467913608974E-13,-8.6562467913608974E-13,-8.6562467913608974E-13,-8.6562467913608974E-13,-8.6562467913608974E-13,-8.6562467913608974E-13,-8.6562467913608974E-13,-8.6562467913608974E-13,-8.6562467913608974E-13]
[null,"Amortização",null,null,{"$f":"IF(OR(E$5<$E$15,E$5>$E$16),0,-($E$27)/($E$13-$E$14))","v":0},{"$f":"IF(OR(F$5<$E$15,F$5>$E$16),0,-($E$27)/($E$13-$E$14))","v":0},0,-1930.3303898214599,-1930.3303898214599,-1930.3303898214599,-1930.3303898214599,-1930.3303898214599,-1930.3303898214599,-1930.3303898214599,-1930.3303898214599,-1930.3303898214599,-1930.3303898214599,-1930.3303898214599,-1930.3303898214599,-1930.3303898214599,-1930.3303898214599,-1930.3303898214599,-1930.3303898214599,-1930.3303898214599,0,0,0,0,0,0,0,0,0,0,0,0,0,0,0]
[]
[null,"Tranche 2"]
[null,"Saldo Devedor",null,null,0,{"$f":"SUM(E33:E37)","v":0},{"$f":"SUM(F33:F37)","v":45952.035316132482},45952.035316132482,45952.035316132482,43248.974415183511,40545.91351423454,37842.85261328557,35139.791712336599,32436.730811387628,29733.669910438653,27030.609009489683,24327.548108540712,21624.487207591741,18921.42630664277,16218.365405693801,13515.304504744834,10812.243603795865,8109.1827028468961,5406.1218018979271,2703.0609009489576,-1.1823431123048067E-11,-1.1823431123048067E-11,-1.1823431123048067E-11,-1.1823431123048067E-11,-1.1823431123048067E-11,-1.1823431123048067E-11,-1.1823431123048067E-11,-1.1823431123048067E-11,-1.1823431123048067E-11,-1.1823431123048067E-11,-1.1823431123048067E-11,-1.1823431123048067E-11,-1.1823431123048067E-11,-1.1823431123048067E-11]
[null,"Liberações",null,null,0,{"$f":"F$10*F$6+F$7*F$11","v":45952.035316132482}]
[null,"Juros Contabilizados",null,null,{"$f":"SUM(E33:E34)*$F$12","v":0},{"$f":"SUM(F33:F34)*$F$12","v":3123.9650943884021},{"$f":"SUM(G33:G34)*$F$12","v":3123.9650943884021},3123.9650943884021,{"$f":"SUM(I33:I34)*$F$12","v":3123.9650943884021},2940.2024417773196,2756.439789166237,2572.6771365551544,2388.9144839440719,2205.1518313329893,2021.3891787219065,1837.626526110824,1653.8638734997414,1470.1012208886589,1286.3385682775763,1102.5759156664938,918.81326305541143,735.05061044432898,551.28795783324654,367.52530522216415,183.76265261108168,-8.0379434491208338E-13,-8.0379434491208338E-13,-8.0379434491208338E-13,-8.0379434491208338E-13,-8.0379434491208338E-13,-8.0379434491208338E-13,-8.0379434491208338E-13,-8.0379434491208338E-13,-8.0379434491208338E-13,-8.0379434491208338E-13,-8.0379434491208338E-13,-8.0379434491208338E-13,-8.0379434491208338E-13,-8.0379434491208338E-13]
[null,"Juros Pagos",null,null,{"$f":"-E35","v":0},{"$f":"-F35","v":-3123.9650943884021},{"$f":"-G35","v":-3123.9650943884021},{"$f":"-H35","v":-3123.9650943884021},-3123.9650943884021,-2940.2024417773196,-2756.439789166237,-2572.6771365551544,-2388.9144839440719,-2205.1518313329893,-2021.3891787219065,-1837.626526110824,-1653.8638734997414,-1470.1012208886589,-1286.3385682775763,-1102.5759156664938,-918.81326305541143,-735.05061044432898,-551.28795783324654,-367.52530522216415,-183.76265261108168,8.0379434491208338E-13,8.0379434491208338E-13,8.0379434491208338E-13,8.0379434491208338E-13,8.0379434491208338E-13,8.0379434491208338E-13,8.0379434491208338E-13,8.0379434491208338E-13,8.0379434491208338E-13,8.0379434491208338E-13,8.0379434491208338E-13,8.0379434491208338E-13,8.0379434491208338E-13,8.0379434491208338E-13]
[null,"Amortização",null,null,{"$f":"IF(OR(E$5<$F$15,E$5>$F$16),0,-($F$34)/($F$13-$F$14))","v":0},{"$f":"IF(OR(F$5<$F$15,F$5>$F$16),0,-($F$34)/($F$13-$F$14))","v":0},{"$f":"IF(OR(G$5<$F$15,G$5>$F$16),0,-($F$34)/($F$13-$F$14))","v":0},0,-2703.0609009489694,-2703.0609009489694,-2703.0609009489694,-2703.0609009489694,-2703.0609009489694,-2703.0609009489694,-2703.0609009489694,-2703.0609009489694,-2703.0609009489694,-2703.0609009489694,-2703.0609009489694,-2703.0609009489694,-2703.0609009489694,-2703.0609009489694,-2703.0609009489694,-2703.0609009489694,-2703.0609009489694,0,0,0,0,0,0,0,0,0,0,0,0,0,0]
[]
[null,"Tranche 3"]
[null,"Saldo Devedor",null,null,0,{"$f":"SUM(E40:E44)","v":0},{"$f":"SUM(F40:F44)","v":0},134848.06484231638,134848.06484231638,134848.06484231638,126915.82573394483,118983.58662557328,111051.34751720174,103119.10840883019,95186.869300458638,87254.63019208709,79322.391083715542,71390.151975343993,63457.912866972445,55525.673758600897,47593.434650229348,39661.1955418578,31728.956433486248,23796.717325114696,15864.478216743144,7932.239108371592,4.0927261579781771E-11,4.0927261579781771E-11,4.0927261579781771E-11,4.0927261579781771E-11,4.0927261579781771E-11,4.0927261579781771E-11,4.0927261579781771E-11,4.0927261579781771E-11,4.0927261579781771E-11,4.0927261579781771E-11,4.0927261579781771E-11,4.0927261579781771E-11,4.0927261579781771E-11]
[null,"Liberações",null,null,0,0,{"$f":"G$10*G$6+G$7*G$11","v":134848.06484231638}]
[null,"Juros Contabilizados",null,null,{"$f":"SUM(E40:E41)*$G$12","v":0},0,{"$f":"SUM(G40:G41)*$G$12","v":9167.3991089863084},{"$f":"SUM(H40:H41)*$G$12","v":9167.3991089863084},9167.3991089863084,9167.3991089863084,8628.1403378694667,8088.8815667526251,7549.6227956357834,7010.3640245189417,6471.105253402101,5931.8464822852593,5392.5877111684176,4853.3289400515769,4314.0701689347352,3774.8113978178935,3235.5526267010523,2696.2938555842111,2157.0350844673694,1617.7763133505277,1078.5175422336861,539.2587711168444,2.7823650400802885E-12,2.7823650400802885E-12,2.7823650400802885E-12,2.7823650400802885E-12,2.7823650400802885E-12,2.7823650400802885E-12,2.7823650400802885E-12,2.7823650400802885E-12,2.7823650400802885E-12,2.7823650400802885E-12,2.7823650400802885E-12,2.7823650400802885E-12,2.7823650400802885E-12]
[null,"Juros Pagos",null,null,{"$f":"-E42","v":0},{"$f":"-F42","v":0},{"$f":"-G42","v":-9167.3991089863084},{"$f":"-H42","v":-9167.3991089863084},-9167.3991089863084,-9167.3991089863084,-8628.1403378694667,-8088.8815667526251,-7549.6227956357834,-7010.3640245189417,-6471.105253402101,-5931.8464822852593,-5392.5877111684176,-4853.3289400515769,-4314.0701689347352,-3774.8113978178935,-3235.5526267010523,-2696.2938555842111,-2157.0350844673694,-1617.7763133505277,-1078.5175422336861,-539.2587711168444,-2.7823650400802885E-12,-2.7823650400802885E-12,-2.7823650400802885E-12,-2.7823650400802885E-12,-2.7823650400802885E-12,-2.7823650400802885E-12,-2.7823650400802885E-12,-2.7823650400802885E-12,-2.7823650400802885E-12,-2.7823650400802885E-12,-2.7823650400802885E-12,-2.7823650400802885E-12,-2.7823650400802885E-12]
[null,"Amortização",null,null,{"$f":"IF(OR(E$5<$G$15,E$5>$G$16),0,-($G$41)/($G$13-$G$14))","v":0},0,{"$f":"IF(OR(G$5<$G$15,G$5>$G$16),0,-($G$41)/($G$13-$G$14))","v":0},{"$f":"IF(OR(H$5<$G$15,H$5>$G$16),0,-($G$41)/($G$13-$G$14))","v":0},0,-7932.239108371552,-7932.239108371552,-7932.239108371552,-7932.239108371552,-7932.239108371552,-7932.239108371552,-7932.239108371552,-7932.239108371552,-7932.239108371552,-7932.239108371552,-7932.239108371552,-7932.239108371552,-7932.239108371552,-7932.239108371552,-7932.239108371552,-7932.239108371552,-7932.239108371552,0,0,0,0,0,0,0,0,0,0,0,0,0]
[]
[null,"Tranche 4"]
[null,"Saldo Devedor",null,null,0,{"$f":"SUM(E47:E51)","v":0},{"$f":"SUM(F47:F51)","v":0},0,119118.20069620146,119118.20069620146,119118.20069620146,112111.24771407196,105104.29473194247,98097.341749812971,91090.388767683471,84083.435785553971,77076.482803424471,70069.529821294971,63062.576839165471,56055.623857035964,49048.670874906464,42041.717892776964,35034.764910647464,28027.811928517967,21020.858946388471,14013.905964258975,7006.9529821294773,-2.0008883439004421E-11,-2.0008883439004421E-11,-2.0008883439004421E-11,-2.0008883439004421E-11,-2.0008883439004421E-11,-2.0008883439004421E-11,-2.0008883439004421E-11,-2.0008883439004421E-11,-2.0008883439004421E-11,-2.0008883439004421E-11,-2.0008883439004421E-11,-2.0008883439004421E-11]
[null,"Liberações",null,null,0,0,0,{"$f":"H$10*H$6+H$7*H$11","v":119118.20069620146}]
[null,"Juros Contabilizados",null,null,{"$f":"SUM(E47:E48)*$H$12","v":0},0,0,{"$f":"SUM(H47:H48)*$H$12","v":8098.0330581928374},{"$f":"SUM(I47:I48)*$H$12","v":8098.0330581928374},8098.0330581928374,8098.0330581928374,7621.6781724167886,7145.3232866407398,6668.96840086469,6192.6135150886412,5716.2586293125914,5239.9037435365417,4763.5488577604929,4287.1939719844431,3810.8390862083934,3334.4842004323436,2858.1293146562944,2381.7744288802446,1905.4195431041956,1429.0646573281465,952.70977155209721,476.35488577604792,-1.3602673529281409E-12,-1.3602673529281409E-12,-1.3602673529281409E-12,-1.3602673529281409E-12,-1.3602673529281409E-12,-1.3602673529281409E-12,-1.3602673529281409E-12,-1.3602673529281409E-12,-1.3602673529281409E-12,-1.3602673529281409E-12,-1.3602673529281409E-12,-1.3602673529281409E-12]
[null,"Juros Pagos",null,null,{"$f":"-E49","v":0},{"$f":"-F49","v":0},{"$f":"-G49","v":0},{"$f":"-H49","v":-8098.0330581928374},-8098.0330581928374,-8098.0330581928374,-8098.0330581928374,-7621.6781724167886,-7145.3232866407398,-6668.96840086469,-6192.6135150886412,-5716.2586293125914,-5239.9037435365417,-4763.5488577604929,-4287.1939719844431,-3810.8390862083934,-3334.4842004323436,-2858.1293146562944,-2381.7744288802446,-1905.4195431041956,-1429.0646573281465,-952.70977155209721,-476.35488577604792,1.3602673529281409E-12,1.3602673529281409E-12,1.3602673529281409E-12,1.3602673529281409E-12,1.3602673529281409E-12,1.3602673529281409E-12,1.3602673529281409E-12,1.3602673529281409E-12,1.3602673529281409E-12,1.3602673529281409E-12,1.3602673529281409E-12,1.3602673529281409E-12]
[null,"Amortização",null,null,{"$f":"IF(OR(E$5<$H$15,E$5>$H$16),0,-($H$48)/($H$13-$H$14))","v":0},0,0,{"$f":"IF(OR(H$5<$H$15,H$5>$H$16),0,-($H$48)/($H$13-$H$14))","v":0},{"$f":"IF(OR(I$5<$H$15,I$5>$H$16),0,-($H$48)/($H$13-$H$14))","v":0},0,-7006.9529821294973,-7006.9529821294973,-7006.9529821294973,-7006.9529821294973,-7006.9529821294973,-7006.9529821294973,-7006.9529821294973,-7006.9529821294973,-7006.9529821294973,-7006.9529821294973,-7006.9529821294973,-7006.9529821294973,-7006.9529821294973,-7006.9529821294973,-7006.9529821294973,-7006.9529821294973,-7006.9529821294973,0,0,0,0,0,0,0,0,0,0,0,0]
[]
[null,"Tranche 5"]
[null,"Saldo Devedor",null,null,0,{"$f":"SUM(E54:E58)","v":0},{"$f":"SUM(F54:F58)","v":0},0,0,130838.47732734241,130838.47732734241,130838.47732734241,123142.09630808697,115445.71528883155,107749.33426957611,100052.95325032067,92356.572231065235,84660.191211809783,76963.810192554345,69267.429173298908,61571.04815404347,53874.66713478804,46178.286115532603,38481.905096277165,30785.524077021728,23089.14305776629,15392.762038510855,7696.3810192554192,-1.6370904631912708E-11,-1.6370904631912708E-11,-1.6370904631912708E-11,-1.6370904631912708E-11,-1.6370904631912708E-11,-1.6370904631912708E-11,-1.6370904631912708E-11,-1.6370904631912708E-11,-1.6370904631912708E-11,-1.6370904631912708E-11,-1.6370904631912708E-11]
[null,"Liberações",null,null,0,0,0,0,{"$f":"I$10*I$6+I$7*I$11","v":130838.47732734241}]
[null,"Juros Contabilizados",null,null,{"$f":"SUM(E54:E55)*$I$12","v":0},0,0,0,{"$f":"SUM(I54:I55)*$I$12","v":8894.8146335979727},{"$f":"SUM(J54:J55)*$I$12","v":8894.8146335979727},8894.8146335979727,8894.8146335979727,8371.5902433863266,7848.3658531746823,7325.1414629630372,6801.9170727513911,6278.6926825397459,5755.4682923280989,5232.2439021164537,4709.0195119048076,4185.7951216931624,3662.5707314815172,3139.346341269872,2616.1219510582264,2092.8975608465807,1569.6731706349351,1046.4487804232897,523.22439021164428,-1.1129460160321155E-12,-1.1129460160321155E-12,-1.1129460160321155E-12,-1.1129460160321155E-12,-1.1129460160321155E-12,-1.1129460160321155E-12,-1.1129460160321155E-12,-1.1129460160321155E-12,-1.1129460160321155E-12,-1.1129460160321155E-12,-1.1129460160321155E-12]
[null,"Juros Pagos",null,null,{"$f":"-E56","v":0},{"$f":"-F56","v":0},{"$f":"-G56","v":0},{"$f":"-H56","v":0},-8894.8146335979727,-8894.8146335979727,-8894.8146335979727,-8894.8146335979727,-8371.5902433863266,-7848.3658531746823,-7325.1414629630372,-6801.9170727513911,-6278.6926825397459,-5755.4682923280989,-5232.2439021164537,-4709.0195119048076,-4185.7951216931624,-3662.5707314815172,-3139.346341269872,-2616.1219510582264,-2092.8975608465807,-1569.6731706349351,-1046.4487804232897,-523.22439021164428,1.1129460160321155E-12,1.1129460160321155E-12,1.1129460160321155E-12,1.1129460160321155E-12,1.1129460160321155E-12,1.1129460160321155E-12,1.1129460160321155E-12,1.1129460160321155E-12,1.1129460160321155E-12,1.1129460160321155E-12,1.1129460160321155E-12]
[null,"Amortização",null,null,{"$f":"IF(OR(E$5<$I$15,E$5>$I$16),0,-($I$55)/($I$13-$I$14))","v":0},0,0,0,{"$f":"IF(OR(I$5<$I$15,I$5>$I$16),0,-($I$55)/($I$13-$I$14))","v":0},{"$f":"IF(OR(J$5<$I$15,J$5>$I$16),0,-($I$55)/($I$13-$I$14))","v":0},0,-7696.3810192554356,-7696.3810192554356,-7696.3810192554356,-7696.3810192554356,-7696.3810192554356,-7696.3810192554356,-7696.3810192554356,-7696.3810192554356,-7696.3810192554356,-7696.3810192554356,-7696.3810192554356,-7696.3810192554356,-7696.3810192554356,-7696.3810192554356,-7696.3810192554356,-7696.3810192554356,-7696.3810192554356,0,0,0,0,0,0,0,0,0,0,0]
[]
[null,"Tranche 6"]
[null,"Saldo Devedor",null,null,0,{"$f":"SUM(E61:E65)","v":0},{"$f":"SUM(F61:F65)","v":0},0,0,0,58451.278148020909,58451.278148020909,58451.278148020909,55012.967668725563,51574.657189430218,48136.346710134872,44698.036230839527,41259.725751544182,37821.415272248836,34383.104792953491,30944.794313658142,27506.483834362789,24068.17335506744,20629.862875772091,17191.552396476742,13753.241917181394,10314.931437886047,6876.6209585907,3438.3104792953523,4.5474735088646412E-12,4.5474735088646412E-12,4.5474735088646412E-12,4.5474735088646412E-12,4.5474735088646412E-12,4.5474735088646412E-12,4.5474735088646412E-12,4.5474735088646412E-12,4.5474735088646412E-12,4.5474735088646412E-12]
[null,"Liberações",null,null,0,0,0,0,0,{"$f":"J$10*J$6+J$7*J$11","v":58451.278148020909}]
[null,"Juros Contabilizados",null,null,{"$f":"SUM(E61:E62)*$J$12","v":0},0,0,0,0,{"$f":"SUM(J61:J62)*$J$12","v":3973.7032625560155},{"$f":"SUM(K61:K62)*$J$12","v":3973.7032625560155},3973.7032625560155,3973.7032625560155,3739.9560118174263,3506.2087610788376,3272.4615103402484,3038.7142596016593,2804.9670088630705,2571.2197581244814,2337.4725073858926,2103.725256647303,1869.9780059087136,1636.2307551701244,1402.4835044315353,1168.7362536929459,934.98900295435681,701.24175221576775,467.49450147717863,233.74725073858946,3.0915167112003205E-13,3.0915167112003205E-13,3.0915167112003205E-13,3.0915167112003205E-13,3.0915167112003205E-13,3.0915167112003205E-13,3.0915167112003205E-13,3.0915167112003205E-13,3.0915167112003205E-13,3.0915167112003205E-13]
[null,"Juros Pagos",null,null,{"$f":"-E63","v":0},{"$f":"-F63","v":0},{"$f":"-G63","v":0},{"$f":"-H63","v":0},0,-3973.7032625560155,-3973.7032625560155,-3973.7032625560155,-3973.7032625560155,-3739.9560118174263,-3506.2087610788376,-3272.4615103402484,-3038.7142596016593,-2804.9670088630705,-2571.2197581244814,-2337.4725073858926,-2103.725256647303,-1869.9780059087136,-1636.2307551701244,-1402.4835044315353,-1168.7362536929459,-934.98900295435681,-701.24175221576775,-467.49450147717863,-233.74725073858946,-3.0915167112003205E-13,-3.0915167112003205E-13,-3.0915167112003205E-13,-3.0915167112003205E-13,-3.0915167112003205E-13,-3.0915167112003205E-13,-3.0915167112003205E-13,-3.0915167112003205E-13,-3.0915167112003205E-13,-3.0915167112003205E-13]
[null,"Amortização",null,null,{"$f":"IF(OR(E$5<$J$15,E$5>$J$16),0,-($J$62)/($J$13-$J$14))","v":0},0,0,0,0,{"$f":"IF(OR(J$5<$J$15,J$5>$J$16),0,-($J$62)/($J$13-$J$14))","v":0},{"$f":"IF(OR(K$5<$J$15,K$5>$J$16),0,-($J$62)/($J$13-$J$14))","v":0},0,-3438.3104792953477,-3438.3104792953477,-3438.3104792953477,-3438.3104792953477,-3438.3104792953477,-3438.3104792953477,-3438.3104792953477,-3438.3104792953477,-3438.3104792953477,-3438.3104792953477,-3438.3104792953477,-3438.3104792953477,-3438.3104792953477,-3438.3104792953477,-3438.3104792953477,-3438.3104792953477,-3438.3104792953477,0,0,0,0,0,0,0,0,0,0]
[]
[null,"Tranche 7"]
[null,"Saldo Devedor",null,null,0,{"$f":"SUM(E68:E72)","v":0},{"$f":"SUM(F68:F72)","v":0},0,0,0,0,25860.330596017579,25860.330596017579,25860.330596017579,24339.13467860478,22817.938761191981,21296.742843779182,19775.546926366384,18254.351008953585,16733.155091540786,15211.959174127987,13690.763256715189,12169.56733930239,10648.371421889591,9127.1755044767924,7605.9795870639937,6084.7836696511949,4563.5877522383962,3042.3918348255975,1521.1959174127987,0,0,0,0,0,0,0,0,0]
[null,"Liberações",null,null,0,0,0,0,0,0,{"$f":"K$10*K$6+K$7*K$11","v":25860.330596017579}]
[null,"Juros Contabilizados",null,null,{"$f":"SUM(E68:E69)*$K$12","v":0},0,0,0,0,0,{"$f":"SUM(K68:K69)*$K$12","v":1758.0672881085934},{"$f":"SUM(L68:L69)*$K$12","v":1758.0672881085934},1758.0672881085934,1758.0672881085934,1654.6515652786761,1551.2358424487588,1447.8201196188415,1344.4043967889243,1240.988673959007,1137.5729511290897,1034.1572282991726,930.74150546925523,827.32578263933806,723.91005980942077,620.49433697950349,517.07861414958631,413.66289131966903,310.24716848975174,206.83144565983451,103.41572282991726,0,0,0,0,0,0,0,0,0]
[null,"Juros Pagos",null,null,{"$f":"-E70","v":0},{"$f":"-F70","v":0},{"$f":"-G70","v":0},{"$f":"-H70","v":0},0,0,-1758.0672881085934,-1758.0672881085934,-1758.0672881085934,-1758.0672881085934,-1654.6515652786761,-1551.2358424487588,-1447.8201196188415,-1344.4043967889243,-1240.988673959007,-1137.5729511290897,-1034.1572282991726,-930.74150546925523,-827.32578263933806,-723.91005980942077,-620.49433697950349,-517.07861414958631,-413.66289131966903,-310.24716848975174,-206.83144565983451,-103.41572282991726,0,0,0,0,0,0,0,0,0]
[null,"Amortização",null,null,{"$f":"IF(OR(E$5<$K$15,E$5>$K$16),0,-($K$69)/($K$13-$K$14))","v":0},0,0,0,0,0,{"$f":"IF(OR(K$5<$K$15,K$5>$K$16),0,-($K$69)/($K$13-$K$14))","v":0},{"$f":"IF(OR(L$5<$K$15,L$5>$K$16),0,-($K$69)/($K$13-$K$14))","v":0},0,-1521.1959174127987,-1521.1959174127987,-1521.1959174127987,-1521.1959174127987,-1521.1959174127987,-1521.1959174127987,-1521.1959174127987,-1521.1959174127987,-1521.1959174127987,-1521.1959174127987,-1521.1959174127987,-1521.1959174127987,-1521.1959174127987,-1521.1959174127987,-1521.1959174127987,-1521.1959174127987,-1521.1959174127987,0,0,0,0,0,0,0,0,0]
[]
[null,"Tranche 8"]
[null,"Saldo Devedor",null,null,0,{"$f":"SUM(E75:E79)","v":0},{"$f":"SUM(F75:F79)","v":0},{"$f":"SUM(G75:G79)","v":0},{"$f":"SUM(H75:H79)","v":0},{"$f":"SUM(I75:I79)","v":0},{"$f":"SUM(J75:J79)","v":0},{"$f":"SUM(K75:K79)","v":0},{"$f":"SUM(L75:L79)","v":12430.11042600743},{"$f":"SUM(M75:M79)","v":12430.11042600743},{"$f":"SUM(N75:N79)","v":12430.11042600743},{"$f":"SUM(O75:O79)","v":11698.927459771699},{"$f":"SUM(P75:P79)","v":10967.744493535969},{"$f":"SUM(Q75:Q79)","v":10236.561527300239},{"$f":"SUM(R75:R79)","v":9505.3785610645082},{"$f":"SUM(S75:S79)","v":8774.1955948287778},{"$f":"SUM(T75:T79)","v":8043.0126285930464},{"$f":"SUM(U75:U79)","v":7311.8296623573151},{"$f":"SUM(V75:V79)","v":6580.6466961215838},{"$f":"SUM(W75:W79)","v":5849.4637298858524},{"$f":"SUM(X75:X79)","v":5118.2807636501211},{"$f":"SUM(Y75:Y79)","v":4387.0977974143898},{"$f":"SUM(Z75:Z79)","v":3655.9148311786585},{"$f":"SUM(AA75:AA79)","v":2924.7318649429271},{"$f":"SUM(AB75:AB79)","v":2193.5488987071958},{"$f":"SUM(AC75:AC79)","v":1462.3659324714645},{"$f":"SUM(AD75:AD79)","v":731.18296623573326},{"$f":"SUM(AE75:AE79)","v":2.0463630789890885E-12},{"$f":"SUM(AF75:AF79)","v":2.0463630789890885E-12},{"$f":"SUM(AG75:AG79)","v":2.0463630789890885E-12},{"$f":"SUM(AH75:AH79)","v":2.0463630789890885E-12},{"$f":"SUM(AI75:AI79)","v":2.0463630789890885E-12},{"$f":"SUM(AJ75:AJ79)","v":2.0463630789890885E-12},{"$f":"SUM(AK75:AK79)","v":2.0463630789890885E-12},{"$f":"SUM(AL75:AL79)","v":2.0463630789890885E-12}]
[null,"Liberações",null,null,0,0,0,0,0,0,0,{"$f":"L$10*L$6+L$7*L$11","v":12430.11042600743}]
[null,"Juros Contabilizados",null,null,{"$f":"SUM(E75:E76)*$K$12","v":0},0,0,0,0,0,{"$f":"SUM(K75:K76)*$K$12","v":0},{"$f":"SUM(L75:L76)*$L$12","v":845.03832796733593},{"$f":"SUM(M75:M76)*$L$12","v":845.03832796733593},845.03832796733593,845.03832796733593,795.33019102808089,745.62205408882585,695.91391714957092,646.20578021031588,596.49764327106084,546.7895063318058,497.08136939255076,447.37323245329571,397.66509551404062,347.95695857478557,298.24882163553053,248.54068469627543,198.83254775702036,149.12441081776532,99.416273878510253,49.708136939255198,1.3911825200401443E-13,1.3911825200401443E-13,1.3911825200401443E-13,1.3911825200401443E-13,1.3911825200401443E-13,1.3911825200401443E-13,1.3911825200401443E-13,1.3911825200401443E-13]
[null,"Juros Pagos",null,null,{"$f":"-E77","v":0},{"$f":"-F77","v":0},{"$f":"-G77","v":0},{"$f":"-H77","v":0},0,0,0,{"$f":"-L77","v":-845.03832796733593},-845.03832796733593,-845.03832796733593,-845.03832796733593,-795.33019102808089,-745.62205408882585,-695.91391714957092,-646.20578021031588,-596.49764327106084,-546.7895063318058,-497.08136939255076,-447.37323245329571,-397.66509551404062,-347.95695857478557,-298.24882163553053,-248.54068469627543,-198.83254775702036,-149.12441081776532,-99.416273878510253,-49.708136939255198,-1.3911825200401443E-13,-1.3911825200401443E-13,-1.3911825200401443E-13,-1.3911825200401443E-13,-1.3911825200401443E-13,-1.3911825200401443E-13,-1.3911825200401443E-13,-1.3911825200401443E-13]
[null,"Amortização",null,null,{"$f":"IF(OR(E$5<$L$15,E$5>$L$16),0,-($L$76)/($L$13-$L$14))","v":0},0,0,0,0,0,0,{"$f":"IF(OR(L$5<$L$15,L$5>$L$16),0,-($L$76)/($L$13-$L$14))","v":0},{"$f":"IF(OR(M$5<$L$15,M$5>$L$16),0,-($L$76)/($L$13-$L$14))","v":0},0,-731.18296623573121,-731.18296623573121,-731.18296623573121,-731.18296623573121,-731.18296623573121,-731.18296623573121,-731.18296623573121,-731.18296623573121,-731.18296623573121,-731.18296623573121,-731.18296623573121,-731.18296623573121,-731.18296623573121,-731.18296623573121,-731.18296623573121,-731.18296623573121,-731.18296623573121,0,0,0,0,0,0,0,0]
[]
[null,"Tranche 9"]
[null,"Saldo Devedor",null,null,0,{"$f":"SUM(E82:E86)","v":0},{"$f":"SUM(F82:F86)","v":0},{"$f":"SUM(G82:G86)","v":0},{"$f":"SUM(H82:H86)","v":0},{"$f":"SUM(I82:I86)","v":0},{"$f":"SUM(J82:J86)","v":0},{"$f":"SUM(K82:K86)","v":0},{"$f":"SUM(L82:L86)","v":0},{"$f":"SUM(M82:M86)","v":126623.18042569479},{"$f":"SUM(N82:N86)","v":126623.18042569479},{"$f":"SUM(O82:O86)","v":126623.18042569479},{"$f":"SUM(P82:P86)","v":119174.75804771275},{"$f":"SUM(Q82:Q86)","v":111726.33566973072},{"$f":"SUM(R82:R86)","v":104277.91329174867},{"$f":"SUM(S82:S86)","v":96829.490913766625},{"$f":"SUM(T82:T86)","v":89381.06853578458},{"$f":"SUM(U82:U86)","v":81932.646157802534},{"$f":"SUM(V82:V86)","v":74484.223779820488},{"$f":"SUM(W82:W86)","v":67035.801401838442},{"$f":"SUM(X82:X86)","v":59587.379023856396},{"$f":"SUM(Y82:Y86)","v":52138.95664587435},{"$f":"SUM(Z82:Z86)","v":44690.534267892304},{"$f":"SUM(AA82:AA86)","v":37242.111889910258},{"$f":"SUM(AB82:AB86)","v":29793.689511928213},{"$f":"SUM(AC82:AC86)","v":22345.267133946167},{"$f":"SUM(AD82:AD86)","v":14896.844755964121},{"$f":"SUM(AE82:AE86)","v":7448.422377982075},{"$f":"SUM(AF82:AF86)","v":2.9103830456733704E-11},{"$f":"SUM(AG82:AG86)","v":2.9103830456733704E-11},{"$f":"SUM(AH82:AH86)","v":2.9103830456733704E-11},{"$f":"SUM(AI82:AI86)","v":2.9103830456733704E-11},{"$f":"SUM(AJ82:AJ86)","v":2.9103830456733704E-11},{"$f":"SUM(AK82:AK86)","v":2.9103830456733704E-11},{"$f":"SUM(AL82:AL86)","v":2.9103830456733704E-11}]
[null,"Liberações",null,null,null,null,null,null,null,null,null,null,{"$f":"M$10*M$6+M$7*M$11","v":126623.18042569478}]
[null,"Juros Contabilizados",null,null,{"$f":"SUM(E82:E83)*$S$12","v":0},0,0,0,0,0,0,0,{"$f":"SUM(M82:M83)*$M$12","v":8608.2453817109363},{"$f":"SUM(N82:N83)*$M$12","v":8608.2453817109363},8608.2453817109363,8608.2453817109363,8101.8780063161757,7595.5106309214161,7089.1432555266547,6582.7758801318942,6076.4085047371336,5570.0411293423722,5063.6737539476117,4557.3063785528502,4050.9390031580897,3544.5716277633287,3038.2042523685677,2531.8368769738067,2025.4695015790458,1519.1021261842848,1012.7347507895239,506.36737539476292,1.9785706951682051E-12,1.9785706951682051E-12,1.9785706951682051E-12,1.9785706951682051E-12,1.9785706951682051E-12,1.9785706951682051E-12,1.9785706951682051E-12]
[null,"Juros Pagos",null,null,{"$f":"-E84","v":0},{"$f":"-F84","v":0},{"$f":"-G84","v":0},{"$f":"-H84","v":0},0,0,0,{"$f":"-L84","v":0},{"$f":"-M84","v":-8608.2453817109363},-8608.2453817109363,-8608.2453817109363,-8608.2453817109363,-8101.8780063161757,-7595.5106309214161,-7089.1432555266547,-6582.7758801318942,-6076.4085047371336,-5570.0411293423722,-5063.6737539476117,-4557.3063785528502,-4050.9390031580897,-3544.5716277633287,-3038.2042523685677,-2531.8368769738067,-2025.4695015790458,-1519.1021261842848,-1012.7347507895239,-506.36737539476292,-1.9785706951682051E-12,-1.9785706951682051E-12,-1.9785706951682051E-12,-1.9785706951682051E-12,-1.9785706951682051E-12,-1.9785706951682051E-12,-1.9785706951682051E-12]
[null,"Amortização",null,null,{"$f":"IF(OR(E$5<$M$15,E$5>$M$16),0,-($M$83)/($M$13-$M$14))","v":0},0,0,0,0,0,0,0,{"$f":"IF(OR(M$5<$M$15,M$5>$M$16),0,-($M$83)/($M$13-$M$14))","v":0},{"$f":"IF(OR(N$5<$M$15,N$5>$M$16),0,-($M$83)/($M$13-$M$14))","v":0},0,-7448.4223779820459,-7448.4223779820459,-7448.4223779820459,-7448.4223779820459,-7448.4223779820459,-7448.4223779820459,-7448.4223779820459,-7448.4223779820459,-7448.4223779820459,-7448.4223779820459,-7448.4223779820459,-7448.4223779820459,-7448.4223779820459,-7448.4223779820459,-7448.4223779820459,-7448.4223779820459,-7448.4223779820459,0,0,0,0,0,0,0]
[]
[null,"Tranche 10"]
[null,"Saldo Devedor",null,null,0,{"$f":"SUM(E89:E93)","v":0},{"$f":"SUM(F89:F93)","v":0},{"$f":"SUM(G89:G93)","v":0},{"$f":"SUM(H89:H93)","v":0},{"$f":"SUM(I89:I93)","v":0},{"$f":"SUM(J89:J93)","v":0},{"$f":"SUM(K89:K93)","v":0},{"$f":"SUM(L89:L93)","v":0},{"$f":"SUM(M89:M93)","v":0},{"$f":"SUM(N89:N93)","v":0},{"$f":"SUM(O89:O93)","v":0},{"$f":"SUM(P89:P93)","v":0},{"$f":"SUM(Q89:Q93)","v":0},0,{"$f":"SUM(S89:S93)","v":30604.321423905341},{"$f":"SUM(T89:T93)","v":30604.321423905341},{"$f":"SUM(U89:U93)","v":30604.321423905341},{"$f":"SUM(V89:V93)","v":28053.961305246565},{"$f":"SUM(W89:W93)","v":25503.601186587788},{"$f":"SUM(X89:X93)","v":22953.241067929011},{"$f":"SUM(Y89:Y93)","v":20402.880949270235},{"$f":"SUM(Z89:Z93)","v":17852.520830611458},{"$f":"SUM(AA89:AA93)","v":15302.16071195268},{"$f":"SUM(AB89:AB93)","v":12751.800593293901},{"$f":"SUM(AC89:AC93)","v":10201.440474635123},{"$f":"SUM(AD89:AD93)","v":7651.0803559763444},{"$f":"SUM(AE89:AE93)","v":5100.720237317566},{"$f":"SUM(AF89:AF93)","v":2550.3601186587875},{"$f":"SUM(AG89:AG93)","v":9.0949470177292824E-12},{"$f":"SUM(AH89:AH93)","v":9.0949470177292824E-12},{"$f":"SUM(AI89:AI93)","v":9.0949470177292824E-12},{"$f":"SUM(AJ89:AJ93)","v":9.0949470177292824E-12},{"$f":"SUM(AK89:AK93)","v":9.0949470177292824E-12},{"$f":"SUM(AL89:AL93)","v":9.0949470177292824E-12}]
[null,"Liberações",null,null,0,0,0,0,0,0,0,{"$f":"L23*L25","v":0},null,{"$f":"N$10*N$6+N$7","v":0},null,null,null,null,{"$f":"S$10*S$6+S$7*S$11","v":30604.321423905341}]
[null,"Juros Contabilizados",null,null,{"$f":"SUM(E89:E90)*$S$12","v":0},0,0,0,0,0,0,0,0,0,0,0,0,0,{"$f":"SUM(S89:S90)*$S$12","v":2080.5788298164575},{"$f":"SUM(T89:T90)*$S$12","v":2080.5788298164575},2080.5788298164575,2080.5788298164575,1907.1972606650861,1733.8156915137149,1560.4341223623435,1387.0525532109721,1213.6709840596009,1040.2894149082294,866.90784575685791,693.52627660548649,520.14470745411495,346.76313830274353,173.38156915137208,6.183033422400641E-13,6.183033422400641E-13,6.183033422400641E-13,6.183033422400641E-13,6.183033422400641E-13,6.183033422400641E-13]
[null,"Juros Pagos",null,null,{"$f":"-E91","v":0},{"$f":"-F91","v":0},{"$f":"-G91","v":0},{"$f":"-H91","v":0},0,0,0,{"$f":"-L91","v":0},{"$f":"-M91","v":0},0,0,0,0,0,-2080.5788298164575,-2080.5788298164575,-2080.5788298164575,-2080.5788298164575,-1907.1972606650861,-1733.8156915137149,-1560.4341223623435,-1387.0525532109721,-1213.6709840596009,-1040.2894149082294,-866.90784575685791,-693.52627660548649,-520.14470745411495,-346.76313830274353,-173.38156915137208,-6.183033422400641E-13,-6.183033422400641E-13,-6.183033422400641E-13,-6.183033422400641E-13,-6.183033422400641E-13,-6.183033422400641E-13]
[null,"Amortização",null,null,{"$f":"IF(OR(E$5<$S$15,E$5>$S$16),0,-($S$90)/($S$13-$S$14))","v":0},0,0,0,0,0,0,0,0,0,0,0,0,0,{"$f":"IF(OR(S$5<$S$15,S$5>$S$16),0,-($S$90)/($S$13-$S$14))","v":0},{"$f":"IF(OR(T$5<$S$15,T$5>$S$16),0,-($S$90)/($S$13-$S$14))","v":0},0,-2550.3601186587784,-2550.3601186587784,-2550.3601186587784,-2550.3601186587784,-2550.3601186587784,-2550.3601186587784,-2550.3601186587784,-2550.3601186587784,-2550.3601186587784,-2550.3601186587784,-2550.3601186587784,-2550.3601186587784,0,0,0,0,0,0]
[]
[null,"Tranche 11"]
[null,"Saldo Devedor",null,null,0,{"$f":"SUM(E96:E100)","v":0},{"$f":"SUM(F96:F100)","v":0},{"$f":"SUM(G96:G100)","v":0},{"$f":"SUM(H96:H100)","v":0},{"$f":"SUM(I96:I100)","v":0},{"$f":"SUM(J96:J100)","v":0},{"$f":"SUM(K96:K100)","v":0},{"$f":"SUM(L96:L100)","v":0},{"$f":"SUM(M96:M100)","v":0},{"$f":"SUM(N96:N100)","v":0},{"$f":"SUM(O96:O100)","v":0},{"$f":"SUM(P96:P100)","v":0},{"$f":"SUM(Q96:Q100)","v":0},{"$f":"SUM(R96:R100)","v":0},{"$f":"SUM(S96:S100)","v":0},{"$f":"SUM(T96:T100)","v":30604.321423905341},{"$f":"SUM(U96:U100)","v":30604.321423905341},{"$f":"SUM(V96:V100)","v":30604.321423905341},{"$f":"SUM(W96:W100)","v":28053.961305246565},{"$f":"SUM(X96:X100)","v":25503.601186587788},{"$f":"SUM(Y96:Y100)","v":22953.241067929011},{"$f":"SUM(Z96:Z100)","v":20402.880949270235},{"$f":"SUM(AA96:AA100)","v":17852.520830611458},{"$f":"SUM(AB96:AB100)","v":15302.16071195268},{"$f":"SUM(AC96:AC100)","v":12751.800593293901},{"$f":"SUM(AD96:AD100)","v":10201.440474635123},{"$f":"SUM(AE96:AE100)","v":7651.0803559763444},{"$f":"SUM(AF96:AF100)","v":5100.720237317566},{"$f":"SUM(AG96:AG100)","v":2550.3601186587875},{"$f":"SUM(AH96:AH100)","v":9.0949470177292824E-12},{"$f":"SUM(AI96:AI100)","v":9.0949470177292824E-12},{"$f":"SUM(AJ96:AJ100)","v":9.0949470177292824E-12},{"$f":"SUM(AK96:AK100)","v":9.0949470177292824E-12},{"$f":"SUM(AL96:AL100)","v":9.0949470177292824E-12}]
[null,"Liberações",null,null,0,0,0,0,0,0,0,{"$f":"L30*L32","v":0},null,null,{"$f":"O$10*O$6+O$7","v":0},null,null,null,null,{"$f":"T$10*T$6+T$7*T$11","v":30604.321423905341}]
[null,"Juros Contabilizados",null,null,{"$f":"SUM(E96:E97)*$T$12","v":0},0,0,0,0,0,0,0,0,0,0,0,0,0,0,{"$f":"SUM(T96:T97)*$T$12","v":2080.5788298164575},{"$f":"SUM(U96:U97)*$T$12","v":2080.5788298164575},2080.5788298164575,2080.5788298164575,1907.1972606650861,1733.8156915137149,1560.4341223623435,1387.0525532109721,1213.6709840596009,1040.2894149082294,866.90784575685791,693.52627660548649,520.14470745411495,346.76313830274353,173.38156915137208,6.183033422400641E-13,6.183033422400641E-13,6.183033422400641E-13,6.183033422400641E-13,6.183033422400641E-13]
[null,"Juros Pagos",null,null,{"$f":"-E98","v":0},{"$f":"-F98","v":0},{"$f":"-G98","v":0},{"$f":"-H98","v":0},0,0,0,{"$f":"-L98","v":0},{"$f":"-M98","v":0},0,0,0,0,0,0,-2080.5788298164575,-2080.5788298164575,-2080.5788298164575,-2080.5788298164575,-1907.1972606650861,-1733.8156915137149,-1560.4341223623435,-1387.0525532109721,-1213.6709840596009,-1040.2894149082294,-866.90784575685791,-693.52627660548649,-520.14470745411495,-346.76313830274353,-173.38156915137208,-6.183033422400641E-13,-6.183033422400641E-13,-6.183033422400641E-13,-6.183033422400641E-13,-6.183033422400641E-13]
[null,"Amortização",null,null,{"$f":"IF(OR(E$5<$T$15,E$5>$T$16),0,-($T$97)/($T$13-$T$14))","v":0},0,0,0,0,0,0,0,0,0,0,0,0,0,0,{"$f":"IF(OR(T$5<$T$15,T$5>$T$16),0,-($T$97)/($T$13-$T$14))","v":0},{"$f":"IF(OR(U$5<$T$15,U$5>$T$16),0,-($T$97)/($T$13-$T$14))","v":0},0,-2550.3601186587784,-2550.3601186587784,-2550.3601186587784,-2550.3601186587784,-2550.3601186587784,-2550.3601186587784,-2550.3601186587784,-2550.3601186587784,-2550.3601186587784,-2550.3601186587784,-2550.3601186587784,-2550.3601186587784,0,0,0,0,0]
[]
[null,"Tranche 12"]
[null,"Saldo Devedor",null,null,null,null,null,null,null,null,null,null,null,null,null,null,null,null,null,null,null,{"$f":"SUM(U103:U107)","v":39105.521819434602},{"$f":"SUM(V103:V107)","v":39105.521819434602},{"$f":"SUM(W103:W107)","v":39105.521819434602},{"$f":"SUM(X103:X107)","v":35846.728334481719},{"$f":"SUM(Y103:Y107)","v":32587.934849528836},{"$f":"SUM(Z103:Z107)","v":29329.141364575953},{"$f":"SUM(AA103:AA107)","v":26070.34787962307},{"$f":"SUM(AB103:AB107)","v":22811.554394670187},{"$f":"SUM(AC103:AC107)","v":19552.760909717304},{"$f":"SUM(AD103:AD107)","v":16293.967424764422},{"$f":"SUM(AE103:AE107)","v":13035.173939811539},{"$f":"SUM(AF103:AF107)","v":9776.3804548586559},{"$f":"SUM(AG103:AG107)","v":6517.586969905773},{"$f":"SUM(AH103:AH107)","v":3258.7934849528897},{"$f":"SUM(AI103:AI107)","v":6.3664629124104977E-12},{"$f":"SUM(AJ103:AJ107)","v":6.3664629124104977E-12},{"$f":"SUM(AK103:AK107)","v":6.3664629124104977E-12},{"$f":"SUM(AL103:AL107)","v":6.3664629124104977E-12}]
[null,"Liberações",null,null,null,null,null,null,null,null,null,null,null,null,null,null,null,null,null,null,{"$f":"U$10*U$6+U$7*U$11","v":39105.521819434602}]
[null,"Juros Contabilizados",null,null,null,null,null,null,null,null,null,null,null,null,null,null,null,null,null,null,{"$f":"SUM(U103:U104)*$U$12","v":2658.5173936543624},{"$f":"SUM(V103:V104)*$U$12","v":2658.5173936543624},2658.5173936543624,2658.5173936543624,2436.9742775164987,2215.4311613786354,1993.8880452407718,1772.3449291029083,1550.8018129650447,1329.2586968271814,1107.7155806893179,886.17246455145437,664.62934841359095,443.08623227572747,221.54311613786393,4.3281233956804487E-13,4.3281233956804487E-13,4.3281233956804487E-13,4.3281233956804487E-13]
[null,"Juros Pagos",null,null,null,null,null,null,null,null,null,null,null,null,null,null,null,null,null,null,{"$f":"-U105","v":-2658.5173936543624},-2658.5173936543624,-2658.5173936543624,-2658.5173936543624,-2436.9742775164987,-2215.4311613786354,-1993.8880452407718,-1772.3449291029083,-1550.8018129650447,-1329.2586968271814,-1107.7155806893179,-886.17246455145437,-664.62934841359095,-443.08623227572747,-221.54311613786393,-4.3281233956804487E-13,-4.3281233956804487E-13,-4.3281233956804487E-13,-4.3281233956804487E-13]
[null,"Amortização",null,null,null,null,null,null,null,null,null,null,null,null,null,null,null,null,null,null,{"$f":"IF(OR(U$5<$U$15,U$5>$U$16),0,-($U$104)/($U$13-$U$14))","v":0},{"$f":"IF(OR(V$5<$U$15,V$5>$U$16),0,-($U$104)/($U$13-$U$14))","v":0},0,-3258.7934849528833,-3258.7934849528833,-3258.7934849528833,-3258.7934849528833,-3258.7934849528833,-3258.7934849528833,-3258.7934849528833,-3258.7934849528833,-3258.7934849528833,-3258.7934849528833,-3258.7934849528833,-3258.7934849528833,0,0,0,0]
[]
[null,"Tranche 13"]
[null,"Saldo Devedor",null,null,null,null,null,null,null,null,null,null,null,null,null,null,null,null,null,null,null,null,null,null,{"$f":"SUM(X110:X114)","v":48665.39291177204},{"$f":"SUM(Y110:Y114)","v":48665.39291177204},{"$f":"SUM(Z110:Z114)","v":48665.39291177204},{"$f":"SUM(AA110:AA114)","v":41713.193924376035},{"$f":"SUM(AB110:AB114)","v":34760.994936980031},{"$f":"SUM(AC110:AC114)","v":27808.795949584026},{"$f":"SUM(AD110:AD114)","v":20856.596962188021},{"$f":"SUM(AE110:AE114)","v":13904.397974792017},{"$f":"SUM(AF110:AF114)","v":6952.198987396011},{"$f":"SUM(AG110:AG114)","v":0},{"$f":"SUM(AH110:AH114)","v":0},{"$f":"SUM(AI110:AI114)","v":0},{"$f":"SUM(AJ110:AJ114)","v":0},{"$f":"SUM(AK110:AK114)","v":0},{"$f":"SUM(AL110:AL114)","v":0}]
[null,"Liberações",null,null,null,null,null,null,null,null,null,null,null,null,null,null,null,null,null,null,null,null,null,{"$f":"X$10*X$6+X$7*X$11","v":48665.39291177204}]
[null,"Juros Contabilizados",null,null,null,null,null,null,null,null,null,null,null,null,null,null,null,null,null,null,null,null,null,{"$f":"SUM(X110:X111)*$X$12","v":3308.4277489597825},{"$f":"SUM(Y110:Y111)*$X$12","v":3308.4277489597825},3308.4277489597825,3308.4277489597825,2835.7952133940994,2363.1626778284162,1890.5301422627331,1417.8976066970499,945.26507113136677,472.63253556568355,0,0,0,0,0,0]
[null,"Juros Pagos",null,null,null,null,null,null,null,null,null,null,null,null,null,null,null,null,null,null,null,null,null,{"$f":"-X112","v":-3308.4277489597825},{"$f":"-Y112","v":-3308.4277489597825},-3308.4277489597825,-3308.4277489597825,-2835.7952133940994,-2363.1626778284162,-1890.5301422627331,-1417.8976066970499,-945.26507113136677,-472.63253556568355,0,0,0,0,0,0]
[null,"Amortização",null,null,null,null,null,null,null,null,null,null,null,null,null,null,null,null,null,null,null,null,null,{"$f":"IF(OR(X$5<$X$15,X$5>$X$16),0,-($X$111)/($X$13-$X$14))","v":0},{"$f":"IF(OR(Y$5<$X$15,Y$5>$X$16),0,-($X$111)/($X$13-$X$14))","v":0},0,-6952.1989873960056,-6952.1989873960056,-6952.1989873960056,-6952.1989873960056,-6952.1989873960056,-6952.1989873960056,-6952.1989873960056,0,0,0,0,0,0]
[]
[null,"Tranche 14"]
[null,"Saldo Devedor",null,null,null,null,null,null,null,null,null,null,null,null,null,null,null,null,null,null,null,null,null,null,null,{"$f":"SUM(Y117:Y121)","v":48665.39291177204},48665.39291177204,{"$f":"SUM(AA117:AA121)","v":48665.39291177204},{"$f":"SUM(AB117:AB121)","v":41713.193924376035},{"$f":"SUM(AC117:AC121)","v":34760.994936980031},{"$f":"SUM(AD117:AD121)","v":27808.795949584026},{"$f":"SUM(AE117:AE121)","v":20856.596962188021},{"$f":"SUM(AF117:AF121)","v":13904.397974792017},{"$f":"SUM(AG117:AG121)","v":6952.198987396011},{"$f":"SUM(AH117:AH121)","v":0},{"$f":"SUM(AI117:AI121)","v":0},{"$f":"SUM(AJ117:AJ121)","v":0},{"$f":"SUM(AK117:AK121)","v":0},{"$f":"SUM(AL117:AL121)","v":0}]
[null,"Liberações",null,null,null,null,null,null,null,null,null,null,null,null,null,null,null,null,null,null,null,null,null,null,{"$f":"Y$10*Y$6+Y$7*Y$11","v":48665.39291177204}]
[null,"Juros Contabilizados",null,null,null,null,null,null,null,null,null,null,null,null,null,null,null,null,null,null,null,null,null,null,{"$f":"SUM(Y117:Y118)*$Y$12","v":3308.4277489597825},{"$f":"SUM(Z117:Z118)*$Z$12","v":3308.4277489597825},{"$f":"SUM(AA117:AA118)*$Z$12","v":3308.4277489597825},{"$f":"SUM(AB117:AB118)*$Z$12","v":3308.4277489597825},2835.7952133940994,2363.1626778284162,1890.5301422627331,1417.8976066970499,945.26507113136677,472.63253556568355,0,0,0,0,0]
[null,"Juros Pagos",null,null,null,null,null,null,null,null,null,null,null,null,null,null,null,null,null,null,null,null,null,null,{"$f":"-Y119","v":-3308.4277489597825},-3308.4277489597825,{"$f":"-AA119","v":-3308.4277489597825},-3308.4277489597825,-2835.7952133940994,-2363.1626778284162,-1890.5301422627331,-1417.8976066970499,-945.26507113136677,-472.63253556568355,0,0,0,0,0]
[null,"Amortização",null,null,null,null,null,null,null,null,null,null,null,null,null,null,null,null,null,null,null,null,null,null,{"$f":"IF(OR(Y$5<$Y$15,Y$5>$Y$16),0,-($Y$118)/($Y$13-$Y$14))","v":0},{"$f":"IF(OR(Z$5<$Y$15,Z$5>$Y$16),0,-($Y$118)/($Y$13-$Y$14))","v":0},0,-6952.1989873960056,-6952.1989873960056,-6952.1989873960056,-6952.1989873960056,-6952.1989873960056,-6952.1989873960056,-6952.1989873960056,0,0,0,0,0]
[]
[null,"Tranche 15"]
[null,"Saldo Devedor",null,null,null,null,null,null,null,null,null,null,null,null,null,null,null,null,null,null,null,null,null,null,null,{"$f":"SUM(Y124:Y128)","v":0},{"$f":"SUM(Z124:Z128)","v":57166.593307301308},{"$f":"SUM(AA124:AA128)","v":57166.593307301308},{"$f":"SUM(AB124:AB128)","v":57166.593307301308},{"$f":"SUM(AC124:AC128)","v":48999.937120543975},{"$f":"SUM(AD124:AD128)","v":40833.280933786642},{"$f":"SUM(AE124:AE128)","v":32666.624747029313},{"$f":"SUM(AF124:AF128)","v":24499.968560271984},{"$f":"SUM(AG124:AG128)","v":16333.312373514655},{"$f":"SUM(AH124:AH128)","v":8166.6561867573264},{"$f":"SUM(AI124:AI128)","v":0},{"$f":"SUM(AJ124:AJ128)","v":0},{"$f":"SUM(AK124:AK128)","v":0},{"$f":"SUM(AL124:AL128)","v":0}]
[null,"Liberações",null,null,null,null,null,null,null,null,null,null,null,null,null,null,null,null,null,null,null,null,null,null,null,{"$f":"Z$10*Z$6+Z$7*Z$11","v":57166.593307301308}]
[null,"Juros Contabilizados",null,null,null,null,null,null,null,null,null,null,null,null,null,null,null,null,null,null,null,null,null,null,{"$f":"SUM(Y124:Y125)*$Y$12","v":0},{"$f":"SUM(Z124:Z125)*$Z$12","v":3886.3663127976879},{"$f":"SUM(AA124:AA125)*$Z$12","v":3886.3663127976879},{"$f":"SUM(AB124:AB125)*$Z$12","v":3886.3663127976879},3886.3663127976879,3331.1711252551609,2775.9759377126338,2220.7807501701068,1665.5855626275802,1110.3903750850534,555.19518754252658,0,0,0,0]
[null,"Juros Pagos",null,null,null,null,null,null,null,null,null,null,null,null,null,null,null,null,null,null,null,null,null,null,{"$f":"-Y126","v":0},-3886.3663127976879,-3886.3663127976879,-3886.3663127976879,-3886.3663127976879,-3331.1711252551609,-2775.9759377126338,-2220.7807501701068,-1665.5855626275802,-1110.3903750850534,-555.19518754252658,0,0,0,0]
[null,"Amortização",null,null,null,null,null,null,null,null,null,null,null,null,null,null,null,null,null,null,null,null,null,null,{"$f":"IF(OR(Y$5<$Z$15,Y$5>$Z$16),0,-($Z$125)/($Z$13-$Z$14))","v":0},{"$f":"IF(OR(Z$5<$Z$15,Z$5>$Z$16),0,-($Z$125)/($Z$13-$Z$14))","v":0},{"$f":"IF(OR(AA$5<$Z$15,AA$5>$Z$16),0,-($Z$125)/($Z$13-$Z$14))","v":0},0,-8166.65618675733,-8166.65618675733,-8166.65618675733,-8166.65618675733,-8166.65618675733,-8166.65618675733,-8166.65618675733,0,0,0,0]

{"sheet":"Custos Operacionais >>>>","index":19,"n_rows":0,"n_cols":0,"rows_kept":0,"cut":false,"hidden":false,"merged":[]}

{"sheet":"Despesas","index":20,"n_rows":48,"n_cols":9,"rows_kept":48,"cut":false,"hidden":false,"merged":[[27,2,27,3],[28,2,28,3],[29,2,29,3],[30,2,30,3],[36,2,36,3],[31,2,31,3],[32,2,32,3],[33,2,33,3],[34,2,34,3],[35,2,35,3]]}
[]
[null,"DESPESAS OPERACIONAIS"]
[]
[null,"SALÁRIOS E ENCARGOS SOCIAIS DA EQUIPE DE OPERAÇÃO E MANUTENÇÃO"]
[null,"Função","Código","Número Funcionários","Salário / Empregado (R$)","Encargos (%)","Custo / Empregado (R$)","Custo Mensal por função (R$)","Folha de Pagamento (R$)"]
[null,"Gerente de Distrito","P9955",1,{"$f":"VLOOKUP(C6,'Salários SICRO'!$A$6:$D$118,4,FALSE)","v":16939.498},{"$f":"VLOOKUP(C6,'Salários SICRO'!$A$6:$E$118,5,FALSE)","v":0.80920199999999998},{"$f":"E6*(1+F6)","v":30646.973660595999},{"$f":"D6*G6","v":30646.973660595999},{"$f":"H6*12","v":367763.68392715196}]
[null,"Gerente de O&M","P9819",1,{"$f":"VLOOKUP(C7,'Salários SICRO'!$A$6:$D$118,4,FALSE)","v":12819.5116},{"$f":"VLOOKUP(C7,'Salários SICRO'!$A$6:$E$118,5,FALSE)","v":0.82565699999999997},23404.031089121199,23404.031089121199,280848.37306945439]
[null,"Chefe de Oficina","P9811",1,{"$f":"VLOOKUP(C8,'Salários SICRO'!$A$6:$D$118,4,FALSE)","v":3447.1179999999999},{"$f":"VLOOKUP(C8,'Salários SICRO'!$A$6:$E$118,5,FALSE)","v":1.0940270000000001},7218.3581641860001,7218.3581641860001,86620.297970232001]
[null,"Técnico Mecânico/Elétrico","P9875",5,{"$f":"VLOOKUP(C9,'Salários SICRO'!$A$6:$D$118,4,FALSE)","v":2153.8584999999998},{"$f":"VLOOKUP(C9,'Salários SICRO'!$A$6:$E$118,5,FALSE)","v":1.293388},4939.6332375980001,24698.166187989998,296377.99425588001]
[null,"Mecânico/eletricista","P9867",5,{"$f":"VLOOKUP(C10,'Salários SICRO'!$A$6:$D$118,4,FALSE)","v":3204.4618999999998},{"$f":"VLOOKUP(C10,'Salários SICRO'!$A$6:$E$118,5,FALSE)","v":1.1172759999999999},6784.7302737843993,33923.651368921994,407083.8164270639]
[null,"Auxiliar mecân./eletricista","P9953",10,{"$f":"VLOOKUP(C11,'Salários SICRO'!$A$6:$D$118,4,FALSE)","v":2032.1420000000001},{"$f":"VLOOKUP(C11,'Salários SICRO'!$A$6:$E$118,5,FALSE)","v":1.3953789999999999},4867.7502718180003,48677.502718180003,584130.03261816001]
[null,"Operador de bombas","P9953",6,{"$f":"VLOOKUP(C12,'Salários SICRO'!$A$6:$D$118,4,FALSE)","v":2032.1420000000001},{"$f":"VLOOKUP(C12,'Salários SICRO'!$A$6:$E$118,5,FALSE)","v":1.3953789999999999},4867.7502718180003,29206.501630908002,350478.01957089605]
[null,"Canaleiros","P9903",4,{"$f":"VLOOKUP(C13,'Salários SICRO'!$A$6:$D$118,4,FALSE)","v":1741.8271},{"$f":"VLOOKUP(C13,'Salários SICRO'!$A$6:$E$118,5,FALSE)","v":1.40256},4184.8441173760002,16739.376469504001,200872.51763404801]
[null,"Encanador","P9903",1,{"$f":"VLOOKUP(C14,'Salários SICRO'!$A$6:$D$118,4,FALSE)","v":1741.8271},{"$f":"VLOOKUP(C14,'Salários SICRO'!$A$6:$E$118,5,FALSE)","v":1.40256},4184.8441173760002,4184.8441173760002,50218.129408512003]
[null,"Almoxarife","P9803",1,{"$f":"VLOOKUP(C15,'Salários SICRO'!$A$6:$D$118,4,FALSE)","v":2637.8},{"$f":"VLOOKUP(C15,'Salários SICRO'!$A$6:$E$118,5,FALSE)","v":1.1900500000000001},5776.9138900000007,5776.9138900000007,69322.966680000012]
[null,"Segurança armada",null,2,2883.8507733028873,{"$f":"F15","v":1.1900500000000001},{"$f":"E16*(1+F16)","v":6315.777386071989},12631.554772143978,151578.65726572773]
[null,"Vigilância desarmada","P9827",4,{"$f":"VLOOKUP(C17,'Salários SICRO'!$A$6:$D$118,4,FALSE)","v":1504.8},{"$f":"VLOOKUP(C17,'Salários SICRO'!$A$6:$E$118,5,FALSE)","v":1.7483880000000001},{"$f":"E17*(1+F17)","v":4135.7742624000002},16543.097049600001,198517.16459520001]
[null,"Téc. Contabilidade","P9806",1,{"$f":"VLOOKUP(C18,'Salários SICRO'!$A$6:$D$118,4,FALSE)","v":1907.4},{"$f":"VLOOKUP(C18,'Salários SICRO'!$A$6:$E$118,5,FALSE)","v":1.3581380000000001},4497.9124212000006,4497.9124212000006,53974.949054400007]
[null,"Aux. Escritório","P9806",1,{"$f":"VLOOKUP(C19,'Salários SICRO'!$A$6:$D$118,4,FALSE)","v":1907.4},{"$f":"VLOOKUP(C19,'Salários SICRO'!$A$6:$E$118,5,FALSE)","v":1.3581380000000001},4497.9124212000006,4497.9124212000006,53974.949054400007]
[null,"Secretária","P9878",1,{"$f":"VLOOKUP(C20,'Salários SICRO'!$A$6:$D$118,4,FALSE)","v":2811.5796},{"$f":"VLOOKUP(C20,'Salários SICRO'!$A$6:$E$118,5,FALSE)","v":1.1352070000000001},6003.3044429772008,6003.3044429772008,72039.653315726406]
[null,"Motorista","P9948",1,{"$f":"VLOOKUP(C21,'Salários SICRO'!$A$6:$D$118,4,FALSE)","v":2378.3386},{"$f":"VLOOKUP(C21,'Salários SICRO'!$A$6:$E$118,5,FALSE)","v":1.2256069999999999},5293.2470365302006,5293.2470365302006,63518.964438362411]
[null,"Pedreiro","P9952",1,{"$f":"VLOOKUP(C22,'Salários SICRO'!$A$6:$D$118,4,FALSE)","v":1907.4},{"$f":"VLOOKUP(C22,'Salários SICRO'!$A$6:$E$118,5,FALSE)","v":1.381961},4543.3524114000002,4543.3524114000002,54520.228936800006]
[null,"Servente","P9954",2,{"$f":"VLOOKUP(C23,'Salários SICRO'!$A$6:$D$118,4,FALSE)","v":1377.2},{"$f":"VLOOKUP(C23,'Salários SICRO'!$A$6:$E$118,5,FALSE)","v":1.6137889999999999},3599.7102107999999,7199.4204215999998,86393.045059199998]
[null,"Técnico Agrícola","P9897",2,{"$f":"VLOOKUP(C24,'Salários SICRO'!$A$6:$D$118,4,FALSE)","v":3466.6378},{"$f":"VLOOKUP(C24,'Salários SICRO'!$A$6:$E$118,5,FALSE)","v":1.0915459999999999},7250.6324240388003,14501.264848077601,174015.17817693122]
[null,"Total",null,{"$f":"SUM(D6:D24)","v":50},null,null,null,{"$f":"SUM(H6:H24)","v":300187.38512151217},{"$f":"SUM(I6:I24)","v":3602248.6214581458}]
[]
[null,"DESPESAS COM FROTA"]
[null,"Veiculo/ Tipo","Função",null,"Quantidade","Depreciação","Combustível","Total/mês","Total/ano"]
[null,"Automóvel Sedan","Gerência/Tec Agríc",null,2,{"$f":"78000/5/12","v":1300},{"$f":"23*(200/12)*5.5","v":2108.3333333333335},{"$f":"SUM(F29:G29)*E29","v":6816.666666666667},{"$f":"H29*12","v":81800}]
[null,"Utilitário","Transporte da Equipe",null,2,{"$f":"20.0761*182.5","v":3663.88825},{"$f":"23*(200/7.5)*5.5","v":3373.3333333333335},{"$f":"SUM(F30:G30)*E30","v":14074.443166666668},{"$f":"H30*12","v":168893.31800000003}]
[null,"Motos","Operação de comportas",null,2,{"$f":"26549/5/12","v":442.48333333333335},{"$f":"23*(300/40)*5.5","v":948.75},2782.4666666666667,33389.599999999999]
[null,"Caminhão munck","Serviços gerais",null,1,{"$f":"383.37/12*182.5","v":5830.4187500000007},{"$f":"23*(50/4.2)*6","v":1642.8571428571427},7473.2758928571438,89679.310714285733]
[null,"Retroescavadeira","Serviços gerais",null,1,{"$f":"36.3123*182.5","v":6626.9947499999998},{"$f":"12*(182.5*0.5)*6","v":6570},13196.99475,158363.93700000001]
[null,"Caminhão bascul.","Serviços gerais",null,1,{"$f":"180.5731/12*182.5","v":2746.2158958333334},{"$f":"23*(50/2.5)*6","v":2760},5506.215895833333,66074.590750000003]
[null,"Roçadeira lateral","Manut estradas",null,1,{"$f":"0.3987*182.5","v":72.762749999999997},"-",72.762749999999997,873.15300000000002]
[null,"Trator agrícola","Transporte/Manut estradas",null,1,{"$f":"16.4286*182.5","v":2998.2194999999997},{"$f":"10.5*(182.5*0.5)*6","v":5748.75},8746.9694999999992,104963.63399999999]
[null,"Betoneira","Manutenção",null,1,{"$f":"3.0299*182.5","v":552.95675000000006},"-",552.95675000000006,6635.4810000000007]
[null,"Total",null,null,null,{"$f":"SUM(F29:F37)","v":24233.939979166673},{"$f":"SUM(G29:G37)","v":23152.023809523809},{"$f":"SUM(H29:H37)","v":59222.752038690473},{"$f":"SUM(I29:I37)","v":710673.02446428582}]
[]
[null,"DESPESAS GERAIS"]
[null,"Despesa",null,null,null,null,null,"Total/mês","Total/ano"]
[null,"Aluguel escritório",null,null,null,null,null,{"$f":"47.3*75","v":3547.5},{"$f":"H42*12","v":42570}]
[null,"Manutenção escritório",null,null,null,null,null,{"$f":"H42/0.5","v":7095},{"$f":"H43*12","v":85140}]
[null,"Mobiliario escritório",null,null,null,null,null,{"$f":"502.59*11","v":5528.49},66341.88]
[null,"Oficinas",null,null,null,null,null,4235.59,50827.08]
[null,"Total",null,null,null,null,null,{"$f":"SUM(H42:H45)","v":20406.580000000002},{"$f":"SUM(I42:I45)","v":244878.96000000002}]
[]
[null,"O&M Total",null,null,null,null,null,{"$f":"H25+H38+H46","v":379816.71716020268},{"$f":"I25+I38+I46","v":4557800.6059224317}]

{"sheet":"Energia","index":21,"n_rows":149,"n_cols":15,"rows_kept":149,"cut":false,"hidden":false,"merged":[]}
[]
[null,"Tarifas de Energia","Valor"]
[null,"Tarifa de Consumo (R$/kWh)",{"$f":"'Painel de Controle'!J6","v":0.12}]
[null,"Tarifa de Demanda (R$/kW)",{"$f":"'Painel de Controle'!J7","v":42.380870999999999}]
[]
[null,"Área Irrigada Total (ha)",{"$f":"'Painel de Controle'!C21","v":10238.18}]
[]
[null,"Estação","Nº de bombas ","Área (ha)","Vazão (m³/s)","Pot p/ bomba (cv)","Pot Nom p/ bomba (cv)","AMT (m)","Custo Anual de Energia (R$)","Potência nominal (cv)","Linha"]
[null,"EBP-Sul",8,7275.77,9.5,{"$f":"((1000*E9*H9)/(75*0.75))/C9","v":738.88888888888891},750,35,{"$f":"O44","v":3300523.772595257},{"$f":"C9*F9","v":5911.1111111111113},93]
[null,"EBS",4,3400,3.95,737.33333333333337,750,42,{"$f":"O51","v":1714349.7244256157},{"$f":"C10*F10","v":2949.3333333333335},104]
[null,"EBP-Norte",6,6695,8.3699999999999992,1984,2000,80,{"$f":"O58","v":6709956.5200821385},11904,115]
[null,"EBA-1",4,523.39,{"$f":"1.29*D12/1000","v":0.67517309999999997},195.05000666666666,200,65,{"$f":"O65","v":440346.31841500447},780.20002666666664,{"$f":"K11+(K10-K9)","v":126}]
[null,"EBA-2",4,721.25,{"$f":"1.29*D13/1000","v":0.93041249999999998},268.78583333333336,300,65,{"$f":"O72","v":643334.67505507497},1075.1433333333334,{"$f":"K12+(K11-K10)","v":137}]
[null,"EBA-3",4,204.20000000000005,0.26341800000000004,76.098533333333364,120,65,{"$f":"O79","v":234639.75462398038},304.39413333333346,148]
[null,"EBA-4",4,301.75,0.38925749999999998,112.45216666666667,125,65,{"$f":"O86","v":268387.01437113021},449.80866666666668,159]
[null,"EBA-5",4,233.47000000000003,0.30117630000000001,87.006486666666675,125,65,{"$f":"O93","v":250005.58851847512},348.0259466666667,170]
[null,"EBA-6",4,878.78,1.1336261999999999,327.49201333333332,500,65,{"$f":"O100","v":985189.07105572091},1309.9680533333333,181]
[null,"EBA-7",4,492.44000000000005,0.63524760000000002,183.51597333333336,200,65,{"$f":"O107","v":432014.37450551894},734.06389333333345,192]
[null,"EBA-8",4,668.33,0.86214570000000001,249.06431333333336,300,65,{"$f":"O114","v":629088.2623995021},996.25725333333344,203]
[null,"EBA-9",4,519.45000000000005,0.67009050000000014,193.58170000000004,250,65,{"$f":"O121","v":514147.21499129874},774.32680000000016,214]
[null,"EBA-10",4,750.81999999999994,0.96855779999999991,279.80558666666667,300,65,{"$f":"O128","v":651295.11387263518},1119.2223466666667,225]
[null,"EBA-11",4,231.95000000000005,0.29921550000000008,86.440033333333346,120,65,{"$f":"O135","v":242110.23745074045},345.76013333333339,236]
[null,"EBA-12",4,917.34999999999991,1.1833814999999999,341.86576666666667,400,65,{"$f":"O142","v":845849.22809964651},1367.4630666666667,247]
[null,"65-LE-Empresa",130,3795,{"$f":"1.29*D24/1000","v":4.8955500000000001},33.473846153846154,40,50,{"$f":"O149","v":2732276.9898903701},4351.6000000000004,258]
[null,"Total",null,null,null,null,null,null,{"$f":"SUM(I9:I24)","v":20593513.860352114},{"$f":"SUM(J9:J24)","v":34720.678097777782}]
[null,null,null,null,null,null,null,"Custo Energia (R$/ha)",{"$f":"I25/C6","v":2011.4428404611087}]
[null,null,null,null,null,null,null,"Consumo de energia (kW/h)",{"$f":"I25/C3","v":171612615.50293428}]
[null,null,null,null,null,null,null,"Consumo de energia (MW/h)",{"$f":"I27/1000","v":171612.61550293426}]
[null,null,{"$f":"C34/C30-1","v":-0.46294307196562823},{"$f":"D34/D30-1","v":-0.89258861439312565},-0.89258861439312565,-0.46294307196562845,7.4113856068743322E-2,7.4113856068743544E-2,7.4113856068743544E-2,2.0408163265306145E-2,-3.329752953813081E-2,-3.329752953813081E-2,-6.015037593984951E-2,-0.46294307196562834,-8.968302346813517E-2]
[null,null,1688946.1983961088,4127317.5033999984,4541810.2207000013,2978406.0074333367,10623244.458357289,14453706.737085715,14238336.171341682,18765048.546574786,12769184.989844708,11109364.070684655,7806982.774609522,3696954.1282517761,{"$f":"SUM(C30:N30)","v":106799301.80667958}]
[null,"Demandas de Irrigação do Plano Agrícola","Jan","Fev","Mar","Abr","Mai","Jun","Jul","Ago","Set","Out","Nov","Dez","Ano"]
[null,"Dias do mês",31,28,31,30,31,30,31,31,30,31,30,31]
[null,"Área Irrigada (ha)",{"$f":"'Demanda Hídrica'!C297","v":5119.09},{"$f":"'Demanda Hídrica'!D297","v":1023.8180000000001},{"$f":"'Demanda Hídrica'!E297","v":1023.8180000000001},{"$f":"'Demanda Hídrica'!F297","v":5119.09},{"$f":"'Demanda Hídrica'!G297","v":10238.18},{"$f":"'Demanda Hídrica'!H297","v":10238.18},{"$f":"'Demanda Hídrica'!I297","v":10238.18},{"$f":"'Demanda Hídrica'!J297","v":9726.2710000000006},{"$f":"'Demanda Hídrica'!K297","v":9214.3619999999992},{"$f":"'Demanda Hídrica'!L297","v":9214.3619999999992},{"$f":"'Demanda Hídrica'!M297","v":8958.4074999999993},{"$f":"'Demanda Hídrica'!N297","v":5119.09}]
[null,"Demanda Hídrica Total Mensal (m3)",{"$f":"'Demanda Hídrica'!C303","v":907060.25692594482},{"$f":"'Demanda Hídrica'!D303","v":443320.89187969913},{"$f":"'Demanda Hídrica'!E303","v":487842.12896885088},{"$f":"'Demanda Hídrica'!F303","v":1599573.5807912655},{"$f":"'Demanda Hídrica'!G303","v":11410574.069127057},{"$f":"'Demanda Hídrica'!H303","v":15524926.677857913},{"$f":"'Demanda Hídrica'!I303","v":15293594.169002883},{"$f":"'Demanda Hídrica'!J303","v":19148008.720994681},{"$f":"'Demanda Hídrica'!K303","v":12344002.675467497},{"$f":"'Demanda Hídrica'!L303","v":10739449.692391183},{"$f":"'Demanda Hídrica'!M303","v":7337389.8257608302},{"$f":"'Demanda Hídrica'!N303","v":1985474.8272028873},{"$f":"SUM(C34:N34)","v":97221217.516370684}]
[null,"Vazão específica, m³/ha.mês",{"$f":"C34/C33","v":177.19169948681207},{"$f":"D34/D33","v":433.00751879699231},476.4930182599357,312.47225205871854,1114.5119610250119,1516.3756329599512,1493.7805517194347,1968.6896160917868,1339.6481140492958,1165.5120226871036,819.05068794435067,387.85698770736349,{"$f":"SUM(C35:N35)","v":11204.590062786758}]
[null,"Total Demandas Hídricas das EP's",{"$f":"C40+C47+C54+C61+C68+C75++C82++C89+C96+C103+C110+C117+C124+C131","v":2028543.7332348709},991439.99548872153,1091007.0041890445,3577276.0832438278,25518534.566805288,34719846.31763082,34202495.780499205,42822483.73061686,27606048.307326991,24017636.320791781,16409291.483888291,4440303.1523702098]
[null,"Nº horas irrig/mês",{"$f":"(C34/$J$34)*20*C32","v":29.370017921365978},12.96530114802116,15.796009097753094,50.122399799330331,369.46692608834752,486.47126405898473,495.19657751070969,620,{"$f":"(K34/$J$34)*20*K32","v":386.79748443814992},{"$f":"(L34/$J$34)*20*L32","v":347.73635767054566},{"$f":"(M34/$J$34)*20*M32","v":229.91601683518579},{"$f":"(N34/$J$34)*20*N32","v":64.288376447002349},"<<< Horas/mês"]
[null,null,null,null,null,null,null,null,null,null,null,null,null,{"$f":"(SUM(C37:N37)/20)*1.2","v":186.48760386092377},"<<< Dias/ano (+20%)"]
[null,{"$f":"B9","v":"EBP-Sul"}]
[null,"Demanda Hídrica Mensal",{"$f":"(C34/$C$6)*$D$9","v":644603.02568758139},315046.31150375929,346685.36074650928,1136738.1186806313,8108932.6906669512,11032800.339021025,10868403.724783711,13607546.205668535,8772274.4028808009,7631997.6683755321,5214321.3708467595,1410979.1177258021]
[null,"Horas de Operação/dia",{"$f":"C40/($E$9*3600*C32)","v":0.6080013447345608},{"$f":"D40/($E$9*3600*D32)","v":0.32899573047593911},0.32699996297539075,1.1079318895522723,7.6484933886690731,10.753216704698856,10.251276857935967,12.834886064580772,8.5499750515407413,7.1986395664738092,5.0821845719753993,1.3308612693131505]
[null,"Custo Consumo",{"$f":"$F$9*$C$9*0.736*C41*C32*$C$3","v":9839.9845580516121},4809.2402870144224,5292.2162327881942,17352.517888718852,123784.35917723297,168417.74028632985,165908.1955261798,207721.71274549418,133910.39325523519,116503.85774065404,79597.581341044453,21538.857524513576]
[null,"Custo Demanda",{"$f":"$G$9*$C$9*0.736*$C$4","v":187153.926336},187153.926336,187153.926336,187153.926336,187153.926336,187153.926336,187153.926336,187153.926336,187153.926336,187153.926336,187153.926336,187153.926336]
[null,"Custo Total",{"$f":"C42+C43","v":196993.9108940516},{"$f":"D42+D43","v":191963.16662301443},192446.1425687882,204506.44422471884,310938.28551323299,355571.66662232985,353062.12186217983,394875.63908149418,321064.31959123519,303657.78407665406,266751.50767704449,208692.78386051359,{"$f":"SUM(C44:N44)","v":3300523.772595257}]
[]
[null,{"$f":"B10","v":"EBS"}]
[null,"Demanda Hídrica",{"$f":"(C34/$C$6)*$D$10","v":301225.88912758051},147222.55639097741,162007.62620837815,531202.82849982148,3789340.6674850406,5155677.1520638345,5078853.8758460777,6358867.459976472,4099323.2289908454,3566466.7894225363,2436675.7966344431,659356.87910251797]
[null,"Horas de Operação/dia",{"$f":"C47/($E$10*3600*C32)","v":0.68333081331967815},0.36975727443986689,0.36751423757628543,1.245201191982704,8.5961178428497806,12.085506685569232,11.521378058722558,14.425088380691601,9.6092902695519111,8.0905285364151727,5.7118513751393412,1.4957508259664216]
[null,"Custo Consumo",{"$f":"$F$10*$C$10*0.736*C48*C32*$C$3","v":5517.9227761254924},2696.8555040935667,2967.6916985797839,9730.6914575327282,69413.984422694848,94442.839777539106,93035.573931943072,116483.14721350677,75092.31386937185,65331.331196817446,44635.568726260084,12078.245835150836]
[null,"Custo Demanda",{"$f":"$G$10*$C$10*0.736*$C$4","v":93576.963168000002},93576.963168000002,93576.963168000002,93576.963168000002,93576.963168000002,93576.963168000002,93576.963168000002,93576.963168000002,93576.963168000002,93576.963168000002,93576.963168000002,93576.963168000002]
[null,"Custo E total",{"$f":"C49+C50","v":99094.88594412549},{"$f":"D49+D50","v":96273.818672093563},96544.654866579789,103307.65462553273,162990.94759069485,188019.80294553912,186612.53709994309,210060.11038150679,168669.27703737185,158908.29436481744,138212.53189426009,105655.20900315084,{"$f":"SUM(C51:N51)","v":1714349.7244256157}]
[]
[null,{"$f":"B11","v":"EBP-Norte"}]
[null,"Demanda Hídrica",{"$f":"(C34/$C$6)*$D$11","v":593149.21403210342},289898.53383458639,319012.07572502701,1046000.8637665603,7461657.5790624553,10152134.862666873,10000860.793761615,12521358.130747788,8072049.7112040315,7022792.6927011413,4798101.3113139989,1298351.2663503992]
[null,"Horas de Operação/dia",{"$f":"C54/($E$11*3600*C32)","v":0.63500085005770679},0.34360543825570633,0.3415210447418745,1.1571318020338959,7.9881399038450773,11.230734615101193,10.706505134142693,13.404844630665705,8.9296536475109871,7.5183094306568758,5.3078690553940433,1.3899608029513146]
[null,"Custo Consumo",{"$f":"$F$11*$C$11*0.736*C55*C32*$C$3","v":20696.074502050516},10115.09669462545,11130.922085149386,36496.907175451903,260351.05081789472,354226.78560819285,348948.55320692383,436893.37288203242,281648.76266411453,245038.242219996,167414.64012454415,45301.880037162373]
[null,"Custo Demanda",{"$f":"$G$11*$C$11*0.736*$C$4","v":374307.85267200001},374307.85267200001,374307.85267200001,374307.85267200001,374307.85267200001,374307.85267200001,374307.85267200001,374307.85267200001,374307.85267200001,374307.85267200001,374307.85267200001,374307.85267200001]
[null,"Custo E total",{"$f":"C56+C57","v":395003.92717405054},{"$f":"D56+D57","v":384422.94936662546},385438.7747571494,410804.75984745193,634658.9034898947,728534.63828019286,723256.40587892383,811201.22555403248,655956.61533611454,619346.09489199601,541722.49279654422,419609.7327091624,{"$f":"SUM(C58:N58)","v":6709956.5200821385}]
[]
[null,{"$f":"B12","v":"EBA-1"}]
[null,"Demanda Hídrica",{"$f":"(C34/$C$6)*$D$12","v":46370.181797201287},22663.18052631578,24939.168082706776,81772.426002506341,583324.41528088099,793655.84253490879,781829.80296443496,978872.8352579663,631042.58377103484,549015.60379878269,375097.57211779448,101500.23439807848]
[null,"Horas de Operação/dia",{"$f":"C61/($E$12*3600*C32)","v":0.61540280725324414},0.33300073735464519,0.33098067451580654,1.1214192221458459,7.7416017964561412,10.884120248061665,10.376070071124968,12.991130666605523,8.6540575842977763,7.2862717097218255,5.1440521960329235,1.3470624173660202]
[null,"Custo Consumo",{"$f":"$F$12*$C$12*0.736*C62*C32*$C$3","v":1314.5774798092498},642.49277415048698,707.01617841581754,2318.2179910873492,16537.031127133239,22499.849189256318,22164.585347448039,27750.682334068802,17889.823530433365,15564.389028582969,10633.877244512765,2877.4940525061179]
[null,"Custo Demanda",{"$f":"$G$12*$C$12*0.736*$C$4","v":24953.856844799997},24953.856844799997,24953.856844799997,24953.856844799997,24953.856844799997,24953.856844799997,24953.856844799997,24953.856844799997,24953.856844799997,24953.856844799997,24953.856844799997,24953.856844799997]
[null,"Custo E total",{"$f":"C63+C64","v":26268.434324609247},{"$f":"D63+D64","v":25596.349618950484},25660.873023215816,27272.074835887346,41490.887971933233,47453.706034056318,47118.44219224804,52704.539178868799,42843.680375233365,40518.24587338297,35587.734089312762,27831.350897306114,{"$f":"SUM(C65:N65)","v":440346.31841500447}]
[]
[null,{"$f":"B13","v":"EBA-2"}]
[null,"Demanda Hídrica",{"$f":"(C34/$C$6)*$D$13","v":63899.756627431605},31230.667293233073,34367.058941997864,112685.30589867537,803841.75188928982,1093685.9252723649,1077389.2229276423,1348921.5163258913,869599.08203224919,756562.99172676599,516897.77009488002,139870.92619196797]
[null,"Horas de Operação/dia",{"$f":"C68/($E$13*3600*C32)","v":0.61540280725324414},0.33300073735464525,0.33098067451580654,1.1214192221458461,7.7416017964561403,10.884120248061665,10.376070071124966,12.991130666605523,8.6540575842977763,7.2862717097218264,5.1440521960329226,1.3470624173660204]
[null,"Custo Consumo",{"$f":"$F$13*$C$13*0.736*C69*C32*$C$3","v":1811.5344338111574},885.37785084934524,974.29339246529059,3194.5866869289662,22788.615946893999,31005.590912610332,30543.585436953126,38241.425387277413,24652.811901880181,21448.280606938359,14653.860338571296,3965.2889534955539]
[null,"Custo Demanda",{"$f":"$G$13*$C$13*0.736*$C$4","v":37430.785267199994},37430.785267199994,37430.785267199994,37430.785267199994,37430.785267199994,37430.785267199994,37430.785267199994,37430.785267199994,37430.785267199994,37430.785267199994,37430.785267199994,37430.785267199994]
[null,"Custo E total",{"$f":"C70+C71","v":39242.319701011154},38316.163118049342,38405.078659665283,40625.371954128961,60219.401214093989,68436.376179810322,67974.370704153116,75672.210654477414,62083.597169080174,58879.065874138352,52084.645605771293,41396.074220695547,{"$f":"SUM(C72:N72)","v":643334.67505507497}]
[]
[null,{"$f":"B14","v":"EBA-3"}]
[null,"Demanda Hídrica",{"$f":"(C34/$C$6)*$D$14","v":18091.272517603516},8842.0135338345863,9729.9874328678907,31903.416935195171,227583.3424413075,309643.90425042209,305029.98866110865,381906.09862564586,246200.53039997965,214197.7995294359,146343.88166845689,39600.198444921822]
[null,"Horas de Operação/dia",{"$f":"C75/($E$14*3600*C32)","v":0.61540280725324426},0.3330007373546453,0.33098067451580665,1.1214192221458461,7.741601796456143,10.884120248061665,10.376070071124969,12.991130666605526,8.654057584297778,7.2862717097218272,5.1440521960329235,1.3470624173660206]
[null,"Custo Consumo",{"$f":"$F$14*$C$14*0.736*C76*C32*$C$3","v":512.88087540275706},250.6678088643832,275.84154002275557,904.45005403243681,6451.9034680842387,8778.2900025719664,8647.487204472558,10826.896449333868,6979.6938514577951,6072.428284141165,4148.7948438630983,1122.6509591733691]
[null,"Custo Demanda",{"$f":"$G$14*$C$14*0.736*$C$4","v":14972.314106879998},14972.314106879998,14972.314106879998,14972.314106879998,14972.314106879998,14972.314106879998,14972.314106879998,14972.314106879998,14972.314106879998,14972.314106879998,14972.314106879998,14972.314106879998]
[null,"Custo E total",{"$f":"C77+C78","v":15485.194982282756},15222.981915744382,15248.155646902753,15876.764160912435,21424.217574964237,23750.604109451964,23619.801311352556,25799.210556213868,21952.007958337792,21044.742391021162,19121.108950743095,16094.965066053366,{"$f":"SUM(C79:N79)","v":234639.75462398038}]
[]
[null,{"$f":"B15","v":"EBA-4"}]
[null,"Demanda Hídrica",{"$f":"(C34/$C$6)*$D$15","v":26733.797660072771},13066.001879699244,14378.176825993562,47144.251029359162,336303.98423929734,457566.34724566527,450748.28148133942,564349.48707291193,363814.93657293753,316523.92756125011,216254.97695130683,58517.923020348469]
[null,"Horas de Operação/dia",{"$f":"C82/($E$15*3600*C32)","v":0.61540280725324403},0.33300073735464525,0.33098067451580654,1.1214192221458461,7.7416017964561403,10.884120248061665,10.376070071124966,12.991130666605525,8.654057584297778,7.2862717097218264,5.1440521960329235,1.3470624173660202]
[null,"Custo Consumo",{"$f":"$F$15*$C$15*0.736*C83*C32*$C$3","v":757.89326225652223},370.41631402951811,407.61598776624112,1336.5220558486178,9534.093396152879,12971.836475397113,12778.546836188016,15999.098940188507,10314.018705569975,8973.3361152771577,6130.7485021336415,1658.9614443220566]
[null,"Custo Demanda",{"$f":"$G$15*$C$15*0.736*$C$4","v":15596.160528},15596.160528,15596.160528,15596.160528,15596.160528,15596.160528,15596.160528,15596.160528,15596.160528,15596.160528,15596.160528,15596.160528]
[null,"Custo E total",{"$f":"C84+C85","v":16354.053790256523},15966.576842029519,16003.776515766242,16932.682583848618,25130.253924152879,28567.997003397111,28374.707364188016,31595.259468188509,25910.179233569976,24569.496643277158,21726.90903013364,17255.121972322057,{"$f":"SUM(C86:N86)","v":268387.01437113021}]
[]
[null,{"$f":"B16","v":"EBA-5"}]
[null,"Demanda Hídrica",{"$f":"(C34/$C$6)*$D$16","v":20684.473039593009},10109.426541353381,11124.682497314721,36476.44834407451,260205.10754050958,354028.21902715985,348752.94540993648,436648.46643550205,281490.88066838024,244900.88274308224,167320.79360007163,45276.485460019081]
[null,"Horas de Operação/dia",{"$f":"C89/($E$16*3600*C32)","v":0.61540280725324414},0.3330007373546453,0.33098067451580659,1.1214192221458461,7.741601796456143,10.884120248061667,10.376070071124969,12.991130666605525,8.654057584297778,7.2862717097218272,5.1440521960329235,1.3470624173660204]
[null,"Custo Consumo",{"$f":"$F$16*$C$16*0.736*C90*C32*$C$3","v":586.39714975652123},286.59849821531606,315.38062854609558,1034.0938007588295,7376.7184265113956,10036.56888785738,9887.0168346141418,12378.822301792248,7980.1622110668504,6942.8493217357363,4743.4825278977351,1283.5715937228522]
[null,"Custo Demanda",{"$f":"$G$16*$C$16*0.736*$C$4","v":15596.160528},15596.160528,15596.160528,15596.160528,15596.160528,15596.160528,15596.160528,15596.160528,15596.160528,15596.160528,15596.160528,15596.160528]
[null,"Custo E total",{"$f":"C91+C92","v":16182.557677756522},15882.759026215317,15911.541156546096,16630.254328758831,22972.878954511398,25632.729415857379,25483.177362614144,27974.98282979225,23576.322739066851,22539.009849735736,20339.643055897737,16879.732121722853,{"$f":"SUM(C93:N93)","v":250005.58851847512}]
[]
[null,{"$f":"B17","v":"EBA-6"}]
[null,"Demanda Hídrica",{"$f":"(C34/$C$6)*$D$17","v":77856.260837510359},38051.834736842095,41873.253458646635,137297.18283208035,979410.82110955997,1332560.578732546,1312704.4732400049,1643542.8077876836,1059530.3726978162,921805.78976727545,629794.69310776936,170420.48182873844]
[null,"Horas de Operação/dia",{"$f":"C96/($E$17*3600*C32)","v":0.61540280725324414},0.3330007373546453,0.33098067451580659,1.1214192221458463,7.7416017964561412,10.884120248061667,10.376070071124968,12.991130666605525,8.654057584297778,7.2862717097218272,5.1440521960329235,1.3470624173660204]
[null,"Custo Consumo",{"$f":"$F$17*$C$17*0.736*C97*C32*$C$3","v":2207.1961590912565},1078.7554215173484,1187.0912269402399,3892.3242824810222,27765.934033707461,37777.598866112588,37214.685629512198,46593.82988122238,30037.293647326533,26132.852730350496,17854.446292311521,4831.3575411477605]
[null,"Custo Demanda",{"$f":"$G$17*$C$17*0.736*$C$4","v":62384.642112000001},62384.642112000001,62384.642112000001,62384.642112000001,62384.642112000001,62384.642112000001,62384.642112000001,62384.642112000001,62384.642112000001,62384.642112000001,62384.642112000001,62384.642112000001]
[null,"Custo E total",{"$f":"C98+C99","v":64591.838271091256},63463.397533517353,63571.733338940241,66276.966394481016,90150.576145707455,100162.24097811259,99599.327741512199,108978.47199322238,92421.93575932653,88517.494842350497,80239.088404311522,67215.999653147766,{"$f":"SUM(C100:N100)","v":985189.07105572091}]
[]
[null,{"$f":"B18","v":"EBA-7"}]
[null,"Demanda Hídrica",{"$f":"(C34/$C$6)*$D$18","v":43628.14024764287},21323.022255639095,23464.42219119228,76936.917901897687,548830.27008715691,746724.01669479848,735597.29488871852,920988.43882082775,593726.68555419182,516550.26640683354,352916.65567490156,95498.147513307049]
[null,"Horas de Operação/dia",{"$f":"C103/($E$18*3600*C$32)","v":0.61540280725324403},0.3330007373546453,0.33098067451580654,1.1214192221458461,7.7416017964561412,10.884120248061667,10.376070071124968,12.991130666605525,8.654057584297778,7.2862717097218264,5.1440521960329235,1.3470624173660202]
[null,"Custo Consumo",{"$f":"$F$18*$C$18*0.736*C104*C32*$C$3","v":1236.8416174502133},604.49978353171821,665.20767859356363,2181.1331273640212,15559.1348865005,21169.349308846915,20853.910866652619,26109.681133741276,16831.931636688914,14644.008737720247,10005.056478510989,2707.3371123179909]
[null,"Custo Demanda",{"$f":"$G$18*$C$18*0.736*$C$4","v":24953.856844799997},24953.856844799997,24953.856844799997,24953.856844799997,24953.856844799997,24953.856844799997,24953.856844799997,24953.856844799997,24953.856844799997,24953.856844799997,24953.856844799997,24953.856844799997]
[null,"Custo E total",{"$f":"C105+C106","v":26190.69846225021},25558.356628331716,25619.064523393561,27134.989972164018,40512.991731300499,46123.206153646912,45807.767711452616,51063.537978541273,41785.788481488911,39597.865582520244,34958.91332331099,27661.193957117986,{"$f":"SUM(C107:N107)","v":432014.37450551894}]
[]
[null,{"$f":"B19","v":"EBA-8"}]
[null,"Demanda Hídrica",{"$f":"(C34/$C$6)*$D$19","v":59211.264259010561},28939.19150375939,31845.457889366287,104417.29010920168,744861.77891184622,1013439.3267761242,998338.3561306498,1249947.6145664928,805794.3216563093,701051.98511022469,478971.62798961689,129608.23029723113]
[null,"Horas de Operação/dia",{"$f":"C110/($E$19*3600*C32)","v":0.61540280725324414},0.33300073735464525,0.33098067451580654,1.1214192221458461,7.7416017964561412,10.884120248061665,10.376070071124966,12.991130666605525,8.6540575842977763,7.2862717097218272,5.1440521960329226,1.3470624173660204]
[null,"Custo Consumo",{"$f":"$F$19*$C$19*0.736*C111*C32*$C$3","v":1678.6174116450757},820.41536091250316,902.80693654950107,2960.1915015254572,21116.555557417912,28730.629566204312,28302.522641357205,35435.551929399124,22843.970576615011,19874.564128991497,13578.668256606383,3674.3453258782447]
[null,"Custo Demanda",{"$f":"$G$19*$C$19*0.736*$C$4","v":37430.785267199994},37430.785267199994,37430.785267199994,37430.785267199994,37430.785267199994,37430.785267199994,37430.785267199994,37430.785267199994,37430.785267199994,37430.785267199994,37430.785267199994,37430.785267199994]
[null,"Custo E total",{"$f":"C112+C113","v":39109.402678845072},38251.2006281125,38333.592203749497,40390.97676872545,58547.340824617902,66161.414833404298,65733.307908557195,72866.33719659911,60274.755843815001,57305.349396191494,51009.453523806376,41105.13059307824,{"$f":"SUM(C114:N114)","v":629088.2623995021}]
[]
[null,{"$f":"B20","v":"EBA-9"}]
[null,"Demanda Hídrica",{"$f":"(C34/$C$6)*$D$20","v":46021.11414921227},22492.57556390977,24751.429833512364,81156.855665950687,578933.23815444252,787681.32254104677,775944.30759066041,971504.03002493491,626292.19155861612,544882.6981663343,372273.89487110637,100736.15613229499]
[null,"Horas de Operação/dia",{"$f":"C117/($E$20*3600*C32)","v":0.61540280725324403},0.33300073735464519,0.33098067451580654,1.1214192221458459,7.7416017964561412,10.884120248061665,10.376070071124966,12.991130666605523,8.6540575842977745,7.2862717097218264,5.1440521960329217,1.3470624173660202]
[null,"Custo Consumo",{"$f":"$F$20*$C$20*0.736*C118*C32*$C$3","v":1304.6815412730755},637.65618665329976,701.69386858384087,2300.7668000350104,16412.54288196061,22330.473760215515,21997.733733414636,27541.779434899487,17755.151670615818,15447.222684608849,10553.82704037554,2855.8327166631066]
[null,"Custo Demanda",{"$f":"$G$20*$C$20*0.736*$C$4","v":31192.321056000001},31192.321056000001,31192.321056000001,31192.321056000001,31192.321056000001,31192.321056000001,31192.321056000001,31192.321056000001,31192.321056000001,31192.321056000001,31192.321056000001,31192.321056000001]
[null,"Custo E total",{"$f":"C119+C120","v":32497.002597273076},31829.977242653302,31894.01492458384,33493.08785603501,47604.86393796061,53522.794816215515,53190.054789414637,58734.100490899487,48947.472726615815,46639.543740608846,41746.148096375538,34048.153772663107,{"$f":"SUM(C121:N121)","v":514147.21499129874}]
[]
[null,{"$f":"B21","v":"EBA-10"}]
[null,"Demanda Hídrica",{"$f":"(C34/$C$6)*$D$21","v":66519.535904344113},32511.070526315776,35776.048796992494,117305.20814536352,836797.87057679938,1138525.1527389905,1121560.3138419858,1404224.9606763336,905251.13729144295,787580.76318653778,538089.68283208017,145605.39175522132]
[null,"Horas de Operação/dia",{"$f":"C124/($E$21*3600*C32)","v":0.61540280725324414},0.33300073735464525,0.33098067451580659,1.1214192221458461,7.7416017964561412,10.884120248061667,10.376070071124966,12.991130666605525,8.6540575842977763,7.2862717097218264,5.1440521960329235,1.3470624173660204]
[null,"Custo Consumo",{"$f":"$F$21*$C$21*0.736*C125*C32*$C$3","v":1885.8042060230059},921.67680828382015,1014.2377330062941,3325.5592045476683,23722.909705715014,32276.766404167887,31795.819504711464,39809.257551855291,25663.534464013414,22327.622939759389,15254.643215814351,4127.8589283376523]
[null,"Custo Demanda",{"$f":"$G$21*$C$21*0.736*$C$4","v":37430.785267199994},37430.785267199994,37430.785267199994,37430.785267199994,37430.785267199994,37430.785267199994,37430.785267199994,37430.785267199994,37430.785267199994,37430.785267199994,37430.785267199994,37430.785267199994]
[null,"Custo E total",{"$f":"C126+C127","v":39316.589473223001},38352.462075483811,38445.023000206289,40756.34447174766,61153.694972915007,69707.551671367881,69226.604771911458,77240.042819055292,63094.319731213407,59758.408206959386,52685.428483014344,41558.644195537643,{"$f":"SUM(C128:N128)","v":651295.11387263518}]
[]
[null,{"$f":"B22","v":"EBA-11"}]
[null,"Demanda Hídrica",{"$f":"(C34/$C$6)*$D$22","v":20549.807347983035},10043.609398496239,11052.255558539211,36238.96943250989,258511.04935975157,351723.32806506072,346482.39897132292,433805.67862986558,279658.24204836081,243306.46229604632,166231.45618510564,44981.714149361491]
[null,"Horas de Operação/dia",{"$f":"C131/($E$22*3600*C32)","v":0.61540280725324403},0.33300073735464525,0.33098067451580648,1.1214192221458461,7.7416017964561412,10.884120248061665,10.376070071124966,12.991130666605523,8.654057584297778,7.2862717097218264,5.1440521960329226,1.3470624173660202]
[null,"Custo Consumo",{"$f":"$F$22*$C$22*0.736*C132*C32*$C$3","v":582.57942727556031},284.73260659203555,313.32735165660193,1027.3613615711247,7328.6925045158605,9971.2260827451883,9822.6476840225678,12298.230320386825,7928.2075849443454,6897.6480925883588,4712.6002156417508,1275.2149362402686]
[null,"Custo Demanda",{"$f":"$G$22*$C$22*0.736*$C$4","v":14972.314106879998},14972.314106879998,14972.314106879998,14972.314106879998,14972.314106879998,14972.314106879998,14972.314106879998,14972.314106879998,14972.314106879998,14972.314106879998,14972.314106879998,14972.314106879998]
[null,"Custo E total",{"$f":"C133+C134","v":15554.893534155559},15257.046713472033,15285.6414585366,15999.675468451122,22301.00661139586,24943.540189625186,24794.961790902566,27270.544427266825,22900.521691824342,21869.962199468355,19684.914322521749,16247.529043120267,{"$f":"SUM(C135:N135)","v":242110.23745074045}]
[]
[null,{"$f":"B23","v":"EBA-12"}]
[null,"Demanda Hídrica",{"$f":"(C34/$C$6)*$D$23","v":81273.402762113517},39721.944736842088,43711.087030075199,143323.21021303273,1022397.5474462946,1391047.186895811,1370319.5891198232,1715678.5483557105,1106033.5776808092,962264.20861081278,657436.63001253118,177900.30383667492]
[null,"Horas de Operação/dia",{"$f":"C138/($E$23*3600*C32)","v":0.61540280725324414},0.33300073735464525,0.33098067451580654,1.1214192221458461,7.7416017964561412,10.884120248061665,10.376070071124966,12.991130666605523,8.6540575842977763,7.2862717097218264,5.1440521960329226,1.3470624173660202]
[null,"Custo Consumo",{"$f":"$F$23*$C$23*0.736*C139*C32*$C$3","v":2304.0708670456365},1126.1024214580891,1239.1931280111394,4063.1599268690284,28984.591804344138,39435.67254583443,38848.052825773237,48638.851409384995,31355.642285185135,27279.833919965204,18638.084965807106,5043.4077247683126]
[null,"Custo Demanda",{"$f":"$G$23*$C$23*0.736*$C$4","v":49907.713689599994},49907.713689599994,49907.713689599994,49907.713689599994,49907.713689599994,49907.713689599994,49907.713689599994,49907.713689599994,49907.713689599994,49907.713689599994,49907.713689599994,49907.713689599994]
[null,"Custo E total",{"$f":"C140+C141","v":52211.784556645631},51033.816111058084,51146.906817611132,53970.87361646902,78892.305493944135,89343.386235434416,88755.766515373223,98546.565098984982,81263.355974785125,77187.547609565197,68545.798655407096,54951.121414368303,{"$f":"SUM(C142:N142)","v":845849.22809964651}]
[]
[null,{"$f":"B24","v":"65-LE-Empresa"}]
[null,"Demanda Hídrica",{"$f":"(C34/$C$6)*$D$24","v":336221.24977622589},164326.3533834586,180829.10042964562,592916.09828141844,4229572.8920899201,5754645.5270830151,5668897.1937752543,7097618.2384149153,4575568.1335353702,3980806.3134878017,2719760.1906552091,735958.63417472225]
[null,"Horas de Operação/dia",{"$f":"C145/($E$24*3600*C32)","v":0.61540280725324403},{"$f":"D145/($E$24*3600*D32)","v":0.3330007373546453},0.33098067451580654,1.1214192221458461,7.7416017964561412,10.884120248061665,10.376070071124966,12.991130666605525,8.6540575842977763,7.2862717097218264,5.1440521960329226,1.3470624173660204]
[null,"Custo Consumo",{"$f":"$F$24*$C$24*0.736*C146*C32*$C$3","v":7332.1137728978438},3583.5317360066829,3943.4138641842719,12929.962913633304,92236.019217131296,125493.89949431406,123623.95065536555,154780.65254735935,99781.27840835652,86811.065088208052,59310.918528066199,16049.349770447277]
[null,"Custo Demanda",{"$f":"$G$24*$C$24*0.736*$C$4","v":162200.06949119997},162200.06949119997,162200.06949119997,162200.06949119997,162200.06949119997,162200.06949119997,162200.06949119997,162200.06949119997,162200.06949119997,162200.06949119997,162200.06949119997,162200.06949119997]
[null,"Custo E total",{"$f":"C147+C148","v":169532.18326409781},165783.60122720664,166143.48335538423,175130.03240483327,254436.08870833128,287693.96898551402,285824.02014656551,316980.72203855932,261981.34789955651,249011.13457940804,221510.98801926617,178249.41926164724,{"$f":"SUM(C149:N149)","v":2732276.9898903701}]

{"sheet":"Meio Ambiente","index":22,"n_rows":36,"n_cols":4,"rows_kept":36,"cut":false,"hidden":false,"merged":[]}
[null,null,"Ano","Valor"]
[null,null,1,"Inserido no Capex"]
[null,null,2,"Inserido no Capex"]
[null,null,3,"Inserido no Capex"]
[null,null,4,"Inserido no Capex"]
[null,null,5,"Inserido no Capex"]
[null,null,6,"Inserido no Capex"]
[null,null,7,"Inserido no Capex"]
[null,null,8,{"$f":"CAPEX!M76*(1-'Painel de Controle'!$G$17)","v":2831333.1029500002}]
[null,null,9,{"$f":"CAPEX!N76*(1-'Painel de Controle'!$G$17)","v":2588788.5886900001}]
[null,null,10,{"$f":"CAPEX!O76*(1-'Painel de Controle'!$G$17)","v":2335733.63833}]
[null,null,11,{"$f":"CAPEX!P76*(1-'Painel de Controle'!$G$17)","v":1650539.82326}]
[null,null,12,{"$f":"CAPEX!Q76*(1-'Painel de Controle'!$G$17)","v":1650539.82326}]
[null,null,13,{"$f":"CAPEX!R76*(1-'Painel de Controle'!$G$17)","v":855982.43763000006}]
[null,null,14,{"$f":"CAPEX!S76*(1-'Painel de Controle'!$G$17)","v":602927.48727000004}]
[null,null,15,{"$f":"CAPEX!T76*(1-'Painel de Controle'!$G$17)","v":602927.48727000004}]
[null,null,16,{"$f":"CAPEX!U76*(1-'Painel de Controle'!$G$17)","v":602927.48727000004}]
[null,null,17,{"$f":"CAPEX!V76*(1-'Painel de Controle'!$G$17)","v":855982.43763000006}]
[null,null,18,{"$f":"CAPEX!W76*(1-'Painel de Controle'!$G$17)","v":602927.48727000004}]
[null,null,19,{"$f":"CAPEX!X76*(1-'Painel de Controle'!$G$17)","v":602927.48727000004}]
[null,null,20,{"$f":"CAPEX!Y76*(1-'Painel de Controle'!$G$17)","v":602927.48727000004}]
[null,null,21,{"$f":"CAPEX!Z76*(1-'Painel de Controle'!$G$17)","v":855982.43763000006}]
[null,null,22,{"$f":"CAPEX!AA76*(1-'Painel de Controle'!$G$17)","v":602927.48727000004}]
[null,null,23,{"$f":"CAPEX!AB76*(1-'Painel de Controle'!$G$17)","v":602927.48727000004}]
[null,null,24,{"$f":"CAPEX!AC76*(1-'Painel de Controle'!$G$17)","v":602927.48727000004}]
[null,null,25,{"$f":"CAPEX!AD76*(1-'Painel de Controle'!$G$17)","v":855982.43451860012}]
[null,null,26,{"$f":"CAPEX!AE76*(1-'Painel de Controle'!$G$17)","v":602927.4841586001}]
[null,null,27,{"$f":"CAPEX!AF76*(1-'Painel de Controle'!$G$17)","v":602927.4841586001}]
[null,null,28,{"$f":"CAPEX!AG76*(1-'Painel de Controle'!$G$17)","v":602927.4841586001}]
[null,null,29,{"$f":"CAPEX!AH76*(1-'Painel de Controle'!$G$17)","v":855982.43451860012}]
[null,null,30,{"$f":"CAPEX!AI76*(1-'Painel de Controle'!$G$17)","v":602927.4841586001}]
[null,null,31,{"$f":"CAPEX!AJ76*(1-'Painel de Controle'!$G$17)","v":602927.4841586001}]
[null,null,32,{"$f":"CAPEX!AK76*(1-'Painel de Controle'!$G$17)","v":602927.4841586001}]
[null,null,33,{"$f":"CAPEX!AL76*(1-'Painel de Controle'!$G$17)","v":855982.43451860012}]
[null,null,34,{"$f":"CAPEX!AM76*(1-'Painel de Controle'!$G$17)","v":602927.4841586001}]
[null,null,35,{"$f":"CAPEX!AN76*(1-'Painel de Controle'!$G$17)","v":602927.4841586001}]

{"sheet":"Demanda Hídrica","index":23,"n_rows":401,"n_cols":17,"rows_kept":401,"cut":false,"hidden":false,"merged":[[171,14,171,15],[3,1,3,2],[5,0,6,0],[18,14,18,15],[35,14,35,15],[52,14,52,15],[69,14,69,15],[86,14,86,15],[103,14,103,15],[120,14,120,15],[137,14,137,15],[154,14,154,15],[385,14,385,15],[188,14,188,15],[205,14,205,15],[222,14,222,15],[242,0,242,14],[261,0,261,14],[280,0,280,14]]}
["Platôs de Guadalupe"]
[]
["Unidade da Federação","PIAUÍ"]
["Estação:","Floriano/PI"]
[null,null,"JANEIRO","FEVEREIRO","MARÇO","ABRIL","MAIO","JUNHO","JULHO","AGOSTO","SETEMBRO","OUTUBRO","NOVEMBRO","DEZEMBRO","TOTAL"]
["ETo Penman-Monteith (Cropwat/FAO)","mm/dia",4.01,4.12,3.88,3.9,3.72,3.9,4.12,4.68,4.62,4.8600000000000003,4.8099999999999996,4.18,{"$f":"AVERAGE(C6:N6)","v":4.2333333333333334},"média"]
[null,"mm/mês",{"$f":"C6*31","v":124.30999999999999},{"$f":"D6*28","v":115.36},{"$f":"E6*31","v":120.28},{"$f":"F6*30","v":117},{"$f":"G6*31","v":115.32000000000001},{"$f":"H6*30","v":117},{"$f":"I6*31","v":127.72},{"$f":"J6*31","v":145.07999999999998},{"$f":"K6*30","v":138.6},{"$f":"L6*31","v":150.66},{"$f":"M6*30","v":144.29999999999998},{"$f":"N6*31","v":129.57999999999998},{"$f":"SUM(C7:N7)","v":1545.2099999999998},"total"]
["Precipitação Média","mm/mês",178.9,179.9,188.6,146.4,33.6,8.5,20.3,1.1000000000000001,39.799999999999997,64.099999999999994,91.2,150.30000000000001,{"$f":"SUM(C8:N8)","v":1102.7},"total"]
["Precipitação Efetiva","mm/mês",127.7,128.1,131.69999999999999,112.1,31.8,8.4,19.600000000000001,1.1000000000000001,37.299999999999997,57.5,77.900000000000006,114.2,{"$f":"SUM(C9:N9)","v":847.4},"total"]
["Dados Climatológicos (Climwat 2.0 FAO). "]
["Precipitação Efetiva calculada pelo método do USDA (Cropwat FAO). "]
[]
[]
["Feijão"]
["METODO DE IRRIGAÇÃO:",null,null,"ASPERSÃO"]
["EFICIÊNCIA:",null,null,0.7]
["TEMPO DE BOMBEAMENTO:",null,null,20,"horas/dia"]
["COEFICIENTE DE OCUPAÇÃO DO SOLO:",null,null,1]
["MESES",null,"JANEIRO","FEVEREIRO","MARÇO","ABRIL","MAIO","JUNHO","JULHO","AGOSTO","SETEMBRO","OUTUBRO","NOVEMBRO","DEZEMBRO","TOTAL"]
["ET0",null,{"$f":"C$7","v":124.30999999999999},115.36,120.28,117,115.32000000000001,117,127.72,145.07999999999998,138.6,150.66,144.29999999999998,129.57999999999998,{"$f":"SUM(C20:N20)","v":1545.2099999999998}]
["PRECIPITAÇÃO EFETIVA",null,{"$f":"C$9","v":127.7},128.1,131.69999999999999,112.1,31.8,8.4,19.600000000000001,1.1000000000000001,37.299999999999997,57.5,77.900000000000006,114.2,{"$f":"SUM(C21:N21)","v":847.4}]
[null,null,null,null,null,null,null,null,null,null,null,null,null,null,"mm","m3/ha"]
["Kc",null,{"$f":"AVERAGE(0.78,1,1.09)","v":0.95666666666666667},1.0900000000000001,{"$f":"AVERAGE(0.88,0.52)","v":0.7},null,null,null,null,null,null,null,null,{"$f":"AVERAGE(0.4,0.4,0.54)","v":0.44666666666666671},null,null,{"$f":"AVERAGE(C23:N23)","v":0.79833333333333345}]
["ETc (mm)",null,{"$f":"+C23*C20","v":118.92323333333333},125.7424,84.195999999999998,0,0,0,0,0,0,0,0,57.879066666666667,{"$f":"SUM(C24:N24)","v":386.7407},{"$f":"O24*10","v":3867.4070000000002}]
["LAMINA LIQUIDA (mm)",null,{"$f":"IF(C24-C21>0,(C24-C21)*$D18,0)","v":0},0,0,0,0,0,0,0,0,0,0,0]
["LAMINA BRUTA (mm)",null,{"$f":"+C25/$D16","v":0},0,0,0,0,0,0,0,0,0,0,0,{"$f":"SUM(C26:N26)","v":0},{"$f":"O26*10","v":0}]
["VAZAO (l / s / ha)",null,{"$f":"+C26*10/(D17*3.6*31)","v":0},{"$f":"+D26*10/(D17*3.6*28)","v":0},{"$f":"+E26*10/(D17*3.6*31)","v":0},{"$f":"+F26*10/(D17*3.6*30)","v":0},{"$f":"+G26*10/(D17*3.6*31)","v":0},{"$f":"+H26*10/(D17*3.6*30)","v":0},{"$f":"+I26*10/(D17*3.6*31)","v":0},{"$f":"+J26*10/(D17*3.6*31)","v":0},{"$f":"+K26*10/(D17*3.6*30)","v":0},{"$f":"+L26*10/(D17*3.6*31)","v":0},{"$f":"+M26*10/(D17*3.6*30)","v":0},{"$f":"+N26*10/(D17*3.6*31)","v":0},{"$f":"MAX(C27:N27)","v":0},"l/s/ha"]
["LAMINA BRUTA (mm/dia)",null,{"$f":"C26/31","v":0},{"$f":"D26/28","v":0},{"$f":"E26/31","v":0},{"$f":"F26/30","v":0},{"$f":"G26/31","v":0},{"$f":"H26/30","v":0},{"$f":"I26/31","v":0},{"$f":"J26/31","v":0},{"$f":"K26/30","v":0},{"$f":"L26/31","v":0},{"$f":"M26/30","v":0},{"$f":"N26/31","v":0}]
[]
[]
["Tomate Industrial"]
["METODO DE IRRIGAÇÃO:",null,null,"ASPERSÃO"]
["EFICIÊNCIA:",null,null,0.7]
["TEMPO DE BOMBEAMENTO:",null,null,20,"horas/dia"]
["COEFICIENTE DE OCUPAÇÃO DO SOLO:",null,null,1]
["MESES",null,"JANEIRO","FEVEREIRO","MARÇO","ABRIL","MAIO","JUNHO","JULHO","AGOSTO","SETEMBRO","OUTUBRO","NOVEMBRO","DEZEMBRO","TOTAL"]
["ET0",null,{"$f":"C$7","v":124.30999999999999},115.36,120.28,117,115.32000000000001,117,127.72,145.07999999999998,138.6,150.66,144.29999999999998,129.57999999999998,{"$f":"SUM(C37:N37)","v":1545.2099999999998}]
["PRECIPITAÇÃO EFETIVA",null,{"$f":"C$9","v":127.7},128.1,131.69999999999999,112.1,31.8,8.4,19.600000000000001,1.1000000000000001,37.299999999999997,57.5,77.900000000000006,114.2,{"$f":"SUM(C38:N38)","v":847.4}]
[null,null,null,null,null,null,null,null,null,null,null,null,null,null,"mm","m3/ha"]
["Kc",null,null,null,null,0.6,{"$f":"AVERAGE(0.67,0.8,0.94)","v":0.80333333333333334},{"$f":"AVERAGE(1.07,1.12,1.12)","v":1.1033333333333335},{"$f":"AVERAGE(1.12,1.12,1.09)","v":1.1100000000000001},{"$f":"AVERAGE(0.97,0.85,0.77)","v":0.86333333333333329},null,null,null,null,null,null,{"$f":"AVERAGE(C40:N40)","v":0.89600000000000013}]
["ETc (mm)",null,{"$f":"+C40*C37","v":0},0,0,70.2,92.640400000000014,129.09000000000003,141.76920000000001,125.25239999999998,0,0,0,0,{"$f":"SUM(C41:N41)","v":558.95200000000011},{"$f":"O41*10","v":5589.5200000000013}]
["LAMINA LIQUIDA (mm)",null,{"$f":"IF(C41-C38>0,(C41-C38)*$D35,0)","v":0},0,0,0,60.840400000000017,120.69000000000003,122.16920000000002,124.15239999999999,0,0,0,0]
["LAMINA BRUTA (mm)",null,{"$f":"+C42/$D33","v":0},0,0,0,86.914857142857173,172.41428571428577,174.5274285714286,177.36057142857143,0,0,0,0,{"$f":"SUM(C43:N43)","v":611.21714285714302},{"$f":"O43*10","v":6112.1714285714297}]
["VAZAO (l / s / ha)",null,{"$f":"+C43*10/(D34*3.6*31)","v":0},{"$f":"+D43*10/(D34*3.6*28)","v":0},{"$f":"+E43*10/(D34*3.6*31)","v":0},{"$f":"+F43*10/(D34*3.6*30)","v":0},{"$f":"+G43*10/(D34*3.6*31)","v":0.38940348182283679},{"$f":"+H43*10/(D34*3.6*30)","v":0.79821428571428599},{"$f":"+I43*10/(D34*3.6*31)","v":0.78193292370711731},{"$f":"+J43*10/(D34*3.6*31)","v":0.79462621607782902},{"$f":"+K43*10/(D34*3.6*30)","v":0},{"$f":"+L43*10/(D34*3.6*31)","v":0},{"$f":"+M43*10/(D34*3.6*30)","v":0},{"$f":"+N43*10/(D34*3.6*31)","v":0},{"$f":"MAX(C44:N44)","v":0.79821428571428599},"l/s/ha"]
["LAMINA BRUTA (mm/dia)",null,{"$f":"C43/31","v":0},{"$f":"D43/28","v":0},{"$f":"E43/31","v":0},{"$f":"F43/30","v":0},{"$f":"G43/31","v":2.8037050691244247},{"$f":"H43/30","v":5.7471428571428591},{"$f":"I43/31","v":5.6299170506912448},{"$f":"J43/31","v":5.7213087557603686},{"$f":"K43/30","v":0},{"$f":"L43/31","v":0},{"$f":"M43/30","v":0},{"$f":"N43/31","v":0}]
[]
[]
["Melão"]
["METODO DE IRRIGAÇÃO:",null,null,"GOTEJAMENTO"]
["EFICIÊNCIA:",null,null,0.8]
["TEMPO DE BOMBEAMENTO:",null,null,20,"horas/dia"]
["COEFICIENTE DE OCUPAÇÃO DO SOLO:",null,null,1]
["MESES",null,"JANEIRO","FEVEREIRO","MARÇO","ABRIL","MAIO","JUNHO","JULHO","AGOSTO","SETEMBRO","OUTUBRO","NOVEMBRO","DEZEMBRO","TOTAL"]
["ET0",null,{"$f":"C$7","v":124.30999999999999},115.36,120.28,117,115.32000000000001,117,127.72,145.07999999999998,138.6,150.66,144.29999999999998,129.57999999999998,{"$f":"SUM(C54:N54)","v":1545.2099999999998}]
["PRECIPITAÇÃO EFETIVA",null,{"$f":"C$9","v":127.7},128.1,131.69999999999999,112.1,31.8,8.4,19.600000000000001,1.1000000000000001,37.299999999999997,57.5,77.900000000000006,114.2,{"$f":"SUM(C55:N55)","v":847.4}]
[null,null,null,null,null,null,null,null,null,null,null,null,null,null,"mm","m3/ha"]
["Kc",null,null,null,null,{"$f":"AVERAGE(0.5,0.5,0.52)","v":0.50666666666666671},{"$f":"AVERAGE(0.66,0.81,0.96)","v":0.81},1.02,{"$f":"AVERAGE(1.02,0.92,0.78)","v":0.90666666666666662},null,null,null,null,null,null,null,{"$f":"AVERAGE(C57:N57)","v":0.81083333333333341}]
["ETc (mm)",null,{"$f":"+C57*C54","v":0},0,0,59.280000000000008,93.409200000000013,119.34,115.79946666666666,0,0,0,0,0,{"$f":"SUM(C58:N58)","v":387.82866666666672},{"$f":"O58*10","v":3878.2866666666673}]
["LAMINA LIQUIDA (mm)",null,{"$f":"IF(C58-C55>0,(C58-C55)*$D52,0)","v":0},0,0,0,61.609200000000016,110.94,96.199466666666666,0,0,0,0,0]
["LAMINA BRUTA (mm)",null,{"$f":"+C59/$D50","v":0},0,0,0,77.011500000000012,138.67499999999998,120.24933333333333,0,0,0,0,0,{"$f":"SUM(C60:N60)","v":335.93583333333333},{"$f":"O60*10","v":3359.3583333333336}]
["VAZAO (l / s / ha)",null,{"$f":"+C60*10/(D51*3.6*31)","v":0},{"$f":"+D60*10/(D51*3.6*28)","v":0},{"$f":"+E60*10/(D51*3.6*31)","v":0},{"$f":"+F60*10/(D51*3.6*30)","v":0},{"$f":"+G60*10/(D51*3.6*31)","v":0.34503360215053769},{"$f":"+H60*10/(D51*3.6*30)","v":0.64201388888888877},{"$f":"+I60*10/(D51*3.6*31)","v":0.53875149342891282},{"$f":"+J60*10/(D51*3.6*31)","v":0},{"$f":"+K60*10/(D51*3.6*30)","v":0},{"$f":"+L60*10/(D51*3.6*31)","v":0},{"$f":"+M60*10/(D51*3.6*30)","v":0},{"$f":"+N60*10/(D51*3.6*31)","v":0},{"$f":"MAX(C61:N61)","v":0.64201388888888877},"l/s/ha"]
["LAMINA BRUTA (mm/dia)",null,{"$f":"C60/31","v":0},{"$f":"D60/28","v":0},{"$f":"E60/31","v":0},{"$f":"F60/30","v":0},{"$f":"G60/31","v":2.4842419354838712},{"$f":"H60/30","v":4.6224999999999996},{"$f":"I60/31","v":3.8790107526881719},{"$f":"J60/31","v":0},{"$f":"K60/30","v":0},{"$f":"L60/31","v":0},{"$f":"M60/30","v":0},{"$f":"N60/31","v":0}]
[]
[]
["Melancia"]
["METODO DE IRRIGAÇÃO:",null,null,"GOTEJAMENTO"]
["EFICIÊNCIA:",null,null,0.8]
["TEMPO DE BOMBEAMENTO:",null,null,20,"horas/dia"]
["COEFICIENTE DE OCUPAÇÃO DO SOLO:",null,null,1]
["MESES",null,"JANEIRO","FEVEREIRO","MARÇO","ABRIL","MAIO","JUNHO","JULHO","AGOSTO","SETEMBRO","OUTUBRO","NOVEMBRO","DEZEMBRO","TOTAL"]
["ET0",null,{"$f":"C$7","v":124.30999999999999},115.36,120.28,117,115.32000000000001,117,127.72,145.07999999999998,138.6,150.66,144.29999999999998,129.57999999999998,{"$f":"SUM(C71:N71)","v":1545.2099999999998}]
["PRECIPITAÇÃO EFETIVA",null,{"$f":"C$9","v":127.7},128.1,131.69999999999999,112.1,31.8,8.4,19.600000000000001,1.1000000000000001,37.299999999999997,57.5,77.900000000000006,114.2,{"$f":"SUM(C72:N72)","v":847.4}]
[null,null,null,null,null,null,null,null,null,null,null,null,null,null,"mm","m3/ha"]
["Kc",null,null,null,null,{"$f":"AVERAGE(0.5,0.5,0.52)","v":0.50666666666666671},{"$f":"AVERAGE(0.66,0.81,0.96)","v":0.81},1.02,{"$f":"AVERAGE(1.02,0.92,0.78)","v":0.90666666666666662},null,null,null,null,null,null,null,{"$f":"AVERAGE(C74:N74)","v":0.81083333333333341}]
["ETc (mm)",null,{"$f":"+C74*C71","v":0},0,0,59.280000000000008,93.409200000000013,119.34,115.79946666666666,0,0,0,0,0,{"$f":"SUM(C75:N75)","v":387.82866666666672},{"$f":"O75*10","v":3878.2866666666673}]
["LAMINA LIQUIDA (mm)",null,{"$f":"IF(C75-C72>0,(C75-C72)*$D69,0)","v":0},0,0,0,61.609200000000016,110.94,96.199466666666666,0,0,0,0,0]
["LAMINA BRUTA (mm)",null,{"$f":"+C76/$D67","v":0},0,0,0,77.011500000000012,138.67499999999998,120.24933333333333,0,0,0,0,0,{"$f":"SUM(C77:N77)","v":335.93583333333333},{"$f":"O77*10","v":3359.3583333333336}]
["VAZAO (l / s / ha)",null,{"$f":"+C77*10/(D68*3.6*31)","v":0},{"$f":"+D77*10/(D68*3.6*28)","v":0},{"$f":"+E77*10/(D68*3.6*31)","v":0},{"$f":"+F77*10/(D68*3.6*30)","v":0},{"$f":"+G77*10/(D68*3.6*31)","v":0.34503360215053769},{"$f":"+H77*10/(D68*3.6*30)","v":0.64201388888888877},{"$f":"+I77*10/(D68*3.6*31)","v":0.53875149342891282},{"$f":"+J77*10/(D68*3.6*31)","v":0},{"$f":"+K77*10/(D68*3.6*30)","v":0},{"$f":"+L77*10/(D68*3.6*31)","v":0},{"$f":"+M77*10/(D68*3.6*30)","v":0},{"$f":"+N77*10/(D68*3.6*31)","v":0},{"$f":"MAX(C78:N78)","v":0.64201388888888877},"l/s/ha"]
["LAMINA BRUTA (mm/dia)",null,{"$f":"C77/31","v":0},{"$f":"D77/28","v":0},{"$f":"E77/31","v":0},{"$f":"F77/30","v":0},{"$f":"G77/31","v":2.4842419354838712},{"$f":"H77/30","v":4.6224999999999996},{"$f":"I77/31","v":3.8790107526881719},{"$f":"J77/31","v":0},{"$f":"K77/30","v":0},{"$f":"L77/31","v":0},{"$f":"M77/30","v":0},{"$f":"N77/31","v":0}]
[]
[]
["Abacaxi"]
["METODO DE IRRIGAÇÃO:",null,null,"ASPERSÃO"]
["EFICIÊNCIA:",null,null,0.7]
["TEMPO DE BOMBEAMENTO:",null,null,20,"horas/dia"]
["COEFICIENTE DE OCUPAÇÃO DO SOLO:",null,null,1]
["MESES",null,"JANEIRO","FEVEREIRO","MARÇO","ABRIL","MAIO","JUNHO","JULHO","AGOSTO","SETEMBRO","OUTUBRO","NOVEMBRO","DEZEMBRO","TOTAL"]
["ET0",null,{"$f":"C$7","v":124.30999999999999},115.36,120.28,117,115.32000000000001,117,127.72,145.07999999999998,138.6,150.66,144.29999999999998,129.57999999999998,{"$f":"SUM(C88:N88)","v":1545.2099999999998}]
["PRECIPITAÇÃO EFETIVA",null,{"$f":"C$9","v":127.7},128.1,131.69999999999999,112.1,31.8,8.4,19.600000000000001,1.1000000000000001,37.299999999999997,{"$f":"L$9","v":57.5},77.900000000000006,114.2,{"$f":"SUM(C89:N89)","v":847.4}]
[null,null,null,null,null,null,null,null,null,null,null,null,null,null,"mm","m3/ha"]
["Kc",null,0.5,0.56000000000000005,0.59,0.6,0.7,0.8,0.9,1,0.7,0.5,0.5,0.5,null,null,{"$f":"AVERAGE(C91:N91)","v":0.65416666666666667}]
["ETc (mm)",null,{"$f":"+C91*C88","v":62.154999999999994},64.601600000000005,70.965199999999996,70.2,80.724000000000004,93.600000000000009,114.94800000000001,145.07999999999998,97.02,75.33,72.149999999999991,64.789999999999992,{"$f":"SUM(C92:N92)","v":1011.5637999999999},{"$f":"O92*10","v":10115.637999999999}]
["LAMINA LIQUIDA (mm)",null,{"$f":"IF(C92-C89>0,(C92-C89)*$D86,0)","v":0},0,0,0,48.924000000000007,85.2,95.348000000000013,143.97999999999999,59.72,17.829999999999998,0,0]
["LAMINA BRUTA (mm)",null,{"$f":"+C93/$D84","v":0},0,0,0,69.891428571428591,121.71428571428572,136.2114285714286,205.68571428571428,85.314285714285717,25.471428571428572,0,0,{"$f":"SUM(C94:N94)","v":644.28857142857146},{"$f":"O94*10","v":6442.8857142857141}]
["VAZAO (l / s / ha)",null,{"$f":"+C94*10/(D85*3.6*31)","v":0},{"$f":"+D94*10/(D85*3.6*28)","v":0},{"$f":"+E94*10/(D85*3.6*31)","v":0},{"$f":"+F94*10/(D85*3.6*30)","v":0},{"$f":"+G94*10/(D85*3.6*31)","v":0.31313364055299547},{"$f":"+H94*10/(D85*3.6*30)","v":0.5634920634920636},{"$f":"+I94*10/(D85*3.6*31)","v":0.61026625704045068},{"$f":"+J94*10/(D85*3.6*31)","v":0.92153097798259076},{"$f":"+K94*10/(D85*3.6*30)","v":0.39497354497354498},{"$f":"+L94*10/(D85*3.6*31)","v":0.11411930363543267},{"$f":"+M94*10/(D85*3.6*30)","v":0},{"$f":"+N94*10/(D85*3.6*31)","v":0},{"$f":"MAX(C95:N95)","v":0.92153097798259076},"l/s/ha"]
["LAMINA BRUTA (mm/dia)",null,{"$f":"C94/31","v":0},{"$f":"D94/28","v":0},{"$f":"E94/31","v":0},{"$f":"F94/30","v":0},{"$f":"G94/31","v":2.2545622119815674},{"$f":"H94/30","v":4.0571428571428578},{"$f":"I94/31","v":4.3939170506912451},{"$f":"J94/31","v":6.6350230414746543},{"$f":"K94/30","v":2.843809523809524},{"$f":"L94/31","v":0.82165898617511524},{"$f":"M94/30","v":0},{"$f":"N94/31","v":0}]
[]
[]
["Acerola"]
["METODO DE IRRIGAÇÃO:",null,null,"GOTEJAMENTO"]
["EFICIÊNCIA:",null,null,0.8]
["TEMPO DE BOMBEAMENTO:",null,null,20,"horas/dia"]
["COEFICIENTE DE OCUPAÇÃO DO SOLO:",null,null,1]
["MESES",null,"JANEIRO","FEVEREIRO","MARÇO","ABRIL","MAIO","JUNHO","JULHO","AGOSTO","SETEMBRO","OUTUBRO","NOVEMBRO","DEZEMBRO","TOTAL"]
["ET0",null,{"$f":"C$7","v":124.30999999999999},115.36,120.28,117,115.32000000000001,117,127.72,145.07999999999998,138.6,150.66,144.29999999999998,129.57999999999998,{"$f":"SUM(C105:N105)","v":1545.2099999999998}]
["PRECIPITAÇÃO EFETIVA",null,{"$f":"C$9","v":127.7},128.1,131.69999999999999,112.1,31.8,8.4,19.600000000000001,1.1000000000000001,37.299999999999997,57.5,77.900000000000006,114.2,{"$f":"SUM(C106:N106)","v":847.4}]
[null,null,null,null,null,null,null,null,null,null,null,null,null,null,"mm","m3/ha"]
["Kc",null,1.39,1.39,1.39,1.39,1.39,1.39,1.39,1.39,1.39,1.39,1.39,1.39,null,null,{"$f":"AVERAGE(C108:N108)","v":1.3900000000000003}]
["ETc (mm)",null,{"$f":"+C108*C105","v":172.79089999999997},160.35039999999998,167.1892,162.63,160.29480000000001,162.63,177.5308,201.66119999999995,192.65399999999997,209.41739999999999,200.57699999999997,180.11619999999996,{"$f":"SUM(C109:N109)","v":2147.8418999999999},{"$f":"O109*10","v":21478.418999999998}]
["LAMINA LIQUIDA (mm)",null,{"$f":"IF(C109-C106>0,(C109-C106)*$D103,0)","v":45.090899999999962},32.250399999999985,35.489200000000011,50.53,128.4948,154.22999999999999,157.9308,200.56119999999996,155.35399999999998,151.91739999999999,122.67699999999996,65.916199999999961]
["LAMINA BRUTA (mm)",null,{"$f":"+C110/$D101","v":56.363624999999949},40.312999999999981,44.361500000000014,63.162500000000001,160.61849999999998,192.78749999999997,197.4135,250.70149999999992,194.19249999999997,189.89674999999997,153.34624999999994,82.395249999999947,{"$f":"SUM(C111:N111)","v":1625.5523749999998},{"$f":"O111*10","v":16255.523749999997}]
["VAZAO (l / s / ha)",null,{"$f":"+C111*10/(D102*3.6*31)","v":0.25252520161290298},{"$f":"+D111*10/(D102*3.6*28)","v":0.1999652777777777},{"$f":"+E111*10/(D102*3.6*31)","v":0.19875224014336923},{"$f":"+F111*10/(D102*3.6*30)","v":0.29241898148148149},{"$f":"+G111*10/(D102*3.6*31)","v":0.71961693548387096},{"$f":"+H111*10/(D102*3.6*30)","v":0.89253472222222197},{"$f":"+I111*10/(D102*3.6*31)","v":0.88446908602150542},{"$f":"+J111*10/(D102*3.6*31)","v":1.1232146057347667},{"$f":"+K111*10/(D102*3.6*30)","v":0.89903935185185169},{"$f":"+L111*10/(D102*3.6*31)","v":0.85079189068100347},{"$f":"+M111*10/(D102*3.6*30)","v":0.70993634259259231},{"$f":"+N111*10/(D102*3.6*31)","v":0.36915434587813595},{"$f":"MAX(C112:N112)","v":1.1232146057347667},"l/s/ha"]
["LAMINA BRUTA (mm/dia)",null,{"$f":"C111/31","v":1.8181814516129016},{"$f":"D111/28","v":1.4397499999999994},{"$f":"E111/31","v":1.4310161290322585},{"$f":"F111/30","v":2.1054166666666667},{"$f":"G111/31","v":5.1812419354838708},{"$f":"H111/30","v":6.4262499999999987},{"$f":"I111/31","v":6.3681774193548391},{"$f":"J111/31","v":8.0871451612903194},{"$f":"K111/30","v":6.4730833333333324},{"$f":"L111/31","v":6.1257016129032245},{"$f":"M111/30","v":5.1115416666666649},{"$f":"N111/31","v":2.6579112903225788}]
[]
[]
["Banana"]
["METODO DE IRRIGAÇÃO:",null,null,"MICROASPERSÃO"]
["EFICIÊNCIA:",null,null,0.75]
["TEMPO DE BOMBEAMENTO:",null,null,20,"horas/dia"]
["COEFICIENTE DE OCUPAÇÃO DO SOLO:",null,null,1]
["MESES",null,"JANEIRO","FEVEREIRO","MARÇO","ABRIL","MAIO","JUNHO","JULHO","AGOSTO","SETEMBRO","OUTUBRO","NOVEMBRO","DEZEMBRO","TOTAL"]
["ET0",null,{"$f":"C$7","v":124.30999999999999},115.36,120.28,117,115.32000000000001,117,127.72,145.07999999999998,138.6,150.66,144.29999999999998,129.57999999999998,{"$f":"SUM(C122:N122)","v":1545.2099999999998}]
["PRECIPITAÇÃO EFETIVA",null,{"$f":"C$9","v":127.7},128.1,131.69999999999999,112.1,31.8,8.4,19.600000000000001,1.1000000000000001,37.299999999999997,57.5,77.900000000000006,114.2,{"$f":"SUM(C123:N123)","v":847.4}]
[null,null,null,null,null,null,null,null,null,null,null,null,null,null,"mm","m3/ha"]
["Kc",null,{"$f":"AVERAGE(1.05,1.07,1.08)","v":1.0666666666666667},1.0900000000000001,1.0900000000000001,1.0900000000000001,1.0900000000000001,1.0900000000000001,{"$f":"AVERAGE(1.08,1.08,1.07)","v":1.0766666666666669},{"$f":"AVERAGE(1.06,1.06,1.05)","v":1.0566666666666666},{"$f":"AVERAGE(1.05,1.04,1.03)","v":1.04},1,1,{"$f":"AVERAGE(1.01,1.02,1.04)","v":1.0233333333333334},null,null,{"$f":"AVERAGE(C125:N125)","v":1.0594444444444446}]
["ETc (mm)",null,{"$f":"+C125*C122","v":132.59733333333332},125.7424,131.10520000000002,127.53000000000002,125.69880000000002,127.53000000000002,137.51186666666669,153.30119999999997,144.14400000000001,150.66,144.29999999999998,132.60353333333333,{"$f":"SUM(C126:N126)","v":1632.7243333333336},{"$f":"O126*10","v":16327.243333333336}]
["LAMINA LIQUIDA (mm)",null,{"$f":"IF(C126-C123>0,(C126-C123)*$D120,0)","v":4.8973333333333215},0,0,15.430000000000021,93.898800000000023,119.13000000000001,117.9118666666667,152.20119999999997,106.84400000000001,93.16,66.399999999999977,18.403533333333328]
["LAMINA BRUTA (mm)",null,{"$f":"+C127/$D118","v":6.5297777777777624},0,0,20.573333333333363,125.19840000000003,158.84,157.21582222222227,202.9349333333333,142.45866666666669,124.21333333333332,88.533333333333303,24.538044444444438,{"$f":"SUM(C128:N128)","v":1051.0356444444446},{"$f":"O128*10","v":10510.356444444446}]
["VAZAO (l / s / ha)",null,{"$f":"+C128*10/(D119*3.6*31)","v":2.9255276782158435E-2},{"$f":"+D128*10/(D119*3.6*28)","v":0},{"$f":"+E128*10/(D119*3.6*31)","v":0},{"$f":"+F128*10/(D119*3.6*30)","v":9.5246913580247047E-2},{"$f":"+G128*10/(D119*3.6*31)","v":0.56092473118279584},{"$f":"+H128*10/(D119*3.6*30)","v":0.73537037037037045},{"$f":"+I128*10/(D119*3.6*31)","v":0.70437196336121088},{"$f":"+J128*10/(D119*3.6*31)","v":0.90920669056152914},{"$f":"+K128*10/(D119*3.6*30)","v":0.65953086419753093},{"$f":"+L128*10/(D119*3.6*31)","v":0.55651135005973706},{"$f":"+M128*10/(D119*3.6*30)","v":0.40987654320987638},{"$f":"+N128*10/(D119*3.6*31)","v":0.1099374751095181},{"$f":"MAX(C129:N129)","v":0.90920669056152914},"l/s/ha"]
["LAMINA BRUTA (mm/dia)",null,{"$f":"C128/31","v":0.21063799283154072},{"$f":"D128/28","v":0},{"$f":"E128/31","v":0},{"$f":"F128/30","v":0.68577777777777871},{"$f":"G128/31","v":4.0386580645161301},{"$f":"H128/30","v":5.2946666666666671},{"$f":"I128/31","v":5.0714781362007182},{"$f":"J128/31","v":6.5462881720430097},{"$f":"K128/30","v":4.748622222222223},{"$f":"L128/31","v":4.0068817204301075},{"$f":"M128/30","v":2.9511111111111101},{"$f":"N128/31","v":0.7915498207885302}]
[]
[]
["Coco"]
["METODO DE IRRIGAÇÃO:",null,null,"MICROASPERSÃO"]
["EFICIÊNCIA:",null,null,0.75]
["TEMPO DE BOMBEAMENTO:",null,null,20,"horas/dia"]
["COEFICIENTE DE OCUPAÇÃO DO SOLO:",null,null,1]
["MESES",null,"JANEIRO","FEVEREIRO","MARÇO","ABRIL","MAIO","JUNHO","JULHO","AGOSTO","SETEMBRO","OUTUBRO","NOVEMBRO","DEZEMBRO","TOTAL"]
["ET0",null,{"$f":"C$7","v":124.30999999999999},115.36,120.28,117,115.32000000000001,117,127.72,145.07999999999998,138.6,150.66,144.29999999999998,129.57999999999998,{"$f":"SUM(C139:N139)","v":1545.2099999999998}]
["PRECIPITAÇÃO EFETIVA",null,{"$f":"C$9","v":127.7},128.1,131.69999999999999,112.1,31.8,8.4,19.600000000000001,1.1000000000000001,37.299999999999997,57.5,77.900000000000006,114.2,{"$f":"SUM(C140:N140)","v":847.4}]
[null,null,null,null,null,null,null,null,null,null,null,null,null,null,"mm","m3/ha"]
["Kc",null,0.8,0.8,0.8,0.8,0.8,0.8,0.8,0.8,0.8,0.8,0.8,0.8,null,null,{"$f":"AVERAGE(C142:N142)","v":0.79999999999999993}]
["ETc (mm)",null,{"$f":"+C142*C139","v":99.447999999999993},92.288000000000011,96.224000000000004,93.600000000000009,92.256000000000014,93.600000000000009,102.176,116.06399999999999,110.88,120.52800000000001,115.44,103.66399999999999,{"$f":"SUM(C143:N143)","v":1236.1680000000001},{"$f":"O143*10","v":12361.68}]
["LAMINA LIQUIDA (mm)",null,{"$f":"IF(C143-C140>0,(C143-C140)*$D137,0)","v":0},0,0,0,60.456000000000017,85.2,82.575999999999993,114.964,73.58,63.028000000000006,37.539999999999992,0]
["LAMINA BRUTA (mm)",null,{"$f":"+C144/$D135","v":0},0,0,0,80.608000000000018,113.60000000000001,110.10133333333333,153.28533333333334,98.106666666666669,84.037333333333336,50.05333333333332,0,{"$f":"SUM(C145:N145)","v":689.79200000000003},{"$f":"O145*10","v":6897.92}]
["VAZAO (l / s / ha)",null,{"$f":"+C145*10/(D136*3.6*31)","v":0},{"$f":"+D145*10/(D136*3.6*28)","v":0},{"$f":"+E145*10/(D136*3.6*31)","v":0},{"$f":"+F145*10/(D136*3.6*30)","v":0},{"$f":"+G145*10/(D136*3.6*31)","v":0.36114695340501801},{"$f":"+H145*10/(D136*3.6*30)","v":0.52592592592592591},{"$f":"+I145*10/(D136*3.6*31)","v":0.49328554360812427},{"$f":"+J145*10/(D136*3.6*31)","v":0.68676224611708492},{"$f":"+K145*10/(D136*3.6*30)","v":0.45419753086419756},{"$f":"+L145*10/(D136*3.6*31)","v":0.37651135005973718},{"$f":"+M145*10/(D136*3.6*30)","v":0.23172839506172832},{"$f":"+N145*10/(D136*3.6*31)","v":0},{"$f":"MAX(C146:N146)","v":0.68676224611708492},"l/s/ha"]
["LAMINA BRUTA (mm/dia)",null,{"$f":"C145/31","v":0},{"$f":"D145/28","v":0},{"$f":"E145/31","v":0},{"$f":"F145/30","v":0},{"$f":"G145/31","v":2.6002580645161295},{"$f":"H145/30","v":3.7866666666666671},{"$f":"I145/31","v":3.5516559139784944},{"$f":"J145/31","v":4.9446881720430111},{"$f":"K145/30","v":3.2702222222222224},{"$f":"L145/31","v":2.7108817204301077},{"$f":"M145/30","v":1.668444444444444},{"$f":"N145/31","v":0}]
[]
[]
["Goiaba"]
["METODO DE IRRIGAÇÃO:",null,null,"MICROASPERSÃO"]
["EFICIÊNCIA:",null,null,0.75]
["TEMPO DE BOMBEAMENTO:",null,null,20,"horas/dia"]
["COEFICIENTE DE OCUPAÇÃO DO SOLO:",null,null,1]
["MESES",null,"JANEIRO","FEVEREIRO","MARÇO","ABRIL","MAIO","JUNHO","JULHO","AGOSTO","SETEMBRO","OUTUBRO","NOVEMBRO","DEZEMBRO","TOTAL"]
["ET0",null,{"$f":"C$7","v":124.30999999999999},115.36,120.28,117,115.32000000000001,117,127.72,145.07999999999998,138.6,150.66,144.29999999999998,129.57999999999998,{"$f":"SUM(C156:N156)","v":1545.2099999999998}]
["PRECIPITAÇÃO EFETIVA",null,{"$f":"C$9","v":127.7},128.1,131.69999999999999,112.1,31.8,8.4,19.600000000000001,1.1000000000000001,37.299999999999997,57.5,77.900000000000006,114.2,{"$f":"SUM(C157:N157)","v":847.4}]
[null,null,null,null,null,null,null,null,null,null,null,null,null,null,"mm","m3/ha"]
["Kc",null,0.7,0.7,0.7,0.7,0.7,0.7,0.7,0.7,0.7,0.7,0.7,0.7,null,null,{"$f":"AVERAGE(C159:N159)","v":0.70000000000000007}]
["ETc (mm)",null,{"$f":"+C159*C156","v":87.016999999999982},80.751999999999995,84.195999999999998,81.899999999999991,80.724000000000004,81.899999999999991,89.403999999999996,101.55599999999998,97.02,105.46199999999999,101.00999999999998,90.705999999999989,{"$f":"SUM(C160:N160)","v":1081.6469999999997},{"$f":"O160*10","v":10816.469999999998}]
["LAMINA LIQUIDA (mm)",null,{"$f":"IF(C160-C157>0,(C160-C157)*$D154,0)","v":0},0,0,{"$f":"IF(F160-F157>0,(F160-F157)*$D154,0)","v":0},{"$f":"IF(G160-G157>0,(G160-G157)*$D154,0)","v":48.924000000000007},{"$f":"IF(H160-H157>0,(H160-H157)*$D154,0)","v":73.499999999999986},{"$f":"IF(I160-I157>0,(I160-I157)*$D154,0)","v":69.804000000000002},100.45599999999999,59.72,47.961999999999989,23.109999999999971,0]
["LAMINA BRUTA (mm)",null,{"$f":"+C161/$D152","v":0},0,0,{"$f":"+F161/$D152","v":0},{"$f":"+G161/$D152","v":65.232000000000014},{"$f":"+H161/$D152","v":97.999999999999986},{"$f":"+I161/$D152","v":93.072000000000003},133.94133333333332,79.626666666666665,63.949333333333321,30.813333333333293,0,{"$f":"SUM(C162:N162)","v":564.63466666666659},{"$f":"O162*10","v":5646.3466666666664}]
["VAZAO (l / s / ha)",null,{"$f":"+C162*10/(D153*3.6*31)","v":0},{"$f":"+D162*10/(D153*3.6*28)","v":0},{"$f":"+E162*10/(D153*3.6*31)","v":0},{"$f":"+F162*10/(D153*3.6*30)","v":0},{"$f":"+G162*10/(D153*3.6*30)","v":0.3020000000000001},{"$f":"+H162*10/(D153*3.6*30)","v":0.45370370370370366},{"$f":"+I162*10/(D153*3.6*30)","v":0.43088888888888888},{"$f":"+J162*10/(D153*3.6*31)","v":0.60009557945041814},{"$f":"+K162*10/(D153*3.6*30)","v":0.36864197530864196},{"$f":"+L162*10/(D153*3.6*31)","v":0.2865113500597371},{"$f":"+M162*10/(D153*3.6*30)","v":0.14265432098765413},{"$f":"+N162*10/(D153*3.6*31)","v":0},{"$f":"MAX(C163:N163)","v":0.60009557945041814},"l/s/ha"]
["LAMINA BRUTA (mm/dia)",null,{"$f":"C162/31","v":0},{"$f":"D162/28","v":0},{"$f":"E162/31","v":0},{"$f":"F162/30","v":0},{"$f":"G162/31","v":2.1042580645161295},{"$f":"H162/30","v":3.2666666666666662},{"$f":"I162/30","v":3.1024000000000003},{"$f":"J162/31","v":4.3206881720430106},{"$f":"K162/30","v":2.6542222222222223},{"$f":"L162/31","v":2.0628817204301071},{"$f":"M162/30","v":1.0271111111111098},{"$f":"N162/31","v":0}]
[]
[]
["Mamão"]
["METODO DE IRRIGAÇÃO:",null,null,"MICROASPERSÃO"]
["EFICIÊNCIA:",null,null,0.75]
["TEMPO DE BOMBEAMENTO:",null,null,20,"horas/dia"]
["COEFICIENTE DE OCUPAÇÃO DO SOLO:",null,null,1]
["MESES",null,"JANEIRO","FEVEREIRO","MARÇO","ABRIL","MAIO","JUNHO","JULHO","AGOSTO","SETEMBRO","OUTUBRO","NOVEMBRO","DEZEMBRO","TOTAL"]
["ET0",null,{"$f":"C$7","v":124.30999999999999},115.36,120.28,117,115.32000000000001,117,127.72,145.07999999999998,138.6,150.66,144.29999999999998,129.57999999999998,{"$f":"SUM(C173:N173)","v":1545.2099999999998}]
["PRECIPITAÇÃO EFETIVA",null,{"$f":"C$9","v":127.7},128.1,131.69999999999999,112.1,31.8,8.4,19.600000000000001,1.1000000000000001,37.299999999999997,57.5,77.900000000000006,114.2,{"$f":"SUM(C174:N174)","v":847.4}]
[null,null,null,null,null,null,null,null,null,null,null,null,null,null,"mm","m3/ha"]
["Kc",null,0.7,0.7,0.7,0.7,0.7,0.7,0.7,0.7,0.7,0.7,0.7,0.7,null,null,{"$f":"AVERAGE(C176:N176)","v":0.70000000000000007}]
["ETc (mm)",null,{"$f":"+C176*C173","v":87.016999999999982},80.751999999999995,84.195999999999998,81.899999999999991,80.724000000000004,81.899999999999991,89.403999999999996,101.55599999999998,97.02,105.46199999999999,101.00999999999998,90.705999999999989,{"$f":"SUM(C177:N177)","v":1081.6469999999997},{"$f":"O177*10","v":10816.469999999998}]
["LAMINA LIQUIDA (mm)",null,{"$f":"IF(C177-C174>0,(C177-C174)*$D171,0)","v":0},0,0,0,48.924000000000007,73.499999999999986,69.804000000000002,100.45599999999999,59.72,47.961999999999989,23.109999999999971,0]
["LAMINA BRUTA (mm)",null,{"$f":"+C178/$D169","v":0},0,0,0,65.232000000000014,97.999999999999986,93.072000000000003,133.94133333333332,79.626666666666665,63.949333333333321,30.813333333333293,0,{"$f":"SUM(C179:N179)","v":564.63466666666659},{"$f":"O179*10","v":5646.3466666666664}]
["VAZAO (l / s / ha)",null,{"$f":"+C179*10/(D170*3.6*31)","v":0},{"$f":"+D179*10/(D170*3.6*28)","v":0},{"$f":"+E179*10/(D170*3.6*31)","v":0},{"$f":"+F179*10/(D170*3.6*30)","v":0},{"$f":"+G179*10/(D170*3.6*30)","v":0.3020000000000001},{"$f":"+H179*10/(D170*3.6*30)","v":0.45370370370370366},{"$f":"+I179*10/(D170*3.6*30)","v":0.43088888888888888},{"$f":"+J179*10/(D170*3.6*31)","v":0.60009557945041814},{"$f":"+K179*10/(D170*3.6*30)","v":0.36864197530864196},{"$f":"+L179*10/(D170*3.6*31)","v":0.2865113500597371},{"$f":"+M179*10/(D170*3.6*30)","v":0.14265432098765413},{"$f":"+N179*10/(D170*3.6*31)","v":0},{"$f":"MAX(C180:N180)","v":0.60009557945041814},"l/s/ha"]
["LAMINA BRUTA (mm/dia)",null,{"$f":"C179/31","v":0},{"$f":"D179/28","v":0},{"$f":"E179/31","v":0},{"$f":"F179/30","v":0},{"$f":"G179/31","v":2.1042580645161295},{"$f":"H179/30","v":3.2666666666666662},{"$f":"I179/30","v":3.1024000000000003},{"$f":"J179/31","v":4.3206881720430106},{"$f":"K179/30","v":2.6542222222222223},{"$f":"L179/31","v":2.0628817204301071},{"$f":"M179/30","v":1.0271111111111098},{"$f":"N179/31","v":0}]
[]
[]
["Maracujá"]
["METODO DE IRRIGAÇÃO:",null,null,"MICROASPERSÃO"]
["EFICIÊNCIA:",null,null,0.75]
["TEMPO DE BOMBEAMENTO:",null,null,20,"horas/dia"]
["COEFICIENTE DE OCUPAÇÃO DO SOLO:",null,null,1]
["MESES",null,"JANEIRO","FEVEREIRO","MARÇO","ABRIL","MAIO","JUNHO","JULHO","AGOSTO","SETEMBRO","OUTUBRO","NOVEMBRO","DEZEMBRO","TOTAL"]
["ET0",null,{"$f":"C$7","v":124.30999999999999},115.36,120.28,117,115.32000000000001,117,127.72,145.07999999999998,138.6,150.66,144.29999999999998,129.57999999999998,{"$f":"SUM(C190:N190)","v":1545.2099999999998}]
["PRECIPITAÇÃO EFETIVA",null,{"$f":"C$9","v":127.7},128.1,131.69999999999999,112.1,31.8,8.4,19.600000000000001,1.1000000000000001,37.299999999999997,57.5,77.900000000000006,114.2,{"$f":"SUM(C191:N191)","v":847.4}]
[null,null,null,null,null,null,null,null,null,null,null,null,null,null,"mm","m3/ha"]
["Kc",null,0.8,0.8,0.8,0.8,0.8,0.8,0.8,0.8,0.8,0.8,0.8,0.8,null,null,{"$f":"AVERAGE(C193:N193)","v":0.79999999999999993}]
["ETc (mm)",null,{"$f":"+C193*C190","v":99.447999999999993},92.288000000000011,96.224000000000004,93.600000000000009,92.256000000000014,93.600000000000009,102.176,116.06399999999999,110.88,120.52800000000001,115.44,103.66399999999999,{"$f":"SUM(C194:N194)","v":1236.1680000000001},{"$f":"O194*10","v":12361.68}]
["LAMINA LIQUIDA (mm)",null,{"$f":"IF(C194-C191>0,(C194-C191)*$D188,0)","v":0},0,0,0,60.456000000000017,85.2,82.575999999999993,114.964,73.58,63.028000000000006,37.539999999999992,0]
["LAMINA BRUTA (mm)",null,{"$f":"+C195/$D186","v":0},0,0,0,80.608000000000018,113.60000000000001,110.10133333333333,153.28533333333334,98.106666666666669,84.037333333333336,50.05333333333332,0,{"$f":"SUM(C196:N196)","v":689.79200000000003},{"$f":"O196*10","v":6897.92}]
["VAZAO (l / s / ha)",null,{"$f":"+C196*10/(D187*3.6*31)","v":0},{"$f":"+D196*10/(D187*3.6*28)","v":0},{"$f":"+E196*10/(D187*3.6*31)","v":0},{"$f":"+F196*10/(D187*3.6*30)","v":0},{"$f":"+G196*10/(D187*3.6*30)","v":0.37318518518518523},{"$f":"+H196*10/(D187*3.6*30)","v":0.52592592592592591},{"$f":"+I196*10/(D187*3.6*30)","v":0.5097283950617284},{"$f":"+J196*10/(D187*3.6*31)","v":0.68676224611708492},{"$f":"+K196*10/(D187*3.6*30)","v":0.45419753086419756},{"$f":"+L196*10/(D187*3.6*31)","v":0.37651135005973718},{"$f":"+M196*10/(D187*3.6*30)","v":0.23172839506172832},{"$f":"+N196*10/(D187*3.6*31)","v":0},{"$f":"MAX(C197:N197)","v":0.68676224611708492},"l/s/ha"]
["LAMINA BRUTA (mm/dia)",null,{"$f":"C196/31","v":0},{"$f":"D196/28","v":0},{"$f":"E196/31","v":0},{"$f":"F196/30","v":0},{"$f":"G196/31","v":2.6002580645161295},{"$f":"H196/30","v":3.7866666666666671},{"$f":"I196/30","v":3.6700444444444442},{"$f":"J196/31","v":4.9446881720430111},{"$f":"K196/30","v":3.2702222222222224},{"$f":"L196/31","v":2.7108817204301077},{"$f":"M196/30","v":1.668444444444444},{"$f":"N196/31","v":0}]
[]
[]
["Uva"]
["METODO DE IRRIGAÇÃO:",null,null,"GOTEJAMENTO"]
["EFICIÊNCIA:",null,null,0.8]
["TEMPO DE BOMBEAMENTO:",null,null,20,"horas/dia"]
["COEFICIENTE DE OCUPAÇÃO DO SOLO:",null,null,1]
["MESES",null,"JANEIRO","FEVEREIRO","MARÇO","ABRIL","MAIO","JUNHO","JULHO","AGOSTO","SETEMBRO","OUTUBRO","NOVEMBRO","DEZEMBRO","TOTAL"]
["ET0",null,{"$f":"C$7","v":124.30999999999999},115.36,120.28,117,115.32000000000001,117,127.72,145.07999999999998,138.6,150.66,144.29999999999998,129.57999999999998,{"$f":"SUM(C207:N207)","v":1545.2099999999998}]
["PRECIPITAÇÃO EFETIVA",null,{"$f":"C$9","v":127.7},128.1,131.69999999999999,112.1,31.8,8.4,19.600000000000001,1.1000000000000001,37.299999999999997,57.5,77.900000000000006,114.2,{"$f":"SUM(C208:N208)","v":847.4}]
[null,null,null,null,null,null,null,null,null,null,null,null,null,null,"mm","m3/ha"]
["Kc",null,0.7,0.7,0.7,0.7,0.7,0.7,0.7,0.7,0.7,0.7,0.7,0.7,null,null,{"$f":"AVERAGE(C210:N210)","v":0.70000000000000007}]
["ETc (mm)",null,{"$f":"+C210*C207","v":87.016999999999982},80.751999999999995,84.195999999999998,81.899999999999991,80.724000000000004,81.899999999999991,89.403999999999996,101.55599999999998,97.02,105.46199999999999,101.00999999999998,90.705999999999989,{"$f":"SUM(C211:N211)","v":1081.6469999999997},{"$f":"O211*10","v":10816.469999999998}]
["LAMINA LIQUIDA (mm)",null,{"$f":"IF(C211-C208>0,(C211-C208)*$D205,0)","v":0},0,0,0,48.924000000000007,73.499999999999986,69.804000000000002,100.45599999999999,59.72,47.961999999999989,23.109999999999971,0]
["LAMINA BRUTA (mm)",null,{"$f":"+C212/$D203","v":0},0,0,0,61.155000000000008,91.874999999999972,87.254999999999995,125.56999999999998,74.649999999999991,59.952499999999986,28.887499999999964,0,{"$f":"SUM(C213:N213)","v":529.34499999999991},{"$f":"O213*10","v":5293.4499999999989}]
["VAZAO (l / s / ha)",null,{"$f":"+C213*10/(D204*3.6*31)","v":0},{"$f":"+D213*10/(D204*3.6*28)","v":0},{"$f":"+E213*10/(D204*3.6*31)","v":0},{"$f":"+F213*10/(D204*3.6*30)","v":0},{"$f":"+G213*10/(D204*3.6*30)","v":0.28312500000000002},{"$f":"+H213*10/(D204*3.6*30)","v":0.4253472222222221},{"$f":"+I213*10/(D204*3.6*30)","v":0.40395833333333331},{"$f":"+J213*10/(D204*3.6*31)","v":0.56258960573476691},{"$f":"+K213*10/(D204*3.6*30)","v":0.34560185185185183},{"$f":"+L213*10/(D204*3.6*31)","v":0.2686043906810035},{"$f":"+M213*10/(D204*3.6*30)","v":0.13373842592592577},{"$f":"+N213*10/(D204*3.6*31)","v":0},{"$f":"MAX(C214:N214)","v":0.56258960573476691},"l/s/ha"]
["LAMINA BRUTA (mm/dia)",null,{"$f":"C213/31","v":0},{"$f":"D213/28","v":0},{"$f":"E213/31","v":0},{"$f":"F213/30","v":0},{"$f":"G213/31","v":1.9727419354838713},{"$f":"H213/30","v":3.0624999999999991},{"$f":"I213/30","v":2.9084999999999996},{"$f":"J213/31","v":4.0506451612903218},{"$f":"K213/30","v":2.4883333333333328},{"$f":"L213/31","v":1.9339516129032253},{"$f":"M213/30","v":0.96291666666666542},{"$f":"N213/31","v":0}]
[]
[]
["Laranja"]
["METODO DE IRRIGAÇÃO:",null,null,"GOTEJAMENTO"]
["EFICIÊNCIA:",null,null,0.8]
["TEMPO DE BOMBEAMENTO:",null,null,20,"horas/dia"]
["COEFICIENTE DE OCUPAÇÃO DO SOLO:",null,null,1]
["MESES",null,"JANEIRO","FEVEREIRO","MARÇO","ABRIL","MAIO","JUNHO","JULHO","AGOSTO","SETEMBRO","OUTUBRO","NOVEMBRO","DEZEMBRO","TOTAL"]
["ET0",null,{"$f":"C$7","v":124.30999999999999},115.36,120.28,117,115.32000000000001,117,127.72,145.07999999999998,138.6,150.66,144.29999999999998,129.57999999999998,{"$f":"SUM(C224:N224)","v":1545.2099999999998}]
["PRECIPITAÇÃO EFETIVA",null,{"$f":"C$9","v":127.7},128.1,131.69999999999999,112.1,31.8,8.4,19.600000000000001,1.1000000000000001,37.299999999999997,57.5,77.900000000000006,114.2,{"$f":"SUM(C225:N225)","v":847.4}]
[null,null,null,null,null,null,null,null,null,null,null,null,null,null,"mm","m3/ha"]
["Kc",null,0.8,0.8,0.8,0.8,0.8,0.8,0.8,0.8,0.8,0.8,0.8,0.8,null,null,{"$f":"AVERAGE(C227:N227)","v":0.79999999999999993}]
["ETc (mm)",null,{"$f":"+C227*C224","v":99.447999999999993},92.288000000000011,96.224000000000004,93.600000000000009,92.256000000000014,93.600000000000009,102.176,116.06399999999999,110.88,120.52800000000001,115.44,103.66399999999999,{"$f":"SUM(C228:N228)","v":1236.1680000000001},{"$f":"O228*10","v":12361.68}]
["LAMINA LIQUIDA (mm)",null,{"$f":"IF(C228-C225>0,(C228-C225)*$D222,0)","v":0},0,0,0,60.456000000000017,85.2,82.575999999999993,114.964,73.58,63.028000000000006,37.539999999999992,0]
["LAMINA BRUTA (mm)",null,{"$f":"+C229/$D220","v":0},0,0,0,75.570000000000022,106.5,103.21999999999998,143.70499999999998,91.974999999999994,78.784999999999997,46.92499999999999,0,{"$f":"SUM(C230:N230)","v":646.67999999999995},{"$f":"O230*10","v":6466.7999999999993}]
["VAZAO (l / s / ha)",null,{"$f":"+C230*10/(D221*3.6*31)","v":0},{"$f":"+D230*10/(D221*3.6*28)","v":0},{"$f":"+E230*10/(D221*3.6*31)","v":0},{"$f":"+F230*10/(D221*3.6*30)","v":0},{"$f":"+G230*10/(D221*3.6*30)","v":0.34986111111111123},{"$f":"+H230*10/(D221*3.6*30)","v":0.49305555555555558},{"$f":"+I230*10/(D221*3.6*30)","v":0.47787037037037028},{"$f":"+J230*10/(D221*3.6*31)","v":0.64383960573476695},{"$f":"+K230*10/(D221*3.6*30)","v":0.42581018518518521},{"$f":"+L230*10/(D221*3.6*31)","v":0.35297939068100354},{"$f":"+M230*10/(D221*3.6*30)","v":0.21724537037037031},{"$f":"+N230*10/(D221*3.6*31)","v":0},{"$f":"MAX(C231:N231)","v":0.64383960573476695},"l/s/ha"]
["LAMINA BRUTA (mm/dia)",null,{"$f":"C230/31","v":0},{"$f":"D230/28","v":0},{"$f":"E230/31","v":0},{"$f":"F230/30","v":0},{"$f":"G230/31","v":2.4377419354838716},{"$f":"H230/30","v":3.55},{"$f":"I230/30","v":3.4406666666666661},{"$f":"J230/31","v":4.6356451612903218},{"$f":"K230/30","v":3.065833333333333},{"$f":"L230/31","v":2.5414516129032259},{"$f":"M230/30","v":1.5641666666666663},{"$f":"N230/31","v":0}]
[]
[]
[]
[]
[]
[]
[]
[]
[]
[]
["Demandas de Irrigação das Culturas (l/s/ha)"]
["MESES",null,"JANEIRO","FEVEREIRO","MARÇO","ABRIL","MAIO","JUNHO","JULHO","AGOSTO","SETEMBRO","OUTUBRO","NOVEMBRO","DEZEMBRO"]
["Feijão",null,{"$f":"C27","v":0},{"$f":"D27","v":0},0,0,0,0,0,0,0,0,0,0,{"$f":"O27","v":0},{"$f":"P27","v":"l/s/ha"}]
["Tomate",null,{"$f":"C44","v":0},{"$f":"D44","v":0},0,0,0.38940348182283679,0.79821428571428599,0.78193292370711731,0.79462621607782902,0,0,0,0,{"$f":"O44","v":0.79821428571428599},{"$f":"P44","v":"l/s/ha"}]
["Melão",null,{"$f":"C61","v":0},{"$f":"D61","v":0},0,0,0.34503360215053769,0.64201388888888877,0.53875149342891282,0,0,0,0,0,0.64201388888888877,"l/s/ha"]
["Melancia",null,{"$f":"C78","v":0},{"$f":"D78","v":0},0,0,0.34503360215053769,0.64201388888888877,0.53875149342891282,0,0,0,0,0,0.64201388888888877,"l/s/ha"]
["Abacaxi",null,{"$f":"C95","v":0},{"$f":"D95","v":0},0,0,0.31313364055299547,0.5634920634920636,0.61026625704045068,0.92153097798259076,0.39497354497354498,0.11411930363543267,0,0,0.92153097798259076,"l/s/ha"]
["Acerola",null,{"$f":"C112","v":0.25252520161290298},{"$f":"D112","v":0.1999652777777777},0.19875224014336923,0.29241898148148149,0.71961693548387096,0.89253472222222197,0.88446908602150542,1.1232146057347667,0.89903935185185169,0.85079189068100347,0.70993634259259231,0.36915434587813595,1.1232146057347667,"l/s/ha"]
["Banana",null,{"$f":"C129","v":2.9255276782158435E-2},{"$f":"D129","v":0},0,9.5246913580247047E-2,0.56092473118279584,0.73537037037037045,0.70437196336121088,0.90920669056152914,0.65953086419753093,0.55651135005973706,0.40987654320987638,0.1099374751095181,0.90920669056152914,"l/s/ha"]
["Coco",null,{"$f":"C146","v":0},{"$f":"D146","v":0},0,0,0.36114695340501801,0.52592592592592591,0.49328554360812427,0.68676224611708492,0.45419753086419756,0.37651135005973718,0.23172839506172832,0,0.68676224611708492,"l/s/ha"]
["Goiaba",null,{"$f":"C163","v":0},{"$f":"D163","v":0},0,0,0.3020000000000001,0.45370370370370366,0.43088888888888888,0.60009557945041814,0.36864197530864196,0.2865113500597371,0.14265432098765413,0,0.60009557945041814,"l/s/ha"]
["Mamão",null,{"$f":"C180","v":0},{"$f":"D180","v":0},0,0,0.3020000000000001,0.45370370370370366,0.43088888888888888,0.60009557945041814,0.36864197530864196,0.2865113500597371,0.14265432098765413,0,0.60009557945041814,"l/s/ha"]
["Maracujá",null,{"$f":"C197","v":0},{"$f":"D197","v":0},0,0,0.37318518518518523,0.52592592592592591,0.5097283950617284,0.68676224611708492,0.45419753086419756,0.37651135005973718,0.23172839506172832,0,0.68676224611708492,"l/s/ha"]
["Uva",null,{"$f":"C214","v":0},{"$f":"D214","v":0},0,0,0.28312500000000002,0.4253472222222221,0.40395833333333331,0.56258960573476691,0.34560185185185183,0.2686043906810035,0.13373842592592577,0,0.56258960573476691,"l/s/ha"]
["Laranja",null,{"$f":"C231","v":0},{"$f":"D231","v":0},0,0,0.34986111111111123,0.49305555555555558,0.47787037037037028,0.64383960573476695,0.42581018518518521,0.35297939068100354,0.21724537037037031,0,0.64383960573476695,"l/s/ha"]
[]
[]
[]
[]
["Demandas de Irrigação das Culturas (m³/ha)"]
["MESES",null,"JANEIRO","FEVEREIRO","MARÇO","ABRIL","MAIO","JUNHO","JULHO","AGOSTO","SETEMBRO","OUTUBRO","NOVEMBRO","DEZEMBRO","TOTAL m³/ha","fechamento"]
["Feijão",null,{"$f":"C26*10","v":0},{"$f":"D26*10","v":0},0,0,0,0,0,0,0,0,0,0,{"$f":"SUM(C264:N264)","v":0},{"$f":"P26","v":0}]
["Tomate",null,{"$f":"C43*10","v":0},{"$f":"D43*10","v":0},0,0,869.1485714285717,1724.1428571428578,1745.274285714286,1773.6057142857144,0,0,0,0,6112.1714285714297,{"$f":"P43","v":6112.1714285714297}]
["Melão",null,{"$f":"C60*10","v":0},{"$f":"D60*10","v":0},0,0,770.11500000000012,1386.7499999999998,1202.4933333333333,0,0,0,0,0,3359.3583333333331,{"$f":"P60","v":3359.3583333333336}]
["Melancia",null,{"$f":"C77*10","v":0},{"$f":"D77*10","v":0},0,0,770.11500000000012,1386.7499999999998,1202.4933333333333,0,0,0,0,0,3359.3583333333331,{"$f":"P77","v":3359.3583333333336}]
["Abacaxi",null,{"$f":"C94*10","v":0},{"$f":"D94*10","v":0},0,0,698.91428571428594,1217.1428571428573,1362.1142857142859,2056.8571428571427,853.14285714285711,254.71428571428572,0,0,6442.8857142857141,{"$f":"P94","v":6442.8857142857141}]
["Acerola",null,{"$f":"C111*10","v":563.63624999999945},{"$f":"D111*10","v":403.12999999999982},443.61500000000012,631.625,1606.1849999999999,1927.8749999999995,1974.135,2507.0149999999994,1941.9249999999997,1898.9674999999997,1533.4624999999994,823.95249999999942,16255.523749999995,{"$f":"P111","v":16255.523749999997},"Segundo kc indicado por pesquisa no Ceará"]
["Banana",null,{"$f":"C128*10","v":65.297777777777625},{"$f":"D128*10","v":0},0,205.73333333333363,1251.9840000000004,1588.4,1572.1582222222228,2029.3493333333331,1424.5866666666668,1242.1333333333332,885.33333333333303,245.38044444444438,10510.356444444444,{"$f":"P128","v":10510.356444444446}]
["Coco",null,{"$f":"C145*10","v":0},{"$f":"D145*10","v":0},0,0,806.08000000000015,1136,1101.0133333333333,1532.8533333333335,981.06666666666672,840.37333333333333,500.53333333333319,0,6897.9199999999992,{"$f":"P145","v":6897.92}]
["Goiaba",null,{"$f":"C162*10","v":0},{"$f":"D162*10","v":0},0,0,652.32000000000016,979.99999999999989,930.72,1339.4133333333332,796.26666666666665,639.49333333333323,308.13333333333293,0,5646.3466666666654,{"$f":"P162","v":5646.3466666666664}]
["Mamão",null,{"$f":"C179*10","v":0},{"$f":"D179*10","v":0},0,0,652.32000000000016,979.99999999999989,930.72,1339.4133333333332,796.26666666666665,639.49333333333323,308.13333333333293,0,5646.3466666666654,{"$f":"P179","v":5646.3466666666664}]
["Maracujá",null,{"$f":"C196*10","v":0},{"$f":"D196*10","v":0},0,0,806.08000000000015,1136,1101.0133333333333,1532.8533333333335,981.06666666666672,840.37333333333333,500.53333333333319,0,6897.9199999999992,{"$f":"P196","v":6897.92}]
["Uva",null,{"$f":"C230*10","v":0},{"$f":"D230*10","v":0},0,0,755.70000000000027,1065,1032.1999999999998,1437.0499999999997,919.75,787.84999999999991,469.24999999999989,0,6466.7999999999993,{"$f":"P230","v":6466.7999999999993}]
["Laranja",null,{"$f":"C230*10","v":0},{"$f":"D230*10","v":0},0,0,755.70000000000027,1065,1032.1999999999998,1437.0499999999997,919.75,787.84999999999991,469.24999999999989,0,6466.7999999999993,{"$f":"P230","v":6466.7999999999993}]
[]
[]
[]
[]
["Demandas de Irrigação do Plano Agrícola (m³)"]
["MESES","Área Cultivada","JANEIRO","FEVEREIRO","MARÇO","ABRIL","MAIO","JUNHO","JULHO","AGOSTO","SETEMBRO","OUTUBRO","NOVEMBRO","DEZEMBRO","TOTAL m³",null,"fechamento"]
["Feijão",{"$f":"'Painel de Controle'!D28","v":1023.8180000000001},{"$f":"$B283*C264","v":0},0,0,0,0,0,0,0,0,0,0,0,{"$f":"SUM(C283:N283)","v":0}]
["Tomate",{"$f":"'Painel de Controle'!D27","v":511.90900000000005},0,0,0,0,444924.97605142876,882604.24585714331,893421.61432571453,907924.72759428585,0,0,0,0,3128875.5638285722,null,{"$f":"O265*B284","v":3128875.5638285722}]
["Melão",{"$f":"'Painel de Controle'!D26","v":255.95450000000002},0,0,0,0,197114.39976750006,354944.90287499997,307783.57988666667,0,0,0,0,0,859842.88252916676,null,859842.88252916664]
["Melancia",{"$f":"'Painel de Controle'!D25","v":255.95450000000002},0,0,0,0,197114.39976750006,354944.90287499997,307783.57988666667,0,0,0,0,0,859842.88252916676,null,859842.88252916664]
["Abacaxi",{"$f":"'Painel de Controle'!D29","v":255.95450000000002},0,0,0,0,178890.25654285721,311533.19142857153,348639.28094285721,526461.84157142858,218365.75342857145,65195.26764285715,0,0,1649085.591557143,null,1649085.591557143]
["Acerola",{"$f":"'Painel de Controle'!D30","v":1023.8180000000001},577060.93820249953,412731.75033999985,454181.02207000018,646669.04425000004,1644441.11433,1973793.1267499998,2021154.9474300002,2566727.0832699998,1988177.7696499999,1944197.1079149998,1569986.5098249996,843577.40064499946,16642697.814677496,null,16642697.814677496]
["Banana",{"$f":"'Painel de Controle'!D31","v":4095.2720000000004},267412.16099555494,0,0,842533.95946666796,5127215.0196480025,6504930.0448000012,6438415.5470364476,8310737.503018667,5834069.8875733344,5086873.8602666669,3625680.8106666659,1004899.6634808887,43042768.456952892,null,43042768.456952892]
["Coco",{"$f":"'Painel de Controle'!D32","v":1023.8180000000001},0,0,0,0,825279.2134400002,1163057.2480000001,1127237.2689066667,1569362.8340266671,1004433.7125333335,860389.34538666671,512455.03626666655,0,7062214.6585600013,null,7062214.6585599994]
["Goiaba",{"$f":"'Painel de Controle'!D33","v":1023.8180000000001},0,0,0,0,667856.95776000025,1003341.64,952887.88896000013,1371315.4801066667,815232.14613333344,654724.78554666659,315472.45306666626,0,5780831.3515733341,null,5780831.3515733322]
["Mamão",{"$f":"'Painel de Controle'!D35","v":255.95450000000002},0,0,0,0,166964.23944000006,250835.41,238221.97224000003,342828.87002666667,203808.03653333336,163681.19638666665,78868.113266666565,0,1445207.8378933335,null,1445207.8378933331]
["Maracujá",{"$f":"'Painel de Controle'!D36","v":255.95450000000002},0,0,0,0,206319.80336000005,290764.31200000003,281809.31722666667,392340.70850666676,251108.42813333336,215097.33634666668,128113.75906666664,0,1765553.6646400003,null,1765553.6646399999]
["Uva",{"$f":"'Painel de Controle'!D37","v":255.95450000000002},0,0,0,0,193424.81565000009,272591.54250000004,264196.23489999998,367819.41422499996,235414.15137500002,201653.752825,120106.64912499998,0,1655206.5606000002,null,1655206.5606]
["Laranja",{"$f":"'Painel de Controle'!D34","v":1023.8180000000001},0,0,0,0,773699.26260000037,1090366.1700000002,1056784.9395999999,1471277.6568999998,941656.60550000006,806615.01130000001,480426.59649999993,0,6620826.2424000008,null,6620826.2423999999]
["Demanda do Plano Agrícola (m³)",null,{"$f":"SUM(C283:C295)","v":844473.09919805452},{"$f":"SUM(D283:D295)","v":412731.75033999985},454181.02207000018,1489203.0037166681,10623244.458357289,14453706.737085717,14238336.171341684,17826796.119246047,11492266.490860239,9998427.6636161897,6831109.9277833318,1848477.064125888,{"$f":"SUM(C296:N296)","v":90512953.507741123},"m³/ano"]
["Área Irrigada (ha)",{"$f":"SUM(B283,B287,B288,B289,B290,B291,B292,B293,B294,B295)","v":10238.18},{"$f":"SUMIF(C283:C295,\">0\",$B283:$B295)","v":5119.09},1023.8180000000001,1023.8180000000001,5119.09,10238.18,10238.18,10238.18,9726.2710000000006,9214.3619999999992,9214.3619999999992,8958.4074999999993,5119.09,{"$f":"O296/1000000","v":90.51295350774113},"hm³/ano"]
["Vazão do Plano Agrícola (l/s/ha)",null,{"$f":"C296*1000/31/20/3600/C297","v":7.3909261748307351E-2},{"$f":"D296*1000/28/20/3600/D297","v":0.19996527777777767},{"$f":"E296*1000/31/20/3600/E297","v":0.1987522401433692},{"$f":"F296*1000/30/20/3600/F297","v":0.13468132716049397},{"$f":"G296*1000/31/20/3600/G297","v":0.4648793170762931},{"$f":"H296*1000/30/20/3600/H297","v":0.65358597883597891},{"$f":"I296*1000/31/20/3600/I297","v":0.62307781973601872},{"$f":"J296*1000/31/20/3600/J297","v":0.82116936943613505},{"$f":"K296*1000/30/20/3600/K297","v":0.57741314545365485},{"$f":"L296*1000/31/20/3600/L297","v":0.48615219225882306},{"$f":"M296*1000/30/20/3600/M297","v":0.35302601410934742},null,{"$f":"MAX(C298:N298)","v":0.82116936943613505},"l/s/ha"]
[null,null,null,null,null,null,null,null,null,null,null,null,null,null,{"$f":"O296/B311","v":8037.0244700577232},"m³/ha/ano"]
[]
["2a Etapa - Total"]
["Captação",null,"JANEIRO","FEVEREIRO","MARÇO","ABRIL","MAIO","JUNHO","JULHO","AGOSTO","SETEMBRO","OUTUBRO","NOVEMBRO","DEZEMBRO","TOTAL m³"]
["Demanda do Plano Agrícola (m³)",null,{"$f":"C296/$B307/$B308","v":907060.25692594482},{"$f":"D296/$B307/$B308","v":443320.89187969913},487842.12896885088,1599573.5807912655,11410574.069127057,15524926.677857913,15293594.169002883,19148008.720994681,12344002.675467497,10739449.692391183,7337389.8257608302,1985474.8272028873,97221217.516370714,"m³/ano",{"$f":"O296/B307/B308","v":97221217.516370714}]
["Vazão do Plano Agrícola (l/s/ha)",null,{"$f":"C298/$B307/$B308","v":7.9386962135668482E-2},{"$f":"D298/$B307/$B308","v":0.21478547559374619},0.21348253506269518,0.14466307965681416,0.49933331587142121,0.70202575599997741,0.66925651958756049,0.88202939789058554,0.62020746020800732,0.52218280586339749,0.37919013330756973,0,{"$f":"MAX(C304:N304)","v":0.88202939789058554},"l/s/ha"]
["Vazão do Plano Agrícola (m³/s)",null,{"$f":"C303/31/20/3600","v":0.40638900399907918},{"$f":"D303/28/20/3600","v":0.21990123605143805},{"$f":"E303/31/20/3600","v":0.21856726208281849},{"$f":"F303/30/20/3600","v":0.74054332444040061},5.1122643678884661,{"$f":"H303/30/20/3600","v":7.1874660545638491},6.8519687137109688,8.5788569538506643,{"$f":"K303/30/20/3600","v":5.7148160534571737},4.8115814034010667,{"$f":"M303/30/20/3600","v":3.3969397341485323},null,{"$f":"MAX(C305:N305)","v":8.5788569538506643},"m³/s"]
[null,null,null,null,null,null,null,null,null,null,null,null,null,null,{"$f":"O303/B311","v":8632.6793448525495},"m³/ha/ano"]
["Eficiência Condução Canais",0.95]
["Eficiência Adução Pressurizada",0.98]
[]
["Área Física",{"$f":"B297","v":10238.18}]
["Área Cultivada",{"$f":"SUM(B283:B295)","v":11261.997999999998}]
[]
["Área Sul - 2a Etapa"]
["Área irrigada (ha)",{"$f":"'Painel de Controle'!C5","v":3739.57}]
["% Área irrigada 2a Etapa",{"$f":"B314/B310","v":0.3652573015907124}]
["Captação",null,"JANEIRO","FEVEREIRO","MARÇO","ABRIL","MAIO","JUNHO","JULHO","AGOSTO","SETEMBRO","OUTUBRO","NOVEMBRO","DEZEMBRO","TOTAL m³"]
["Demanda do Plano Agrícola (m³)",null,{"$f":"C303*$B$315","v":331310.38182494888},{"$f":"D303*$B$315","v":161926.19270676686},178187.89962943079,584255.92981561099,4167795.4940903038,5670592.8257480441,5586096.9377934467,6993949.996265945,4508737.1080697924,3922662.41521201,2680035.2084765481,725209.17776041257,{"$f":"SUM(C317:N317)","v":35510759.567393266},"m³/ano"]
["Vazão do Plano Agrícola (l/s/ha)",null,{"$f":"C317/31/20/3600","v":0.14843655099684089},{"$f":"D317/28/20/3600","v":8.0320532096610539E-2},{"$f":"E317/31/20/3600","v":7.9833288364440314E-2},{"$f":"F317/30/20/3600","v":0.2704888563961162},{"$f":"G317/31/20/3600","v":1.86729188803329},{"$f":"H317/30/20/3600","v":2.6252744563648349},{"$f":"I317/31/20/3600","v":2.5027316029540532},{"$f":"J317/31/20/3600","v":3.1334901416962118},{"$f":"K317/30/20/3600","v":2.087378290773052},{"$f":"L317/31/20/3600","v":1.757465239790327},{"$f":"M317/30/20/3600","v":1.2407570409613649},{"$f":"N304","v":0},{"$f":"MAX(C318:N318)","v":3.1334901416962118},"m³/s"]
[]
["Área Norte - 2a Etapa"]
["Área irrigada (ha)",{"$f":"'Painel de Controle'!C6","v":6498.6100000000006}]
["% Área irrigada 2a Etapa",{"$f":"B321/B310","v":0.63474269840928765}]
["Captação",null,"JANEIRO","FEVEREIRO","MARÇO","ABRIL","MAIO","JUNHO","JULHO","AGOSTO","SETEMBRO","OUTUBRO","NOVEMBRO","DEZEMBRO","TOTAL m³"]
["Demanda do Plano Agrícola (m³)",null,{"$f":"C303*$B$322","v":575749.875100996},{"$f":"D303*$B$322","v":281394.69917293231},309654.22933942016,1015317.6509756545,7242778.5750367539,9854333.8521098699,9707497.2312094364,12154058.724728737,7835265.5673977053,6816787.2771791741,4657354.6172842821,1260265.6494424748,{"$f":"SUM(C324:N324)","v":61710457.948977433},"m³/ano"]
["Vazão do Plano Agrícola (l/s/ha)",null,{"$f":"C324/31/20/3600","v":0.25795245300223835},{"$f":"D324/28/20/3600","v":0.13958070395482755},{"$f":"E324/31/20/3600","v":0.13873397371837823},{"$f":"F324/30/20/3600","v":0.47005446804428447},{"$f":"G324/31/20/3600","v":3.2449724798551762},{"$f":"H324/30/20/3600","v":4.5621915981990142},{"$f":"I324/31/20/3600","v":4.3492371107569152},{"$f":"J324/31/20/3600","v":5.4453668121544512},{"$f":"K324/30/20/3600","v":3.627437762684123},{"$f":"L324/31/20/3600","v":3.054116163610741},{"$f":"M324/30/20/3600","v":2.1561826931871675},{"$f":"N311","v":0},{"$f":"MAX(C325:N325)","v":5.4453668121544512},"m³/s"]
[]
[]
[]
[]
[]
[]
[]
[]
[]
[]
[]
[]
[]
[]
[]
[]
[]
[]
[]
[]
[]
[]
[]
[]
[]
[]
[]
[]
[]
[]
[]
[]
[]
[]
[]
[]
[]
[]
[]
[]
[]
[]
[]
[]
[]
[]
[]
[]
[]
[]
[]
[]
[]
[]
[]
[]
[]
[]
[]
[]
[]
[]
[]
[]
[]
[]
[]
[]
[]
[]
[]
[null,null,"Ciclo (dias)","Plantio","Colheita","CropWat"]
[null,"Feijão",110,"2023-12-01",{"$f":"D398+C398","v":"2024-03-20"},"OK"]
[null,"Tomate ",145,"2023-04-01",{"$f":"D399+C399-1","v":"2023-08-23"},"OK"]
[null,"Melão",120,"2023-04-01",{"$f":"D400+C400-1","v":"2023-07-29"},"OK"]
[null,"Melancia",120,"2023-04-01",{"$f":"D401+C401-1","v":"2023-07-29"},"OK"]

{"sheet":"Salários SICRO","index":24,"n_rows":118,"n_cols":7,"rows_kept":118,"cut":false,"hidden":false,"merged":[[0,0,1,0],[0,1,1,5],[0,6,1,6],[2,0,2,6],[3,0,3,6]]}
["CGCIT","SISTEMA DE CUSTOS REFERENCIAIS DE OBRAS - SICRO",null,null,null,null,"DNIT"]
[]
["Piauí - Julho/2023"]
["Sem desoneração"]
["Código","Descrição","Unidade","Salário (R$)","Encargos Totais","Custo (R$)","Periculosidade/\nInsalubridade"]
["P9801","Ajudante","h",6.6261000000000001,2.0606339999999999,20.28,0]
["P9802","Ajudante especializado","h",7.9512,2.0044590000000002,23.888999999999999,0]
["P9805","Armador","h",10.810600000000001,1.6908339999999999,29.089500000000001,0]
["P9892","Auxiliar de blaster","h",9.6300000000000008,2.1131489999999999,32.868600000000001,0.3]
["P9852","Blaster","h",10.1587,2.0773579999999998,34.3095,0.3]
["P9807","Bombeiro hidráulico","h",10.810600000000001,1.7704150000000001,29.9498,0]
["P9929","Bombeiro hidráulico com periculosidade","h",10.810600000000001,2.0984669999999999,36.739400000000003,0.3]
["P9912","Capitão fluvial com periculosidade","h",23.693000000000001,1.668679,70.3369,0.3]
["P9808","Carpinteiro","h",8.67,1.842608,24.645399999999999,0]
["P9945","Draguista com periculosidade","h",16.342400000000001,1.7796000000000001,50.328000000000003,0.3]
["P9810","Eletricista","h",9.2370000000000001,1.8564149999999999,26.384699999999999,0]
["P9930","Eletricista com periculosidade","h",9.2370000000000001,2.1841949999999999,32.183500000000002,0.3]
["P9885","Frentista de túnel","h",6.6260000000000003,2.1164779999999999,20.649699999999999,0]
["P9927","Frentista de túnel com periculosidade","h",6.6260000000000003,2.443508,24.804400000000001,0.3]
["P9836","Geólogo","h",49.744700000000002,1.195918,109.23520000000001,0]
["P9815","Jardineiro","h",9.6300000000000008,1.7636769999999999,26.6142,0]
["P9915","Maquinista","h",12.3367,1.603559,32.119300000000003,0]
["P9856","Marinheiro de convés","h",9.1112000000000002,1.7365010000000001,24.9328,0]
["P9942","Marinheiro de convés com periculosidade","h",9.1112000000000002,2.0649459999999999,30.6586,0.3]
["P9925","Mergulhador raso autônomo","h",9.2239000000000004,3.6086429999999998,44.909700000000001,0.26019999999999999]
["P9921","Mergulhador raso autônomo de emergência","h",9.2239000000000004,2.5078610000000001,34.7562,0.26019999999999999]
["P9926","Mergulhador raso auxiliar de superfície","h",9.2239000000000004,2.2650199999999998,32.516199999999998,0.26019999999999999]
["P9924","Mergulhador raso dependente","h",9.2756000000000007,3.9835539999999998,49.008099999999999,0.3]
["P9922","Mergulhador raso dependente de emergência","h",9.2756000000000007,2.580886,35.997500000000002,0.3]
["P9941","Mestre fluvial com periculosidade","h",23.693000000000001,1.668679,70.3369,0.3]
["P9830","Montador","h",10.810600000000001,1.771225,29.958600000000001,0]
["P9866","Motorista de caminhão","h",9.2515000000000001,1.7509920000000001,25.450800000000001,0]
["P9956","Motorista de caminhão com periculosidade","h",9.2515000000000001,2.078538,31.256499999999999,0.3]
["P9871","Motorista de veículo especial","h",11.05,1.643702,29.212900000000001,0]
["P9934","Motorista de veículo especial com periculosidade","h",11.05,1.9712419999999999,36.147199999999998,0.3]
["P9870","Motorista de veículo leve","h",10.810600000000001,1.6536759999999999,28.687799999999999,0]
["P9931","Operador de equipamento de mergulho","h",17.478200000000001,1.7938339999999999,51.230899999999998,0.13730000000000001]
["P9846","Operador de equipamento especial","h",15.901999999999999,1.476194,39.376399999999997,0]
["P9944","Operador de equipamento especial com periculosidade","h",15.901999999999999,1.8040039999999999,49.3598,0.3]
["P9843","Operador de equipamento leve","h",8.67,1.819123,24.441700000000001,0]
["P9939","Operador de equipamento leve com insalubridade","h",8.67,2.3343180000000001,31.308299999999999,0.27679999999999999]
["P9938","Operador de equipamento leve com periculosidade","h",8.67,2.1469330000000002,29.884899999999998,0.3]
["P9845","Operador de equipamento pesado","h",11.3924,1.6451849999999999,30.135000000000002,0]
["P9932","Operador de equipamento pesado com periculosidade","h",11.3924,1.972993,37.287199999999999,0.3]
["P9821","Pedreiro","h",8.67,1.836219,24.59,0]
["P9847","Perfurador de tubulão","h",6.6269999999999998,2.0536910000000002,20.236799999999999,0]
["P9940","Piloto fluvial com periculosidade","h",14.8924,1.814411,46.381,0.3]
["P9822","Pintor","h",10.810600000000001,1.6997949999999999,29.186399999999999,0]
["P9853","Pré-marcador","h",6.6260000000000003,2.027072,20.057300000000001,0]
["P9861","Selecionador de material pétreo","h",6.6260000000000003,2.0394450000000002,20.139299999999999,0]
["P9823","Serralheiro","h",9.3101000000000003,1.788376,25.96,0]
["P9824","Servente","h",6.26,2.114808,19.4986,0]
["P9928","Servente com periculosidade","h",6.26,2.4418380000000002,23.4239,0.3]
["P9825","Soldador","h",12.4336,1.620352,32.580399999999997,0]
["P9943","Técnico de batimetria com periculosidade","h",11.8674,1.9156850000000001,38.161799999999999,0.3]
["P9882","Técnico especializado","h",14.5657,1.523412,36.755200000000002,0]
["P9859","Trabalhador de via","h",6.0003000000000002,2.1734369999999998,19.041499999999999,0]
["P9803","Almoxarife","mês",2637.8,1.1900500000000001,5776.9138000000003,0]
["P9804","Apontador","mês",1907.4,1.3699380000000001,4520.4197000000004,0]
["P9806","Auxiliar administrativo","mês",1907.4,1.3581380000000001,4497.9124000000002,0]
["P9833","Auxiliar de laboratório","mês",2378.3386,1.236254,5318.5691999999999,0]
["P9950","Auxiliar de topografia","mês",2378.3386,1.2475480000000001,5345.4300999999996,0]
["P9903","Auxiliar técnico","mês",1741.8271,1.40256,4184.8441000000003,0]
["P9844","Capitão fluvial","mês",5212.4597000000003,0.95966200000000002,10214.6592,0]
["P9883","Chefe do setor administrativo","mês",3868.5713999999998,1.0265770000000001,7839.9578000000001,0]
["P9826","Chefe setor de finanças","mês",9651.0845000000008,0.85253999999999996,17879.02,0]
["P9907","Comandante de longo curso","mês",12841.152099999999,0.83813599999999999,23603.783899999999,0]
["P9900","Comprador","mês",3233.8490000000002,1.1108229999999999,6826.0828000000001,0]
["P9911","Condutor de máquinas","mês",2162.4018000000001,1.2525299999999999,4870.8748999999998,0]
["P9849","Condutor maquinista fluvial","mês",2162.4018000000001,1.2525299999999999,4870.8748999999998,0]
["P9850","Copeiro","mês",1504.8,1.4914369999999999,3749.1143000000002,0]
["P9848","Desenhista","mês",3000.8407999999999,1.1093869999999999,6329.9345000000003,0]
["P9913","Draguista","mês",3595.3388,1.051671,7376.4522999999999,0]
["P9953","Eletricista - mensalista","mês",2032.1420000000001,1.3953789999999999,4867.7502000000004,0]
["P9809","Encarregado administrativo","mês",3868.0365000000002,1.0266150000000001,7839.0207,0]
["P9916","Encarregado de conservação rodoviária","mês",3447.1179999999999,1.0940270000000001,7218.3581000000004,0]
["P9869","Encarregado de obras de artes especiais","mês",3447.1179999999999,1.0940270000000001,7218.3581000000004,0]
["P9893","Encarregado de pavimentação","mês",3447.1179999999999,1.0940270000000001,7218.3581000000004,0]
["P9901","Encarregado de superestrutura ferroviária","mês",3447.1179999999999,1.0940270000000001,7218.3581000000004,0]
["P9884","Encarregado de terraplenagem","mês",3447.1179999999999,1.0940270000000001,7218.3581000000004,0]
["P9875","Encarregado de turma","mês",2153.8584999999998,1.293388,4939.6332000000002,0]
["P9811","Encarregado especializado","mês",3447.1179999999999,1.0940270000000001,7218.3581000000004,0]
["P9840","Encarregado geral","mês",5419.6176999999998,0.93332700000000002,10477.8932,0]
["P9812","Engenheiro","mês",12819.5116,0.82565699999999997,23404.030999999999,0]
["P9946","Engenheiro auxiliar","mês",11220,0.83530199999999999,20592.088400000001,0]
["P9955","Engenheiro chefe","mês",16939.498,0.80920199999999998,30646.973600000001,0]
["P9864","Engenheiro de segurança do trabalho","mês",11464.409900000001,0.83843000000000001,21076.514999999999,0]
["P9891","Engenheiro mecânico","mês",12659.3302,0.82804999999999995,23141.888500000001,0]
["P9819","Engenheiro supervisor","mês",12819.5116,0.82565699999999997,23404.030999999999,0]
["P9842","Faxineiro","mês",1454.2,1.5485040000000001,3706.0345000000002,0]
["P9908","Imediato","mês",9352.1689000000006,0.86911300000000002,17480.260399999999,0]
["P9858","Laboratorista","mês",3262.6,1.1092230000000001,6881.5509000000002,0]
["P9857","Marinheiro de convés - mensalista","mês",2004.4739,1.2885880000000001,4587.4148999999998,0]
["P9855","Marinheiro de máquinas","mês",2052.3159000000001,1.277787,4674.7384000000002,0]
["P9951","Médico de câmara hiperbárica","mês",9709.5192999999999,1.0375289999999999,20311.624899999999,5.4399999999999997E-2]
["P9851","Médico do trabalho","mês",9709.5192999999999,0.84691300000000003,17932.6374,0]
["P9920","Mestre fluvial","mês",5212.4597000000003,0.95966200000000002,10214.6592,0]
["P9948","Motorista de veículo leve - mensalista","mês",2378.3386,1.2256069999999999,5293.2470000000003,0]
["P9837","Oceanógrafo","mês",4376.3630000000003,1.005441,8776.5377000000008,0]
["P9910","Oficial de máquinas","mês",2931.3573999999999,1.120374,6215.5739999999996,0]
["P9909","Oficial de náutica","mês",2597.5547999999999,1.1684699999999999,5632.7196000000004,0]
["P9814","Operacional","mês",1460.9463000000001,1.504089,3658.3395,0]
["P9952","Pedreiro - mensalista","mês",1907.4,1.381961,4543.3523999999998,0]
["P9880","Piloto fluvial","mês",3276.33,1.0805469999999999,6816.5585000000001,0]
["P9896","Porteiro","mês",1454.2,1.5480290000000001,3705.3436999999999,0]
["P9854","Recepcionista","mês",1686.3400999999999,1.3823780000000001,4017.4994999999999,0]
["P9878","Secretária","mês",2811.5796,1.1352070000000001,6003.3044,0]
["P9954","Servente - mensalista","mês",1377.2,1.6137889999999999,3599.7102,0]
["P9933","Supervisor de mergulho raso","mês",3845.1956,1.3184929999999999,9443.0043999999998,0.13730000000000001]
["P9889","Técnico da qualidade","mês",3523.8065000000001,1.0849660000000001,7347.0167000000001,0]
["P9972","Técnico de batimetria","mês",2610.8366999999998,1.167737,5659.6072999999997,0]
["P9897","Técnico de meio ambiente","mês",3466.6378,1.0915459999999999,7250.6324000000004,0]
["P9876","Técnico de segurança do trabalho","mês",3262.6,1.1077140000000001,6876.6275999999998,0]
["P9865","Técnico em enfermagem","mês",2993.3103000000001,1.1533819999999999,6445.7404999999999,0]
["P9867","Técnico especializado - mensalista","mês",3204.4618999999998,1.1172759999999999,6784.7302,0]
["P9947","Técnico florestal","mês",3466.6378,1.0915459999999999,7250.6324000000004,0]
["P9949","Topógrafo","mês",4037,1.049409,8273.4640999999992,0]
["P9827","Vigia","mês",1504.8,1.7483880000000001,4587.2142000000003,0.3]

{"sheet":"Receitas >>>>","index":25,"n_rows":0,"n_cols":0,"rows_kept":0,"cut":false,"hidden":false,"merged":[]}

{"sheet":"Tabelas Relatório G1","index":26,"n_rows":86,"n_cols":26,"rows_kept":86,"cut":false,"hidden":true,"merged":[[5,1,7,1],[5,4,7,4],[5,5,7,5],[5,8,7,8],[5,9,7,9],[2,1,4,1],[2,4,4,4],[2,5,4,5],[2,8,4,8],[2,9,4,9],[11,1,13,1],[11,4,13,4],[11,5,13,5],[11,8,13,8],[11,9,13,9],[8,1,10,1],[8,4,10,4],[8,5,10,5],[8,8,10,8],[8,9,10,9],[17,1,19,1],[17,4,19,4],[17,5,19,5],[17,8,19,8],[17,9,19,9],[14,1,16,1],[14,4,16,4],[14,5,16,5],[14,8,16,8],[14,9,16,9],[23,1,25,1],[23,4,25,4],[23,5,25,5],[23,8,25,8],[23,9,25,9],[20,1,22,1],[20,4,22,4],[20,5,22,5],[20,8,22,8],[20,9,22,9],[26,1,28,1],[26,4,28,4],[26,5,28,5],[26,8,28,8],[26,9,28,9],[34,1,36,1],[34,4,36,4],[34,5,36,5],[34,8,36,8],[34,9,36,9],[31,1,33,1],[31,4,33,4],[31,5,33,5],[31,8,33,8],[31,9,33,9],[40,1,42,1],[40,4,42,4],[40,5,42,5],[40,8,42,8],[40,9,42,9],[37,1,39,1],[37,4,39,4],[37,5,39,5],[37,8,39,8],[37,9,39,9]]}
[]
[null,"Perenes e Semi-Perenes","Indicadores","Média (R$/ha/ano)","Área (%)","Área Total (ha)","Média Ponderada (R$/ha/ano)","Total da 2ª Etapa\n(R$ mil/ano)","Produtividade Média (kg/ha)","Produção Total (toneladas)"]
[null,"Abacaxi","Valor da Produção",{"$f":"'Rentabilidade Cultivos'!D91","v":50700},{"$f":"'Painel de Controle'!C29","v":2.5000000000000001E-2},{"$f":"'Painel de Controle'!D29","v":255.95450000000002},{"$f":"D3*E3","v":1267.5},{"$f":"'Resultados Cultivos'!AL31","v":12976.893150000004},{"$f":"'Rentabilidade Cultivos'!AD44","v":30000},{"$f":"'Resultados Cultivos'!AL30","v":7678.6350000000011}]
[null,null,"Custo de Produção",{"$f":"'Rentabilidade Cultivos'!D92","v":28987.05},null,null,{"$f":"D4*E3","v":724.67624999999998},{"$f":"'Resultados Cultivos'!AL32","v":7419.3658892250005}]
[null,null,"Resultado",{"$f":"'Rentabilidade Cultivos'!D93","v":21712.95},null,null,{"$f":"D5*E3","v":542.82375000000002},{"$f":"'Resultados Cultivos'!AL33","v":5557.527260775003}]
[null,"Acerola","Valor da Produção",{"$f":"'Rentabilidade Cultivos'!D94","v":48750},{"$f":"'Painel de Controle'!C30","v":0.1},{"$f":"'Painel de Controle'!D30","v":1023.8180000000001},{"$f":"D6*E6","v":4875},{"$f":"'Resultados Cultivos'!AL36","v":49911.12750000001},{"$f":"'Rentabilidade Cultivos'!AD49","v":19500},{"$f":"'Resultados Cultivos'!AL35","v":19964.451000000005}]
[null,null,"Custo de Produção",{"$f":"'Rentabilidade Cultivos'!D95","v":38372.588100000001},null,null,{"$f":"D7*E6","v":3837.2588100000003},{"$f":"'Resultados Cultivos'!AL37","v":39286.546403365806}]
[null,null,"Resultado",{"$f":"'Rentabilidade Cultivos'!D96","v":10377.411900000001},null,null,{"$f":"D8*E6","v":1037.7411900000002},{"$f":"'Resultados Cultivos'!AL38","v":10624.581096634203}]
[null,"Banana","Valor da Produção",{"$f":"'Rentabilidade Cultivos'!D97","v":49680},{"$f":"'Painel de Controle'!C31","v":0.4},{"$f":"'Painel de Controle'!D31","v":4095.2720000000004},{"$f":"D9*E9","v":19872},{"$f":"'Resultados Cultivos'!AL41","v":203453.11296000003},{"$f":"'Rentabilidade Cultivos'!AD54","v":23000},{"$f":"'Resultados Cultivos'!AL40","v":94191.256000000008}]
[null,null,"Custo de Produção",{"$f":"'Rentabilidade Cultivos'!D98","v":22820.276100000003},null,null,{"$f":"D10*E9","v":9128.1104400000022},{"$f":"'Resultados Cultivos'!AL42","v":93455.237744599217}]
[null,null,"Resultado",{"$f":"'Rentabilidade Cultivos'!D99","v":26859.723899999994},null,null,{"$f":"D11*E9","v":10743.889559999998},{"$f":"'Resultados Cultivos'!AL43","v":109997.87521540081}]
[null,"Coco","Valor da Produção",{"$f":"'Rentabilidade Cultivos'!D100","v":32625},{"$f":"'Painel de Controle'!C32","v":0.1},{"$f":"'Painel de Controle'!D32","v":1023.8180000000001},{"$f":"D12*E12","v":3262.5},{"$f":"'Resultados Cultivos'!AL46","v":33402.062250000003},{"$f":"'Rentabilidade Cultivos'!AD59","v":32625},{"$f":"'Resultados Cultivos'!AL45","v":33402.062250000003}]
[null,null,"Custo de Produção",{"$f":"'Rentabilidade Cultivos'!D101","v":14147.371612499997},null,null,{"$f":"D13*E12","v":1414.7371612499999},{"$f":"'Resultados Cultivos'!AL47","v":14484.333709566525}]
[null,null,"Resultado",{"$f":"'Rentabilidade Cultivos'!D102","v":18477.628387500001},null,null,{"$f":"D14*E12","v":1847.7628387500001},{"$f":"'Resultados Cultivos'!AL48","v":18917.728540433476}]
[null,"Goiaba","Valor da Produção",{"$f":"'Rentabilidade Cultivos'!D103","v":41760},{"$f":"'Painel de Controle'!C33","v":0.1},{"$f":"'Painel de Controle'!D33","v":1023.8180000000001},{"$f":"D15*E15","v":4176},{"$f":"'Resultados Cultivos'!AL51","v":42754.639680000008},{"$f":"'Rentabilidade Cultivos'!AD64","v":24000},{"$f":"'Resultados Cultivos'!AL50","v":24571.632000000005}]
[null,null,"Custo de Produção",{"$f":"'Rentabilidade Cultivos'!D104","v":21295.400666666665},null,null,{"$f":"D16*E15","v":2129.5400666666665},{"$f":"'Resultados Cultivos'!AL52","v":21802.614519745333}]
[null,null,"Resultado",{"$f":"'Rentabilidade Cultivos'!D105","v":20464.599333333335},null,null,{"$f":"D17*E15","v":2046.4599333333335},{"$f":"'Resultados Cultivos'!AL53","v":20952.025160254674}]
[null,"Laranja","Valor da Produção",{"$f":"'Rentabilidade Cultivos'!D106","v":24510.6},{"$f":"'Painel de Controle'!C34","v":0.1},{"$f":"'Painel de Controle'!D34","v":1023.8180000000001},{"$f":"D18*E18","v":2451.06},{"$f":"'Resultados Cultivos'!AL56","v":25094.393470799998},{"$f":"'Rentabilidade Cultivos'!AD69","v":24030},{"$f":"'Resultados Cultivos'!AL55","v":24602.346540000002}]
[null,null,"Custo de Produção",{"$f":"'Rentabilidade Cultivos'!D107","v":12970.559062500006},null,null,{"$f":"D19*E18","v":1297.0559062500006},{"$f":"'Resultados Cultivos'!AL57","v":13279.491838250631}]
[null,null,"Resultado",{"$f":"'Rentabilidade Cultivos'!D108","v":11540.040937499996},null,null,{"$f":"D20*E18","v":1154.0040937499996},{"$f":"'Resultados Cultivos'!AL58","v":11814.901632549367}]
[null,"Mamão","Valor da Produção",{"$f":"'Rentabilidade Cultivos'!D109","v":42750},{"$f":"'Painel de Controle'!C35","v":2.5000000000000001E-2},{"$f":"'Painel de Controle'!D35","v":255.95450000000002},{"$f":"D21*E21","v":1068.75},{"$f":"'Resultados Cultivos'!AL61","v":10942.054875000002},{"$f":"'Rentabilidade Cultivos'!AD74","v":25000},{"$f":"'Resultados Cultivos'!AL60","v":6398.8625000000011}]
[null,null,"Custo de Produção",{"$f":"'Rentabilidade Cultivos'!D110","v":21293.547000000002},null,null,{"$f":"D22*E21","v":532.33867500000008},{"$f":"'Resultados Cultivos'!AL62","v":5450.1791756115017}]
[null,null,"Resultado",{"$f":"'Rentabilidade Cultivos'!D111","v":21456.452999999998},null,null,{"$f":"D23*E21","v":536.41132499999992},{"$f":"'Resultados Cultivos'!AL63","v":5491.8756993884999}]
[null,"Maracujá","Valor da Produção",{"$f":"'Rentabilidade Cultivos'!D112","v":45716.666666666664},{"$f":"'Painel de Controle'!C36","v":2.5000000000000001E-2},{"$f":"'Painel de Controle'!D36","v":255.95450000000002},{"$f":"D24*E24","v":1142.9166666666667},{"$f":"'Resultados Cultivos'!AL66","v":11701.386558333334},{"$f":"'Rentabilidade Cultivos'!AD79","v":21666.666666666668},{"$f":"'Resultados Cultivos'!AL65","v":5545.6808333333338}]
[null,null,"Custo de Produção",{"$f":"'Rentabilidade Cultivos'!D113","v":24966.190666666673},null,null,{"$f":"D25*E24","v":624.15476666666689},{"$f":"'Resultados Cultivos'!AL67","v":6390.2088489913358}]
[null,null,"Resultado",{"$f":"'Rentabilidade Cultivos'!D114","v":20750.475999999999},null,null,{"$f":"D26*E24","v":518.76189999999997},{"$f":"'Resultados Cultivos'!AL68","v":5311.1777093419978}]
[null,"Uva","Valor da Produção",{"$f":"'Rentabilidade Cultivos'!D115","v":87122},{"$f":"'Painel de Controle'!C37","v":2.5000000000000001E-2},{"$f":"'Painel de Controle'!D37","v":255.95450000000002},{"$f":"D27*E27","v":2178.0500000000002},{"$f":"'Resultados Cultivos'!AL71","v":22299.267949000005},{"$f":"'Rentabilidade Cultivos'!AD84","v":25400},{"$f":"'Resultados Cultivos'!AL70","v":6501.2443000000003}]
[null,null,"Custo de Produção",{"$f":"'Rentabilidade Cultivos'!D116","v":55260.838049999998},null,null,{"$f":"D28*E27","v":1381.5209512500001},{"$f":"'Resultados Cultivos'!AL72","v":14144.260172668724}]
[null,null,"Resultado",{"$f":"'Rentabilidade Cultivos'!D117","v":31861.161949999998},null,null,{"$f":"D29*E27","v":796.52904875000002},{"$f":"'Resultados Cultivos'!AL73","v":8155.0077763312802}]
[]
[null,"Temporárias","Indicadores","Média (R$/ha)","Área (%)","Área Total (ha)","Média Ponderada (R$/ha)","Total da 2ª Etapa\n(R$ mil/ano)","Produtividade Média (kg/ha)","Produção Total (kg)"]
[null,"Melancia","Valor da Produção",{"$f":"'Rentabilidade Cultivos'!D126","v":26700},{"$f":"'Painel de Controle'!C25","v":2.5000000000000001E-2},{"$f":"'Painel de Controle'!D25","v":255.95450000000002},{"$f":"D32*E32","v":667.5},{"$f":"'Resultados Cultivos'!AL11","v":6833.9851500000013},30000,7946]
[null,null,"Custo de Produção",{"$f":"'Rentabilidade Cultivos'!D127","v":12944.977499999999},null,null,{"$f":"D33*E32","v":323.6244375},{"$f":"'Resultados Cultivos'!AL12","v":3313.32524352375}]
[null,null,"Resultado",{"$f":"'Rentabilidade Cultivos'!D128","v":13755.022500000001},null,null,{"$f":"D34*E32","v":343.87556250000006},{"$f":"'Resultados Cultivos'!AL13","v":3520.6599064762513}]
[null,"Melão","Valor da Produção",{"$f":"'Rentabilidade Cultivos'!D129","v":50749.999999999993},{"$f":"'Painel de Controle'!C26","v":2.5000000000000001E-2},{"$f":"'Painel de Controle'!D26","v":255.95450000000002},{"$f":"D35*E35","v":1268.75},{"$f":"'Resultados Cultivos'!AL16","v":12989.690875},25000,6622]
[null,null,"Custo de Produção",{"$f":"'Rentabilidade Cultivos'!D130","v":27604.575990000001},null,null,{"$f":"D36*E35","v":690.11439975000008},{"$f":"'Resultados Cultivos'!AL17","v":7065.5154452324559}]
[null,null,"Resultado",{"$f":"'Rentabilidade Cultivos'!D131","v":23145.424009999992},null,null,{"$f":"D37*E35","v":578.63560024999981},{"$f":"'Resultados Cultivos'!AL18","v":5924.1754297675443}]
[null,"Tomate","Valor da Produção",{"$f":"'Rentabilidade Cultivos'!D132","v":56000},{"$f":"'Painel de Controle'!C27","v":0.05},{"$f":"'Painel de Controle'!D27","v":511.90900000000005},{"$f":"D38*E38","v":2800},{"$f":"'Resultados Cultivos'!AL21","v":28666.903999999999},140000,74164]
[null,null,"Custo de Produção",{"$f":"'Rentabilidade Cultivos'!D133","v":36194.854500000001},null,null,{"$f":"D39*E38","v":1809.7427250000001},{"$f":"'Resultados Cultivos'!AL22","v":18528.4717722405}]
[null,null,"Resultado",{"$f":"'Rentabilidade Cultivos'!D134","v":19805.145499999999},null,null,{"$f":"D40*E38","v":990.25727499999994},{"$f":"'Resultados Cultivos'!AL23","v":10138.432227759498}]
[null,"Feijão","Valor da Produção",{"$f":"'Rentabilidade Cultivos'!D135","v":13500},{"$f":"'Painel de Controle'!C28","v":0.1},{"$f":"'Painel de Controle'!D28","v":1023.8180000000001},{"$f":"D41*E41","v":1350},{"$f":"'Resultados Cultivos'!AL26","v":13821.543000000003},3000,3178]
[null,null,"Custo de Produção",{"$f":"'Rentabilidade Cultivos'!D136","v":6743.25},null,null,{"$f":"D42*E41","v":674.32500000000005},{"$f":"'Resultados Cultivos'!AL27","v":6903.8607284999998}]
[null,null,"Resultado",{"$f":"'Rentabilidade Cultivos'!D137","v":6756.75},null,null,{"$f":"D43*E41","v":675.67500000000007},{"$f":"'Resultados Cultivos'!AL28","v":6917.6822715000035}]
[]
[null,null,null,null,null,null,null,null,null,null,null,null,"Cultivos","Área (%)","Área Total (ha)","Valor da Produção","Custo de Produção","Resultado","Resultado (%)"]
[null,null,null,null,null,null,null,null,null,null,null,null,"Perenes e Semi-Perenes",{"$f":"SUM(E3:E29)","v":0.9},{"$f":"SUM(F3:F29)","v":9214.3619999999992},{"$f":"SUMIF($C$3:$C$29,$C3,H$3:H$29)","v":412534.9383931334},{"$f":"SUMIF($C$3:$C$29,$C4,H$3:H$29)","v":215712.23830202411},{"$f":"SUMIF($C$3:$C$29,$C5,H$3:H$29)","v":196822.70009110932},{"$f":"R46/P46","v":0.47710552918924698}]
[null,null,null,null,null,null,null,null,null,null,null,null,"Temporárias",{"$f":"SUM(E32:E43)","v":0.2},{"$f":"SUM(F32:F43)","v":2047.6360000000002},{"$f":"SUMIF($C$32:$C$43,$C32,H$32:H$43)","v":62312.123025000008},{"$f":"SUMIF($C$32:$C$43,$C33,H$32:H$43)","v":35811.173189496709},{"$f":"SUMIF($C$32:$C$43,$C34,H$32:H$43)","v":26500.949835503299},{"$f":"R47/P47","v":0.42529364349969195}]
[null,null,null,null,null,null,null,null,null,null,null,null,"2a Etapa",{"$f":"N46+N47","v":1.1000000000000001},{"$f":"O46+O47","v":11261.998},{"$f":"SUM(P46:P47)","v":474847.06141813344},{"$f":"SUM(Q46:Q47)","v":251523.41149152082},{"$f":"SUM(R46:R47)","v":223323.64992661262},{"$f":"R48/P48","v":0.47030647985828378}]
[]
[null,null,null,null,null,null,null,null,null,null,null,null,null,null,null,null,null,null,null,null," Ano ","Área SAU em Início de Operação\n(ha) ","Setores","Área SAU Acumulada (ha) ","Valor da Produção\n(R$ mil/ano) ","Resultado\n(R$ mil/ano) "]
[null,null,null,null,null,null,null,null,null,null,null,null,null,null,null,null,null,null,null,null,1]
[null,null,null,null,null,null,null,null,null,null,null,null,null,null,null,null,null,null,null,null,2]
[null,null,null,null,null,null,null,null,null,null,null,null,null,null,null,null,null,null,null,null,3]
[null,null,null,null,null,null,null,null,null,null,null,null,null,null,null,null,null,null,null,null,4,{"$f":"'Painel de Controle'!C14","v":3739.57},{"$f":"'Painel de Controle'!D14","v":"9, 10, 11 e 12"},{"$f":"V54","v":3739.57},{"$f":"HLOOKUP(U54,'Resultados Cultivos'!$D$2:$AL$8,5,FALSE)","v":173441.35632186674},{"$f":"HLOOKUP(U54,'Resultados Cultivos'!$D$2:$AL$8,7,FALSE)","v":81570.593753583467}]
[null,null,null,null,null,null,null,null,null,null,null,null,null,null,null,null,null,null,null,null,5,{"$f":"'Painel de Controle'!C15","v":2658.84},{"$f":"'Painel de Controle'!D15","v":"1, 2 e 3"},{"$f":"V55+X54","v":6398.41},{"$f":"HLOOKUP(U55,'Resultados Cultivos'!$D$2:$AL$8,5,FALSE)","v":296758.42642426665},{"$f":"HLOOKUP(U55,'Resultados Cultivos'!$D$2:$AL$8,7,FALSE)","v":139567.41089988034}]
[null,null,null,null,null,null,null,null,null,null,null,null,null,null,null,null,null,null,null,null,6,{"$f":"'Painel de Controle'!C16","v":2019},{"$f":"'Painel de Controle'!D16","v":"4, 5 e 6"},{"$f":"V56+X55","v":8417.41},{"$f":"HLOOKUP(U56,'Resultados Cultivos'!$D$2:$AL$8,5,FALSE)","v":390399.70026426669},{"$f":"HLOOKUP(U56,'Resultados Cultivos'!$D$2:$AL$8,7,FALSE)","v":183607.50876901636}]
[null,null,null,null,null,null,null,null,null,null,null,null,null,null,null,null,null,null,null,null,7,{"$f":"'Painel de Controle'!C17","v":1097.44},{"$f":"'Painel de Controle'!D17","v":7},9514.85,{"$f":"HLOOKUP(U57,'Resultados Cultivos'!$D$2:$AL$8,5,FALSE)","v":441298.99672933336},{"$f":"HLOOKUP(U57,'Resultados Cultivos'!$D$2:$AL$8,7,FALSE)","v":207545.77771676506}]
[null,null,null,null,null,null,null,null,null,null,null,null,null,null,null,null,null,null,null,null,8,{"$f":"'Painel de Controle'!C18","v":723.33},{"$f":"'Painel de Controle'!D18","v":8},10238.18,{"$f":"HLOOKUP(U58,'Resultados Cultivos'!$D$2:$AL$8,5,FALSE)","v":474847.0614181335},{"$f":"HLOOKUP(U58,'Resultados Cultivos'!$D$2:$AL$8,7,FALSE)","v":223323.64992661268}]
[null,null,null,null,null,null,null,null,null,null,null,null,null,null,null,null,null,null,null,null,9,null,null,10238.18,{"$f":"HLOOKUP(U59,'Resultados Cultivos'!$D$2:$AL$8,5,FALSE)","v":474847.0614181335},{"$f":"HLOOKUP(U59,'Resultados Cultivos'!$D$2:$AL$8,7,FALSE)","v":223323.64992661268}]
[null,null,null,null,null,null,null,null,null,null,null,null,null,null,null,null,null,null,null,null,10,null,null,10238.18,{"$f":"HLOOKUP(U60,'Resultados Cultivos'!$D$2:$AL$8,5,FALSE)","v":474847.0614181335},{"$f":"HLOOKUP(U60,'Resultados Cultivos'!$D$2:$AL$8,7,FALSE)","v":223323.64992661268}]
[null,null,null,null,null,null,null,null,null,null,null,null,null,null,null,null,null,null,null,null,11,null,null,10238.18,{"$f":"HLOOKUP(U61,'Resultados Cultivos'!$D$2:$AL$8,5,FALSE)","v":474847.0614181335},{"$f":"HLOOKUP(U61,'Resultados Cultivos'!$D$2:$AL$8,7,FALSE)","v":223323.64992661268}]
[null,null,null,null,null,null,null,null,null,null,null,null,null,null,null,null,null,null,null,null,12,null,null,10238.18,{"$f":"HLOOKUP(U62,'Resultados Cultivos'!$D$2:$AL$8,5,FALSE)","v":474847.0614181335},{"$f":"HLOOKUP(U62,'Resultados Cultivos'!$D$2:$AL$8,7,FALSE)","v":223323.64992661268}]
[null,null,null,null,null,null,null,null,null,null,null,null,null,null,null,null,null,null,null,null,13,null,null,10238.18,{"$f":"HLOOKUP(U63,'Resultados Cultivos'!$D$2:$AL$8,5,FALSE)","v":474847.0614181335},{"$f":"HLOOKUP(U63,'Resultados Cultivos'!$D$2:$AL$8,7,FALSE)","v":223323.64992661268}]
[null,null,null,null,null,null,null,null,null,null,null,null,null,null,null,null,null,null,null,null,14,null,null,10238.18,{"$f":"HLOOKUP(U64,'Resultados Cultivos'!$D$2:$AL$8,5,FALSE)","v":474847.0614181335},{"$f":"HLOOKUP(U64,'Resultados Cultivos'!$D$2:$AL$8,7,FALSE)","v":223323.64992661268}]
[null,null,null,null,null,null,null,null,null,null,null,null,null,null,null,null,null,null,null,null,15,null,null,10238.18,{"$f":"HLOOKUP(U65,'Resultados Cultivos'!$D$2:$AL$8,5,FALSE)","v":474847.0614181335},{"$f":"HLOOKUP(U65,'Resultados Cultivos'!$D$2:$AL$8,7,FALSE)","v":223323.64992661268}]
[null,null,null,null,null,null,null,null,null,null,null,null,null,null,null,null,null,null,null,null,16,null,null,10238.18,{"$f":"HLOOKUP(U66,'Resultados Cultivos'!$D$2:$AL$8,5,FALSE)","v":474847.0614181335},{"$f":"HLOOKUP(U66,'Resultados Cultivos'!$D$2:$AL$8,7,FALSE)","v":223323.64992661268}]
[null,null,null,null,null,null,null,null,null,null,null,null,null,null,null,null,null,null,null,null,17,null,null,10238.18,{"$f":"HLOOKUP(U67,'Resultados Cultivos'!$D$2:$AL$8,5,FALSE)","v":474847.0614181335},{"$f":"HLOOKUP(U67,'Resultados Cultivos'!$D$2:$AL$8,7,FALSE)","v":223323.64992661268}]
[null,null,null,null,null,null,null,null,null,null,null,null,null,null,null,null,null,null,null,null,18,null,null,10238.18,{"$f":"HLOOKUP(U68,'Resultados Cultivos'!$D$2:$AL$8,5,FALSE)","v":474847.0614181335},{"$f":"HLOOKUP(U68,'Resultados Cultivos'!$D$2:$AL$8,7,FALSE)","v":223323.64992661268}]
[null,null,null,null,null,null,null,null,null,null,null,null,null,null,null,null,null,null,null,null,19,null,null,10238.18,{"$f":"HLOOKUP(U69,'Resultados Cultivos'!$D$2:$AL$8,5,FALSE)","v":474847.0614181335},{"$f":"HLOOKUP(U69,'Resultados Cultivos'!$D$2:$AL$8,7,FALSE)","v":223323.64992661268}]
[null,null,null,null,null,null,null,null,null,null,null,null,null,null,null,null,null,null,null,null,20,null,null,10238.18,{"$f":"HLOOKUP(U70,'Resultados Cultivos'!$D$2:$AL$8,5,FALSE)","v":474847.0614181335},{"$f":"HLOOKUP(U70,'Resultados Cultivos'!$D$2:$AL$8,7,FALSE)","v":223323.64992661268}]
[null,null,null,null,null,null,null,null,null,null,null,null,null,null,null,null,null,null,null,null,21,null,null,10238.18,{"$f":"HLOOKUP(U71,'Resultados Cultivos'!$D$2:$AL$8,5,FALSE)","v":474847.0614181335},{"$f":"HLOOKUP(U71,'Resultados Cultivos'!$D$2:$AL$8,7,FALSE)","v":223323.64992661268}]
[null,null,null,null,null,null,null,null,null,null,null,null,null,null,null,null,null,null,null,null,22,null,null,10238.18,{"$f":"HLOOKUP(U72,'Resultados Cultivos'!$D$2:$AL$8,5,FALSE)","v":474847.0614181335},{"$f":"HLOOKUP(U72,'Resultados Cultivos'!$D$2:$AL$8,7,FALSE)","v":223323.64992661268}]
[null,null,null,null,null,null,null,null,null,null,null,null,null,null,null,null,null,null,null,null,23,null,null,10238.18,{"$f":"HLOOKUP(U73,'Resultados Cultivos'!$D$2:$AL$8,5,FALSE)","v":474847.0614181335},{"$f":"HLOOKUP(U73,'Resultados Cultivos'!$D$2:$AL$8,7,FALSE)","v":223323.64992661268}]
[null,null,null,null,null,null,null,null,null,null,null,null,null,null,null,null,null,null,null,null,24,null,null,10238.18,{"$f":"HLOOKUP(U74,'Resultados Cultivos'!$D$2:$AL$8,5,FALSE)","v":474847.0614181335},{"$f":"HLOOKUP(U74,'Resultados Cultivos'!$D$2:$AL$8,7,FALSE)","v":223323.64992661268}]
[null,null,null,null,null,null,null,null,null,null,null,null,null,null,null,null,null,null,null,null,25,null,null,10238.18,{"$f":"HLOOKUP(U75,'Resultados Cultivos'!$D$2:$AL$8,5,FALSE)","v":474847.0614181335},{"$f":"HLOOKUP(U75,'Resultados Cultivos'!$D$2:$AL$8,7,FALSE)","v":223323.64992661268}]
[null,null,null,null,null,null,null,null,null,null,null,null,null,null,null,null,null,null,null,null,26,null,null,10238.18,{"$f":"HLOOKUP(U76,'Resultados Cultivos'!$D$2:$AL$8,5,FALSE)","v":474847.0614181335},{"$f":"HLOOKUP(U76,'Resultados Cultivos'!$D$2:$AL$8,7,FALSE)","v":223323.64992661268}]
[null,null,null,null,null,null,null,null,null,null,null,null,null,null,null,null,null,null,null,null,27,null,null,10238.18,{"$f":"HLOOKUP(U77,'Resultados Cultivos'!$D$2:$AL$8,5,FALSE)","v":474847.0614181335},{"$f":"HLOOKUP(U77,'Resultados Cultivos'!$D$2:$AL$8,7,FALSE)","v":223323.64992661268}]
[null,null,null,null,null,null,null,null,null,null,null,null,null,null,null,null,null,null,null,null,28,null,null,10238.18,{"$f":"HLOOKUP(U78,'Resultados Cultivos'!$D$2:$AL$8,5,FALSE)","v":474847.0614181335},{"$f":"HLOOKUP(U78,'Resultados Cultivos'!$D$2:$AL$8,7,FALSE)","v":223323.64992661268}]
[null,null,null,null,null,null,null,null,null,null,null,null,null,null,null,null,null,null,null,null,29,null,null,10238.18,{"$f":"HLOOKUP(U79,'Resultados Cultivos'!$D$2:$AL$8,5,FALSE)","v":474847.0614181335},{"$f":"HLOOKUP(U79,'Resultados Cultivos'!$D$2:$AL$8,7,FALSE)","v":223323.64992661268}]
[null,null,null,null,null,null,null,null,null,null,null,null,null,null,null,null,null,null,null,null,30,null,null,10238.18,{"$f":"HLOOKUP(U80,'Resultados Cultivos'!$D$2:$AL$8,5,FALSE)","v":474847.0614181335},{"$f":"HLOOKUP(U80,'Resultados Cultivos'!$D$2:$AL$8,7,FALSE)","v":223323.64992661268}]
[null,null,null,null,null,null,null,null,null,null,null,null,null,null,null,null,null,null,null,null,31,null,null,10238.18,{"$f":"HLOOKUP(U81,'Resultados Cultivos'!$D$2:$AL$8,5,FALSE)","v":474847.0614181335},{"$f":"HLOOKUP(U81,'Resultados Cultivos'!$D$2:$AL$8,7,FALSE)","v":223323.64992661268}]
[null,null,null,null,null,null,null,null,null,null,null,null,null,null,null,null,null,null,null,null,32,null,null,10238.18,{"$f":"HLOOKUP(U82,'Resultados Cultivos'!$D$2:$AL$8,5,FALSE)","v":474847.0614181335},{"$f":"HLOOKUP(U82,'Resultados Cultivos'!$D$2:$AL$8,7,FALSE)","v":223323.64992661268}]
[null,null,null,null,null,null,null,null,null,null,null,null,null,null,null,null,null,null,null,null,33,null,null,10238.18,{"$f":"HLOOKUP(U83,'Resultados Cultivos'!$D$2:$AL$8,5,FALSE)","v":474847.0614181335},{"$f":"HLOOKUP(U83,'Resultados Cultivos'!$D$2:$AL$8,7,FALSE)","v":223323.64992661268}]
[null,null,null,null,null,null,null,null,null,null,null,null,null,null,null,null,null,null,null,null,34,null,null,10238.18,{"$f":"HLOOKUP(U84,'Resultados Cultivos'!$D$2:$AL$8,5,FALSE)","v":474847.0614181335},{"$f":"HLOOKUP(U84,'Resultados Cultivos'!$D$2:$AL$8,7,FALSE)","v":223323.64992661268}]
[null,null,null,null,null,null,null,null,null,null,null,null,null,null,null,null,null,null,null,null,35,null,null,10238.18,{"$f":"HLOOKUP(U85,'Resultados Cultivos'!$D$2:$AL$8,5,FALSE)","v":474847.0614181335},{"$f":"HLOOKUP(U85,'Resultados Cultivos'!$D$2:$AL$8,7,FALSE)","v":223323.64992661268}]
[null,null,null,null,null,null,null,null,null,null,null,null,null,null,null,null,null,null,null,null,"Total",{"$f":"SUM(V51:V85)","v":10238.18},null,{"$f":"X85","v":10238.18},{"$f":"SUM(Y51:Y85)","v":14597616.199447464},6865353.489084404]

{"sheet":"Resumo Cultivos","index":27,"n_rows":60,"n_cols":10,"rows_kept":60,"cut":false,"hidden":false,"merged":[[5,1,7,1],[5,4,7,4],[5,5,7,5],[5,8,7,8],[5,9,7,9],[2,1,4,1],[2,4,4,4],[2,5,4,5],[2,8,4,8],[2,9,4,9],[11,1,13,1],[11,4,13,4],[11,5,13,5],[11,8,13,8],[11,9,13,9],[8,1,10,1],[8,4,10,4],[8,5,10,5],[8,8,10,8],[8,9,10,9],[17,1,19,1],[17,4,19,4],[17,5,19,5],[17,8,19,8],[17,9,19,9],[14,1,16,1],[14,4,16,4],[14,5,16,5],[14,8,16,8],[14,9,16,9],[20,9,22,9],[23,1,25,1],[23,4,25,4],[23,5,25,5],[23,8,25,8],[23,9,25,9],[20,1,22,1],[20,4,22,4],[20,5,22,5],[20,8,22,8],[40,8,42,8],[40,9,42,9],[26,1,28,1],[26,4,28,4],[26,5,28,5],[26,8,28,8],[26,9,28,9],[31,1,34,1],[43,8,45,8],[43,9,45,9],[46,1,48,1],[46,4,48,4],[46,5,48,5],[46,8,48,8],[46,9,48,9],[37,1,39,1],[37,4,39,4],[37,5,39,5],[37,8,39,8],[37,9,39,9],[40,1,42,1],[40,4,42,4],[40,5,42,5],[51,1,54,1],[56,1,59,1],[43,1,45,1],[43,4,45,4],[43,5,45,5]]}
[]
[null,"Perenes e Semi-Perenes","Indicadores","Média (R$/ha/ano)","Área (%)","Área Total (ha)","Média Ponderada (R$/ha/ano)","Total da 2ª Etapa (R$/ano)","Produtividade Média (kg/ha)","Produção Total (toneladas)"]
[null,"Abacaxi","Valor da Produção",{"$f":"'Rentabilidade Cultivos'!AD46","v":50700},{"$f":"'Painel de Controle'!C29","v":2.5000000000000001E-2},{"$f":"'Painel de Controle'!D29","v":255.95450000000002},{"$f":"D3*$E$3","v":1267.5},{"$f":"'Resultados Cultivos'!AL31*1000","v":12976893.150000004},{"$f":"'Rentabilidade Cultivos'!AD44","v":30000},{"$f":"F3*I3/1000","v":7678.6350000000011}]
[null,null,"Custo de Produção",{"$f":"'Rentabilidade Cultivos'!AD47","v":28987.05},null,null,{"$f":"D4*$E$3","v":724.67624999999998},{"$f":"'Resultados Cultivos'!AL32*1000","v":7419365.8892250005}]
[null,null,"Resultado",{"$f":"'Rentabilidade Cultivos'!AD48","v":21712.95},null,null,{"$f":"D5*$E$3","v":542.82375000000002},{"$f":"'Resultados Cultivos'!AL33*1000","v":5557527.2607750027}]
[null,"Acerola","Valor da Produção",{"$f":"'Rentabilidade Cultivos'!AD51","v":48750},{"$f":"'Painel de Controle'!C30","v":0.1},{"$f":"'Painel de Controle'!D30","v":1023.8180000000001},{"$f":"D6*$E$6","v":4875},{"$f":"'Resultados Cultivos'!AL36*1000","v":49911127.500000007},{"$f":"'Rentabilidade Cultivos'!AD49","v":19500},{"$f":"F6*I6/1000","v":19964.451000000005}]
[null,null,"Custo de Produção",{"$f":"'Rentabilidade Cultivos'!AD52","v":38372.588100000001},null,null,{"$f":"D7*$E$6","v":3837.2588100000003},{"$f":"'Resultados Cultivos'!AL37*1000","v":39286546.403365806}]
[null,null,"Resultado",{"$f":"'Rentabilidade Cultivos'!AD53","v":10377.411900000001},null,null,{"$f":"D8*$E$6","v":1037.7411900000002},{"$f":"'Resultados Cultivos'!AL38*1000","v":10624581.096634204}]
[null,"Banana","Valor da Produção",{"$f":"'Rentabilidade Cultivos'!AD56","v":49680},{"$f":"'Painel de Controle'!C31","v":0.4},{"$f":"'Painel de Controle'!D31","v":4095.2720000000004},{"$f":"D9*$E$9","v":19872},{"$f":"'Resultados Cultivos'!AL41*1000","v":203453112.96000004},{"$f":"'Rentabilidade Cultivos'!AD54","v":23000},{"$f":"F9*I9/1000","v":94191.256000000008}]
[null,null,"Custo de Produção",{"$f":"'Rentabilidade Cultivos'!AD57","v":22820.276100000003},null,null,{"$f":"D10*$E$9","v":9128.1104400000022},{"$f":"'Resultados Cultivos'!AL42*1000","v":93455237.744599223}]
[null,null,"Resultado",{"$f":"'Rentabilidade Cultivos'!AD58","v":26859.723899999994},null,null,{"$f":"D11*$E$9","v":10743.889559999998},{"$f":"'Resultados Cultivos'!AL43*1000","v":109997875.21540082}]
[null,"Coco","Valor da Produção",{"$f":"'Rentabilidade Cultivos'!AD61","v":32625},{"$f":"'Painel de Controle'!C32","v":0.1},{"$f":"'Painel de Controle'!D32","v":1023.8180000000001},{"$f":"D12*$E$12","v":3262.5},{"$f":"'Resultados Cultivos'!AL46*1000","v":33402062.250000004},{"$f":"'Rentabilidade Cultivos'!AD59","v":32625},{"$f":"F12*I12/1000","v":33402.062250000003}]
[null,null,"Custo de Produção",{"$f":"'Rentabilidade Cultivos'!AD62","v":14147.371612499997},null,null,{"$f":"D13*$E$12","v":1414.7371612499999},{"$f":"'Resultados Cultivos'!AL47*1000","v":14484333.709566524}]
[null,null,"Resultado",{"$f":"'Rentabilidade Cultivos'!AD63","v":18477.628387500001},null,null,{"$f":"D14*$E$12","v":1847.7628387500001},{"$f":"'Resultados Cultivos'!AL48*1000","v":18917728.540433478}]
[null,"Goiaba","Valor da Produção",{"$f":"'Rentabilidade Cultivos'!AD66","v":41760},{"$f":"'Painel de Controle'!C33","v":0.1},{"$f":"'Painel de Controle'!D33","v":1023.8180000000001},{"$f":"D15*$E$15","v":4176},{"$f":"'Resultados Cultivos'!AL51*1000","v":42754639.680000007},24000,{"$f":"F15*I15/1000","v":24571.632000000005}]
[null,null,"Custo de Produção",{"$f":"'Rentabilidade Cultivos'!AD67","v":21295.400666666665},null,null,{"$f":"D16*$E$15","v":2129.5400666666665},{"$f":"'Resultados Cultivos'!AL52*1000","v":21802614.519745335}]
[null,null,"Resultado",{"$f":"'Rentabilidade Cultivos'!AD68","v":20464.599333333335},null,null,{"$f":"D17*$E$15","v":2046.4599333333335},{"$f":"'Resultados Cultivos'!AL53*1000","v":20952025.160254676}]
[null,"Mamão","Valor da Produção",{"$f":"'Rentabilidade Cultivos'!AD76","v":42750},{"$f":"'Painel de Controle'!C35","v":2.5000000000000001E-2},{"$f":"'Painel de Controle'!D35","v":255.95450000000002},{"$f":"D18*$E$18","v":1068.75},{"$f":"'Resultados Cultivos'!AL61*1000","v":10942054.875000002},{"$f":"'Rentabilidade Cultivos'!AD74","v":25000},{"$f":"F18*I18/1000","v":6398.8625000000011}]
[null,null,"Custo de Produção",{"$f":"'Rentabilidade Cultivos'!AD77","v":21293.547000000002},null,null,{"$f":"D19*$E$18","v":532.33867500000008},{"$f":"'Resultados Cultivos'!AL62*1000","v":5450179.1756115016}]
[null,null,"Resultado",{"$f":"'Rentabilidade Cultivos'!AD78","v":21456.452999999998},null,null,{"$f":"D20*$E$18","v":536.41132499999992},{"$f":"'Resultados Cultivos'!AL63*1000","v":5491875.6993885003}]
[null,"Maracujá","Valor da Produção",{"$f":"'Rentabilidade Cultivos'!AD81","v":45716.666666666664},{"$f":"'Painel de Controle'!C36","v":2.5000000000000001E-2},{"$f":"'Painel de Controle'!D36","v":255.95450000000002},{"$f":"D21*$E$21","v":1142.9166666666667},{"$f":"'Resultados Cultivos'!AL66*1000","v":11701386.558333334},{"$f":"'Rentabilidade Cultivos'!AD79","v":21666.666666666668},{"$f":"F21*I21/1000","v":5545.6808333333338}]
[null,null,"Custo de Produção",{"$f":"'Rentabilidade Cultivos'!AD82","v":24966.190666666673},null,null,{"$f":"D22*$E$21","v":624.15476666666689},{"$f":"'Resultados Cultivos'!AL67*1000","v":6390208.8489913354}]
[null,null,"Resultado",{"$f":"'Rentabilidade Cultivos'!AD83","v":20750.475999999999},null,null,{"$f":"D23*$E$21","v":518.76189999999997},{"$f":"'Resultados Cultivos'!AL68*1000","v":5311177.7093419982}]
[null,"Uva","Valor da Produção",{"$f":"'Rentabilidade Cultivos'!AD86","v":87122},{"$f":"'Painel de Controle'!C37","v":2.5000000000000001E-2},{"$f":"'Painel de Controle'!D37","v":255.95450000000002},{"$f":"D24*$E$24","v":2178.0500000000002},{"$f":"'Resultados Cultivos'!AL71*1000","v":22299267.949000005},{"$f":"'Rentabilidade Cultivos'!AD84","v":25400},{"$f":"F24*I24/1000","v":6501.2443000000003}]
[null,null,"Custo de Produção",{"$f":"'Rentabilidade Cultivos'!AD87","v":55260.838049999998},null,null,{"$f":"D25*$E$24","v":1381.5209512500001},{"$f":"'Resultados Cultivos'!AL72*1000","v":14144260.172668725}]
[null,null,"Resultado",{"$f":"'Rentabilidade Cultivos'!AD88","v":31861.161949999998},null,null,{"$f":"D26*$E$24","v":796.52904875000002},{"$f":"'Resultados Cultivos'!AL73*1000","v":8155007.7763312804}]
[null,"Laranja","Valor da Produção",{"$f":"'Rentabilidade Cultivos'!AD71","v":24510.6},{"$f":"'Painel de Controle'!C34","v":0.1},{"$f":"'Painel de Controle'!D34","v":1023.8180000000001},{"$f":"D27*$E$27","v":2451.06},{"$f":"'Resultados Cultivos'!AL56*1000","v":25094393.470799997},{"$f":"'Rentabilidade Cultivos'!AD69","v":24030},{"$f":"F27*I27/1000","v":24602.346540000002}]
[null,null,"Custo de Produção",{"$f":"'Rentabilidade Cultivos'!AD72","v":12970.559062500006},null,null,{"$f":"D28*$E$27","v":1297.0559062500006},{"$f":"'Resultados Cultivos'!AL57*1000","v":13279491.838250631}]
[null,null,"Resultado",{"$f":"'Rentabilidade Cultivos'!AD73","v":11540.040937499996},null,null,{"$f":"D29*$E$27","v":1154.0040937499996},{"$f":"'Resultados Cultivos'!AL58*1000","v":11814901.632549366}]
[null,"Total",null,null,{"$f":"SUM(E3:E29)","v":0.9},{"$f":"SUM(F3:F29)","v":9214.3619999999992}]
[]
[null,"Total Perenes e Semi-Perenes","Valor da Produção",{"$f":"AVERAGEIF($C$3:$C$29,C32,$D$3:$D$29)","v":47068.251851851848},null,null,{"$f":"SUMIF($C$3:$C$29,C32,$G$3:$G$29)","v":40293.776666666665},{"$f":"SUMIF($C$3:$C$29,C32,$H$3:$H$29)","v":412534938.3931334}]
[null,null,"Custo de Produção",{"$f":"AVERAGEIF($C$3:$C$29,C33,$D$3:$D$29)","v":26679.313473148148},null,null,{"$f":"SUMIF($C$3:$C$29,C33,$G$3:$G$29)","v":21069.393027083333},{"$f":"SUMIF($C$3:$C$29,C33,$H$3:$H$29)","v":215712238.3020241}]
[null,null,"Resultado",{"$f":"AVERAGEIF($C$3:$C$29,C34,$D$3:$D$29)","v":20388.938378703704},null,null,{"$f":"SUMIF($C$3:$C$29,C34,$G$3:$G$29)","v":19224.383639583331},{"$f":"SUMIF($C$3:$C$29,C34,$H$3:$H$29)","v":196822700.09110934}]
[null,null,"Resultado (%)",{"$f":"D34/D32","v":0.43317815250241815},null,null,{"$f":"G34/G32","v":0.47710552918924698},{"$f":"H34/H32","v":0.47710552918924704}]
[]
[null,"Temporárias","Indicadores","Média (R$/ha)","Área (%)","Área Total (ha)","Média Ponderada (R$/ha)","Total da 2ª Etapa (R$/ano)","Produtividade Média (kg/ha)","Produção Total (toneladas)"]
[null,"Melancia","Valor da Produção",{"$f":"'Rentabilidade Cultivos'!E7","v":26700},{"$f":"'Painel de Controle'!C25","v":2.5000000000000001E-2},{"$f":"'Painel de Controle'!D25","v":255.95450000000002},{"$f":"D38*$E$38","v":667.5},{"$f":"'Resultados Cultivos'!AL11*1000","v":6833985.1500000013},{"$f":"'Rentabilidade Cultivos'!E5","v":30000},{"$f":"F38*I38/1000","v":7678.6350000000011}]
[null,null,"Custo de Produção",{"$f":"'Rentabilidade Cultivos'!E8","v":12944.977499999999},null,null,{"$f":"D39*$E$38","v":323.6244375},{"$f":"'Resultados Cultivos'!AL12*1000","v":3313325.24352375}]
[null,null,"Resultado",{"$f":"'Rentabilidade Cultivos'!E9","v":13755.022500000001},null,null,{"$f":"D40*$E$38","v":343.87556250000006},{"$f":"'Resultados Cultivos'!AL13*1000","v":3520659.9064762513}]
[null,"Melão","Valor da Produção",{"$f":"'Rentabilidade Cultivos'!E13","v":50749.999999999993},{"$f":"'Painel de Controle'!C26","v":2.5000000000000001E-2},{"$f":"'Painel de Controle'!D26","v":255.95450000000002},{"$f":"D41*$E$41","v":1268.75},{"$f":"'Resultados Cultivos'!AL16*1000","v":12989690.875},{"$f":"'Rentabilidade Cultivos'!E11","v":25000},{"$f":"F41*I41/1000","v":6398.8625000000011}]
[null,null,"Custo de Produção",{"$f":"'Rentabilidade Cultivos'!E14","v":27604.575990000001},null,null,{"$f":"D42*$E$41","v":690.11439975000008},{"$f":"'Resultados Cultivos'!AL17*1000","v":7065515.4452324556}]
[null,null,"Resultado",{"$f":"'Rentabilidade Cultivos'!E15","v":23145.424009999992},null,null,{"$f":"D43*$E$41","v":578.63560024999981},{"$f":"'Resultados Cultivos'!AL18*1000","v":5924175.4297675444}]
[null,"Tomate","Valor da Produção",{"$f":"'Rentabilidade Cultivos'!E19","v":56000},{"$f":"'Painel de Controle'!C27","v":0.05},{"$f":"'Painel de Controle'!D27","v":511.90900000000005},{"$f":"D44*$E$44","v":2800},{"$f":"'Resultados Cultivos'!AL21*1000","v":28666904},{"$f":"'Rentabilidade Cultivos'!E17","v":140000},{"$f":"F44*I44/1000","v":71667.259999999995}]
[null,null,"Custo de Produção",{"$f":"'Rentabilidade Cultivos'!E20","v":36194.854500000001},null,null,{"$f":"D45*$E$44","v":1809.7427250000001},{"$f":"'Resultados Cultivos'!AL22*1000","v":18528471.772240501}]
[null,null,"Resultado",{"$f":"'Rentabilidade Cultivos'!E21","v":19805.145499999999},null,null,{"$f":"D46*$E$44","v":990.25727499999994},{"$f":"'Resultados Cultivos'!AL23*1000","v":10138432.227759499}]
[null,"Feijão","Valor da Produção",{"$f":"'Rentabilidade Cultivos'!E25","v":13500},{"$f":"'Painel de Controle'!C28","v":0.1},{"$f":"'Painel de Controle'!D28","v":1023.8180000000001},{"$f":"D47*$E$47","v":1350},{"$f":"'Resultados Cultivos'!AL26*1000","v":13821543.000000004},{"$f":"'Rentabilidade Cultivos'!E23","v":3000},{"$f":"F47*I47/1000","v":3071.4540000000006}]
[null,null,"Custo de Produção",{"$f":"'Rentabilidade Cultivos'!E26","v":6743.25},null,null,{"$f":"D48*$E$47","v":674.32500000000005},{"$f":"'Resultados Cultivos'!AL27*1000","v":6903860.7285000002}]
[null,null,"Resultado",{"$f":"'Rentabilidade Cultivos'!E27","v":6756.75},null,null,{"$f":"D49*$E$47","v":675.67500000000007},{"$f":"'Resultados Cultivos'!AL28*1000","v":6917682.2715000035}]
[null,null,null,null,{"$f":"SUM(E38:E49)","v":0.2},{"$f":"SUM(F38:F49)","v":2047.6360000000002}]
[]
[null,"Total Temporárias","Valor da Produção",{"$f":"AVERAGEIF($C$38:$C$49,C52,$D$38:$D$49)","v":36737.5},null,null,{"$f":"SUMIF($C$38:$C$49,C52,$G$38:$G$49)","v":6086.25},{"$f":"SUMIF($C$38:$C$49,C52,$H$38:$H$49)","v":62312123.025000006}]
[null,null,"Custo de Produção",{"$f":"AVERAGEIF($C$38:$C$49,C53,$D$38:$D$49)","v":20871.914497500002},null,null,{"$f":"SUMIF($C$38:$C$49,C53,$G$38:$G$49)","v":3497.8065622499998},{"$f":"SUMIF($C$38:$C$49,C53,$H$38:$H$49)","v":35811173.189496703}]
[null,null,"Resultado",{"$f":"AVERAGEIF($C$38:$C$49,C54,$D$38:$D$49)","v":15865.585502499998},null,null,{"$f":"SUMIF($C$38:$C$49,C54,$G$38:$G$49)","v":2588.4434377499997},26500949.835503299]
[null,null,"Resultado (%)",{"$f":"D54/D52","v":0.4318635046614494},null,null,{"$f":"G54/G52","v":0.4252936434996919},{"$f":"H54/H52","v":0.42529364349969195}]
[]
[null,"Total da 2ª Etapa (R$/ano)","Valor da Produção",{"$f":"(SUMIF($C$3:$C$29,C57,$D$3:$D$29)+SUMIF($C$38:$C$49,C57,$D$38:$D$49))/13","v":43889.558974358966},null,null,{"$f":"G32+G52","v":46380.026666666665},474847061.41813338]
[null,null,"Custo de Produção",{"$f":"(SUMIF($C$3:$C$29,C58,$D$3:$D$29)+SUMIF($C$38:$C$49,C58,$D$38:$D$49))/13","v":24892.421480641027},null,null,24567.199589333333,251523411.49152079]
[null,null,"Resultado",{"$f":"(SUMIF($C$3:$C$29,C59,$D$3:$D$29)+SUMIF($C$38:$C$49,C59,$D$38:$D$49))/13","v":18997.137493717946},null,null,21812.827077333332,223323649.92661265]
[null,null,"Resultado (%)",{"$f":"D59/D57","v":0.43283956224796882},null,null,{"$f":"G59/G57","v":0.47030647985828378},{"$f":"H59/H57","v":0.47030647985828389}]

{"sheet":"Resultados Cultivos","index":28,"n_rows":73,"n_cols":38,"rows_kept":73,"cut":false,"hidden":false,"merged":[[58,1,62,1],[63,1,67,1],[68,1,72,1],[4,1,7,1],[8,1,12,1],[28,1,32,1],[33,1,37,1],[48,1,52,1],[53,1,57,1],[38,1,42,1],[43,1,47,1],[23,1,27,1],[18,1,22,1],[13,1,17,1]]}
[]
[null,null,null,1,2,3,4,5,6,7,8,9,10,11,12,13,14,15,16,17,18,19,20,21,22,23,24,25,26,27,28,29,30,31,32,33,34,35]
[null,"Área Cultivada",null,{"$f":"'Painel de Controle'!C11","v":0},{"$f":"D3+'Painel de Controle'!C12","v":0},{"$f":"E3+'Painel de Controle'!C13","v":0},{"$f":"F3+'Painel de Controle'!C14","v":3739.57},{"$f":"G3+'Painel de Controle'!C15","v":6398.41},{"$f":"H3+'Painel de Controle'!C16","v":8417.41},{"$f":"I3+'Painel de Controle'!C17","v":9514.85},{"$f":"J3+'Painel de Controle'!C18","v":10238.18},{"$f":"K3","v":10238.18},{"$f":"L3","v":10238.18},10238.18,10238.18,10238.18,10238.18,10238.18,10238.18,10238.18,10238.18,10238.18,10238.18,10238.18,10238.18,10238.18,10238.18,10238.18,10238.18,10238.18,10238.18,10238.18,10238.18,10238.18,10238.18,10238.18,10238.18,10238.18]
[]
[null,"Total","Área (ha)",{"$f":"SUMIF($C$9:$C$73,$C$5,D$9:D$73)","v":0},0,0,4113.527,7038.251000000002,9259.1510000000017,10466.335000000003,11261.997999999998,11261.997999999998,11261.997999999998,11261.997999999998,11261.997999999998,11261.997999999998,11261.997999999998,11261.997999999998,11261.997999999998,11261.997999999998,11261.997999999998,11261.997999999998,11261.997999999998,11261.997999999998,11261.997999999998,11261.997999999998,11261.997999999998,11261.997999999998,11261.997999999998,11261.997999999998,11261.997999999998,11261.997999999998,11261.997999999998,11261.997999999998,11261.997999999998,11261.997999999998,11261.997999999998,11261.997999999998]
[null,null,"Faturamento (R$ mil)",{"$f":"SUMIF($C$9:$C$73,$C$6,D$9:D$73)","v":0},0,0,173441.35632186674,296758.42642426665,390399.70026426669,441298.99672933336,474847.0614181335,474847.0614181335,474847.0614181335,474847.0614181335,474847.0614181335,474847.0614181335,474847.0614181335,474847.0614181335,474847.0614181335,474847.0614181335,474847.0614181335,474847.0614181335,474847.0614181335,474847.0614181335,474847.0614181335,474847.0614181335,474847.0614181335,474847.0614181335,474847.0614181335,474847.0614181335,474847.0614181335,474847.0614181335,474847.0614181335,474847.0614181335,474847.0614181335,474847.0614181335,474847.0614181335,474847.0614181335]
[null,null,"Custo direto (R$ mil)",{"$f":"SUMIF($C$9:$C$73,$C$7,D$9:D$73)","v":0},0,0,91870.762568283273,157191.01552438631,206792.19149525033,233753.2190125683,251523.41149152082,251523.41149152082,251523.41149152082,251523.41149152082,251523.41149152082,251523.41149152082,251523.41149152082,251523.41149152082,251523.41149152082,251523.41149152082,251523.41149152082,251523.41149152082,251523.41149152082,251523.41149152082,251523.41149152082,251523.41149152082,251523.41149152082,251523.41149152082,251523.41149152082,251523.41149152082,251523.41149152082,251523.41149152082,251523.41149152082,251523.41149152082,251523.41149152082,251523.41149152082,251523.41149152082,251523.41149152082]
[null,null,"Resultado (R$ mil)",{"$f":"D6-D7","v":0},{"$f":"E6-E7","v":0},0,{"$f":"G6-G7","v":81570.593753583467},139567.41089988034,183607.50876901636,{"$f":"J6-J7","v":207545.77771676506},{"$f":"K6-K7","v":223323.64992661268},{"$f":"L6-L7","v":223323.64992661268},{"$f":"M6-M7","v":223323.64992661268},{"$f":"N6-N7","v":223323.64992661268},{"$f":"O6-O7","v":223323.64992661268},{"$f":"P6-P7","v":223323.64992661268},{"$f":"Q6-Q7","v":223323.64992661268},{"$f":"R6-R7","v":223323.64992661268},{"$f":"S6-S7","v":223323.64992661268},{"$f":"T6-T7","v":223323.64992661268},{"$f":"U6-U7","v":223323.64992661268},{"$f":"V6-V7","v":223323.64992661268},{"$f":"W6-W7","v":223323.64992661268},{"$f":"X6-X7","v":223323.64992661268},{"$f":"Y6-Y7","v":223323.64992661268},{"$f":"Z6-Z7","v":223323.64992661268},{"$f":"AA6-AA7","v":223323.64992661268},{"$f":"AB6-AB7","v":223323.64992661268},{"$f":"AC6-AC7","v":223323.64992661268},{"$f":"AD6-AD7","v":223323.64992661268},{"$f":"AE6-AE7","v":223323.64992661268},{"$f":"AF6-AF7","v":223323.64992661268},{"$f":"AG6-AG7","v":223323.64992661268},{"$f":"AH6-AH7","v":223323.64992661268},{"$f":"AI6-AI7","v":223323.64992661268},{"$f":"AJ6-AJ7","v":223323.64992661268},{"$f":"AK6-AK7","v":223323.64992661268},{"$f":"AL6-AL7","v":223323.64992661268}]
[null,"Melancia","Área (ha)",{"$f":"'Painel de Controle'!$C$25*'Resultados Cultivos'!D$3","v":0},{"$f":"'Painel de Controle'!$C$25*'Resultados Cultivos'!E$3","v":0},{"$f":"'Painel de Controle'!$C$25*'Resultados Cultivos'!F$3","v":0},{"$f":"'Painel de Controle'!$C$25*'Resultados Cultivos'!G$3","v":93.489250000000013},{"$f":"'Painel de Controle'!$C$25*'Resultados Cultivos'!H$3","v":159.96025},{"$f":"'Painel de Controle'!$C$25*'Resultados Cultivos'!I$3","v":210.43525},{"$f":"'Painel de Controle'!$C$25*'Resultados Cultivos'!J$3","v":237.87125000000003},{"$f":"'Painel de Controle'!$C$25*'Resultados Cultivos'!K$3","v":255.95450000000002},{"$f":"'Painel de Controle'!$C$25*'Resultados Cultivos'!L$3","v":255.95450000000002},{"$f":"'Painel de Controle'!$C$25*'Resultados Cultivos'!M$3","v":255.95450000000002},{"$f":"'Painel de Controle'!$C$25*'Resultados Cultivos'!N$3","v":255.95450000000002},{"$f":"'Painel de Controle'!$C$25*'Resultados Cultivos'!O$3","v":255.95450000000002},{"$f":"'Painel de Controle'!$C$25*'Resultados Cultivos'!P$3","v":255.95450000000002},{"$f":"'Painel de Controle'!$C$25*'Resultados Cultivos'!Q$3","v":255.95450000000002},{"$f":"'Painel de Controle'!$C$25*'Resultados Cultivos'!R$3","v":255.95450000000002},{"$f":"'Painel de Controle'!$C$25*'Resultados Cultivos'!S$3","v":255.95450000000002},{"$f":"'Painel de Controle'!$C$25*'Resultados Cultivos'!T$3","v":255.95450000000002},{"$f":"'Painel de Controle'!$C$25*'Resultados Cultivos'!U$3","v":255.95450000000002},{"$f":"'Painel de Controle'!$C$25*'Resultados Cultivos'!V$3","v":255.95450000000002},{"$f":"'Painel de Controle'!$C$25*'Resultados Cultivos'!W$3","v":255.95450000000002},{"$f":"'Painel de Controle'!$C$25*'Resultados Cultivos'!X$3","v":255.95450000000002},{"$f":"'Painel de Controle'!$C$25*'Resultados Cultivos'!Y$3","v":255.95450000000002},{"$f":"'Painel de Controle'!$C$25*'Resultados Cultivos'!Z$3","v":255.95450000000002},{"$f":"'Painel de Controle'!$C$25*'Resultados Cultivos'!AA$3","v":255.95450000000002},{"$f":"'Painel de Controle'!$C$25*'Resultados Cultivos'!AB$3","v":255.95450000000002},{"$f":"'Painel de Controle'!$C$25*'Resultados Cultivos'!AC$3","v":255.95450000000002},{"$f":"'Painel de Controle'!$C$25*'Resultados Cultivos'!AD$3","v":255.95450000000002},{"$f":"'Painel de Controle'!$C$25*'Resultados Cultivos'!AE$3","v":255.95450000000002},{"$f":"'Painel de Controle'!$C$25*'Resultados Cultivos'!AF$3","v":255.95450000000002},{"$f":"'Painel de Controle'!$C$25*'Resultados Cultivos'!AG$3","v":255.95450000000002},{"$f":"'Painel de Controle'!$C$25*'Resultados Cultivos'!AH$3","v":255.95450000000002},{"$f":"'Painel de Controle'!$C$25*'Resultados Cultivos'!AI$3","v":255.95450000000002},{"$f":"'Painel de Controle'!$C$25*'Resultados Cultivos'!AJ$3","v":255.95450000000002},{"$f":"'Painel de Controle'!$C$25*'Resultados Cultivos'!AK$3","v":255.95450000000002},{"$f":"'Painel de Controle'!$C$25*'Resultados Cultivos'!AL$3","v":255.95450000000002}]
[null,null,"Produção (t)",{"$f":"'Rentabilidade Cultivos'!$E$5*'Resultados Cultivos'!D9/1000","v":0},{"$f":"'Rentabilidade Cultivos'!$E$5*'Resultados Cultivos'!E9/1000","v":0},{"$f":"'Rentabilidade Cultivos'!$E$5*'Resultados Cultivos'!F9/1000","v":0},{"$f":"'Rentabilidade Cultivos'!$E$5*'Resultados Cultivos'!G9/1000","v":2804.6775000000007},{"$f":"'Rentabilidade Cultivos'!$E$5*'Resultados Cultivos'!H9/1000","v":4798.8074999999999},{"$f":"'Rentabilidade Cultivos'!$E$5*'Resultados Cultivos'!I9/1000","v":6313.0574999999999},{"$f":"'Rentabilidade Cultivos'!$E$5*'Resultados Cultivos'!J9/1000","v":7136.1375000000007},{"$f":"'Rentabilidade Cultivos'!$E$5*'Resultados Cultivos'!K9/1000","v":7678.6350000000011},{"$f":"'Rentabilidade Cultivos'!$E$5*'Resultados Cultivos'!L9/1000","v":7678.6350000000011},{"$f":"'Rentabilidade Cultivos'!$E$5*'Resultados Cultivos'!M9/1000","v":7678.6350000000011},{"$f":"'Rentabilidade Cultivos'!$E$5*'Resultados Cultivos'!N9/1000","v":7678.6350000000011},{"$f":"'Rentabilidade Cultivos'!$E$5*'Resultados Cultivos'!O9/1000","v":7678.6350000000011},{"$f":"'Rentabilidade Cultivos'!$E$5*'Resultados Cultivos'!P9/1000","v":7678.6350000000011},{"$f":"'Rentabilidade Cultivos'!$E$5*'Resultados Cultivos'!Q9/1000","v":7678.6350000000011},{"$f":"'Rentabilidade Cultivos'!$E$5*'Resultados Cultivos'!R9/1000","v":7678.6350000000011},{"$f":"'Rentabilidade Cultivos'!$E$5*'Resultados Cultivos'!S9/1000","v":7678.6350000000011},{"$f":"'Rentabilidade Cultivos'!$E$5*'Resultados Cultivos'!T9/1000","v":7678.6350000000011},{"$f":"'Rentabilidade Cultivos'!$E$5*'Resultados Cultivos'!U9/1000","v":7678.6350000000011},{"$f":"'Rentabilidade Cultivos'!$E$5*'Resultados Cultivos'!V9/1000","v":7678.6350000000011},{"$f":"'Rentabilidade Cultivos'!$E$5*'Resultados Cultivos'!W9/1000","v":7678.6350000000011},{"$f":"'Rentabilidade Cultivos'!$E$5*'Resultados Cultivos'!X9/1000","v":7678.6350000000011},{"$f":"'Rentabilidade Cultivos'!$E$5*'Resultados Cultivos'!Y9/1000","v":7678.6350000000011},{"$f":"'Rentabilidade Cultivos'!$E$5*'Resultados Cultivos'!Z9/1000","v":7678.6350000000011},{"$f":"'Rentabilidade Cultivos'!$E$5*'Resultados Cultivos'!AA9/1000","v":7678.6350000000011},{"$f":"'Rentabilidade Cultivos'!$E$5*'Resultados Cultivos'!AB9/1000","v":7678.6350000000011},{"$f":"'Rentabilidade Cultivos'!$E$5*'Resultados Cultivos'!AC9/1000","v":7678.6350000000011},{"$f":"'Rentabilidade Cultivos'!$E$5*'Resultados Cultivos'!AD9/1000","v":7678.6350000000011},{"$f":"'Rentabilidade Cultivos'!$E$5*'Resultados Cultivos'!AE9/1000","v":7678.6350000000011},{"$f":"'Rentabilidade Cultivos'!$E$5*'Resultados Cultivos'!AF9/1000","v":7678.6350000000011},{"$f":"'Rentabilidade Cultivos'!$E$5*'Resultados Cultivos'!AG9/1000","v":7678.6350000000011},{"$f":"'Rentabilidade Cultivos'!$E$5*'Resultados Cultivos'!AH9/1000","v":7678.6350000000011},{"$f":"'Rentabilidade Cultivos'!$E$5*'Resultados Cultivos'!AI9/1000","v":7678.6350000000011},{"$f":"'Rentabilidade Cultivos'!$E$5*'Resultados Cultivos'!AJ9/1000","v":7678.6350000000011},{"$f":"'Rentabilidade Cultivos'!$E$5*'Resultados Cultivos'!AK9/1000","v":7678.6350000000011},{"$f":"'Rentabilidade Cultivos'!$E$5*'Resultados Cultivos'!AL9/1000","v":7678.6350000000011}]
[null,null,"Faturamento (R$ mil)",{"$f":"D10*'Rentabilidade Cultivos'!$E$6","v":0},{"$f":"E10*'Rentabilidade Cultivos'!$E$6","v":0},{"$f":"F10*'Rentabilidade Cultivos'!$E$6","v":0},{"$f":"G10*'Rentabilidade Cultivos'!$E$6","v":2496.1629750000006},{"$f":"H10*'Rentabilidade Cultivos'!$E$6","v":4270.9386750000003},{"$f":"I10*'Rentabilidade Cultivos'!$E$6","v":5618.6211750000002},{"$f":"J10*'Rentabilidade Cultivos'!$E$6","v":6351.1623750000008},{"$f":"K10*'Rentabilidade Cultivos'!$E$6","v":6833.9851500000013},{"$f":"L10*'Rentabilidade Cultivos'!$E$6","v":6833.9851500000013},{"$f":"M10*'Rentabilidade Cultivos'!$E$6","v":6833.9851500000013},{"$f":"N10*'Rentabilidade Cultivos'!$E$6","v":6833.9851500000013},{"$f":"O10*'Rentabilidade Cultivos'!$E$6","v":6833.9851500000013},{"$f":"P10*'Rentabilidade Cultivos'!$E$6","v":6833.9851500000013},{"$f":"Q10*'Rentabilidade Cultivos'!$E$6","v":6833.9851500000013},{"$f":"R10*'Rentabilidade Cultivos'!$E$6","v":6833.9851500000013},{"$f":"S10*'Rentabilidade Cultivos'!$E$6","v":6833.9851500000013},{"$f":"T10*'Rentabilidade Cultivos'!$E$6","v":6833.9851500000013},{"$f":"U10*'Rentabilidade Cultivos'!$E$6","v":6833.9851500000013},{"$f":"V10*'Rentabilidade Cultivos'!$E$6","v":6833.9851500000013},{"$f":"W10*'Rentabilidade Cultivos'!$E$6","v":6833.9851500000013},{"$f":"X10*'Rentabilidade Cultivos'!$E$6","v":6833.9851500000013},{"$f":"Y10*'Rentabilidade Cultivos'!$E$6","v":6833.9851500000013},{"$f":"Z10*'Rentabilidade Cultivos'!$E$6","v":6833.9851500000013},{"$f":"AA10*'Rentabilidade Cultivos'!$E$6","v":6833.9851500000013},{"$f":"AB10*'Rentabilidade Cultivos'!$E$6","v":6833.9851500000013},{"$f":"AC10*'Rentabilidade Cultivos'!$E$6","v":6833.9851500000013},{"$f":"AD10*'Rentabilidade Cultivos'!$E$6","v":6833.9851500000013},{"$f":"AE10*'Rentabilidade Cultivos'!$E$6","v":6833.9851500000013},{"$f":"AF10*'Rentabilidade Cultivos'!$E$6","v":6833.9851500000013},{"$f":"AG10*'Rentabilidade Cultivos'!$E$6","v":6833.9851500000013},{"$f":"AH10*'Rentabilidade Cultivos'!$E$6","v":6833.9851500000013},{"$f":"AI10*'Rentabilidade Cultivos'!$E$6","v":6833.9851500000013},{"$f":"AJ10*'Rentabilidade Cultivos'!$E$6","v":6833.9851500000013},{"$f":"AK10*'Rentabilidade Cultivos'!$E$6","v":6833.9851500000013},{"$f":"AL10*'Rentabilidade Cultivos'!$E$6","v":6833.9851500000013}]
[null,null,"Custo direto (R$ mil)",{"$f":"D9*'Rentabilidade Cultivos'!$E$8/1000","v":0},{"$f":"E9*'Rentabilidade Cultivos'!$E$8/1000","v":0},{"$f":"F9*'Rentabilidade Cultivos'!$E$8/1000","v":0},{"$f":"G9*'Rentabilidade Cultivos'!$E$8/1000","v":1210.2162377418749},{"$f":"H9*'Rentabilidade Cultivos'!$E$8/1000","v":2070.6818371443746},{"$f":"I9*'Rentabilidade Cultivos'!$E$8/1000","v":2724.0795764568747},{"$f":"J9*'Rentabilidade Cultivos'!$E$8/1000","v":3079.2379791468747},{"$f":"K9*'Rentabilidade Cultivos'!$E$8/1000","v":3313.32524352375},{"$f":"L9*'Rentabilidade Cultivos'!$E$8/1000","v":3313.32524352375},{"$f":"M9*'Rentabilidade Cultivos'!$E$8/1000","v":3313.32524352375},{"$f":"N9*'Rentabilidade Cultivos'!$E$8/1000","v":3313.32524352375},{"$f":"O9*'Rentabilidade Cultivos'!$E$8/1000","v":3313.32524352375},{"$f":"P9*'Rentabilidade Cultivos'!$E$8/1000","v":3313.32524352375},{"$f":"Q9*'Rentabilidade Cultivos'!$E$8/1000","v":3313.32524352375},{"$f":"R9*'Rentabilidade Cultivos'!$E$8/1000","v":3313.32524352375},{"$f":"S9*'Rentabilidade Cultivos'!$E$8/1000","v":3313.32524352375},{"$f":"T9*'Rentabilidade Cultivos'!$E$8/1000","v":3313.32524352375},{"$f":"U9*'Rentabilidade Cultivos'!$E$8/1000","v":3313.32524352375},{"$f":"V9*'Rentabilidade Cultivos'!$E$8/1000","v":3313.32524352375},{"$f":"W9*'Rentabilidade Cultivos'!$E$8/1000","v":3313.32524352375},{"$f":"X9*'Rentabilidade Cultivos'!$E$8/1000","v":3313.32524352375},{"$f":"Y9*'Rentabilidade Cultivos'!$E$8/1000","v":3313.32524352375},{"$f":"Z9*'Rentabilidade Cultivos'!$E$8/1000","v":3313.32524352375},{"$f":"AA9*'Rentabilidade Cultivos'!$E$8/1000","v":3313.32524352375},{"$f":"AB9*'Rentabilidade Cultivos'!$E$8/1000","v":3313.32524352375},{"$f":"AC9*'Rentabilidade Cultivos'!$E$8/1000","v":3313.32524352375},{"$f":"AD9*'Rentabilidade Cultivos'!$E$8/1000","v":3313.32524352375},{"$f":"AE9*'Rentabilidade Cultivos'!$E$8/1000","v":3313.32524352375},{"$f":"AF9*'Rentabilidade Cultivos'!$E$8/1000","v":3313.32524352375},{"$f":"AG9*'Rentabilidade Cultivos'!$E$8/1000","v":3313.32524352375},{"$f":"AH9*'Rentabilidade Cultivos'!$E$8/1000","v":3313.32524352375},{"$f":"AI9*'Rentabilidade Cultivos'!$E$8/1000","v":3313.32524352375},{"$f":"AJ9*'Rentabilidade Cultivos'!$E$8/1000","v":3313.32524352375},{"$f":"AK9*'Rentabilidade Cultivos'!$E$8/1000","v":3313.32524352375},{"$f":"AL9*'Rentabilidade Cultivos'!$E$8/1000","v":3313.32524352375}]
[null,null,"Resultado (R$ mil)",{"$f":"D11-D12","v":0},{"$f":"E11-E12","v":0},0,1285.9467372581257,2200.2568378556257,2894.5415985431255,3271.924395853126,3520.6599064762513,3520.6599064762513,3520.6599064762513,3520.6599064762513,3520.6599064762513,3520.6599064762513,3520.6599064762513,3520.6599064762513,3520.6599064762513,3520.6599064762513,3520.6599064762513,3520.6599064762513,3520.6599064762513,3520.6599064762513,3520.6599064762513,3520.6599064762513,3520.6599064762513,3520.6599064762513,3520.6599064762513,3520.6599064762513,3520.6599064762513,3520.6599064762513,3520.6599064762513,3520.6599064762513,3520.6599064762513,3520.6599064762513,3520.6599064762513,3520.6599064762513]
[null,"Melão","Área (ha)",{"$f":"'Painel de Controle'!$C$26*'Resultados Cultivos'!D$3","v":0},{"$f":"'Painel de Controle'!$C$26*'Resultados Cultivos'!E$3","v":0},{"$f":"'Painel de Controle'!$C$26*'Resultados Cultivos'!F$3","v":0},{"$f":"'Painel de Controle'!$C$26*'Resultados Cultivos'!G$3","v":93.489250000000013},{"$f":"'Painel de Controle'!$C$26*'Resultados Cultivos'!H$3","v":159.96025},{"$f":"'Painel de Controle'!$C$26*'Resultados Cultivos'!I$3","v":210.43525},{"$f":"'Painel de Controle'!$C$26*'Resultados Cultivos'!J$3","v":237.87125000000003},{"$f":"'Painel de Controle'!$C$26*'Resultados Cultivos'!K$3","v":255.95450000000002},{"$f":"'Painel de Controle'!$C$26*'Resultados Cultivos'!L$3","v":255.95450000000002},{"$f":"'Painel de Controle'!$C$26*'Resultados Cultivos'!M$3","v":255.95450000000002},{"$f":"'Painel de Controle'!$C$26*'Resultados Cultivos'!N$3","v":255.95450000000002},{"$f":"'Painel de Controle'!$C$26*'Resultados Cultivos'!O$3","v":255.95450000000002},{"$f":"'Painel de Controle'!$C$26*'Resultados Cultivos'!P$3","v":255.95450000000002},{"$f":"'Painel de Controle'!$C$26*'Resultados Cultivos'!Q$3","v":255.95450000000002},{"$f":"'Painel de Controle'!$C$26*'Resultados Cultivos'!R$3","v":255.95450000000002},{"$f":"'Painel de Controle'!$C$26*'Resultados Cultivos'!S$3","v":255.95450000000002},{"$f":"'Painel de Controle'!$C$26*'Resultados Cultivos'!T$3","v":255.95450000000002},{"$f":"'Painel de Controle'!$C$26*'Resultados Cultivos'!U$3","v":255.95450000000002},{"$f":"'Painel de Controle'!$C$26*'Resultados Cultivos'!V$3","v":255.95450000000002},{"$f":"'Painel de Controle'!$C$26*'Resultados Cultivos'!W$3","v":255.95450000000002},{"$f":"'Painel de Controle'!$C$26*'Resultados Cultivos'!X$3","v":255.95450000000002},{"$f":"'Painel de Controle'!$C$26*'Resultados Cultivos'!Y$3","v":255.95450000000002},{"$f":"'Painel de Controle'!$C$26*'Resultados Cultivos'!Z$3","v":255.95450000000002},{"$f":"'Painel de Controle'!$C$26*'Resultados Cultivos'!AA$3","v":255.95450000000002},{"$f":"'Painel de Controle'!$C$26*'Resultados Cultivos'!AB$3","v":255.95450000000002},{"$f":"'Painel de Controle'!$C$26*'Resultados Cultivos'!AC$3","v":255.95450000000002},{"$f":"'Painel de Controle'!$C$26*'Resultados Cultivos'!AD$3","v":255.95450000000002},{"$f":"'Painel de Controle'!$C$26*'Resultados Cultivos'!AE$3","v":255.95450000000002},{"$f":"'Painel de Controle'!$C$26*'Resultados Cultivos'!AF$3","v":255.95450000000002},{"$f":"'Painel de Controle'!$C$26*'Resultados Cultivos'!AG$3","v":255.95450000000002},{"$f":"'Painel de Controle'!$C$26*'Resultados Cultivos'!AH$3","v":255.95450000000002},{"$f":"'Painel de Controle'!$C$26*'Resultados Cultivos'!AI$3","v":255.95450000000002},{"$f":"'Painel de Controle'!$C$26*'Resultados Cultivos'!AJ$3","v":255.95450000000002},{"$f":"'Painel de Controle'!$C$26*'Resultados Cultivos'!AK$3","v":255.95450000000002},{"$f":"'Painel de Controle'!$C$26*'Resultados Cultivos'!AL$3","v":255.95450000000002}]
[null,null,"Produção (t)",{"$f":"'Rentabilidade Cultivos'!$E$11*'Resultados Cultivos'!D14/1000","v":0},{"$f":"'Rentabilidade Cultivos'!$E$11*'Resultados Cultivos'!E14/1000","v":0},{"$f":"'Rentabilidade Cultivos'!$E$11*'Resultados Cultivos'!F14/1000","v":0},{"$f":"'Rentabilidade Cultivos'!$E$11*'Resultados Cultivos'!G14/1000","v":2337.2312500000003},{"$f":"'Rentabilidade Cultivos'!$E$11*'Resultados Cultivos'!H14/1000","v":3999.0062499999999},{"$f":"'Rentabilidade Cultivos'!$E$11*'Resultados Cultivos'!I14/1000","v":5260.8812500000004},{"$f":"'Rentabilidade Cultivos'!$E$11*'Resultados Cultivos'!J14/1000","v":5946.7812500000009},{"$f":"'Rentabilidade Cultivos'!$E$11*'Resultados Cultivos'!K14/1000","v":6398.8625000000011},{"$f":"'Rentabilidade Cultivos'!$E$11*'Resultados Cultivos'!L14/1000","v":6398.8625000000011},{"$f":"'Rentabilidade Cultivos'!$E$11*'Resultados Cultivos'!M14/1000","v":6398.8625000000011},{"$f":"'Rentabilidade Cultivos'!$E$11*'Resultados Cultivos'!N14/1000","v":6398.8625000000011},{"$f":"'Rentabilidade Cultivos'!$E$11*'Resultados Cultivos'!O14/1000","v":6398.8625000000011},{"$f":"'Rentabilidade Cultivos'!$E$11*'Resultados Cultivos'!P14/1000","v":6398.8625000000011},{"$f":"'Rentabilidade Cultivos'!$E$11*'Resultados Cultivos'!Q14/1000","v":6398.8625000000011},{"$f":"'Rentabilidade Cultivos'!$E$11*'Resultados Cultivos'!R14/1000","v":6398.8625000000011},{"$f":"'Rentabilidade Cultivos'!$E$11*'Resultados Cultivos'!S14/1000","v":6398.8625000000011},{"$f":"'Rentabilidade Cultivos'!$E$11*'Resultados Cultivos'!T14/1000","v":6398.8625000000011},{"$f":"'Rentabilidade Cultivos'!$E$11*'Resultados Cultivos'!U14/1000","v":6398.8625000000011},{"$f":"'Rentabilidade Cultivos'!$E$11*'Resultados Cultivos'!V14/1000","v":6398.8625000000011},{"$f":"'Rentabilidade Cultivos'!$E$11*'Resultados Cultivos'!W14/1000","v":6398.8625000000011},{"$f":"'Rentabilidade Cultivos'!$E$11*'Resultados Cultivos'!X14/1000","v":6398.8625000000011},{"$f":"'Rentabilidade Cultivos'!$E$11*'Resultados Cultivos'!Y14/1000","v":6398.8625000000011},{"$f":"'Rentabilidade Cultivos'!$E$11*'Resultados Cultivos'!Z14/1000","v":6398.8625000000011},{"$f":"'Rentabilidade Cultivos'!$E$11*'Resultados Cultivos'!AA14/1000","v":6398.8625000000011},{"$f":"'Rentabilidade Cultivos'!$E$11*'Resultados Cultivos'!AB14/1000","v":6398.8625000000011},{"$f":"'Rentabilidade Cultivos'!$E$11*'Resultados Cultivos'!AC14/1000","v":6398.8625000000011},{"$f":"'Rentabilidade Cultivos'!$E$11*'Resultados Cultivos'!AD14/1000","v":6398.8625000000011},{"$f":"'Rentabilidade Cultivos'!$E$11*'Resultados Cultivos'!AE14/1000","v":6398.8625000000011},{"$f":"'Rentabilidade Cultivos'!$E$11*'Resultados Cultivos'!AF14/1000","v":6398.8625000000011},{"$f":"'Rentabilidade Cultivos'!$E$11*'Resultados Cultivos'!AG14/1000","v":6398.8625000000011},{"$f":"'Rentabilidade Cultivos'!$E$11*'Resultados Cultivos'!AH14/1000","v":6398.8625000000011},{"$f":"'Rentabilidade Cultivos'!$E$11*'Resultados Cultivos'!AI14/1000","v":6398.8625000000011},{"$f":"'Rentabilidade Cultivos'!$E$11*'Resultados Cultivos'!AJ14/1000","v":6398.8625000000011},{"$f":"'Rentabilidade Cultivos'!$E$11*'Resultados Cultivos'!AK14/1000","v":6398.8625000000011},{"$f":"'Rentabilidade Cultivos'!$E$11*'Resultados Cultivos'!AL14/1000","v":6398.8625000000011}]
[null,null,"Faturamento (R$ mil)",{"$f":"D15*'Rentabilidade Cultivos'!$E$12","v":0},{"$f":"E15*'Rentabilidade Cultivos'!$E$12","v":0},{"$f":"F15*'Rentabilidade Cultivos'!$E$12","v":0},{"$f":"G15*'Rentabilidade Cultivos'!$E$12","v":4744.5794375000005},{"$f":"H15*'Rentabilidade Cultivos'!$E$12","v":8117.982687499999},{"$f":"I15*'Rentabilidade Cultivos'!$E$12","v":10679.588937500001},{"$f":"J15*'Rentabilidade Cultivos'!$E$12","v":12071.965937500001},{"$f":"K15*'Rentabilidade Cultivos'!$E$12","v":12989.690875},{"$f":"L15*'Rentabilidade Cultivos'!$E$12","v":12989.690875},{"$f":"M15*'Rentabilidade Cultivos'!$E$12","v":12989.690875},{"$f":"N15*'Rentabilidade Cultivos'!$E$12","v":12989.690875},{"$f":"O15*'Rentabilidade Cultivos'!$E$12","v":12989.690875},{"$f":"P15*'Rentabilidade Cultivos'!$E$12","v":12989.690875},{"$f":"Q15*'Rentabilidade Cultivos'!$E$12","v":12989.690875},{"$f":"R15*'Rentabilidade Cultivos'!$E$12","v":12989.690875},{"$f":"S15*'Rentabilidade Cultivos'!$E$12","v":12989.690875},{"$f":"T15*'Rentabilidade Cultivos'!$E$12","v":12989.690875},{"$f":"U15*'Rentabilidade Cultivos'!$E$12","v":12989.690875},{"$f":"V15*'Rentabilidade Cultivos'!$E$12","v":12989.690875},{"$f":"W15*'Rentabilidade Cultivos'!$E$12","v":12989.690875},{"$f":"X15*'Rentabilidade Cultivos'!$E$12","v":12989.690875},{"$f":"Y15*'Rentabilidade Cultivos'!$E$12","v":12989.690875},{"$f":"Z15*'Rentabilidade Cultivos'!$E$12","v":12989.690875},{"$f":"AA15*'Rentabilidade Cultivos'!$E$12","v":12989.690875},{"$f":"AB15*'Rentabilidade Cultivos'!$E$12","v":12989.690875},{"$f":"AC15*'Rentabilidade Cultivos'!$E$12","v":12989.690875},{"$f":"AD15*'Rentabilidade Cultivos'!$E$12","v":12989.690875},{"$f":"AE15*'Rentabilidade Cultivos'!$E$12","v":12989.690875},{"$f":"AF15*'Rentabilidade Cultivos'!$E$12","v":12989.690875},{"$f":"AG15*'Rentabilidade Cultivos'!$E$12","v":12989.690875},{"$f":"AH15*'Rentabilidade Cultivos'!$E$12","v":12989.690875},{"$f":"AI15*'Rentabilidade Cultivos'!$E$12","v":12989.690875},{"$f":"AJ15*'Rentabilidade Cultivos'!$E$12","v":12989.690875},{"$f":"AK15*'Rentabilidade Cultivos'!$E$12","v":12989.690875},{"$f":"AL15*'Rentabilidade Cultivos'!$E$12","v":12989.690875}]
[null,null,"Custo direto (R$ mil)",{"$f":"D14*'Rentabilidade Cultivos'!$E$14/1000","v":0},{"$f":"E14*'Rentabilidade Cultivos'!$E$14/1000","v":0},{"$f":"F14*'Rentabilidade Cultivos'!$E$14/1000","v":0},{"$f":"G14*'Rentabilidade Cultivos'!$E$14/1000","v":2580.7311058731079},{"$f":"H14*'Rentabilidade Cultivos'!$E$14/1000","v":4415.6348765043977},{"$f":"I14*'Rentabilidade Cultivos'!$E$14/1000","v":5808.9758495996475},{"$f":"J14*'Rentabilidade Cultivos'!$E$14/1000","v":6566.3349964612889},{"$f":"K14*'Rentabilidade Cultivos'!$E$14/1000","v":7065.5154452324559},{"$f":"L14*'Rentabilidade Cultivos'!$E$14/1000","v":7065.5154452324559},{"$f":"M14*'Rentabilidade Cultivos'!$E$14/1000","v":7065.5154452324559},{"$f":"N14*'Rentabilidade Cultivos'!$E$14/1000","v":7065.5154452324559},{"$f":"O14*'Rentabilidade Cultivos'!$E$14/1000","v":7065.5154452324559},{"$f":"P14*'Rentabilidade Cultivos'!$E$14/1000","v":7065.5154452324559},{"$f":"Q14*'Rentabilidade Cultivos'!$E$14/1000","v":7065.5154452324559},{"$f":"R14*'Rentabilidade Cultivos'!$E$14/1000","v":7065.5154452324559},{"$f":"S14*'Rentabilidade Cultivos'!$E$14/1000","v":7065.5154452324559},{"$f":"T14*'Rentabilidade Cultivos'!$E$14/1000","v":7065.5154452324559},{"$f":"U14*'Rentabilidade Cultivos'!$E$14/1000","v":7065.5154452324559},{"$f":"V14*'Rentabilidade Cultivos'!$E$14/1000","v":7065.5154452324559},{"$f":"W14*'Rentabilidade Cultivos'!$E$14/1000","v":7065.5154452324559},{"$f":"X14*'Rentabilidade Cultivos'!$E$14/1000","v":7065.5154452324559},{"$f":"Y14*'Rentabilidade Cultivos'!$E$14/1000","v":7065.5154452324559},{"$f":"Z14*'Rentabilidade Cultivos'!$E$14/1000","v":7065.5154452324559},{"$f":"AA14*'Rentabilidade Cultivos'!$E$14/1000","v":7065.5154452324559},{"$f":"AB14*'Rentabilidade Cultivos'!$E$14/1000","v":7065.5154452324559},{"$f":"AC14*'Rentabilidade Cultivos'!$E$14/1000","v":7065.5154452324559},{"$f":"AD14*'Rentabilidade Cultivos'!$E$14/1000","v":7065.5154452324559},{"$f":"AE14*'Rentabilidade Cultivos'!$E$14/1000","v":7065.5154452324559},{"$f":"AF14*'Rentabilidade Cultivos'!$E$14/1000","v":7065.5154452324559},{"$f":"AG14*'Rentabilidade Cultivos'!$E$14/1000","v":7065.5154452324559},{"$f":"AH14*'Rentabilidade Cultivos'!$E$14/1000","v":7065.5154452324559},{"$f":"AI14*'Rentabilidade Cultivos'!$E$14/1000","v":7065.5154452324559},{"$f":"AJ14*'Rentabilidade Cultivos'!$E$14/1000","v":7065.5154452324559},{"$f":"AK14*'Rentabilidade Cultivos'!$E$14/1000","v":7065.5154452324559},{"$f":"AL14*'Rentabilidade Cultivos'!$E$14/1000","v":7065.5154452324559}]
[null,null,"Resultado (R$ mil)",{"$f":"D16-D17","v":0},{"$f":"E16-E17","v":0},0,2163.8483316268926,3702.3478109956013,4870.6130879003531,5505.6309410387121,5924.1754297675443,5924.1754297675443,5924.1754297675443,5924.1754297675443,5924.1754297675443,5924.1754297675443,5924.1754297675443,5924.1754297675443,5924.1754297675443,5924.1754297675443,5924.1754297675443,5924.1754297675443,5924.1754297675443,5924.1754297675443,5924.1754297675443,5924.1754297675443,5924.1754297675443,5924.1754297675443,5924.1754297675443,5924.1754297675443,5924.1754297675443,5924.1754297675443,5924.1754297675443,5924.1754297675443,5924.1754297675443,5924.1754297675443,5924.1754297675443,5924.1754297675443]
[null,"Tomate","Área (ha)",{"$f":"'Painel de Controle'!$C$27*'Resultados Cultivos'!D$3","v":0},{"$f":"'Painel de Controle'!$C$27*'Resultados Cultivos'!E$3","v":0},{"$f":"'Painel de Controle'!$C$27*'Resultados Cultivos'!F$3","v":0},{"$f":"'Painel de Controle'!$C$27*'Resultados Cultivos'!G$3","v":186.97850000000003},{"$f":"'Painel de Controle'!$C$27*'Resultados Cultivos'!H$3","v":319.9205},{"$f":"'Painel de Controle'!$C$27*'Resultados Cultivos'!I$3","v":420.87049999999999},{"$f":"'Painel de Controle'!$C$27*'Resultados Cultivos'!J$3","v":475.74250000000006},{"$f":"'Painel de Controle'!$C$27*'Resultados Cultivos'!K$3","v":511.90900000000005},{"$f":"'Painel de Controle'!$C$27*'Resultados Cultivos'!L$3","v":511.90900000000005},{"$f":"'Painel de Controle'!$C$27*'Resultados Cultivos'!M$3","v":511.90900000000005},{"$f":"'Painel de Controle'!$C$27*'Resultados Cultivos'!N$3","v":511.90900000000005},{"$f":"'Painel de Controle'!$C$27*'Resultados Cultivos'!O$3","v":511.90900000000005},{"$f":"'Painel de Controle'!$C$27*'Resultados Cultivos'!P$3","v":511.90900000000005},{"$f":"'Painel de Controle'!$C$27*'Resultados Cultivos'!Q$3","v":511.90900000000005},{"$f":"'Painel de Controle'!$C$27*'Resultados Cultivos'!R$3","v":511.90900000000005},{"$f":"'Painel de Controle'!$C$27*'Resultados Cultivos'!S$3","v":511.90900000000005},{"$f":"'Painel de Controle'!$C$27*'Resultados Cultivos'!T$3","v":511.90900000000005},{"$f":"'Painel de Controle'!$C$27*'Resultados Cultivos'!U$3","v":511.90900000000005},{"$f":"'Painel de Controle'!$C$27*'Resultados Cultivos'!V$3","v":511.90900000000005},{"$f":"'Painel de Controle'!$C$27*'Resultados Cultivos'!W$3","v":511.90900000000005},{"$f":"'Painel de Controle'!$C$27*'Resultados Cultivos'!X$3","v":511.90900000000005},{"$f":"'Painel de Controle'!$C$27*'Resultados Cultivos'!Y$3","v":511.90900000000005},{"$f":"'Painel de Controle'!$C$27*'Resultados Cultivos'!Z$3","v":511.90900000000005},{"$f":"'Painel de Controle'!$C$27*'Resultados Cultivos'!AA$3","v":511.90900000000005},{"$f":"'Painel de Controle'!$C$27*'Resultados Cultivos'!AB$3","v":511.90900000000005},{"$f":"'Painel de Controle'!$C$27*'Resultados Cultivos'!AC$3","v":511.90900000000005},{"$f":"'Painel de Controle'!$C$27*'Resultados Cultivos'!AD$3","v":511.90900000000005},{"$f":"'Painel de Controle'!$C$27*'Resultados Cultivos'!AE$3","v":511.90900000000005},{"$f":"'Painel de Controle'!$C$27*'Resultados Cultivos'!AF$3","v":511.90900000000005},{"$f":"'Painel de Controle'!$C$27*'Resultados Cultivos'!AG$3","v":511.90900000000005},{"$f":"'Painel de Controle'!$C$27*'Resultados Cultivos'!AH$3","v":511.90900000000005},{"$f":"'Painel de Controle'!$C$27*'Resultados Cultivos'!AI$3","v":511.90900000000005},{"$f":"'Painel de Controle'!$C$27*'Resultados Cultivos'!AJ$3","v":511.90900000000005},{"$f":"'Painel de Controle'!$C$27*'Resultados Cultivos'!AK$3","v":511.90900000000005},{"$f":"'Painel de Controle'!$C$27*'Resultados Cultivos'!AL$3","v":511.90900000000005}]
[null,null,"Produção (t)",{"$f":"'Rentabilidade Cultivos'!$E$17*'Resultados Cultivos'!D19/1000","v":0},{"$f":"'Rentabilidade Cultivos'!$E$17*'Resultados Cultivos'!E19/1000","v":0},{"$f":"'Rentabilidade Cultivos'!$E$17*'Resultados Cultivos'!F19/1000","v":0},{"$f":"'Rentabilidade Cultivos'!$E$17*'Resultados Cultivos'!G19/1000","v":26176.990000000005},{"$f":"'Rentabilidade Cultivos'!$E$17*'Resultados Cultivos'!H19/1000","v":44788.87},{"$f":"'Rentabilidade Cultivos'!$E$17*'Resultados Cultivos'!I19/1000","v":58921.87},{"$f":"'Rentabilidade Cultivos'!$E$17*'Resultados Cultivos'!J19/1000","v":66603.950000000012},{"$f":"'Rentabilidade Cultivos'!$E$17*'Resultados Cultivos'!K19/1000","v":71667.259999999995},{"$f":"'Rentabilidade Cultivos'!$E$17*'Resultados Cultivos'!L19/1000","v":71667.259999999995},{"$f":"'Rentabilidade Cultivos'!$E$17*'Resultados Cultivos'!M19/1000","v":71667.259999999995},{"$f":"'Rentabilidade Cultivos'!$E$17*'Resultados Cultivos'!N19/1000","v":71667.259999999995},{"$f":"'Rentabilidade Cultivos'!$E$17*'Resultados Cultivos'!O19/1000","v":71667.259999999995},{"$f":"'Rentabilidade Cultivos'!$E$17*'Resultados Cultivos'!P19/1000","v":71667.259999999995},{"$f":"'Rentabilidade Cultivos'!$E$17*'Resultados Cultivos'!Q19/1000","v":71667.259999999995},{"$f":"'Rentabilidade Cultivos'!$E$17*'Resultados Cultivos'!R19/1000","v":71667.259999999995},{"$f":"'Rentabilidade Cultivos'!$E$17*'Resultados Cultivos'!S19/1000","v":71667.259999999995},{"$f":"'Rentabilidade Cultivos'!$E$17*'Resultados Cultivos'!T19/1000","v":71667.259999999995},{"$f":"'Rentabilidade Cultivos'!$E$17*'Resultados Cultivos'!U19/1000","v":71667.259999999995},{"$f":"'Rentabilidade Cultivos'!$E$17*'Resultados Cultivos'!V19/1000","v":71667.259999999995},{"$f":"'Rentabilidade Cultivos'!$E$17*'Resultados Cultivos'!W19/1000","v":71667.259999999995},{"$f":"'Rentabilidade Cultivos'!$E$17*'Resultados Cultivos'!X19/1000","v":71667.259999999995},{"$f":"'Rentabilidade Cultivos'!$E$17*'Resultados Cultivos'!Y19/1000","v":71667.259999999995},{"$f":"'Rentabilidade Cultivos'!$E$17*'Resultados Cultivos'!Z19/1000","v":71667.259999999995},{"$f":"'Rentabilidade Cultivos'!$E$17*'Resultados Cultivos'!AA19/1000","v":71667.259999999995},{"$f":"'Rentabilidade Cultivos'!$E$17*'Resultados Cultivos'!AB19/1000","v":71667.259999999995},{"$f":"'Rentabilidade Cultivos'!$E$17*'Resultados Cultivos'!AC19/1000","v":71667.259999999995},{"$f":"'Rentabilidade Cultivos'!$E$17*'Resultados Cultivos'!AD19/1000","v":71667.259999999995},{"$f":"'Rentabilidade Cultivos'!$E$17*'Resultados Cultivos'!AE19/1000","v":71667.259999999995},{"$f":"'Rentabilidade Cultivos'!$E$17*'Resultados Cultivos'!AF19/1000","v":71667.259999999995},{"$f":"'Rentabilidade Cultivos'!$E$17*'Resultados Cultivos'!AG19/1000","v":71667.259999999995},{"$f":"'Rentabilidade Cultivos'!$E$17*'Resultados Cultivos'!AH19/1000","v":71667.259999999995},{"$f":"'Rentabilidade Cultivos'!$E$17*'Resultados Cultivos'!AI19/1000","v":71667.259999999995},{"$f":"'Rentabilidade Cultivos'!$E$17*'Resultados Cultivos'!AJ19/1000","v":71667.259999999995},{"$f":"'Rentabilidade Cultivos'!$E$17*'Resultados Cultivos'!AK19/1000","v":71667.259999999995},{"$f":"'Rentabilidade Cultivos'!$E$17*'Resultados Cultivos'!AL19/1000","v":71667.259999999995}]
[null,null,"Faturamento (R$ mil)",{"$f":"D20*'Rentabilidade Cultivos'!$E$18","v":0},{"$f":"E20*'Rentabilidade Cultivos'!$E$18","v":0},{"$f":"F20*'Rentabilidade Cultivos'!$E$18","v":0},{"$f":"G20*'Rentabilidade Cultivos'!$E$18","v":10470.796000000002},{"$f":"H20*'Rentabilidade Cultivos'!$E$18","v":17915.548000000003},{"$f":"I20*'Rentabilidade Cultivos'!$E$18","v":23568.748000000003},{"$f":"J20*'Rentabilidade Cultivos'!$E$18","v":26641.580000000005},{"$f":"K20*'Rentabilidade Cultivos'!$E$18","v":28666.903999999999},{"$f":"L20*'Rentabilidade Cultivos'!$E$18","v":28666.903999999999},{"$f":"M20*'Rentabilidade Cultivos'!$E$18","v":28666.903999999999},{"$f":"N20*'Rentabilidade Cultivos'!$E$18","v":28666.903999999999},{"$f":"O20*'Rentabilidade Cultivos'!$E$18","v":28666.903999999999},{"$f":"P20*'Rentabilidade Cultivos'!$E$18","v":28666.903999999999},{"$f":"Q20*'Rentabilidade Cultivos'!$E$18","v":28666.903999999999},{"$f":"R20*'Rentabilidade Cultivos'!$E$18","v":28666.903999999999},{"$f":"S20*'Rentabilidade Cultivos'!$E$18","v":28666.903999999999},{"$f":"T20*'Rentabilidade Cultivos'!$E$18","v":28666.903999999999},{"$f":"U20*'Rentabilidade Cultivos'!$E$18","v":28666.903999999999},{"$f":"V20*'Rentabilidade Cultivos'!$E$18","v":28666.903999999999},{"$f":"W20*'Rentabilidade Cultivos'!$E$18","v":28666.903999999999},{"$f":"X20*'Rentabilidade Cultivos'!$E$18","v":28666.903999999999},{"$f":"Y20*'Rentabilidade Cultivos'!$E$18","v":28666.903999999999},{"$f":"Z20*'Rentabilidade Cultivos'!$E$18","v":28666.903999999999},{"$f":"AA20*'Rentabilidade Cultivos'!$E$18","v":28666.903999999999},{"$f":"AB20*'Rentabilidade Cultivos'!$E$18","v":28666.903999999999},{"$f":"AC20*'Rentabilidade Cultivos'!$E$18","v":28666.903999999999},{"$f":"AD20*'Rentabilidade Cultivos'!$E$18","v":28666.903999999999},{"$f":"AE20*'Rentabilidade Cultivos'!$E$18","v":28666.903999999999},{"$f":"AF20*'Rentabilidade Cultivos'!$E$18","v":28666.903999999999},{"$f":"AG20*'Rentabilidade Cultivos'!$E$18","v":28666.903999999999},{"$f":"AH20*'Rentabilidade Cultivos'!$E$18","v":28666.903999999999},{"$f":"AI20*'Rentabilidade Cultivos'!$E$18","v":28666.903999999999},{"$f":"AJ20*'Rentabilidade Cultivos'!$E$18","v":28666.903999999999},{"$f":"AK20*'Rentabilidade Cultivos'!$E$18","v":28666.903999999999},{"$f":"AL20*'Rentabilidade Cultivos'!$E$18","v":28666.903999999999}]
[null,null,"Custo direto (R$ mil)",{"$f":"D19*'Rentabilidade Cultivos'!$E$20/1000","v":0},{"$f":"E19*'Rentabilidade Cultivos'!$E$20/1000","v":0},{"$f":"F19*'Rentabilidade Cultivos'!$E$20/1000","v":0},{"$f":"G19*'Rentabilidade Cultivos'!$E$20/1000","v":6767.6596021282512},{"$f":"H19*'Rentabilidade Cultivos'!$E$20/1000","v":11579.47594906725},{"$f":"I19*'Rentabilidade Cultivos'!$E$20/1000","v":15233.346510842252},{"$f":"J19*'Rentabilidade Cultivos'!$E$20/1000","v":17219.430566966254},{"$f":"K19*'Rentabilidade Cultivos'!$E$20/1000","v":18528.4717722405},{"$f":"L19*'Rentabilidade Cultivos'!$E$20/1000","v":18528.4717722405},{"$f":"M19*'Rentabilidade Cultivos'!$E$20/1000","v":18528.4717722405},{"$f":"N19*'Rentabilidade Cultivos'!$E$20/1000","v":18528.4717722405},{"$f":"O19*'Rentabilidade Cultivos'!$E$20/1000","v":18528.4717722405},{"$f":"P19*'Rentabilidade Cultivos'!$E$20/1000","v":18528.4717722405},{"$f":"Q19*'Rentabilidade Cultivos'!$E$20/1000","v":18528.4717722405},{"$f":"R19*'Rentabilidade Cultivos'!$E$20/1000","v":18528.4717722405},{"$f":"S19*'Rentabilidade Cultivos'!$E$20/1000","v":18528.4717722405},{"$f":"T19*'Rentabilidade Cultivos'!$E$20/1000","v":18528.4717722405},{"$f":"U19*'Rentabilidade Cultivos'!$E$20/1000","v":18528.4717722405},{"$f":"V19*'Rentabilidade Cultivos'!$E$20/1000","v":18528.4717722405},{"$f":"W19*'Rentabilidade Cultivos'!$E$20/1000","v":18528.4717722405},{"$f":"X19*'Rentabilidade Cultivos'!$E$20/1000","v":18528.4717722405},{"$f":"Y19*'Rentabilidade Cultivos'!$E$20/1000","v":18528.4717722405},{"$f":"Z19*'Rentabilidade Cultivos'!$E$20/1000","v":18528.4717722405},{"$f":"AA19*'Rentabilidade Cultivos'!$E$20/1000","v":18528.4717722405},{"$f":"AB19*'Rentabilidade Cultivos'!$E$20/1000","v":18528.4717722405},{"$f":"AC19*'Rentabilidade Cultivos'!$E$20/1000","v":18528.4717722405},{"$f":"AD19*'Rentabilidade Cultivos'!$E$20/1000","v":18528.4717722405},{"$f":"AE19*'Rentabilidade Cultivos'!$E$20/1000","v":18528.4717722405},{"$f":"AF19*'Rentabilidade Cultivos'!$E$20/1000","v":18528.4717722405},{"$f":"AG19*'Rentabilidade Cultivos'!$E$20/1000","v":18528.4717722405},{"$f":"AH19*'Rentabilidade Cultivos'!$E$20/1000","v":18528.4717722405},{"$f":"AI19*'Rentabilidade Cultivos'!$E$20/1000","v":18528.4717722405},{"$f":"AJ19*'Rentabilidade Cultivos'!$E$20/1000","v":18528.4717722405},{"$f":"AK19*'Rentabilidade Cultivos'!$E$20/1000","v":18528.4717722405},{"$f":"AL19*'Rentabilidade Cultivos'!$E$20/1000","v":18528.4717722405}]
[null,null,"Resultado (R$ mil)",{"$f":"D21-D22","v":0},{"$f":"E21-E22","v":0},0,3703.1363978717509,6336.072050932753,8335.4014891577517,9422.1494330337518,10138.432227759498,10138.432227759498,10138.432227759498,10138.432227759498,10138.432227759498,10138.432227759498,10138.432227759498,10138.432227759498,10138.432227759498,10138.432227759498,10138.432227759498,10138.432227759498,10138.432227759498,10138.432227759498,10138.432227759498,10138.432227759498,10138.432227759498,10138.432227759498,10138.432227759498,10138.432227759498,10138.432227759498,10138.432227759498,10138.432227759498,10138.432227759498,10138.432227759498,10138.432227759498,10138.432227759498,10138.432227759498]
[null,"Feijão","Área (ha)",{"$f":"'Painel de Controle'!$C$28*'Resultados Cultivos'!D$3","v":0},{"$f":"'Painel de Controle'!$C$28*'Resultados Cultivos'!E$3","v":0},{"$f":"'Painel de Controle'!$C$28*'Resultados Cultivos'!F$3","v":0},{"$f":"'Painel de Controle'!$C$28*'Resultados Cultivos'!G$3","v":373.95700000000005},{"$f":"'Painel de Controle'!$C$28*'Resultados Cultivos'!H$3","v":639.84100000000001},{"$f":"'Painel de Controle'!$C$28*'Resultados Cultivos'!I$3","v":841.74099999999999},{"$f":"'Painel de Controle'!$C$28*'Resultados Cultivos'!J$3","v":951.48500000000013},{"$f":"'Painel de Controle'!$C$28*'Resultados Cultivos'!K$3","v":1023.8180000000001},{"$f":"'Painel de Controle'!$C$28*'Resultados Cultivos'!L$3","v":1023.8180000000001},{"$f":"'Painel de Controle'!$C$28*'Resultados Cultivos'!M$3","v":1023.8180000000001},{"$f":"'Painel de Controle'!$C$28*'Resultados Cultivos'!N$3","v":1023.8180000000001},{"$f":"'Painel de Controle'!$C$28*'Resultados Cultivos'!O$3","v":1023.8180000000001},{"$f":"'Painel de Controle'!$C$28*'Resultados Cultivos'!P$3","v":1023.8180000000001},{"$f":"'Painel de Controle'!$C$28*'Resultados Cultivos'!Q$3","v":1023.8180000000001},{"$f":"'Painel de Controle'!$C$28*'Resultados Cultivos'!R$3","v":1023.8180000000001},{"$f":"'Painel de Controle'!$C$28*'Resultados Cultivos'!S$3","v":1023.8180000000001},{"$f":"'Painel de Controle'!$C$28*'Resultados Cultivos'!T$3","v":1023.8180000000001},{"$f":"'Painel de Controle'!$C$28*'Resultados Cultivos'!U$3","v":1023.8180000000001},{"$f":"'Painel de Controle'!$C$28*'Resultados Cultivos'!V$3","v":1023.8180000000001},{"$f":"'Painel de Controle'!$C$28*'Resultados Cultivos'!W$3","v":1023.8180000000001},{"$f":"'Painel de Controle'!$C$28*'Resultados Cultivos'!X$3","v":1023.8180000000001},{"$f":"'Painel de Controle'!$C$28*'Resultados Cultivos'!Y$3","v":1023.8180000000001},{"$f":"'Painel de Controle'!$C$28*'Resultados Cultivos'!Z$3","v":1023.8180000000001},{"$f":"'Painel de Controle'!$C$28*'Resultados Cultivos'!AA$3","v":1023.8180000000001},{"$f":"'Painel de Controle'!$C$28*'Resultados Cultivos'!AB$3","v":1023.8180000000001},{"$f":"'Painel de Controle'!$C$28*'Resultados Cultivos'!AC$3","v":1023.8180000000001},{"$f":"'Painel de Controle'!$C$28*'Resultados Cultivos'!AD$3","v":1023.8180000000001},{"$f":"'Painel de Controle'!$C$28*'Resultados Cultivos'!AE$3","v":1023.8180000000001},{"$f":"'Painel de Controle'!$C$28*'Resultados Cultivos'!AF$3","v":1023.8180000000001},{"$f":"'Painel de Controle'!$C$28*'Resultados Cultivos'!AG$3","v":1023.8180000000001},{"$f":"'Painel de Controle'!$C$28*'Resultados Cultivos'!AH$3","v":1023.8180000000001},{"$f":"'Painel de Controle'!$C$28*'Resultados Cultivos'!AI$3","v":1023.8180000000001},{"$f":"'Painel de Controle'!$C$28*'Resultados Cultivos'!AJ$3","v":1023.8180000000001},{"$f":"'Painel de Controle'!$C$28*'Resultados Cultivos'!AK$3","v":1023.8180000000001},{"$f":"'Painel de Controle'!$C$28*'Resultados Cultivos'!AL$3","v":1023.8180000000001}]
[null,null,"Produção (t)",{"$f":"'Rentabilidade Cultivos'!$E$23*'Resultados Cultivos'!D24/1000","v":0},{"$f":"'Rentabilidade Cultivos'!$E$23*'Resultados Cultivos'!E24/1000","v":0},{"$f":"'Rentabilidade Cultivos'!$E$23*'Resultados Cultivos'!F24/1000","v":0},{"$f":"'Rentabilidade Cultivos'!$E$23*'Resultados Cultivos'!G24/1000","v":1121.8710000000003},{"$f":"'Rentabilidade Cultivos'!$E$23*'Resultados Cultivos'!H24/1000","v":1919.5229999999999},{"$f":"'Rentabilidade Cultivos'!$E$23*'Resultados Cultivos'!I24/1000","v":2525.223},{"$f":"'Rentabilidade Cultivos'!$E$23*'Resultados Cultivos'!J24/1000","v":2854.4550000000004},{"$f":"'Rentabilidade Cultivos'!$E$23*'Resultados Cultivos'!K24/1000","v":3071.4540000000006},{"$f":"'Rentabilidade Cultivos'!$E$23*'Resultados Cultivos'!L24/1000","v":3071.4540000000006},{"$f":"'Rentabilidade Cultivos'!$E$23*'Resultados Cultivos'!M24/1000","v":3071.4540000000006},{"$f":"'Rentabilidade Cultivos'!$E$23*'Resultados Cultivos'!N24/1000","v":3071.4540000000006},{"$f":"'Rentabilidade Cultivos'!$E$23*'Resultados Cultivos'!O24/1000","v":3071.4540000000006},{"$f":"'Rentabilidade Cultivos'!$E$23*'Resultados Cultivos'!P24/1000","v":3071.4540000000006},{"$f":"'Rentabilidade Cultivos'!$E$23*'Resultados Cultivos'!Q24/1000","v":3071.4540000000006},{"$f":"'Rentabilidade Cultivos'!$E$23*'Resultados Cultivos'!R24/1000","v":3071.4540000000006},{"$f":"'Rentabilidade Cultivos'!$E$23*'Resultados Cultivos'!S24/1000","v":3071.4540000000006},{"$f":"'Rentabilidade Cultivos'!$E$23*'Resultados Cultivos'!T24/1000","v":3071.4540000000006},{"$f":"'Rentabilidade Cultivos'!$E$23*'Resultados Cultivos'!U24/1000","v":3071.4540000000006},{"$f":"'Rentabilidade Cultivos'!$E$23*'Resultados Cultivos'!V24/1000","v":3071.4540000000006},{"$f":"'Rentabilidade Cultivos'!$E$23*'Resultados Cultivos'!W24/1000","v":3071.4540000000006},{"$f":"'Rentabilidade Cultivos'!$E$23*'Resultados Cultivos'!X24/1000","v":3071.4540000000006},{"$f":"'Rentabilidade Cultivos'!$E$23*'Resultados Cultivos'!Y24/1000","v":3071.4540000000006},{"$f":"'Rentabilidade Cultivos'!$E$23*'Resultados Cultivos'!Z24/1000","v":3071.4540000000006},{"$f":"'Rentabilidade Cultivos'!$E$23*'Resultados Cultivos'!AA24/1000","v":3071.4540000000006},{"$f":"'Rentabilidade Cultivos'!$E$23*'Resultados Cultivos'!AB24/1000","v":3071.4540000000006},{"$f":"'Rentabilidade Cultivos'!$E$23*'Resultados Cultivos'!AC24/1000","v":3071.4540000000006},{"$f":"'Rentabilidade Cultivos'!$E$23*'Resultados Cultivos'!AD24/1000","v":3071.4540000000006},{"$f":"'Rentabilidade Cultivos'!$E$23*'Resultados Cultivos'!AE24/1000","v":3071.4540000000006},{"$f":"'Rentabilidade Cultivos'!$E$23*'Resultados Cultivos'!AF24/1000","v":3071.4540000000006},{"$f":"'Rentabilidade Cultivos'!$E$23*'Resultados Cultivos'!AG24/1000","v":3071.4540000000006},{"$f":"'Rentabilidade Cultivos'!$E$23*'Resultados Cultivos'!AH24/1000","v":3071.4540000000006},{"$f":"'Rentabilidade Cultivos'!$E$23*'Resultados Cultivos'!AI24/1000","v":3071.4540000000006},{"$f":"'Rentabilidade Cultivos'!$E$23*'Resultados Cultivos'!AJ24/1000","v":3071.4540000000006},{"$f":"'Rentabilidade Cultivos'!$E$23*'Resultados Cultivos'!AK24/1000","v":3071.4540000000006},{"$f":"'Rentabilidade Cultivos'!$E$23*'Resultados Cultivos'!AL24/1000","v":3071.4540000000006}]
[null,null,"Faturamento (R$ mil)",{"$f":"D25*'Rentabilidade Cultivos'!$E$24","v":0},{"$f":"E25*'Rentabilidade Cultivos'!$E$24","v":0},{"$f":"F25*'Rentabilidade Cultivos'!$E$24","v":0},{"$f":"G25*'Rentabilidade Cultivos'!$E$24","v":5048.4195000000018},{"$f":"H25*'Rentabilidade Cultivos'!$E$24","v":8637.8534999999993},{"$f":"I25*'Rentabilidade Cultivos'!$E$24","v":11363.503499999999},{"$f":"J25*'Rentabilidade Cultivos'!$E$24","v":12845.047500000002},{"$f":"K25*'Rentabilidade Cultivos'!$E$24","v":13821.543000000003},{"$f":"L25*'Rentabilidade Cultivos'!$E$24","v":13821.543000000003},{"$f":"M25*'Rentabilidade Cultivos'!$E$24","v":13821.543000000003},{"$f":"N25*'Rentabilidade Cultivos'!$E$24","v":13821.543000000003},{"$f":"O25*'Rentabilidade Cultivos'!$E$24","v":13821.543000000003},{"$f":"P25*'Rentabilidade Cultivos'!$E$24","v":13821.543000000003},{"$f":"Q25*'Rentabilidade Cultivos'!$E$24","v":13821.543000000003},{"$f":"R25*'Rentabilidade Cultivos'!$E$24","v":13821.543000000003},{"$f":"S25*'Rentabilidade Cultivos'!$E$24","v":13821.543000000003},{"$f":"T25*'Rentabilidade Cultivos'!$E$24","v":13821.543000000003},{"$f":"U25*'Rentabilidade Cultivos'!$E$24","v":13821.543000000003},{"$f":"V25*'Rentabilidade Cultivos'!$E$24","v":13821.543000000003},{"$f":"W25*'Rentabilidade Cultivos'!$E$24","v":13821.543000000003},{"$f":"X25*'Rentabilidade Cultivos'!$E$24","v":13821.543000000003},{"$f":"Y25*'Rentabilidade Cultivos'!$E$24","v":13821.543000000003},{"$f":"Z25*'Rentabilidade Cultivos'!$E$24","v":13821.543000000003},{"$f":"AA25*'Rentabilidade Cultivos'!$E$24","v":13821.543000000003},{"$f":"AB25*'Rentabilidade Cultivos'!$E$24","v":13821.543000000003},{"$f":"AC25*'Rentabilidade Cultivos'!$E$24","v":13821.543000000003},{"$f":"AD25*'Rentabilidade Cultivos'!$E$24","v":13821.543000000003},{"$f":"AE25*'Rentabilidade Cultivos'!$E$24","v":13821.543000000003},{"$f":"AF25*'Rentabilidade Cultivos'!$E$24","v":13821.543000000003},{"$f":"AG25*'Rentabilidade Cultivos'!$E$24","v":13821.543000000003},{"$f":"AH25*'Rentabilidade Cultivos'!$E$24","v":13821.543000000003},{"$f":"AI25*'Rentabilidade Cultivos'!$E$24","v":13821.543000000003},{"$f":"AJ25*'Rentabilidade Cultivos'!$E$24","v":13821.543000000003},{"$f":"AK25*'Rentabilidade Cultivos'!$E$24","v":13821.543000000003},{"$f":"AL25*'Rentabilidade Cultivos'!$E$24","v":13821.543000000003}]
[null,null,"Custo direto (R$ mil)",{"$f":"D24*'Rentabilidade Cultivos'!$E$26/1000","v":0},{"$f":"E24*'Rentabilidade Cultivos'!$E$26/1000","v":0},{"$f":"F24*'Rentabilidade Cultivos'!$E$26/1000","v":0},{"$f":"G24*'Rentabilidade Cultivos'!$E$26/1000","v":2521.6855402500005},{"$f":"H24*'Rentabilidade Cultivos'!$E$26/1000","v":4314.6078232500004},{"$f":"I24*'Rentabilidade Cultivos'!$E$26/1000","v":5676.06999825},{"$f":"J24*'Rentabilidade Cultivos'!$E$26/1000","v":6416.1012262500017},{"$f":"K24*'Rentabilidade Cultivos'!$E$26/1000","v":6903.8607284999998},{"$f":"L24*'Rentabilidade Cultivos'!$E$26/1000","v":6903.8607284999998},{"$f":"M24*'Rentabilidade Cultivos'!$E$26/1000","v":6903.8607284999998},{"$f":"N24*'Rentabilidade Cultivos'!$E$26/1000","v":6903.8607284999998},{"$f":"O24*'Rentabilidade Cultivos'!$E$26/1000","v":6903.8607284999998},{"$f":"P24*'Rentabilidade Cultivos'!$E$26/1000","v":6903.8607284999998},{"$f":"Q24*'Rentabilidade Cultivos'!$E$26/1000","v":6903.8607284999998},{"$f":"R24*'Rentabilidade Cultivos'!$E$26/1000","v":6903.8607284999998},{"$f":"S24*'Rentabilidade Cultivos'!$E$26/1000","v":6903.8607284999998},{"$f":"T24*'Rentabilidade Cultivos'!$E$26/1000","v":6903.8607284999998},{"$f":"U24*'Rentabilidade Cultivos'!$E$26/1000","v":6903.8607284999998},{"$f":"V24*'Rentabilidade Cultivos'!$E$26/1000","v":6903.8607284999998},{"$f":"W24*'Rentabilidade Cultivos'!$E$26/1000","v":6903.8607284999998},{"$f":"X24*'Rentabilidade Cultivos'!$E$26/1000","v":6903.8607284999998},{"$f":"Y24*'Rentabilidade Cultivos'!$E$26/1000","v":6903.8607284999998},{"$f":"Z24*'Rentabilidade Cultivos'!$E$26/1000","v":6903.8607284999998},{"$f":"AA24*'Rentabilidade Cultivos'!$E$26/1000","v":6903.8607284999998},{"$f":"AB24*'Rentabilidade Cultivos'!$E$26/1000","v":6903.8607284999998},{"$f":"AC24*'Rentabilidade Cultivos'!$E$26/1000","v":6903.8607284999998},{"$f":"AD24*'Rentabilidade Cultivos'!$E$26/1000","v":6903.8607284999998},{"$f":"AE24*'Rentabilidade Cultivos'!$E$26/1000","v":6903.8607284999998},{"$f":"AF24*'Rentabilidade Cultivos'!$E$26/1000","v":6903.8607284999998},{"$f":"AG24*'Rentabilidade Cultivos'!$E$26/1000","v":6903.8607284999998},{"$f":"AH24*'Rentabilidade Cultivos'!$E$26/1000","v":6903.8607284999998},{"$f":"AI24*'Rentabilidade Cultivos'!$E$26/1000","v":6903.8607284999998},{"$f":"AJ24*'Rentabilidade Cultivos'!$E$26/1000","v":6903.8607284999998},{"$f":"AK24*'Rentabilidade Cultivos'!$E$26/1000","v":6903.8607284999998},{"$f":"AL24*'Rentabilidade Cultivos'!$E$26/1000","v":6903.8607284999998}]
[null,null,"Resultado (R$ mil)",{"$f":"D26-D27","v":0},{"$f":"E26-E27","v":0},0,2526.7339597500013,4323.2456767499989,5687.4335017499989,6428.9462737500007,6917.6822715000035,6917.6822715000035,6917.6822715000035,6917.6822715000035,6917.6822715000035,6917.6822715000035,6917.6822715000035,6917.6822715000035,6917.6822715000035,6917.6822715000035,6917.6822715000035,6917.6822715000035,6917.6822715000035,6917.6822715000035,6917.6822715000035,6917.6822715000035,6917.6822715000035,6917.6822715000035,6917.6822715000035,6917.6822715000035,6917.6822715000035,6917.6822715000035,6917.6822715000035,6917.6822715000035,6917.6822715000035,6917.6822715000035,6917.6822715000035,6917.6822715000035]
[null,"Abacaxi","Área (ha)",{"$f":"'Painel de Controle'!$C$29*'Resultados Cultivos'!D$3","v":0},{"$f":"'Painel de Controle'!$C$29*'Resultados Cultivos'!E$3","v":0},{"$f":"'Painel de Controle'!$C$29*'Resultados Cultivos'!F$3","v":0},{"$f":"'Painel de Controle'!$C$29*'Resultados Cultivos'!G$3","v":93.489250000000013},{"$f":"'Painel de Controle'!$C$29*'Resultados Cultivos'!H$3","v":159.96025},{"$f":"'Painel de Controle'!$C$29*'Resultados Cultivos'!I$3","v":210.43525},{"$f":"'Painel de Controle'!$C$29*'Resultados Cultivos'!J$3","v":237.87125000000003},{"$f":"'Painel de Controle'!$C$29*'Resultados Cultivos'!K$3","v":255.95450000000002},{"$f":"'Painel de Controle'!$C$29*'Resultados Cultivos'!L$3","v":255.95450000000002},{"$f":"'Painel de Controle'!$C$29*'Resultados Cultivos'!M$3","v":255.95450000000002},{"$f":"'Painel de Controle'!$C$29*'Resultados Cultivos'!N$3","v":255.95450000000002},{"$f":"'Painel de Controle'!$C$29*'Resultados Cultivos'!O$3","v":255.95450000000002},{"$f":"'Painel de Controle'!$C$29*'Resultados Cultivos'!P$3","v":255.95450000000002},{"$f":"'Painel de Controle'!$C$29*'Resultados Cultivos'!Q$3","v":255.95450000000002},{"$f":"'Painel de Controle'!$C$29*'Resultados Cultivos'!R$3","v":255.95450000000002},{"$f":"'Painel de Controle'!$C$29*'Resultados Cultivos'!S$3","v":255.95450000000002},{"$f":"'Painel de Controle'!$C$29*'Resultados Cultivos'!T$3","v":255.95450000000002},{"$f":"'Painel de Controle'!$C$29*'Resultados Cultivos'!U$3","v":255.95450000000002},{"$f":"'Painel de Controle'!$C$29*'Resultados Cultivos'!V$3","v":255.95450000000002},{"$f":"'Painel de Controle'!$C$29*'Resultados Cultivos'!W$3","v":255.95450000000002},{"$f":"'Painel de Controle'!$C$29*'Resultados Cultivos'!X$3","v":255.95450000000002},{"$f":"'Painel de Controle'!$C$29*'Resultados Cultivos'!Y$3","v":255.95450000000002},{"$f":"'Painel de Controle'!$C$29*'Resultados Cultivos'!Z$3","v":255.95450000000002},{"$f":"'Painel de Controle'!$C$29*'Resultados Cultivos'!AA$3","v":255.95450000000002},{"$f":"'Painel de Controle'!$C$29*'Resultados Cultivos'!AB$3","v":255.95450000000002},{"$f":"'Painel de Controle'!$C$29*'Resultados Cultivos'!AC$3","v":255.95450000000002},{"$f":"'Painel de Controle'!$C$29*'Resultados Cultivos'!AD$3","v":255.95450000000002},{"$f":"'Painel de Controle'!$C$29*'Resultados Cultivos'!AE$3","v":255.95450000000002},{"$f":"'Painel de Controle'!$C$29*'Resultados Cultivos'!AF$3","v":255.95450000000002},{"$f":"'Painel de Controle'!$C$29*'Resultados Cultivos'!AG$3","v":255.95450000000002},{"$f":"'Painel de Controle'!$C$29*'Resultados Cultivos'!AH$3","v":255.95450000000002},{"$f":"'Painel de Controle'!$C$29*'Resultados Cultivos'!AI$3","v":255.95450000000002},{"$f":"'Painel de Controle'!$C$29*'Resultados Cultivos'!AJ$3","v":255.95450000000002},{"$f":"'Painel de Controle'!$C$29*'Resultados Cultivos'!AK$3","v":255.95450000000002},{"$f":"'Painel de Controle'!$C$29*'Resultados Cultivos'!AL$3","v":255.95450000000002}]
[null,null,"Produção (t)",{"$f":"'Rentabilidade Cultivos'!$AD$44*'Resultados Cultivos'!D29/1000","v":0},{"$f":"'Rentabilidade Cultivos'!$AD$44*'Resultados Cultivos'!E29/1000","v":0},{"$f":"'Rentabilidade Cultivos'!$AD$44*'Resultados Cultivos'!F29/1000","v":0},{"$f":"'Rentabilidade Cultivos'!$AD$44*'Resultados Cultivos'!G29/1000","v":2804.6775000000007},{"$f":"'Rentabilidade Cultivos'!$AD$44*'Resultados Cultivos'!H29/1000","v":4798.8074999999999},{"$f":"'Rentabilidade Cultivos'!$AD$44*'Resultados Cultivos'!I29/1000","v":6313.0574999999999},{"$f":"'Rentabilidade Cultivos'!$AD$44*'Resultados Cultivos'!J29/1000","v":7136.1375000000007},{"$f":"'Rentabilidade Cultivos'!$AD$44*'Resultados Cultivos'!K29/1000","v":7678.6350000000011},{"$f":"'Rentabilidade Cultivos'!$AD$44*'Resultados Cultivos'!L29/1000","v":7678.6350000000011},{"$f":"'Rentabilidade Cultivos'!$AD$44*'Resultados Cultivos'!M29/1000","v":7678.6350000000011},{"$f":"'Rentabilidade Cultivos'!$AD$44*'Resultados Cultivos'!N29/1000","v":7678.6350000000011},{"$f":"'Rentabilidade Cultivos'!$AD$44*'Resultados Cultivos'!O29/1000","v":7678.6350000000011},{"$f":"'Rentabilidade Cultivos'!$AD$44*'Resultados Cultivos'!P29/1000","v":7678.6350000000011},{"$f":"'Rentabilidade Cultivos'!$AD$44*'Resultados Cultivos'!Q29/1000","v":7678.6350000000011},{"$f":"'Rentabilidade Cultivos'!$AD$44*'Resultados Cultivos'!R29/1000","v":7678.6350000000011},{"$f":"'Rentabilidade Cultivos'!$AD$44*'Resultados Cultivos'!S29/1000","v":7678.6350000000011},{"$f":"'Rentabilidade Cultivos'!$AD$44*'Resultados Cultivos'!T29/1000","v":7678.6350000000011},{"$f":"'Rentabilidade Cultivos'!$AD$44*'Resultados Cultivos'!U29/1000","v":7678.6350000000011},{"$f":"'Rentabilidade Cultivos'!$AD$44*'Resultados Cultivos'!V29/1000","v":7678.6350000000011},{"$f":"'Rentabilidade Cultivos'!$AD$44*'Resultados Cultivos'!W29/1000","v":7678.6350000000011},{"$f":"'Rentabilidade Cultivos'!$AD$44*'Resultados Cultivos'!X29/1000","v":7678.6350000000011},{"$f":"'Rentabilidade Cultivos'!$AD$44*'Resultados Cultivos'!Y29/1000","v":7678.6350000000011},{"$f":"'Rentabilidade Cultivos'!$AD$44*'Resultados Cultivos'!Z29/1000","v":7678.6350000000011},{"$f":"'Rentabilidade Cultivos'!$AD$44*'Resultados Cultivos'!AA29/1000","v":7678.6350000000011},{"$f":"'Rentabilidade Cultivos'!$AD$44*'Resultados Cultivos'!AB29/1000","v":7678.6350000000011},{"$f":"'Rentabilidade Cultivos'!$AD$44*'Resultados Cultivos'!AC29/1000","v":7678.6350000000011},{"$f":"'Rentabilidade Cultivos'!$AD$44*'Resultados Cultivos'!AD29/1000","v":7678.6350000000011},{"$f":"'Rentabilidade Cultivos'!$AD$44*'Resultados Cultivos'!AE29/1000","v":7678.6350000000011},{"$f":"'Rentabilidade Cultivos'!$AD$44*'Resultados Cultivos'!AF29/1000","v":7678.6350000000011},{"$f":"'Rentabilidade Cultivos'!$AD$44*'Resultados Cultivos'!AG29/1000","v":7678.6350000000011},{"$f":"'Rentabilidade Cultivos'!$AD$44*'Resultados Cultivos'!AH29/1000","v":7678.6350000000011},{"$f":"'Rentabilidade Cultivos'!$AD$44*'Resultados Cultivos'!AI29/1000","v":7678.6350000000011},{"$f":"'Rentabilidade Cultivos'!$AD$44*'Resultados Cultivos'!AJ29/1000","v":7678.6350000000011},{"$f":"'Rentabilidade Cultivos'!$AD$44*'Resultados Cultivos'!AK29/1000","v":7678.6350000000011},{"$f":"'Rentabilidade Cultivos'!$AD$44*'Resultados Cultivos'!AL29/1000","v":7678.6350000000011}]
[null,null,"Faturamento (R$ mil)",{"$f":"D30*'Rentabilidade Cultivos'!$AD$45","v":0},{"$f":"E30*'Rentabilidade Cultivos'!$AD$45","v":0},{"$f":"F30*'Rentabilidade Cultivos'!$AD$45","v":0},{"$f":"G30*'Rentabilidade Cultivos'!$AD$45","v":4739.9049750000013},{"$f":"H30*'Rentabilidade Cultivos'!$AD$45","v":8109.9846750000006},{"$f":"I30*'Rentabilidade Cultivos'!$AD$45","v":10669.067175},{"$f":"J30*'Rentabilidade Cultivos'!$AD$45","v":12060.072375000002},{"$f":"K30*'Rentabilidade Cultivos'!$AD$45","v":12976.893150000004},{"$f":"L30*'Rentabilidade Cultivos'!$AD$45","v":12976.893150000004},{"$f":"M30*'Rentabilidade Cultivos'!$AD$45","v":12976.893150000004},{"$f":"N30*'Rentabilidade Cultivos'!$AD$45","v":12976.893150000004},{"$f":"O30*'Rentabilidade Cultivos'!$AD$45","v":12976.893150000004},{"$f":"P30*'Rentabilidade Cultivos'!$AD$45","v":12976.893150000004},{"$f":"Q30*'Rentabilidade Cultivos'!$AD$45","v":12976.893150000004},{"$f":"R30*'Rentabilidade Cultivos'!$AD$45","v":12976.893150000004},{"$f":"S30*'Rentabilidade Cultivos'!$AD$45","v":12976.893150000004},{"$f":"T30*'Rentabilidade Cultivos'!$AD$45","v":12976.893150000004},{"$f":"U30*'Rentabilidade Cultivos'!$AD$45","v":12976.893150000004},{"$f":"V30*'Rentabilidade Cultivos'!$AD$45","v":12976.893150000004},{"$f":"W30*'Rentabilidade Cultivos'!$AD$45","v":12976.893150000004},{"$f":"X30*'Rentabilidade Cultivos'!$AD$45","v":12976.893150000004},{"$f":"Y30*'Rentabilidade Cultivos'!$AD$45","v":12976.893150000004},{"$f":"Z30*'Rentabilidade Cultivos'!$AD$45","v":12976.893150000004},{"$f":"AA30*'Rentabilidade Cultivos'!$AD$45","v":12976.893150000004},{"$f":"AB30*'Rentabilidade Cultivos'!$AD$45","v":12976.893150000004},{"$f":"AC30*'Rentabilidade Cultivos'!$AD$45","v":12976.893150000004},{"$f":"AD30*'Rentabilidade Cultivos'!$AD$45","v":12976.893150000004},{"$f":"AE30*'Rentabilidade Cultivos'!$AD$45","v":12976.893150000004},{"$f":"AF30*'Rentabilidade Cultivos'!$AD$45","v":12976.893150000004},{"$f":"AG30*'Rentabilidade Cultivos'!$AD$45","v":12976.893150000004},{"$f":"AH30*'Rentabilidade Cultivos'!$AD$45","v":12976.893150000004},{"$f":"AI30*'Rentabilidade Cultivos'!$AD$45","v":12976.893150000004},{"$f":"AJ30*'Rentabilidade Cultivos'!$AD$45","v":12976.893150000004},{"$f":"AK30*'Rentabilidade Cultivos'!$AD$45","v":12976.893150000004},{"$f":"AL30*'Rentabilidade Cultivos'!$AD$45","v":12976.893150000004}]
[null,null,"Custo direto (R$ mil)",{"$f":"D29*'Rentabilidade Cultivos'!$AD$47/1000","v":0},{"$f":"E29*'Rentabilidade Cultivos'!$AD$47/1000","v":0},{"$f":"F29*'Rentabilidade Cultivos'!$AD$47/1000","v":0},{"$f":"G29*'Rentabilidade Cultivos'!$AD$47/1000","v":2709.9775642125001},{"$f":"H29*'Rentabilidade Cultivos'!$AD$47/1000","v":4636.7757647625003},{"$f":"I29*'Rentabilidade Cultivos'!$AD$47/1000","v":6099.8971135125003},{"$f":"J29*'Rentabilidade Cultivos'!$AD$47/1000","v":6895.1858173125001},{"$f":"K29*'Rentabilidade Cultivos'!$AD$47/1000","v":7419.3658892250005},{"$f":"L29*'Rentabilidade Cultivos'!$AD$47/1000","v":7419.3658892250005},{"$f":"M29*'Rentabilidade Cultivos'!$AD$47/1000","v":7419.3658892250005},{"$f":"N29*'Rentabilidade Cultivos'!$AD$47/1000","v":7419.3658892250005},{"$f":"O29*'Rentabilidade Cultivos'!$AD$47/1000","v":7419.3658892250005},{"$f":"P29*'Rentabilidade Cultivos'!$AD$47/1000","v":7419.3658892250005},{"$f":"Q29*'Rentabilidade Cultivos'!$AD$47/1000","v":7419.3658892250005},{"$f":"R29*'Rentabilidade Cultivos'!$AD$47/1000","v":7419.3658892250005},{"$f":"S29*'Rentabilidade Cultivos'!$AD$47/1000","v":7419.3658892250005},{"$f":"T29*'Rentabilidade Cultivos'!$AD$47/1000","v":7419.3658892250005},{"$f":"U29*'Rentabilidade Cultivos'!$AD$47/1000","v":7419.3658892250005},{"$f":"V29*'Rentabilidade Cultivos'!$AD$47/1000","v":7419.3658892250005},{"$f":"W29*'Rentabilidade Cultivos'!$AD$47/1000","v":7419.3658892250005},{"$f":"X29*'Rentabilidade Cultivos'!$AD$47/1000","v":7419.3658892250005},{"$f":"Y29*'Rentabilidade Cultivos'!$AD$47/1000","v":7419.3658892250005},{"$f":"Z29*'Rentabilidade Cultivos'!$AD$47/1000","v":7419.3658892250005},{"$f":"AA29*'Rentabilidade Cultivos'!$AD$47/1000","v":7419.3658892250005},{"$f":"AB29*'Rentabilidade Cultivos'!$AD$47/1000","v":7419.3658892250005},{"$f":"AC29*'Rentabilidade Cultivos'!$AD$47/1000","v":7419.3658892250005},{"$f":"AD29*'Rentabilidade Cultivos'!$AD$47/1000","v":7419.3658892250005},{"$f":"AE29*'Rentabilidade Cultivos'!$AD$47/1000","v":7419.3658892250005},{"$f":"AF29*'Rentabilidade Cultivos'!$AD$47/1000","v":7419.3658892250005},{"$f":"AG29*'Rentabilidade Cultivos'!$AD$47/1000","v":7419.3658892250005},{"$f":"AH29*'Rentabilidade Cultivos'!$AD$47/1000","v":7419.3658892250005},{"$f":"AI29*'Rentabilidade Cultivos'!$AD$47/1000","v":7419.3658892250005},{"$f":"AJ29*'Rentabilidade Cultivos'!$AD$47/1000","v":7419.3658892250005},{"$f":"AK29*'Rentabilidade Cultivos'!$AD$47/1000","v":7419.3658892250005},{"$f":"AL29*'Rentabilidade Cultivos'!$AD$47/1000","v":7419.3658892250005}]
[null,null,"Resultado (R$ mil)",{"$f":"D31-D32","v":0},{"$f":"E31-E32","v":0},{"$f":"F31-F32","v":0},{"$f":"G31-G32","v":2029.9274107875012},{"$f":"H31-H32","v":3473.2089102375003},{"$f":"I31-I32","v":4569.1700614874999},{"$f":"J31-J32","v":5164.8865576875014},{"$f":"K31-K32","v":5557.527260775003},{"$f":"L31-L32","v":5557.527260775003},{"$f":"M31-M32","v":5557.527260775003},{"$f":"N31-N32","v":5557.527260775003},{"$f":"O31-O32","v":5557.527260775003},{"$f":"P31-P32","v":5557.527260775003},{"$f":"Q31-Q32","v":5557.527260775003},{"$f":"R31-R32","v":5557.527260775003},{"$f":"S31-S32","v":5557.527260775003},{"$f":"T31-T32","v":5557.527260775003},{"$f":"U31-U32","v":5557.527260775003},{"$f":"V31-V32","v":5557.527260775003},{"$f":"W31-W32","v":5557.527260775003},{"$f":"X31-X32","v":5557.527260775003},{"$f":"Y31-Y32","v":5557.527260775003},{"$f":"Z31-Z32","v":5557.527260775003},{"$f":"AA31-AA32","v":5557.527260775003},{"$f":"AB31-AB32","v":5557.527260775003},{"$f":"AC31-AC32","v":5557.527260775003},{"$f":"AD31-AD32","v":5557.527260775003},{"$f":"AE31-AE32","v":5557.527260775003},{"$f":"AF31-AF32","v":5557.527260775003},{"$f":"AG31-AG32","v":5557.527260775003},{"$f":"AH31-AH32","v":5557.527260775003},{"$f":"AI31-AI32","v":5557.527260775003},{"$f":"AJ31-AJ32","v":5557.527260775003},{"$f":"AK31-AK32","v":5557.527260775003},{"$f":"AL31-AL32","v":5557.527260775003}]
[null,"Acerola","Área (ha)",{"$f":"'Painel de Controle'!$C$30*'Resultados Cultivos'!D$3","v":0},{"$f":"'Painel de Controle'!$C$30*'Resultados Cultivos'!E$3","v":0},{"$f":"'Painel de Controle'!$C$30*'Resultados Cultivos'!F$3","v":0},{"$f":"'Painel de Controle'!$C$30*'Resultados Cultivos'!G$3","v":373.95700000000005},{"$f":"'Painel de Controle'!$C$30*'Resultados Cultivos'!H$3","v":639.84100000000001},{"$f":"'Painel de Controle'!$C$30*'Resultados Cultivos'!I$3","v":841.74099999999999},{"$f":"'Painel de Controle'!$C$30*'Resultados Cultivos'!J$3","v":951.48500000000013},{"$f":"'Painel de Controle'!$C$30*'Resultados Cultivos'!K$3","v":1023.8180000000001},{"$f":"'Painel de Controle'!$C$30*'Resultados Cultivos'!L$3","v":1023.8180000000001},{"$f":"'Painel de Controle'!$C$30*'Resultados Cultivos'!M$3","v":1023.8180000000001},{"$f":"'Painel de Controle'!$C$30*'Resultados Cultivos'!N$3","v":1023.8180000000001},{"$f":"'Painel de Controle'!$C$30*'Resultados Cultivos'!O$3","v":1023.8180000000001},{"$f":"'Painel de Controle'!$C$30*'Resultados Cultivos'!P$3","v":1023.8180000000001},{"$f":"'Painel de Controle'!$C$30*'Resultados Cultivos'!Q$3","v":1023.8180000000001},{"$f":"'Painel de Controle'!$C$30*'Resultados Cultivos'!R$3","v":1023.8180000000001},{"$f":"'Painel de Controle'!$C$30*'Resultados Cultivos'!S$3","v":1023.8180000000001},{"$f":"'Painel de Controle'!$C$30*'Resultados Cultivos'!T$3","v":1023.8180000000001},{"$f":"'Painel de Controle'!$C$30*'Resultados Cultivos'!U$3","v":1023.8180000000001},{"$f":"'Painel de Controle'!$C$30*'Resultados Cultivos'!V$3","v":1023.8180000000001},{"$f":"'Painel de Controle'!$C$30*'Resultados Cultivos'!W$3","v":1023.8180000000001},{"$f":"'Painel de Controle'!$C$30*'Resultados Cultivos'!X$3","v":1023.8180000000001},{"$f":"'Painel de Controle'!$C$30*'Resultados Cultivos'!Y$3","v":1023.8180000000001},{"$f":"'Painel de Controle'!$C$30*'Resultados Cultivos'!Z$3","v":1023.8180000000001},{"$f":"'Painel de Controle'!$C$30*'Resultados Cultivos'!AA$3","v":1023.8180000000001},{"$f":"'Painel de Controle'!$C$30*'Resultados Cultivos'!AB$3","v":1023.8180000000001},{"$f":"'Painel de Controle'!$C$30*'Resultados Cultivos'!AC$3","v":1023.8180000000001},{"$f":"'Painel de Controle'!$C$30*'Resultados Cultivos'!AD$3","v":1023.8180000000001},{"$f":"'Painel de Controle'!$C$30*'Resultados Cultivos'!AE$3","v":1023.8180000000001},{"$f":"'Painel de Controle'!$C$30*'Resultados Cultivos'!AF$3","v":1023.8180000000001},{"$f":"'Painel de Controle'!$C$30*'Resultados Cultivos'!AG$3","v":1023.8180000000001},{"$f":"'Painel de Controle'!$C$30*'Resultados Cultivos'!AH$3","v":1023.8180000000001},{"$f":"'Painel de Controle'!$C$30*'Resultados Cultivos'!AI$3","v":1023.8180000000001},{"$f":"'Painel de Controle'!$C$30*'Resultados Cultivos'!AJ$3","v":1023.8180000000001},{"$f":"'Painel de Controle'!$C$30*'Resultados Cultivos'!AK$3","v":1023.8180000000001},{"$f":"'Painel de Controle'!$C$30*'Resultados Cultivos'!AL$3","v":1023.8180000000001}]
[null,null,"Produção (t)",{"$f":"'Rentabilidade Cultivos'!$AD$49*'Resultados Cultivos'!D34/1000","v":0},{"$f":"'Rentabilidade Cultivos'!$AD$49*'Resultados Cultivos'!E34/1000","v":0},{"$f":"'Rentabilidade Cultivos'!$AD$49*'Resultados Cultivos'!F34/1000","v":0},{"$f":"'Rentabilidade Cultivos'!$AD$49*'Resultados Cultivos'!G34/1000","v":7292.1615000000011},{"$f":"'Rentabilidade Cultivos'!$AD$49*'Resultados Cultivos'!H34/1000","v":12476.8995},{"$f":"'Rentabilidade Cultivos'!$AD$49*'Resultados Cultivos'!I34/1000","v":16413.949499999999},{"$f":"'Rentabilidade Cultivos'!$AD$49*'Resultados Cultivos'!J34/1000","v":18553.957500000004},{"$f":"'Rentabilidade Cultivos'!$AD$49*'Resultados Cultivos'!K34/1000","v":19964.451000000005},{"$f":"'Rentabilidade Cultivos'!$AD$49*'Resultados Cultivos'!L34/1000","v":19964.451000000005},{"$f":"'Rentabilidade Cultivos'!$AD$49*'Resultados Cultivos'!M34/1000","v":19964.451000000005},{"$f":"'Rentabilidade Cultivos'!$AD$49*'Resultados Cultivos'!N34/1000","v":19964.451000000005},{"$f":"'Rentabilidade Cultivos'!$AD$49*'Resultados Cultivos'!O34/1000","v":19964.451000000005},{"$f":"'Rentabilidade Cultivos'!$AD$49*'Resultados Cultivos'!P34/1000","v":19964.451000000005},{"$f":"'Rentabilidade Cultivos'!$AD$49*'Resultados Cultivos'!Q34/1000","v":19964.451000000005},{"$f":"'Rentabilidade Cultivos'!$AD$49*'Resultados Cultivos'!R34/1000","v":19964.451000000005},{"$f":"'Rentabilidade Cultivos'!$AD$49*'Resultados Cultivos'!S34/1000","v":19964.451000000005},{"$f":"'Rentabilidade Cultivos'!$AD$49*'Resultados Cultivos'!T34/1000","v":19964.451000000005},{"$f":"'Rentabilidade Cultivos'!$AD$49*'Resultados Cultivos'!U34/1000","v":19964.451000000005},{"$f":"'Rentabilidade Cultivos'!$AD$49*'Resultados Cultivos'!V34/1000","v":19964.451000000005},{"$f":"'Rentabilidade Cultivos'!$AD$49*'Resultados Cultivos'!W34/1000","v":19964.451000000005},{"$f":"'Rentabilidade Cultivos'!$AD$49*'Resultados Cultivos'!X34/1000","v":19964.451000000005},{"$f":"'Rentabilidade Cultivos'!$AD$49*'Resultados Cultivos'!Y34/1000","v":19964.451000000005},{"$f":"'Rentabilidade Cultivos'!$AD$49*'Resultados Cultivos'!Z34/1000","v":19964.451000000005},{"$f":"'Rentabilidade Cultivos'!$AD$49*'Resultados Cultivos'!AA34/1000","v":19964.451000000005},{"$f":"'Rentabilidade Cultivos'!$AD$49*'Resultados Cultivos'!AB34/1000","v":19964.451000000005},{"$f":"'Rentabilidade Cultivos'!$AD$49*'Resultados Cultivos'!AC34/1000","v":19964.451000000005},{"$f":"'Rentabilidade Cultivos'!$AD$49*'Resultados Cultivos'!AD34/1000","v":19964.451000000005},{"$f":"'Rentabilidade Cultivos'!$AD$49*'Resultados Cultivos'!AE34/1000","v":19964.451000000005},{"$f":"'Rentabilidade Cultivos'!$AD$49*'Resultados Cultivos'!AF34/1000","v":19964.451000000005},{"$f":"'Rentabilidade Cultivos'!$AD$49*'Resultados Cultivos'!AG34/1000","v":19964.451000000005},{"$f":"'Rentabilidade Cultivos'!$AD$49*'Resultados Cultivos'!AH34/1000","v":19964.451000000005},{"$f":"'Rentabilidade Cultivos'!$AD$49*'Resultados Cultivos'!AI34/1000","v":19964.451000000005},{"$f":"'Rentabilidade Cultivos'!$AD$49*'Resultados Cultivos'!AJ34/1000","v":19964.451000000005},{"$f":"'Rentabilidade Cultivos'!$AD$49*'Resultados Cultivos'!AK34/1000","v":19964.451000000005},{"$f":"'Rentabilidade Cultivos'!$AD$49*'Resultados Cultivos'!AL34/1000","v":19964.451000000005}]
[null,null,"Faturamento (R$ mil)",{"$f":"D35*'Rentabilidade Cultivos'!$AD$50","v":0},{"$f":"E35*'Rentabilidade Cultivos'!$AD$50","v":0},{"$f":"F35*'Rentabilidade Cultivos'!$AD$50","v":0},{"$f":"G35*'Rentabilidade Cultivos'!$AD$50","v":18230.403750000001},{"$f":"H35*'Rentabilidade Cultivos'!$AD$50","v":31192.248749999999},{"$f":"I35*'Rentabilidade Cultivos'!$AD$50","v":41034.873749999999},{"$f":"J35*'Rentabilidade Cultivos'!$AD$50","v":46384.89375000001},{"$f":"K35*'Rentabilidade Cultivos'!$AD$50","v":49911.12750000001},{"$f":"L35*'Rentabilidade Cultivos'!$AD$50","v":49911.12750000001},{"$f":"M35*'Rentabilidade Cultivos'!$AD$50","v":49911.12750000001},{"$f":"N35*'Rentabilidade Cultivos'!$AD$50","v":49911.12750000001},{"$f":"O35*'Rentabilidade Cultivos'!$AD$50","v":49911.12750000001},{"$f":"P35*'Rentabilidade Cultivos'!$AD$50","v":49911.12750000001},{"$f":"Q35*'Rentabilidade Cultivos'!$AD$50","v":49911.12750000001},{"$f":"R35*'Rentabilidade Cultivos'!$AD$50","v":49911.12750000001},{"$f":"S35*'Rentabilidade Cultivos'!$AD$50","v":49911.12750000001},{"$f":"T35*'Rentabilidade Cultivos'!$AD$50","v":49911.12750000001},{"$f":"U35*'Rentabilidade Cultivos'!$AD$50","v":49911.12750000001},{"$f":"V35*'Rentabilidade Cultivos'!$AD$50","v":49911.12750000001},{"$f":"W35*'Rentabilidade Cultivos'!$AD$50","v":49911.12750000001},{"$f":"X35*'Rentabilidade Cultivos'!$AD$50","v":49911.12750000001},{"$f":"Y35*'Rentabilidade Cultivos'!$AD$50","v":49911.12750000001},{"$f":"Z35*'Rentabilidade Cultivos'!$AD$50","v":49911.12750000001},{"$f":"AA35*'Rentabilidade Cultivos'!$AD$50","v":49911.12750000001},{"$f":"AB35*'Rentabilidade Cultivos'!$AD$50","v":49911.12750000001},{"$f":"AC35*'Rentabilidade Cultivos'!$AD$50","v":49911.12750000001},{"$f":"AD35*'Rentabilidade Cultivos'!$AD$50","v":49911.12750000001},{"$f":"AE35*'Rentabilidade Cultivos'!$AD$50","v":49911.12750000001},{"$f":"AF35*'Rentabilidade Cultivos'!$AD$50","v":49911.12750000001},{"$f":"AG35*'Rentabilidade Cultivos'!$AD$50","v":49911.12750000001},{"$f":"AH35*'Rentabilidade Cultivos'!$AD$50","v":49911.12750000001},{"$f":"AI35*'Rentabilidade Cultivos'!$AD$50","v":49911.12750000001},{"$f":"AJ35*'Rentabilidade Cultivos'!$AD$50","v":49911.12750000001},{"$f":"AK35*'Rentabilidade Cultivos'!$AD$50","v":49911.12750000001},{"$f":"AL35*'Rentabilidade Cultivos'!$AD$50","v":49911.12750000001}]
[null,null,"Custo direto (R$ mil)",{"$f":"D34*'Rentabilidade Cultivos'!$AD$52/1000","v":0},{"$f":"E34*'Rentabilidade Cultivos'!$AD$52/1000","v":0},{"$f":"F34*'Rentabilidade Cultivos'!$AD$52/1000","v":0},{"$f":"G34*'Rentabilidade Cultivos'!$AD$52/1000","v":14349.697928111702},{"$f":"H34*'Rentabilidade Cultivos'!$AD$52/1000","v":24552.355142492099},{"$f":"I34*'Rentabilidade Cultivos'!$AD$52/1000","v":32299.7806798821},{"$f":"J34*'Rentabilidade Cultivos'!$AD$52/1000","v":36510.941988328508},{"$f":"K34*'Rentabilidade Cultivos'!$AD$52/1000","v":39286.546403365806},{"$f":"L34*'Rentabilidade Cultivos'!$AD$52/1000","v":39286.546403365806},{"$f":"M34*'Rentabilidade Cultivos'!$AD$52/1000","v":39286.546403365806},{"$f":"N34*'Rentabilidade Cultivos'!$AD$52/1000","v":39286.546403365806},{"$f":"O34*'Rentabilidade Cultivos'!$AD$52/1000","v":39286.546403365806},{"$f":"P34*'Rentabilidade Cultivos'!$AD$52/1000","v":39286.546403365806},{"$f":"Q34*'Rentabilidade Cultivos'!$AD$52/1000","v":39286.546403365806},{"$f":"R34*'Rentabilidade Cultivos'!$AD$52/1000","v":39286.546403365806},{"$f":"S34*'Rentabilidade Cultivos'!$AD$52/1000","v":39286.546403365806},{"$f":"T34*'Rentabilidade Cultivos'!$AD$52/1000","v":39286.546403365806},{"$f":"U34*'Rentabilidade Cultivos'!$AD$52/1000","v":39286.546403365806},{"$f":"V34*'Rentabilidade Cultivos'!$AD$52/1000","v":39286.546403365806},{"$f":"W34*'Rentabilidade Cultivos'!$AD$52/1000","v":39286.546403365806},{"$f":"X34*'Rentabilidade Cultivos'!$AD$52/1000","v":39286.546403365806},{"$f":"Y34*'Rentabilidade Cultivos'!$AD$52/1000","v":39286.546403365806},{"$f":"Z34*'Rentabilidade Cultivos'!$AD$52/1000","v":39286.546403365806},{"$f":"AA34*'Rentabilidade Cultivos'!$AD$52/1000","v":39286.546403365806},{"$f":"AB34*'Rentabilidade Cultivos'!$AD$52/1000","v":39286.546403365806},{"$f":"AC34*'Rentabilidade Cultivos'!$AD$52/1000","v":39286.546403365806},{"$f":"AD34*'Rentabilidade Cultivos'!$AD$52/1000","v":39286.546403365806},{"$f":"AE34*'Rentabilidade Cultivos'!$AD$52/1000","v":39286.546403365806},{"$f":"AF34*'Rentabilidade Cultivos'!$AD$52/1000","v":39286.546403365806},{"$f":"AG34*'Rentabilidade Cultivos'!$AD$52/1000","v":39286.546403365806},{"$f":"AH34*'Rentabilidade Cultivos'!$AD$52/1000","v":39286.546403365806},{"$f":"AI34*'Rentabilidade Cultivos'!$AD$52/1000","v":39286.546403365806},{"$f":"AJ34*'Rentabilidade Cultivos'!$AD$52/1000","v":39286.546403365806},{"$f":"AK34*'Rentabilidade Cultivos'!$AD$52/1000","v":39286.546403365806},{"$f":"AL34*'Rentabilidade Cultivos'!$AD$52/1000","v":39286.546403365806}]
[null,null,"Resultado (R$ mil)",{"$f":"D36-D37","v":0},{"$f":"E36-E37","v":0},{"$f":"F36-F37","v":0},{"$f":"G36-G37","v":3880.7058218882994},{"$f":"H36-H37","v":6639.8936075079},{"$f":"I36-I37","v":8735.0930701178986},{"$f":"J36-J37","v":9873.951761671502},{"$f":"K36-K37","v":10624.581096634203},{"$f":"L36-L37","v":10624.581096634203},{"$f":"M36-M37","v":10624.581096634203},{"$f":"N36-N37","v":10624.581096634203},{"$f":"O36-O37","v":10624.581096634203},{"$f":"P36-P37","v":10624.581096634203},{"$f":"Q36-Q37","v":10624.581096634203},{"$f":"R36-R37","v":10624.581096634203},{"$f":"S36-S37","v":10624.581096634203},{"$f":"T36-T37","v":10624.581096634203},{"$f":"U36-U37","v":10624.581096634203},{"$f":"V36-V37","v":10624.581096634203},{"$f":"W36-W37","v":10624.581096634203},{"$f":"X36-X37","v":10624.581096634203},{"$f":"Y36-Y37","v":10624.581096634203},{"$f":"Z36-Z37","v":10624.581096634203},{"$f":"AA36-AA37","v":10624.581096634203},{"$f":"AB36-AB37","v":10624.581096634203},{"$f":"AC36-AC37","v":10624.581096634203},{"$f":"AD36-AD37","v":10624.581096634203},{"$f":"AE36-AE37","v":10624.581096634203},{"$f":"AF36-AF37","v":10624.581096634203},{"$f":"AG36-AG37","v":10624.581096634203},{"$f":"AH36-AH37","v":10624.581096634203},{"$f":"AI36-AI37","v":10624.581096634203},{"$f":"AJ36-AJ37","v":10624.581096634203},{"$f":"AK36-AK37","v":10624.581096634203},{"$f":"AL36-AL37","v":10624.581096634203}]
[null,"Banana","Área (ha)",{"$f":"'Painel de Controle'!$C$31*'Resultados Cultivos'!D$3","v":0},{"$f":"'Painel de Controle'!$C$31*'Resultados Cultivos'!E$3","v":0},{"$f":"'Painel de Controle'!$C$31*'Resultados Cultivos'!F$3","v":0},{"$f":"'Painel de Controle'!$C$31*'Resultados Cultivos'!G$3","v":1495.8280000000002},{"$f":"'Painel de Controle'!$C$31*'Resultados Cultivos'!H$3","v":2559.364},{"$f":"'Painel de Controle'!$C$31*'Resultados Cultivos'!I$3","v":3366.9639999999999},{"$f":"'Painel de Controle'!$C$31*'Resultados Cultivos'!J$3","v":3805.9400000000005},{"$f":"'Painel de Controle'!$C$31*'Resultados Cultivos'!K$3","v":4095.2720000000004},{"$f":"'Painel de Controle'!$C$31*'Resultados Cultivos'!L$3","v":4095.2720000000004},{"$f":"'Painel de Controle'!$C$31*'Resultados Cultivos'!M$3","v":4095.2720000000004},{"$f":"'Painel de Controle'!$C$31*'Resultados Cultivos'!N$3","v":4095.2720000000004},{"$f":"'Painel de Controle'!$C$31*'Resultados Cultivos'!O$3","v":4095.2720000000004},{"$f":"'Painel de Controle'!$C$31*'Resultados Cultivos'!P$3","v":4095.2720000000004},{"$f":"'Painel de Controle'!$C$31*'Resultados Cultivos'!Q$3","v":4095.2720000000004},{"$f":"'Painel de Controle'!$C$31*'Resultados Cultivos'!R$3","v":4095.2720000000004},{"$f":"'Painel de Controle'!$C$31*'Resultados Cultivos'!S$3","v":4095.2720000000004},{"$f":"'Painel de Controle'!$C$31*'Resultados Cultivos'!T$3","v":4095.2720000000004},{"$f":"'Painel de Controle'!$C$31*'Resultados Cultivos'!U$3","v":4095.2720000000004},{"$f":"'Painel de Controle'!$C$31*'Resultados Cultivos'!V$3","v":4095.2720000000004},{"$f":"'Painel de Controle'!$C$31*'Resultados Cultivos'!W$3","v":4095.2720000000004},{"$f":"'Painel de Controle'!$C$31*'Resultados Cultivos'!X$3","v":4095.2720000000004},{"$f":"'Painel de Controle'!$C$31*'Resultados Cultivos'!Y$3","v":4095.2720000000004},{"$f":"'Painel de Controle'!$C$31*'Resultados Cultivos'!Z$3","v":4095.2720000000004},{"$f":"'Painel de Controle'!$C$31*'Resultados Cultivos'!AA$3","v":4095.2720000000004},{"$f":"'Painel de Controle'!$C$31*'Resultados Cultivos'!AB$3","v":4095.2720000000004},{"$f":"'Painel de Controle'!$C$31*'Resultados Cultivos'!AC$3","v":4095.2720000000004},{"$f":"'Painel de Controle'!$C$31*'Resultados Cultivos'!AD$3","v":4095.2720000000004},{"$f":"'Painel de Controle'!$C$31*'Resultados Cultivos'!AE$3","v":4095.2720000000004},{"$f":"'Painel de Controle'!$C$31*'Resultados Cultivos'!AF$3","v":4095.2720000000004},{"$f":"'Painel de Controle'!$C$31*'Resultados Cultivos'!AG$3","v":4095.2720000000004},{"$f":"'Painel de Controle'!$C$31*'Resultados Cultivos'!AH$3","v":4095.2720000000004},{"$f":"'Painel de Controle'!$C$31*'Resultados Cultivos'!AI$3","v":4095.2720000000004},{"$f":"'Painel de Controle'!$C$31*'Resultados Cultivos'!AJ$3","v":4095.2720000000004},{"$f":"'Painel de Controle'!$C$31*'Resultados Cultivos'!AK$3","v":4095.2720000000004},{"$f":"'Painel de Controle'!$C$31*'Resultados Cultivos'!AL$3","v":4095.2720000000004}]
[null,null,"Produção (t)",{"$f":"'Rentabilidade Cultivos'!$AD$54*'Resultados Cultivos'!D39/1000","v":0},{"$f":"'Rentabilidade Cultivos'!$AD$54*'Resultados Cultivos'!E39/1000","v":0},{"$f":"'Rentabilidade Cultivos'!$AD$54*'Resultados Cultivos'!F39/1000","v":0},{"$f":"'Rentabilidade Cultivos'!$AD$54*'Resultados Cultivos'!G39/1000","v":34404.044000000009},{"$f":"'Rentabilidade Cultivos'!$AD$54*'Resultados Cultivos'!H39/1000","v":58865.372000000003},{"$f":"'Rentabilidade Cultivos'!$AD$54*'Resultados Cultivos'!I39/1000","v":77440.172000000006},{"$f":"'Rentabilidade Cultivos'!$AD$54*'Resultados Cultivos'!J39/1000","v":87536.62000000001},{"$f":"'Rentabilidade Cultivos'!$AD$54*'Resultados Cultivos'!K39/1000","v":94191.256000000008},{"$f":"'Rentabilidade Cultivos'!$AD$54*'Resultados Cultivos'!L39/1000","v":94191.256000000008},{"$f":"'Rentabilidade Cultivos'!$AD$54*'Resultados Cultivos'!M39/1000","v":94191.256000000008},{"$f":"'Rentabilidade Cultivos'!$AD$54*'Resultados Cultivos'!N39/1000","v":94191.256000000008},{"$f":"'Rentabilidade Cultivos'!$AD$54*'Resultados Cultivos'!O39/1000","v":94191.256000000008},{"$f":"'Rentabilidade Cultivos'!$AD$54*'Resultados Cultivos'!P39/1000","v":94191.256000000008},{"$f":"'Rentabilidade Cultivos'!$AD$54*'Resultados Cultivos'!Q39/1000","v":94191.256000000008},{"$f":"'Rentabilidade Cultivos'!$AD$54*'Resultados Cultivos'!R39/1000","v":94191.256000000008},{"$f":"'Rentabilidade Cultivos'!$AD$54*'Resultados Cultivos'!S39/1000","v":94191.256000000008},{"$f":"'Rentabilidade Cultivos'!$AD$54*'Resultados Cultivos'!T39/1000","v":94191.256000000008},{"$f":"'Rentabilidade Cultivos'!$AD$54*'Resultados Cultivos'!U39/1000","v":94191.256000000008},{"$f":"'Rentabilidade Cultivos'!$AD$54*'Resultados Cultivos'!V39/1000","v":94191.256000000008},{"$f":"'Rentabilidade Cultivos'!$AD$54*'Resultados Cultivos'!W39/1000","v":94191.256000000008},{"$f":"'Rentabilidade Cultivos'!$AD$54*'Resultados Cultivos'!X39/1000","v":94191.256000000008},{"$f":"'Rentabilidade Cultivos'!$AD$54*'Resultados Cultivos'!Y39/1000","v":94191.256000000008},{"$f":"'Rentabilidade Cultivos'!$AD$54*'Resultados Cultivos'!Z39/1000","v":94191.256000000008},{"$f":"'Rentabilidade Cultivos'!$AD$54*'Resultados Cultivos'!AA39/1000","v":94191.256000000008},{"$f":"'Rentabilidade Cultivos'!$AD$54*'Resultados Cultivos'!AB39/1000","v":94191.256000000008},{"$f":"'Rentabilidade Cultivos'!$AD$54*'Resultados Cultivos'!AC39/1000","v":94191.256000000008},{"$f":"'Rentabilidade Cultivos'!$AD$54*'Resultados Cultivos'!AD39/1000","v":94191.256000000008},{"$f":"'Rentabilidade Cultivos'!$AD$54*'Resultados Cultivos'!AE39/1000","v":94191.256000000008},{"$f":"'Rentabilidade Cultivos'!$AD$54*'Resultados Cultivos'!AF39/1000","v":94191.256000000008},{"$f":"'Rentabilidade Cultivos'!$AD$54*'Resultados Cultivos'!AG39/1000","v":94191.256000000008},{"$f":"'Rentabilidade Cultivos'!$AD$54*'Resultados Cultivos'!AH39/1000","v":94191.256000000008},{"$f":"'Rentabilidade Cultivos'!$AD$54*'Resultados Cultivos'!AI39/1000","v":94191.256000000008},{"$f":"'Rentabilidade Cultivos'!$AD$54*'Resultados Cultivos'!AJ39/1000","v":94191.256000000008},{"$f":"'Rentabilidade Cultivos'!$AD$54*'Resultados Cultivos'!AK39/1000","v":94191.256000000008},{"$f":"'Rentabilidade Cultivos'!$AD$54*'Resultados Cultivos'!AL39/1000","v":94191.256000000008}]
[null,null,"Faturamento (R$ mil)",{"$f":"D40*'Rentabilidade Cultivos'!$AD$55","v":0},{"$f":"E40*'Rentabilidade Cultivos'!$AD$55","v":0},{"$f":"F40*'Rentabilidade Cultivos'!$AD$55","v":0},{"$f":"G40*'Rentabilidade Cultivos'!$AD$55","v":74312.735040000029},{"$f":"H40*'Rentabilidade Cultivos'!$AD$55","v":127149.20352000001},{"$f":"I40*'Rentabilidade Cultivos'!$AD$55","v":167270.77152000001},{"$f":"J40*'Rentabilidade Cultivos'!$AD$55","v":189079.09920000003},{"$f":"K40*'Rentabilidade Cultivos'!$AD$55","v":203453.11296000003},{"$f":"L40*'Rentabilidade Cultivos'!$AD$55","v":203453.11296000003},{"$f":"M40*'Rentabilidade Cultivos'!$AD$55","v":203453.11296000003},{"$f":"N40*'Rentabilidade Cultivos'!$AD$55","v":203453.11296000003},{"$f":"O40*'Rentabilidade Cultivos'!$AD$55","v":203453.11296000003},{"$f":"P40*'Rentabilidade Cultivos'!$AD$55","v":203453.11296000003},{"$f":"Q40*'Rentabilidade Cultivos'!$AD$55","v":203453.11296000003},{"$f":"R40*'Rentabilidade Cultivos'!$AD$55","v":203453.11296000003},{"$f":"S40*'Rentabilidade Cultivos'!$AD$55","v":203453.11296000003},{"$f":"T40*'Rentabilidade Cultivos'!$AD$55","v":203453.11296000003},{"$f":"U40*'Rentabilidade Cultivos'!$AD$55","v":203453.11296000003},{"$f":"V40*'Rentabilidade Cultivos'!$AD$55","v":203453.11296000003},{"$f":"W40*'Rentabilidade Cultivos'!$AD$55","v":203453.11296000003},{"$f":"X40*'Rentabilidade Cultivos'!$AD$55","v":203453.11296000003},{"$f":"Y40*'Rentabilidade Cultivos'!$AD$55","v":203453.11296000003},{"$f":"Z40*'Rentabilidade Cultivos'!$AD$55","v":203453.11296000003},{"$f":"AA40*'Rentabilidade Cultivos'!$AD$55","v":203453.11296000003},{"$f":"AB40*'Rentabilidade Cultivos'!$AD$55","v":203453.11296000003},{"$f":"AC40*'Rentabilidade Cultivos'!$AD$55","v":203453.11296000003},{"$f":"AD40*'Rentabilidade Cultivos'!$AD$55","v":203453.11296000003},{"$f":"AE40*'Rentabilidade Cultivos'!$AD$55","v":203453.11296000003},{"$f":"AF40*'Rentabilidade Cultivos'!$AD$55","v":203453.11296000003},{"$f":"AG40*'Rentabilidade Cultivos'!$AD$55","v":203453.11296000003},{"$f":"AH40*'Rentabilidade Cultivos'!$AD$55","v":203453.11296000003},{"$f":"AI40*'Rentabilidade Cultivos'!$AD$55","v":203453.11296000003},{"$f":"AJ40*'Rentabilidade Cultivos'!$AD$55","v":203453.11296000003},{"$f":"AK40*'Rentabilidade Cultivos'!$AD$55","v":203453.11296000003},{"$f":"AL40*'Rentabilidade Cultivos'!$AD$55","v":203453.11296000003}]
[null,null,"Custo direto (R$ mil)",{"$f":"D39*'Rentabilidade Cultivos'!$AD$57/1000","v":0},{"$f":"E39*'Rentabilidade Cultivos'!$AD$57/1000","v":0},{"$f":"F39*'Rentabilidade Cultivos'!$AD$57/1000","v":0},{"$f":"G39*'Rentabilidade Cultivos'!$AD$57/1000","v":34135.207958110812},{"$f":"H39*'Rentabilidade Cultivos'!$AD$57/1000","v":58405.393120400404},{"$f":"I39*'Rentabilidade Cultivos'!$AD$57/1000","v":76835.04809876041},{"$f":"J39*'Rentabilidade Cultivos'!$AD$57/1000","v":86852.601620034024},{"$f":"K39*'Rentabilidade Cultivos'!$AD$57/1000","v":93455.237744599217},{"$f":"L39*'Rentabilidade Cultivos'!$AD$57/1000","v":93455.237744599217},{"$f":"M39*'Rentabilidade Cultivos'!$AD$57/1000","v":93455.237744599217},{"$f":"N39*'Rentabilidade Cultivos'!$AD$57/1000","v":93455.237744599217},{"$f":"O39*'Rentabilidade Cultivos'!$AD$57/1000","v":93455.237744599217},{"$f":"P39*'Rentabilidade Cultivos'!$AD$57/1000","v":93455.237744599217},{"$f":"Q39*'Rentabilidade Cultivos'!$AD$57/1000","v":93455.237744599217},{"$f":"R39*'Rentabilidade Cultivos'!$AD$57/1000","v":93455.237744599217},{"$f":"S39*'Rentabilidade Cultivos'!$AD$57/1000","v":93455.237744599217},{"$f":"T39*'Rentabilidade Cultivos'!$AD$57/1000","v":93455.237744599217},{"$f":"U39*'Rentabilidade Cultivos'!$AD$57/1000","v":93455.237744599217},{"$f":"V39*'Rentabilidade Cultivos'!$AD$57/1000","v":93455.237744599217},{"$f":"W39*'Rentabilidade Cultivos'!$AD$57/1000","v":93455.237744599217},{"$f":"X39*'Rentabilidade Cultivos'!$AD$57/1000","v":93455.237744599217},{"$f":"Y39*'Rentabilidade Cultivos'!$AD$57/1000","v":93455.237744599217},{"$f":"Z39*'Rentabilidade Cultivos'!$AD$57/1000","v":93455.237744599217},{"$f":"AA39*'Rentabilidade Cultivos'!$AD$57/1000","v":93455.237744599217},{"$f":"AB39*'Rentabilidade Cultivos'!$AD$57/1000","v":93455.237744599217},{"$f":"AC39*'Rentabilidade Cultivos'!$AD$57/1000","v":93455.237744599217},{"$f":"AD39*'Rentabilidade Cultivos'!$AD$57/1000","v":93455.237744599217},{"$f":"AE39*'Rentabilidade Cultivos'!$AD$57/1000","v":93455.237744599217},{"$f":"AF39*'Rentabilidade Cultivos'!$AD$57/1000","v":93455.237744599217},{"$f":"AG39*'Rentabilidade Cultivos'!$AD$57/1000","v":93455.237744599217},{"$f":"AH39*'Rentabilidade Cultivos'!$AD$57/1000","v":93455.237744599217},{"$f":"AI39*'Rentabilidade Cultivos'!$AD$57/1000","v":93455.237744599217},{"$f":"AJ39*'Rentabilidade Cultivos'!$AD$57/1000","v":93455.237744599217},{"$f":"AK39*'Rentabilidade Cultivos'!$AD$57/1000","v":93455.237744599217},{"$f":"AL39*'Rentabilidade Cultivos'!$AD$57/1000","v":93455.237744599217}]
[null,null,"Resultado (R$ mil)",{"$f":"D41-D42","v":0},{"$f":"E41-E42","v":0},{"$f":"F41-F42","v":0},{"$f":"G41-G42","v":40177.527081889217},{"$f":"H41-H42","v":68743.810399599606},{"$f":"I41-I42","v":90435.7234212396},{"$f":"J41-J42","v":102226.497579966},{"$f":"K41-K42","v":109997.87521540081},{"$f":"L41-L42","v":109997.87521540081},{"$f":"M41-M42","v":109997.87521540081},{"$f":"N41-N42","v":109997.87521540081},{"$f":"O41-O42","v":109997.87521540081},{"$f":"P41-P42","v":109997.87521540081},{"$f":"Q41-Q42","v":109997.87521540081},{"$f":"R41-R42","v":109997.87521540081},{"$f":"S41-S42","v":109997.87521540081},{"$f":"T41-T42","v":109997.87521540081},{"$f":"U41-U42","v":109997.87521540081},{"$f":"V41-V42","v":109997.87521540081},{"$f":"W41-W42","v":109997.87521540081},{"$f":"X41-X42","v":109997.87521540081},{"$f":"Y41-Y42","v":109997.87521540081},{"$f":"Z41-Z42","v":109997.87521540081},{"$f":"AA41-AA42","v":109997.87521540081},{"$f":"AB41-AB42","v":109997.87521540081},{"$f":"AC41-AC42","v":109997.87521540081},{"$f":"AD41-AD42","v":109997.87521540081},{"$f":"AE41-AE42","v":109997.87521540081},{"$f":"AF41-AF42","v":109997.87521540081},{"$f":"AG41-AG42","v":109997.87521540081},{"$f":"AH41-AH42","v":109997.87521540081},{"$f":"AI41-AI42","v":109997.87521540081},{"$f":"AJ41-AJ42","v":109997.87521540081},{"$f":"AK41-AK42","v":109997.87521540081},{"$f":"AL41-AL42","v":109997.87521540081}]
[null,"Coco","Área (ha)",{"$f":"'Painel de Controle'!$C$32*'Resultados Cultivos'!D$3","v":0},{"$f":"'Painel de Controle'!$C$32*'Resultados Cultivos'!E$3","v":0},{"$f":"'Painel de Controle'!$C$32*'Resultados Cultivos'!F$3","v":0},{"$f":"'Painel de Controle'!$C$32*'Resultados Cultivos'!G$3","v":373.95700000000005},{"$f":"'Painel de Controle'!$C$32*'Resultados Cultivos'!H$3","v":639.84100000000001},{"$f":"'Painel de Controle'!$C$32*'Resultados Cultivos'!I$3","v":841.74099999999999},{"$f":"'Painel de Controle'!$C$32*'Resultados Cultivos'!J$3","v":951.48500000000013},{"$f":"'Painel de Controle'!$C$32*'Resultados Cultivos'!K$3","v":1023.8180000000001},{"$f":"'Painel de Controle'!$C$32*'Resultados Cultivos'!L$3","v":1023.8180000000001},{"$f":"'Painel de Controle'!$C$32*'Resultados Cultivos'!M$3","v":1023.8180000000001},{"$f":"'Painel de Controle'!$C$32*'Resultados Cultivos'!N$3","v":1023.8180000000001},{"$f":"'Painel de Controle'!$C$32*'Resultados Cultivos'!O$3","v":1023.8180000000001},{"$f":"'Painel de Controle'!$C$32*'Resultados Cultivos'!P$3","v":1023.8180000000001},{"$f":"'Painel de Controle'!$C$32*'Resultados Cultivos'!Q$3","v":1023.8180000000001},{"$f":"'Painel de Controle'!$C$32*'Resultados Cultivos'!R$3","v":1023.8180000000001},{"$f":"'Painel de Controle'!$C$32*'Resultados Cultivos'!S$3","v":1023.8180000000001},{"$f":"'Painel de Controle'!$C$32*'Resultados Cultivos'!T$3","v":1023.8180000000001},{"$f":"'Painel de Controle'!$C$32*'Resultados Cultivos'!U$3","v":1023.8180000000001},{"$f":"'Painel de Controle'!$C$32*'Resultados Cultivos'!V$3","v":1023.8180000000001},{"$f":"'Painel de Controle'!$C$32*'Resultados Cultivos'!W$3","v":1023.8180000000001},{"$f":"'Painel de Controle'!$C$32*'Resultados Cultivos'!X$3","v":1023.8180000000001},{"$f":"'Painel de Controle'!$C$32*'Resultados Cultivos'!Y$3","v":1023.8180000000001},{"$f":"'Painel de Controle'!$C$32*'Resultados Cultivos'!Z$3","v":1023.8180000000001},{"$f":"'Painel de Controle'!$C$32*'Resultados Cultivos'!AA$3","v":1023.8180000000001},{"$f":"'Painel de Controle'!$C$32*'Resultados Cultivos'!AB$3","v":1023.8180000000001},{"$f":"'Painel de Controle'!$C$32*'Resultados Cultivos'!AC$3","v":1023.8180000000001},{"$f":"'Painel de Controle'!$C$32*'Resultados Cultivos'!AD$3","v":1023.8180000000001},{"$f":"'Painel de Controle'!$C$32*'Resultados Cultivos'!AE$3","v":1023.8180000000001},{"$f":"'Painel de Controle'!$C$32*'Resultados Cultivos'!AF$3","v":1023.8180000000001},{"$f":"'Painel de Controle'!$C$32*'Resultados Cultivos'!AG$3","v":1023.8180000000001},{"$f":"'Painel de Controle'!$C$32*'Resultados Cultivos'!AH$3","v":1023.8180000000001},{"$f":"'Painel de Controle'!$C$32*'Resultados Cultivos'!AI$3","v":1023.8180000000001},{"$f":"'Painel de Controle'!$C$32*'Resultados Cultivos'!AJ$3","v":1023.8180000000001},{"$f":"'Painel de Controle'!$C$32*'Resultados Cultivos'!AK$3","v":1023.8180000000001},{"$f":"'Painel de Controle'!$C$32*'Resultados Cultivos'!AL$3","v":1023.8180000000001}]
[null,null,"Produção (t)",{"$f":"'Rentabilidade Cultivos'!$AD$59*'Resultados Cultivos'!D44/1000","v":0},{"$f":"'Rentabilidade Cultivos'!$AD$59*'Resultados Cultivos'!E44/1000","v":0},{"$f":"'Rentabilidade Cultivos'!$AD$59*'Resultados Cultivos'!F44/1000","v":0},{"$f":"'Rentabilidade Cultivos'!$AD$59*'Resultados Cultivos'!G44/1000","v":12200.347125000002},{"$f":"'Rentabilidade Cultivos'!$AD$59*'Resultados Cultivos'!H44/1000","v":20874.812624999999},{"$f":"'Rentabilidade Cultivos'!$AD$59*'Resultados Cultivos'!I44/1000","v":27461.800125000002},{"$f":"'Rentabilidade Cultivos'!$AD$59*'Resultados Cultivos'!J44/1000","v":31042.198125000003},{"$f":"'Rentabilidade Cultivos'!$AD$59*'Resultados Cultivos'!K44/1000","v":33402.062250000003},{"$f":"'Rentabilidade Cultivos'!$AD$59*'Resultados Cultivos'!L44/1000","v":33402.062250000003},{"$f":"'Rentabilidade Cultivos'!$AD$59*'Resultados Cultivos'!M44/1000","v":33402.062250000003},{"$f":"'Rentabilidade Cultivos'!$AD$59*'Resultados Cultivos'!N44/1000","v":33402.062250000003},{"$f":"'Rentabilidade Cultivos'!$AD$59*'Resultados Cultivos'!O44/1000","v":33402.062250000003},{"$f":"'Rentabilidade Cultivos'!$AD$59*'Resultados Cultivos'!P44/1000","v":33402.062250000003},{"$f":"'Rentabilidade Cultivos'!$AD$59*'Resultados Cultivos'!Q44/1000","v":33402.062250000003},{"$f":"'Rentabilidade Cultivos'!$AD$59*'Resultados Cultivos'!R44/1000","v":33402.062250000003},{"$f":"'Rentabilidade Cultivos'!$AD$59*'Resultados Cultivos'!S44/1000","v":33402.062250000003},{"$f":"'Rentabilidade Cultivos'!$AD$59*'Resultados Cultivos'!T44/1000","v":33402.062250000003},{"$f":"'Rentabilidade Cultivos'!$AD$59*'Resultados Cultivos'!U44/1000","v":33402.062250000003},{"$f":"'Rentabilidade Cultivos'!$AD$59*'Resultados Cultivos'!V44/1000","v":33402.062250000003},{"$f":"'Rentabilidade Cultivos'!$AD$59*'Resultados Cultivos'!W44/1000","v":33402.062250000003},{"$f":"'Rentabilidade Cultivos'!$AD$59*'Resultados Cultivos'!X44/1000","v":33402.062250000003},{"$f":"'Rentabilidade Cultivos'!$AD$59*'Resultados Cultivos'!Y44/1000","v":33402.062250000003},{"$f":"'Rentabilidade Cultivos'!$AD$59*'Resultados Cultivos'!Z44/1000","v":33402.062250000003},{"$f":"'Rentabilidade Cultivos'!$AD$59*'Resultados Cultivos'!AA44/1000","v":33402.062250000003},{"$f":"'Rentabilidade Cultivos'!$AD$59*'Resultados Cultivos'!AB44/1000","v":33402.062250000003},{"$f":"'Rentabilidade Cultivos'!$AD$59*'Resultados Cultivos'!AC44/1000","v":33402.062250000003},{"$f":"'Rentabilidade Cultivos'!$AD$59*'Resultados Cultivos'!AD44/1000","v":33402.062250000003},{"$f":"'Rentabilidade Cultivos'!$AD$59*'Resultados Cultivos'!AE44/1000","v":33402.062250000003},{"$f":"'Rentabilidade Cultivos'!$AD$59*'Resultados Cultivos'!AF44/1000","v":33402.062250000003},{"$f":"'Rentabilidade Cultivos'!$AD$59*'Resultados Cultivos'!AG44/1000","v":33402.062250000003},{"$f":"'Rentabilidade Cultivos'!$AD$59*'Resultados Cultivos'!AH44/1000","v":33402.062250000003},{"$f":"'Rentabilidade Cultivos'!$AD$59*'Resultados Cultivos'!AI44/1000","v":33402.062250000003},{"$f":"'Rentabilidade Cultivos'!$AD$59*'Resultados Cultivos'!AJ44/1000","v":33402.062250000003},{"$f":"'Rentabilidade Cultivos'!$AD$59*'Resultados Cultivos'!AK44/1000","v":33402.062250000003},{"$f":"'Rentabilidade Cultivos'!$AD$59*'Resultados Cultivos'!AL44/1000","v":33402.062250000003}]
[null,null,"Faturamento (R$ mil)",{"$f":"D45*'Rentabilidade Cultivos'!$AD$60","v":0},{"$f":"E45*'Rentabilidade Cultivos'!$AD$60","v":0},{"$f":"F45*'Rentabilidade Cultivos'!$AD$60","v":0},{"$f":"G45*'Rentabilidade Cultivos'!$AD$60","v":12200.347125000002},{"$f":"H45*'Rentabilidade Cultivos'!$AD$60","v":20874.812624999999},{"$f":"I45*'Rentabilidade Cultivos'!$AD$60","v":27461.800125000002},{"$f":"J45*'Rentabilidade Cultivos'!$AD$60","v":31042.198125000003},{"$f":"K45*'Rentabilidade Cultivos'!$AD$60","v":33402.062250000003},{"$f":"L45*'Rentabilidade Cultivos'!$AD$60","v":33402.062250000003},{"$f":"M45*'Rentabilidade Cultivos'!$AD$60","v":33402.062250000003},{"$f":"N45*'Rentabilidade Cultivos'!$AD$60","v":33402.062250000003},{"$f":"O45*'Rentabilidade Cultivos'!$AD$60","v":33402.062250000003},{"$f":"P45*'Rentabilidade Cultivos'!$AD$60","v":33402.062250000003},{"$f":"Q45*'Rentabilidade Cultivos'!$AD$60","v":33402.062250000003},{"$f":"R45*'Rentabilidade Cultivos'!$AD$60","v":33402.062250000003},{"$f":"S45*'Rentabilidade Cultivos'!$AD$60","v":33402.062250000003},{"$f":"T45*'Rentabilidade Cultivos'!$AD$60","v":33402.062250000003},{"$f":"U45*'Rentabilidade Cultivos'!$AD$60","v":33402.062250000003},{"$f":"V45*'Rentabilidade Cultivos'!$AD$60","v":33402.062250000003},{"$f":"W45*'Rentabilidade Cultivos'!$AD$60","v":33402.062250000003},{"$f":"X45*'Rentabilidade Cultivos'!$AD$60","v":33402.062250000003},{"$f":"Y45*'Rentabilidade Cultivos'!$AD$60","v":33402.062250000003},{"$f":"Z45*'Rentabilidade Cultivos'!$AD$60","v":33402.062250000003},{"$f":"AA45*'Rentabilidade Cultivos'!$AD$60","v":33402.062250000003},{"$f":"AB45*'Rentabilidade Cultivos'!$AD$60","v":33402.062250000003},{"$f":"AC45*'Rentabilidade Cultivos'!$AD$60","v":33402.062250000003},{"$f":"AD45*'Rentabilidade Cultivos'!$AD$60","v":33402.062250000003},{"$f":"AE45*'Rentabilidade Cultivos'!$AD$60","v":33402.062250000003},{"$f":"AF45*'Rentabilidade Cultivos'!$AD$60","v":33402.062250000003},{"$f":"AG45*'Rentabilidade Cultivos'!$AD$60","v":33402.062250000003},{"$f":"AH45*'Rentabilidade Cultivos'!$AD$60","v":33402.062250000003},{"$f":"AI45*'Rentabilidade Cultivos'!$AD$60","v":33402.062250000003},{"$f":"AJ45*'Rentabilidade Cultivos'!$AD$60","v":33402.062250000003},{"$f":"AK45*'Rentabilidade Cultivos'!$AD$60","v":33402.062250000003},{"$f":"AL45*'Rentabilidade Cultivos'!$AD$60","v":33402.062250000003}]
[null,null,"Custo direto (R$ mil)",{"$f":"D44*'Rentabilidade Cultivos'!$AD$62/1000","v":0},{"$f":"E44*'Rentabilidade Cultivos'!$AD$62/1000","v":0},{"$f":"F44*'Rentabilidade Cultivos'!$AD$62/1000","v":0},{"$f":"G44*'Rentabilidade Cultivos'!$AD$62/1000","v":5290.5086460956627},{"$f":"H44*'Rentabilidade Cultivos'!$AD$62/1000","v":9052.0683999136108},{"$f":"I44*'Rentabilidade Cultivos'!$AD$62/1000","v":11908.422728477361},{"$f":"J44*'Rentabilidade Cultivos'!$AD$62/1000","v":13461.011878719562},{"$f":"K44*'Rentabilidade Cultivos'!$AD$62/1000","v":14484.333709566525},{"$f":"L44*'Rentabilidade Cultivos'!$AD$62/1000","v":14484.333709566525},{"$f":"M44*'Rentabilidade Cultivos'!$AD$62/1000","v":14484.333709566525},{"$f":"N44*'Rentabilidade Cultivos'!$AD$62/1000","v":14484.333709566525},{"$f":"O44*'Rentabilidade Cultivos'!$AD$62/1000","v":14484.333709566525},{"$f":"P44*'Rentabilidade Cultivos'!$AD$62/1000","v":14484.333709566525},{"$f":"Q44*'Rentabilidade Cultivos'!$AD$62/1000","v":14484.333709566525},{"$f":"R44*'Rentabilidade Cultivos'!$AD$62/1000","v":14484.333709566525},{"$f":"S44*'Rentabilidade Cultivos'!$AD$62/1000","v":14484.333709566525},{"$f":"T44*'Rentabilidade Cultivos'!$AD$62/1000","v":14484.333709566525},{"$f":"U44*'Rentabilidade Cultivos'!$AD$62/1000","v":14484.333709566525},{"$f":"V44*'Rentabilidade Cultivos'!$AD$62/1000","v":14484.333709566525},{"$f":"W44*'Rentabilidade Cultivos'!$AD$62/1000","v":14484.333709566525},{"$f":"X44*'Rentabilidade Cultivos'!$AD$62/1000","v":14484.333709566525},{"$f":"Y44*'Rentabilidade Cultivos'!$AD$62/1000","v":14484.333709566525},{"$f":"Z44*'Rentabilidade Cultivos'!$AD$62/1000","v":14484.333709566525},{"$f":"AA44*'Rentabilidade Cultivos'!$AD$62/1000","v":14484.333709566525},{"$f":"AB44*'Rentabilidade Cultivos'!$AD$62/1000","v":14484.333709566525},{"$f":"AC44*'Rentabilidade Cultivos'!$AD$62/1000","v":14484.333709566525},{"$f":"AD44*'Rentabilidade Cultivos'!$AD$62/1000","v":14484.333709566525},{"$f":"AE44*'Rentabilidade Cultivos'!$AD$62/1000","v":14484.333709566525},{"$f":"AF44*'Rentabilidade Cultivos'!$AD$62/1000","v":14484.333709566525},{"$f":"AG44*'Rentabilidade Cultivos'!$AD$62/1000","v":14484.333709566525},{"$f":"AH44*'Rentabilidade Cultivos'!$AD$62/1000","v":14484.333709566525},{"$f":"AI44*'Rentabilidade Cultivos'!$AD$62/1000","v":14484.333709566525},{"$f":"AJ44*'Rentabilidade Cultivos'!$AD$62/1000","v":14484.333709566525},{"$f":"AK44*'Rentabilidade Cultivos'!$AD$62/1000","v":14484.333709566525},{"$f":"AL44*'Rentabilidade Cultivos'!$AD$62/1000","v":14484.333709566525}]
[null,null,"Resultado (R$ mil)",{"$f":"D46-D47","v":0},{"$f":"E46-E47","v":0},{"$f":"F46-F47","v":0},{"$f":"G46-G47","v":6909.8384789043394},{"$f":"H46-H47","v":11822.744225086388},{"$f":"I46-I47","v":15553.377396522641},{"$f":"J46-J47","v":17581.186246280442},{"$f":"K46-K47","v":18917.728540433476},{"$f":"L46-L47","v":18917.728540433476},{"$f":"M46-M47","v":18917.728540433476},{"$f":"N46-N47","v":18917.728540433476},{"$f":"O46-O47","v":18917.728540433476},{"$f":"P46-P47","v":18917.728540433476},{"$f":"Q46-Q47","v":18917.728540433476},{"$f":"R46-R47","v":18917.728540433476},{"$f":"S46-S47","v":18917.728540433476},{"$f":"T46-T47","v":18917.728540433476},{"$f":"U46-U47","v":18917.728540433476},{"$f":"V46-V47","v":18917.728540433476},{"$f":"W46-W47","v":18917.728540433476},{"$f":"X46-X47","v":18917.728540433476},{"$f":"Y46-Y47","v":18917.728540433476},{"$f":"Z46-Z47","v":18917.728540433476},{"$f":"AA46-AA47","v":18917.728540433476},{"$f":"AB46-AB47","v":18917.728540433476},{"$f":"AC46-AC47","v":18917.728540433476},{"$f":"AD46-AD47","v":18917.728540433476},{"$f":"AE46-AE47","v":18917.728540433476},{"$f":"AF46-AF47","v":18917.728540433476},{"$f":"AG46-AG47","v":18917.728540433476},{"$f":"AH46-AH47","v":18917.728540433476},{"$f":"AI46-AI47","v":18917.728540433476},{"$f":"AJ46-AJ47","v":18917.728540433476},{"$f":"AK46-AK47","v":18917.728540433476},{"$f":"AL46-AL47","v":18917.728540433476}]
[null,"Goiaba","Área (ha)",{"$f":"'Painel de Controle'!$C$33*'Resultados Cultivos'!D$3","v":0},{"$f":"'Painel de Controle'!$C$33*'Resultados Cultivos'!E$3","v":0},{"$f":"'Painel de Controle'!$C$33*'Resultados Cultivos'!F$3","v":0},{"$f":"'Painel de Controle'!$C$33*'Resultados Cultivos'!G$3","v":373.95700000000005},{"$f":"'Painel de Controle'!$C$33*'Resultados Cultivos'!H$3","v":639.84100000000001},{"$f":"'Painel de Controle'!$C$33*'Resultados Cultivos'!I$3","v":841.74099999999999},{"$f":"'Painel de Controle'!$C$33*'Resultados Cultivos'!J$3","v":951.48500000000013},{"$f":"'Painel de Controle'!$C$33*'Resultados Cultivos'!K$3","v":1023.8180000000001},{"$f":"'Painel de Controle'!$C$33*'Resultados Cultivos'!L$3","v":1023.8180000000001},{"$f":"'Painel de Controle'!$C$33*'Resultados Cultivos'!M$3","v":1023.8180000000001},{"$f":"'Painel de Controle'!$C$33*'Resultados Cultivos'!N$3","v":1023.8180000000001},{"$f":"'Painel de Controle'!$C$33*'Resultados Cultivos'!O$3","v":1023.8180000000001},{"$f":"'Painel de Controle'!$C$33*'Resultados Cultivos'!P$3","v":1023.8180000000001},{"$f":"'Painel de Controle'!$C$33*'Resultados Cultivos'!Q$3","v":1023.8180000000001},{"$f":"'Painel de Controle'!$C$33*'Resultados Cultivos'!R$3","v":1023.8180000000001},{"$f":"'Painel de Controle'!$C$33*'Resultados Cultivos'!S$3","v":1023.8180000000001},{"$f":"'Painel de Controle'!$C$33*'Resultados Cultivos'!T$3","v":1023.8180000000001},{"$f":"'Painel de Controle'!$C$33*'Resultados Cultivos'!U$3","v":1023.8180000000001},{"$f":"'Painel de Controle'!$C$33*'Resultados Cultivos'!V$3","v":1023.8180000000001},{"$f":"'Painel de Controle'!$C$33*'Resultados Cultivos'!W$3","v":1023.8180000000001},{"$f":"'Painel de Controle'!$C$33*'Resultados Cultivos'!X$3","v":1023.8180000000001},{"$f":"'Painel de Controle'!$C$33*'Resultados Cultivos'!Y$3","v":1023.8180000000001},{"$f":"'Painel de Controle'!$C$33*'Resultados Cultivos'!Z$3","v":1023.8180000000001},{"$f":"'Painel de Controle'!$C$33*'Resultados Cultivos'!AA$3","v":1023.8180000000001},{"$f":"'Painel de Controle'!$C$33*'Resultados Cultivos'!AB$3","v":1023.8180000000001},{"$f":"'Painel de Controle'!$C$33*'Resultados Cultivos'!AC$3","v":1023.8180000000001},{"$f":"'Painel de Controle'!$C$33*'Resultados Cultivos'!AD$3","v":1023.8180000000001},{"$f":"'Painel de Controle'!$C$33*'Resultados Cultivos'!AE$3","v":1023.8180000000001},{"$f":"'Painel de Controle'!$C$33*'Resultados Cultivos'!AF$3","v":1023.8180000000001},{"$f":"'Painel de Controle'!$C$33*'Resultados Cultivos'!AG$3","v":1023.8180000000001},{"$f":"'Painel de Controle'!$C$33*'Resultados Cultivos'!AH$3","v":1023.8180000000001},{"$f":"'Painel de Controle'!$C$33*'Resultados Cultivos'!AI$3","v":1023.8180000000001},{"$f":"'Painel de Controle'!$C$33*'Resultados Cultivos'!AJ$3","v":1023.8180000000001},{"$f":"'Painel de Controle'!$C$33*'Resultados Cultivos'!AK$3","v":1023.8180000000001},{"$f":"'Painel de Controle'!$C$33*'Resultados Cultivos'!AL$3","v":1023.8180000000001}]
[null,null,"Produção (t)",{"$f":"'Rentabilidade Cultivos'!$AD$64*'Resultados Cultivos'!D49/1000","v":0},{"$f":"'Rentabilidade Cultivos'!$AD$64*'Resultados Cultivos'!E49/1000","v":0},{"$f":"'Rentabilidade Cultivos'!$AD$64*'Resultados Cultivos'!F49/1000","v":0},{"$f":"'Rentabilidade Cultivos'!$AD$64*'Resultados Cultivos'!G49/1000","v":8974.9680000000026},{"$f":"'Rentabilidade Cultivos'!$AD$64*'Resultados Cultivos'!H49/1000","v":15356.183999999999},{"$f":"'Rentabilidade Cultivos'!$AD$64*'Resultados Cultivos'!I49/1000","v":20201.784},{"$f":"'Rentabilidade Cultivos'!$AD$64*'Resultados Cultivos'!J49/1000","v":22835.640000000003},{"$f":"'Rentabilidade Cultivos'!$AD$64*'Resultados Cultivos'!K49/1000","v":24571.632000000005},{"$f":"'Rentabilidade Cultivos'!$AD$64*'Resultados Cultivos'!L49/1000","v":24571.632000000005},{"$f":"'Rentabilidade Cultivos'!$AD$64*'Resultados Cultivos'!M49/1000","v":24571.632000000005},{"$f":"'Rentabilidade Cultivos'!$AD$64*'Resultados Cultivos'!N49/1000","v":24571.632000000005},{"$f":"'Rentabilidade Cultivos'!$AD$64*'Resultados Cultivos'!O49/1000","v":24571.632000000005},{"$f":"'Rentabilidade Cultivos'!$AD$64*'Resultados Cultivos'!P49/1000","v":24571.632000000005},{"$f":"'Rentabilidade Cultivos'!$AD$64*'Resultados Cultivos'!Q49/1000","v":24571.632000000005},{"$f":"'Rentabilidade Cultivos'!$AD$64*'Resultados Cultivos'!R49/1000","v":24571.632000000005},{"$f":"'Rentabilidade Cultivos'!$AD$64*'Resultados Cultivos'!S49/1000","v":24571.632000000005},{"$f":"'Rentabilidade Cultivos'!$AD$64*'Resultados Cultivos'!T49/1000","v":24571.632000000005},{"$f":"'Rentabilidade Cultivos'!$AD$64*'Resultados Cultivos'!U49/1000","v":24571.632000000005},{"$f":"'Rentabilidade Cultivos'!$AD$64*'Resultados Cultivos'!V49/1000","v":24571.632000000005},{"$f":"'Rentabilidade Cultivos'!$AD$64*'Resultados Cultivos'!W49/1000","v":24571.632000000005},{"$f":"'Rentabilidade Cultivos'!$AD$64*'Resultados Cultivos'!X49/1000","v":24571.632000000005},{"$f":"'Rentabilidade Cultivos'!$AD$64*'Resultados Cultivos'!Y49/1000","v":24571.632000000005},{"$f":"'Rentabilidade Cultivos'!$AD$64*'Resultados Cultivos'!Z49/1000","v":24571.632000000005},{"$f":"'Rentabilidade Cultivos'!$AD$64*'Resultados Cultivos'!AA49/1000","v":24571.632000000005},{"$f":"'Rentabilidade Cultivos'!$AD$64*'Resultados Cultivos'!AB49/1000","v":24571.632000000005},{"$f":"'Rentabilidade Cultivos'!$AD$64*'Resultados Cultivos'!AC49/1000","v":24571.632000000005},{"$f":"'Rentabilidade Cultivos'!$AD$64*'Resultados Cultivos'!AD49/1000","v":24571.632000000005},{"$f":"'Rentabilidade Cultivos'!$AD$64*'Resultados Cultivos'!AE49/1000","v":24571.632000000005},{"$f":"'Rentabilidade Cultivos'!$AD$64*'Resultados Cultivos'!AF49/1000","v":24571.632000000005},{"$f":"'Rentabilidade Cultivos'!$AD$64*'Resultados Cultivos'!AG49/1000","v":24571.632000000005},{"$f":"'Rentabilidade Cultivos'!$AD$64*'Resultados Cultivos'!AH49/1000","v":24571.632000000005},{"$f":"'Rentabilidade Cultivos'!$AD$64*'Resultados Cultivos'!AI49/1000","v":24571.632000000005},{"$f":"'Rentabilidade Cultivos'!$AD$64*'Resultados Cultivos'!AJ49/1000","v":24571.632000000005},{"$f":"'Rentabilidade Cultivos'!$AD$64*'Resultados Cultivos'!AK49/1000","v":24571.632000000005},{"$f":"'Rentabilidade Cultivos'!$AD$64*'Resultados Cultivos'!AL49/1000","v":24571.632000000005}]
[null,null,"Faturamento (R$ mil)",{"$f":"D49*'Rentabilidade Cultivos'!$AD$66/1000","v":0},{"$f":"E49*'Rentabilidade Cultivos'!$AD$66/1000","v":0},{"$f":"F49*'Rentabilidade Cultivos'!$AD$66/1000","v":0},{"$f":"G49*'Rentabilidade Cultivos'!$AD$66/1000","v":15616.444320000002},{"$f":"H49*'Rentabilidade Cultivos'!$AD$66/1000","v":26719.760160000002},{"$f":"I49*'Rentabilidade Cultivos'!$AD$66/1000","v":35151.104159999995},{"$f":"J49*'Rentabilidade Cultivos'!$AD$66/1000","v":39734.013600000006},{"$f":"K49*'Rentabilidade Cultivos'!$AD$66/1000","v":42754.639680000008},{"$f":"L49*'Rentabilidade Cultivos'!$AD$66/1000","v":42754.639680000008},{"$f":"M49*'Rentabilidade Cultivos'!$AD$66/1000","v":42754.639680000008},{"$f":"N49*'Rentabilidade Cultivos'!$AD$66/1000","v":42754.639680000008},{"$f":"O49*'Rentabilidade Cultivos'!$AD$66/1000","v":42754.639680000008},{"$f":"P49*'Rentabilidade Cultivos'!$AD$66/1000","v":42754.639680000008},{"$f":"Q49*'Rentabilidade Cultivos'!$AD$66/1000","v":42754.639680000008},{"$f":"R49*'Rentabilidade Cultivos'!$AD$66/1000","v":42754.639680000008},{"$f":"S49*'Rentabilidade Cultivos'!$AD$66/1000","v":42754.639680000008},{"$f":"T49*'Rentabilidade Cultivos'!$AD$66/1000","v":42754.639680000008},{"$f":"U49*'Rentabilidade Cultivos'!$AD$66/1000","v":42754.639680000008},{"$f":"V49*'Rentabilidade Cultivos'!$AD$66/1000","v":42754.639680000008},{"$f":"W49*'Rentabilidade Cultivos'!$AD$66/1000","v":42754.639680000008},{"$f":"X49*'Rentabilidade Cultivos'!$AD$66/1000","v":42754.639680000008},{"$f":"Y49*'Rentabilidade Cultivos'!$AD$66/1000","v":42754.639680000008},{"$f":"Z49*'Rentabilidade Cultivos'!$AD$66/1000","v":42754.639680000008},{"$f":"AA49*'Rentabilidade Cultivos'!$AD$66/1000","v":42754.639680000008},{"$f":"AB49*'Rentabilidade Cultivos'!$AD$66/1000","v":42754.639680000008},{"$f":"AC49*'Rentabilidade Cultivos'!$AD$66/1000","v":42754.639680000008},{"$f":"AD49*'Rentabilidade Cultivos'!$AD$66/1000","v":42754.639680000008},{"$f":"AE49*'Rentabilidade Cultivos'!$AD$66/1000","v":42754.639680000008},{"$f":"AF49*'Rentabilidade Cultivos'!$AD$66/1000","v":42754.639680000008},{"$f":"AG49*'Rentabilidade Cultivos'!$AD$66/1000","v":42754.639680000008},{"$f":"AH49*'Rentabilidade Cultivos'!$AD$66/1000","v":42754.639680000008},{"$f":"AI49*'Rentabilidade Cultivos'!$AD$66/1000","v":42754.639680000008},{"$f":"AJ49*'Rentabilidade Cultivos'!$AD$66/1000","v":42754.639680000008},{"$f":"AK49*'Rentabilidade Cultivos'!$AD$66/1000","v":42754.639680000008},{"$f":"AL49*'Rentabilidade Cultivos'!$AD$66/1000","v":42754.639680000008}]
[null,null,"Custo direto (R$ mil)",{"$f":"D49*'Rentabilidade Cultivos'!$AD$67/1000","v":0},{"$f":"E49*'Rentabilidade Cultivos'!$AD$67/1000","v":0},{"$f":"F49*'Rentabilidade Cultivos'!$AD$67/1000","v":0},{"$f":"G49*'Rentabilidade Cultivos'!$AD$67/1000","v":7963.5641471046665},{"$f":"H49*'Rentabilidade Cultivos'!$AD$67/1000","v":13625.670457960665},{"$f":"I49*'Rentabilidade Cultivos'!$AD$67/1000","v":17925.211852560664},{"$f":"J49*'Rentabilidade Cultivos'!$AD$67/1000","v":20262.254303323334},{"$f":"K49*'Rentabilidade Cultivos'!$AD$67/1000","v":21802.614519745333},{"$f":"L49*'Rentabilidade Cultivos'!$AD$67/1000","v":21802.614519745333},{"$f":"M49*'Rentabilidade Cultivos'!$AD$67/1000","v":21802.614519745333},{"$f":"N49*'Rentabilidade Cultivos'!$AD$67/1000","v":21802.614519745333},{"$f":"O49*'Rentabilidade Cultivos'!$AD$67/1000","v":21802.614519745333},{"$f":"P49*'Rentabilidade Cultivos'!$AD$67/1000","v":21802.614519745333},{"$f":"Q49*'Rentabilidade Cultivos'!$AD$67/1000","v":21802.614519745333},{"$f":"R49*'Rentabilidade Cultivos'!$AD$67/1000","v":21802.614519745333},{"$f":"S49*'Rentabilidade Cultivos'!$AD$67/1000","v":21802.614519745333},{"$f":"T49*'Rentabilidade Cultivos'!$AD$67/1000","v":21802.614519745333},{"$f":"U49*'Rentabilidade Cultivos'!$AD$67/1000","v":21802.614519745333},{"$f":"V49*'Rentabilidade Cultivos'!$AD$67/1000","v":21802.614519745333},{"$f":"W49*'Rentabilidade Cultivos'!$AD$67/1000","v":21802.614519745333},{"$f":"X49*'Rentabilidade Cultivos'!$AD$67/1000","v":21802.614519745333},{"$f":"Y49*'Rentabilidade Cultivos'!$AD$67/1000","v":21802.614519745333},{"$f":"Z49*'Rentabilidade Cultivos'!$AD$67/1000","v":21802.614519745333},{"$f":"AA49*'Rentabilidade Cultivos'!$AD$67/1000","v":21802.614519745333},{"$f":"AB49*'Rentabilidade Cultivos'!$AD$67/1000","v":21802.614519745333},{"$f":"AC49*'Rentabilidade Cultivos'!$AD$67/1000","v":21802.614519745333},{"$f":"AD49*'Rentabilidade Cultivos'!$AD$67/1000","v":21802.614519745333},{"$f":"AE49*'Rentabilidade Cultivos'!$AD$67/1000","v":21802.614519745333},{"$f":"AF49*'Rentabilidade Cultivos'!$AD$67/1000","v":21802.614519745333},{"$f":"AG49*'Rentabilidade Cultivos'!$AD$67/1000","v":21802.614519745333},{"$f":"AH49*'Rentabilidade Cultivos'!$AD$67/1000","v":21802.614519745333},{"$f":"AI49*'Rentabilidade Cultivos'!$AD$67/1000","v":21802.614519745333},{"$f":"AJ49*'Rentabilidade Cultivos'!$AD$67/1000","v":21802.614519745333},{"$f":"AK49*'Rentabilidade Cultivos'!$AD$67/1000","v":21802.614519745333},{"$f":"AL49*'Rentabilidade Cultivos'!$AD$67/1000","v":21802.614519745333}]
[null,null,"Resultado (R$ mil)",{"$f":"D51-D52","v":0},{"$f":"E51-E52","v":0},0,7652.8801728953358,13094.089702039337,17225.892307439331,19471.759296676672,20952.025160254674,20952.025160254674,20952.025160254674,20952.025160254674,20952.025160254674,20952.025160254674,20952.025160254674,20952.025160254674,20952.025160254674,20952.025160254674,20952.025160254674,20952.025160254674,20952.025160254674,20952.025160254674,20952.025160254674,20952.025160254674,20952.025160254674,20952.025160254674,20952.025160254674,20952.025160254674,20952.025160254674,20952.025160254674,20952.025160254674,20952.025160254674,20952.025160254674,20952.025160254674,20952.025160254674,20952.025160254674]
[null,"Laranja","Área (ha)",{"$f":"'Painel de Controle'!$C$34*'Resultados Cultivos'!D$3","v":0},{"$f":"'Painel de Controle'!$C$34*'Resultados Cultivos'!E$3","v":0},{"$f":"'Painel de Controle'!$C$34*'Resultados Cultivos'!F$3","v":0},{"$f":"'Painel de Controle'!$C$34*'Resultados Cultivos'!G$3","v":373.95700000000005},{"$f":"'Painel de Controle'!$C$34*'Resultados Cultivos'!H$3","v":639.84100000000001},{"$f":"'Painel de Controle'!$C$34*'Resultados Cultivos'!I$3","v":841.74099999999999},{"$f":"'Painel de Controle'!$C$34*'Resultados Cultivos'!J$3","v":951.48500000000013},{"$f":"'Painel de Controle'!$C$34*'Resultados Cultivos'!K$3","v":1023.8180000000001},{"$f":"'Painel de Controle'!$C$34*'Resultados Cultivos'!L$3","v":1023.8180000000001},{"$f":"'Painel de Controle'!$C$34*'Resultados Cultivos'!M$3","v":1023.8180000000001},{"$f":"'Painel de Controle'!$C$34*'Resultados Cultivos'!N$3","v":1023.8180000000001},{"$f":"'Painel de Controle'!$C$34*'Resultados Cultivos'!O$3","v":1023.8180000000001},{"$f":"'Painel de Controle'!$C$34*'Resultados Cultivos'!P$3","v":1023.8180000000001},{"$f":"'Painel de Controle'!$C$34*'Resultados Cultivos'!Q$3","v":1023.8180000000001},{"$f":"'Painel de Controle'!$C$34*'Resultados Cultivos'!R$3","v":1023.8180000000001},{"$f":"'Painel de Controle'!$C$34*'Resultados Cultivos'!S$3","v":1023.8180000000001},{"$f":"'Painel de Controle'!$C$34*'Resultados Cultivos'!T$3","v":1023.8180000000001},{"$f":"'Painel de Controle'!$C$34*'Resultados Cultivos'!U$3","v":1023.8180000000001},{"$f":"'Painel de Controle'!$C$34*'Resultados Cultivos'!V$3","v":1023.8180000000001},{"$f":"'Painel de Controle'!$C$34*'Resultados Cultivos'!W$3","v":1023.8180000000001},{"$f":"'Painel de Controle'!$C$34*'Resultados Cultivos'!X$3","v":1023.8180000000001},{"$f":"'Painel de Controle'!$C$34*'Resultados Cultivos'!Y$3","v":1023.8180000000001},{"$f":"'Painel de Controle'!$C$34*'Resultados Cultivos'!Z$3","v":1023.8180000000001},{"$f":"'Painel de Controle'!$C$34*'Resultados Cultivos'!AA$3","v":1023.8180000000001},{"$f":"'Painel de Controle'!$C$34*'Resultados Cultivos'!AB$3","v":1023.8180000000001},{"$f":"'Painel de Controle'!$C$34*'Resultados Cultivos'!AC$3","v":1023.8180000000001},{"$f":"'Painel de Controle'!$C$34*'Resultados Cultivos'!AD$3","v":1023.8180000000001},{"$f":"'Painel de Controle'!$C$34*'Resultados Cultivos'!AE$3","v":1023.8180000000001},{"$f":"'Painel de Controle'!$C$34*'Resultados Cultivos'!AF$3","v":1023.8180000000001},{"$f":"'Painel de Controle'!$C$34*'Resultados Cultivos'!AG$3","v":1023.8180000000001},{"$f":"'Painel de Controle'!$C$34*'Resultados Cultivos'!AH$3","v":1023.8180000000001},{"$f":"'Painel de Controle'!$C$34*'Resultados Cultivos'!AI$3","v":1023.8180000000001},{"$f":"'Painel de Controle'!$C$34*'Resultados Cultivos'!AJ$3","v":1023.8180000000001},{"$f":"'Painel de Controle'!$C$34*'Resultados Cultivos'!AK$3","v":1023.8180000000001},{"$f":"'Painel de Controle'!$C$34*'Resultados Cultivos'!AL$3","v":1023.8180000000001}]
[null,null,"Produção (t)",{"$f":"'Rentabilidade Cultivos'!$AD$69*'Resultados Cultivos'!D54/1000","v":0},{"$f":"'Rentabilidade Cultivos'!$AD$69*'Resultados Cultivos'!E54/1000","v":0},{"$f":"'Rentabilidade Cultivos'!$AD$69*'Resultados Cultivos'!F54/1000","v":0},{"$f":"'Rentabilidade Cultivos'!$AD$69*'Resultados Cultivos'!G54/1000","v":8986.1867100000018},{"$f":"'Rentabilidade Cultivos'!$AD$69*'Resultados Cultivos'!H54/1000","v":15375.37923},{"$f":"'Rentabilidade Cultivos'!$AD$69*'Resultados Cultivos'!I54/1000","v":20227.036230000002},{"$f":"'Rentabilidade Cultivos'!$AD$69*'Resultados Cultivos'!J54/1000","v":22864.184550000005},{"$f":"'Rentabilidade Cultivos'!$AD$69*'Resultados Cultivos'!K54/1000","v":24602.346540000002},{"$f":"'Rentabilidade Cultivos'!$AD$69*'Resultados Cultivos'!L54/1000","v":24602.346540000002},{"$f":"'Rentabilidade Cultivos'!$AD$69*'Resultados Cultivos'!M54/1000","v":24602.346540000002},{"$f":"'Rentabilidade Cultivos'!$AD$69*'Resultados Cultivos'!N54/1000","v":24602.346540000002},{"$f":"'Rentabilidade Cultivos'!$AD$69*'Resultados Cultivos'!O54/1000","v":24602.346540000002},{"$f":"'Rentabilidade Cultivos'!$AD$69*'Resultados Cultivos'!P54/1000","v":24602.346540000002},{"$f":"'Rentabilidade Cultivos'!$AD$69*'Resultados Cultivos'!Q54/1000","v":24602.346540000002},{"$f":"'Rentabilidade Cultivos'!$AD$69*'Resultados Cultivos'!R54/1000","v":24602.346540000002},{"$f":"'Rentabilidade Cultivos'!$AD$69*'Resultados Cultivos'!S54/1000","v":24602.346540000002},{"$f":"'Rentabilidade Cultivos'!$AD$69*'Resultados Cultivos'!T54/1000","v":24602.346540000002},{"$f":"'Rentabilidade Cultivos'!$AD$69*'Resultados Cultivos'!U54/1000","v":24602.346540000002},{"$f":"'Rentabilidade Cultivos'!$AD$69*'Resultados Cultivos'!V54/1000","v":24602.346540000002},{"$f":"'Rentabilidade Cultivos'!$AD$69*'Resultados Cultivos'!W54/1000","v":24602.346540000002},{"$f":"'Rentabilidade Cultivos'!$AD$69*'Resultados Cultivos'!X54/1000","v":24602.346540000002},{"$f":"'Rentabilidade Cultivos'!$AD$69*'Resultados Cultivos'!Y54/1000","v":24602.346540000002},{"$f":"'Rentabilidade Cultivos'!$AD$69*'Resultados Cultivos'!Z54/1000","v":24602.346540000002},{"$f":"'Rentabilidade Cultivos'!$AD$69*'Resultados Cultivos'!AA54/1000","v":24602.346540000002},{"$f":"'Rentabilidade Cultivos'!$AD$69*'Resultados Cultivos'!AB54/1000","v":24602.346540000002},{"$f":"'Rentabilidade Cultivos'!$AD$69*'Resultados Cultivos'!AC54/1000","v":24602.346540000002},{"$f":"'Rentabilidade Cultivos'!$AD$69*'Resultados Cultivos'!AD54/1000","v":24602.346540000002},{"$f":"'Rentabilidade Cultivos'!$AD$69*'Resultados Cultivos'!AE54/1000","v":24602.346540000002},{"$f":"'Rentabilidade Cultivos'!$AD$69*'Resultados Cultivos'!AF54/1000","v":24602.346540000002},{"$f":"'Rentabilidade Cultivos'!$AD$69*'Resultados Cultivos'!AG54/1000","v":24602.346540000002},{"$f":"'Rentabilidade Cultivos'!$AD$69*'Resultados Cultivos'!AH54/1000","v":24602.346540000002},{"$f":"'Rentabilidade Cultivos'!$AD$69*'Resultados Cultivos'!AI54/1000","v":24602.346540000002},{"$f":"'Rentabilidade Cultivos'!$AD$69*'Resultados Cultivos'!AJ54/1000","v":24602.346540000002},{"$f":"'Rentabilidade Cultivos'!$AD$69*'Resultados Cultivos'!AK54/1000","v":24602.346540000002},{"$f":"'Rentabilidade Cultivos'!$AD$69*'Resultados Cultivos'!AL54/1000","v":24602.346540000002}]
[null,null,"Faturamento (R$ mil)",{"$f":"D55*'Rentabilidade Cultivos'!$AD$70","v":0},{"$f":"E55*'Rentabilidade Cultivos'!$AD$70","v":0},{"$f":"F55*'Rentabilidade Cultivos'!$AD$70","v":0},{"$f":"G55*'Rentabilidade Cultivos'!$AD$70","v":9165.9104442000007},{"$f":"H55*'Rentabilidade Cultivos'!$AD$70","v":15682.886814599997},{"$f":"I55*'Rentabilidade Cultivos'!$AD$70","v":20631.576954599997},{"$f":"J55*'Rentabilidade Cultivos'!$AD$70","v":23321.468241000002},{"$f":"K55*'Rentabilidade Cultivos'!$AD$70","v":25094.393470799998},{"$f":"L55*'Rentabilidade Cultivos'!$AD$70","v":25094.393470799998},{"$f":"M55*'Rentabilidade Cultivos'!$AD$70","v":25094.393470799998},{"$f":"N55*'Rentabilidade Cultivos'!$AD$70","v":25094.393470799998},{"$f":"O55*'Rentabilidade Cultivos'!$AD$70","v":25094.393470799998},{"$f":"P55*'Rentabilidade Cultivos'!$AD$70","v":25094.393470799998},{"$f":"Q55*'Rentabilidade Cultivos'!$AD$70","v":25094.393470799998},{"$f":"R55*'Rentabilidade Cultivos'!$AD$70","v":25094.393470799998},{"$f":"S55*'Rentabilidade Cultivos'!$AD$70","v":25094.393470799998},{"$f":"T55*'Rentabilidade Cultivos'!$AD$70","v":25094.393470799998},{"$f":"U55*'Rentabilidade Cultivos'!$AD$70","v":25094.393470799998},{"$f":"V55*'Rentabilidade Cultivos'!$AD$70","v":25094.393470799998},{"$f":"W55*'Rentabilidade Cultivos'!$AD$70","v":25094.393470799998},{"$f":"X55*'Rentabilidade Cultivos'!$AD$70","v":25094.393470799998},{"$f":"Y55*'Rentabilidade Cultivos'!$AD$70","v":25094.393470799998},{"$f":"Z55*'Rentabilidade Cultivos'!$AD$70","v":25094.393470799998},{"$f":"AA55*'Rentabilidade Cultivos'!$AD$70","v":25094.393470799998},{"$f":"AB55*'Rentabilidade Cultivos'!$AD$70","v":25094.393470799998},{"$f":"AC55*'Rentabilidade Cultivos'!$AD$70","v":25094.393470799998},{"$f":"AD55*'Rentabilidade Cultivos'!$AD$70","v":25094.393470799998},{"$f":"AE55*'Rentabilidade Cultivos'!$AD$70","v":25094.393470799998},{"$f":"AF55*'Rentabilidade Cultivos'!$AD$70","v":25094.393470799998},{"$f":"AG55*'Rentabilidade Cultivos'!$AD$70","v":25094.393470799998},{"$f":"AH55*'Rentabilidade Cultivos'!$AD$70","v":25094.393470799998},{"$f":"AI55*'Rentabilidade Cultivos'!$AD$70","v":25094.393470799998},{"$f":"AJ55*'Rentabilidade Cultivos'!$AD$70","v":25094.393470799998},{"$f":"AK55*'Rentabilidade Cultivos'!$AD$70","v":25094.393470799998},{"$f":"AL55*'Rentabilidade Cultivos'!$AD$70","v":25094.393470799998}]
[null,null,"Custo direto (R$ mil)",{"$f":"D54*'Rentabilidade Cultivos'!$AD$72/1000","v":0},{"$f":"E54*'Rentabilidade Cultivos'!$AD$72/1000","v":0},{"$f":"F54*'Rentabilidade Cultivos'!$AD$72/1000","v":0},{"$f":"G54*'Rentabilidade Cultivos'!$AD$72/1000","v":4850.4313553353159},{"$f":"H54*'Rentabilidade Cultivos'!$AD$72/1000","v":8299.0954811090651},{"$f":"I54*'Rentabilidade Cultivos'!$AD$72/1000","v":10917.851355827817},{"$f":"J54*'Rentabilidade Cultivos'!$AD$72/1000","v":12341.292389582821},{"$f":"K54*'Rentabilidade Cultivos'!$AD$72/1000","v":13279.491838250631},{"$f":"L54*'Rentabilidade Cultivos'!$AD$72/1000","v":13279.491838250631},{"$f":"M54*'Rentabilidade Cultivos'!$AD$72/1000","v":13279.491838250631},{"$f":"N54*'Rentabilidade Cultivos'!$AD$72/1000","v":13279.491838250631},{"$f":"O54*'Rentabilidade Cultivos'!$AD$72/1000","v":13279.491838250631},{"$f":"P54*'Rentabilidade Cultivos'!$AD$72/1000","v":13279.491838250631},{"$f":"Q54*'Rentabilidade Cultivos'!$AD$72/1000","v":13279.491838250631},{"$f":"R54*'Rentabilidade Cultivos'!$AD$72/1000","v":13279.491838250631},{"$f":"S54*'Rentabilidade Cultivos'!$AD$72/1000","v":13279.491838250631},{"$f":"T54*'Rentabilidade Cultivos'!$AD$72/1000","v":13279.491838250631},{"$f":"U54*'Rentabilidade Cultivos'!$AD$72/1000","v":13279.491838250631},{"$f":"V54*'Rentabilidade Cultivos'!$AD$72/1000","v":13279.491838250631},{"$f":"W54*'Rentabilidade Cultivos'!$AD$72/1000","v":13279.491838250631},{"$f":"X54*'Rentabilidade Cultivos'!$AD$72/1000","v":13279.491838250631},{"$f":"Y54*'Rentabilidade Cultivos'!$AD$72/1000","v":13279.491838250631},{"$f":"Z54*'Rentabilidade Cultivos'!$AD$72/1000","v":13279.491838250631},{"$f":"AA54*'Rentabilidade Cultivos'!$AD$72/1000","v":13279.491838250631},{"$f":"AB54*'Rentabilidade Cultivos'!$AD$72/1000","v":13279.491838250631},{"$f":"AC54*'Rentabilidade Cultivos'!$AD$72/1000","v":13279.491838250631},{"$f":"AD54*'Rentabilidade Cultivos'!$AD$72/1000","v":13279.491838250631},{"$f":"AE54*'Rentabilidade Cultivos'!$AD$72/1000","v":13279.491838250631},{"$f":"AF54*'Rentabilidade Cultivos'!$AD$72/1000","v":13279.491838250631},{"$f":"AG54*'Rentabilidade Cultivos'!$AD$72/1000","v":13279.491838250631},{"$f":"AH54*'Rentabilidade Cultivos'!$AD$72/1000","v":13279.491838250631},{"$f":"AI54*'Rentabilidade Cultivos'!$AD$72/1000","v":13279.491838250631},{"$f":"AJ54*'Rentabilidade Cultivos'!$AD$72/1000","v":13279.491838250631},{"$f":"AK54*'Rentabilidade Cultivos'!$AD$72/1000","v":13279.491838250631},{"$f":"AL54*'Rentabilidade Cultivos'!$AD$72/1000","v":13279.491838250631}]
[null,null,"Resultado (R$ mil)",{"$f":"D56-D57","v":0},{"$f":"E56-E57","v":0},0,4315.4790888646849,7383.7913334909317,9713.7255987721801,10980.175851417182,11814.901632549367,11814.901632549367,11814.901632549367,11814.901632549367,11814.901632549367,11814.901632549367,11814.901632549367,11814.901632549367,11814.901632549367,11814.901632549367,11814.901632549367,11814.901632549367,11814.901632549367,11814.901632549367,11814.901632549367,11814.901632549367,11814.901632549367,11814.901632549367,11814.901632549367,11814.901632549367,11814.901632549367,11814.901632549367,11814.901632549367,11814.901632549367,11814.901632549367,11814.901632549367,11814.901632549367,11814.901632549367]
[null,"Mamão","Área (ha)",{"$f":"'Painel de Controle'!$C$35*'Resultados Cultivos'!D$3","v":0},{"$f":"'Painel de Controle'!$C$35*'Resultados Cultivos'!E$3","v":0},{"$f":"'Painel de Controle'!$C$35*'Resultados Cultivos'!F$3","v":0},{"$f":"'Painel de Controle'!$C$35*'Resultados Cultivos'!G$3","v":93.489250000000013},{"$f":"'Painel de Controle'!$C$35*'Resultados Cultivos'!H$3","v":159.96025},{"$f":"'Painel de Controle'!$C$35*'Resultados Cultivos'!I$3","v":210.43525},{"$f":"'Painel de Controle'!$C$35*'Resultados Cultivos'!J$3","v":237.87125000000003},{"$f":"'Painel de Controle'!$C$35*'Resultados Cultivos'!K$3","v":255.95450000000002},{"$f":"'Painel de Controle'!$C$35*'Resultados Cultivos'!L$3","v":255.95450000000002},{"$f":"'Painel de Controle'!$C$35*'Resultados Cultivos'!M$3","v":255.95450000000002},{"$f":"'Painel de Controle'!$C$35*'Resultados Cultivos'!N$3","v":255.95450000000002},{"$f":"'Painel de Controle'!$C$35*'Resultados Cultivos'!O$3","v":255.95450000000002},{"$f":"'Painel de Controle'!$C$35*'Resultados Cultivos'!P$3","v":255.95450000000002},{"$f":"'Painel de Controle'!$C$35*'Resultados Cultivos'!Q$3","v":255.95450000000002},{"$f":"'Painel de Controle'!$C$35*'Resultados Cultivos'!R$3","v":255.95450000000002},{"$f":"'Painel de Controle'!$C$35*'Resultados Cultivos'!S$3","v":255.95450000000002},{"$f":"'Painel de Controle'!$C$35*'Resultados Cultivos'!T$3","v":255.95450000000002},{"$f":"'Painel de Controle'!$C$35*'Resultados Cultivos'!U$3","v":255.95450000000002},{"$f":"'Painel de Controle'!$C$35*'Resultados Cultivos'!V$3","v":255.95450000000002},{"$f":"'Painel de Controle'!$C$35*'Resultados Cultivos'!W$3","v":255.95450000000002},{"$f":"'Painel de Controle'!$C$35*'Resultados Cultivos'!X$3","v":255.95450000000002},{"$f":"'Painel de Controle'!$C$35*'Resultados Cultivos'!Y$3","v":255.95450000000002},{"$f":"'Painel de Controle'!$C$35*'Resultados Cultivos'!Z$3","v":255.95450000000002},{"$f":"'Painel de Controle'!$C$35*'Resultados Cultivos'!AA$3","v":255.95450000000002},{"$f":"'Painel de Controle'!$C$35*'Resultados Cultivos'!AB$3","v":255.95450000000002},{"$f":"'Painel de Controle'!$C$35*'Resultados Cultivos'!AC$3","v":255.95450000000002},{"$f":"'Painel de Controle'!$C$35*'Resultados Cultivos'!AD$3","v":255.95450000000002},{"$f":"'Painel de Controle'!$C$35*'Resultados Cultivos'!AE$3","v":255.95450000000002},{"$f":"'Painel de Controle'!$C$35*'Resultados Cultivos'!AF$3","v":255.95450000000002},{"$f":"'Painel de Controle'!$C$35*'Resultados Cultivos'!AG$3","v":255.95450000000002},{"$f":"'Painel de Controle'!$C$35*'Resultados Cultivos'!AH$3","v":255.95450000000002},{"$f":"'Painel de Controle'!$C$35*'Resultados Cultivos'!AI$3","v":255.95450000000002},{"$f":"'Painel de Controle'!$C$35*'Resultados Cultivos'!AJ$3","v":255.95450000000002},{"$f":"'Painel de Controle'!$C$35*'Resultados Cultivos'!AK$3","v":255.95450000000002},{"$f":"'Painel de Controle'!$C$35*'Resultados Cultivos'!AL$3","v":255.95450000000002}]
[null,null,"Produção (t)",{"$f":"'Rentabilidade Cultivos'!$AD$74*'Resultados Cultivos'!D59/1000","v":0},{"$f":"'Rentabilidade Cultivos'!$AD$74*'Resultados Cultivos'!E59/1000","v":0},{"$f":"'Rentabilidade Cultivos'!$AD$74*'Resultados Cultivos'!F59/1000","v":0},{"$f":"'Rentabilidade Cultivos'!$AD$74*'Resultados Cultivos'!G59/1000","v":2337.2312500000003},{"$f":"'Rentabilidade Cultivos'!$AD$74*'Resultados Cultivos'!H59/1000","v":3999.0062499999999},{"$f":"'Rentabilidade Cultivos'!$AD$74*'Resultados Cultivos'!I59/1000","v":5260.8812500000004},{"$f":"'Rentabilidade Cultivos'!$AD$74*'Resultados Cultivos'!J59/1000","v":5946.7812500000009},{"$f":"'Rentabilidade Cultivos'!$AD$74*'Resultados Cultivos'!K59/1000","v":6398.8625000000011},{"$f":"'Rentabilidade Cultivos'!$AD$74*'Resultados Cultivos'!L59/1000","v":6398.8625000000011},{"$f":"'Rentabilidade Cultivos'!$AD$74*'Resultados Cultivos'!M59/1000","v":6398.8625000000011},{"$f":"'Rentabilidade Cultivos'!$AD$74*'Resultados Cultivos'!N59/1000","v":6398.8625000000011},{"$f":"'Rentabilidade Cultivos'!$AD$74*'Resultados Cultivos'!O59/1000","v":6398.8625000000011},{"$f":"'Rentabilidade Cultivos'!$AD$74*'Resultados Cultivos'!P59/1000","v":6398.8625000000011},{"$f":"'Rentabilidade Cultivos'!$AD$74*'Resultados Cultivos'!Q59/1000","v":6398.8625000000011},{"$f":"'Rentabilidade Cultivos'!$AD$74*'Resultados Cultivos'!R59/1000","v":6398.8625000000011},{"$f":"'Rentabilidade Cultivos'!$AD$74*'Resultados Cultivos'!S59/1000","v":6398.8625000000011},{"$f":"'Rentabilidade Cultivos'!$AD$74*'Resultados Cultivos'!T59/1000","v":6398.8625000000011},{"$f":"'Rentabilidade Cultivos'!$AD$74*'Resultados Cultivos'!U59/1000","v":6398.8625000000011},{"$f":"'Rentabilidade Cultivos'!$AD$74*'Resultados Cultivos'!V59/1000","v":6398.8625000000011},{"$f":"'Rentabilidade Cultivos'!$AD$74*'Resultados Cultivos'!W59/1000","v":6398.8625000000011},{"$f":"'Rentabilidade Cultivos'!$AD$74*'Resultados Cultivos'!X59/1000","v":6398.8625000000011},{"$f":"'Rentabilidade Cultivos'!$AD$74*'Resultados Cultivos'!Y59/1000","v":6398.8625000000011},{"$f":"'Rentabilidade Cultivos'!$AD$74*'Resultados Cultivos'!Z59/1000","v":6398.8625000000011},{"$f":"'Rentabilidade Cultivos'!$AD$74*'Resultados Cultivos'!AA59/1000","v":6398.8625000000011},{"$f":"'Rentabilidade Cultivos'!$AD$74*'Resultados Cultivos'!AB59/1000","v":6398.8625000000011},{"$f":"'Rentabilidade Cultivos'!$AD$74*'Resultados Cultivos'!AC59/1000","v":6398.8625000000011},{"$f":"'Rentabilidade Cultivos'!$AD$74*'Resultados Cultivos'!AD59/1000","v":6398.8625000000011},{"$f":"'Rentabilidade Cultivos'!$AD$74*'Resultados Cultivos'!AE59/1000","v":6398.8625000000011},{"$f":"'Rentabilidade Cultivos'!$AD$74*'Resultados Cultivos'!AF59/1000","v":6398.8625000000011},{"$f":"'Rentabilidade Cultivos'!$AD$74*'Resultados Cultivos'!AG59/1000","v":6398.8625000000011},{"$f":"'Rentabilidade Cultivos'!$AD$74*'Resultados Cultivos'!AH59/1000","v":6398.8625000000011},{"$f":"'Rentabilidade Cultivos'!$AD$74*'Resultados Cultivos'!AI59/1000","v":6398.8625000000011},{"$f":"'Rentabilidade Cultivos'!$AD$74*'Resultados Cultivos'!AJ59/1000","v":6398.8625000000011},{"$f":"'Rentabilidade Cultivos'!$AD$74*'Resultados Cultivos'!AK59/1000","v":6398.8625000000011},{"$f":"'Rentabilidade Cultivos'!$AD$74*'Resultados Cultivos'!AL59/1000","v":6398.8625000000011}]
[null,null,"Faturamento (R$ mil)",{"$f":"D60*'Rentabilidade Cultivos'!$AD$75","v":0},{"$f":"E60*'Rentabilidade Cultivos'!$AD$75","v":0},{"$f":"F60*'Rentabilidade Cultivos'!$AD$75","v":0},{"$f":"G60*'Rentabilidade Cultivos'!$AD$75","v":3996.6654375000003},{"$f":"H60*'Rentabilidade Cultivos'!$AD$75","v":6838.3006875000001},{"$f":"I60*'Rentabilidade Cultivos'!$AD$75","v":8996.1069375000006},{"$f":"J60*'Rentabilidade Cultivos'!$AD$75","v":10168.995937500002},{"$f":"K60*'Rentabilidade Cultivos'!$AD$75","v":10942.054875000002},{"$f":"L60*'Rentabilidade Cultivos'!$AD$75","v":10942.054875000002},{"$f":"M60*'Rentabilidade Cultivos'!$AD$75","v":10942.054875000002},{"$f":"N60*'Rentabilidade Cultivos'!$AD$75","v":10942.054875000002},{"$f":"O60*'Rentabilidade Cultivos'!$AD$75","v":10942.054875000002},{"$f":"P60*'Rentabilidade Cultivos'!$AD$75","v":10942.054875000002},{"$f":"Q60*'Rentabilidade Cultivos'!$AD$75","v":10942.054875000002},{"$f":"R60*'Rentabilidade Cultivos'!$AD$75","v":10942.054875000002},{"$f":"S60*'Rentabilidade Cultivos'!$AD$75","v":10942.054875000002},{"$f":"T60*'Rentabilidade Cultivos'!$AD$75","v":10942.054875000002},{"$f":"U60*'Rentabilidade Cultivos'!$AD$75","v":10942.054875000002},{"$f":"V60*'Rentabilidade Cultivos'!$AD$75","v":10942.054875000002},{"$f":"W60*'Rentabilidade Cultivos'!$AD$75","v":10942.054875000002},{"$f":"X60*'Rentabilidade Cultivos'!$AD$75","v":10942.054875000002},{"$f":"Y60*'Rentabilidade Cultivos'!$AD$75","v":10942.054875000002},{"$f":"Z60*'Rentabilidade Cultivos'!$AD$75","v":10942.054875000002},{"$f":"AA60*'Rentabilidade Cultivos'!$AD$75","v":10942.054875000002},{"$f":"AB60*'Rentabilidade Cultivos'!$AD$75","v":10942.054875000002},{"$f":"AC60*'Rentabilidade Cultivos'!$AD$75","v":10942.054875000002},{"$f":"AD60*'Rentabilidade Cultivos'!$AD$75","v":10942.054875000002},{"$f":"AE60*'Rentabilidade Cultivos'!$AD$75","v":10942.054875000002},{"$f":"AF60*'Rentabilidade Cultivos'!$AD$75","v":10942.054875000002},{"$f":"AG60*'Rentabilidade Cultivos'!$AD$75","v":10942.054875000002},{"$f":"AH60*'Rentabilidade Cultivos'!$AD$75","v":10942.054875000002},{"$f":"AI60*'Rentabilidade Cultivos'!$AD$75","v":10942.054875000002},{"$f":"AJ60*'Rentabilidade Cultivos'!$AD$75","v":10942.054875000002},{"$f":"AK60*'Rentabilidade Cultivos'!$AD$75","v":10942.054875000002},{"$f":"AL60*'Rentabilidade Cultivos'!$AD$75","v":10942.054875000002}]
[null,null,"Custo direto (R$ mil)",{"$f":"D59*'Rentabilidade Cultivos'!$AD$77/1000","v":0},{"$f":"E59*'Rentabilidade Cultivos'!$AD$77/1000","v":0},{"$f":"F59*'Rentabilidade Cultivos'!$AD$77/1000","v":0},{"$f":"G59*'Rentabilidade Cultivos'!$AD$77/1000","v":1990.7177388697505},{"$f":"H59*'Rentabilidade Cultivos'!$AD$77/1000","v":3406.1211015067506},{"$f":"I59*'Rentabilidade Cultivos'!$AD$77/1000","v":4480.9128863317501},{"$f":"J59*'Rentabilidade Cultivos'!$AD$77/1000","v":5065.1226418237511},{"$f":"K59*'Rentabilidade Cultivos'!$AD$77/1000","v":5450.1791756115017},{"$f":"L59*'Rentabilidade Cultivos'!$AD$77/1000","v":5450.1791756115017},{"$f":"M59*'Rentabilidade Cultivos'!$AD$77/1000","v":5450.1791756115017},{"$f":"N59*'Rentabilidade Cultivos'!$AD$77/1000","v":5450.1791756115017},{"$f":"O59*'Rentabilidade Cultivos'!$AD$77/1000","v":5450.1791756115017},{"$f":"P59*'Rentabilidade Cultivos'!$AD$77/1000","v":5450.1791756115017},{"$f":"Q59*'Rentabilidade Cultivos'!$AD$77/1000","v":5450.1791756115017},{"$f":"R59*'Rentabilidade Cultivos'!$AD$77/1000","v":5450.1791756115017},{"$f":"S59*'Rentabilidade Cultivos'!$AD$77/1000","v":5450.1791756115017},{"$f":"T59*'Rentabilidade Cultivos'!$AD$77/1000","v":5450.1791756115017},{"$f":"U59*'Rentabilidade Cultivos'!$AD$77/1000","v":5450.1791756115017},{"$f":"V59*'Rentabilidade Cultivos'!$AD$77/1000","v":5450.1791756115017},{"$f":"W59*'Rentabilidade Cultivos'!$AD$77/1000","v":5450.1791756115017},{"$f":"X59*'Rentabilidade Cultivos'!$AD$77/1000","v":5450.1791756115017},{"$f":"Y59*'Rentabilidade Cultivos'!$AD$77/1000","v":5450.1791756115017},{"$f":"Z59*'Rentabilidade Cultivos'!$AD$77/1000","v":5450.1791756115017},{"$f":"AA59*'Rentabilidade Cultivos'!$AD$77/1000","v":5450.1791756115017},{"$f":"AB59*'Rentabilidade Cultivos'!$AD$77/1000","v":5450.1791756115017},{"$f":"AC59*'Rentabilidade Cultivos'!$AD$77/1000","v":5450.1791756115017},{"$f":"AD59*'Rentabilidade Cultivos'!$AD$77/1000","v":5450.1791756115017},{"$f":"AE59*'Rentabilidade Cultivos'!$AD$77/1000","v":5450.1791756115017},{"$f":"AF59*'Rentabilidade Cultivos'!$AD$77/1000","v":5450.1791756115017},{"$f":"AG59*'Rentabilidade Cultivos'!$AD$77/1000","v":5450.1791756115017},{"$f":"AH59*'Rentabilidade Cultivos'!$AD$77/1000","v":5450.1791756115017},{"$f":"AI59*'Rentabilidade Cultivos'!$AD$77/1000","v":5450.1791756115017},{"$f":"AJ59*'Rentabilidade Cultivos'!$AD$77/1000","v":5450.1791756115017},{"$f":"AK59*'Rentabilidade Cultivos'!$AD$77/1000","v":5450.1791756115017},{"$f":"AL59*'Rentabilidade Cultivos'!$AD$77/1000","v":5450.1791756115017}]
[null,null,"Resultado (R$ mil)",{"$f":"D61-D62","v":0},{"$f":"E61-E62","v":0},0,2005.9476986302498,3432.1795859932495,4515.1940511682506,5103.8732956762506,5491.8756993884999,5491.8756993884999,5491.8756993884999,5491.8756993884999,5491.8756993884999,5491.8756993884999,5491.8756993884999,5491.8756993884999,5491.8756993884999,5491.8756993884999,5491.8756993884999,5491.8756993884999,5491.8756993884999,5491.8756993884999,5491.8756993884999,5491.8756993884999,5491.8756993884999,5491.8756993884999,5491.8756993884999,5491.8756993884999,5491.8756993884999,5491.8756993884999,5491.8756993884999,5491.8756993884999,5491.8756993884999,5491.8756993884999,5491.8756993884999,5491.8756993884999]
[null,"Maracujá","Área (ha)",{"$f":"'Painel de Controle'!$C$36*'Resultados Cultivos'!D$3","v":0},{"$f":"'Painel de Controle'!$C$36*'Resultados Cultivos'!E$3","v":0},{"$f":"'Painel de Controle'!$C$36*'Resultados Cultivos'!F$3","v":0},{"$f":"'Painel de Controle'!$C$36*'Resultados Cultivos'!G$3","v":93.489250000000013},{"$f":"'Painel de Controle'!$C$36*'Resultados Cultivos'!H$3","v":159.96025},{"$f":"'Painel de Controle'!$C$36*'Resultados Cultivos'!I$3","v":210.43525},{"$f":"'Painel de Controle'!$C$36*'Resultados Cultivos'!J$3","v":237.87125000000003},{"$f":"'Painel de Controle'!$C$36*'Resultados Cultivos'!K$3","v":255.95450000000002},{"$f":"'Painel de Controle'!$C$36*'Resultados Cultivos'!L$3","v":255.95450000000002},{"$f":"'Painel de Controle'!$C$36*'Resultados Cultivos'!M$3","v":255.95450000000002},{"$f":"'Painel de Controle'!$C$36*'Resultados Cultivos'!N$3","v":255.95450000000002},{"$f":"'Painel de Controle'!$C$36*'Resultados Cultivos'!O$3","v":255.95450000000002},{"$f":"'Painel de Controle'!$C$36*'Resultados Cultivos'!P$3","v":255.95450000000002},{"$f":"'Painel de Controle'!$C$36*'Resultados Cultivos'!Q$3","v":255.95450000000002},{"$f":"'Painel de Controle'!$C$36*'Resultados Cultivos'!R$3","v":255.95450000000002},{"$f":"'Painel de Controle'!$C$36*'Resultados Cultivos'!S$3","v":255.95450000000002},{"$f":"'Painel de Controle'!$C$36*'Resultados Cultivos'!T$3","v":255.95450000000002},{"$f":"'Painel de Controle'!$C$36*'Resultados Cultivos'!U$3","v":255.95450000000002},{"$f":"'Painel de Controle'!$C$36*'Resultados Cultivos'!V$3","v":255.95450000000002},{"$f":"'Painel de Controle'!$C$36*'Resultados Cultivos'!W$3","v":255.95450000000002},{"$f":"'Painel de Controle'!$C$36*'Resultados Cultivos'!X$3","v":255.95450000000002},{"$f":"'Painel de Controle'!$C$36*'Resultados Cultivos'!Y$3","v":255.95450000000002},{"$f":"'Painel de Controle'!$C$36*'Resultados Cultivos'!Z$3","v":255.95450000000002},{"$f":"'Painel de Controle'!$C$36*'Resultados Cultivos'!AA$3","v":255.95450000000002},{"$f":"'Painel de Controle'!$C$36*'Resultados Cultivos'!AB$3","v":255.95450000000002},{"$f":"'Painel de Controle'!$C$36*'Resultados Cultivos'!AC$3","v":255.95450000000002},{"$f":"'Painel de Controle'!$C$36*'Resultados Cultivos'!AD$3","v":255.95450000000002},{"$f":"'Painel de Controle'!$C$36*'Resultados Cultivos'!AE$3","v":255.95450000000002},{"$f":"'Painel de Controle'!$C$36*'Resultados Cultivos'!AF$3","v":255.95450000000002},{"$f":"'Painel de Controle'!$C$36*'Resultados Cultivos'!AG$3","v":255.95450000000002},{"$f":"'Painel de Controle'!$C$36*'Resultados Cultivos'!AH$3","v":255.95450000000002},{"$f":"'Painel de Controle'!$C$36*'Resultados Cultivos'!AI$3","v":255.95450000000002},{"$f":"'Painel de Controle'!$C$36*'Resultados Cultivos'!AJ$3","v":255.95450000000002},{"$f":"'Painel de Controle'!$C$36*'Resultados Cultivos'!AK$3","v":255.95450000000002},{"$f":"'Painel de Controle'!$C$36*'Resultados Cultivos'!AL$3","v":255.95450000000002}]
[null,null,"Produção (t)",{"$f":"'Rentabilidade Cultivos'!$AD$79*'Resultados Cultivos'!D64/1000","v":0},{"$f":"'Rentabilidade Cultivos'!$AD$79*'Resultados Cultivos'!E64/1000","v":0},{"$f":"'Rentabilidade Cultivos'!$AD$79*'Resultados Cultivos'!F64/1000","v":0},{"$f":"'Rentabilidade Cultivos'!$AD$79*'Resultados Cultivos'!G64/1000","v":2025.6004166666669},{"$f":"'Rentabilidade Cultivos'!$AD$79*'Resultados Cultivos'!H64/1000","v":3465.805416666667},{"$f":"'Rentabilidade Cultivos'!$AD$79*'Resultados Cultivos'!I64/1000","v":4559.430416666667},{"$f":"'Rentabilidade Cultivos'!$AD$79*'Resultados Cultivos'!J64/1000","v":5153.8770833333338},{"$f":"'Rentabilidade Cultivos'!$AD$79*'Resultados Cultivos'!K64/1000","v":5545.6808333333338},{"$f":"'Rentabilidade Cultivos'!$AD$79*'Resultados Cultivos'!L64/1000","v":5545.6808333333338},{"$f":"'Rentabilidade Cultivos'!$AD$79*'Resultados Cultivos'!M64/1000","v":5545.6808333333338},{"$f":"'Rentabilidade Cultivos'!$AD$79*'Resultados Cultivos'!N64/1000","v":5545.6808333333338},{"$f":"'Rentabilidade Cultivos'!$AD$79*'Resultados Cultivos'!O64/1000","v":5545.6808333333338},{"$f":"'Rentabilidade Cultivos'!$AD$79*'Resultados Cultivos'!P64/1000","v":5545.6808333333338},{"$f":"'Rentabilidade Cultivos'!$AD$79*'Resultados Cultivos'!Q64/1000","v":5545.6808333333338},{"$f":"'Rentabilidade Cultivos'!$AD$79*'Resultados Cultivos'!R64/1000","v":5545.6808333333338},{"$f":"'Rentabilidade Cultivos'!$AD$79*'Resultados Cultivos'!S64/1000","v":5545.6808333333338},{"$f":"'Rentabilidade Cultivos'!$AD$79*'Resultados Cultivos'!T64/1000","v":5545.6808333333338},{"$f":"'Rentabilidade Cultivos'!$AD$79*'Resultados Cultivos'!U64/1000","v":5545.6808333333338},{"$f":"'Rentabilidade Cultivos'!$AD$79*'Resultados Cultivos'!V64/1000","v":5545.6808333333338},{"$f":"'Rentabilidade Cultivos'!$AD$79*'Resultados Cultivos'!W64/1000","v":5545.6808333333338},{"$f":"'Rentabilidade Cultivos'!$AD$79*'Resultados Cultivos'!X64/1000","v":5545.6808333333338},{"$f":"'Rentabilidade Cultivos'!$AD$79*'Resultados Cultivos'!Y64/1000","v":5545.6808333333338},{"$f":"'Rentabilidade Cultivos'!$AD$79*'Resultados Cultivos'!Z64/1000","v":5545.6808333333338},{"$f":"'Rentabilidade Cultivos'!$AD$79*'Resultados Cultivos'!AA64/1000","v":5545.6808333333338},{"$f":"'Rentabilidade Cultivos'!$AD$79*'Resultados Cultivos'!AB64/1000","v":5545.6808333333338},{"$f":"'Rentabilidade Cultivos'!$AD$79*'Resultados Cultivos'!AC64/1000","v":5545.6808333333338},{"$f":"'Rentabilidade Cultivos'!$AD$79*'Resultados Cultivos'!AD64/1000","v":5545.6808333333338},{"$f":"'Rentabilidade Cultivos'!$AD$79*'Resultados Cultivos'!AE64/1000","v":5545.6808333333338},{"$f":"'Rentabilidade Cultivos'!$AD$79*'Resultados Cultivos'!AF64/1000","v":5545.6808333333338},{"$f":"'Rentabilidade Cultivos'!$AD$79*'Resultados Cultivos'!AG64/1000","v":5545.6808333333338},{"$f":"'Rentabilidade Cultivos'!$AD$79*'Resultados Cultivos'!AH64/1000","v":5545.6808333333338},{"$f":"'Rentabilidade Cultivos'!$AD$79*'Resultados Cultivos'!AI64/1000","v":5545.6808333333338},{"$f":"'Rentabilidade Cultivos'!$AD$79*'Resultados Cultivos'!AJ64/1000","v":5545.6808333333338},{"$f":"'Rentabilidade Cultivos'!$AD$79*'Resultados Cultivos'!AK64/1000","v":5545.6808333333338},{"$f":"'Rentabilidade Cultivos'!$AD$79*'Resultados Cultivos'!AL64/1000","v":5545.6808333333338}]
[null,null,"Faturamento (R$ mil)",{"$f":"D65*'Rentabilidade Cultivos'!$AD$80","v":0},{"$f":"E65*'Rentabilidade Cultivos'!$AD$80","v":0},{"$f":"F65*'Rentabilidade Cultivos'!$AD$80","v":0},{"$f":"G65*'Rentabilidade Cultivos'!$AD$80","v":4274.0168791666665},{"$f":"H65*'Rentabilidade Cultivos'!$AD$80","v":7312.8494291666666},{"$f":"I65*'Rentabilidade Cultivos'!$AD$80","v":9620.3981791666665},{"$f":"J65*'Rentabilidade Cultivos'!$AD$80","v":10874.680645833334},{"$f":"K65*'Rentabilidade Cultivos'!$AD$80","v":11701.386558333334},{"$f":"L65*'Rentabilidade Cultivos'!$AD$80","v":11701.386558333334},{"$f":"M65*'Rentabilidade Cultivos'!$AD$80","v":11701.386558333334},{"$f":"N65*'Rentabilidade Cultivos'!$AD$80","v":11701.386558333334},{"$f":"O65*'Rentabilidade Cultivos'!$AD$80","v":11701.386558333334},{"$f":"P65*'Rentabilidade Cultivos'!$AD$80","v":11701.386558333334},{"$f":"Q65*'Rentabilidade Cultivos'!$AD$80","v":11701.386558333334},{"$f":"R65*'Rentabilidade Cultivos'!$AD$80","v":11701.386558333334},{"$f":"S65*'Rentabilidade Cultivos'!$AD$80","v":11701.386558333334},{"$f":"T65*'Rentabilidade Cultivos'!$AD$80","v":11701.386558333334},{"$f":"U65*'Rentabilidade Cultivos'!$AD$80","v":11701.386558333334},{"$f":"V65*'Rentabilidade Cultivos'!$AD$80","v":11701.386558333334},{"$f":"W65*'Rentabilidade Cultivos'!$AD$80","v":11701.386558333334},{"$f":"X65*'Rentabilidade Cultivos'!$AD$80","v":11701.386558333334},{"$f":"Y65*'Rentabilidade Cultivos'!$AD$80","v":11701.386558333334},{"$f":"Z65*'Rentabilidade Cultivos'!$AD$80","v":11701.386558333334},{"$f":"AA65*'Rentabilidade Cultivos'!$AD$80","v":11701.386558333334},{"$f":"AB65*'Rentabilidade Cultivos'!$AD$80","v":11701.386558333334},{"$f":"AC65*'Rentabilidade Cultivos'!$AD$80","v":11701.386558333334},{"$f":"AD65*'Rentabilidade Cultivos'!$AD$80","v":11701.386558333334},{"$f":"AE65*'Rentabilidade Cultivos'!$AD$80","v":11701.386558333334},{"$f":"AF65*'Rentabilidade Cultivos'!$AD$80","v":11701.386558333334},{"$f":"AG65*'Rentabilidade Cultivos'!$AD$80","v":11701.386558333334},{"$f":"AH65*'Rentabilidade Cultivos'!$AD$80","v":11701.386558333334},{"$f":"AI65*'Rentabilidade Cultivos'!$AD$80","v":11701.386558333334},{"$f":"AJ65*'Rentabilidade Cultivos'!$AD$80","v":11701.386558333334},{"$f":"AK65*'Rentabilidade Cultivos'!$AD$80","v":11701.386558333334},{"$f":"AL65*'Rentabilidade Cultivos'!$AD$80","v":11701.386558333334}]
[null,null,"Custo direto (R$ mil)",{"$f":"D64*'Rentabilidade Cultivos'!$AD$82/1000","v":0},{"$f":"E64*'Rentabilidade Cultivos'!$AD$82/1000","v":0},{"$f":"F64*'Rentabilidade Cultivos'!$AD$82/1000","v":0},{"$f":"G64*'Rentabilidade Cultivos'!$AD$82/1000","v":2334.0704407836674},{"$f":"H64*'Rentabilidade Cultivos'!$AD$82/1000","v":3993.5981005876679},{"$f":"I64*'Rentabilidade Cultivos'!$AD$82/1000","v":5253.7665744876676},{"$f":"J64*'Rentabilidade Cultivos'!$AD$82/1000","v":5938.7389816183359},{"$f":"K64*'Rentabilidade Cultivos'!$AD$82/1000","v":6390.2088489913358},{"$f":"L64*'Rentabilidade Cultivos'!$AD$82/1000","v":6390.2088489913358},{"$f":"M64*'Rentabilidade Cultivos'!$AD$82/1000","v":6390.2088489913358},{"$f":"N64*'Rentabilidade Cultivos'!$AD$82/1000","v":6390.2088489913358},{"$f":"O64*'Rentabilidade Cultivos'!$AD$82/1000","v":6390.2088489913358},{"$f":"P64*'Rentabilidade Cultivos'!$AD$82/1000","v":6390.2088489913358},{"$f":"Q64*'Rentabilidade Cultivos'!$AD$82/1000","v":6390.2088489913358},{"$f":"R64*'Rentabilidade Cultivos'!$AD$82/1000","v":6390.2088489913358},{"$f":"S64*'Rentabilidade Cultivos'!$AD$82/1000","v":6390.2088489913358},{"$f":"T64*'Rentabilidade Cultivos'!$AD$82/1000","v":6390.2088489913358},{"$f":"U64*'Rentabilidade Cultivos'!$AD$82/1000","v":6390.2088489913358},{"$f":"V64*'Rentabilidade Cultivos'!$AD$82/1000","v":6390.2088489913358},{"$f":"W64*'Rentabilidade Cultivos'!$AD$82/1000","v":6390.2088489913358},{"$f":"X64*'Rentabilidade Cultivos'!$AD$82/1000","v":6390.2088489913358},{"$f":"Y64*'Rentabilidade Cultivos'!$AD$82/1000","v":6390.2088489913358},{"$f":"Z64*'Rentabilidade Cultivos'!$AD$82/1000","v":6390.2088489913358},{"$f":"AA64*'Rentabilidade Cultivos'!$AD$82/1000","v":6390.2088489913358},{"$f":"AB64*'Rentabilidade Cultivos'!$AD$82/1000","v":6390.2088489913358},{"$f":"AC64*'Rentabilidade Cultivos'!$AD$82/1000","v":6390.2088489913358},{"$f":"AD64*'Rentabilidade Cultivos'!$AD$82/1000","v":6390.2088489913358},{"$f":"AE64*'Rentabilidade Cultivos'!$AD$82/1000","v":6390.2088489913358},{"$f":"AF64*'Rentabilidade Cultivos'!$AD$82/1000","v":6390.2088489913358},{"$f":"AG64*'Rentabilidade Cultivos'!$AD$82/1000","v":6390.2088489913358},{"$f":"AH64*'Rentabilidade Cultivos'!$AD$82/1000","v":6390.2088489913358},{"$f":"AI64*'Rentabilidade Cultivos'!$AD$82/1000","v":6390.2088489913358},{"$f":"AJ64*'Rentabilidade Cultivos'!$AD$82/1000","v":6390.2088489913358},{"$f":"AK64*'Rentabilidade Cultivos'!$AD$82/1000","v":6390.2088489913358},{"$f":"AL64*'Rentabilidade Cultivos'!$AD$82/1000","v":6390.2088489913358}]
[null,null,"Resultado (R$ mil)",{"$f":"D66-D67","v":0},{"$f":"E66-E67","v":0},0,1939.9464383829991,3319.2513285789987,4366.6316046789989,4935.9416642149981,5311.1777093419978,5311.1777093419978,5311.1777093419978,5311.1777093419978,5311.1777093419978,5311.1777093419978,5311.1777093419978,5311.1777093419978,5311.1777093419978,5311.1777093419978,5311.1777093419978,5311.1777093419978,5311.1777093419978,5311.1777093419978,5311.1777093419978,5311.1777093419978,5311.1777093419978,5311.1777093419978,5311.1777093419978,5311.1777093419978,5311.1777093419978,5311.1777093419978,5311.1777093419978,5311.1777093419978,5311.1777093419978,5311.1777093419978,5311.1777093419978,5311.1777093419978]
[null,"Uva","Área (ha)",{"$f":"'Painel de Controle'!$C$37*'Resultados Cultivos'!D$3","v":0},{"$f":"'Painel de Controle'!$C$37*'Resultados Cultivos'!E$3","v":0},{"$f":"'Painel de Controle'!$C$37*'Resultados Cultivos'!F$3","v":0},{"$f":"'Painel de Controle'!$C$37*'Resultados Cultivos'!G$3","v":93.489250000000013},{"$f":"'Painel de Controle'!$C$37*'Resultados Cultivos'!H$3","v":159.96025},{"$f":"'Painel de Controle'!$C$37*'Resultados Cultivos'!I$3","v":210.43525},{"$f":"'Painel de Controle'!$C$37*'Resultados Cultivos'!J$3","v":237.87125000000003},{"$f":"'Painel de Controle'!$C$37*'Resultados Cultivos'!K$3","v":255.95450000000002},{"$f":"'Painel de Controle'!$C$37*'Resultados Cultivos'!L$3","v":255.95450000000002},{"$f":"'Painel de Controle'!$C$37*'Resultados Cultivos'!M$3","v":255.95450000000002},{"$f":"'Painel de Controle'!$C$37*'Resultados Cultivos'!N$3","v":255.95450000000002},{"$f":"'Painel de Controle'!$C$37*'Resultados Cultivos'!O$3","v":255.95450000000002},{"$f":"'Painel de Controle'!$C$37*'Resultados Cultivos'!P$3","v":255.95450000000002},{"$f":"'Painel de Controle'!$C$37*'Resultados Cultivos'!Q$3","v":255.95450000000002},{"$f":"'Painel de Controle'!$C$37*'Resultados Cultivos'!R$3","v":255.95450000000002},{"$f":"'Painel de Controle'!$C$37*'Resultados Cultivos'!S$3","v":255.95450000000002},{"$f":"'Painel de Controle'!$C$37*'Resultados Cultivos'!T$3","v":255.95450000000002},{"$f":"'Painel de Controle'!$C$37*'Resultados Cultivos'!U$3","v":255.95450000000002},{"$f":"'Painel de Controle'!$C$37*'Resultados Cultivos'!V$3","v":255.95450000000002},{"$f":"'Painel de Controle'!$C$37*'Resultados Cultivos'!W$3","v":255.95450000000002},{"$f":"'Painel de Controle'!$C$37*'Resultados Cultivos'!X$3","v":255.95450000000002},{"$f":"'Painel de Controle'!$C$37*'Resultados Cultivos'!Y$3","v":255.95450000000002},{"$f":"'Painel de Controle'!$C$37*'Resultados Cultivos'!Z$3","v":255.95450000000002},{"$f":"'Painel de Controle'!$C$37*'Resultados Cultivos'!AA$3","v":255.95450000000002},{"$f":"'Painel de Controle'!$C$37*'Resultados Cultivos'!AB$3","v":255.95450000000002},{"$f":"'Painel de Controle'!$C$37*'Resultados Cultivos'!AC$3","v":255.95450000000002},{"$f":"'Painel de Controle'!$C$37*'Resultados Cultivos'!AD$3","v":255.95450000000002},{"$f":"'Painel de Controle'!$C$37*'Resultados Cultivos'!AE$3","v":255.95450000000002},{"$f":"'Painel de Controle'!$C$37*'Resultados Cultivos'!AF$3","v":255.95450000000002},{"$f":"'Painel de Controle'!$C$37*'Resultados Cultivos'!AG$3","v":255.95450000000002},{"$f":"'Painel de Controle'!$C$37*'Resultados Cultivos'!AH$3","v":255.95450000000002},{"$f":"'Painel de Controle'!$C$37*'Resultados Cultivos'!AI$3","v":255.95450000000002},{"$f":"'Painel de Controle'!$C$37*'Resultados Cultivos'!AJ$3","v":255.95450000000002},{"$f":"'Painel de Controle'!$C$37*'Resultados Cultivos'!AK$3","v":255.95450000000002},{"$f":"'Painel de Controle'!$C$37*'Resultados Cultivos'!AL$3","v":255.95450000000002}]
[null,null,"Produção (t)",{"$f":"'Rentabilidade Cultivos'!$AD$84*'Resultados Cultivos'!D69/1000","v":0},{"$f":"'Rentabilidade Cultivos'!$AD$84*'Resultados Cultivos'!E69/1000","v":0},{"$f":"'Rentabilidade Cultivos'!$AD$84*'Resultados Cultivos'!F69/1000","v":0},{"$f":"'Rentabilidade Cultivos'!$AD$84*'Resultados Cultivos'!G69/1000","v":2374.6269500000003},{"$f":"'Rentabilidade Cultivos'!$AD$84*'Resultados Cultivos'!H69/1000","v":4062.99035},{"$f":"'Rentabilidade Cultivos'!$AD$84*'Resultados Cultivos'!I69/1000","v":5345.0553499999996},{"$f":"'Rentabilidade Cultivos'!$AD$84*'Resultados Cultivos'!J69/1000","v":6041.9297500000011},{"$f":"'Rentabilidade Cultivos'!$AD$84*'Resultados Cultivos'!K69/1000","v":6501.2443000000003},{"$f":"'Rentabilidade Cultivos'!$AD$84*'Resultados Cultivos'!L69/1000","v":6501.2443000000003},{"$f":"'Rentabilidade Cultivos'!$AD$84*'Resultados Cultivos'!M69/1000","v":6501.2443000000003},{"$f":"'Rentabilidade Cultivos'!$AD$84*'Resultados Cultivos'!N69/1000","v":6501.2443000000003},{"$f":"'Rentabilidade Cultivos'!$AD$84*'Resultados Cultivos'!O69/1000","v":6501.2443000000003},{"$f":"'Rentabilidade Cultivos'!$AD$84*'Resultados Cultivos'!P69/1000","v":6501.2443000000003},{"$f":"'Rentabilidade Cultivos'!$AD$84*'Resultados Cultivos'!Q69/1000","v":6501.2443000000003},{"$f":"'Rentabilidade Cultivos'!$AD$84*'Resultados Cultivos'!R69/1000","v":6501.2443000000003},{"$f":"'Rentabilidade Cultivos'!$AD$84*'Resultados Cultivos'!S69/1000","v":6501.2443000000003},{"$f":"'Rentabilidade Cultivos'!$AD$84*'Resultados Cultivos'!T69/1000","v":6501.2443000000003},{"$f":"'Rentabilidade Cultivos'!$AD$84*'Resultados Cultivos'!U69/1000","v":6501.2443000000003},{"$f":"'Rentabilidade Cultivos'!$AD$84*'Resultados Cultivos'!V69/1000","v":6501.2443000000003},{"$f":"'Rentabilidade Cultivos'!$AD$84*'Resultados Cultivos'!W69/1000","v":6501.2443000000003},{"$f":"'Rentabilidade Cultivos'!$AD$84*'Resultados Cultivos'!X69/1000","v":6501.2443000000003},{"$f":"'Rentabilidade Cultivos'!$AD$84*'Resultados Cultivos'!Y69/1000","v":6501.2443000000003},{"$f":"'Rentabilidade Cultivos'!$AD$84*'Resultados Cultivos'!Z69/1000","v":6501.2443000000003},{"$f":"'Rentabilidade Cultivos'!$AD$84*'Resultados Cultivos'!AA69/1000","v":6501.2443000000003},{"$f":"'Rentabilidade Cultivos'!$AD$84*'Resultados Cultivos'!AB69/1000","v":6501.2443000000003},{"$f":"'Rentabilidade Cultivos'!$AD$84*'Resultados Cultivos'!AC69/1000","v":6501.2443000000003},{"$f":"'Rentabilidade Cultivos'!$AD$84*'Resultados Cultivos'!AD69/1000","v":6501.2443000000003},{"$f":"'Rentabilidade Cultivos'!$AD$84*'Resultados Cultivos'!AE69/1000","v":6501.2443000000003},{"$f":"'Rentabilidade Cultivos'!$AD$84*'Resultados Cultivos'!AF69/1000","v":6501.2443000000003},{"$f":"'Rentabilidade Cultivos'!$AD$84*'Resultados Cultivos'!AG69/1000","v":6501.2443000000003},{"$f":"'Rentabilidade Cultivos'!$AD$84*'Resultados Cultivos'!AH69/1000","v":6501.2443000000003},{"$f":"'Rentabilidade Cultivos'!$AD$84*'Resultados Cultivos'!AI69/1000","v":6501.2443000000003},{"$f":"'Rentabilidade Cultivos'!$AD$84*'Resultados Cultivos'!AJ69/1000","v":6501.2443000000003},{"$f":"'Rentabilidade Cultivos'!$AD$84*'Resultados Cultivos'!AK69/1000","v":6501.2443000000003},{"$f":"'Rentabilidade Cultivos'!$AD$84*'Resultados Cultivos'!AL69/1000","v":6501.2443000000003}]
[null,null,"Faturamento (R$ mil)",{"$f":"D70*'Rentabilidade Cultivos'!$AD$85","v":0},{"$f":"E70*'Rentabilidade Cultivos'!$AD$85","v":0},{"$f":"F70*'Rentabilidade Cultivos'!$AD$85","v":0},{"$f":"G70*'Rentabilidade Cultivos'!$AD$85","v":8144.9704385000023},{"$f":"H70*'Rentabilidade Cultivos'!$AD$85","v":13936.056900500003},{"$f":"I70*'Rentabilidade Cultivos'!$AD$85","v":18333.539850500001},{"$f":"J70*'Rentabilidade Cultivos'!$AD$85","v":20723.819042500007},{"$f":"K70*'Rentabilidade Cultivos'!$AD$85","v":22299.267949000005},{"$f":"L70*'Rentabilidade Cultivos'!$AD$85","v":22299.267949000005},{"$f":"M70*'Rentabilidade Cultivos'!$AD$85","v":22299.267949000005},{"$f":"N70*'Rentabilidade Cultivos'!$AD$85","v":22299.267949000005},{"$f":"O70*'Rentabilidade Cultivos'!$AD$85","v":22299.267949000005},{"$f":"P70*'Rentabilidade Cultivos'!$AD$85","v":22299.267949000005},{"$f":"Q70*'Rentabilidade Cultivos'!$AD$85","v":22299.267949000005},{"$f":"R70*'Rentabilidade Cultivos'!$AD$85","v":22299.267949000005},{"$f":"S70*'Rentabilidade Cultivos'!$AD$85","v":22299.267949000005},{"$f":"T70*'Rentabilidade Cultivos'!$AD$85","v":22299.267949000005},{"$f":"U70*'Rentabilidade Cultivos'!$AD$85","v":22299.267949000005},{"$f":"V70*'Rentabilidade Cultivos'!$AD$85","v":22299.267949000005},{"$f":"W70*'Rentabilidade Cultivos'!$AD$85","v":22299.267949000005},{"$f":"X70*'Rentabilidade Cultivos'!$AD$85","v":22299.267949000005},{"$f":"Y70*'Rentabilidade Cultivos'!$AD$85","v":22299.267949000005},{"$f":"Z70*'Rentabilidade Cultivos'!$AD$85","v":22299.267949000005},{"$f":"AA70*'Rentabilidade Cultivos'!$AD$85","v":22299.267949000005},{"$f":"AB70*'Rentabilidade Cultivos'!$AD$85","v":22299.267949000005},{"$f":"AC70*'Rentabilidade Cultivos'!$AD$85","v":22299.267949000005},{"$f":"AD70*'Rentabilidade Cultivos'!$AD$85","v":22299.267949000005},{"$f":"AE70*'Rentabilidade Cultivos'!$AD$85","v":22299.267949000005},{"$f":"AF70*'Rentabilidade Cultivos'!$AD$85","v":22299.267949000005},{"$f":"AG70*'Rentabilidade Cultivos'!$AD$85","v":22299.267949000005},{"$f":"AH70*'Rentabilidade Cultivos'!$AD$85","v":22299.267949000005},{"$f":"AI70*'Rentabilidade Cultivos'!$AD$85","v":22299.267949000005},{"$f":"AJ70*'Rentabilidade Cultivos'!$AD$85","v":22299.267949000005},{"$f":"AK70*'Rentabilidade Cultivos'!$AD$85","v":22299.267949000005},{"$f":"AL70*'Rentabilidade Cultivos'!$AD$85","v":22299.267949000005}]
[null,null,"Custo direto (R$ mil)",{"$f":"D69*'Rentabilidade Cultivos'!$AD$87/1000","v":0},{"$f":"E69*'Rentabilidade Cultivos'!$AD$87/1000","v":0},{"$f":"F69*'Rentabilidade Cultivos'!$AD$87/1000","v":0},{"$f":"G69*'Rentabilidade Cultivos'!$AD$87/1000","v":5166.2943036659626},{"$f":"H69*'Rentabilidade Cultivos'!$AD$87/1000","v":8839.5374696875115},{"$f":"I69*'Rentabilidade Cultivos'!$AD$87/1000","v":11628.828270261261},{"$f":"J69*'Rentabilidade Cultivos'!$AD$87/1000","v":13144.964623001064},{"$f":"K69*'Rentabilidade Cultivos'!$AD$87/1000","v":14144.260172668724},{"$f":"L69*'Rentabilidade Cultivos'!$AD$87/1000","v":14144.260172668724},{"$f":"M69*'Rentabilidade Cultivos'!$AD$87/1000","v":14144.260172668724},{"$f":"N69*'Rentabilidade Cultivos'!$AD$87/1000","v":14144.260172668724},{"$f":"O69*'Rentabilidade Cultivos'!$AD$87/1000","v":14144.260172668724},{"$f":"P69*'Rentabilidade Cultivos'!$AD$87/1000","v":14144.260172668724},{"$f":"Q69*'Rentabilidade Cultivos'!$AD$87/1000","v":14144.260172668724},{"$f":"R69*'Rentabilidade Cultivos'!$AD$87/1000","v":14144.260172668724},{"$f":"S69*'Rentabilidade Cultivos'!$AD$87/1000","v":14144.260172668724},{"$f":"T69*'Rentabilidade Cultivos'!$AD$87/1000","v":14144.260172668724},{"$f":"U69*'Rentabilidade Cultivos'!$AD$87/1000","v":14144.260172668724},{"$f":"V69*'Rentabilidade Cultivos'!$AD$87/1000","v":14144.260172668724},{"$f":"W69*'Rentabilidade Cultivos'!$AD$87/1000","v":14144.260172668724},{"$f":"X69*'Rentabilidade Cultivos'!$AD$87/1000","v":14144.260172668724},{"$f":"Y69*'Rentabilidade Cultivos'!$AD$87/1000","v":14144.260172668724},{"$f":"Z69*'Rentabilidade Cultivos'!$AD$87/1000","v":14144.260172668724},{"$f":"AA69*'Rentabilidade Cultivos'!$AD$87/1000","v":14144.260172668724},{"$f":"AB69*'Rentabilidade Cultivos'!$AD$87/1000","v":14144.260172668724},{"$f":"AC69*'Rentabilidade Cultivos'!$AD$87/1000","v":14144.260172668724},{"$f":"AD69*'Rentabilidade Cultivos'!$AD$87/1000","v":14144.260172668724},{"$f":"AE69*'Rentabilidade Cultivos'!$AD$87/1000","v":14144.260172668724},{"$f":"AF69*'Rentabilidade Cultivos'!$AD$87/1000","v":14144.260172668724},{"$f":"AG69*'Rentabilidade Cultivos'!$AD$87/1000","v":14144.260172668724},{"$f":"AH69*'Rentabilidade Cultivos'!$AD$87/1000","v":14144.260172668724},{"$f":"AI69*'Rentabilidade Cultivos'!$AD$87/1000","v":14144.260172668724},{"$f":"AJ69*'Rentabilidade Cultivos'!$AD$87/1000","v":14144.260172668724},{"$f":"AK69*'Rentabilidade Cultivos'!$AD$87/1000","v":14144.260172668724},{"$f":"AL69*'Rentabilidade Cultivos'!$AD$87/1000","v":14144.260172668724}]
[null,null,"Resultado (R$ mil)",{"$f":"D71-D72","v":0},{"$f":"E71-E72","v":0},0,2978.6761348340397,5096.5194308124919,6704.7115802387398,7578.8544194989427,8155.0077763312802,8155.0077763312802,8155.0077763312802,8155.0077763312802,8155.0077763312802,8155.0077763312802,8155.0077763312802,8155.0077763312802,8155.0077763312802,8155.0077763312802,8155.0077763312802,8155.0077763312802,8155.0077763312802,8155.0077763312802,8155.0077763312802,8155.0077763312802,8155.0077763312802,8155.0077763312802,8155.0077763312802,8155.0077763312802,8155.0077763312802,8155.0077763312802,8155.0077763312802,8155.0077763312802,8155.0077763312802,8155.0077763312802,8155.0077763312802,8155.0077763312802]

{"sheet":"Rentabilidade Cultivos","index":29,"n_rows":142,"n_cols":31,"rows_kept":142,"cut":false,"hidden":false,"merged":[[53,1,57,1],[58,1,62,1],[63,1,67,1],[4,1,9,1],[10,1,15,1],[16,1,21,1],[22,1,27,1],[43,1,47,1],[48,1,52,1],[108,1,110,1],[68,1,72,1],[73,1,77,1],[78,1,82,1],[83,1,87,1],[90,1,92,1],[93,1,95,1],[96,1,98,1],[99,1,101,1],[102,1,104,1],[105,1,107,1],[134,1,136,1],[138,1,140,1],[111,1,113,1],[114,1,116,1],[118,1,120,1],[125,1,127,1],[128,1,130,1],[131,1,133,1]]}
[]
[null,"1. Rentabilidade de Cultivos Temporários"]
[]
[null,"Anuais","Indicadores","Unidade","Valor (R$)"]
[null,"Melancia","Produtividade","kg/ha",{"$f":"Melancia!F3","v":30000}]
[null,null,"Preço de Venda","R$/kg",{"$f":"Melancia!F4","v":0.89}]
[null,null,"Valor da Produção","R$/ha",{"$f":"E5*E6","v":26700}]
[null,null,"Custo de Produção","R$/ha",{"$f":"Melancia!F39","v":12944.977499999999}]
[null,null,"Resultado","R$/ha",{"$f":"E7-E8","v":13755.022500000001}]
[null,null,"Resultado / Valor Produção","%",{"$f":"E9/E7","v":0.51516938202247198}]
[null,"Melão","Produtividade","kg/ha",{"$f":"Melão!F3","v":25000}]
[null,null,"Preço de Venda","R$/kg",{"$f":"Melão!F4","v":2.0299999999999998}]
[null,null,"Valor da Produção","R$/ha",{"$f":"E11*E12","v":50749.999999999993}]
[null,null,"Custo de Produção","R$/ha",{"$f":"Melão!F41","v":27604.575990000001}]
[null,null,"Resultado","R$/ha",{"$f":"E13-E14","v":23145.424009999992}]
[null,null,"Resultado / Valor Produção","%",{"$f":"E15/E13","v":0.45606746817733979}]
[null,"Tomate","Produtividade","kg/ha",{"$f":"Tomate!F3","v":140000}]
[null,null,"Preço de Venda","R$/kg",{"$f":"Tomate!F4","v":0.4}]
[null,null,"Valor da Produção","R$/ha",{"$f":"E17*E18","v":56000}]
[null,null,"Custo de Produção","R$/ha",{"$f":"Tomate!F38","v":36194.854500000001}]
[null,null,"Resultado","R$/ha",{"$f":"E19-E20","v":19805.145499999999}]
[null,null,"Resultado / Valor Produção","%",{"$f":"E21/E19","v":0.35366331249999999}]
[null,"Feijão","Produtividade","kg/ha",{"$f":"'Rentabilidade EMATER - DF'!G5","v":3000}]
[null,null,"Preço de Venda","R$/kg",4.5]
[null,null,"Valor da Produção","R$/ha",{"$f":"'Rentabilidade EMATER - DF'!G7","v":13500}]
[null,null,"Custo de Produção","R$/ha",{"$f":"'Rentabilidade EMATER - DF'!G8","v":6743.25}]
[null,null,"Resultado","R$/ha",{"$f":"E25-E26","v":6756.75}]
[null,null,"Resultado / Valor Produção","%",{"$f":"E27/E25","v":0.50049999999999994}]
[]
[null,"2. Rentabilidade de Cultivos Perenes e Semi-Perenes"]
[]
[null,"Perenes e Semi-Perenes","Vida Útil (anos)"]
[null,"Abacaxi",3]
[null,"Acerola",10]
[null,"Banana",5]
[null,"Coco",20]
[null,"Goiaba",15]
[null,"Laranja",20]
[null,"Mamão",3]
[null,"Maracujá",3]
[null,"Uva",20]
[]
[null,"Perenes e Semi-Perenes","Indicadores","Unidade","Ano 1","Ano 2","Ano 3","Ano 4","Ano 5","Ano 6","Ano 7","Ano 8","Ano 9","Ano 10","Ano 11","Ano 12","Ano 13","Ano 14","Ano 15","Ano 16","Ano 17","Ano 18","Ano 19","Ano 20","Ano 21","Ano 22","Ano 23","Ano 24","Ano 25","Média","Resultado / Valor da Produção"]
[null,"Abacaxi","Produtividade","kg/ha",{"$f":"Abacaxi!U3","v":0},{"$f":"Abacaxi!V3","v":50000},{"$f":"Abacaxi!W3","v":40000},null,null,null,null,null,null,null,null,null,null,null,null,null,null,null,null,null,null,null,null,null,null,{"$f":"AVERAGE(E44:G44)","v":30000}]
[null,null,"Preço de Venda","R$/kg",{"$f":"Abacaxi!$F$4","v":1.69},{"$f":"Abacaxi!$F$4","v":1.69},{"$f":"Abacaxi!$F$4","v":1.69},null,null,null,null,null,null,null,null,null,null,null,null,null,null,null,null,null,null,null,null,null,null,{"$f":"AVERAGE(E45:G45)","v":1.6900000000000002}]
[null,null,"Valor da Produção","R$/ha",{"$f":"E44*E45","v":0},{"$f":"F44*F45","v":84500},{"$f":"G44*G45","v":67600},null,null,null,null,null,null,null,null,null,null,null,null,null,null,null,null,null,null,null,null,null,null,{"$f":"AVERAGE(E46:G46)","v":50700}]
[null,null,"Custo de Produção","R$/ha",{"$f":"Abacaxi!U5","v":36902.879999999997},{"$f":"Abacaxi!V5","v":26542.527000000002},{"$f":"Abacaxi!W5","v":23515.742999999999},null,null,null,null,null,null,null,null,null,null,null,null,null,null,null,null,null,null,null,null,null,null,{"$f":"AVERAGE(E47:G47)","v":28987.05}]
[null,null,"Resultado","R$/ha",{"$f":"E46-E47","v":-36902.879999999997},{"$f":"F46-F47","v":57957.472999999998},{"$f":"G46-G47","v":44084.256999999998},null,null,null,null,null,null,null,null,null,null,null,null,null,null,null,null,null,null,null,null,null,null,{"$f":"AVERAGE(E48:G48)","v":21712.95},{"$f":"AD48/AD46","v":0.42826331360946746}]
[null,"Acerola","Produtividade","kg/ha",{"$f":"Acerola!U3","v":0},{"$f":"Acerola!V3","v":10000},{"$f":"Acerola!W3","v":15000},{"$f":"Acerola!X3","v":20000},{"$f":"Acerola!Y3","v":25000},{"$f":"Acerola!Z3","v":25000},{"$f":"Acerola!AA3","v":25000},{"$f":"Acerola!AB3","v":25000},{"$f":"Acerola!AC3","v":25000},{"$f":"Acerola!AD3","v":25000},null,null,null,null,null,null,null,null,null,null,null,null,null,null,null,{"$f":"AVERAGE(E49:N49)","v":19500}]
[null,null,"Preço de Venda","R$/kg",{"$f":"Acerola!$F$4","v":2.5},{"$f":"Acerola!$F$4","v":2.5},{"$f":"Acerola!$F$4","v":2.5},{"$f":"Acerola!$F$4","v":2.5},{"$f":"Acerola!$F$4","v":2.5},{"$f":"Acerola!$F$4","v":2.5},{"$f":"Acerola!$F$4","v":2.5},{"$f":"Acerola!$F$4","v":2.5},{"$f":"Acerola!$F$4","v":2.5},{"$f":"Acerola!$F$4","v":2.5},null,null,null,null,null,null,null,null,null,null,null,null,null,null,null,{"$f":"AVERAGE(E50:N50)","v":2.5}]
[null,null,"Valor da Produção","R$/ha",{"$f":"E49*E50","v":0},{"$f":"F49*F50","v":25000},37500,50000,62500,62500,62500,62500,62500,62500,null,null,null,null,null,null,null,null,null,null,null,null,null,null,null,{"$f":"AVERAGE(E51:N51)","v":48750}]
[null,null,"Custo de Produção","R$/ha",{"$f":"Acerola!U5","v":17133.217499999999},{"$f":"Acerola!V5","v":26377.039500000003},{"$f":"Acerola!W5","v":34793.073000000004},{"$f":"Acerola!X5","v":39948.993000000002},{"$f":"Acerola!Y5","v":44245.593000000001},{"$f":"Acerola!Z5","v":44245.593000000001},{"$f":"Acerola!AA5","v":44245.593000000001},{"$f":"Acerola!AB5","v":44245.593000000001},{"$f":"Acerola!AC5","v":44245.593000000001},{"$f":"Acerola!AD5","v":44245.593000000001},null,null,null,null,null,null,null,null,null,null,null,null,null,null,null,{"$f":"AVERAGE(E52:N52)","v":38372.588100000001}]
[null,null,"Resultado","R$/ha",{"$f":"E51-E52","v":-17133.217499999999},-1377.0395000000026,2706.926999999996,10051.006999999998,18254.406999999999,18254.406999999999,18254.406999999999,18254.406999999999,18254.406999999999,18254.406999999999,null,null,null,null,null,null,null,null,null,null,null,null,null,null,null,{"$f":"AVERAGE(E53:N53)","v":10377.411900000001},{"$f":"AD53/AD51","v":0.21286998769230772}]
[null,"Banana","Produtividade","kg/ha",{"$f":"Banana!U3*1000","v":15000},{"$f":"Banana!V3*1000","v":25000},{"$f":"Banana!W3*1000","v":25000},{"$f":"Banana!X3*1000","v":25000},{"$f":"Banana!Y3*1000","v":25000},null,null,null,null,null,null,null,null,null,null,null,null,null,null,null,null,null,null,null,null,{"$f":"AVERAGE(E54:I54)","v":23000}]
[null,null,"Preço de Venda","R$/kg",{"$f":"Banana!$F$4/1000","v":2.16},{"$f":"Banana!$F$4/1000","v":2.16},{"$f":"Banana!$F$4/1000","v":2.16},{"$f":"Banana!$F$4/1000","v":2.16},{"$f":"Banana!$F$4/1000","v":2.16},null,null,null,null,null,null,null,null,null,null,null,null,null,null,null,null,null,null,null,null,{"$f":"AVERAGE(E55:I55)","v":2.16}]
[null,null,"Valor da Produção","R$/ha",{"$f":"E54*E55","v":32400.000000000004},{"$f":"F54*F55","v":54000},54000,54000,54000,null,null,null,null,null,null,null,null,null,null,null,null,null,null,null,null,null,null,null,null,{"$f":"AVERAGE(E56:I56)","v":49680}]
[null,null,"Custo de Produção","R$/ha",{"$f":"Banana!U5","v":42296.6325},{"$f":"Banana!V5","v":18655.432500000003},{"$f":"Banana!W5","v":17708.794500000004},{"$f":"Banana!X5","v":18482.182500000003},{"$f":"Banana!Y5","v":16958.338500000002},null,null,null,null,null,null,null,null,null,null,null,null,null,null,null,null,null,null,null,null,{"$f":"AVERAGE(E57:I57)","v":22820.276100000003}]
[null,null,"Resultado","R$/ha",{"$f":"E56-E57","v":-9896.6324999999961},35344.567499999997,36291.205499999996,35517.817499999997,37041.661500000002,null,null,null,null,null,null,null,null,null,null,null,null,null,null,null,null,null,null,null,null,{"$f":"AVERAGE(E58:I58)","v":26859.723899999994},{"$f":"AD58/AD56","v":0.54065466787439598}]
[null,"Coco","Produtividade","kg/ha",{"$f":"Coco!U3","v":0},{"$f":"Coco!V3","v":0},{"$f":"Coco!W3","v":22500},{"$f":"Coco!X3","v":30000},{"$f":"Coco!Y3","v":37500},{"$f":"Coco!Z3","v":37500},{"$f":"Coco!AA3","v":37500},{"$f":"Coco!AB3","v":37500},{"$f":"Coco!AC3","v":37500},{"$f":"Coco!AD3","v":37500},{"$f":"Coco!AE3","v":37500},{"$f":"Coco!AF3","v":37500},{"$f":"Coco!AG3","v":37500},{"$f":"Coco!AH3","v":37500},{"$f":"Coco!AI3","v":37500},{"$f":"Coco!AJ3","v":37500},{"$f":"Coco!AK3","v":37500},{"$f":"Coco!AL3","v":37500},{"$f":"Coco!AM3","v":37500},{"$f":"Coco!AN3","v":37500},null,null,null,null,null,{"$f":"AVERAGE(E59:X59)","v":32625}]
[null,null,"Preço de Venda","R$/kg",{"$f":"Coco!$F$4","v":1},{"$f":"Coco!$F$4","v":1},{"$f":"Coco!$F$4","v":1},{"$f":"Coco!$F$4","v":1},{"$f":"Coco!$F$4","v":1},{"$f":"Coco!$F$4","v":1},{"$f":"Coco!$F$4","v":1},{"$f":"Coco!$F$4","v":1},{"$f":"Coco!$F$4","v":1},{"$f":"Coco!$F$4","v":1},{"$f":"Coco!$F$4","v":1},{"$f":"Coco!$F$4","v":1},{"$f":"Coco!$F$4","v":1},{"$f":"Coco!$F$4","v":1},{"$f":"Coco!$F$4","v":1},{"$f":"Coco!$F$4","v":1},{"$f":"Coco!$F$4","v":1},{"$f":"Coco!$F$4","v":1},{"$f":"Coco!$F$4","v":1},{"$f":"Coco!$F$4","v":1},null,null,null,null,null,{"$f":"AVERAGE(E60:X60)","v":1}]
[null,null,"Valor da Produção","R$/ha",{"$f":"E59*E60","v":0},{"$f":"F59*F60","v":0},22500,30000,37500,37500,37500,37500,37500,37500,37500,37500,37500,37500,37500,37500,37500,37500,37500,37500,null,null,null,null,null,{"$f":"AVERAGE(E61:X61)","v":32625}]
[null,null,"Custo de Produção","R$/ha",{"$f":"Coco!U5","v":9880.2637500000019},{"$f":"Coco!V5","v":8424.7117500000004},{"$f":"Coco!W5","v":11452.481250000001},{"$f":"Coco!X5","v":13755.871499999999},{"$f":"Coco!Y5","v":14964.6315},{"$f":"Coco!Z5","v":14964.6315},{"$f":"Coco!AA5","v":14964.6315},{"$f":"Coco!AB5","v":14964.6315},{"$f":"Coco!AC5","v":14964.6315},{"$f":"Coco!AD5","v":14964.6315},{"$f":"Coco!AE5","v":14964.6315},{"$f":"Coco!AF5","v":14964.6315},{"$f":"Coco!AG5","v":14964.6315},{"$f":"Coco!AH5","v":14964.6315},{"$f":"Coco!AI5","v":14964.6315},{"$f":"Coco!AJ5","v":14964.6315},{"$f":"Coco!AK5","v":14964.6315},{"$f":"Coco!AL5","v":14964.6315},{"$f":"Coco!AM5","v":14964.6315},{"$f":"Coco!AN5","v":14964.6315},null,null,null,null,null,{"$f":"AVERAGE(E62:X62)","v":14147.371612499997}]
[null,null,"Resultado","R$/ha",{"$f":"E61-E62","v":-9880.2637500000019},{"$f":"F61-F62","v":-8424.7117500000004},11047.518749999999,16244.128500000001,22535.3685,22535.3685,22535.3685,22535.3685,22535.3685,22535.3685,22535.3685,22535.3685,22535.3685,22535.3685,22535.3685,22535.3685,22535.3685,22535.3685,22535.3685,22535.3685,null,null,null,null,null,{"$f":"AVERAGE(E63:X63)","v":18477.628387500001},{"$f":"AD63/AD61","v":0.56636408850574715}]
[null,"Goiaba","Produtividade","kg/ha",{"$f":"'Rentabilidade EMATER - DF'!G31","v":0},{"$f":"'Rentabilidade EMATER - DF'!H31","v":0},{"$f":"'Rentabilidade EMATER - DF'!I31","v":9000},{"$f":"'Rentabilidade EMATER - DF'!J31","v":18000},{"$f":"'Rentabilidade EMATER - DF'!K31","v":30000},{"$f":"'Rentabilidade EMATER - DF'!L31","v":35000},{"$f":"'Rentabilidade EMATER - DF'!M31","v":35000},{"$f":"'Rentabilidade EMATER - DF'!N31","v":35000},{"$f":"'Rentabilidade EMATER - DF'!O31","v":35000},{"$f":"'Rentabilidade EMATER - DF'!P31","v":35000},{"$f":"'Rentabilidade EMATER - DF'!Q31","v":35000},{"$f":"'Rentabilidade EMATER - DF'!R31","v":30000},{"$f":"'Rentabilidade EMATER - DF'!S31","v":25000},{"$f":"'Rentabilidade EMATER - DF'!T31","v":20000},{"$f":"'Rentabilidade EMATER - DF'!U31","v":18000},null,null,null,null,null,null,null,null,null,null,{"$f":"AVERAGE(E64:S64)","v":24000}]
[null,null,"Preço de Venda","R$/kg",{"$f":"'Rentabilidade EMATER - DF'!$E$32","v":1.74},{"$f":"'Rentabilidade EMATER - DF'!$E$32","v":1.74},{"$f":"'Rentabilidade EMATER - DF'!$E$32","v":1.74},{"$f":"'Rentabilidade EMATER - DF'!$E$32","v":1.74},{"$f":"'Rentabilidade EMATER - DF'!$E$32","v":1.74},{"$f":"'Rentabilidade EMATER - DF'!$E$32","v":1.74},{"$f":"'Rentabilidade EMATER - DF'!$E$32","v":1.74},{"$f":"'Rentabilidade EMATER - DF'!$E$32","v":1.74},{"$f":"'Rentabilidade EMATER - DF'!$E$32","v":1.74},{"$f":"'Rentabilidade EMATER - DF'!$E$32","v":1.74},{"$f":"'Rentabilidade EMATER - DF'!$E$32","v":1.74},{"$f":"'Rentabilidade EMATER - DF'!$E$32","v":1.74},{"$f":"'Rentabilidade EMATER - DF'!$E$32","v":1.74},{"$f":"'Rentabilidade EMATER - DF'!$E$32","v":1.74},{"$f":"'Rentabilidade EMATER - DF'!$E$32","v":1.74},null,null,null,null,null,null,null,null,null,null,{"$f":"AVERAGE(E65:S65)","v":1.7399999999999993}]
[null,null,"Valor da Produção","R$/ha",{"$f":"E64*E65","v":0},{"$f":"F64*F65","v":0},15660,31320,52200,60900,60900,60900,60900,60900,60900,52200,43500,34800,31320,null,null,null,null,null,null,null,null,null,null,{"$f":"AVERAGE(E66:S66)","v":41760}]
[null,null,"Custo de Produção","R$/ha",{"$f":"'Rentabilidade EMATER - DF'!G34","v":13191.29},{"$f":"'Rentabilidade EMATER - DF'!H34","v":10480.24},{"$f":"'Rentabilidade EMATER - DF'!I34","v":15036.99},{"$f":"'Rentabilidade EMATER - DF'!J34","v":19248.64},{"$f":"'Rentabilidade EMATER - DF'!K34","v":23770.35},{"$f":"'Rentabilidade EMATER - DF'!L34","v":23770.35},{"$f":"'Rentabilidade EMATER - DF'!M34","v":23770.35},{"$f":"'Rentabilidade EMATER - DF'!N34","v":23770.35},{"$f":"'Rentabilidade EMATER - DF'!O34","v":23770.35},{"$f":"'Rentabilidade EMATER - DF'!P34","v":23770.35},{"$f":"'Rentabilidade EMATER - DF'!Q34","v":23770.35},{"$f":"'Rentabilidade EMATER - DF'!R34","v":23770.35},{"$f":"'Rentabilidade EMATER - DF'!S34","v":23770.35},{"$f":"'Rentabilidade EMATER - DF'!T34","v":23770.35},{"$f":"'Rentabilidade EMATER - DF'!U34","v":23770.35},null,null,null,null,null,null,null,null,null,null,{"$f":"AVERAGE(E67:S67)","v":21295.400666666665}]
[null,null,"Resultado","R$/ha",{"$f":"E66-E67","v":-13191.29},{"$f":"F66-F67","v":-10480.24},623.01000000000022,12071.36,28429.65,37129.65,37129.65,37129.65,37129.65,37129.65,37129.65,28429.65,19729.650000000001,11029.650000000001,7549.6500000000015,null,null,null,null,null,null,null,null,null,null,{"$f":"AVERAGE(E68:S68)","v":20464.599333333335},{"$f":"AD68/AD66","v":0.49005266602809711}]
[null,"Laranja","Produtividade","kg/ha",{"$f":"Laranja!U3","v":0},{"$f":"Laranja!V3","v":0},{"$f":"Laranja!W3","v":3400},{"$f":"Laranja!X3","v":6800},{"$f":"Laranja!Y3","v":20400},{"$f":"Laranja!Z3","v":30000},{"$f":"Laranja!AA3","v":30000},{"$f":"Laranja!AB3","v":30000},{"$f":"Laranja!AC3","v":30000},{"$f":"Laranja!AD3","v":30000},{"$f":"Laranja!AE3","v":30000},{"$f":"Laranja!AF3","v":30000},{"$f":"Laranja!AG3","v":30000},{"$f":"Laranja!AH3","v":30000},{"$f":"Laranja!AI3","v":30000},{"$f":"Laranja!AJ3","v":30000},{"$f":"Laranja!AK3","v":30000},{"$f":"Laranja!AL3","v":30000},{"$f":"Laranja!AM3","v":30000},{"$f":"Laranja!AN3","v":30000},null,null,null,null,null,{"$f":"AVERAGE(E69:X69)","v":24030}]
[null,null,"Preço de Venda","R$/kg",{"$f":"Laranja!$F$4","v":1.02},{"$f":"Laranja!$F$4","v":1.02},{"$f":"Laranja!$F$4","v":1.02},{"$f":"Laranja!$F$4","v":1.02},{"$f":"Laranja!$F$4","v":1.02},{"$f":"Laranja!$F$4","v":1.02},{"$f":"Laranja!$F$4","v":1.02},{"$f":"Laranja!$F$4","v":1.02},{"$f":"Laranja!$F$4","v":1.02},{"$f":"Laranja!$F$4","v":1.02},{"$f":"Laranja!$F$4","v":1.02},{"$f":"Laranja!$F$4","v":1.02},{"$f":"Laranja!$F$4","v":1.02},{"$f":"Laranja!$F$4","v":1.02},{"$f":"Laranja!$F$4","v":1.02},{"$f":"Laranja!$F$4","v":1.02},{"$f":"Laranja!$F$4","v":1.02},{"$f":"Laranja!$F$4","v":1.02},{"$f":"Laranja!$F$4","v":1.02},{"$f":"Laranja!$F$4","v":1.02},null,null,null,null,null,{"$f":"AVERAGE(E70:X70)","v":1.0199999999999998}]
[null,null,"Valor da Produção","R$/ha",{"$f":"E69*E70","v":0},{"$f":"F69*F70","v":0},3468,6936,20808,30600,30600,30600,30600,30600,30600,30600,30600,30600,30600,30600,30600,30600,30600,30600,null,null,null,null,null,{"$f":"AVERAGE(E71:X71)","v":24510.6}]
[null,null,"Custo de Produção","R$/ha",{"$f":"Laranja!U5","v":8290.0912500000013},{"$f":"Laranja!V5","v":4841.1877500000001},{"$f":"Laranja!W5","v":6165.1372499999998},{"$f":"Laranja!X5","v":7725.5940000000001},{"$f":"Laranja!Y5","v":12833.001000000002},{"$f":"Laranja!Z5","v":14637.078000000001},{"$f":"Laranja!AA5","v":14637.078000000001},{"$f":"Laranja!AB5","v":14637.078000000001},{"$f":"Laranja!AC5","v":14637.078000000001},{"$f":"Laranja!AD5","v":14637.078000000001},{"$f":"Laranja!AE5","v":14637.078000000001},{"$f":"Laranja!AF5","v":14637.078000000001},{"$f":"Laranja!AG5","v":14637.078000000001},{"$f":"Laranja!AH5","v":14637.078000000001},{"$f":"Laranja!AI5","v":14637.078000000001},{"$f":"Laranja!AJ5","v":14637.078000000001},{"$f":"Laranja!AK5","v":14637.078000000001},{"$f":"Laranja!AL5","v":14637.078000000001},{"$f":"Laranja!AM5","v":14637.078000000001},{"$f":"Laranja!AN5","v":14637.078000000001},null,null,null,null,null,{"$f":"AVERAGE(E72:X72)","v":12970.559062500006}]
[null,null,"Resultado","R$/ha",{"$f":"E71-E72","v":-8290.0912500000013},-4841.1877500000001,-2697.1372499999998,-789.59400000000005,7974.998999999998,15962.921999999999,15962.921999999999,15962.921999999999,15962.921999999999,15962.921999999999,15962.921999999999,15962.921999999999,15962.921999999999,15962.921999999999,15962.921999999999,15962.921999999999,15962.921999999999,15962.921999999999,15962.921999999999,15962.921999999999,null,null,null,null,null,{"$f":"AVERAGE(E73:X73)","v":11540.040937499996},{"$f":"AD73/AD71","v":0.47081837806908017}]
[null,"Mamão","Produtividade","kg/ha",{"$f":"Mamão!U3","v":20000},{"$f":"Mamão!V3","v":30000},{"$f":"Mamão!W3","v":25000},null,null,null,null,null,null,null,null,null,null,null,null,null,null,null,null,null,null,null,null,null,null,{"$f":"AVERAGE(E74:G74)","v":25000}]
[null,null,"Preço de Venda","R$/kg",{"$f":"Mamão!$F$4","v":1.71},{"$f":"Mamão!$F$4","v":1.71},{"$f":"Mamão!$F$4","v":1.71},null,null,null,null,null,null,null,null,null,null,null,null,null,null,null,null,null,null,null,null,null,null,1.71]
[null,null,"Valor da Produção","R$/ha",{"$f":"E74*E75","v":34200},{"$f":"F74*F75","v":51300},{"$f":"G74*G75","v":42750},null,null,null,null,null,null,null,null,null,null,null,null,null,null,null,null,null,null,null,null,null,null,42750]
[null,null,"Custo de Produção","R$/ha",{"$f":"Mamão!U5","v":31410.963000000003},{"$f":"Mamão!V5","v":16947.750000000004},{"$f":"Mamão!W5","v":15521.928},null,null,null,null,null,null,null,null,null,null,null,null,null,null,null,null,null,null,null,null,null,null,21293.547000000002]
[null,null,"Resultado","R$/ha",{"$f":"E76-E77","v":2789.0369999999966},34352.25,27228.072,null,null,null,null,null,null,null,null,null,null,null,null,null,null,null,null,null,null,null,null,null,null,21456.452999999998,{"$f":"AD78/AD76","v":0.50190533333333331}]
[null,"Maracujá","Produtividade","kg/ha",{"$f":"Maracujá!U3","v":20000},{"$f":"Maracujá!V3","v":25000},{"$f":"Maracujá!W3","v":20000},null,null,null,null,null,null,null,null,null,null,null,null,null,null,null,null,null,null,null,null,null,null,21666.666666666668]
[null,null,"Preço de Venda","R$/kg",{"$f":"Maracujá!$F$4","v":2.11},{"$f":"Maracujá!$F$4","v":2.11},{"$f":"Maracujá!$F$4","v":2.11},null,null,null,null,null,null,null,null,null,null,null,null,null,null,null,null,null,null,null,null,null,null,2.11]
[null,null,"Valor da Produção","R$/ha",{"$f":"E79*E80","v":42200},{"$f":"F79*F80","v":52750},{"$f":"G79*G80","v":42200},null,null,null,null,null,null,null,null,null,null,null,null,null,null,null,null,null,null,null,null,null,null,45716.666666666664]
[null,null,"Custo de Produção","R$/ha",{"$f":"Maracujá!U5","v":36363.036500000002},{"$f":"Maracujá!V5","v":19611.999750000003},{"$f":"Maracujá!W5","v":18923.535750000003},null,null,null,null,null,null,null,null,null,null,null,null,null,null,null,null,null,null,null,null,null,null,24966.190666666673]
[null,null,"Resultado","R$/ha",{"$f":"E81-E82","v":5836.963499999998},{"$f":"F81-F82","v":33138.000249999997},{"$f":"G81-G82","v":23276.464249999997},null,null,null,null,null,null,null,null,null,null,null,null,null,null,null,null,null,null,null,null,null,null,20750.475999999999,{"$f":"AD83/AD81","v":0.45389302223842509}]
[null,"Uva","Produtividade","kg/ha",{"$f":"Uva!U3","v":0},{"$f":"Uva!V3","v":0},{"$f":"Uva!W3","v":5000},{"$f":"Uva!X3","v":10000},{"$f":"Uva!Y3","v":20000},{"$f":"Uva!Z3","v":25000},{"$f":"Uva!AA3","v":32000},{"$f":"Uva!AB3","v":32000},{"$f":"Uva!AC3","v":32000},{"$f":"Uva!AD3","v":32000},{"$f":"Uva!AE3","v":32000},{"$f":"Uva!AF3","v":32000},{"$f":"Uva!AG3","v":32000},{"$f":"Uva!AH3","v":32000},{"$f":"Uva!AI3","v":32000},{"$f":"Uva!AJ3","v":32000},{"$f":"Uva!AK3","v":32000},{"$f":"Uva!AL3","v":32000},{"$f":"Uva!AM3","v":32000},{"$f":"Uva!AN3","v":32000},null,null,null,null,null,{"$f":"AVERAGE(E84:X84)","v":25400}]
[null,null,"Preço de Venda","R$/kg",{"$f":"Uva!$F$4","v":3.43},{"$f":"Uva!$F$4","v":3.43},{"$f":"Uva!$F$4","v":3.43},{"$f":"Uva!$F$4","v":3.43},{"$f":"Uva!$F$4","v":3.43},{"$f":"Uva!$F$4","v":3.43},{"$f":"Uva!$F$4","v":3.43},{"$f":"Uva!$F$4","v":3.43},{"$f":"Uva!$F$4","v":3.43},{"$f":"Uva!$F$4","v":3.43},{"$f":"Uva!$F$4","v":3.43},{"$f":"Uva!$F$4","v":3.43},{"$f":"Uva!$F$4","v":3.43},{"$f":"Uva!$F$4","v":3.43},{"$f":"Uva!$F$4","v":3.43},{"$f":"Uva!$F$4","v":3.43},{"$f":"Uva!$F$4","v":3.43},{"$f":"Uva!$F$4","v":3.43},{"$f":"Uva!$F$4","v":3.43},{"$f":"Uva!$F$4","v":3.43},null,null,null,null,null,{"$f":"AVERAGE(E85:X85)","v":3.4300000000000006}]
[null,null,"Valor da Produção","R$/ha",{"$f":"E84*E85","v":0},{"$f":"F84*F85","v":0},17150,34300,68600,85750,109760,109760,109760,109760,109760,109760,109760,109760,109760,109760,109760,109760,109760,109760,null,null,null,null,null,{"$f":"AVERAGE(E86:X86)","v":87122}]
[null,null,"Custo de Produção","R$/ha",{"$f":"Uva!U5","v":101170.107},{"$f":"Uva!V5","v":20533.254000000004},{"$f":"Uva!W5","v":30906.378000000001},{"$f":"Uva!X5","v":34953.546000000002},{"$f":"Uva!Y5","v":42351.185999999994},{"$f":"Uva!Z5","v":47424.918000000005},{"$f":"Uva!AA5","v":59134.098000000013},{"$f":"Uva!AB5","v":59134.098000000013},{"$f":"Uva!AC5","v":59134.098000000013},{"$f":"Uva!AD5","v":59134.098000000013},{"$f":"Uva!AE5","v":59134.098000000013},{"$f":"Uva!AF5","v":59134.098000000013},{"$f":"Uva!AG5","v":59134.098000000013},{"$f":"Uva!AH5","v":59134.098000000013},{"$f":"Uva!AI5","v":59134.098000000013},{"$f":"Uva!AJ5","v":59134.098000000013},{"$f":"Uva!AK5","v":59134.098000000013},{"$f":"Uva!AL5","v":59134.098000000013},{"$f":"Uva!AM5","v":59134.098000000013},{"$f":"Uva!AN5","v":59134.098000000013},null,null,null,null,null,{"$f":"AVERAGE(E87:X87)","v":55260.838049999998}]
[null,null,"Resultado","R$/ha",{"$f":"E86-E87","v":-101170.107},{"$f":"F86-F87","v":-20533.254000000004},-13756.378000000001,-653.5460000000021,{"$f":"I86-I87","v":26248.814000000006},38325.081999999995,50625.901999999987,50625.901999999987,50625.901999999987,50625.901999999987,50625.901999999987,50625.901999999987,50625.901999999987,50625.901999999987,50625.901999999987,50625.901999999987,50625.901999999987,50625.901999999987,50625.901999999987,50625.901999999987,null,null,null,null,null,{"$f":"AVERAGE(E88:X88)","v":31861.161949999998},{"$f":"AD88/AD86","v":0.3657074212024517}]
[]
[null,"Perenes","Indicadores","Média"]
[null,"Abacaxi","Valor da Produção",{"$f":"AD46","v":50700}]
[null,null,"Custo de Produção",{"$f":"AD47","v":28987.05}]
[null,null,"Resultado",{"$f":"AD48","v":21712.95}]
[null,"Acerola","Valor da Produção",{"$f":"AD51","v":48750}]
[null,null,"Custo de Produção",{"$f":"AD52","v":38372.588100000001}]
[null,null,"Resultado",{"$f":"AD53","v":10377.411900000001}]
[null,"Banana","Valor da Produção",{"$f":"AD56","v":49680}]
[null,null,"Custo de Produção",{"$f":"AD57","v":22820.276100000003}]
[null,null,"Resultado",{"$f":"AD58","v":26859.723899999994}]
[null,"Coco","Valor da Produção",{"$f":"AD61","v":32625}]
[null,null,"Custo de Produção",{"$f":"AD62","v":14147.371612499997}]
[null,null,"Resultado",{"$f":"AD63","v":18477.628387500001}]
[null,"Goiaba","Valor da Produção",{"$f":"AD66","v":41760}]
[null,null,"Custo de Produção",{"$f":"AD67","v":21295.400666666665}]
[null,null,"Resultado",{"$f":"AD68","v":20464.599333333335}]
[null,"Laranja","Valor da Produção",{"$f":"AD71","v":24510.6}]
[null,null,"Custo de Produção",{"$f":"AD72","v":12970.559062500006}]
[null,null,"Resultado",{"$f":"AD73","v":11540.040937499996}]
[null,"Mamão","Valor da Produção",{"$f":"AD76","v":42750}]
[null,null,"Custo de Produção",{"$f":"AD77","v":21293.547000000002}]
[null,null,"Resultado",{"$f":"AD78","v":21456.452999999998}]
[null,"Maracujá","Valor da Produção",{"$f":"AD81","v":45716.666666666664}]
[null,null,"Custo de Produção",{"$f":"AD82","v":24966.190666666673}]
[null,null,"Resultado",{"$f":"AD83","v":20750.475999999999}]
[null,"Uva","Valor da Produção",{"$f":"AD86","v":87122}]
[null,null,"Custo de Produção",{"$f":"AD87","v":55260.838049999998}]
[null,null,"Resultado",{"$f":"AD88","v":31861.161949999998}]
[]
[null,"Média","Valor da Produção",{"$f":"AVERAGE(D91,D94,D97,D100,D103,D109,D112,D115,D106)","v":47068.251851851848}]
[null,null,"Custo de Produção",{"$f":"AVERAGE(D92,D95,D98,D101,D104,D110,D113,D116,D107)","v":26679.313473148148}]
[null,null,"Resultado",{"$f":"AVERAGE(D93,D96,D99,D102,D105,D111,D114,D117,D108)","v":20388.938378703704}]
[null,null,null,{"$f":"D121/D119","v":0.43317815250241815}]
[]
[]
[null,"Anuais","Indicadores","Média"]
[null,"Melancia","Valor da Produção",{"$f":"E7","v":26700}]
[null,null,"Custo de Produção",{"$f":"E8","v":12944.977499999999}]
[null,null,"Resultado",{"$f":"E9","v":13755.022500000001}]
[null,"Melão","Valor da Produção",{"$f":"E13","v":50749.999999999993}]
[null,null,"Custo de Produção",{"$f":"E14","v":27604.575990000001}]
[null,null,"Resultado",{"$f":"E15","v":23145.424009999992}]
[null,"Tomate","Valor da Produção",{"$f":"E19","v":56000}]
[null,null,"Custo de Produção",{"$f":"E20","v":36194.854500000001}]
[null,null,"Resultado",{"$f":"E21","v":19805.145499999999}]
[null,"Feijão","Valor da Produção",{"$f":"E25","v":13500}]
[null,null,"Custo de Produção",{"$f":"E26","v":6743.25}]
[null,null,"Resultado",{"$f":"E27","v":6756.75}]
[]
[null,"Média","Valor da Produção",{"$f":"AVERAGE(D126,D129,D132,D135)","v":36737.5}]
[null,null,"Custo de Produção",{"$f":"AVERAGE(D127,D130,D133,D136)","v":20871.914497500002}]
[null,null,"Resultado",{"$f":"AVERAGE(D128,D131,D134,D137)","v":15865.585502499998}]
[null,null,null,{"$f":"D141/D139","v":0.4318635046614494}]

{"sheet":"Rentabilidade EMATER - DF","index":30,"n_rows":50,"n_cols":37,"rows_kept":50,"cut":false,"hidden":false,"merged":[[4,1,8,1],[4,2,8,2],[15,1,19,1],[15,2,19,2],[20,1,24,1],[20,2,24,2],[40,1,44,1],[40,2,44,2],[45,1,49,1],[45,2,49,2],[25,1,29,1],[25,2,29,2],[30,1,34,1],[30,2,34,2],[35,1,39,1],[35,2,39,2]]}
[]
[]
[]
[null,"Fonte","Anuais","Indicadores",null,"Unidade",null,"Resultado / Valor da Produção"]
[null,"EMATER/DF","Feijão","Produtividade",null,"kg/ha",3000]
[null,null,null,"Preço de Venda",4.5,"R$/kg"]
[null,null,null,"Valor da Produção",null,"R$/ha",{"$f":"G5*E6","v":13500}]
[null,null,null,"Custo de Produção",null,"R$/ha",{"$f":"8195.25-1452","v":6743.25}]
[null,null,null,"Resultado",null,"R$/ha",{"$f":"G7-G8","v":6756.75},{"$f":"G9/G7","v":0.50049999999999994}]
[]
[]
[]
[]
[]
[null,"Fonte","Perenes e Semi-Perenes","Indicadores",null,"Unidade","Ano 1","Ano 2","Ano 3","Ano 4","Ano 5","Ano 6","Ano 7","Ano 8","Ano 9","Ano 10","Ano 11","Ano 12","Ano 13","Ano 14","Ano 15","Ano 16","Ano 17","Ano 18","Ano 19","Ano 20","Ano 21","Ano 22","Ano 23","Ano 24","Ano 25",null,null,null,null,"Média Anual","Resultado / Valor da Produção"]
[null,"EMATER/DF","Abacaxi","Produtividade",null,"kg/ha",0,37000,20000,null,null,null,null,null,null,null,null,null,null,null,null,null,null,null,null,null,null,null,null,null,null,null,null,null,null,{"$f":"AVERAGE(G16:I16)","v":19000}]
[null,null,null,"Preço de Venda",1.69,"R$/kg"]
[null,null,null,"Valor da Produção",null,"R$/ha",{"$f":"G16*$E17","v":0},{"$f":"H16*$E17","v":62530},{"$f":"I16*$E17","v":33800},null,null,null,null,null,null,null,null,null,null,null,null,null,null,null,null,null,null,null,null,null,null,null,null,null,null,{"$f":"AVERAGE(G18:I18)","v":32110}]
[null,null,null,"Custo de Produção",null,"R$/ha",31726.080000000002,7770.84,3893.1,null,null,null,null,null,null,null,null,null,null,null,null,null,null,null,null,null,null,null,null,null,null,null,null,null,null,{"$f":"AVERAGE(G19:I19)","v":14463.339999999998}]
[null,null,null,"Resultado",null,"R$/ha",{"$f":"G18-G19","v":-31726.080000000002},{"$f":"H18-H19","v":54759.16},{"$f":"I18-I19","v":29906.9},null,null,null,null,null,null,null,null,null,null,null,null,null,null,null,null,null,null,null,null,null,null,null,null,null,null,{"$f":"AVERAGE(G20:I20)","v":17646.66},{"$f":"AJ20/AJ18","v":0.54956898162566181}]
[null,"EMATER/DF","Acerola","Produtividade",null,"kg/ha",4000,8000,15000,25000,30000,30000,25000,23000,20000,18000,null,null,null,null,null,null,null,null,null,null,null,null,null,null,null,null,null,null,null,{"$f":"AVERAGE(G21:P21)","v":19800}]
[null,null,null,"Preço de Venda",2.5,"R$/kg"]
[null,null,null,"Valor da Produção",null,"R$/ha",{"$f":"G21*$E22","v":10000},20000,37500,62500,75000,75000,62500,57500,50000,45000,null,null,null,null,null,null,null,null,null,null,null,null,null,null,null,null,null,null,null,{"$f":"AVERAGE(G23:P23)","v":49500}]
[null,null,null,"Custo de Produção",null,"R$/ha",26353.54,19577.080000000002,36510.92,39451.9,39451.9,39451.9,39451.9,39451.9,39451.9,39451.9,null,null,null,null,null,null,null,null,null,null,null,null,null,null,null,null,null,null,null,{"$f":"AVERAGE(G24:P24)","v":35860.484000000004}]
[null,null,null,"Resultado",null,"R$/ha",{"$f":"G23-G24","v":-16353.54},422.91999999999825,989.08000000000175,23048.1,35548.1,35548.1,23048.1,18048.099999999999,10548.099999999999,5548.0999999999985,null,null,null,null,null,null,null,null,null,null,null,null,null,null,null,null,null,null,null,{"$f":"AVERAGE(G25:P25)","v":13639.516},{"$f":"AJ25/AJ23","v":0.27554577777777778}]
[null,"EMATER/DF","Banana","Produtividade",null,"kg/ha",15000,25000,30000,30000,25000,null,null,null,null,null,null,null,null,null,null,null,null,null,null,null,null,null,null,null,null,null,null,null,null,{"$f":"AVERAGE(G26:K26)","v":25000}]
[null,null,null,"Preço de Venda",2.16,"R$/kg"]
[null,null,null,"Valor da Produção",null,"R$/ha",{"$f":"G26*$E27","v":32400.000000000004},{"$f":"H26*$E27","v":54000},{"$f":"I26*$E27","v":64800.000000000007},{"$f":"J26*$E27","v":64800.000000000007},{"$f":"K26*$E27","v":54000},null,null,null,null,null,null,null,null,null,null,null,null,null,null,null,null,null,null,null,null,null,null,null,null,{"$f":"AVERAGE(G28:K28)","v":54000}]
[null,null,null,"Custo de Produção",null,"R$/ha",{"$f":"45605.05-792+5737.2","v":50550.25},{"$f":"28774.1-792","v":27982.1},{"$f":"28774.1-792","v":27982.1},{"$f":"28774.1-792","v":27982.1},{"$f":"28774.1-792","v":27982.1},null,null,null,null,null,null,null,null,null,null,null,null,null,null,null,null,null,null,null,null,null,null,null,null,{"$f":"AVERAGE(G29:K29)","v":32495.730000000003}]
[null,null,null,"Resultado",null,"R$/ha",{"$f":"G28-G29","v":-18150.249999999996},{"$f":"H28-H29","v":26017.9},{"$f":"I28-I29","v":36817.900000000009},{"$f":"J28-J29","v":36817.900000000009},{"$f":"K28-K29","v":26017.9},null,null,null,null,null,null,null,null,null,null,null,null,null,null,null,null,null,null,null,null,null,null,null,null,{"$f":"AVERAGE(G30:K30)","v":21504.270000000008},{"$f":"AJ30/AJ28","v":0.39822722222222234}]
[null,"EMATER/DF","Goiaba","Produtividade",null,"kg/ha",0,0,{"$f":"500*18","v":9000},{"$f":"1000*18","v":18000},30000,35000,35000,35000,35000,35000,35000,30000,25000,20000,18000,null,null,null,null,null,null,null,null,null,null,null,null,null,null,{"$f":"AVERAGE(G31:U31)","v":24000}]
[null,null,null,"Preço de Venda",1.74,"R$/kg"]
[null,null,null,"Valor da Produção",null,"R$/ha",{"$f":"G31*$E32","v":0},0,15660,31320,52200,60900,60900,60900,60900,60900,60900,52200,43500,34800,31320,null,null,null,null,null,null,null,null,null,null,null,null,null,null,{"$f":"AVERAGE(G33:U33)","v":41760}]
[null,null,null,"Custo de Produção",null,"R$/ha",{"$f":"14181.29-990","v":13191.29},{"$f":"11668.24-1188","v":10480.24},{"$f":"16224.99-1188","v":15036.99},{"$f":"20436.64-1188","v":19248.64},{"$f":"24958.35-1188","v":23770.35},{"$f":"24958.35-1188","v":23770.35},23770.35,23770.35,23770.35,23770.35,23770.35,23770.35,23770.35,23770.35,23770.35,null,null,null,null,null,null,null,null,null,null,null,null,null,null,{"$f":"AVERAGE(G34:U34)","v":21295.400666666665}]
[null,null,null,"Resultado",null,"R$/ha",{"$f":"G33-G34","v":-13191.29},-10480.24,623.01000000000022,12071.36,28429.65,37129.65,37129.65,37129.65,37129.65,37129.65,37129.65,28429.65,19729.650000000001,11029.650000000001,7549.6500000000015,null,null,null,null,null,null,null,null,null,null,null,null,null,null,{"$f":"AVERAGE(G35:U35)","v":20464.599333333335},{"$f":"AJ35/AJ33","v":0.49005266602809711}]
[null,"EMATER/DF","Limão","Produtividade",null,"kg/ha",0,0,{"$f":"350*20","v":7000},{"$f":"750*20","v":15000},{"$f":"1000*20","v":20000},{"$f":"1500*20","v":30000},30000,30000,30000,30000,30000,28000,24000,20000,18000,null,null,null,null,null,null,null,null,null,null,null,null,null,null,{"$f":"AVERAGE(G36:U36)","v":20800}]
[null,null,null,"Preço de Venda",1.19,"R$/kg"]
[null,null,null,"Valor da Produção",null,"R$/ha",{"$f":"G36*$E37","v":0},0,8330,17850,23800,35700,35700,35700,35700,35700,35700,33320,28560,23800,21420,null,null,null,null,null,null,null,null,null,null,null,null,null,null,{"$f":"AVERAGE(G38:U38)","v":24752}]
[null,null,null,"Custo de Produção",null,"R$/ha",{"$f":"11122.03-396","v":10726.03},{"$f":"5499.27-594","v":4905.2700000000004},{"$f":"10118.37-792","v":9326.3700000000008},{"$f":"13136.1-990","v":12146.1},{"$f":"16424.89-1188","v":15236.89},{"$f":"19040.83-1386","v":17654.830000000002},{"$f":"19040.83-1386","v":17654.830000000002},17654.830000000002,17654.830000000002,17654.830000000002,17654.830000000002,17654.830000000002,17654.830000000002,17654.830000000002,17654.830000000002,null,null,null,null,null,null,null,null,null,null,null,null,null,null,{"$f":"AVERAGE(G39:U39)","v":15259.264000000005}]
[null,null,null,"Resultado",null,"R$/ha",{"$f":"G38-G39","v":-10726.03},-4905.2700000000004,-996.3700000000008,5703.9,8563.11,18045.169999999998,18045.169999999998,18045.169999999998,18045.169999999998,18045.169999999998,18045.169999999998,15665.169999999998,10905.169999999998,6145.1699999999983,3765.1699999999983,null,null,null,null,null,null,null,null,null,null,null,null,null,null,{"$f":"AVERAGE(G40:U40)","v":9492.735999999999},{"$f":"AJ40/AJ38","v":0.38351389786683898}]
[null,"EMATER/DF","Maracujá","Produtividade",null,"kg/ha",20000,25000,20000,null,null,null,null,null,null,null,null,null,null,null,null,null,null,null,null,null,null,null,null,null,null,null,null,null,null,{"$f":"AVERAGE(G41:I41)","v":21666.666666666668}]
[null,null,null,"Preço de Venda",2.11,"R$/kg"]
[null,null,null,"Valor da Produção",null,"R$/ha",{"$f":"G41*$E42","v":42200},{"$f":"H41*$E42","v":52750},{"$f":"I41*$E42","v":42200},null,null,null,null,null,null,null,null,null,null,null,null,null,null,null,null,null,null,null,null,null,null,null,null,null,null,{"$f":"AVERAGE(G43:I43)","v":45716.666666666664}]
[null,null,null,"Custo de Produção",null,"R$/ha",{"$f":"70474.05-594-768.4","v":69111.650000000009},{"$f":"13375.1-594","v":12781.1},12781.1,null,null,null,null,null,null,null,null,null,null,null,null,null,null,null,null,null,null,null,null,null,null,null,null,null,null,{"$f":"AVERAGE(G44:I44)","v":31557.950000000008}]
[null,null,null,"Resultado",null,"R$/ha",{"$f":"G43-G44","v":-26911.650000000009},{"$f":"H43-H44","v":39968.9},{"$f":"I43-I44","v":29418.9},null,null,null,null,null,null,null,null,null,null,null,null,null,null,null,null,null,null,null,null,null,null,null,null,null,null,{"$f":"AVERAGE(G45:I45)","v":14158.716666666665},{"$f":"AJ45/AJ43","v":0.30970579657309516}]
[null,"EMATER/DF","Uva","Produtividade",null,"kg/ha",0,0,10000,15000,20000,25000,30000,30000,30000,30000,30000,30000,30000,30000,30000,30000,30000,25000,25000,25000,null,null,null,null,null,null,null,null,null,{"$f":"AVERAGE(G46:Z46)","v":23750}]
[null,null,null,"Preço de Venda",3.43,"R$/kg"]
[null,null,null,"Valor da Produção",null,"R$/ha",{"$f":"G46*$E47","v":0},0,34300,51450,68600,85750,102900,102900,102900,102900,102900,102900,102900,102900,102900,102900,102900,85750,85750,85750,null,null,null,null,null,null,null,null,null,{"$f":"AVERAGE(G48:Z48)","v":81462.5}]
[null,null,null,"Custo de Produção",null,"R$/ha",{"$f":"(360677.39-501.6-50270-179300)+(150*102.45)","v":145973.29000000004},39481.39,39481.39,39481.39,39481.39,39481.39,39481.39,39481.39,39481.39,39481.39,39481.39,39481.39,39481.39,39481.39,39481.39,39481.39,39481.39,39481.39,39481.39,39481.39,null,null,null,null,null,null,null,null,null,{"$f":"AVERAGE(G49:Z49)","v":44805.985000000015}]
[null,null,null,"Resultado",null,"R$/ha",{"$f":"G48-G49","v":-145973.29000000004},-39481.39,-5181.3899999999994,11968.61,29118.61,46268.61,63418.61,63418.61,63418.61,63418.61,63418.61,63418.61,63418.61,63418.61,63418.61,63418.61,63418.61,46268.61,46268.61,46268.61,null,null,null,null,null,null,null,null,null,{"$f":"AVERAGE(G50:Z50)","v":36656.514999999992},{"$f":"AJ50/AJ48","v":0.44998023630504824}]

{"sheet":"Melancia","index":31,"n_rows":41,"n_cols":18,"rows_kept":41,"cut":false,"hidden":false,"merged":[]}
[null,"Planilha de Coeficientes Técnicos"]
[null,"Cultura: Melancia"]
[null,null,null,"Produção (kg)",null,30000]
[null,null,null,"Preço (R$/kg)",null,0.89]
[null,null,null,"Receita Bruta (R$)",null,{"$f":"F4*F3","v":26700}]
[]
[null,"Area: 1,0 ha",null,null,"Custo (R$)",null,"M  e  s  e  s"]
[null,"Discriminação","Und.","Qtde.","Unitário","Global","Jan","Fev","Mar","Abr","Mai","Jun","Jul","Ago","Set","Out","Nov","Dez"]
[null,"SERVIÇOS"]
[null,"Aração","htr",{"$f":"SUM(G10:R10)","v":3},30,{"$f":"E10*D10","v":90},null,null,null,null,null,3]
[null,"Gradagem","htr",2,{"$f":"E10","v":30},60,null,null,null,null,null,2]
[null,"Sulcamento","htr",2,{"$f":"E10","v":30},60,null,null,null,null,null,2]
[null,"Coveamento","d/h",5,81.84,409.20000000000005,null,null,null,null,null,5]
[null,"Adubação orgânica","d/h",4,81.84,327.36,null,null,null,null,null,4]
[null,"Adubacao de plantio ","d/h",7,81.84,572.88,null,null,null,null,null,7]
[null,"Adubacao em cobertura","d/h",2,81.84,163.68,null,null,null,null,null,null,1,1]
[null,"Desbastes","d/h",2,81.84,{"$f":"D17*E17","v":163.68},null,null,null,null,null,null,2]
[null,"Capina manual","d/h",10,81.84,{"$f":"D18*E18","v":818.40000000000009},null,null,null,null,null,null,3,3,4]
[null,"Controle fitossanitário","d/h",8,81.84,654.72,null,null,null,null,null,null,2,3,3]
[null,"Irrigação","d/h",12,81.84,982.08,null,null,null,null,null,3,3,3,3]
[null,"Colheita","d/h",12,81.84,982.08,null,null,null,null,null,null,null,null,12]
[null,"Transporte interno  (manual)","d/h",8,81.84,654.72,null,null,null,null,null,null,null,null,8]
[null,"Transporte interno (mecanizado) ","htr",2,{"$f":"E11","v":30},60,null,null,null,null,null,null,null,null,2]
[null,"Custo dos serviços","d/h",{"$f":"SUMIFS(D$10:D$23,$C$10:$C$23,$C24)","v":70},{"$f":"F24/D24","v":81.84},{"$f":"SUMIFS(F$10:F$23,$C$10:$C$23,$C24)","v":5728.8},{"$f":"SUMIFS(G$10:G$23,$C$10:$C$23,$C24)","v":0},0,0,0,0,19,11,10,30,0,0,0]
[null,null,"htr",{"$f":"SUMIFS(D$10:D$23,$C$10:$C$23,$C25)","v":9},{"$f":"F25/D25","v":30},{"$f":"SUMIFS(F$10:F$23,$C$10:$C$23,$C25)","v":270},0,0,0,0,0,7,0,0,2,0,0,0]
[null,"INSUMOS"]
[null,"Sementes","Kg",1,390,{"$f":"D27*E27","v":390}]
[null,"  Fertilizante orgânico","t",10,400,4000]
[null,"  Fertilizante químico"]
[null,"     Nitrogenado","Kg",140,3.5,490]
[null,"     Fosfatado","Kg",150,2.5750000000000002,386.25]
[null,"     Potássico","Kg",100,2.5750000000000002,257.5]
[null,"  Defensivos",null,null,null,0]
[null,"     Inseticida","l",6,73,438]
[null,"     Fungicida","Kg",8,33,264]
[null,"     Espalhante adesivo","l",2,52,104]
[null,"Custo dos insumos",null,null,null,{"$f":"SUM(F27:F36)","v":6329.75}]
[null,"Custos eventuais",null,null,null,{"$f":"0.05*(F24+F25+F37)","v":616.42750000000001}]
[null,"Custo Total",null,null,null,{"$f":"F37+F24+F25+F38","v":12944.977499999999}]
[null,"Receita bruta",null,null,null,{"$f":"F5","v":26700}]
[null,"Lucro bruto    ",null,null,null,{"$f":"F40-F39","v":13755.022500000001}]

{"sheet":"Melão","index":32,"n_rows":43,"n_cols":18,"rows_kept":43,"cut":false,"hidden":false,"merged":[]}
[null,"Planilha de Coeficientes Técnicos"]
[null,"Cultura: melão"]
[null,null,null,"Produção (kg)",null,25000]
[null,null,null,"Preço (R$/kg)",null,2.0299999999999998]
[null,null,null,"Receita Bruta (R$)",null,{"$f":"F4*F3","v":50749.999999999993}]
[]
[null,"Area: 1,0 ha",null,null,"Custo (R$)",null,"M  e  s  e  s"]
[null,"Discriminação","Und.","Qtde.","Unitário","Global","Jan","Fev","Mar","Abr","Mai","Jun","Jul","Ago","Set","Out","Nov","Dez"]
[null,"SERVIÇOS"]
[null,"Aração","htr",{"$f":"SUM(G10:R10)","v":3},30,{"$f":"E10*D10","v":90},null,3]
[null,"Gradagem","htr",2,{"$f":"E10","v":30},60,null,2]
[null,"Sulcamento","htr",2,{"$f":"E10","v":30},60,null,2]
[null,"Coveamento","d/h",4,81.84,327.36,null,4]
[null,"Adubação orgânica","d/h",4,81.84,327.36,null,4]
[null,"Adubacao de plantio ","d/h",4,81.84,327.36,null,4]
[null,"Adubacao em cobertura","d/h",4,81.84,327.36,null,null,2,2]
[null,"Desbastes","d/h",3,81.84,{"$f":"D17*E17","v":245.52},null,null,1,null,2]
[null,"Capina manual","d/h",12,81.84,{"$f":"D18*E18","v":982.08},null,null,3,6,3]
[null,"Controle fitossanitário","d/h",16,81.84,1309.44,null,4,4,4,4]
[null,"Irrigação","d/h",10,81.84,818.40000000000009,null,1,3,3,3]
[null,"Colheita","d/h",9,81.84,736.56000000000006,null,null,null,null,9]
[null,"Transporte interno  (manual)","d/h",8,81.84,654.72,null,null,null,null,8]
[null,"Transporte interno (mecanizado) ","htr",10,{"$f":"E11","v":30},300,null,null,null,null,10]
[null,"Custo dos serviços","d/h",{"$f":"SUMIFS(D$10:D$23,$C$10:$C$23,$C24)","v":74},{"$f":"F24/D24","v":81.84},{"$f":"SUMIFS(F$10:F$23,$C$10:$C$23,$C24)","v":6056.1600000000008},{"$f":"SUMIFS(G$10:G$23,$C$10:$C$23,$C24)","v":0},17,13,15,29,0,0,0,0,0,0,0]
[null,null,"htr",{"$f":"SUMIFS(D$10:D$23,$C$10:$C$23,$C25)","v":17},{"$f":"F25/D25","v":30},{"$f":"SUMIFS(F$10:F$23,$C$10:$C$23,$C25)","v":510},0,7,0,0,10,0,0,0,0,0,0,0]
[null,"INSUMOS"]
[null,"Sementes","Kg",0.67,392.14,{"$f":"D27*E27","v":262.73380000000003}]
[null,"  Fertilizante orgânico","t",10,400,4000]
[null,"  Fertilizante químico"]
[null,"     Nitrogenado","Kg",140,3.5,490]
[null,"     Fosfatado","Kg",150,2.5750000000000002,386.25]
[null,"     Potássico","Kg",100,2.5750000000000002,257.5]
[null,"  Defensivos",null,null,null,0]
[null,"     Inseticida","l",6,73,{"$f":"D34*E34","v":438}]
[null,"     Fungicida","Kg",8,33,{"$f":"D35*E35","v":264}]
[null,"     Espalhante adesivo","l",2,52,{"$f":"D36*E36","v":104}]
[null,"Embalagem","cx-10kg",{"$f":"F3/10","v":2500},5,{"$f":"D37*E37","v":12500}]
[null,"Custo dos insumos",null,null,null,{"$f":"SUM(F27:F37)","v":18702.483800000002}]
[null,"Custos eventuais",null,null,null,{"$f":"0.05*(F24+F25+F38)","v":1263.4321900000002}]
[null,"Custos de Comercialização",null,null,null,1072.5,null,null,0.5,"da produção entregue na Ceasa de Palmas"]
[null,"Custo Total",null,null,null,{"$f":"F38+F24+F25+F39+F40","v":27604.575990000001}]
[null,"Receita bruta",null,null,null,{"$f":"F5","v":50749.999999999993}]
[null,"Lucro bruto    ",null,null,null,{"$f":"F42-F41","v":23145.424009999992}]

{"sheet":"Tomate","index":33,"n_rows":42,"n_cols":18,"rows_kept":42,"cut":false,"hidden":false,"merged":[]}
[null,"Planilha de Coeficientes Técnicos"]
[null,"Cultura: tomate"]
[null,null,null,"Produção (kg)",null,140000]
[null,null,null,"Preço (R$/kg)",null,0.4]
[null,null,null,"Receita Bruta (R$)",null,{"$f":"F4*F3","v":56000}]
[]
[null,"Area: 1,0 ha",null,null,"Custo (R$)",null,"M  e  s  e  s"]
[null,"Discriminação","Und.","Qtde.","Unitário","Global","Jan","Fev","Mar","Abr","Mai","Jun","Jul","Ago","Set","Out","Nov","Dez"]
[null,"SERVIÇOS"]
[null,"Aração","htr",{"$f":"SUM(G10:R10)","v":3},30,{"$f":"E10*D10","v":90},null,null,null,null,null,3]
[null,"Gradagem","htr",3,{"$f":"E10","v":30},90,null,null,null,null,null,3]
[null,"Sulcamento/adubação","htr",2,{"$f":"E10","v":30},60,null,null,null,null,null,2]
[null,"Adubação orgânica","d/h",2,81.84,163.68,null,null,null,null,null,2]
[null,"Encanteiramento/transplantio","d/h",30,{"$f":"E13","v":81.84},2455.2000000000003,null,null,null,null,null,30]
[null,"Adubacao de plantio ","d/h",12,{"$f":"E13","v":81.84},982.08,null,null,null,null,null,12]
[null,"Adubacao em cobertura","d/h",2,{"$f":"E15","v":81.84},163.68,null,null,null,null,null,null,1,1]
[null,"Capina manual e amontoa","d/h",15,81.84,{"$f":"D17*E17","v":1227.6000000000001},null,null,null,null,null,null,5,5,5]
[null,"Controle fitossanitário","d/h",47,81.84,3846.48,null,null,null,null,null,12,13,13,9]
[null,"Irrigação","d/h",18,81.84,1473.1200000000001,null,null,null,null,null,5,5,5,3]
[null,"Colheita","d/h",40,81.84,3273.6000000000004,null,null,null,null,null,null,null,null,40]
[null,"Transporte interno  (manual)","d/h",10,81.84,818.40000000000009,null,null,null,null,null,null,null,null,10]
[null,"Transporte interno (mecanizado) ","htr",3,{"$f":"E11","v":30},90,null,null,null,null,null,null,null,null,3]
[null,"Custo dos serviços","d/h",{"$f":"SUMIFS(D$10:D$22,$C$10:$C$22,$C23)","v":176},{"$f":"F23/D23","v":81.84},{"$f":"SUMIFS(F$10:F$22,$C$10:$C$22,$C23)","v":14403.84},{"$f":"SUMIFS(G$10:G$22,$C$10:$C$22,$C23)","v":0},0,0,0,0,61,24,24,67,0,0,0]
[null,null,"htr",{"$f":"SUMIFS(D$10:D$22,$C$10:$C$22,$C24)","v":11},{"$f":"F24/D24","v":30},{"$f":"SUMIFS(F$10:F$22,$C$10:$C$22,$C24)","v":330},0,0,0,0,0,8,0,0,3,0,0,0]
[null,"INSUMOS"]
[null,"Sementes","1.000 sementes",15,508.08,{"$f":"D26*E26","v":7621.2}]
[null,"  Fertilizante orgânico","t",20,400,8000]
[null,"  Fertilizante químico"]
[null,"     Nitrogenado","Kg",265,3.5,927.5]
[null,"     Fosfatado","Kg",390,2.5750000000000002,1004.2500000000001]
[null,"     Potássico","Kg",100,2.5750000000000002,257.5]
[null,"  Defensivos"]
[null,"     Inseticida","l",20,73,{"$f":"D33*E33","v":1460}]
[null,"     Fungicida","Kg",11,33,{"$f":"D34*E34","v":363}]
[null,"     Espalhante adesivo","l",2,52,{"$f":"D35*E35","v":104}]
[null,"Custo dos insumos",null,null,null,{"$f":"SUM(F26:F35)","v":19737.45}]
[null,"Custos eventuais",null,null,null,{"$f":"0.05*(F23+F24+F36)","v":1723.5645000000002}]
[null,"Custo Total",null,null,null,{"$f":"F36+F23+F24+F37","v":36194.854500000001}]
[null,"Receita bruta",null,null,null,{"$f":"F5","v":56000}]
[null,"Lucro bruto    ",null,null,null,{"$f":"F39-F38","v":19805.145499999999}]
[]
[null,null,null,null,null,{"$f":"F40/F39","v":0.35366331249999999}]

{"sheet":"Feijão","index":34,"n_rows":48,"n_cols":18,"rows_kept":48,"cut":false,"hidden":false,"merged":[]}
[null,"Planilha de Coeficientes Técnicos"]
[null,"Cultura: Feijão "]
[null,null,null,"Produção (kg)",null,2400]
[null,null,null,"Preço (R$/sc 60 kg)",null,270]
[null,null,null,"Receita Bruta (R$)",null,{"$f":"(F3/60)*F4","v":10800}]
[]
[null,"Area: 1,0 ha",null,null,"Custo (R$)",null,"M  e  s  e  s"]
[null,"Discriminação","Und.","Qtde.","Unitário","Global","Jan","Fev","Mar","Abr","Mai","Jun","Jul","Ago","Set","Out","Nov","Dez"]
[null,"SERVIÇOS"]
[null,"Cons.do solo (marc.terraços)","d/h",{"$f":"SUM(G10:R10)","v":0},81.84,{"$f":"E10*D10","v":0}]
[null,"Aração","htr",2.5,30,75,null,null,2.5]
[null,"1ª Gradagem","htr",1.5,{"$f":"E11","v":30},45,null,null,1.5]
[null,"Aplicação de herbicidas","htr",1.5,{"$f":"E11","v":30},45,null,null,1.5]
[null,"Aplicação de herbicidas","d/h",0.5,{"$f":"E10","v":81.84},40.92,null,null,0.5]
[null,"2ª Gradagem","htr",1.5,{"$f":"E13","v":30},45,null,null,1.5]
[null,"Adubacao e plantio ","htr",1.5,{"$f":"E11","v":30},45,null,null,1.5]
[null,"Trat.sementes/apoio ao plantio","d/h",0.5,{"$f":"E10","v":81.84},40.92,null,null,0.5]
[null,"1ª Capina (tração animal)","d/h",2,{"$f":"E10","v":81.84},{"$f":"D18*E18","v":163.68},null,null,null,2]
[null,"Adubacao em cobertura","d/h",0.5,{"$f":"E10","v":81.84},40.92,null,null,null,0.5]
[null,"2ª Capina manual (repasse)","d/h",2.5,{"$f":"E10","v":81.84},204.60000000000002,null,null,null,null,2.5]
[null,"Controle fitossanitário ","htr",0,{"$f":"E11","v":30},0]
[null,"Controle fitossanitário ","d/h",8,{"$f":"E10","v":81.84},654.72,null,null,null,4,4]
[null,"Colheita (arranquio)","d/h",8,{"$f":"E10","v":81.84},654.72,null,null,null,null,null,8]
[null,"Colheita (trilha)","htr",1,{"$f":"E11","v":30},30,null,null,null,null,null,1]
[null,"Transporte interno ","htr",0.3,{"$f":"E11","v":30},9,null,null,null,null,null,0.3]
[null,"Beneficiamento","d/h",{"$f":"SUM(G26:R26)","v":0.5},{"$f":"E10","v":81.84},40.92,null,null,null,null,null,0.5]
[null,"Custo dos serviços","d/h",{"$f":"SUMIFS(D$10:D$26,$C$10:$C$26,$C27)","v":22.5},{"$f":"F27/D27","v":81.84},{"$f":"SUMIFS(F$10:F$26,$C$10:$C$26,$C27)","v":1841.4},{"$f":"SUMIFS(G$10:G$26,$C$10:$C$26,$C27)","v":0},0,1,6.5,6.5,8.5,0,0,0,0,0,0]
[null,null,"htr",{"$f":"SUMIFS(D$10:D$26,$C$10:$C$26,$C28)","v":9.8000000000000007},{"$f":"F28/D28","v":29.999999999999996},{"$f":"SUMIFS(F$10:F$26,$C$10:$C$26,$C28)","v":294},0,0,8.5,0,0,1.3,0,0,0,0,0,0]
[null,"INSUMOS"]
[null,"Sementes","Kg",60,2.89,{"$f":"D30*E30","v":173.4}]
[null,"  Fertilizante orgânico","t",0,400,{"$f":"D31*E31","v":0}]
[null,"  Fertilizante químico"]
[null,"     Nitrogenado","Kg",100,3.5,{"$f":"D33*E33","v":350}]
[null,"     Fosfatado","Kg",150,2.5750000000000002,{"$f":"D34*E34","v":386.25}]
[null,"     Potássico","Kg",80,2.5750000000000002,{"$f":"D35*E35","v":206}]
[null,"  Defensivos"]
[null,"     Inseticida","l",2,73,{"$f":"D37*E37","v":146}]
[null,"     Fungicida","Kg",3,33,99]
[null,"     Espalhante adesivo","l",1,52,52]
[null,"     Herbicida ","l",0,108,0]
[null,"     Formicida ","Kg",0,75,0]
[null,"Sacaria","und",40,1.5,60]
[null,"Custo dos insumos",null,null,null,{"$f":"SUM(F30:F42)","v":1472.65}]
[null,"Custos eventuais",null,null,null,{"$f":"0.05*(F27+F28+F43)","v":180.40250000000003}]
[null,"Custos de Comercialização",null,null,null,18.72,null,null,1,"da produção entregue em Dianópolis"]
[null,"Custo Total",null,null,null,{"$f":"F43+F27+F28+F44+F45","v":3807.1725000000001}]
[null,"Receita bruta",null,null,null,{"$f":"F5","v":10800}]
[null,"Lucro bruto    ",null,null,null,{"$f":"F47-F46","v":6992.8274999999994}]

{"sheet":"Abacaxi","index":35,"n_rows":140,"n_cols":30,"rows_kept":140,"cut":false,"hidden":false,"merged":[]}
[null,"Planilha de Coeficientes Técnicos"]
[null,"Cultura: Abacaxi - ano 1",null,null,null,null,null,null,null,null,null,null,null,null,null,null,null,null,null,null,1,2,3,4,5,6,7,8,9,10]
[null,null,null,"Produção (kg)",null,0,null,null,null,null,null,null,null,null,null,null,null,null,null,"Produção",{"$f":"F3","v":0},{"$f":"F48","v":50000},{"$f":"F96","v":40000}]
[null,null,null,"Preço (R$/kg)",null,1.69,null,null,null,null,null,null,null,null,null,null,null,null,null,"Receita",{"$f":"$F$4*U3","v":0},{"$f":"$F$4*V3","v":84500},{"$f":"$F$4*W3","v":67600}]
[null,null,null,"Receita Bruta (R$)",null,{"$f":"F4*F3","v":0},null,null,null,null,null,null,null,null,null,null,null,null,null,"Custo",{"$f":"F41","v":36902.879999999997},{"$f":"F90","v":26542.527000000002},{"$f":"F138","v":23515.742999999999}]
[]
[null,"Area: 1,0 ha",null,null,"Custo (R$)",null,"M  e  s  e  s"]
[null,"Discriminação","Und.","Qtde.","Unitário","Global","Jan","Fev","Mar","Abr","Mai","Jun","Jul","Ago","Set","Out","Nov","Dez"]
[null,"SERVIÇOS"]
[null,"Preparo do Solo"]
[null,".  Aração","htr",{"$f":"SUM(G11:R11)","v":2},30,{"$f":"E11*D11","v":60},null,null,null,2]
[null,". Gradagem","htr",3,30,90,null,null,null,3]
[null,"Aplicação de adubos","d/h",11,81.84,900.24,null,null,null,3,4,null,null,null,4]
[null,"Seleção de mudas","d/h",9,81.84,736.56000000000006,null,null,null,9]
[null,"Tratamento de mudas","d/h",11,81.84,900.24,null,null,null,11]
[null,"Plantio","d/h",17,81.84,1391.28,null,null,null,17]
[null,"Tratos culturais"]
[null,". Aplicação de herbicidas","htr",{"$f":"SUM(G18:R18)","v":4},30,{"$f":"E18*D18","v":120},null,null,null,null,1,null,1,null,1,null,1]
[null,". Capinas manuais","d/h",8,81.84,654.72,null,null,null,null,null,2,null,2,null,2,null,2]
[null,". Aplic. carbureto de cálcio","d/h",0,81.84,0]
[null,"Tratos fitossanitários","htr",4,30,120,null,null,null,null,1,null,1,null,1,null,1]
[null,"Tratos fitossanitários","d/h",13,81.84,1063.92,null,null,null,null,null,3,null,4,null,3,null,3]
[null,"Irrigação","d/h",16,81.84,1309.44,null,null,null,1,1,1,1,3,2,2,2,3]
[null,"Custo dos serviços","d/h",{"$f":"SUMIFS(D$11:D$23,$C$11:$C$23,$C24)","v":85},{"$f":"F24/D24","v":81.839999999999989},{"$f":"SUMIFS(F$11:F$23,$C$11:$C$23,$C24)","v":6956.4},0,0,0,41,5,6,1,9,6,7,2,8]
[null,null,"htr",{"$f":"SUMIFS(D$11:D$23,$C$11:$C$23,$C25)","v":13},{"$f":"F25/D25","v":30},390,0,0,0,5,2,0,2,0,2,0,2,0]
[null,"INSUMOS"]
[null,"Mudas","und",41666,0.45,{"$f":"D27*E27","v":18749.7}]
[null,"  Fertilizante orgânico","t",10,400,{"$f":"D28*E28","v":4000}]
[null,"  Fertilizante químico"]
[null,"     Nitrogenado","Kg",100,3.5,350]
[null,"     Fosfatado","Kg",240,2.5750000000000002,618]
[null,"     Potássico","Kg",100,2.5750000000000002,257.5]
[null,"  Defensivos"]
[null,"     Herbicida","l",8,108,864]
[null,"     Inseticida","l",35,73,2555]
[null,"     Fungicida","Kg",3,33,99]
[null,"     Formicida","Kg",2,75,150]
[null,"     Espalhante adesivo","l",3,52,156]
[null,"Custo dos insumos",null,null,null,{"$f":"SUM(F27:F38)","v":27799.200000000001}]
[null,"Custos eventuais",null,null,null,{"$f":"0.05*(F24+F25+F39)","v":1757.28}]
[null,"Custo Total",null,null,null,{"$f":"F39+F24+F25+F40","v":36902.879999999997}]
[null,"Receita bruta",null,null,null,{"$f":"F5","v":0}]
[null,"Lucro bruto    ",null,null,null,{"$f":" F42-F41","v":-36902.879999999997}]
[]
[]
[null,"Planilha de Coeficientes Técnicos"]
[null,"Cultura: Abacaxi - ano 2"]
[null,null,null,"Produção ( kg)",null,50000]
[null,null,null,"Preço (R$/kg)",null,1.69]
[null,null,null,"Receita Bruta (R$)",null,{"$f":"F49*F48","v":84500}]
[]
[null,"Area: 1,0 ha",null,null,"Custo (R$)",null,"M  e  s  e  s"]
[null,"Discriminação","Und.","Qtde.","Unitário","Global","Jan","Fev","Mar","Abr","Mai","Jun","Jul","Ago","Set","Out","Nov","Dez"]
[null,"SERVIÇOS"]
[null,"Preparo do Solo"]
[null,".  Aração","htr",{"$f":"SUM(G56:R56)","v":0},30,{"$f":"E56*D56","v":0}]
[null,". Gradagem","htr",0,30,0]
[null,"Aplicação de adubos","d/h",14,81.84,1145.76,null,4,null,5,null,null,null,null,null,null,null,5]
[null,"Seleção de mudas","d/h",0,81.84,0]
[null,"Tratamento de mudas","d/h",0,81.84,0]
[null,"Plantio","d/h",0,81.84,0]
[null,"Tratos culturais"]
[null,". Aplicação de herbicidas","htr",{"$f":"SUM(G63:R63)","v":10},30,{"$f":"E63*D63","v":300},1,null,1,null,2,null,2,null,2,null,2]
[null,". Capinas manuais","d/h",7,81.84,572.88,null,2,null,1,null,1,null,1,null,1,null,1]
[null,". Aplic. carbureto de cálcio","d/h",9,81.84,736.56000000000006,5,4]
[null,"Tratos fitossanitários","htr",9,30,270,1,null,1,1,1,1,1,null,null,1,1,1]
[null,"Tratos fitossanitários","d/h",20,81.84,1636.8000000000002,null,3,null,2,3,5,3,1,1,1,null,1]
[null,"Irrigação","d/h",16,81.84,{"$f":"E68*D68","v":1309.44},1,1,1,1,1,1,1,1,2,2,2,2]
[null,"Transporte interno","htr",9,30,270,null,null,null,null,null,null,null,3,3,3]
[null,"Transporte interno","d/h",5,81.84,409.20000000000005,null,null,null,null,null,null,null,1,2,2]
[null,"Colheita","d/h",40,81.84,{"$f":"E71*D71","v":3273.6000000000004},null,null,null,null,null,null,null,10,15,15]
[null,"Custo dos serviços","d/h",{"$f":"SUMIFS(D$56:D$71,$C$56:$C$71,$C72)","v":111},{"$f":"F72/D72","v":81.840000000000018},{"$f":"SUMIFS(F$56:F$71,$C$56:$C$71,$C72)","v":9084.2400000000016},6,14,1,9,4,7,4,14,20,21,2,9]
[null,null,"htr",{"$f":"SUMIFS(D$56:D$71,$C$56:$C$71,$C73)","v":28},{"$f":"F73/D73","v":30},840,2,0,2,1,3,1,3,3,5,4,3,1]
[null,"INSUMOS"]
[null,"  Fertilizante orgânico","t",10,400,{"$f":"D75*E75","v":4000}]
[null,"  Fertilizante químico"]
[null,"     Nitrogenado","Kg",200,3.5,700]
[null,"     Fosfatado","Kg",0,2.5750000000000002,0]
[null,"     Potássico","Kg",300,2.5750000000000002,772.5]
[null,"  Defensivos"]
[null,"     Herbicida","l",10,108,1080]
[null,"     Inseticida","l",40,73,2920]
[null,"     Fungicida","Kg",1,33,33]
[null,"     Formicida","Kg",2,75,150]
[null,"     Espalhante adesivo","l",3,52,156]
[null,"     Carbureto de cálcio","kg",100,35,3500]
[null,"Custo dos insumos",null,null,null,{"$f":"SUM(F75:F86)","v":13311.5}]
[null,"Custos eventuais",null,null,null,{"$f":"0.05*(F72+F73+F87)","v":1161.787}]
[null,"Custos de Comercialização",null,null,null,2145,null,null,0.5,"da produção entregue na Ceasa. "]
[null,"Custo Total",null,null,null,{"$f":"F87+F72+F73+F88+F89","v":26542.527000000002}]
[null,"Receita bruta",null,null,null,{"$f":"F50","v":84500}]
[null,"Lucro bruto    ",null,null,null,{"$f":"F91-F90","v":57957.472999999998}]
[]
[null,"Planilha de Coeficientes Técnicos"]
[null,"Cultura: Abacaxi - ano 3"]
[null,null,null,"Produção ( kg)",null,40000]
[null,null,null,"Preço (R$/kg)",null,1.69]
[null,null,null,"Receita Bruta (R$)",null,{"$f":"F97*F96","v":67600}]
[]
[null,"Area: 1,0 ha",null,null,"Custo (R$)",null,"M  e  s  e  s"]
[null,"Discriminação","Und.","Qtde.","Unitário","Global","Jan","Fev","Mar","Abr","Mai","Jun","Jul","Ago","Set","Out","Nov","Dez"]
[null,"SERVIÇOS"]
[null,"Preparo do Solo"]
[null,".  Aração","htr",{"$f":"SUM(G104:R104)","v":0},30,{"$f":"E104*D104","v":0}]
[null,". Gradagem","htr",0,30,0]
[null,"Aplicação de adubos","d/h",2,81.84,163.68,null,null,null,2]
[null,"Seleção de mudas","d/h",0,81.84,0]
[null,"Tratamento de mudas","d/h",0,81.84,0]
[null,"Plantio","d/h",0,81.84,0]
[null,"Tratos culturais"]
[null,". Aplicação de herbicidas","htr",{"$f":"SUM(G111:R111)","v":10},30,{"$f":"E111*D111","v":300},2,null,2,null,2,null,2,null,2]
[null,". Capinas manuais","d/h",4,81.84,327.36,null,1,null,1,null,1,null,1]
[null,". Aplic. carbureto de cálcio","d/h",9,81.84,736.56000000000006,null,null,4,5]
[null,"Tratos fitossanitários","htr",6,30,180,1,1,1,1,null,1,null,1]
[null,"Tratos fitossanitários","d/h",15,81.84,1227.6000000000001,3,1,3,1,1,2,1,2,1]
[null,"Irrigação","d/h",12,81.84,{"$f":"E116*D116","v":982.08},2,1,1,1,1,1,1,1,1,1,1]
[null,"Transporte interno","htr",13,30,390,null,null,null,null,null,null,null,null,5,4,4]
[null,"Transporte interno","d/h",8,81.84,654.72,null,null,null,null,null,null,null,null,2,3,3]
[null,"Colheita","d/h",49,81.84,{"$f":"E119*D119","v":4010.1600000000003},null,null,null,null,null,null,null,null,15,17,17]
[null,"Custo dos serviços","d/h",{"$f":"SUMIFS(D$104:D$119,$C$104:$C$119,$C120)","v":99},{"$f":"F120/D120","v":81.84},{"$f":"SUMIFS(F$104:F$119,$C$104:$C$119,$C120)","v":8102.16},{"$f":"SUMIFS(G$104:G$119,$C$104:$C$119,$C120)","v":5},3,8,10,2,4,2,4,19,21,21,0]
[null,null,"htr",{"$f":"SUMIFS(D$104:D$119,$C$104:$C$119,$C121)","v":29},{"$f":"F121/D121","v":30},{"$f":"SUMIFS(F$104:F$119,$C$104:$C$119,$C121)","v":870},3,1,3,1,2,1,2,1,7,4,4,0]
[null,"INSUMOS"]
[null,"  Fertilizante orgânico","t",10,400,{"$f":"D123*E123","v":4000}]
[null,"  Fertilizante químico"]
[null,"     Nitrogenado","Kg",200,3.5,700]
[null,"     Fosfatado","Kg",160,2.5750000000000002,412]
[null,"     Potássico","Kg",300,2.5750000000000002,772.5]
[null,"  Defensivos"]
[null,"     Herbicida","l",6,108,648]
[null,"     Inseticida","l",20,73,1460]
[null,"     Fungicida","Kg",2,33,66]
[null,"     Formicida","Kg",1,75,75]
[null,"     Espalhante adesivo","l",3,52,156]
[null,"     Carbureto de cálcio","kg",100,35,3500]
[null,"Custo dos insumos",null,null,null,{"$f":"SUM(F123:F134)","v":11789.5}]
[null,"Custos eventuais",null,null,null,{"$f":"0.05*(F120+F121+F135)","v":1038.0830000000001}]
[null,"Custos de Comercialização",null,null,null,1716]
[null,"Custo Total",null,null,null,{"$f":"F135+F120+F121+F136+F137","v":23515.742999999999}]
[null,"Receita bruta",null,null,null,{"$f":"F98","v":67600}]
[null,"Lucro bruto    ",null,null,null,{"$f":"F139-F138","v":44084.256999999998}]

{"sheet":"Acerola","index":36,"n_rows":179,"n_cols":30,"rows_kept":179,"cut":false,"hidden":false,"merged":[]}
[null,"Planilha de Coeficientes Técnicos"]
[null,"Cultura: Acerola - implantação",null,null,null,null,null,null,null,null,null,null,null,null,null,null,null,null,null,null,1,2,3,4,5,6,7,8,9,10]
[null,null,null,"Produção (kg)",null,0,null,null,null,null,null,null,null,null,null,null,null,null,null,"Produção",{"$f":"F3","v":0},{"$f":"F44","v":10000},{"$f":"F79","v":15000},{"$f":"F114","v":20000},{"$f":"F149","v":25000},{"$f":"Y3","v":25000},{"$f":"Z3","v":25000},25000,25000,25000]
[null,null,null,"Preço (R$/kg)",null,2.5,null,null,null,null,null,null,null,null,null,null,null,null,null,"Receita",{"$f":"$F$4*U3","v":0},{"$f":"$F$4*V3","v":25000},{"$f":"$F$4*W3","v":37500},{"$f":"$F$4*X3","v":50000},{"$f":"$F$4*Y3","v":62500},{"$f":"Y4","v":62500},62500,62500,62500,62500]
[null,null,null,"Receita Bruta (R$)",null,{"$f":"F4*F3","v":0},null,null,null,null,null,null,null,null,null,null,null,null,null,"Custo",{"$f":"F37","v":17133.217499999999},{"$f":"F72","v":26377.039500000003},{"$f":"F107","v":34793.073000000004},{"$f":"F142","v":39948.993000000002},{"$f":"F177","v":44245.593000000001},44245.593000000001,44245.593000000001,44245.593000000001,44245.593000000001,44245.593000000001]
[]
[null,"Area: 1,0 ha",null,null,"Custo (R$)",null,"M  e  s  e  s"]
[null,"Discriminação","Und.","Qtde.","Unitário","Global","Jan","Fev","Mar","Abr","Mai","Jun","Jul","Ago","Set","Out","Nov","Dez"]
[null,"SERVIÇOS"]
[null,". Aração","htr",{"$f":"SUM(G10:R10)","v":3},30,{"$f":"E10*D10","v":90},3]
[null,". Gradagem","htr",2,30,60,2]
[null,". Marcação de covas","d/h",4,81.84,327.36,4]
[null,". Coveamento","d/h",8,81.84,654.72,8]
[null,". Adubação de Fundação","d/h",10,81.84,818.40000000000009,5,5]
[null,". Plantio/Replantio","d/h",4,81.84,327.36,3,1]
[null,". Capinas manuais (coroamento)","d/h",9,81.84,736.56000000000006,null,null,1,null,2,null,2,null,2,null,2]
[null,". Adubação Cobertura","d/h",8,81.84,654.72,null,null,null,null,4,null,null,null,4]
[null,". Controle fitosanitário manual","d/h",10,81.84,818.40000000000009,null,null,1,1,1,1,1,1,1,1,1,1]
[null,". Poda","d/h",0,{"$f":"+E18","v":81.84},0]
[null,". Irrigação","d/h",12,81.84,982.08,1,1,1,1,1,1,1,1,1,1,1,1]
[null,"Custo dos serviços","d/h",{"$f":"SUMIFS(D$10:D$20,$C$10:$C$20,$C21)","v":65},{"$f":"F21/D21","v":81.84},{"$f":"SUMIFS(F$10:F$20,$C$10:$C$20,$C21)","v":5319.6},{"$f":"SUMIFS(G$10:G$20,$C$10:$C$20,$C21)","v":21},7,3,2,8,2,4,2,8,2,4,2]
[null,null,"htr",{"$f":"SUMIFS(D$10:D$20,$C$10:$C$20,$C22)","v":5},{"$f":"F22/D22","v":30},{"$f":"SUMIFS(F$10:F$20,$C$10:$C$20,$C22)","v":150},5,0,0,0,0,0,0,0,0,0,0,0]
[null,"INSUMOS"]
[null,"Mudas","und",687,2.5,{"$f":"D24*E24","v":1717.5}]
[null,"  Fertilizante orgânico","t",10,400,4000]
[null,"  Fertilizante químico"]
[null,"     Nitrogenado","Kg",350,3.5,1225]
[null,"     Fosfatado","Kg",750,2.5750000000000002,1931.2500000000002]
[null,"     Potássico","Kg",320,3.75,1200]
[null,"  Defensivos"]
[null,"     Inseticida","l",5,73,365]
[null,"     Fungicida","Kg",4,33,132]
[null,"     Formicida","Kg",3,75,225]
[null,"     Espalhante adesivo","l",1,52,52]
[null,"Custo dos insumos",null,null,null,{"$f":"SUM(F24:F34)","v":10847.75}]
[null,"Custos eventuais",null,null,null,{"$f":"0.05*(F21+F22+F35)","v":815.86750000000006}]
[null,"Custo Total",null,null,null,{"$f":"F35+F21+F22+F36","v":17133.217499999999}]
[null,"Receita bruta",null,null,null,{"$f":"F5","v":0}]
[null,"Lucro bruto    ",null,null,null,{"$f":"F38-F37","v":-17133.217499999999}]
[]
[]
[null,"Planilha de Coeficientes Técnicos"]
[null,"Cultura: Acerola - ano 2"]
[null,null,null,"Produção ( kg)",null,10000]
[null,null,null,"Preço (R$/kg)",null,{"$f":"+F4","v":2.5}]
[null,null,null,"Receita Bruta (R$)",null,{"$f":"F45*F44","v":25000}]
[]
[null,"Area: 1,0 ha",null,null,"Custo (R$)",null,"M  e  s  e  s"]
[null,"Discriminação","Und.","Qtde.","Unitário","Global","Jan","Fev","Mar","Abr","Mai","Jun","Jul","Ago","Set","Out","Nov","Dez"]
[null,"SERVIÇOS"]
[null,". Capinas manuais (coroamento)","d/h",{"$f":"SUM(G51:R51)","v":12},81.84,{"$f":"E51*D51","v":982.08},1,1,1,1,1,1,1,1,1,1,1,1]
[null,". Adubação Cobertura","d/h",12,81.84,{"$f":"E52*D52","v":982.08},1,1,1,1,1,1,1,1,1,1,1,1]
[null,". Controle fitosanitário manual","d/h",12,81.84,{"$f":"E53*D53","v":982.08},1,1,1,1,1,1,1,1,1,1,1,1]
[null,". Poda","d/h",3,{"$f":"+E53","v":81.84},{"$f":"E54*D54","v":245.52},null,null,null,null,null,null,null,null,null,1,1,1]
[null,". Irrigação","d/h",12,81.84,{"$f":"E55*D55","v":982.08},1,1,1,1,1,1,1,1,1,1,1,1]
[null,". Colheita, Classific.,Embalagem","d/h",160,{"$f":"+E55","v":81.84},{"$f":"+E56*D56","v":13094.400000000001},15,null,null,20,20,15,15,15,15,15,15,15]
[null,"Custo dos serviços","d/h",{"$f":"SUM(D51:D56)","v":211},{"$f":"F57/D57","v":81.84},{"$f":"SUM(F51:F56)","v":17268.240000000002},{"$f":"SUM(G51:G56)","v":19},4,4,24,24,19,19,19,19,20,20,20]
[null,null,"htr"]
[null,"INSUMOS"]
[null,"  Fertilizante orgânico","t",5,400,{"$f":"D60*E60","v":2000}]
[null,"  Fertilizante químico"]
[null,"     Nitrogenado","Kg",375,3.5,{"$f":"D62*E62","v":1312.5}]
[null,"     Fosfatado","Kg",750,2.5750000000000002,1931.2500000000002]
[null,"     Potássico","Kg",320,3.75,1200]
[null,"  Defensivos"]
[null,"     Inseticida","l",10,73,730]
[null,"     Fungicida","Kg",19,33,627]
[null,"     Formicida","Kg",2,0,0]
[null,"     Espalhante adesivo","l",1,52,52]
[null,"Custo dos insumos",null,null,null,{"$f":"SUM(F60:F69)","v":7852.75}]
[null,"Custos eventuais",null,null,null,{"$f":"0.05*(F57+F58+F70)","v":1256.0495000000001}]
[null,"Custo Total",null,null,null,{"$f":"F70+F57+F58+F71","v":26377.039500000003}]
[null,"Receita bruta",null,null,null,{"$f":"F46","v":25000}]
[null,"Lucro bruto    ",null,null,null,{"$f":"F73-F72","v":-1377.0395000000026}]
[]
[]
[null,"Planilha de Coeficientes Técnicos"]
[null,"Cultura: Acerola - ano 3"]
[null,null,null,"Produção ( kg)",null,15000]
[null,null,null,"Preço (R$/kg)",null,{"$f":"+F45","v":2.5}]
[null,null,null,"Receita Bruta (R$)",null,{"$f":"F80*F79","v":37500}]
[]
[null,"Area: 1,0 ha",null,null,"Custo (R$)",null,"M  e  s  e  s"]
[null,"Discriminação","Und.","Qtde.","Unitário","Global","Jan","Fev","Mar","Abr","Mai","Jun","Jul","Ago","Set","Out","Nov","Dez"]
[null,"SERVIÇOS"]
[null,". Capinas manuais (coroamento)","d/h",{"$f":"SUM(G86:R86)","v":15},81.84,{"$f":"E86*D86","v":1227.6000000000001},1,2,1,1,1,1,1,1,1,2,2,1]
[null,". Adubação Cobertura","d/h",12,81.84,{"$f":"E87*D87","v":982.08},1,1,1,1,1,1,1,1,1,1,1,1]
[null,". Controle fitosanitário manual","d/h",15,81.84,{"$f":"E88*D88","v":1227.6000000000001},1,2,1,1,1,1,1,1,1,2,2,1]
[null,". Poda","d/h",10,81.84,{"$f":"E89*D89","v":818.40000000000009},1,null,null,1,1,1,1,1,1,1,1,1]
[null,". Irrigação","d/h",12,81.84,{"$f":"E90*D90","v":982.08},1,1,1,1,1,1,1,1,1,1,1,1]
[null,". Colheita, Classific.,Embalagem","d/h",250,{"$f":"+E90","v":81.84},{"$f":"+E91*D91","v":20460},25,null,null,25,25,25,25,25,25,25,25,25]
[null,"Custo dos serviços","d/h",{"$f":"SUM(D86:D91)","v":314},{"$f":"F92/D92","v":81.84},25697.760000000002,30,6,4,30,30,30,30,30,30,32,32,30]
[null,null,"htr"]
[null,"INSUMOS"]
[null,"  Fertilizante orgânico","t",5,400,{"$f":"D95*E95","v":2000}]
[null,"  Fertilizante químico"]
[null,"     Nitrogenado","Kg",400,3.5,{"$f":"D97*E97","v":1400}]
[null,"     Fosfatado","Kg",400,2.5750000000000002,{"$f":"D98*E98","v":1030}]
[null,"     Potássico","Kg",250,3.75,{"$f":"D99*E99","v":937.5}]
[null,"  Defensivos"]
[null,"     Inseticida","l",15,73,{"$f":"D101*E101","v":1095}]
[null,"     Fungicida","Kg",28,33,{"$f":"D102*E102","v":924}]
[null,"     Formicida","Kg",2,0,{"$f":"D103*E103","v":0}]
[null,"     Espalhante adesivo","l",1,52,{"$f":"D104*E104","v":52}]
[null,"Custo dos insumos",null,null,null,{"$f":"SUM(F95:F104)","v":7438.5}]
[null,"Custos eventuais",null,null,null,{"$f":"0.05*(F92+F93+F105)","v":1656.8130000000001}]
[null,"Custo Total",null,null,null,{"$f":"F105+F92+F93+F106","v":34793.073000000004}]
[null,"Receita bruta",null,null,null,{"$f":"F81","v":37500}]
[null,"Lucro bruto    ",null,null,null,{"$f":"F108-F107","v":2706.926999999996}]
[]
[]
[null,"Planilha de Coeficientes Técnicos"]
[null,"Cultura: Acerola - ano 4"]
[null,null,null,"Produção ( kg)",null,20000]
[null,null,null,"Preço (R$/kg)",null,{"$f":"+F80","v":2.5}]
[null,null,null,"Receita Bruta (R$)",null,{"$f":"F115*F114","v":50000}]
[]
[null,"Area: 1,0 ha",null,null,"Custo (R$)",null,"M  e  s  e  s"]
[null,"Discriminação","Und.","Qtde.","Unitário","Global","Jan","Fev","Mar","Abr","Mai","Jun","Jul","Ago","Set","Out","Nov","Dez"]
[null,"SERVIÇOS"]
[null,". Capinas manuais (coroamento)","d/h",{"$f":"SUM(G121:R121)","v":20},81.84,{"$f":"E121*D121","v":1636.8000000000002},2,1,1,2,1,2,2,2,2,2,2,1]
[null,". Adubação Cobertura","d/h",12,81.84,{"$f":"E122*D122","v":982.08},1,1,1,1,1,1,1,1,1,1,1,1]
[null,". Controle fitosanitário manual","d/h",20,81.84,{"$f":"E123*D123","v":1636.8000000000002},2,1,1,2,1,2,2,2,2,2,2,1]
[null,". Poda","d/h",10,{"$f":"+E123","v":81.84},{"$f":"E124*D124","v":818.40000000000009},1,null,null,1,1,1,1,1,1,1,1,1]
[null,". Irrigação","d/h",12,81.84,{"$f":"E125*D125","v":982.08},1,1,1,1,1,1,1,1,1,1,1,1]
[null,". Colheita, Classific.,Embalagem","d/h",300,{"$f":"+E125","v":81.84},{"$f":"+E126*D126","v":24552},30,null,null,30,30,30,30,30,30,30,30,30]
[null,"Custo dos serviços","d/h",{"$f":"SUM(D121:D126)","v":374},{"$f":"F127/D127","v":81.84},{"$f":"SUM(F121:F126)","v":30608.16},37,4,4,37,35,37,37,37,37,37,37,35]
[null,null,"htr"]
[null,"INSUMOS"]
[null,"  Fertilizante orgânico","t",5,400,{"$f":"D130*E130","v":2000}]
[null,"  Fertilizante químico"]
[null,"     Nitrogenado","Kg",400,3.5,{"$f":"D132*E132","v":1400}]
[null,"     Fosfatado","Kg",400,2.5750000000000002,{"$f":"D133*E133","v":1030}]
[null,"     Potássico","Kg",250,3.75,{"$f":"D134*E134","v":937.5}]
[null,"  Defensivos"]
[null,"     Inseticida","l",15,73,{"$f":"D136*E136","v":1095}]
[null,"     Fungicida","Kg",28,33,{"$f":"D137*E137","v":924}]
[null,"     Formicida","Kg",2,0,{"$f":"D138*E138","v":0}]
[null,"     Espalhante adesivo","l",1,52,{"$f":"D139*E139","v":52}]
[null,"Custo dos insumos",null,null,null,{"$f":"SUM(F130:F139)","v":7438.5}]
[null,"Custos eventuais",null,null,null,{"$f":"0.05*(F127+F128+F140)","v":1902.3330000000003}]
[null,"Custo Total",null,null,null,{"$f":"F140+F127+F128+F141","v":39948.993000000002}]
[null,"Receita bruta",null,null,null,{"$f":"F116","v":50000}]
[null,"Lucro bruto    ",null,null,null,{"$f":"F143-F142","v":10051.006999999998}]
[]
[]
[null,"Planilha de Coeficientes Técnicos"]
[null,"Cultura: Acerola - ano 5"]
[null,null,null,"Produção ( kg)",null,25000]
[null,null,null,"Preço (R$/kg)",null,{"$f":"+F115","v":2.5}]
[null,null,null,"Receita Bruta (R$)",null,{"$f":"F150*F149","v":62500}]
[]
[null,"Area: 1,0 ha",null,null,"Custo (R$)",null,"M  e  s  e  s"]
[null,"Discriminação","Und.","Qtde.","Unitário","Global","Jan","Fev","Mar","Abr","Mai","Jun","Jul","Ago","Set","Out","Nov","Dez"]
[null,"SERVIÇOS"]
[null,". Capinas manuais (coroamento)","d/h",{"$f":"SUM(G156:R156)","v":20},81.84,{"$f":"E156*D156","v":1636.8000000000002},2,1,1,2,1,2,2,2,2,2,2,1]
[null,". Adubação Cobertura","d/h",12,81.84,{"$f":"E157*D157","v":982.08},1,1,1,1,1,1,1,1,1,1,1,1]
[null,". Controle fitosanitário manual","d/h",20,81.84,{"$f":"E158*D158","v":1636.8000000000002},2,1,1,2,1,2,2,2,2,2,2,1]
[null,". Poda","d/h",10,81.84,{"$f":"E159*D159","v":818.40000000000009},1,null,null,1,1,1,1,1,1,1,1,1]
[null,". Irrigação","d/h",12,81.84,{"$f":"E160*D160","v":982.08},1,1,1,1,1,1,1,1,1,1,1,1]
[null,". Colheita, Classific.,Embalagem","d/h",350,81.84,{"$f":"+E161*D161","v":28644},35,null,null,35,35,35,35,35,35,35,35,35]
[null,"Custo dos serviços","d/h",{"$f":"SUM(D156:D161)","v":424},{"$f":"F162/D162","v":81.84},{"$f":"SUM(F156:F161)","v":34700.160000000003},{"$f":"SUM(G156:G161)","v":42},{"$f":"SUM(H156:H161)","v":4},{"$f":"SUM(I156:I161)","v":4},42,40,42,42,42,42,42,42,{"$f":"SUM(R156:R161)","v":40}]
[null,null,"htr"]
[null,"INSUMOS"]
[null,"  Fertilizante orgânico","t",5,400,{"$f":"D165*E165","v":2000}]
[null,"  Fertilizante químico"]
[null,"     Nitrogenado","Kg",400,3.5,{"$f":"D167*E167","v":1400}]
[null,"     Fosfatado","Kg",400,2.5750000000000002,{"$f":"D168*E168","v":1030}]
[null,"     Potássico","Kg",250,3.75,{"$f":"D169*E169","v":937.5}]
[null,"  Defensivos"]
[null,"     Inseticida","l",15,73,{"$f":"D171*E171","v":1095}]
[null,"     Fungicida","Kg",28,33,{"$f":"D172*E172","v":924}]
[null,"     Formicida","Kg",2,0,{"$f":"D173*E173","v":0}]
[null,"     Espalhante adesivo","l",1,52,{"$f":"D174*E174","v":52}]
[null,"Custo dos insumos",null,null,null,{"$f":"SUM(F165:F174)","v":7438.5}]
[null,"Custos eventuais",null,null,null,{"$f":"0.05*(F162+F163+F175)","v":2106.9330000000004}]
[null,"Custo Total",null,null,null,{"$f":"F175+F162+F163+F176","v":44245.593000000001}]
[null,"Receita bruta",null,null,null,{"$f":"F151","v":62500}]
[null,"Lucro bruto    ",null,null,null,{"$f":"F178-F177","v":18254.406999999999}]

{"sheet":"Banana","index":37,"n_rows":212,"n_cols":30,"rows_kept":212,"cut":false,"hidden":false,"merged":[]}
[null,"Planilha de Coeficientes Técnicos"]
[null,"Cultura: Banana - ano 1",null,null,null,null,null,null,null,null,null,null,null,null,null,null,null,null,null,null,1,2,3,4,5,6,7,8,9,10]
[null,null,null,"Produção (t)",null,15,null,null,null,null,null,null,null,null,null,null,null,null,null,"Produção",{"$f":"F3","v":15},{"$f":"F52","v":25},{"$f":"F93","v":25},{"$f":"F134","v":25},{"$f":"F175","v":25}]
[null,null,null,"Preço (R$/t)",null,2160,null,null,null,null,null,null,null,null,null,null,null,null,null,"Receita",{"$f":"$F$4*U3","v":32400},{"$f":"$F$4*V3","v":54000},{"$f":"$F$4*W3","v":54000},{"$f":"$F$4*X3","v":54000},{"$f":"$F$4*Y3","v":54000}]
[null,null,null,"Receita Bruta (R$)",null,{"$f":"F3*F4","v":32400},null,null,null,null,null,null,null,null,null,null,null,null,null,"Custo",{"$f":"F46","v":42296.6325},{"$f":"F87","v":18655.432500000003},{"$f":"F128","v":17708.794500000004},{"$f":"F169","v":18482.182500000003},{"$f":"F210","v":16958.338500000002}]
[]
[null,"Area: 1,0 ha",null,null,"Custo (R$)",null,"M  e  s  e  s"]
[null,"Discriminação","Und.","Qtde.","Unitário","Global","Jan","Fev","Mar","Abr","Mai","Jun","Jul","Ago","Set","Out","Nov","Dez"]
[null,"SERVIÇOS"]
[null,". Aração ","htr",{"$f":"SUM(G10:R10)","v":4},81.84,{"$f":"E10*D10","v":327.36},4]
[null,". Gradagem","htr",2,30,60,2]
[null,". Sulcamento","htr",2,30,60,2]
[null,". Abertura de Covas","d/h",20,{"$f":"E10","v":81.84},1636.8000000000002,20]
[null,". Tratamento das Mudas","d/h",4,{"$f":"E13","v":81.84},327.36,null,4]
[null,". Adub. de Fundação","d/h",5,{"$f":"E14","v":81.84},409.20000000000005,null,5]
[null,". Plantio","d/h",20,{"$f":"E15","v":81.84},1636.8000000000002,null,20]
[null,". Roçada","d/h",5,{"$f":"+E16","v":81.84},409.20000000000005,null,null,null,1,null,1,null,1,null,1,null,1]
[null,". Capinas","d/h",20,{"$f":"E16","v":81.84},1636.8000000000002,null,null,5,null,3,null,3,null,4,null,5]
[null,". Desbaste","d/h",12,{"$f":"E18","v":81.84},982.08,null,null,null,null,null,3,3,null,null,3,3]
[null,". Prep. e Dist. de Iscas","d/h",3,{"$f":"E19","v":81.84},245.52,null,null,null,null,1,null,1,null,1]
[null,". Controle fitossanitário","d/h",11,{"$f":"E20","v":81.84},900.24,null,1,1,1,1,1,1,1,1,1,1,1]
[null,". Limpeza das Plantas","d/h",6,{"$f":"E20","v":81.84},491.04,null,null,null,null,2,null,2,null,2]
[null,". Adubação de Cobertura","d/h",12,{"$f":"E22","v":81.84},982.08,null,null,null,3,null,3,null,3,null,3]
[null,". Irrigação","d/h",28,{"$f":"E23","v":81.84},2291.52,1,1,3,3,3,3,3,3,3,3,1,1]
[null,". Despencamento e classificação","d/h",20,{"$f":"E24","v":81.84},1636.8000000000002,null,null,null,null,null,null,null,10,null,null,null,10]
[null,". Colheita/Transporte","d/h",20,{"$f":"E24","v":81.84},1636.8000000000002,null,null,null,null,null,null,null,10,null,null,null,10]
[null,"Custo dos serviços","d/h",{"$f":"SUMIFS(D$10:D$26,$C$10:$C$26,$C27)","v":186},{"$f":"F27/D27","v":81.84},{"$f":"SUMIFS(F$10:F$26,$C$10:$C$26,$C27)","v":15222.240000000002},{"$f":"SUMIFS(G$10:G$26,$C$10:$C$26,$C27)","v":21},31,9,8,10,11,13,28,11,11,10,23]
[null,null,"htr",{"$f":"SUMIFS(D$10:D$26,$C$10:$C$26,$C28)","v":8},{"$f":"F28/D28","v":55.92},{"$f":"SUMIFS(F$10:F$26,$C$10:$C$26,$C28)","v":447.36},8,0,0,0,0,0,0,0,0,0,0,0]
[null,"INSUMOS"]
[null,"Mudas","und",1830,9.06,{"$f":"D30*E30","v":16579.8}]
[null,"  Fertilizante orgânico","t",10,400,{"$f":"D31*E31","v":4000}]
[null,"  Fertilizante químico"]
[null,"     Nitrogenado","Kg",400,3.5,1400]
[null,"     Fosfatado","Kg",250,2.5750000000000002,643.75]
[null,"     Potássico","Kg",180,2.5750000000000002,463.50000000000006]
[null,"  Defensivos"]
[null,"     Fung.p/ trat. mudas","Kg",0,33,0]
[null,"     Inseticida","l",2,73,146]
[null,"     Fungicida","Kg",5,33,165]
[null,"     Espalhante adesivo","l",1,52,52]
[null,"Água sanitária","l",80,5,400]
[null,"     Formicida ","Kg",2,75,150]
[null,"Custo dos insumos",null,null,null,{"$f":"SUM(F30:F42)","v":24000.05}]
[null,"Custos eventuais",null,null,null,{"$f":"0.05*(F27+F28+F43)","v":1983.4825000000001}]
[null,"Custos de Comercialização",null,null,null,643.50000000000011,null,null,0.5,"da produção entregue na Ceasa de Palmas"]
[null,"Custo Total",null,null,null,{"$f":"F43+F27+F28+F44+F45","v":42296.6325}]
[null,"Receita bruta",null,null,null,{"$f":"F5","v":32400}]
[null,"Lucro bruto    ",null,null,null,{"$f":"F47-F46","v":-9896.6324999999997}]
[]
[null,"Planilha de Coeficientes Técnicos"]
[null,"Cultura: Banana - ano 2"]
[null,null,null,"Produção (t)",null,25]
[null,null,null,"Preço (R$/t)",null,2160]
[null,null,null,"Receita Bruta (R$)",null,{"$f":"F52*F53","v":54000}]
[]
[null,"Area: 1,0 ha",null,null,"Custo (R$)",null,"M  e  s  e  s"]
[null,"Discriminação","Und.","Qtde.","Unitário","Global","Jan","Fev","Mar","Abr","Mai","Jun","Jul","Ago","Set","Out","Nov","Dez"]
[null,"SERVIÇOS"]
[null,". Capinas","d/h",{"$f":"SUM(G59:R59)","v":12},{"$f":"E26","v":81.84},{"$f":"E59*D59","v":982.08},2,null,2,null,2,null,2,null,2,null,2]
[null,". Roçada mecânica","htr",6,30,180,null,1,null,1,null,1,null,1,null,1,null,1]
[null,". Desbaste","d/h",15,{"$f":"E59","v":81.84},1227.6000000000001,null,null,3,3,null,3,3,null,null,null,null,3]
[null,". Prep. e Dist. Iscas","d/h",3,{"$f":"E61","v":81.84},245.52,null,1,null,null,null,null,1,null,null,1]
[null,". Controle fitossanitário","htr",6,30,180,1,null,1,null,1,null,1,null,null,1,null,1]
[null,". Controle fitossanitário","d/h",24,{"$f":"E61","v":81.84},1964.16,2,2,2,2,2,2,2,2,2,2,2,2]
[null,". Limpeza das Plantas ","d/h",6,{"$f":"E62","v":81.84},491.04,null,null,2,null,null,2,null,null,null,2]
[null,". Adubação/Manutenção","d/h",12,{"$f":"E65","v":81.84},982.08,null,null,3,null,null,3,null,null,3,null,null,3]
[null,". Irrigação","d/h",28,{"$f":"E66","v":81.84},2291.52,1,1,3,3,3,3,3,3,3,3,1,1]
[null,". Despencamento e classificação","d/h",30,{"$f":"E67","v":81.84},2455.2000000000003,null,null,null,10,null,null,null,10,null,null,null,10]
[null,". Colheita","d/h",30,{"$f":"E67","v":81.84},2455.2000000000003,null,null,null,10,null,null,null,10,null,null,null,10]
[null,"Custo dos serviços","d/h",{"$f":"SUMIFS(D$59:D$69,$C$59:$C$69,$C70)","v":160},{"$f":"F70/D70","v":81.84},{"$f":"SUMIFS(F$59:F$69,$C$59:$C$69,$C70)","v":13094.400000000001},5,4,15,28,7,13,11,25,10,8,5,29]
[null,null,"htr",{"$f":"SUMIFS(D$59:D$69,$C$59:$C$69,$C71)","v":12},0,360,1,1,1,1,1,1,1,1,0,2,0,2]
[null,"INSUMOS"]
[null,"  Fertilizante químico"]
[null,"     Nitrogenado","Kg",400,3.5,{"$f":"D74*E74","v":1400}]
[null,"     Fosfatado","Kg",250,2.5750000000000002,{"$f":"D75*E75","v":643.75}]
[null,"     Potássico","Kg",180,2.5750000000000002,{"$f":"D76*E76","v":463.50000000000006}]
[null,"  Defensivos"]
[null,"     Fung.p/ trat. mudas","Kg",0,33,{"$f":"D78*E78","v":0}]
[null,"     Inseticida","l",5,73,365]
[null,"     Fungicida","Kg",5,33,165]
[null,"     Espalhante adesivo","l",2,52,104]
[null,"     Herbicida ","l",0,108,0]
[null,"     Formicida ","Kg",2,75,150]
[null,"Custo dos insumos",null,null,null,{"$f":"SUM(F73:F83)","v":3291.25}]
[null,"Custos eventuais",null,null,null,{"$f":"0.05*(F70+F71+F84)","v":837.28250000000014}]
[null,"Custos de Comercialização",null,null,null,1072.5]
[null,"Custo Total",null,null,null,{"$f":"F84+F70+F71+F85+F86","v":18655.432500000003}]
[null,"Receita bruta",null,null,null,{"$f":"F54","v":54000}]
[null,"Lucro bruto    ",null,null,null,{"$f":"F88-F87","v":35344.567499999997}]
[]
[null,"Planilha de Coeficientes Técnicos"]
[null,"Cultura: Banana - ano 3"]
[null,null,null,"Produção (t)",null,25]
[null,null,null,"Preço (R$/t)",null,2160]
[null,null,null,"Receita Bruta (R$)",null,{"$f":"F93*F94","v":54000}]
[]
[null,"Area: 1,0 ha",null,null,"Custo (R$)",null,"M  e  s  e  s"]
[null,"Discriminação","Und.","Qtde.","Unitário","Global","Jan","Fev","Mar","Abr","Mai","Jun","Jul","Ago","Set","Out","Nov","Dez"]
[null,"SERVIÇOS"]
[null,". Capinas","d/h",{"$f":"SUM(G100:R100)","v":12},{"$f":"E67","v":81.84},{"$f":"E100*D100","v":982.08},2,null,2,null,2,null,2,null,2,null,2]
[null,". Roçada mecânica","htr",6,30,180,null,1,null,1,null,1,null,1,null,1,null,1]
[null,". Desbaste","d/h",15,{"$f":"E100","v":81.84},1227.6000000000001,null,null,3,3,null,3,3,null,null,null,null,3]
[null,". Prep. e Dist. Iscas","d/h",3,{"$f":"E102","v":81.84},245.52,null,1,null,null,null,null,1,null,null,1]
[null,". Controle fitossanitário","htr",6,30,180,1,null,1,null,1,null,1,null,1,null,1]
[null,". Controle fitossanitário","d/h",24,{"$f":"E102","v":81.84},1964.16,2,2,2,2,2,2,2,2,2,2,2,2]
[null,". Limpeza das Plantas ","d/h",6,{"$f":"E103","v":81.84},491.04,null,null,2,null,null,2,null,null,null,2]
[null,". Adubação/Manutenção","d/h",3,{"$f":"E106","v":81.84},245.52,null,null,3]
[null,". Irrigação","d/h",28,{"$f":"E107","v":81.84},2291.52,1,1,3,3,3,3,3,3,3,3,1,1]
[null,". Despencamento e classificação","d/h",30,{"$f":"E108","v":81.84},2455.2000000000003,null,null,null,10,null,null,null,10,null,null,null,10]
[null,". Colheita","d/h",30,{"$f":"E108","v":81.84},2455.2000000000003,null,null,null,10,null,null,null,10,null,null,null,10]
[null,"Custo dos serviços","d/h",{"$f":"SUMIFS(D$100:D$110,$C$100:$C$110,$C111)","v":151},{"$f":"F111/D111","v":81.840000000000018},{"$f":"SUMIFS(F$100:F$110,$C$100:$C$110,$C111)","v":12357.840000000002},5,4,15,28,7,10,11,25,7,8,5,26]
[null,null,"htr",{"$f":"SUMIFS(D$100:D$110,$C$100:$C$110,$C112)","v":12},0,360,1,1,1,1,1,1,1,1,1,1,1,1]
[null,"INSUMOS"]
[null,"  Fertilizante químico"]
[null,"     Nitrogenado","Kg",400,3.5,{"$f":"D115*E115","v":1400}]
[null,"     Fosfatado","Kg",250,2.5750000000000002,{"$f":"D116*E116","v":643.75}]
[null,"     Potássico","Kg",180,2.5750000000000002,{"$f":"D117*E117","v":463.50000000000006}]
[null,"  Defensivos"]
[null,"     Fung.p/ trat. mudas","Kg",0,33,{"$f":"D119*E119","v":0}]
[null,"     Inseticida","l",5,73,365]
[null,"     Fungicida","Kg",0,33,0]
[null,"     Espalhante adesivo","l",2,52,104]
[null,"     Herbicida ","l",0,108,0]
[null,"     Formicida ","Kg",2,75,150]
[null,"Custo dos insumos",null,null,null,{"$f":"SUM(F114:F124)","v":3126.25}]
[null,"Custos eventuais",null,null,null,{"$f":"0.05*(F111+F112+F125)","v":792.20450000000017}]
[null,"Custos de Comercialização",null,null,null,1072.5]
[null,"Custo Total",null,null,null,{"$f":"F125+F111+F112+F126+F127","v":17708.794500000004}]
[null,"Receita bruta",null,null,null,{"$f":"F95","v":54000}]
[null,"Lucro bruto    ",null,null,null,{"$f":"F129-F128","v":36291.205499999996}]
[]
[null,"Planilha de Coeficientes Técnicos"]
[null,"Cultura: Banana - ano 4"]
[null,null,null,"Produção (t)",null,25]
[null,null,null,"Preço (R$/t)",null,2160]
[null,null,null,"Receita Bruta (R$)",null,{"$f":"F134*F135","v":54000}]
[]
[null,"Area: 1,0 ha",null,null,"Custo (R$)",null,"M  e  s  e  s"]
[null,"Discriminação","Und.","Qtde.","Unitário","Global","Jan","Fev","Mar","Abr","Mai","Jun","Jul","Ago","Set","Out","Nov","Dez"]
[null,"SERVIÇOS"]
[null,". Capinas","d/h",{"$f":"SUM(G141:R141)","v":12},{"$f":"E108","v":81.84},{"$f":"E141*D141","v":982.08},2,null,2,null,2,null,2,null,2,null,2]
[null,". Roçada mecânica","htr",6,30,180,null,1,null,1,null,1,null,1,null,1,null,1]
[null,". Desbaste","d/h",15,{"$f":"E141","v":81.84},1227.6000000000001,null,null,3,3,null,3,3,null,null,null,null,3]
[null,". Prep. e Dist. Iscas","d/h",3,{"$f":"E143","v":81.84},245.52,null,1,null,null,null,null,1,null,null,1]
[null,". Controle fitossanitário","htr",6,30,180,null,1,null,1,null,1,null,1,null,1,null,1]
[null,". Controle fitossanitário","d/h",24,{"$f":"E143","v":81.84},1964.16,2,2,2,2,2,2,2,2,2,2,2,2]
[null,". Limpeza das Plantas ","d/h",6,{"$f":"E144","v":81.84},491.04,null,null,2,null,null,2,null,null,null,2]
[null,". Adubação/Manutenção","d/h",12,{"$f":"E147","v":81.84},982.08,null,null,3,null,null,3,null,null,3,null,null,3]
[null,". Irrigação","d/h",28,{"$f":"E148","v":81.84},2291.52,1,1,3,3,3,3,3,3,3,3,1,1]
[null,". Despencamento e classificação","d/h",30,{"$f":"E149","v":81.84},2455.2000000000003,null,null,null,10,null,null,null,10,null,null,null,10]
[null,". Colheita","d/h",30,{"$f":"E149","v":81.84},2455.2000000000003,null,null,null,10,null,null,null,10,null,null,null,10]
[null,"Custo dos serviços","d/h",{"$f":"SUMIFS(D$141:D$151,$C$141:$C$151,$C152)","v":160},{"$f":"F152/D152","v":81.84},{"$f":"SUMIFS(F$141:F$151,$C$141:$C$151,$C152)","v":13094.400000000001},5,4,15,28,7,13,11,25,10,8,5,29]
[null,null,"htr",{"$f":"SUMIFS(D$141:D$151,$C$141:$C$151,$C153)","v":12},{"$f":"F153/D153","v":30},360,0,2,0,2,0,2,0,2,0,2,0,2]
[null,"INSUMOS"]
[null,"  Fertilizante químico"]
[null,"     Nitrogenado","Kg",400,3.5,{"$f":"D156*E156","v":1400}]
[null,"     Fosfatado","Kg",250,2.5750000000000002,{"$f":"D157*E157","v":643.75}]
[null,"     Potássico","Kg",180,2.5750000000000002,{"$f":"D158*E158","v":463.50000000000006}]
[null,"  Defensivos"]
[null,"     Fung.p/ trat. mudas","Kg",0,33,{"$f":"D160*E160","v":0}]
[null,"     Inseticida","l",5,73,365]
[null,"     Fungicida","Kg",0,33,0]
[null,"     Espalhante adesivo","l",2,52,104]
[null,"     Herbicida ","l",0,108,0]
[null,"     Formicida ","Kg",2,75,150]
[null,"Custo dos insumos",null,null,null,{"$f":"SUM(F155:F165)","v":3126.25}]
[null,"Custos eventuais",null,null,null,{"$f":"0.05*(F152+F153+F166)","v":829.03250000000014}]
[null,"Custos de Comercialização",null,null,null,1072.5]
[null,"Custo Total",null,null,null,{"$f":"F166+F152+F153+F167+F168","v":18482.182500000003}]
[null,"Receita bruta",null,null,null,{"$f":"F136","v":54000}]
[null,"Lucro bruto    ",null,null,null,{"$f":"F170-F169","v":35517.817499999997}]
[]
[null,"Planilha de Coeficientes Técnicos"]
[null,"Cultura: Banana - ano 5"]
[null,null,null,"Produção (t)",null,25]
[null,null,null,"Preço (R$/t)",null,2160]
[null,null,null,"Receita Bruta (R$)",null,{"$f":"F175*F176","v":54000}]
[]
[null,"Area: 1,0 ha",null,null,"Custo (R$)",null,"M  e  s  e  s"]
[null,"Discriminação","Und.","Qtde.","Unitário","Global","Jan","Fev","Mar","Abr","Mai","Jun","Jul","Ago","Set","Out","Nov","Dez"]
[null,"SERVIÇOS"]
[null,". Capinas","d/h",{"$f":"SUM(G182:R182)","v":10},{"$f":"E149","v":81.84},{"$f":"E182*D182","v":818.40000000000009},2,null,2,null,2,null,2,null,2]
[null,". Roçada mecânica","htr",5,30,150,null,1,null,1,null,1,null,1,null,1]
[null,". Desbaste","d/h",9,{"$f":"E182","v":81.84},736.56000000000006,3,null,3,3]
[null,". Prep. e Dist. Iscas","d/h",1,{"$f":"E184","v":81.84},81.84,null,null,null,1]
[null,". Controle fitossanitário","htr",5,30,150,null,1,null,1,null,1,null,1,null,1]
[null,". Controle fitossanitário","d/h",22,{"$f":"E184","v":81.84},1800.48,2,2,2,2,2,2,2,2,2,2,2]
[null,". Limpeza das Plantas ","d/h",4,{"$f":"E185","v":81.84},327.36,2,null,null,2]
[null,". Adubação/Manutenção","d/h",9,{"$f":"E188","v":81.84},736.56000000000006,null,null,3,null,null,3,null,null,3]
[null,". Irrigação","d/h",28,{"$f":"E189","v":81.84},2291.52,1,1,3,3,3,3,3,3,3,3,1,1]
[null,". Despencamento e classificação","d/h",30,{"$f":"E190","v":81.84},2455.2000000000003,null,null,null,10,null,null,null,10,null,null,null,10]
[null,". Colheita","d/h",30,{"$f":"E190","v":81.84},2455.2000000000003,null,null,null,10,null,null,null,10,null,null,null,10]
[null,"Custo dos serviços","d/h",{"$f":"SUMIFS(D$182:D$192,$C$182:$C$192,$C193)","v":143},{"$f":"F193/D193","v":81.84},{"$f":"SUMIFS(F$182:F$192,$C$182:$C$192,$C193)","v":11703.12},10,3,13,31,7,8,7,25,10,5,3,21]
[null,null,"htr",{"$f":"SUMIFS(D$182:D$192,$C$182:$C$192,$C194)","v":10},0,300,0,2,0,2,0,2,0,2,0,2,0,0]
[null,"INSUMOS"]
[null,"  Fertilizante químico"]
[null,"     Nitrogenado","Kg",400,3.5,{"$f":"D197*E197","v":1400}]
[null,"     Fosfatado","Kg",250,2.5750000000000002,{"$f":"D198*E198","v":643.75}]
[null,"     Potássico","Kg",180,2.5750000000000002,{"$f":"D199*E199","v":463.50000000000006}]
[null,"  Defensivos"]
[null,"     Fung.p/ trat. mudas","Kg",0,33,{"$f":"D201*E201","v":0}]
[null,"     Inseticida","l",5,73,365]
[null,"     Fungicida","Kg",0,33,0]
[null,"     Espalhante adesivo","l",2,52,104]
[null,"     Herbicida ","l",0,108,0]
[null,"     Formicida ","Kg",2,75,150]
[null,"Custo dos insumos",null,null,null,{"$f":"SUM(F196:F206)","v":3126.25}]
[null,"Custos eventuais",null,null,null,{"$f":"0.05*(F193+F194+F207)","v":756.46850000000006}]
[null,"Custos de Comercialização",null,null,null,1072.5]
[null,"Custo Total",null,null,null,{"$f":"F207+F193+F194+F208+F209","v":16958.338500000002}]
[null,"Receita bruta",null,null,null,{"$f":"F177","v":54000}]
[null,"Lucro bruto    ",null,null,null,{"$f":"F211-F210","v":37041.661500000002}]

{"sheet":"Coco","index":38,"n_rows":187,"n_cols":40,"rows_kept":187,"cut":false,"hidden":false,"merged":[]}
[null,"Planilha de Coeficientes Técnicos"]
[null,"Cultura: Coco - implantação",null,null,null,null,null,null,null,null,null,null,null,null,null,null,null,null,null,null,1,2,3,4,5,6,7,8,9,10,11,12,13,14,15,16,17,18,19,20]
[null,null,null,"Produção (kg)",null,0,null,null,null,null,null,null,null,null,null,null,null,null,null,"Produção",{"$f":"F3","v":0},{"$f":"F45","v":0},{"$f":"F80","v":22500},{"$f":"F118","v":30000},{"$f":"F155","v":37500},{"$f":"Y3","v":37500},{"$f":"Z3","v":37500},37500,37500,37500,37500,37500,37500,37500,37500,37500,37500,37500,37500,37500]
[null,null,null,"Preço (R$/kg)",null,1,null,null,null,null,null,null,null,null,null,null,null,null,null,"Receita",{"$f":"$F$4*U3","v":0},{"$f":"$F$4*V3","v":0},{"$f":"$F$4*W3","v":22500},{"$f":"$F$4*X3","v":30000},{"$f":"$F$4*Y3","v":37500},{"$f":"Y4","v":37500},37500,37500,37500,37500,37500,37500,37500,37500,37500,37500,37500,37500,37500,37500]
[null,null,null,"Receita Bruta (R$)",null,{"$f":"F4*F3","v":0},null,null,null,null,null,null,null,null,null,null,null,null,null,"Custo",{"$f":"F38","v":9880.2637500000019},{"$f":"F73","v":8424.7117500000004},{"$f":"F111","v":11452.481250000001},{"$f":"F148","v":13755.871499999999},{"$f":"F185","v":14964.6315},{"$f":"Y5","v":14964.6315},14964.6315,14964.6315,14964.6315,14964.6315,14964.6315,14964.6315,14964.6315,14964.6315,14964.6315,14964.6315,14964.6315,14964.6315,14964.6315,14964.6315]
[]
[null,"Area: 1,0 ha",null,null,"Custo (R$)",null,"M  e  s  e  s"]
[null,"Discriminação","Und.","Qtde.","Unitário","Global","Jan","Fev","Mar","Abr","Mai","Jun","Jul","Ago","Set","Out","Nov","Dez"]
[null,"SERVIÇOS"]
[null,". Aração","htr",{"$f":"SUM(G10:R10)","v":4},30,{"$f":"E10*D10","v":120},4]
[null,". Gradagem","htr",2,30,60,2]
[null,". Marcação de covas","d/h",2,81.84,163.68,2]
[null,". Coveamento","d/h",6,81.84,491.04,6]
[null,". Adubação de Fundação","d/h",5,81.84,409.20000000000005,5]
[null,". Plantio/Replantio","d/h",4,81.84,327.36,null,4]
[null,". Capina mecânica","htr",5,30,150,null,null,null,1,null,1,null,1,null,1,null,1]
[null,". Capinas manuais (coroamento)","d/h",5,81.84,409.20000000000005,null,null,1,null,1,null,1,null,1,null,1]
[null,". Adubação Cobertura","d/h",8,81.84,654.72,null,null,null,null,4,null,null,null,4]
[null,"Controle fitosanitário manual","d/h",5,81.84,409.20000000000005,null,1,null,1,null,null,1,null,1,null,1]
[null,"Controle fitosanitário mecânico","htr",0,30,0]
[null,". Irrigação","d/h",25,81.84,2046,null,1,1,3,3,3,3,3,3,3,1,1]
[null,"Custo dos serviços","d/h",{"$f":"SUMIFS(D$10:D$21,$C$10:$C$21,$C22)","v":60},{"$f":"F22/D22","v":81.84},{"$f":"SUMIFS(F$10:F$21,$C$10:$C$21,$C22)","v":4910.4000000000005},13,6,2,4,8,3,5,3,9,3,3,1]
[null,null,"htr",{"$f":"SUMIFS(D$10:D$21,$C$10:$C$21,$C23)","v":11},{"$f":"F23/D23","v":30},330,6,0,0,1,0,1,0,1,0,1,0,1]
[null,"INSUMOS"]
[null,"Mudas","und",196,2,{"$f":"D25*E25","v":392}]
[null,"  Fertilizante orgânico","t",4,400,1600]
[null,"  Fertilizante químico"]
[null,"     Nitrogenado","Kg",180,3.5,630]
[null,"     Fosfatado","Kg",215,2.5750000000000002,553.625]
[null,"     Potássico","Kg",145,3.75,543.75]
[null,"  Defensivos"]
[null,"     Inseticida","l",5,73,365]
[null,"     Fungicida","Kg",1,33,33]
[null,"     Formicida","Kg",0,75,0]
[null,"     Espalhante adesivo","l",1,52,52]
[null,"Custo dos insumos",null,null,null,{"$f":"SUM(F25:F35)","v":4169.375}]
[null,"Custos eventuais",null,null,null,{"$f":"0.05*(F22+F23+F36)","v":470.4887500000001}]
[null,"Custo Total",null,null,null,{"$f":"F36+F22+F23+F37","v":9880.2637500000019}]
[null,"Receita bruta",null,null,null,{"$f":"F5","v":0}]
[null,"Lucro bruto    ",null,null,null,{"$f":"F39-F38","v":-9880.2637500000019}]
[]
[]
[null,"Planilha de Coeficientes Técnicos"]
[null,"Cultura: Coco - ano 2"]
[null,null,null,"Produção (kg)",null,0]
[null,null,null,"Preço (R$/kg)",null,1]
[null,null,null,"Receita Bruta (R$)",null,{"$f":"F46*F45","v":0}]
[]
[null,"Area: 1,0 ha",null,null,"Custo (R$)",null,"M  e  s  e  s"]
[null,"Discriminação","Und.","Qtde.","Unitário","Global","Jan","Fev","Mar","Abr","Mai","Jun","Jul","Ago","Set","Out","Nov","Dez"]
[null,"SERVIÇOS"]
[null,". Capinas mecânica","htr",{"$f":"SUM(G52:R52)","v":6},30,{"$f":"E52*D52","v":180},null,1,null,1,null,1,null,1,null,1,null,1]
[null,". Capinas manuais (coroamento)","d/h",6,81.84,491.04,1,null,1,null,1,null,1,null,1,null,1]
[null,". Adubação Cobertura","d/h",10,81.84,818.40000000000009,1,null,5,null,1,null,1,null,1,null,1]
[null,"Controle fitosanitário manual","d/h",5,81.84,409.20000000000005,null,1,null,1,null,null,1,null,1,null,1]
[null,"Controle fitosanitário mecânico","htr",0,30,0]
[null,". Irrigação","d/h",28,81.84,2291.52,1,1,3,3,3,3,3,3,3,3,1,1]
[null,"Custo dos serviços","d/h",{"$f":"SUMIFS(D$52:D$57,$C$52:$C$57,$C58)","v":49},{"$f":"F58/D58","v":81.84},{"$f":"SUMIFS(F$52:F$57,$C$52:$C$57,$C58)","v":4010.16},3,2,9,4,5,3,6,3,6,3,4,1]
[null,null,"htr",{"$f":"SUMIFS(D$52:D$57,$C$52:$C$57,$C59)","v":6},{"$f":"F59/D59","v":30},180,0,1,0,1,0,1,0,1,0,1,0,1]
[null,"INSUMOS"]
[null,"  Fertilizante orgânico","t",4,400,{"$f":"D61*E61","v":1600}]
[null,"  Fertilizante químico"]
[null,"     Nitrogenado","Kg",196,3.5,{"$f":"D63*E63","v":686}]
[null,"     Fosfatado","Kg",215,2.5750000000000002,553.625]
[null,"     Potássico","Kg",145,3.75,543.75]
[null,"  Defensivos"]
[null,"     Inseticida","l",5,73,365]
[null,"     Fungicida","Kg",1,33,33]
[null,"     Formicida","Kg",0,0,0]
[null,"     Espalhante adesivo","l",1,52,52]
[null,"Custo dos insumos",null,null,null,{"$f":"SUM(F61:F70)","v":3833.375}]
[null,"Custos eventuais",null,null,null,{"$f":"0.05*(F58+F59+F71)","v":401.17675000000003}]
[null,"Custo Total",null,null,null,{"$f":"F71+F58+F59+F72","v":8424.7117500000004}]
[null,"Receita bruta",null,null,null,{"$f":"F47","v":0}]
[null,"Lucro bruto    ",null,null,null,{"$f":"F74-F73","v":-8424.7117500000004}]
[]
[]
[null,"Planilha de Coeficientes Técnicos"]
[null,"Cultura: Coco - ano 3"]
[null,null,null,"Produção (kg)",null,{"$f":"15000*1.5","v":22500}]
[null,null,null,"Preço (R$/kg)",null,1]
[null,null,null,"Receita Bruta (R$)",null,{"$f":"F81*F80","v":22500}]
[]
[null,"Area: 1,0 ha",null,null,"Custo (R$)",null,"M  e  s  e  s"]
[null,"Discriminação","Und.","Qtde.","Unitário","Global","Jan","Fev","Mar","Abr","Mai","Jun","Jul","Ago","Set","Out","Nov","Dez"]
[null,"SERVIÇOS"]
[null,". Capinas mecânica","htr",{"$f":"SUM(G87:R87)","v":6},30,{"$f":"E87*D87","v":180},null,1,null,1,null,1,null,1,null,1,null,1]
[null,". Capinas manuais (coroamento)","d/h",10,81.84,818.40000000000009,2,null,2,null,1,null,1,null,2,null,2]
[null,". Adubação Cobertura","d/h",10,81.84,818.40000000000009,1,null,5,null,1,null,1,null,1,null,1]
[null,"Controle fitosanitário manual","d/h",5,81.84,409.20000000000005,null,1,null,1,null,null,1,null,1,null,1]
[null,"Controle fitosanitário mecânico","htr",6,30,180,1,null,1,null,null,1,null,1,null,1,null,1]
[null,". Irrigação","d/h",28,81.84,2291.52,1,1,3,3,3,3,3,3,3,3,1,1]
[null,"Limpeza da copa","d/h",12,81.84,982.08,1,1,1,1,1,1,1,1,1,1,1,1]
[null,"Colheita","d/h",10,81.84,818.40000000000009,null,null,null,null,null,null,null,2,2,2,2,2]
[null,"Transporte interno","htr",5,30,150,null,null,null,null,null,null,null,1,1,1,1,1]
[null,"Custo dos serviços","d/h",{"$f":"SUMIFS(D$87:D$95,$C$87:$C$95,$C96)","v":75},{"$f":"F96/D96","v":81.84},{"$f":"SUMIFS(F$87:F$95,$C$87:$C$95,$C96)","v":6138},{"$f":"SUMIFS(G$87:G$95,$C$87:$C$95,$C96)","v":5},3,11,5,6,4,7,6,10,6,8,4]
[null,null,"htr",{"$f":"SUMIFS(D$87:D$95,$C$87:$C$95,$C97)","v":17},{"$f":"F97/D97","v":30},{"$f":"SUMIFS(F$87:F$95,$C$87:$C$95,$C97)","v":510},1,1,1,1,0,2,0,3,1,3,1,3]
[null,"INSUMOS"]
[null,"  Fertilizante orgânico","t",4,400,{"$f":"D99*E99","v":1600}]
[null,"  Fertilizante químico"]
[null,"     Nitrogenado","Kg",250,3.5,{"$f":"D101*E101","v":875}]
[null,"     Fosfatado","Kg",215,2.5750000000000002,553.625]
[null,"     Potássico","Kg",178,3.75,667.5]
[null,"  Defensivos"]
[null,"     Inseticida","l",7,73,511]
[null,"     Fungicida","Kg",0,33,0]
[null,"     Formicida","Kg",0,0,0]
[null,"     Espalhante adesivo","l",1,52,52]
[null,"Custo dos insumos",null,null,null,{"$f":"SUM(F99:F108)","v":4259.125}]
[null,"Custos eventuais",null,null,null,{"$f":"0.05*(F96+F97+F109)","v":545.35625000000005}]
[null,"Custo Total",null,null,null,{"$f":"F109+F96+F97+F110","v":11452.481250000001}]
[null,"Receita bruta",null,null,null,{"$f":"F82","v":22500}]
[null,"Lucro bruto    ",null,null,null,{"$f":"F112-F111","v":11047.518749999999}]
[]
[]
[null,"Planilha de Coeficientes Técnicos"]
[null,"Cultura: Coco - ano 4"]
[null,null,null,"Produção (kg)",null,{"$f":"20000*1.5","v":30000}]
[null,null,null,"Preço (R$/kg)",null,1]
[null,null,null,"Receita Bruta (R$)",null,{"$f":"F119*F118","v":30000}]
[]
[null,"Area: 1,0 ha",null,null,"Custo (R$)",null,"M  e  s  e  s"]
[null,"Discriminação","Und.","Qtde.","Unitário","Global","Jan","Fev","Mar","Abr","Mai","Jun","Jul","Ago","Set","Out","Nov","Dez"]
[null,"SERVIÇOS"]
[null,". Capinas mecânica","htr",{"$f":"SUM(G125:R125)","v":4},30,{"$f":"E125*D125","v":120},null,1,null,null,1,null,null,1,null,null,1]
[null,". Adubação Cobertura","d/h",{"$f":"SUM(G126:R126)","v":15},81.84,{"$f":"E126*D126","v":1227.6000000000001},2,null,5,null,2,null,2,null,2,null,2]
[null,"Controle fitosanitário manual","d/h",6,81.84,491.04,1,null,1,null,1,null,1,null,1,null,1]
[null,"Controle fitosanitário mecânico","htr",6,30,180,null,1,null,1,null,1,null,1,null,1,null,1]
[null,". Irrigação","d/h",28,81.84,2291.52,1,1,3,3,3,3,3,3,3,3,1,1]
[null,"Limpeza da copa","d/h",14,81.84,1145.76,2,2,1,1,1,1,1,1,1,1,1,1]
[null,"Colheita","d/h",24,81.84,1964.16,2,2,2,2,2,2,2,2,2,2,2,2]
[null,"Transporte intrno","htr",12,30,360,1,1,1,1,1,1,1,1,1,1,1,1]
[null,"Custo dos serviços","d/h",{"$f":"SUMIFS(D$125:D$132,$C$125:$C$132,$C133)","v":87},{"$f":"F133/D133","v":81.84},{"$f":"SUMIFS(F$125:F$132,$C$125:$C$132,$C133)","v":7120.08},8,5,12,6,9,6,9,6,9,6,7,4]
[null,null,"htr",{"$f":"SUMIFS(D$125:D$132,$C$125:$C$132,$C134)","v":22},{"$f":"F134/D134","v":30},660,1,3,1,2,2,2,1,3,1,2,2,2]
[null,"INSUMOS"]
[null,"  Fertilizante orgânico","t",4,400,{"$f":"D136*E136","v":1600}]
[null,"  Fertilizante químico"]
[null,"     Nitrogenado","Kg",300,3.5,{"$f":"D138*E138","v":1050}]
[null,"     Fosfatado","Kg",350,2.5750000000000002,901.25000000000011]
[null,"     Potássico","Kg",230,3.75,862.5]
[null,"  Defensivos"]
[null,"     Inseticida","l",11,73,803]
[null,"     Fungicida","Kg",0,33,0]
[null,"     Formicida","Kg",0,0,0]
[null,"     Espalhante adesivo","l",2,52,104]
[null,"Custo dos insumos",null,null,null,{"$f":"SUM(F136:F145)","v":5320.75}]
[null,"Custos eventuais",null,null,null,{"$f":"0.05*(F133+F134+F146)","v":655.04150000000004}]
[null,"Custo Total",null,null,null,{"$f":"F146+F133+F134+F147","v":13755.871499999999}]
[null,"Receita bruta",null,null,null,{"$f":"F120","v":30000}]
[null,"Lucro bruto    ",null,null,null,{"$f":"F149-F148","v":16244.128500000001}]
[]
[]
[null,"Planilha de Coeficientes Técnicos"]
[null,"Cultura: Coco - ano 5 em diante"]
[null,null,null,"Produção (kg)",null,{"$f":"25000*1.5","v":37500}]
[null,null,null,"Preço (R$/kg)",null,1]
[null,null,null,"Receita Bruta (R$)",null,{"$f":"F156*F155","v":37500}]
[]
[null,"Area: 1,0 ha",null,null,"Custo (R$)",null,"M  e  s  e  s"]
[null,"Discriminação","Und.","Qtde.","Unitário","Global","Jan","Fev","Mar","Abr","Mai","Jun","Jul","Ago","Set","Out","Nov","Dez"]
[null,"SERVIÇOS"]
[null,". Capinas mecânica","htr",{"$f":"SUM(G162:R162)","v":4},30,{"$f":"E162*D162","v":120},null,1,null,null,1,null,null,1,null,null,1]
[null,". Adubação Cobertura","d/h",{"$f":"SUM(G163:R163)","v":15},81.84,{"$f":"E163*D163","v":1227.6000000000001},2,null,5,null,2,null,2,null,2,null,2]
[null,"Controle fitosanitário manual","d/h",6,81.84,491.04,1,null,1,null,1,null,1,null,1,null,1]
[null,"Controle fitosanitário mecânico","htr",6,30,180,null,1,null,1,null,1,null,1,null,1,null,1]
[null,". Irrigação","d/h",28,81.84,2291.52,1,1,3,3,3,3,3,3,3,3,1,1]
[null,"Limpeza da copa","d/h",19,81.84,1554.96,2,1,2,1,3,1,2,1,2,1,2,1]
[null,"Colheita","d/h",24,81.84,1964.16,2,2,2,2,2,2,2,2,2,2,2,2]
[null,"Transporte intrno","htr",12,30,360,1,1,1,1,1,1,1,1,1,1,1,1]
[null,"Custo dos serviços","d/h",{"$f":"SUMIFS(D$162:D$169,$C$162:$C$169,$C170)","v":92},{"$f":"F170/D170","v":81.84},{"$f":"SUMIFS(F$162:F$169,$C$162:$C$169,$C170)","v":7529.28},8,4,13,6,11,6,10,6,10,6,8,4]
[null,null,"htr",{"$f":"SUMIFS(D$162:D$169,$C$162:$C$169,$C171)","v":22},{"$f":"F171/D171","v":30},660,1,3,1,2,2,2,1,3,1,2,2,2]
[null,"INSUMOS"]
[null,"  Fertilizante orgânico","t",4,400,{"$f":"D173*E173","v":1600}]
[null,"  Fertilizante químico"]
[null,"     Nitrogenado","Kg",350,3.5,{"$f":"D175*E175","v":1225}]
[null,"     Fosfatado","Kg",350,2.5750000000000002,901.25000000000011]
[null,"     Potássico","Kg",270,3.75,1012.5]
[null,"  Defensivos",null,null,null,0]
[null,"     Inseticida","l",16,73,1168]
[null,"     Fungicida","Kg",0,33,0]
[null,"     Formicida","Kg",0,0,0]
[null,"     Espalhante adesivo","l",3,52,156]
[null,"Custo dos insumos",null,null,null,{"$f":"SUM(F173:F182)","v":6062.75}]
[null,"Custos eventuais",null,null,null,{"$f":"0.05*(F170+F171+F183)","v":712.60149999999999}]
[null,"Custo Total",null,null,null,{"$f":"F183+F170+F171+F184","v":14964.6315}]
[null,"Receita bruta",null,null,null,{"$f":"F157","v":37500}]
[null,"Lucro bruto    ",null,null,null,{"$f":"F186-F185","v":22535.3685}]

{"sheet":"Goiaba","index":39,"n_rows":192,"n_cols":40,"rows_kept":192,"cut":false,"hidden":false,"merged":[]}
[null,"Planilha de Coeficientes Técnicos"]
[null,"Cultura: Goiaba - implantação",null,null,null,null,null,null,null,null,null,null,null,null,null,null,null,null,null,null,1,2,3,4,5,6,7,8,9,10,11,12,13,14,15,16,17,18,19,20]
[null,null,null,"Produção (kg)",null,0,null,null,null,null,null,null,null,null,null,null,null,null,null,"Produção",{"$f":"F3","v":0},{"$f":"F45","v":10000},{"$f":"F83","v":15000},{"$f":"F121","v":20000},{"$f":"F159","v":30000},{"$f":"Y3","v":30000},{"$f":"Z3","v":30000},30000,30000,30000,30000,30000,30000,30000,30000]
[null,null,null,"Preço (R$/kg)",null,1.74,null,null,null,null,null,null,null,null,null,null,null,null,null,"Receita",{"$f":"$F$4*U3","v":0},{"$f":"$F$4*V3","v":17400},{"$f":"$F$4*W3","v":26100},{"$f":"$F$4*X3","v":34800},{"$f":"$F$4*Y3","v":52200},{"$f":"Y4","v":52200},52200,52200,52200,52200,52200,52200,52200,52200,52200]
[null,null,null,"Receita Bruta (R$)",null,{"$f":"F4*F3","v":0},null,null,null,null,null,null,null,null,null,null,null,null,null,"Custo",{"$f":"F39","v":19290.358500000002},{"$f":"F77","v":25238.9025},{"$f":"F114","v":30644.533500000001},{"$f":"F152","v":35270.287499999999},{"$f":"F190","v":41551.4715},{"$f":"Y5","v":41551.4715},41551.4715,41551.4715,41551.4715,41551.4715,41551.4715,41551.4715,41551.4715,41551.4715,41551.4715]
[]
[null,"Area: 1,0 ha",null,null,"Custo (R$)",null,"M  e  s  e  s"]
[null,"Discriminação","Und.","Qtde.","Unitário","Global","Jan","Fev","Mar","Abr","Mai","Jun","Jul","Ago","Set","Out","Nov","Dez"]
[null,"SERVIÇOS"]
[null,". Aração/Gradagem","htr",{"$f":"SUM(G10:R10)","v":5},30,{"$f":"E10*D10","v":150},5]
[null,". Marcação e Coveamento","d/h",15,81.84,1227.6000000000001,15]
[null,". Adubação de Fundação","d/h",6,81.84,491.04,6]
[null,". Plantio e Replantio","d/h",{"$f":"SUM(G13:R13)","v":8},81.84,{"$f":"E13*D13","v":654.72},null,5,null,3]
[null,". Tutoramento","d/h",4,81.84,327.36,null,4]
[null,". Poda de formação","d/h",3,81.84,245.52,null,null,2,null,1]
[null,".Roçada","htr",3,30,90,null,null,null,1,null,null,1,null,null,1]
[null,". Adubação de Cobertura","d/h",{"$f":"SUM(G17:R17)","v":9},81.84,{"$f":"E17*D17","v":736.56000000000006},null,null,null,1,1,1,1,1,1,1,1,1]
[null,". Coroamento","d/h",{"$f":"SUM(G18:R18)","v":10},81.84,{"$f":"E18*D18","v":818.40000000000009},null,null,2,null,2,null,2,null,2,null,2]
[null,". Controle Fitossanitário","d/h",{"$f":"SUM(G19:R19)","v":8},81.84,{"$f":"E19*D19","v":654.72},null,null,null,null,2,null,2,null,2,null,2]
[null,". Controle Fitossanitário","htr",{"$f":"SUM(G20:R20)","v":5},30,{"$f":"E20*D20","v":150},null,null,null,1,null,1,null,1,null,1,null,1]
[null,". Irrigação","d/h",{"$f":"SUM(G21:R21)","v":15},81.84,{"$f":"E21*D21","v":1227.6000000000001},null,null,1,1,2,2,2,2,2,1,1,1]
[null,"Custo dos serviços","d/h",{"$f":"SUMIFS(D$10:D$21,$C$10:$C$21,$C22)","v":78},{"$f":"F22/D22","v":81.840000000000018},{"$f":"SUMIFS(F$10:F$21,$C$10:$C$21,$C22)","v":6383.5200000000013},{"$f":"SUMIFS(G$10:G$21,$C$10:$C$21,$C22)","v":21},9,5,5,8,3,7,3,7,2,6,2]
[null,null,"htr",{"$f":"SUMIFS(D$10:D$21,$C$10:$C$21,$C23)","v":13},{"$f":"F23/D23","v":30},{"$f":"SUMIFS(F$10:F$21,$C$10:$C$21,$C23)","v":390},5,0,0,2,0,1,1,1,0,2,0,1]
[null,"INSUMOS"]
[null,"Mudas","und",275,5,{"$f":"D25*E25","v":1375}]
[null,"  Fertilizante orgânico","t",10,400,4000]
[null,"  Fertilizante químico"]
[null,"     Nitrogenado","Kg",150,3.5,525]
[null,"     Fosfatado","Kg",440,2.5750000000000002,1133]
[null,"     Potássico","Kg",110,2.5750000000000002,283.25]
[null,"  Defensivos",null,null,null,0]
[null,"     Inseticida","l",14,73,1022]
[null,"     Fungicida","Kg",12,33,396]
[null,"     Espalhante adesivo","l",2,52,104]
[null,"     Óleo mineral","l",5,52,260]
[null,"     Tutores","und",250,10,2500]
[null,"Custo dos insumos",null,null,null,{"$f":"SUM(F25:F36)","v":11598.25}]
[null,"Custos eventuais",null,null,null,{"$f":"0.05*(F22+F23+F37)","v":918.58850000000007}]
[null,"Custo Total",null,null,null,{"$f":"F37+F22+F23+F38","v":19290.358500000002}]
[null,"Receita bruta",null,null,null,{"$f":"F5","v":0}]
[null,"Lucro bruto    ",null,null,null,{"$f":"F40-F39","v":-19290.358500000002}]
[]
[null,"Planilha de Coeficientes Técnicos"]
[null,"Cultura: Goiaba - ano 2"]
[null,null,null,"Produção (kg)",null,10000]
[null,null,null,"Preço (R$/kg)",null,1.74]
[null,null,null,"Receita Bruta (R$)",null,{"$f":"F46*F45","v":17400}]
[]
[null,"Area: 1,0 ha",null,null,"Custo (R$)",null,"M  e  s  e  s"]
[null,"Discriminação","Und.","Qtde.","Unitário","Global","Jan","Fev","Mar","Abr","Mai","Jun","Jul","Ago","Set","Out","Nov","Dez"]
[null,"SERVIÇOS"]
[null,". Roçada","htr",{"$f":"SUM(G52:R52)","v":4},30,{"$f":"E52*D52","v":120},1,null,null,1,null,null,1,null,null,1]
[null,". Coroamento","d/h",{"$f":"SUM(G53:R53)","v":6},81.84,{"$f":"E53*D53","v":491.04},1,null,1,null,1,null,1,null,1,null,1]
[null,". Adubação Cobertura","d/h",16,81.84,1309.44,2,2,1,1,1,1,1,1,1,1,2,2]
[null,". Controle Fitossanitário","d/h",24,81.84,1964.16,2,2,2,2,2,2,2,2,2,2,2,2]
[null,". Poda de produção","d/h",11,81.84,900.24,null,1,1,1,1,1,1,1,1,1,1,1]
[null,". Irrigação","d/h",28,81.84,2291.52,1,1,3,3,3,3,3,3,3,3,1,1]
[null,". Colheita","d/h",40,81.84,3273.6000000000004,null,10,10,null,null,null,null,null,null,10,10]
[null,". Classificação e embalagem","d/h",8,81.84,654.72,null,2,2,null,null,null,null,null,null,2,2]
[null,". Transporte interno","d/h",12,81.84,982.08,1,1,1,1,1,1,1,1,1,1,1,1]
[null,". Transporte interno","htr",6,30,180,0.5,0.5,0.5,0.5,0.5,0.5,0.5,0.5,0.5,0.5,0.5,0.5]
[null,"Custo dos serviços","d/h",{"$f":"SUMIFS(D$52:D$61,$C$52:$C$61,$C62)","v":145},{"$f":"F62/D62","v":81.839999999999989},{"$f":"SUMIFS(F$52:F$61,$C$52:$C$61,$C62)","v":11866.8},{"$f":"SUMIFS(G$52:G$61,$C$52:$C$61,$C62)","v":7},19,21,8,9,8,9,8,9,20,20,7]
[null,null,"htr",{"$f":"SUMIFS(D$52:D$61,$C$52:$C$61,$C63)","v":10},{"$f":"F63/D63","v":30},{"$f":"SUMIFS(F$52:F$61,$C$52:$C$61,$C63)","v":300},1.5,0.5,0.5,1.5,0.5,0.5,1.5,0.5,0.5,1.5,0.5,0.5]
[null,"INSUMOS"]
[null,"  Fertilizante químico"]
[null,"     Nitrogenado","Kg",180,3.5,{"$f":"D66*E66","v":630}]
[null,"     Fosfatado","Kg",440,2.5750000000000002,1133]
[null,"     Potássico","Kg",110,2.5750000000000002,283.25]
[null,"  Defensivos",null,null,null,0]
[null,"     Inseticida","l",36,73,2628]
[null,"     Fungicida","l",24,33,792]
[null,"     Óleo mineral","Kg",24,52,1248]
[null,"     Espalhante adesivo","l",3,52,156]
[null,"     Caixas 5 kg","und",{"$f":"+F45/5","v":2000},2.5,5000]
[null,"Custo dos insumos",null,null,null,{"$f":"SUM(F65:F74)","v":11870.25}]
[null,"Custos eventuais",null,null,null,{"$f":"0.05*(F62+F63+F75)","v":1201.8525}]
[null,"Custo Total",null,null,null,{"$f":"F75+F62+F63+F76","v":25238.9025}]
[null,"Receita bruta",null,null,null,{"$f":"F47","v":17400}]
[null,"Lucro bruto    ",null,null,null,{"$f":"F78-F77","v":-7838.9025000000001}]
[]
[null,"Planilha de Coeficientes Técnicos"]
[null,"Cultura: Goiaba - ano 3"]
[null,null,null,"Produção (kg)",null,15000]
[null,null,null,"Preço (R$/kg)",null,1.74]
[null,null,null,"Receita Bruta (R$)",null,{"$f":"F84*F83","v":26100}]
[]
[null,"Area: 1,0 ha",null,null,"Custo (R$)",null,"M  e  s  e  s"]
[null,"Discriminação","Und.","Qtde.","Unitário","Global","Jan","Fev","Mar","Abr","Mai","Jun","Jul","Ago","Set","Out","Nov","Dez"]
[null,"SERVIÇOS"]
[null,". Roçada","htr",{"$f":"SUM(G90:R90)","v":6},30,{"$f":"E90*D90","v":180},1,null,1,null,1,null,1,null,1,null,1]
[null,". Adubação Cobertura","d/h",{"$f":"SUM(G91:R91)","v":18},81.84,{"$f":"E91*D91","v":1473.1200000000001},1.5,1.5,1.5,1.5,1.5,1.5,1.5,1.5,1.5,1.5,1.5,1.5]
[null,". Controle Fitossanitário","d/h",36,81.84,2946.2400000000002,3,3,3,3,3,3,3,3,3,3,3,3]
[null,". Poda de produção","d/h",12,81.84,982.08,1,1,1,1,1,1,1,1,1,1,1,1]
[null,". Irrigação","d/h",28,81.84,2291.52,1,1,3,3,3,3,3,3,3,3,1,1]
[null,". Colheita","d/h",60,81.84,4910.4000000000005,null,15,15,null,null,null,null,null,null,15,15]
[null,". Classificação e embalagem","d/h",12,81.84,982.08,null,3,3,null,null,null,null,null,null,3,3]
[null,". Transporte interno","d/h",12,81.84,982.08,1,1,1,1,1,1,1,1,1,1,1,1]
[null,". Transporte interno","htr",12,30,360,1,1,1,1,1,1,1,1,1,1,1,1]
[null,"Custo dos serviços","d/h",{"$f":"SUMIFS(D$90:D$98,$C$90:$C$98,$C99)","v":178},{"$f":"F99/D99","v":81.84},{"$f":"SUMIFS(F$90:F$98,$C$90:$C$98,$C99)","v":14567.52},7.5,25.5,27.5,9.5,9.5,9.5,9.5,9.5,9.5,27.5,25.5,7.5]
[null,null,"htr",{"$f":"SUMIFS(D$90:D$98,$C$90:$C$98,$C100)","v":18},{"$f":"F100/D100","v":30},540,2,1,2,1,2,1,2,1,2,1,2,1]
[null,"INSUMOS"]
[null,"  Fertilizante químico"]
[null,"     Nitrogenado","Kg",200,3.5,{"$f":"D103*E103","v":700}]
[null,"     Fosfatado","Kg",400,2.5750000000000002,1030]
[null,"     Potássico","Kg",90,2.5750000000000002,231.75000000000003]
[null,"  Defensivos"]
[null,"     Inseticida","l",36,73,2628]
[null,"     Fungicida","l",24,33,792]
[null,"     Óleo mineral","Kg",20,52,1040]
[null,"     Espalhante adesivo","l",3,52,156]
[null,"     Caixas 5 kg","und",{"$f":"+F83/5","v":3000},2.5,7500]
[null,"Custo dos insumos",null,null,null,{"$f":"SUM(F102:F111)","v":14077.75}]
[null,"Custos eventuais",null,null,null,{"$f":"0.05*(F99+F100+F112)","v":1459.2635}]
[null,"Custo Total",null,null,null,{"$f":"F112+F99+F100+F113","v":30644.533500000001}]
[null,"Receita bruta",null,null,null,{"$f":"F85","v":26100}]
[null,"Lucro bruto    ",null,null,null,{"$f":"F115-F114","v":-4544.5335000000014}]
[]
[]
[null,"Planilha de Coeficientes Técnicos"]
[null,"Cultura: Goiaba - ano 4"]
[null,null,null,"Produção (kg)",null,20000]
[null,null,null,"Preço (R$/kg)",null,1.74]
[null,null,null,"Receita Bruta (R$)",null,{"$f":"F122*F121","v":34800}]
[]
[null,"Area: 1,0 ha",null,null,"Custo (R$)",null,"M  e  s  e  s"]
[null,"Discriminação","Und.","Qtde.","Unitário","Global","Jan","Fev","Mar","Abr","Mai","Jun","Jul","Ago","Set","Out","Nov","Dez"]
[null,"SERVIÇOS"]
[null,". Roçada","htr",{"$f":"SUM(G128:R128)","v":6},30,{"$f":"E128*D128","v":180},1,null,1,null,1,null,1,null,1,null,1]
[null,". Adubação Cobertura","d/h",{"$f":"SUM(G129:R129)","v":24},81.84,{"$f":"E129*D129","v":1964.16},2,2,2,2,2,2,2,2,2,2,2,2]
[null,". Controle Fitossanitário","d/h",36,81.84,2946.2400000000002,3,3,3,3,3,3,3,3,3,3,3,3]
[null,". Poda de produção","d/h",12,81.84,982.08,1,1,1,1,1,1,1,1,1,1,1,1]
[null,". Irrigação","d/h",28,81.84,2291.52,1,1,3,3,3,3,3,3,3,3,1,1]
[null,". Colheita","d/h",72,81.84,5892.4800000000005,null,18,18,null,null,null,null,null,null,18,18]
[null,". Classificação e embalagem","d/h",16,81.84,1309.44,null,4,4,null,null,null,null,null,null,4,4]
[null,". Transporte interno","d/h",12,81.84,982.08,1,1,1,1,1,1,1,1,1,1,1,1]
[null,". Transporte interno","htr",12,30,360,1,1,1,1,1,1,1,1,1,1,1,1]
[null,"Custo dos serviços","d/h",{"$f":"SUMIFS(D$128:D$136,$C$128:$C$136,$C137)","v":200},{"$f":"F137/D137","v":81.84},{"$f":"SUMIFS(F$128:F$136,$C$128:$C$136,$C137)","v":16368},8,30,32,10,10,10,10,10,10,32,30,8]
[null,null,"htr",{"$f":"SUMIFS(D$128:D$136,$C$128:$C$136,$C138)","v":18},{"$f":"F138/D138","v":30},540,2,1,2,1,2,1,2,1,2,1,2,1]
[null,"INSUMOS"]
[null,"  Fertilizante químico"]
[null,"     Nitrogenado","Kg",230,3.5,{"$f":"D141*E141","v":805}]
[null,"     Fosfatado","Kg",400,2.5750000000000002,1030]
[null,"     Potássico","Kg",90,2.5750000000000002,231.75000000000003]
[null,"  Defensivos"]
[null,"     Inseticida","l",36,73,2628]
[null,"     Fungicida","l",24,33,792]
[null,"     Óleo mineral","Kg",20,52,1040]
[null,"     Espalhante adesivo","l",3,52,156]
[null,"     Caixas 5 kg","und",{"$f":"+F121/5","v":4000},2.5,10000]
[null,"Custo dos insumos",null,null,null,{"$f":"SUM(F140:F149)","v":16682.75}]
[null,"Custos eventuais",null,null,null,{"$f":"0.05*(F137+F138+F150)","v":1679.5375000000001}]
[null,"Custo Total",null,null,null,{"$f":"F150+F137+F138+F151","v":35270.287499999999}]
[null,"Receita bruta",null,null,null,{"$f":"F123","v":34800}]
[null,"Lucro bruto    ",null,null,null,{"$f":"F153-F152","v":-470.28749999999854}]
[]
[]
[null,"Planilha de Coeficientes Técnicos"]
[null,"Cultura: Goiaba - ano 5 em diante"]
[null,null,null,"Produção (kg)",null,30000]
[null,null,null,"Preço (R$/kg)",null,1.74]
[null,null,null,"Receita Bruta (R$)",null,{"$f":"F160*F159","v":52200}]
[]
[null,"Area: 1,0 ha",null,null,"Custo (R$)",null,"M  e  s  e  s"]
[null,"Discriminação","Und.","Qtde.","Unitário","Global","Jan","Fev","Mar","Abr","Mai","Jun","Jul","Ago","Set","Out","Nov","Dez"]
[null,"SERVIÇOS"]
[null,". Roçada","htr",{"$f":"SUM(G166:R166)","v":6},30,{"$f":"E166*D166","v":180},1,null,1,null,1,null,1,null,1,null,1]
[null,". Adubação Cobertura","d/h",{"$f":"SUM(G167:R167)","v":24},81.84,{"$f":"E167*D167","v":1964.16},2,2,2,2,2,2,2,2,2,2,2,2]
[null,". Controle Fitossanitário","d/h",36,81.84,2946.2400000000002,3,3,3,3,3,3,3,3,3,3,3,3]
[null,". Poda de produção","d/h",12,81.84,982.08,1,1,1,1,1,1,1,1,1,1,1,1]
[null,". Irrigação","d/h",28,81.84,2291.52,1,1,3,3,3,3,3,3,3,3,1,1]
[null,". Colheita","d/h",80,81.84,6547.2000000000007,null,20,20,null,null,null,null,null,null,20,20]
[null,". Classificação e embalagem","d/h",20,81.84,1636.8000000000002,null,5,5,null,null,null,null,null,null,5,5]
[null,". Transporte interno","d/h",12,81.84,982.08,1,1,1,1,1,1,1,1,1,1,1,1]
[null,". Transporte interno","htr",12,30,360,1,1,1,1,1,1,1,1,1,1,1,1]
[null,"Custo dos serviços","d/h",{"$f":"SUMIFS(D$166:D$174,$C$166:$C$174,$C175)","v":212},{"$f":"F175/D175","v":81.84},{"$f":"SUMIFS(F$166:F$174,$C$166:$C$174,$C175)","v":17350.080000000002},8,33,35,10,10,10,10,10,10,35,33,8]
[null,null,"htr",{"$f":"SUMIFS(D$166:D$174,$C$166:$C$174,$C176)","v":18},{"$f":"F176/D176","v":30},540,2,1,2,1,2,1,2,1,2,1,2,1]
[null,"INSUMOS"]
[null,"  Fertilizante químico"]
[null,"     Nitrogenado","Kg",230,3.5,{"$f":"D179*E179","v":805}]
[null,"     Fosfatado","Kg",400,2.5750000000000002,1030]
[null,"     Potássico","Kg",90,2.5750000000000002,231.75000000000003]
[null,"  Defensivos",null,null,null,0]
[null,"     Inseticida","l",36,73,2628]
[null,"     Fungicida","l",24,33,792]
[null,"     Óleo mineral","Kg",20,52,1040]
[null,"     Espalhante adesivo","l",3,52,156]
[null,"     Caixas 5 kg","und",{"$f":"+F159/5","v":6000},2.5,15000]
[null,"Custo dos insumos",null,null,null,{"$f":"SUM(F178:F187)","v":21682.75}]
[null,"Custos eventuais",null,null,null,{"$f":"0.05*(F175+F176+F188)","v":1978.6415000000002}]
[null,"Custo Total",null,null,null,{"$f":"F188+F175+F176+F189","v":41551.4715}]
[null,"Receita bruta",null,null,null,{"$f":"F161","v":52200}]
[null,"Lucro bruto    ",null,null,null,{"$f":"F191-F190","v":10648.5285}]

{"sheet":"Laranja","index":40,"n_rows":220,"n_cols":40,"rows_kept":220,"cut":false,"hidden":false,"merged":[]}
[null,"Planilha de Coeficientes Técnicos"]
[null,"Cultura: Laranja - implantação",null,null,null,null,null,null,null,null,null,null,null,null,null,null,null,null,null,null,1,2,3,4,5,6,7,8,9,10,11,12,13,14,15,16,17,18,19,20]
[null,null,null,"Produção (kg)",null,0,null,null,null,null,null,null,null,null,null,null,null,null,null,"Produção",{"$f":"F3","v":0},{"$f":"F42","v":0},{"$f":"F78","v":3400},{"$f":"F114","v":6800},{"$f":"F151","v":20400},{"$f":"F188","v":30000},{"$f":"Z3","v":30000},30000,30000,30000,30000,30000,30000,30000,30000,30000,30000,30000,30000,30000]
[null,null,null,"Preço (R$/kg)",null,1.02,null,null,null,null,null,null,null,null,null,null,null,null,null,"Receita",{"$f":"$F$4*U3","v":0},{"$f":"$F$4*V3","v":0},{"$f":"$F$4*W3","v":3468},{"$f":"$F$4*X3","v":6936},{"$f":"$F$4*Y3","v":20808},{"$f":"Y4","v":20808},20808,20808,20808,20808,20808,20808,20808,20808,20808,20808,20808,20808,20808,20808]
[null,null,null,"Receita Bruta (R$)",null,{"$f":"F4*F3","v":0},null,null,null,null,null,null,null,null,null,null,null,null,null,"Custo",{"$f":"F36","v":8290.0912500000013},{"$f":"F71","v":4841.1877500000001},{"$f":"F107","v":6165.1372499999998},{"$f":"F144","v":7725.5940000000001},{"$f":"F181","v":12833.001000000002},{"$f":"F218","v":14637.078000000001},14637.078000000001,14637.078000000001,14637.078000000001,14637.078000000001,14637.078000000001,14637.078000000001,14637.078000000001,14637.078000000001,14637.078000000001,14637.078000000001,14637.078000000001,14637.078000000001,14637.078000000001,14637.078000000001]
[]
[null,"Area: 1,0 ha",null,null,"Custo (R$)",null,"M  e  s  e  s"]
[null,"Discriminação","Und.","Qtde.","Unitário","Global","Jan","Fev","Mar","Abr","Mai","Jun","Jul","Ago","Set","Out","Nov","Dez"]
[null,"SERVIÇOS"]
[null,". Aração","htr",{"$f":"SUM(G10:R10)","v":3},30,{"$f":"E10*D10","v":90},3]
[null,". Gradagem","htr",2,30,60,2]
[null,". Marcação/Coveamento","d/h",7,81.84,572.88,7]
[null,". Adubação de Fundação","d/h",4,81.84,327.36,4]
[null,". Plantio/Replantio","d/h",5,81.84,409.20000000000005,null,4,null,1]
[null,". Adubação Cobertura","d/h",3,81.84,245.52,null,null,2,null,1]
[null,". Capinas","d/h",15,81.84,1227.6000000000001,null,2,5,3,null,3,null,2]
[null,". Podas/Desbrotas","d/h",3,81.84,245.52,null,1,1,null,null,1]
[null,". Controle Fitossanitário","d/h",3,81.84,245.52,null,null,null,1,null,null,null,2]
[null,". Irrigação","d/h",15,81.84,1227.6000000000001,null,null,null,null,1,2,2,2,2,2,2,2]
[null,"Custo dos serviços","d/h",{"$f":"SUMIFS(D$10:D$19,$C$10:$C$19,$C20)","v":55},{"$f":"F20/D20","v":81.840000000000018},{"$f":"SUMIFS(F$10:F$19,$C$10:$C$19,$C20)","v":4501.2000000000007},11,7,8,5,2,6,2,6,2,2,2,2]
[null,null,"htr",{"$f":"SUMIFS(D$10:D$19,$C$10:$C$19,$C21)","v":5},{"$f":"F21/D21","v":30},150,5,0,0,0,0,0,0,0,0,0,0,0]
[null,"INSUMOS"]
[null,"Mudas","und",245,4.5,{"$f":"D23*E23","v":1102.5}]
[null,"  Fertilizante orgânico","t",3,400,1200]
[null,"  Fertilizante químico"]
[null,"     Nitrogenado","Kg",30,3.5,105]
[null,"     Fosfatado","Kg",100,2.5750000000000002,257.5]
[null,"     Potássico","Kg",35,2.5750000000000002,90.125]
[null,"  Defensivos",null,null,null,0]
[null,"     Inseticida","l",2,73,146]
[null,"     Fungicida","Kg",2,33,66]
[null,"     Formicida","Kg",3,75,225]
[null,"     Espalhante adesivo","l",1,52,52]
[null,"Custo dos insumos",null,null,null,{"$f":"SUM(F23:F33)","v":3244.125}]
[null,"Custos eventuais",null,null,null,{"$f":"0.05*(F20+F21+F34)","v":394.76625000000007}]
[null,"Custo Total",null,null,null,{"$f":"F34+F20+F21+F35","v":8290.0912500000013}]
[null,"Receita bruta",null,null,null,{"$f":"F5","v":0}]
[null,"Lucro bruto    ",null,null,null,{"$f":"F37-F36","v":-8290.0912500000013}]
[]
[null,"Planilha de Coeficientes Técnicos"]
[null,"Cultura: Laranja - ano 2"]
[null,null,null,"Produção (kg)",null,0]
[null,null,null,"Preço (R$/kg)",null,1.02]
[null,null,null,"Receita Bruta (R$)",null,{"$f":"F43*F42","v":0}]
[]
[null,"Area: 1,0 ha",null,null,"Custo (R$)",null,"M  e  s  e  s"]
[null,"Discriminação","Und.","Qtde.","Unitário","Global","Jan","Fev","Mar","Abr","Mai","Jun","Jul","Ago","Set","Out","Nov","Dez"]
[null,"SERVIÇOS"]
[null,". Replantio","d/h",{"$f":"SUM(G49:R49)","v":1},81.84,{"$f":"E49*D49","v":81.84},1]
[null,". Adubação/Cobertura","d/h",3,81.84,245.52,null,1,null,null,null,null,null,1,null,1]
[null,". Podas/Desbrotas","d/h",3,81.84,245.52,1,null,null,1,null,1]
[null,". Capinas","d/h",15,81.84,1227.6000000000001,null,4,4,4,null,null,1,null,null,2]
[null,". Controle Fitossanitário","d/h",6,81.84,491.04,null,2,null,null,2,null,null,null,1,null,1]
[null,". Irrigação","d/h",14,81.84,1145.76,null,null,null,null,1,1,2,2,2,2,2,2]
[null,"Custo dos serviços","d/h",{"$f":"SUMIFS(D$49:D$54,$C$49:$C$54,$C55)","v":42},{"$f":"F55/D55","v":81.839999999999989},{"$f":"SUMIFS(F$49:F$54,$C$49:$C$54,$C55)","v":3437.2799999999997},{"$f":"SUMIFS(G$49:G$54,$C$49:$C$54,$C55)","v":2},7,4,5,3,2,3,3,3,5,3,2]
[null,null,"htr",{"$f":"SUMIFS(D$49:D$54,$C$49:$C$54,$C56)","v":0},0,{"$f":"SUMIFS(F$49:F$54,$C$49:$C$54,$C56)","v":0},0,0,0,0,0,0,0,0,0,0,0,0]
[null,"INSUMOS"]
[null,"Mudas","und",20,4.5,{"$f":"D58*E58","v":90}]
[null,"  Fertilizante orgânico","t",0,400,0]
[null,"  Fertilizante químico"]
[null,"     Nitrogenado","Kg",75,3.5,262.5]
[null,"     Fosfatado","Kg",135,2.5750000000000002,347.625]
[null,"     Potássico","Kg",50,2.5750000000000002,128.75]
[null,"  Defensivos"]
[null,"     Inseticida","l",3,73,219]
[null,"     Fungicida","Kg",2,33,66]
[null,"     Formicida","Kg",3,2.5,7.5]
[null,"     Espalhante adesivo","l",1,52,52]
[null,"Custo dos insumos",null,null,null,{"$f":"SUM(F58:F68)","v":1173.375}]
[null,"Custos eventuais",null,null,null,{"$f":"0.05*(F55+F56+F69)","v":230.53274999999999}]
[null,"Custo Total",null,null,null,{"$f":"F69+F55+F56+F70","v":4841.1877500000001}]
[null,"Receita bruta",null,null,null,{"$f":"F44","v":0}]
[null,"Lucro bruto    ",null,null,null,{"$f":"F72-F71","v":-4841.1877500000001}]
[]
[]
[null,"Planilha de Coeficientes Técnicos"]
[null,"Cultura: Laranja - ano 3"]
[null,null,null,"Produção (kg)",null,3400]
[null,null,null,"Preço (R$/kg)",null,1.02]
[null,null,null,"Receita Bruta (R$)",null,{"$f":"F79*F78","v":3468}]
[]
[null,"Area: 1,0 ha",null,null,"Custo (R$)",null,"M  e  s  e  s"]
[null,"Discriminação","Und.","Qtde.","Unitário","Global","Jan","Fev","Mar","Abr","Mai","Jun","Jul","Ago","Set","Out","Nov","Dez"]
[null,"SERVIÇOS"]
[null,". Adubação/Cobertura","d/h",{"$f":"SUM(G85:R85)","v":3},81.84,{"$f":"E85*D85","v":245.52},null,1,null,null,null,null,null,1,null,1]
[null,". Podas/Desbrotas","d/h",2,81.84,163.68,null,1,null,null,null,null,1]
[null,". Capinas","d/h",15,81.84,1227.6000000000001,null,3,5,4,null,null,1,null,null,2]
[null,". Controle Fitossanitário","d/h",12,81.84,982.08,null,1,null,2,null,3,null,2,null,2,2]
[null,". Irrigação","d/h",14,81.84,1145.76,null,null,null,null,1,1,2,2,2,2,2,2]
[null,".Colheita manual","d/h",7,81.84,572.88,null,null,null,null,null,null,null,null,4,3]
[null,"Custo dos serviços","d/h",{"$f":"SUMIFS(D$85:D$90,$C$85:$C$90,$C91)","v":53},{"$f":"F91/D91","v":81.84},{"$f":"SUMIFS(F$85:F$90,$C$85:$C$90,$C91)","v":4337.5200000000004},0,6,5,6,1,4,4,5,6,10,4,2]
[null,null,"htr",{"$f":"SUMIFS(D$85:D$90,$C$85:$C$90,$C92)","v":0},0,0,0,0,0,0,0,0,0,0,0,0,0,0]
[null,"INSUMOS"]
[null,"  Fertilizante orgânico","t",0,400,{"$f":"D94*E94","v":0}]
[null,"  Fertilizante químico"]
[null,"     Nitrogenado","Kg",100,3.5,{"$f":"D96*E96","v":350}]
[null,"     Fosfatado","Kg",200,2.5750000000000002,515]
[null,"     Potássico","Kg",75,2.5750000000000002,193.125]
[null,"  Defensivos"]
[null,"     Inseticida","l",3,73,219]
[null,"     Fungicida","Kg",2,33,66]
[null,"     Formicida","Kg",3,0,0]
[null,"     Espalhante adesivo","l",1,52,52]
[null,"Custo dos insumos",null,null,null,{"$f":"SUM(F94:F103)","v":1395.125}]
[null,"Custos eventuais",null,null,null,{"$f":"0.05*(F91+F92+F104)","v":286.63225000000006}]
[null,"Custos de Comercialização",null,null,null,145.86000000000001,null,null,0.5,"da produção entregue na Ceasa de Palmas"]
[null,"Custo Total",null,null,null,{"$f":"F104+F91+F92+F105+F106","v":6165.1372499999998}]
[null,"Receita bruta",null,null,null,{"$f":"F80","v":3468}]
[null,"Lucro bruto    ",null,null,null,{"$f":"F108-F107","v":-2697.1372499999998}]
[]
[]
[null,"Planilha de Coeficientes Técnicos"]
[null,"Cultura: Laranja - ano 4"]
[null,null,null,"Produção (kg)",null,6800]
[null,null,null,"Preço (R$/kg)",null,1.02]
[null,null,null,"Receita Bruta (R$)",null,{"$f":"F115*F114","v":6936}]
[]
[null,"Area: 1,0 ha",null,null,"Custo (R$)",null,"M  e  s  e  s"]
[null,"Discriminação","Und.","Qtde.","Unitário","Global","Jan","Fev","Mar","Abr","Mai","Jun","Jul","Ago","Set","Out","Nov","Dez"]
[null,"SERVIÇOS"]
[null,". Adubação/Cobertura","d/h",{"$f":"SUM(G121:R121)","v":6},81.84,{"$f":"E121*D121","v":491.04},null,2,null,null,null,null,null,2,null,2]
[null,". Podas/Desbrotas","d/h",2,81.84,163.68,null,null,null,null,null,null,2]
[null,". Capinas manuais","d/h",8,81.84,654.72,null,2,null,2,null,null,2,null,null,2]
[null,". Ceifa e Gradagem","htr",4,30,120,null,null,2,null,2]
[null,". Controle Fitossanitário","d/h",13,81.84,1063.92,null,2,null,3,null,2,null,null,3,null,2,1]
[null,". Irrigação","d/h",14,81.84,1145.76,null,null,null,null,null,2,2,2,2,2,2,2]
[null,".Colheita manual","d/h",14,81.84,1145.76,null,null,null,null,null,null,null,null,4,4,4,2]
[null,"Custo dos serviços","d/h",{"$f":"SUMIFS(D$121:D$127,$C$121:$C$127,$C128)","v":57},{"$f":"F128/D128","v":81.84},{"$f":"SUMIFS(F$121:F$127,$C$121:$C$127,$C128)","v":4664.88},0,6,0,5,0,4,6,4,9,10,8,5]
[null,null,"htr",{"$f":"SUMIFS(D$121:D$127,$C$121:$C$127,$C129)","v":4},0,120,0,0,2,0,2,0,0,0,0,0,0,0]
[null,"INSUMOS"]
[null,"  Fertilizante orgânico","t",0,400,{"$f":"D131*E131","v":0}]
[null,"  Fertilizante químico"]
[null,"     Nitrogenado","Kg",250,3.5,{"$f":"D133*E133","v":875}]
[null,"     Fosfatado","Kg",300,2.5750000000000002,772.5]
[null,"     Potássico","Kg",100,2.5750000000000002,257.5]
[null,"  Defensivos"]
[null,"     Inseticida","l",3.5,73,255.5]
[null,"     Fungicida","Kg",2.5,33,82.5]
[null,"     Formicida","Kg",3,0,0]
[null,"     Espalhante adesivo","l",1,52,52]
[null,"Custo dos insumos",null,null,null,{"$f":"SUM(F131:F140)","v":2295}]
[null,"Custos eventuais",null,null,null,{"$f":"0.05*(F128+F129+F141)","v":353.99400000000003}]
[null,"Custos de Comercialização",null,null,null,291.72000000000003]
[null,"Custo Total",null,null,null,{"$f":"F141+F128+F129+F142+F143","v":7725.5940000000001}]
[null,"Receita bruta",null,null,null,{"$f":"F116","v":6936}]
[null,"Lucro bruto    ",null,null,null,{"$f":"F145-F144","v":-789.59400000000005}]
[]
[]
[null,"Planilha de Coeficientes Técnicos"]
[null,"Cultura: Laranja - ano 5"]
[null,null,null,"Produção (kg)",null,20400]
[null,null,null,"Preço (R$/kg)",null,1.02]
[null,null,null,"Receita Bruta (R$)",null,{"$f":"F152*F151","v":20808}]
[]
[null,"Area: 1,0 ha",null,null,"Custo (R$)",null,"M  e  s  e  s"]
[null,"Discriminação","Und.","Qtde.","Unitário","Global","Jan","Fev","Mar","Abr","Mai","Jun","Jul","Ago","Set","Out","Nov","Dez"]
[null,"SERVIÇOS"]
[null,". Adubação/Cobertura","d/h",{"$f":"SUM(G158:R158)","v":6},81.84,{"$f":"E158*D158","v":491.04},null,2,null,null,null,null,null,2,null,2]
[null,". Podas/Desbrotas","d/h",2,81.84,163.68,null,null,null,null,null,2]
[null,". Capinas manuais","d/h",8,81.84,654.72,null,null,2,null,2,null,null,2,null,2]
[null,". Ceifa e Gradagem","htr",4,30,120,null,null,2,null,2]
[null,". Controle Fitossanitário","d/h",18,81.84,1473.1200000000001,null,2,2,2,null,4,null,2,2,2,2]
[null,". Irrigação","d/h",14,81.84,1145.76,null,null,null,null,1,1,2,2,2,2,2,2]
[null,".Colheita manual","d/h",40,81.84,3273.6000000000004,null,null,null,null,null,null,null,null,10,10,10,10]
[null,"Custo dos serviços","d/h",{"$f":"SUMIFS(D$158:D$164,$C$158:$C$164,$C165)","v":88},{"$f":"F165/D165","v":81.840000000000018},{"$f":"SUMIFS(F$158:F$164,$C$158:$C$164,$C165)","v":7201.920000000001},0,4,4,2,3,7,2,8,14,18,14,12]
[null,null,"htr",{"$f":"SUMIFS(D$158:D$164,$C$158:$C$164,$C166)","v":4},{"$f":"F166/D166","v":30},120,0,0,2,0,2,0,0,0,0,0,0,0]
[null,"INSUMOS"]
[null,"  Fertilizante orgânico","t",0,400,{"$f":"D168*E168","v":0}]
[null,"  Fertilizante químico"]
[null,"     Nitrogenado","Kg",300,3.5,{"$f":"D170*E170","v":1050}]
[null,"     Fosfatado","Kg",660,2.5750000000000002,1699.5000000000002]
[null,"     Potássico","Kg",360,2.5750000000000002,927.00000000000011]
[null,"  Defensivos"]
[null,"     Inseticida","l",3.5,73,255.5]
[null,"     Fungicida","Kg",2.5,33,82.5]
[null,"     Formicida","Kg",3,0,0]
[null,"     Espalhante adesivo","l",1,52,52]
[null,"Custo dos insumos",null,null,null,{"$f":"SUM(F168:F177)","v":4066.5}]
[null,"Custos eventuais",null,null,null,{"$f":"0.05*(F165+F166+F178)","v":569.42100000000016}]
[null,"Custos de Comercialização",null,null,null,875.15999999999985]
[null,"Custo Total",null,null,null,{"$f":"F178+F165+F166+F179+F180","v":12833.001000000002}]
[null,"Receita bruta",null,null,null,{"$f":"F153","v":20808}]
[null,"Lucro bruto    ",null,null,null,{"$f":"F182-F181","v":7974.998999999998}]
[]
[]
[null,"Planilha de Coeficientes Técnicos"]
[null,"Cultura: Laranja - ano 6"]
[null,null,null,"Produção (kg)",null,30000]
[null,null,null,"Preço (R$/kg)",null,1.02]
[null,null,null,"Receita Bruta (R$)",null,{"$f":"F189*F188","v":30600}]
[]
[null,"Area: 1,0 ha",null,null,"Custo (R$)",null,"M  e  s  e  s"]
[null,"Discriminação","Und.","Qtde.","Unitário","Global","Jan","Fev","Mar","Abr","Mai","Jun","Jul","Ago","Set","Out","Nov","Dez"]
[null,"SERVIÇOS"]
[null,". Adubação/Cobertura","d/h",{"$f":"SUM(G195:R195)","v":6},81.84,{"$f":"E195*D195","v":491.04},2,null,null,null,null,null,2,null,2]
[null,". Podas/Desbrotas","d/h",4,81.84,327.36,null,null,null,null,null,4]
[null,". Capinas manuais","d/h",6,81.84,491.04,null,2,null,2,null,2]
[null,". Ceifa e Gradagem","htr",4,30,120,null,null,2,null,null,2]
[null,". Controle Fitossanitário","d/h",20,81.84,1636.8000000000002,null,2,null,2,null,4,null,5,3,3,1]
[null,". Irrigação","d/h",14,81.84,1145.76,null,null,null,null,1,1,2,2,2,2,2,2]
[null,".Colheita manual","d/h",54,81.84,4419.3600000000006,null,null,null,null,null,null,null,null,12,15,15,12]
[null,"Custo dos serviços","d/h",{"$f":"SUMIFS(D$195:D$201,$C$195:$C$201,$C202)","v":104},{"$f":"F202/D202","v":81.84},{"$f":"SUMIFS(F$195:F$201,$C$195:$C$201,$C202)","v":8511.36},2,4,0,4,1,11,4,7,19,20,18,14]
[null,null,"htr",{"$f":"SUMIFS(D$195:D$201,$C$195:$C$201,$C203)","v":4},0,120,0,0,2,0,0,2,0,0,0,0,0,0]
[null,"INSUMOS"]
[null,"  Fertilizante orgânico","t",0,400,{"$f":"D205*E205","v":0}]
[null,"  Fertilizante químico"]
[null,"     Nitrogenado","Kg",300,3.5,{"$f":"D207*E207","v":1050}]
[null,"     Fosfatado","Kg",660,2.5750000000000002,1699.5000000000002]
[null,"     Potássico","Kg",360,2.5750000000000002,927.00000000000011]
[null,"  Defensivos"]
[null,"     Inseticida","l",3.5,73,255.5]
[null,"     Fungicida","Kg",3,33,99]
[null,"     Formicida","Kg",3,0,0]
[null,"     Espalhante adesivo","l",1,52,52]
[null,"Custo dos insumos",null,null,null,{"$f":"SUM(F205:F214)","v":4083}]
[null,"Custos eventuais",null,null,null,{"$f":"0.05*(F202+F203+F215)","v":635.71800000000007}]
[null,"Custos de Comercialização",null,null,null,1287.0000000000002]
[null,"Custo Total",null,null,null,{"$f":"F215+F202+F203+F216+F217","v":14637.078000000001}]
[null,"Receita bruta",null,null,null,{"$f":"F190","v":30600}]
[null,"Lucro bruto    ",null,null,null,{"$f":"F219-F218","v":15962.921999999999}]

{"sheet":"Mamão","index":41,"n_rows":123,"n_cols":40,"rows_kept":123,"cut":false,"hidden":false,"merged":[]}
[null,"Planilha de Coeficientes Técnicos"]
[null,"Cultura: Mamão - implantação",null,null,null,null,null,null,null,null,null,null,null,null,null,null,null,null,null,null,1,2,3,4,5,6,7,8,9,10,11,12,13,14,15,16,17,18,19,20]
[null,null,null,"Produção (kg)",null,20000,null,null,null,null,null,null,null,null,null,null,null,null,null,"Produção",{"$f":"F3","v":20000},{"$f":"F49","v":30000},{"$f":"F88","v":25000}]
[null,null,null,"Preço (R$/kg)",null,1.71,null,null,null,null,null,null,null,null,null,null,null,null,null,"Receita",{"$f":"$F$4*U3","v":34200},{"$f":"$F$4*V3","v":51300},{"$f":"$F$4*W3","v":42750}]
[null,null,null,"Receita Bruta (R$)",null,{"$f":"F4*F3","v":34200},null,null,null,null,null,null,null,null,null,null,null,null,null,"Custo",{"$f":"F42","v":31410.963000000003},{"$f":"F82","v":16947.750000000004},{"$f":"F121","v":15521.928}]
[]
[null,"Area: 1,0 ha",null,null,"Custo (R$)",null,"M  e  s  e  s"]
[null,"Discriminação","Und.","Qtde.","Unitário","Global","Jan","Fev","Mar","Abr","Mai","Jun","Jul","Ago","Set","Out","Nov","Dez"]
[null,"SERVIÇOS"]
[null,". Aração","htr",{"$f":"SUM(G10:R10)","v":3},30,{"$f":"E10*D10","v":90},3]
[null,". Gradagem","htr",{"$f":"SUM(G11:R11)","v":2},30,{"$f":"E11*D11","v":60},2]
[null,". Coveamento","d/h",{"$f":"SUM(G12:R12)","v":15},81.84,{"$f":"E12*D12","v":1227.6000000000001},10,5]
[null,". Adubação de Fundação","d/h",4,81.84,327.36,null,4]
[null,". Transplantio/Replantio","d/h",5,81.84,409.20000000000005,null,4,1]
[null,". Desbaste","d/h",4,81.84,327.36,null,null,null,2,null,2]
[null,". Coroamento","d/h",8,81.84,654.72,null,null,null,null,null,2,null,2,null,2,null,2]
[null,". Roçada","htr",4,30,120,null,null,null,null,1,null,1,null,1,null,1]
[null,". Adubação em Cobertura","d/h",5,81.84,409.20000000000005,null,null,null,1,null,1,null,1,null,1,null,1]
[null,". Tratos Fitossanitários","d/h",10,81.84,818.40000000000009,null,null,3,null,3,null,2,null,null,2]
[null,". Irrigação","d/h",23,81.84,1882.3200000000002,null,null,null,3,3,3,3,3,3,3,1,1]
[null,". Colheita Manual","d/h",33,81.84,2700.7200000000003,null,null,null,null,null,null,null,null,6,9,9,9]
[null,". Transporte Interno","d/h",2,81.84,163.68,null,null,null,null,null,null,null,null,0.5,0.5,0.5,0.5]
[null,". Transporte Interno","htr",{"$f":"SUM(G23:R23)","v":2},30,{"$f":"E23*D23","v":60},null,null,null,null,null,null,null,null,0.5,0.5,0.5,0.5]
[null,"Custo dos serviços","d/h",{"$f":"SUMIFS(D$10:D$23,$C$10:$C$23,$C24)","v":109},{"$f":"F24/D24","v":81.840000000000018},{"$f":"SUMIFS(F$10:F$23,$C$10:$C$23,$C24)","v":8920.5600000000013},10,13,4,6,6,8,5,6,9.5,17.5,10.5,13.5]
[null,null,"htr",{"$f":"SUMIFS(D$10:D$23,$C$10:$C$23,$C25)","v":11},{"$f":"F25/D25","v":30},330,5,0,0,0,1,0,1,0,1.5,0.5,1.5,0.5]
[null,"INSUMOS"]
[null,"Mudas","und",2700,1.03,{"$f":"D27*E27","v":2781}]
[null,"  Fertilizante orgânico","t",10,400,4000]
[null,"  Fertilizante químico"]
[null,"     Nitrogenado","Kg",300,3.5,1050]
[null,"     Fosfatado","Kg",600,2.5750000000000002,1545]
[null,"     Potássico","Kg",300,2.5750000000000002,772.5]
[null,"  Defensivos"]
[null,"     Inseticida","l",5,73,365]
[null,"     Fungicida","Kg",4,33,132]
[null,"     Formicida","Kg",2,75,150]
[null,"     Espalhante adesivo","l",1,52,52]
[null,"     Caixas 10 kg","und",1800,5,9000]
[null,"Custo dos insumos",null,null,null,{"$f":"SUM(F27:F38)","v":19847.5}]
[null,"Custos eventuais",null,null,null,{"$f":"0.05*(F24+F25+F39)","v":1454.9030000000002}]
[null,"Custos de Comercialização",null,null,null,858,null,null,0.5,"da produção entregue na Ceasa de Palmas"]
[null,"Custo Total",null,null,null,{"$f":"F39+F24+F25+F40+F41","v":31410.963000000003}]
[null,"Receita bruta",null,null,null,{"$f":"F5","v":34200}]
[null,"Lucro bruto    ",null,null,null,{"$f":"F43-F42","v":2789.0369999999966}]
[]
[]
[null,"Planilha de Coeficientes Técnicos"]
[null,"Cultura: Mamão - ano 2"]
[null,null,null,"Produção (kg)",null,30000]
[null,null,null,"Preço (R$/kg)",null,1.71]
[null,null,null,"Receita Bruta (R$)",null,{"$f":"F50*F49","v":51300}]
[]
[null,"Area: 1,0 ha",null,null,"Custo (R$)",null,"M  e  s  e  s"]
[null,"Discriminação","Und.","Qtde.","Unitário","Global","Jan","Fev","Mar","Abr","Mai","Jun","Jul","Ago","Set","Out","Nov","Dez"]
[null,"SERVIÇOS"]
[null,". Adubação em Cobertura","d/h",{"$f":"SUM(G56:R56)","v":9},81.84,{"$f":"E56*D56","v":736.56000000000006},null,1,1,null,2,1,null,1,1,null,1,1]
[null,". Coroamento","d/h",12,81.84,982.08,null,2,null,2,null,2,null,2,null,2,null,2]
[null,". Roçada","htr",5,30,150,null,null,1,null,1,null,1,null,1,null,1]
[null,". Controle Fitossanitário","d/h",12,81.84,982.08,null,2,null,2,null,2,null,2,null,2,null,2]
[null,". Controle Fitossanitário","htr",6,30,180,1,null,1,null,1,null,1,null,1,null,1]
[null,". Irrigação","d/h",14,81.84,1145.76,null,null,null,null,1,2,2,2,2,1,2,2]
[null,". Colheita Manual","d/h",72,81.84,5892.4800000000005,6,6,6,6,6,6,6,6,6,6,6,6]
[null,". Transporte Interno","d/h",6,81.84,491.04,0.5,0.5,0.5,0.5,0.5,0.5,0.5,0.5,0.5,0.5,0.5,0.5]
[null,". Transporte Interno","htr",{"$f":"SUM(G64:R64)","v":6},30,{"$f":"E64*D64","v":180},0.5,0.5,0.5,0.5,0.5,0.5,0.5,0.5,0.5,0.5,0.5,0.5]
[null,"Custo dos serviços","d/h",{"$f":"SUMIFS(D$56:D$64,$C$56:$C$64,$C65)","v":125},{"$f":"F65/D65","v":81.840000000000018},{"$f":"SUMIFS(F$56:F$64,$C$56:$C$64,$C65)","v":10230.000000000002},6.5,11.5,7.5,10.5,9.5,13.5,8.5,13.5,9.5,11.5,9.5,13.5]
[null,null,"htr",{"$f":"SUMIFS(D$56:D$64,$C$56:$C$64,$C66)","v":17},{"$f":"F66/D66","v":30},510,1.5,0.5,2.5,0.5,2.5,0.5,2.5,0.5,2.5,0.5,2.5,0.5]
[null,"INSUMOS"]
[null,"  Fertilizante orgânico","t",0,400,{"$f":"D68*E68","v":0}]
[null,"  Fertilizante químico"]
[null,"     Nitrogenado","Kg",300,3.5,{"$f":"D70*E70","v":1050}]
[null,"     Fosfatado","Kg",480,2.5750000000000002,1236]
[null,"     Potássico","Kg",120,2.5750000000000002,309]
[null,"  Defensivos"]
[null,"     Inseticida","l",2,73,146]
[null,"     Fungicida","Kg",4,33,132]
[null,"     Formicida","Kg",1,0,0]
[null,"     Espalhante adesivo","l",1,52,52]
[null,"     Caixas 10 kg","und",2500,0.5,1250]
[null,"Custo dos insumos",null,null,null,{"$f":"SUM(F68:F78)","v":4175}]
[null,"Custos eventuais",null,null,null,{"$f":"0.05*(F65+F66+F79)","v":745.75000000000011}]
[null,"Custos de Comercialização",null,null,null,1287.0000000000002]
[null,"Custo Total",null,null,null,{"$f":"F79+F65+F66+F80+F81","v":16947.750000000004}]
[null,"Receita bruta",null,null,null,{"$f":"F51","v":51300}]
[null,"Lucro bruto    ",null,null,null,{"$f":"F83-F82","v":34352.25}]
[]
[null,"Planilha de Coeficientes Técnicos"]
[null,"Cultura: Mamão - ano 3"]
[null,null,null,"Produção (kg)",null,25000]
[null,null,null,"Preço (R$/kg)",null,1.71]
[null,null,null,"Receita Bruta (R$)",null,{"$f":"F89*F88","v":42750}]
[]
[null,"Area: 1,0 ha",null,null,"Custo (R$)",null,"M  e  s  e  s"]
[null,"Discriminação","Und.","Qtde.","Unitário","Global","Jan","Fev","Mar","Abr","Mai","Jun","Jul","Ago","Set","Out","Nov","Dez"]
[null,"SERVIÇOS"]
[null,". Adubação de cobertura","d/h",{"$f":"SUM(G95:R95)","v":4},81.84,{"$f":"E95*D95","v":327.36},null,1,null,1,null,1,null,1]
[null,". Coroamento","d/h",{"$f":"SUM(G96:R96)","v":10},81.84,{"$f":"E96*D96","v":818.40000000000009},2,null,2,null,2,null,2,null,2]
[null,". Roçada","htr",{"$f":"SUM(G97:R97)","v":4},30,{"$f":"E97*D97","v":120},null,1,null,1,null,1,null,1]
[null,". Controle Fitossanitário","htr",{"$f":"SUM(G98:R98)","v":4},30,{"$f":"E98*D98","v":120},null,1,null,1,null,1,null,1]
[null,". Controle Fitossanitário","d/h",10,81.84,818.40000000000009,2,null,4,null,null,2,null,null,2]
[null,". Irrigação","d/h",28,81.84,2291.52,1,1,3,3,3,3,3,3,3,3,1,1]
[null,". Colheita Manual","d/h",72,81.84,5892.4800000000005,6,6,6,6,6,6,6,6,6,6,6,6]
[null,". Transporte Interno","d/h",5,81.84,409.20000000000005,0.5,0.5,0.5,0.5,0.5,0.5,0.5,0.5,0.25,0.25,0.25,0.25]
[null,". Transporte Interno","htr",5,30,150,0.5,0.5,0.5,0.5,0.5,0.5,0.5,0.5,0.25,0.25,0.25,0.25]
[null,"Custo dos serviços","d/h",{"$f":"SUMIFS(D$95:D$103,$C$95:$C$103,$C104)","v":129},{"$f":"F104/D104","v":81.84},{"$f":"SUMIFS(F$95:F$103,$C$95:$C$103,$C104)","v":10557.36},11.5,8.5,15.5,10.5,11.5,12.5,11.5,10.5,13.25,9.25,7.25,7.25]
[null,null,"htr",{"$f":"SUMIFS(D$95:D$103,$C$95:$C$103,$C105)","v":13},{"$f":"F105/D105","v":30},390,0.5,2.5,0.5,2.5,0.5,2.5,0.5,2.5,0.25,0.25,0.25,0.25]
[null,"INSUMOS"]
[null,"  Fertilizante orgânico","t",0,400,{"$f":"D107*E107","v":0}]
[null,"  Fertilizante químico"]
[null,"     Nitrogenado","Kg",180,3.5,{"$f":"D109*E109","v":630}]
[null,"     Fosfatado","Kg",480,2.5750000000000002,1236]
[null,"     Potássico","Kg",240,2.5750000000000002,618]
[null,"  Defensivos",null,null,null,0]
[null,"     Inseticida","l",2,73,146]
[null,"     Fungicida","Kg",4,33,132]
[null,"     Formicida","Kg",1,0,0]
[null,"     Espalhante adesivo","l",1,52,52]
[null,"     Caixas 10 kg","und",2000,0,0]
[null,"Custo dos insumos",null,null,null,{"$f":"SUM(F107:F117)","v":2814}]
[null,"Custos eventuais",null,null,null,{"$f":"0.05*(F104+F105+F118)","v":688.0680000000001}]
[null,"Custos de Comercialização",null,null,null,1072.5]
[null,"Custo Total",null,null,null,{"$f":"F118+F104+F105+F119+F120","v":15521.928}]
[null,"Receita bruta",null,null,null,{"$f":"F90","v":42750}]
[null,"Lucro bruto    ",null,null,null,{"$f":"F122-F121","v":27228.072}]

{"sheet":"Maracujá","index":42,"n_rows":133,"n_cols":40,"rows_kept":133,"cut":false,"hidden":false,"merged":[]}
[null,"Planilha de Coeficientes Técnicos"]
[null,"Cultura: maracujá - ano 1",null,null,null,null,null,null,null,null,null,null,null,null,null,null,null,null,null,null,1,2,3,4,5,6,7,8,9,10,11,12,13,14,15,16,17,18,19,20]
[null,null,null,"Produção (kg)",null,20000,null,null,null,null,null,null,null,null,null,null,null,null,null,"Produção",{"$f":"F3","v":20000},{"$f":"F59","v":25000},{"$f":"F98","v":20000}]
[null,null,null,"Preço (R$/kg)",null,2.11,null,null,null,null,null,null,null,null,null,null,null,null,null,"Receita",{"$f":"$F$4*U3","v":42200},{"$f":"$F$4*V3","v":52750},{"$f":"$F$4*W3","v":42200}]
[null,null,null,"Receita Bruta (R$)",null,{"$f":"F4*F3","v":42200},null,null,null,null,null,null,null,null,null,null,null,null,null,"Custo",{"$f":"F52","v":36363.036500000002},{"$f":"F91","v":19611.999750000003},{"$f":"F131","v":18923.535750000003}]
[]
[null,"Area: 1,0 ha",null,null,"Custo (R$)",null,"M  e  s  e  s"]
[null,"Discriminação","Und.","Qtde.","Unitário","Global","Jan","Fev","Mar","Abr","Mai","Jun","Jul","Ago","Set","Out","Nov","Dez"]
[null,"SERVIÇOS"]
[null,". Aração e Gradagem","htr",{"$f":"SUM(G10:R10)","v":5},30,{"$f":"E10*D10","v":150},5]
[null,". Marcação da Área","d/h",6,81.84,491.04,6]
[null,". Mourões","d/h",7,{"$f":"E11","v":81.84},572.88,7]
[null,". Coveamento para Mudas","d/h",12,81.84,982.08,8,4]
[null,". Aplic. Preservativo/Estacas","d/h",5,81.84,409.20000000000005,null,5]
[null,". Adub. de Fundação","d/h",3,81.84,245.52,null,3]
[null,". Espaldeiramento","d/h",14,81.84,1145.76,null,14]
[null,". Plantio e Replantio","d/h",7,81.84,572.88,null,7]
[null,". Tutoramento","d/h",3,81.84,245.52,null,null,3]
[null,". Poda de Condução","d/h",5,81.84,409.20000000000005,null,null,5]
[null,". Coroamento","d/h",10,81.84,818.40000000000009,null,null,2,null,2,null,2,null,2,null,2]
[null,". Roçada","htr",{"$f":"SUM(G21:R21)","v":5},{"$f":"E10","v":30},{"$f":"E21*D21","v":150},null,null,null,1,null,1,null,1,null,1,null,1]
[null,". Controle fitossanitário","d/h",12,{"$f":"E20","v":81.84},982.08,null,null,3,null,3,null,3,null,3]
[null,". Controle fitossanitário","htr",{"$f":"SUM(G23:R23)","v":8},30,{"$f":"E23*D23","v":240},null,null,1,null,1,null,1,null,3,null,2]
[null,". Adub. de Cobertura","d/h",4,{"$f":"E22","v":81.84},327.36,null,null,2,null,null,null,2]
[null,". Irrigação","d/h",24,{"$f":"E24","v":81.84},1964.16,null,null,null,3,3,3,3,3,3,2,2,2]
[null,". Transporte interno","d/h",{"$f":"SUM(G26:R26)","v":15},{"$f":"E25","v":81.84},{"$f":"E26*D26","v":1227.6000000000001},null,null,null,null,null,null,null,null,null,5,5,5]
[null,". Transporte interno","htr",{"$f":"SUM(G27:R27)","v":3},30,{"$f":"E27*D27","v":90},null,null,null,null,null,null,null,null,null,1,1,1]
[null,". Colheita","d/h",55,{"$f":"E26","v":81.84},4501.2,null,null,null,null,null,null,null,null,null,15,20,20]
[null,"Custo dos serviços","d/h",{"$f":"SUMIFS(D$10:D$28,$C$10:$C$28,$C29)","v":182},{"$f":"F29/D29","v":81.84},{"$f":"SUMIFS(F$10:F$28,$C$10:$C$28,$C29)","v":14894.880000000001},21,33,15,3,8,3,10,3,8,22,29,27]
[null,null,"htr",{"$f":"SUMIFS(D$10:D$28,$C$10:$C$28,$C30)","v":21},{"$f":"F30/D30","v":30},630,5,0,1,1,1,1,1,1,3,2,3,2]
[null,"INSUMOS"]
[null,"Mudas","und",3600,1.03,{"$f":"D32*E32","v":3708}]
[null,"  Fertilizante orgânico","t",13.5,400,5400]
[null,"  Fertilizante químico"]
[null,"     Nitrogenado","Kg",200,3.5,700]
[null,"     Fosfatado","Kg",250,2.5750000000000002,643.75]
[null,"     Potássico","Kg",100,2.5750000000000002,257.5]
[null,"  Defensivos"]
[null,"     Inseticida","l",3,73,{"$f":"D39*E39","v":219}]
[null,"     Fungicida","Kg",3,33,99]
[null,"     Espalhante adesivo","l",1,52,52]
[null,"     Formicida ","Kg",1,75,75]
[null,"     Caixas ","und",{"$f":"F3/25","v":800},2.5,2000]
[null,". Preserv.p/Est.e Mourões","l",1,45.833333333333336,45.833333333333336]
[null,". Estacas de 2,6 m","Unid.",700,3.5,2450]
[null,". Mourões de 2,8 m","Unid.",170,7,1190]
[null,". Arame Galv. Nº 12","kg",120,17,2040]
[null,". Grampos","kg",3,15.5,46.5]
[null,". Barbante","Rolo",4,45,180]
[null,"Custo dos insumos",null,null,null,{"$f":"SUM(F32:F49)","v":19106.583333333336}]
[null,"Custos eventuais",null,null,null,{"$f":"0.05*(F29+F30+F50)","v":1731.5731666666668}]
[null,"Custo Total",null,null,null,{"$f":"F50+F29+F30+F51","v":36363.036500000002}]
[null,"Receita bruta",null,null,null,{"$f":"F5","v":42200}]
[null,"Lucro bruto    ",null,null,null,{"$f":"F53-F52","v":5836.963499999998}]
[]
[]
[null,"Planilha de Coeficientes Técnicos"]
[null,"Cultura: maracujá - ano 2"]
[null,null,null,"Produção (kg)",null,25000]
[null,null,null,"Preço (R$/kg)",null,2.11]
[null,null,null,"Receita Bruta (R$)",null,{"$f":"F60*F59","v":52750}]
[]
[null,"Area: 1,0 ha",null,null,"Custo (R$)",null,"M  e  s  e  s"]
[null,"Discriminação","Und.","Qtde.","Unitário","Global","Jan","Fev","Mar","Abr","Mai","Jun","Jul","Ago","Set","Out","Nov","Dez"]
[null,"SERVIÇOS"]
[null,". Coroamento","d/h",{"$f":"SUM(G66:R66)","v":12},81.84,{"$f":"E66*D66","v":982.08},2,null,2,null,2,null,2,null,2,null,2]
[null,". Roçada","htr",6,{"$f":"E21","v":30},180,null,1,null,1,null,1,null,1,null,1,null,1]
[null,". Adub. de Cobertura","d/h",5,{"$f":"E66","v":81.84},409.20000000000005,null,null,null,2,null,null,1,null,null,2]
[null,". Poda de Manutenção","d/h",3,{"$f":"E68","v":81.84},245.52,null,null,null,3]
[null,". Controle fitossanitário","d/h",12,{"$f":"E69","v":81.84},982.08,2,null,2,null,2,null,2,null,2,null,2]
[null,". Controle fitossanitário","htr",8,{"$f":"E67","v":30},240,1,null,1,null,null,null,1,null,3,null,2]
[null,". Irrigação","d/h",{"$f":"SUM(G72:R72)","v":28},{"$f":"E70","v":81.84},{"$f":"E72*D72","v":2291.52},1,1,3,3,3,3,3,3,3,3,1,1]
[null,". Transporte interno","d/h",33,{"$f":"E72","v":81.84},2700.7200000000003,2,2,2,3,3,3,3,3,3,3,3,3]
[null,". Transporte interno","htr",12,{"$f":"E71","v":30},360,1,1,1,1,1,1,1,1,1,1,1,1]
[null,". Colheita","d/h",{"$f":"SUM(G75:R75)","v":75},{"$f":"E72","v":81.84},{"$f":"E75*D75","v":6138},5,5,5,6,6,6,6,6,6,8,8,8]
[null,"Custo dos serviços","d/h",{"$f":"SUMIFS(D$66:D$75,$C$66:$C$75,$C76)","v":168},{"$f":"F76/D76","v":81.839999999999989},{"$f":"SUMIFS(F$66:F$75,$C$66:$C$75,$C76)","v":13749.119999999999},12,8,14,17,16,12,17,12,16,16,16,12]
[null,null,"htr",{"$f":"SUMIFS(D$66:D$75,$C$66:$C$75,$C77)","v":26},{"$f":"F77/D77","v":30},780,2,2,2,2,1,2,2,2,4,2,3,2]
[null,"INSUMOS"]
[null,"  Fertilizante orgânico","t",0,400,{"$f":"D79*E79","v":0}]
[null,"  Fertilizante químico"]
[null,"     Nitrogenado","Kg",200,3.5,{"$f":"D81*E81","v":700}]
[null,"     Fosfatado","Kg",133,2.5750000000000002,342.47500000000002]
[null,"     Potássico","Kg",100,2.5750000000000002,257.5]
[null,"  Defensivos"]
[null,"     Inseticida","l",2,73,146]
[null,"     Fungicida","Kg",3,33,99]
[null,"     Espalhante adesivo","l",2,52,104]
[null,"     Caixas ","und",{"$f":"F59/25","v":1000},2.5,2500]
[null,"Custo dos insumos",null,null,null,{"$f":"SUM(F79:F88)","v":4148.9750000000004}]
[null,"Custos eventuais",null,null,null,{"$f":"0.05*(F76+F77+F89)","v":933.90475000000015}]
[null,"Custo Total",null,null,null,{"$f":"F89+F76+F77+F90","v":19611.999750000003}]
[null,"Receita bruta",null,null,null,{"$f":"F61","v":52750}]
[null,"Lucro bruto    ",null,null,null,{"$f":"F92-F91","v":33138.000249999997}]
[]
[]
[null,"Planilha de Coeficientes Técnicos"]
[null,"Cultura: maracuja - ano 3"]
[null,null,null,"Produção (kg)",null,20000]
[null,null,null,"Preço (R$/kg)",null,2.11]
[null,null,null,"Receita Bruta (R$)",null,{"$f":"F99*F98","v":42200}]
[]
[null,"Area: 1,0 ha",null,null,"Custo (R$)",null,"M  e  s  e  s"]
[null,"Discriminação","Und.","Qtde.","Unitário","Global","Jan","Fev","Mar","Abr","Mai","Jun","Jul","Ago","Set","Out","Nov","Dez"]
[null,"SERVIÇOS"]
[null,". Coroamento","d/h",{"$f":"SUM(G105:R105)","v":10},81.84,{"$f":"E105*D105","v":818.40000000000009},null,2,null,2,null,2,null,2,null,2]
[null,". Roçada","htr",6,{"$f":"E74","v":30},180,1,null,1,null,1,null,1,null,1,null,1]
[null,". Adub. de Cobertura","d/h",5,{"$f":"E105","v":81.84},409.20000000000005,null,null,null,2,null,null,1,null,null,2]
[null,". Poda de Manutenção","d/h",3,{"$f":"E107","v":81.84},245.52,null,null,null,3]
[null,". Controle fitossanitário","d/h",12,{"$f":"E108","v":81.84},982.08,2,null,2,null,2,null,2,null,2,null,2]
[null,". Controle fitossanitário","htr",5,{"$f":"E106","v":30},150,1,null,null,1,null,1,null,1,null,null,1]
[null,". Irrigação","d/h",{"$f":"SUM(G111:R111)","v":28},{"$f":"E109","v":81.84},{"$f":"E111*D111","v":2291.52},1,1,3,3,3,3,3,3,3,3,1,1]
[null,". Transporte interno","d/h",33,{"$f":"E111","v":81.84},2700.7200000000003,2,2,2,3,3,3,3,3,3,3,3,3]
[null,". Transporte interno","htr",12,{"$f":"E110","v":30},360,1,1,1,1,1,1,1,1,1,1,1,1]
[null,". Colheita","d/h",{"$f":"SUM(G114:R114)","v":75},{"$f":"E111","v":81.84},{"$f":"E114*D114","v":6138},5,5,5,6,6,6,6,6,6,8,8,8]
[null,"Custo dos serviços","d/h",{"$f":"SUMIFS(D$105:D$114,$C$105:$C$114,$C115)","v":166},{"$f":"F115/D115","v":81.84},{"$f":"SUMIFS(F$105:F$114,$C$105:$C$114,$C115)","v":13585.44},10,10,12,19,14,14,15,14,14,18,14,12]
[null,null,"htr",{"$f":"SUMIFS(D$105:D$114,$C$105:$C$114,$C116)","v":23},{"$f":"F116/D116","v":30},690,3,1,2,2,2,2,2,2,2,1,3,1]
[null,"INSUMOS"]
[null,"  Fertilizante orgânico","t",0,400,{"$f":"D118*E118","v":0}]
[null,"  Fertilizante químico"]
[null,"     Nitrogenado","Kg",200,3.5,{"$f":"D120*E120","v":700}]
[null,"     Fosfatado","Kg",133,2.5750000000000002,342.47500000000002]
[null,"     Potássico","Kg",100,2.5750000000000002,257.5]
[null,"  Defensivos"]
[null,"     Inseticida","l",2,73,146]
[null,"     Fungicida","Kg",3,33,99]
[null,"     Formicida","Kg",2,75,150]
[null,"     Espalhante adesivo","l",1,52,52]
[null,"     Caixas ","und",{"$f":"F98/25","v":800},2.5,2000]
[null,"Custo dos insumos",null,null,null,{"$f":"SUM(F118:F128)","v":3746.9749999999999}]
[null,"Custos eventuais",null,null,null,{"$f":"0.05*(F115+F116+F129)","v":901.12075000000004}]
[null,"Custo Total",null,null,null,{"$f":"F129+F115+F116+F130","v":18923.535750000003}]
[null,"Receita bruta",null,null,null,{"$f":"F100","v":42200}]
[null,"Lucro bruto    ",null,null,null,{"$f":"F132-F131","v":23276.464249999997}]

{"sheet":"Uva","index":43,"n_rows":319,"n_cols":40,"rows_kept":319,"cut":false,"hidden":false,"merged":[]}
[null,"Planilha de Coeficientes Técnicos"]
[null,"Cultura: uva - implantação",null,null,null,null,null,null,null,null,null,null,null,null,null,null,null,null,null,null,1,2,3,4,5,6,7,8,9,10,11,12,13,14,15,16,17,18,19,20]
[null,null,null,"Produção (kg)",null,0,null,null,null,null,null,null,null,null,null,null,null,null,null,"Produção",{"$f":"F3","v":0},{"$f":"F54","v":0},{"$f":"F95","v":5000},{"$f":"F141","v":10000},{"$f":"F187","v":20000},{"$f":"F233","v":25000},{"$f":"F278","v":32000},{"$f":"AA3","v":32000},{"$f":"AB3","v":32000},32000,32000,32000,32000,32000,32000,32000,32000,32000,32000,32000]
[null,null,null,"Preço (R$/kg)",null,3.43,null,null,null,null,null,null,null,null,null,null,null,null,null,"Receita",{"$f":"$F$4*U3","v":0},{"$f":"$F$4*V3","v":0},{"$f":"$F$4*W3","v":17150},{"$f":"$F$4*X3","v":34300},68600,85750,109760,{"$f":"AA4","v":109760},109760,109760,109760,109760,109760,109760,109760,109760,109760,109760,109760,109760]
[null,null,null,"Receita Bruta (R$)",null,{"$f":"F4*F3","v":0},null,null,null,null,null,null,null,null,null,null,null,null,null,"Custo",{"$f":"F47","v":101170.107},{"$f":"F88","v":20533.254000000004},{"$f":"F134","v":30906.378000000001},{"$f":"F180","v":34953.546000000002},{"$f":"F226","v":42351.185999999994},{"$f":"F272","v":47424.918000000005},{"$f":"F317","v":59134.098000000013},59134.098000000013,59134.098000000013,59134.098000000013,59134.098000000013,59134.098000000013,59134.098000000013,59134.098000000013,59134.098000000013,59134.098000000013,59134.098000000013,59134.098000000013,59134.098000000013,59134.098000000013]
[]
[null,"Area: 1,0 ha",null,null,"Custo (R$)",null,"M  e  s  e  s"]
[null,"Discriminação","Und.","Qtde.","Unitário","Global","Jan","Fev","Mar","Abr","Mai","Jun","Jul","Ago","Set","Out","Nov","Dez"]
[null,"SERVIÇOS"]
[null," -Aração","htr",{"$f":"SUM(G10:R10)","v":4},30,{"$f":"E10*D10","v":120},null,null,null,null,null,4]
[null," -Gradagem","htr",{"$f":"SUM(G11:R11)","v":3},{"$f":"E10","v":30},{"$f":"E11*D11","v":90},null,null,null,null,null,3]
[null," -Marcação e coveamento","d/h",{"$f":"SUM(G12:R12)","v":13},81.84,{"$f":"E12*D12","v":1063.92},null,null,null,null,null,null,13]
[null," -Adubação organica","d/h",5,{"$f":"E12","v":81.84},409.20000000000005,null,null,null,null,null,null,5]
[null," -Adubação de plantio","d/h",1,{"$f":"E13","v":81.84},81.84,null,null,null,null,null,null,null,1]
[null," -Plantio e Replantio","d/h",12,{"$f":"E13","v":81.84},982.08,null,null,null,null,null,null,null,12]
[null," -Adubação de Cobertura","d/h",4,{"$f":"E15","v":81.84},327.36,null,null,null,null,null,null,null,null,2,null,null,2]
[null," -Construção de latada","d/h",40,{"$f":"E15","v":81.84},3273.6000000000004,null,null,null,null,null,null,null,20,20]
[null," -Estaqueamento","d/h",1,{"$f":"E17","v":81.84},81.84,null,null,null,null,null,null,null,null,1]
[null," -Capina química","d/h",4,{"$f":"E18","v":81.84},327.36,null,null,null,null,null,null,null,null,2,null,2]
[null," -Controle Fitossanitário","d/h",6,{"$f":"E17","v":81.84},491.04,null,null,null,null,null,null,null,null,null,2,2,2]
[null," -Transporte interno","d/h",3,{"$f":"E18","v":81.84},245.52,null,null,null,null,null,null,1,1,1]
[null," -Transporte interno","htr",{"$f":"SUM(G22:R22)","v":16},30,{"$f":"E22*D22","v":480},null,null,null,null,null,null,8,4,4]
[null," -Tutoramento","d/h",{"$f":"SUM(G23:R23)","v":6},{"$f":"E21","v":81.84},{"$f":"E23*D23","v":491.04},null,null,null,null,null,null,null,null,null,2,2,2]
[null," -Irrigação","d/h",{"$f":"SUM(G24:R24)","v":11},{"$f":"E23","v":81.84},{"$f":"E24*D24","v":900.24},null,null,null,null,null,null,null,3,3,3,1,1]
[null,"Custo dos serviços","d/h",{"$f":"SUMIFS(D$10:D$24,$C$10:$C$24,$C25)","v":106},{"$f":"F25/D25","v":81.84},{"$f":"SUMIFS(F$10:F$24,$C$10:$C$24,$C25)","v":8675.0400000000009},0,0,0,0,0,0,19,37,29,7,7,7]
[null,null,"htr",{"$f":"SUMIFS(D$10:D$24,$C$10:$C$24,$C26)","v":23},{"$f":"F26/D26","v":30},690,0,0,0,0,0,7,8,4,4,0,0,0]
[null,"INSUMOS"]
[null,"Mudas","und",1260,2.89,{"$f":"D28*E28","v":3641.4}]
[null,"  Fertilizante orgânico","t",17,400,6800]
[null,"Adubo foliar","l",1,2.9,2.9]
[null,"  Fertilizante químico"]
[null,"     Nitrogenado","Kg",100,3.5,350]
[null,"     Fosfatado","Kg",180,2.5750000000000002,463.50000000000006]
[null,"     Potássico","Kg",100,2.5750000000000002,257.5]
[null,"  Defensivos"]
[null,"     Inseticida","l",1,73,{"$f":"D36*E36","v":73}]
[null,"     Fungicida","Kg",2,33,66]
[null,"     Formicida","l",1,75,{"$f":"D38*E38","v":75}]
[null,"     Herbicida","l",3,108,{"$f":"D39*E39","v":324}]
[null,"     Espalhante adesivo","l",1,52,52]
[null,"     Mourões de 2,8 m","Unid.",480,7,3360]
[null,"     Estacas","Unid.",1140,3.5,3990]
[null,"     Arame farpado","kg",2600,20.089285714285715,{"$f":"D43*E43","v":52232.142857142862}]
[null,"     Arame Galv. Nº 12","kg",900,17,{"$f":"D44*E44","v":15300}]
[null,"Custo dos insumos",null,null,null,{"$f":"SUM(F28:F44)","v":86987.442857142858}]
[null,"Custos eventuais",null,null,null,{"$f":"0.05*(F25+F26+F45)","v":4817.6241428571439}]
[null,"Custo Total",null,null,null,{"$f":"F45+F25+F26+F46","v":101170.107}]
[null,"Receita bruta",null,null,null,{"$f":"F5","v":0}]
[null,"Lucro bruto    ",null,null,null,{"$f":"F48-F47","v":-101170.107}]
[]
[]
[null,"Planilha de Coeficientes Técnicos"]
[null,"Cultura: uva - ano 2"]
[null,null,null,"Produção (kg)",null,0]
[null,null,null,"Preço (R$/kg)",null,3.43]
[null,null,null,"Receita Bruta (R$)",null,{"$f":"F55*F54","v":0}]
[]
[null,"Area: 1,0 ha",null,null,"Custo (R$)",null,"M  e  s  e  s"]
[null,"Discriminação","Und.","Qtde.","Unitário","Global","Jan","Fev","Mar","Abr","Mai","Jun","Jul","Ago","Set","Out","Nov","Dez"]
[null,"SERVIÇOS"]
[null," -Adubação organica","d/h",{"$f":"SUM(G61:R61)","v":1},{"$f":"E24","v":81.84},{"$f":"E61*D61","v":81.84},null,null,null,null,null,null,null,null,null,null,1]
[null," -Adubação de Cobertura","d/h",{"$f":"SUM(G62:R62)","v":8},{"$f":"E61","v":81.84},{"$f":"E62*D62","v":654.72},null,null,2,null,null,2,null,null,2,null,null,2]
[null," -Poda","d/h",{"$f":"SUM(G63:R63)","v":26},{"$f":"E62","v":81.84},{"$f":"E63*D63","v":2127.84},2,2,2,2,2,4,2,2,2,null,4,2]
[null," -Capina química","d/h",{"$f":"SUM(G64:R64)","v":8},{"$f":"E63","v":81.84},{"$f":"E64*D64","v":654.72},null,2,null,null,2,null,null,2,null,null,2]
[null," -Controle Fitossanitário","d/h",30,{"$f":"E64","v":81.84},2455.2000000000003,2,2,2,2,2,2,2,2,2,2,5,5]
[null," -Controle Fitossanitário","htr",12,30,360,1,1,1,1,1,1,1,1,1,1,1,1]
[null," -Transporte interno","d/h",0,{"$f":"E65","v":81.84},0]
[null," -Transporte interno","htr",8,30,240,null,null,null,null,null,1,null,null,1,2,3,1]
[null," -Tutoramento","d/h",56,{"$f":"E67","v":81.84},4583.04,5,6,9,9,5,null,5,6,6,null,null,5]
[null," -Irrigação","d/h",28,{"$f":"E69","v":81.84},2291.52,1,1,3,3,3,3,3,3,3,3,1,1]
[null,"Custo dos serviços","d/h",{"$f":"SUMIFS(D$61:D$70,$C$61:$C$70,$C71)","v":157},{"$f":"F71/D71","v":81.84},{"$f":"SUMIFS(F$61:F$70,$C$61:$C$70,$C71)","v":12848.880000000001},10,13,18,16,14,11,12,15,15,5,13,15]
[null,null,"htr",{"$f":"SUMIFS(D$61:D$70,$C$61:$C$70,$C72)","v":20},{"$f":"F72/D72","v":30},600,1,1,1,1,1,2,1,1,2,3,4,2]
[null,"INSUMOS"]
[null,"  Fertilizante orgânico","t",2,400,{"$f":"D74*E74","v":800}]
[null,"Adubo foliar","l",14,2.9,{"$f":"D75*E75","v":40.6}]
[null,"  Fertilizante químico"]
[null,"     Nitrogenado","Kg",100,3.5,{"$f":"D77*E77","v":350}]
[null,"     Fosfatado","Kg",100,2.5750000000000002,257.5]
[null,"     Potássico","Kg",100,2.5750000000000002,257.5]
[null,"  Defensivos"]
[null,"     Inseticida","l",4,73,292]
[null,"     Fungicida","Kg",60,33,1980]
[null,"     Formicida","l",3,75,225]
[null,"     Herbicida","l",8,108,864]
[null,"     Espalhante adesivo","l",20,52,1040]
[null,"Custo dos insumos",null,null,null,{"$f":"SUM(F74:F85)","v":6106.6}]
[null,"Custos eventuais",null,null,null,{"$f":"0.05*(F71+F72+F86)","v":977.77400000000023}]
[null,"Custo Total",null,null,null,{"$f":"F86+F71+F72+F87","v":20533.254000000004}]
[null,"Receita bruta",null,null,null,{"$f":"F56","v":0}]
[null,"Lucro bruto    ",null,null,null,{"$f":"F89-F88","v":-20533.254000000004}]
[]
[]
[null,"Planilha de Coeficientes Técnicos"]
[null,"Cultura: uva - ano 3"]
[null,null,null,"Produção (kg)",null,5000]
[null,null,null,"Preço (R$/kg)",null,3.43]
[null,null,null,"Receita Bruta (R$)",null,{"$f":"F96*F95","v":17150}]
[]
[null,"Area: 1,0 ha",null,null,"Custo (R$)",null,"M  e  s  e  s"]
[null,"Discriminação","Und.","Qtde.","Unitário","Global","Jan","Fev","Mar","Abr","Mai","Jun","Jul","Ago","Set","Out","Nov","Dez"]
[null,"SERVIÇOS"]
[null," -Adubação organica","d/h",{"$f":"SUM(G102:R102)","v":2},{"$f":"E65","v":81.84},{"$f":"E102*D102","v":163.68},null,null,null,null,null,null,null,null,null,null,2]
[null," -Adubação de Cobertura","d/h",8,{"$f":"E102","v":81.84},654.72,null,2,null,null,2,null,null,2,null,null,2]
[null," -Poda","d/h",22,{"$f":"E103","v":81.84},1800.48,2,2,2,2,2,1,1,1,1,null,4,4]
[null," -Raleio e descompactação/cachos","d/h",10,{"$f":"E104","v":81.84},818.40000000000009,null,null,5,null,null,null,null,null,5]
[null," -Colheita","d/h",13,{"$f":"E105","v":81.84},1063.92,null,null,null,6,null,null,null,null,null,7]
[null," -Classificação/embalagem","d/h",6,{"$f":"E106","v":81.84},491.04,null,null,null,3,null,null,null,null,null,3]
[null," -Capina química","d/h",8,{"$f":"E104","v":81.84},654.72,null,2,null,null,2,null,null,2,null,null,2]
[null," -Controle Fitossanitário","d/h",29,{"$f":"E108","v":81.84},2373.36,3,4,2,null,2,2,2,2,2,null,5,5]
[null," -Controle Fitossanitário","htr",16,30,480,2,2,1,1,1,1,1,1,1,1,2,2]
[null," -Transporte interno","d/h",0,{"$f":"E109","v":81.84},0]
[null," -Transporte interno","htr",9,30,270,null,null,1,2,1,null,null,null,null,3,2]
[null," -Tutoramento","d/h",38,{"$f":"E111","v":81.84},3109.92,4,4,6,null,null,4,4,4,6,null,3,3]
[null," -Irrigação","d/h",28,{"$f":"E113","v":81.84},2291.52,1,1,3,3,3,3,3,3,3,3,1,1]
[null,"Custo dos serviços","d/h",{"$f":"SUMIFS(D$102:D$114,$C$102:$C$114,$C115)","v":164},{"$f":"F115/D115","v":81.840000000000018},{"$f":"SUMIFS(F$102:F$114,$C$102:$C$114,$C115)","v":13421.760000000002},10,15,18,14,11,10,10,14,17,13,19,13]
[null,null,"htr",{"$f":"SUMIFS(D$102:D$114,$C$102:$C$114,$C116)","v":25},{"$f":"F116/D116","v":30},750,2,2,2,3,2,1,1,1,1,4,4,2]
[null,"INSUMOS"]
[null,"  Fertilizante orgânico","t",20,400,{"$f":"D118*E118","v":8000}]
[null,"Adubo foliar","l",24,2.9,{"$f":"D119*E119","v":69.599999999999994}]
[null,"  Fertilizante químico"]
[null,"     Nitrogenado","Kg",100,3.5,{"$f":"D121*E121","v":350}]
[null,"     Fosfatado","Kg",100,2.5750000000000002,257.5]
[null,"     Potássico","Kg",100,2.5750000000000002,257.5]
[null,"  Defensivos"]
[null,"     Inseticida","l",7,73,511]
[null,"     Fungicida","Kg",30,33,990]
[null,"     Formicida","l",5,75,375]
[null,"     Herbicida","l",8,108,864]
[null,"     Espalhante adesivo","l",17,52,884]
[null,"     Caixas 10 kg","und",{"$f":"F95/10","v":500},5,2500]
[null,"Custo dos insumos",null,null,null,{"$f":"SUM(F118:F130)","v":15058.6}]
[null,"Custos eventuais",null,null,null,{"$f":"0.05*(F115+F116+F131)","v":1461.518}]
[null,"Custos de Comercialização",null,null,null,214.5,null,null,0.5,"da produção entregue na Ceasa de Palmas"]
[null,"Custo Total",null,null,null,{"$f":"F131+F115+F116+F132+F133","v":30906.378000000001}]
[null,"Receita bruta",null,null,null,{"$f":"F97","v":17150}]
[null,"Lucro bruto    ",null,null,null,{"$f":"F135-F134","v":-13756.378000000001}]
[]
[]
[null,"Planilha de Coeficientes Técnicos"]
[null,"Cultura: uva - ano 4"]
[null,null,null,"Produção (kg)",null,10000]
[null,null,null,"Preço (R$/kg)",null,3.43]
[null,null,null,"Receita Bruta (R$)",null,{"$f":"F142*F141","v":34300}]
[]
[null,"Area: 1,0 ha",null,null,"Custo (R$)",null,"M  e  s  e  s"]
[null,"Discriminação","Und.","Qtde.","Unitário","Global","Jan","Fev","Mar","Abr","Mai","Jun","Jul","Ago","Set","Out","Nov","Dez"]
[null,"SERVIÇOS"]
[null," -Adubação organica","d/h",{"$f":"SUM(G148:R148)","v":4},{"$f":"E109","v":81.84},{"$f":"E148*D148","v":327.36},null,null,null,null,2,null,null,null,null,null,2]
[null," -Adubação de Cobertura","d/h",8,{"$f":"E148","v":81.84},654.72,null,2,null,null,2,null,null,2,null,null,2]
[null," -Poda","d/h",13,{"$f":"E149","v":81.84},1063.92,1,1,1,null,4,1,1,1,1,null,1,1]
[null," -Raleio e descompactação/cachos","d/h",40,{"$f":"E150","v":81.84},3273.6000000000004,5,5,5,5,null,null,null,null,5,5,5,5]
[null," -Colheita","d/h",43,{"$f":"E151","v":81.84},3519.1200000000003,7,6,4,4,4,null,null,null,null,5,6,7]
[null," -Classificação/embalagem","d/h",24,{"$f":"E152","v":81.84},1964.16,3,3,3,3,3,null,null,null,null,3,3,3]
[null," -Capina química","d/h",8,{"$f":"E150","v":81.84},654.72,null,2,null,null,2,null,null,2,null,null,2]
[null," -Controle Fitossanitário","d/h",32,{"$f":"E154","v":81.84},2618.88,5,5,2,null,2,2,2,2,2,null,5,5]
[null," -Controle Fitossanitário","htr",16,30,480,2,2,1,1,1,1,1,1,1,1,2,2]
[null," -Transporte interno","d/h",0,{"$f":"E155","v":81.84},0]
[null," -Transporte interno","htr",16,30,480,2,2,2,2,2,null,null,null,null,2,2,2]
[null," -Tutoramento","d/h",38,{"$f":"E157","v":81.84},3109.92,4,4,6,null,null,4,4,4,6,null,3,3]
[null," -Irrigação","d/h",28,{"$f":"E159","v":81.84},2291.52,1,1,3,3,3,3,3,3,3,3,1,1]
[null,"Custo dos serviços","d/h",{"$f":"SUMIFS(D$148:D$160,$C$148:$C$160,$C161)","v":238},{"$f":"F161/D161","v":81.84},{"$f":"SUMIFS(F$148:F$160,$C$148:$C$160,$C161)","v":19477.920000000002},26,29,24,15,22,10,10,14,17,16,30,25]
[null,null,"htr",{"$f":"SUMIFS(D$148:D$160,$C$148:$C$160,$C162)","v":32},{"$f":"F162/D162","v":30},960,4,4,3,3,3,1,1,1,1,3,4,4]
[null,"INSUMOS"]
[null,"  Fertilizante orgânico","t",5,400,{"$f":"D164*E164","v":2000}]
[null,"Adubo foliar","l",24,2.9,{"$f":"D165*E165","v":69.599999999999994}]
[null,"  Fertilizante químico"]
[null,"     Nitrogenado","Kg",100,3.5,{"$f":"D167*E167","v":350}]
[null,"     Fosfatado","Kg",100,2.5750000000000002,257.5]
[null,"     Potássico","Kg",100,2.5750000000000002,257.5]
[null,"  Defensivos"]
[null,"     Inseticida","l",7,73,511]
[null,"     Fungicida","Kg",30,33,990]
[null,"     Formicida","l",5,75,375]
[null,"     Herbicida","l",8,108,864]
[null,"     Espalhante adesivo","l",34,52,1768]
[null,"     Caixas 10 kg","und",{"$f":"F141/10","v":1000},5,5000]
[null,"Custo dos insumos",null,null,null,{"$f":"SUM(F164:F176)","v":12442.6}]
[null,"Custos eventuais",null,null,null,{"$f":"0.05*(F161+F162+F177)","v":1644.0260000000003}]
[null,"Custos de Comercialização",null,null,null,429]
[null,"Custo Total",null,null,null,{"$f":"F177+F161+F162+F178+F179","v":34953.546000000002}]
[null,"Receita bruta",null,null,null,{"$f":"F143","v":34300}]
[null,"Lucro bruto    ",null,null,null,{"$f":"F181-F180","v":-653.5460000000021}]
[]
[]
[null,"Planilha de Coeficientes Técnicos"]
[null,"Cultura: uva - ano 5"]
[null,null,null,"Produção (kg)",null,20000]
[null,null,null,"Preço (R$/kg)",null,3.43]
[null,null,null,"Receita Bruta (R$)",null,{"$f":"F188*F187","v":68600}]
[]
[null,"Area: 1,0 ha",null,null,"Custo (R$)",null,"M  e  s  e  s"]
[null,"Discriminação","Und.","Qtde.","Unitário","Global","Jan","Fev","Mar","Abr","Mai","Jun","Jul","Ago","Set","Out","Nov","Dez"]
[null,"SERVIÇOS"]
[null," -Adubação organica","d/h",{"$f":"SUM(G194:R194)","v":4},{"$f":"E155","v":81.84},{"$f":"E194*D194","v":327.36},null,null,null,null,2,null,null,null,null,null,2]
[null," -Adubação de Cobertura","d/h",8,{"$f":"E194","v":81.84},654.72,null,2,null,null,2,null,null,2,null,null,2]
[null," -Poda","d/h",13,{"$f":"E195","v":81.84},1063.92,1,1,1,null,4,1,1,1,1,null,1,1]
[null," -Raleio e descompactação/cachos","d/h",40,{"$f":"E196","v":81.84},3273.6000000000004,5,5,5,5,null,null,null,null,5,5,5,5]
[null," -Colheita","d/h",55,{"$f":"E197","v":81.84},4501.2,9,8,5,5,5,null,null,null,null,6,8,9]
[null," -Classificação/embalagem","d/h",32,{"$f":"E198","v":81.84},2618.88,4,4,4,4,4,null,null,null,null,4,4,4]
[null," -Capina química","d/h",8,{"$f":"E196","v":81.84},654.72,null,2,null,null,2,null,null,2,null,null,2]
[null," -Controle Fitossanitário","d/h",32,{"$f":"E200","v":81.84},2618.88,5,5,2,null,2,2,2,2,2,null,5,5]
[null," -Controle Fitossanitário","htr",16,30,480,2,2,1,1,1,1,1,1,1,1,2,2]
[null," -Transporte interno","d/h",0,{"$f":"E201","v":81.84},0]
[null," -Transporte interno","htr",16,30,480,2,2,2,2,2,null,null,null,null,2,2,2]
[null," -Tutoramento","d/h",38,{"$f":"E203","v":81.84},3109.92,4,4,6,null,null,4,4,4,6,null,3,3]
[null," -Irrigação","d/h",28,{"$f":"E205","v":81.84},2291.52,1,1,3,3,3,3,3,3,3,3,1,1]
[null,"Custo dos serviços","d/h",{"$f":"SUMIFS(D$194:D$206,$C$194:$C$206,$C207)","v":258},{"$f":"F207/D207","v":81.839999999999989},{"$f":"SUMIFS(F$194:F$206,$C$194:$C$206,$C207)","v":21114.719999999998},29,32,26,17,24,10,10,14,17,18,33,28]
[null,null,"htr",{"$f":"SUMIFS(D$194:D$206,$C$194:$C$206,$C208)","v":32},{"$f":"F208/D208","v":30},960,4,4,3,3,3,1,1,1,1,3,4,4]
[null,"INSUMOS"]
[null,"  Fertilizante orgânico","t",5,400,{"$f":"D210*E210","v":2000}]
[null,"Adubo foliar","l",24,2.9,{"$f":"D211*E211","v":69.599999999999994}]
[null,"  Fertilizante químico"]
[null,"     Nitrogenado","Kg",100,3.5,{"$f":"D213*E213","v":350}]
[null,"     Fosfatado","Kg",100,2.5750000000000002,257.5]
[null,"     Potássico","Kg",100,2.5750000000000002,257.5]
[null,"  Defensivos"]
[null,"     Inseticida","l",7,73,511]
[null,"     Fungicida","Kg",30,33,990]
[null,"     Formicida","l",5,75,375]
[null,"     Herbicida","l",8,108,864]
[null,"     Espalhante adesivo","l",34,52,1768]
[null,"     Caixas 10 kg","und",{"$f":"F187/10","v":2000},5,10000]
[null,"Custo dos insumos",null,null,null,{"$f":"SUM(F210:F222)","v":17442.599999999999}]
[null,"Custos eventuais",null,null,null,{"$f":"0.05*(F207+F208+F223)","v":1975.8659999999998}]
[null,"Custos de Comercialização",null,null,null,858]
[null,"Custo Total",null,null,null,{"$f":"F223+F207+F208+F224+F225","v":42351.185999999994}]
[null,"Receita bruta",null,null,null,{"$f":"F189","v":68600}]
[null,"Lucro bruto    ",null,null,null,{"$f":"F227-F226","v":26248.814000000006}]
[]
[]
[null,"Planilha de Coeficientes Técnicos"]
[null,"Cultura: uva - ano 6"]
[null,null,null,"Produção (kg)",null,25000]
[null,null,null,"Preço (R$/kg)",null,3.43]
[null,null,null,"Receita Bruta (R$)",null,{"$f":"F234*F233","v":85750}]
[]
[null,"Area: 1,0 ha",null,null,"Custo (R$)",null,"M  e  s  e  s"]
[null,"Discriminação","Und.","Qtde.","Unitário","Global","Jan","Fev","Mar","Abr","Mai","Jun","Jul","Ago","Set","Out","Nov","Dez"]
[null,"SERVIÇOS"]
[null," -Adubação organica","d/h",{"$f":"SUM(G240:R240)","v":4},{"$f":"E201","v":81.84},{"$f":"E240*D240","v":327.36},null,null,null,null,2,null,null,null,null,null,2]
[null," -Adubação de Cobertura","d/h",8,{"$f":"E240","v":81.84},654.72,null,2,null,null,2,null,null,2,null,null,2]
[null," -Poda","d/h",13,{"$f":"E241","v":81.84},1063.92,1,1,1,null,4,1,1,1,1,null,1,1]
[null," -Raleio e descompactação/cachos","d/h",56,{"$f":"E242","v":81.84},4583.04,7,7,7,7,null,null,null,null,7,7,7,7]
[null," -Colheita","d/h",57,{"$f":"E243","v":81.84},4664.88,10,8,6,6,6,null,null,null,null,6,8,7]
[null," -Classificação/embalagem","d/h",40,{"$f":"E244","v":81.84},3273.6000000000004,5,5,5,5,5,null,null,null,null,5,5,5]
[null," -Capina química","d/h",8,{"$f":"E242","v":81.84},654.72,null,2,null,null,2,null,null,2,null,null,2]
[null," -Controle Fitossanitário","d/h",32,{"$f":"E246","v":81.84},2618.88,5,5,2,null,2,2,2,2,2,null,5,5]
[null," -Controle Fitossanitário","htr",16,30,480,2,2,1,1,1,1,1,1,1,1,2,2]
[null," -Transporte interno","d/h",0,{"$f":"E247","v":81.84},0]
[null," -Transporte interno","htr",16,30,480,2,2,2,2,2,null,null,null,null,2,2,2]
[null," -Tutoramento","d/h",38,{"$f":"E249","v":81.84},3109.92,4,4,6,null,null,4,4,4,6,null,3,3]
[null," -Irrigação","d/h",28,{"$f":"E251","v":81.84},2291.52,1,1,3,3,3,3,3,3,3,3,1,1]
[null,"Custo dos serviços","d/h",{"$f":"SUMIFS(D$240:D$252,$C$240:$C$252,$C253)","v":284},{"$f":"F253/D253","v":81.84},{"$f":"SUMIFS(F$240:F$252,$C$240:$C$252,$C253)","v":23242.560000000001},33,35,30,21,26,10,10,14,19,21,36,29]
[null,null,"htr",{"$f":"SUMIFS(D$240:D$252,$C$240:$C$252,$C254)","v":32},{"$f":"F254/D254","v":30},960,4,4,3,3,3,1,1,1,1,3,4,4]
[null,"INSUMOS"]
[null,"  Fertilizante orgânico","t",5,400,{"$f":"D256*E256","v":2000}]
[null,"Adubo foliar","l",24,2.9,{"$f":"D257*E257","v":69.599999999999994}]
[null,"  Fertilizante químico"]
[null,"     Nitrogenado","Kg",100,3.5,{"$f":"D259*E259","v":350}]
[null,"     Fosfatado","Kg",100,2.5750000000000002,257.5]
[null,"     Potássico","Kg",100,2.5750000000000002,257.5]
[null,"  Defensivos"]
[null,"     Inseticida","l",7,73,511]
[null,"     Fungicida","Kg",30,33,990]
[null,"     Formicida","l",5,75,375]
[null,"     Herbicida","l",8,108,864]
[null,"     Espalhante adesivo","l",34,52,1768]
[null,"     Caixas 10 kg","und",{"$f":"F233/10","v":2500},5,12500]
[null,"Custo dos insumos",null,null,null,{"$f":"SUM(F256:F268)","v":19942.599999999999}]
[null,"Custos eventuais",null,null,null,{"$f":"0.05*(F253+F254+F269)","v":2207.2580000000003}]
[null,"Custos de Comercialização",null,null,null,1072.5]
[null,"Custo Total",null,null,null,{"$f":"F269+F253+F254+F270+F271","v":47424.918000000005}]
[null,"Receita bruta",null,null,null,{"$f":"F235","v":85750}]
[null,"Lucro bruto    ",null,null,null,{"$f":"F273-F272","v":38325.081999999995}]
[]
[null,"Planilha de Coeficientes Técnicos"]
[null,"Cultura: uva - ano 7"]
[null,null,null,"Produção (kg)",null,32000]
[null,null,null,"Preço (R$/kg)",null,3.43]
[null,null,null,"Receita Bruta (R$)",null,{"$f":"F279*F278","v":109760}]
[]
[null,"Area: 1,0 ha",null,null,"Custo (R$)",null,"M  e  s  e  s"]
[null,"Discriminação","Und.","Qtde.","Unitário","Global","Jan","Fev","Mar","Abr","Mai","Jun","Jul","Ago","Set","Out","Nov","Dez"]
[null,"SERVIÇOS"]
[null," -Adubação organica","d/h",{"$f":"SUM(G285:R285)","v":4},{"$f":"E246","v":81.84},{"$f":"E285*D285","v":327.36},null,null,null,null,2,null,null,null,null,null,2]
[null," -Adubação de Cobertura","d/h",8,{"$f":"E285","v":81.84},654.72,null,2,null,null,2,null,null,2,null,null,2]
[null," -Poda","d/h",13,{"$f":"E286","v":81.84},1063.92,1,1,1,null,4,1,1,1,1,null,1,1]
[null," -Raleio e descompactação/cachos","d/h",80,{"$f":"E287","v":81.84},6547.2000000000007,10,10,10,10,null,null,null,null,10,10,10,10]
[null," -Colheita","d/h",83,{"$f":"E288","v":81.84},6792.72,12,10,8,8,8,null,null,null,null,10,12,15]
[null," -Classificação/embalagem","d/h",80,{"$f":"E289","v":81.84},6547.2000000000007,10,10,10,10,10,null,null,null,null,10,10,10]
[null," -Capina química","d/h",8,{"$f":"E287","v":81.84},654.72,null,2,null,null,2,null,null,2,null,null,2]
[null," -Controle Fitossanitário","d/h",32,{"$f":"E291","v":81.84},2618.88,5,5,2,null,2,2,2,2,2,null,5,5]
[null," -Controle Fitossanitário","htr",16,30,480,2,2,1,1,1,1,1,1,1,1,2,2]
[null," -Transporte interno","d/h",0,{"$f":"E292","v":81.84},0]
[null," -Transporte interno","htr",16,30,480,2,2,2,2,2,null,null,null,null,2,2,2]
[null," -Tutoramento","d/h",38,{"$f":"E294","v":81.84},3109.92,4,4,6,null,null,4,4,4,6,null,3,3]
[null," -Irrigação","d/h",28,{"$f":"E296","v":81.84},2291.52,1,1,3,3,3,3,3,3,3,3,1,1]
[null,"Custo dos serviços","d/h",{"$f":"SUMIFS(D$285:D$297,$C$285:$C$297,$C298)","v":374},{"$f":"F298/D298","v":81.840000000000018},{"$f":"SUMIFS(F$285:F$297,$C$285:$C$297,$C298)","v":30608.160000000007},43,45,40,31,33,10,10,14,22,33,48,45]
[null,null,"htr",{"$f":"SUMIFS(D$285:D$297,$C$285:$C$297,$C299)","v":32},{"$f":"F299/D299","v":30},960,4,4,3,3,3,1,1,1,1,3,4,4]
[null,"INSUMOS"]
[null,"  Fertilizante orgânico","t",5,400,{"$f":"D301*E301","v":2000}]
[null,"Adubo foliar","l",24,2.9,{"$f":"D302*E302","v":69.599999999999994}]
[null,"  Fertilizante químico"]
[null,"     Nitrogenado","Kg",100,3.5,{"$f":"D304*E304","v":350}]
[null,"     Fosfatado","Kg",100,2.5750000000000002,257.5]
[null,"     Potássico","Kg",100,2.5750000000000002,257.5]
[null,"  Defensivos"]
[null,"     Inseticida","l",7,73,511]
[null,"     Fungicida","Kg",30,33,990]
[null,"     Formicida","l",5,75,375]
[null,"     Herbicida","l",8,108,864]
[null,"     Espalhante adesivo","l",34,52,1768]
[null,"     Caixas 10 kg","und",{"$f":"F278/10","v":3200},5,16000]
[null,"Custo dos insumos",null,null,null,{"$f":"SUM(F301:F313)","v":23442.6}]
[null,"Custos eventuais",null,null,null,{"$f":"0.05*(F298+F299+F314)","v":2750.5380000000005}]
[null,"Custos de Comercialização",null,null,null,1372.8]
[null,"Custo Total",null,null,null,{"$f":"F314+F298+F299+F315+F316","v":59134.098000000013}]
[null,"Receita bruta",null,null,null,{"$f":"F280","v":109760}]
[null,"Lucro bruto    ",null,null,null,{"$f":"F318-F317","v":50625.901999999987}]

{"sheet":"Value For Money","index":44,"n_rows":56,"n_cols":39,"rows_kept":56,"cut":false,"hidden":true,"merged":[[31,1,31,2],[1,1,1,2],[2,1,2,2],[8,1,8,2],[13,1,13,2],[15,1,15,2],[16,1,16,2],[19,1,19,2],[24,1,24,2],[27,1,27,2],[28,1,28,2],[29,1,29,2],[42,1,42,2],[44,1,44,2],[34,1,34,2],[35,1,35,2],[36,1,36,2],[38,1,38,2],[40,1,40,2],[41,1,41,2]]}
[]
[null,"Gastos Governo sem a PPP",null,"TOTAL","Ano 0","Ano 1","Ano 2","Ano 3","Ano 4","Ano 5","Ano 6","Ano 7","Ano 8","Ano 9","Ano 10","Ano 11","Ano 12","Ano 13","Ano 14","Ano 15","Ano 16","Ano 17","Ano 18","Ano 19","Ano 20","Ano 21","Ano 22","Ano 23","Ano 24","Ano 25","Ano 26","Ano 27","Ano 28","Ano 29","Ano 30","Ano 31","Ano 32","Ano 33","Ano 34"]
[null,"SUBTOTAL CAPEX",null,{"$f":"SUM(E3:AM3)","v":{"$error":"#REF!"}},{"$f":"SUM(E4:E8)","v":{"$error":"#REF!"}}]
[null,"Obras, licenciamento e estudos",null,{"$f":"'Painel de Controle'!#REF!","v":{"$error":"#REF!"}},{"$f":"D4","v":{"$error":"#REF!"}}]
[null,"BDI - Contratos de adequação, melhorias e ampliação",0.25,{"$f":"SUM(E5:AM5)","v":{"$error":"#REF!"}},{"$f":"C5*E4","v":{"$error":"#REF!"}}]
[null,"Custo de Gerenciamento",0.05,{"$f":"SUM(E6:AM6)","v":{"$error":"#REF!"}},{"$f":"C6*E4","v":{"$error":"#REF!"}}]
[null,"Custos de Realização de Licitação",3.7499999999999999E-2,{"$error":"#REF!"},{"$f":"C7*E4","v":{"$error":"#REF!"}}]
[null,"Taxa de Gestão de Contratos",3.5000000000000003E-2,{"$f":"SUM(E8:AM8)","v":{"$error":"#REF!"}},{"$f":"C8*E4","v":{"$error":"#REF!"}}]
[null,"SUBTOTAL OPEX",null,{"$error":"#REF!"},null,{"$f":"SUM(F10:F13)","v":{"$error":"#REF!"}},{"$f":"SUM(G10:G13)","v":{"$error":"#REF!"}},{"$error":"#REF!"},{"$error":"#REF!"},{"$error":"#REF!"},{"$error":"#REF!"},{"$error":"#REF!"},{"$error":"#REF!"},{"$error":"#REF!"},{"$error":"#REF!"},{"$error":"#REF!"},{"$error":"#REF!"},{"$error":"#REF!"},{"$error":"#REF!"},{"$error":"#REF!"},{"$error":"#REF!"},{"$error":"#REF!"},{"$error":"#REF!"},{"$error":"#REF!"},{"$error":"#REF!"},{"$error":"#REF!"},{"$error":"#REF!"},{"$error":"#REF!"},{"$error":"#REF!"},{"$error":"#REF!"},{"$error":"#REF!"},{"$error":"#REF!"},{"$error":"#REF!"},{"$error":"#REF!"},{"$error":"#REF!"},{"$error":"#REF!"},{"$error":"#REF!"},{"$error":"#REF!"},{"$error":"#REF!"}]
[null,"Opex Bruto (descontando seguros)",null,{"$error":"#REF!"},null,{"$f":"'Painel de Controle'!#REF!","v":{"$error":"#REF!"}},{"$f":"F10","v":{"$error":"#REF!"}},{"$f":"G10","v":{"$error":"#REF!"}},{"$f":"H10","v":{"$error":"#REF!"}},{"$error":"#REF!"},{"$error":"#REF!"},{"$error":"#REF!"},{"$error":"#REF!"},{"$error":"#REF!"},{"$error":"#REF!"},{"$error":"#REF!"},{"$error":"#REF!"},{"$error":"#REF!"},{"$error":"#REF!"},{"$error":"#REF!"},{"$error":"#REF!"},{"$error":"#REF!"},{"$error":"#REF!"},{"$error":"#REF!"},{"$error":"#REF!"},{"$error":"#REF!"},{"$f":"Z10","v":{"$error":"#REF!"}},{"$error":"#REF!"},{"$error":"#REF!"},{"$error":"#REF!"},{"$error":"#REF!"},{"$error":"#REF!"},{"$error":"#REF!"},{"$error":"#REF!"},{"$error":"#REF!"},{"$error":"#REF!"},{"$error":"#REF!"},{"$error":"#REF!"},{"$error":"#REF!"}]
[null,"BDI - Contratos de Obras de Manutenção",0.25,{"$error":"#REF!"},null,{"$f":"$C$11*F10","v":{"$error":"#REF!"}},{"$f":"$C$11*G10","v":{"$error":"#REF!"}},{"$error":"#REF!"},{"$error":"#REF!"},{"$error":"#REF!"},{"$error":"#REF!"},{"$error":"#REF!"},{"$error":"#REF!"},{"$error":"#REF!"},{"$error":"#REF!"},{"$error":"#REF!"},{"$error":"#REF!"},{"$error":"#REF!"},{"$error":"#REF!"},{"$error":"#REF!"},{"$error":"#REF!"},{"$error":"#REF!"},{"$error":"#REF!"},{"$error":"#REF!"},{"$error":"#REF!"},{"$error":"#REF!"},{"$f":"$C$11*AA10","v":{"$error":"#REF!"}},{"$f":"$C$11*AB10","v":{"$error":"#REF!"}},{"$f":"$C$11*AC10","v":{"$error":"#REF!"}},{"$f":"$C$11*AD10","v":{"$error":"#REF!"}},{"$f":"$C$11*AE10","v":{"$error":"#REF!"}},{"$f":"$C$11*AF10","v":{"$error":"#REF!"}},{"$f":"$C$11*AG10","v":{"$error":"#REF!"}},{"$f":"$C$11*AH10","v":{"$error":"#REF!"}},{"$f":"$C$11*AI10","v":{"$error":"#REF!"}},{"$f":"$C$11*AJ10","v":{"$error":"#REF!"}},{"$f":"$C$11*AK10","v":{"$error":"#REF!"}},{"$f":"$C$11*AL10","v":{"$error":"#REF!"}},{"$f":"$C$11*AM10","v":{"$error":"#REF!"}}]
[null,"Taxa de Gestão de Contratos",0.05,{"$error":"#REF!"},null,{"$f":"$C$12*F10","v":{"$error":"#REF!"}},{"$error":"#REF!"},{"$error":"#REF!"},{"$error":"#REF!"},{"$error":"#REF!"},{"$error":"#REF!"},{"$error":"#REF!"},{"$error":"#REF!"},{"$error":"#REF!"},{"$error":"#REF!"},{"$error":"#REF!"},{"$error":"#REF!"},{"$error":"#REF!"},{"$error":"#REF!"},{"$error":"#REF!"},{"$error":"#REF!"},{"$error":"#REF!"},{"$error":"#REF!"},{"$error":"#REF!"},{"$error":"#REF!"},{"$error":"#REF!"},{"$f":"$C$12*AA10","v":{"$error":"#REF!"}},{"$error":"#REF!"},{"$error":"#REF!"},{"$error":"#REF!"},{"$error":"#REF!"},{"$error":"#REF!"},{"$error":"#REF!"},{"$error":"#REF!"},{"$error":"#REF!"},{"$error":"#REF!"},{"$error":"#REF!"},{"$error":"#REF!"},{"$error":"#REF!"}]
[null,"Custo de Gestão Pública",0.3,{"$error":"#REF!"},null,{"$f":"$C$13*F10","v":{"$error":"#REF!"}},{"$f":"$C$13*G10","v":{"$error":"#REF!"}},{"$error":"#REF!"},{"$error":"#REF!"},{"$error":"#REF!"},{"$error":"#REF!"},{"$error":"#REF!"},{"$error":"#REF!"},{"$error":"#REF!"},{"$error":"#REF!"},{"$error":"#REF!"},{"$error":"#REF!"},{"$error":"#REF!"},{"$error":"#REF!"},{"$error":"#REF!"},{"$error":"#REF!"},{"$error":"#REF!"},{"$error":"#REF!"},{"$error":"#REF!"},{"$error":"#REF!"},{"$error":"#REF!"},{"$f":"$C$13*AA10","v":{"$error":"#REF!"}},{"$error":"#REF!"},{"$error":"#REF!"},{"$error":"#REF!"},{"$error":"#REF!"},{"$error":"#REF!"},{"$error":"#REF!"},{"$error":"#REF!"},{"$error":"#REF!"},{"$error":"#REF!"},{"$error":"#REF!"},{"$error":"#REF!"},{"$error":"#REF!"}]
[null,"TOTAL",null,{"$error":"#REF!"},{"$f":"E9+E3","v":{"$error":"#REF!"}},{"$error":"#REF!"},{"$error":"#REF!"},{"$error":"#REF!"},{"$error":"#REF!"},{"$error":"#REF!"},{"$error":"#REF!"},{"$error":"#REF!"},{"$error":"#REF!"},{"$error":"#REF!"},{"$error":"#REF!"},{"$error":"#REF!"},{"$error":"#REF!"},{"$error":"#REF!"},{"$error":"#REF!"},{"$error":"#REF!"},{"$error":"#REF!"},{"$error":"#REF!"},{"$error":"#REF!"},{"$error":"#REF!"},{"$error":"#REF!"},{"$error":"#REF!"},{"$f":"AA9+AA3","v":{"$error":"#REF!"}},{"$error":"#REF!"},{"$error":"#REF!"},{"$error":"#REF!"},{"$error":"#REF!"},{"$error":"#REF!"},{"$error":"#REF!"},{"$error":"#REF!"},{"$error":"#REF!"},{"$error":"#REF!"},{"$error":"#REF!"},{"$error":"#REF!"},{"$error":"#REF!"}]
[]
[null,"Gastos Governo com a PPP",null,"TOTAL","Ano 0","Ano 1","Ano 2","Ano 3","Ano 4","Ano 5","Ano 6","Ano 7","Ano 8","Ano 9","Ano 10","Ano 11","Ano 12","Ano 13","Ano 14","Ano 15","Ano 16","Ano 17","Ano 18","Ano 19","Ano 20","Ano 21","Ano 22","Ano 23","Ano 24","Ano 25","Ano 26","Ano 27","Ano 28","Ano 29","Ano 30","Ano 31","Ano 32","Ano 33","Ano 34"]
[null,"SUBTOTAL CAPEX",null,{"$f":"SUM(E17:AM17)","v":{"$error":"#REF!"}},{"$f":"E18+E19","v":{"$error":"#REF!"}},{"$f":"F18+F19","v":{"$error":"#REF!"}},{"$error":"#REF!"},{"$error":"#REF!"},{"$error":"#REF!"},{"$error":"#REF!"},{"$error":"#REF!"},{"$error":"#REF!"},{"$error":"#REF!"},{"$error":"#REF!"},{"$error":"#REF!"},{"$error":"#REF!"},{"$error":"#REF!"},{"$error":"#REF!"},{"$error":"#REF!"},{"$error":"#REF!"},{"$error":"#REF!"},{"$error":"#REF!"},{"$error":"#REF!"},{"$error":"#REF!"},{"$error":"#REF!"},{"$error":"#REF!"},{"$error":"#REF!"},{"$error":"#REF!"},{"$error":"#REF!"},{"$error":"#REF!"},{"$error":"#REF!"},{"$error":"#REF!"},{"$error":"#REF!"},{"$error":"#REF!"},{"$error":"#REF!"},{"$error":"#REF!"},{"$error":"#REF!"},{"$error":"#REF!"},{"$error":"#REF!"}]
[null,"Contraprestação Anual Obras",null,{"$f":"SUM(E18:AM18)","v":{"$error":"#REF!"}},{"$f":"'FC Projeto'!#REF!","v":{"$error":"#REF!"}},{"$f":"'FC Projeto'!#REF!","v":{"$error":"#REF!"}},{"$f":"'FC Projeto'!#REF!","v":{"$error":"#REF!"}},{"$f":"'FC Projeto'!#REF!","v":{"$error":"#REF!"}},{"$f":"'FC Projeto'!#REF!","v":{"$error":"#REF!"}},{"$f":"'FC Projeto'!#REF!","v":{"$error":"#REF!"}},{"$f":"'FC Projeto'!#REF!","v":{"$error":"#REF!"}},{"$f":"'FC Projeto'!#REF!","v":{"$error":"#REF!"}},{"$f":"'FC Projeto'!#REF!","v":{"$error":"#REF!"}},{"$f":"'FC Projeto'!#REF!","v":{"$error":"#REF!"}},{"$f":"'FC Projeto'!#REF!","v":{"$error":"#REF!"}},{"$f":"'FC Projeto'!#REF!","v":{"$error":"#REF!"}},{"$f":"'FC Projeto'!#REF!","v":{"$error":"#REF!"}},{"$f":"'FC Projeto'!#REF!","v":{"$error":"#REF!"}},{"$f":"'FC Projeto'!#REF!","v":{"$error":"#REF!"}},{"$f":"'FC Projeto'!#REF!","v":{"$error":"#REF!"}},{"$f":"'FC Projeto'!#REF!","v":{"$error":"#REF!"}},{"$f":"'FC Projeto'!#REF!","v":{"$error":"#REF!"}},{"$f":"'FC Projeto'!#REF!","v":{"$error":"#REF!"}},{"$f":"'FC Projeto'!#REF!","v":{"$error":"#REF!"}},{"$f":"'FC Projeto'!#REF!","v":{"$error":"#REF!"}},{"$f":"'FC Projeto'!#REF!","v":{"$error":"#REF!"}},{"$f":"'FC Projeto'!#REF!","v":{"$error":"#REF!"}},{"$f":"'FC Projeto'!#REF!","v":{"$error":"#REF!"}},{"$f":"'FC Projeto'!#REF!","v":{"$error":"#REF!"}},{"$f":"'FC Projeto'!#REF!","v":{"$error":"#REF!"}},{"$f":"'FC Projeto'!#REF!","v":{"$error":"#REF!"}},{"$f":"'FC Projeto'!#REF!","v":{"$error":"#REF!"}},{"$f":"'FC Projeto'!#REF!","v":{"$error":"#REF!"}},{"$f":"'FC Projeto'!#REF!","v":{"$error":"#REF!"}},{"$f":"'FC Projeto'!#REF!","v":{"$error":"#REF!"}},{"$f":"'FC Projeto'!#REF!","v":{"$error":"#REF!"}},{"$f":"'FC Projeto'!#REF!","v":{"$error":"#REF!"}},{"$f":"'FC Projeto'!#REF!","v":{"$error":"#REF!"}},{"$f":"'FC Projeto'!#REF!","v":{"$error":"#REF!"}}]
[null,"Reversão dos ativos ao poder público após 35 anos de concessão",null,{"$f":"SUM(E19:AM19)","v":0}]
[null,"SUBTOTAL OPEX",null,{"$f":"D21+D22+D23","v":{"$error":"#REF!"}},{"$f":"E21+E22+E23+E24","v":{"$error":"#REF!"}},{"$f":"F21+F22+F23+F24","v":{"$error":"#REF!"}},{"$error":"#REF!"},{"$error":"#REF!"},{"$error":"#REF!"},{"$error":"#REF!"},{"$error":"#REF!"},{"$error":"#REF!"},{"$error":"#REF!"},{"$error":"#REF!"},{"$error":"#REF!"},{"$error":"#REF!"},{"$error":"#REF!"},{"$error":"#REF!"},{"$error":"#REF!"},{"$error":"#REF!"},{"$error":"#REF!"},{"$error":"#REF!"},{"$error":"#REF!"},{"$error":"#REF!"},{"$error":"#REF!"},{"$error":"#REF!"},{"$error":"#REF!"},{"$error":"#REF!"},{"$error":"#REF!"},{"$error":"#REF!"},{"$error":"#REF!"},{"$error":"#REF!"},{"$error":"#REF!"},{"$error":"#REF!"},{"$error":"#REF!"},{"$error":"#REF!"},{"$error":"#REF!"},{"$error":"#REF!"},{"$error":"#REF!"}]
[null,"Contraprestação para Operação",null,{"$f":"SUM(E21:AM21)","v":{"$error":"#REF!"}},{"$f":"'FC Projeto'!#REF!","v":{"$error":"#REF!"}},{"$f":"'FC Projeto'!#REF!","v":{"$error":"#REF!"}},{"$f":"'FC Projeto'!#REF!","v":{"$error":"#REF!"}},{"$f":"'FC Projeto'!#REF!","v":{"$error":"#REF!"}},{"$f":"'FC Projeto'!#REF!","v":{"$error":"#REF!"}},{"$f":"'FC Projeto'!#REF!","v":{"$error":"#REF!"}},{"$f":"'FC Projeto'!#REF!","v":{"$error":"#REF!"}},{"$f":"'FC Projeto'!#REF!","v":{"$error":"#REF!"}},{"$f":"'FC Projeto'!#REF!","v":{"$error":"#REF!"}},{"$f":"'FC Projeto'!#REF!","v":{"$error":"#REF!"}},{"$f":"'FC Projeto'!#REF!","v":{"$error":"#REF!"}},{"$f":"'FC Projeto'!#REF!","v":{"$error":"#REF!"}},{"$f":"'FC Projeto'!#REF!","v":{"$error":"#REF!"}},{"$f":"'FC Projeto'!#REF!","v":{"$error":"#REF!"}},{"$f":"'FC Projeto'!#REF!","v":{"$error":"#REF!"}},{"$f":"'FC Projeto'!#REF!","v":{"$error":"#REF!"}},{"$f":"'FC Projeto'!#REF!","v":{"$error":"#REF!"}},{"$f":"'FC Projeto'!#REF!","v":{"$error":"#REF!"}},{"$f":"'FC Projeto'!#REF!","v":{"$error":"#REF!"}},{"$f":"'FC Projeto'!#REF!","v":{"$error":"#REF!"}},{"$f":"'FC Projeto'!#REF!","v":{"$error":"#REF!"}},{"$f":"'FC Projeto'!#REF!","v":{"$error":"#REF!"}},{"$f":"'FC Projeto'!#REF!","v":{"$error":"#REF!"}},{"$f":"'FC Projeto'!#REF!","v":{"$error":"#REF!"}},{"$f":"'FC Projeto'!#REF!","v":{"$error":"#REF!"}},{"$f":"'FC Projeto'!#REF!","v":{"$error":"#REF!"}},{"$f":"'FC Projeto'!#REF!","v":{"$error":"#REF!"}},{"$f":"'FC Projeto'!#REF!","v":{"$error":"#REF!"}},{"$f":"'FC Projeto'!#REF!","v":{"$error":"#REF!"}},{"$f":"'FC Projeto'!#REF!","v":{"$error":"#REF!"}},{"$f":"'FC Projeto'!#REF!","v":{"$error":"#REF!"}},{"$f":"'FC Projeto'!#REF!","v":{"$error":"#REF!"}},{"$f":"'FC Projeto'!#REF!","v":{"$error":"#REF!"}},{"$f":"'FC Projeto'!#REF!","v":{"$error":"#REF!"}},{"$f":"'FC Projeto'!#REF!","v":{"$error":"#REF!"}}]
[null,"Impostos Diretos",0.5,{"$f":"SUM(E22:AM22)","v":-470700.15481201414},{"$f":"'FC Projeto'!D16*$C22","v":-1249.0664560802963},{"$f":"'FC Projeto'!E16*$C22","v":-1249.0664560802963},{"$f":"'FC Projeto'!F16*$C22","v":-1249.0664560802963},{"$f":"'FC Projeto'!G16*$C22","v":-6322.256485871354},{"$f":"'FC Projeto'!H16*$C22","v":-9929.302370507723},{"$f":"'FC Projeto'!I16*$C22","v":-12668.326020325256},{"$f":"'FC Projeto'!J16*$C22","v":-14157.139350813495},{"$f":"'FC Projeto'!K16*$C22","v":-15138.426114866257},{"$f":"'FC Projeto'!L16*$C22","v":-15138.426114866257},{"$f":"'FC Projeto'!M16*$C22","v":-15138.426114866257},{"$f":"'FC Projeto'!N16*$C22","v":-15138.426114866257},{"$f":"'FC Projeto'!O16*$C22","v":-15138.426114866257},{"$f":"'FC Projeto'!P16*$C22","v":-15138.426114866257},{"$f":"'FC Projeto'!Q16*$C22","v":-15138.426114866257},{"$f":"'FC Projeto'!R16*$C22","v":-15138.426114866257},{"$f":"'FC Projeto'!S16*$C22","v":-15138.426114866257},{"$f":"'FC Projeto'!T16*$C22","v":-15138.426114866257},{"$f":"'FC Projeto'!U16*$C22","v":-15138.426114866257},{"$f":"'FC Projeto'!V16*$C22","v":-15138.426114866257},{"$f":"'FC Projeto'!W16*$C22","v":-15138.426114866257},{"$f":"'FC Projeto'!X16*$C22","v":-15138.426114866257},{"$f":"'FC Projeto'!Y16*$C22","v":-15138.426114866257},{"$f":"'FC Projeto'!Z16*$C22","v":-15138.426114866257},{"$f":"'FC Projeto'!AA16*$C22","v":-15138.426114866257},{"$f":"'FC Projeto'!AB16*$C22","v":-15138.426114866257},{"$f":"'FC Projeto'!AC16*$C22","v":-15138.426114866257},{"$f":"'FC Projeto'!AD16*$C22","v":-15138.426114866257},{"$f":"'FC Projeto'!AE16*$C22","v":-15138.426114866257},{"$f":"'FC Projeto'!AF16*$C22","v":-15138.426114866257},{"$f":"'FC Projeto'!AG16*$C22","v":-15138.426114866257},{"$f":"'FC Projeto'!AH16*$C22","v":-15138.426114866257},{"$f":"'FC Projeto'!AI16*$C22","v":-15138.426114866257},{"$f":"'FC Projeto'!AJ16*$C22","v":-15138.426114866257},{"$f":"'FC Projeto'!AK16*$C22","v":-15138.426114866257},{"$f":"'FC Projeto'!AL16*$C22","v":-15138.426114866257}]
[null,"Impostos Indiretos",0.5,-508332.90349034971,{"$f":"'FC Projeto'!D46*$C23","v":0},{"$f":"'FC Projeto'!E46*$C23","v":0},{"$f":"'FC Projeto'!F46*$C23","v":0},{"$f":"'FC Projeto'!G46*$C23","v":-1642.4957915861146},{"$f":"'FC Projeto'!H46*$C23","v":0},{"$f":"'FC Projeto'!I46*$C23","v":-4730.0577155299734},{"$f":"'FC Projeto'!J46*$C23","v":-5533.6235663998532},{"$f":"'FC Projeto'!K46*$C23","v":-7095.0970245541457},{"$f":"'FC Projeto'!L46*$C23","v":0},{"$f":"'FC Projeto'!M46*$C23","v":-6548.1423801953442},{"$f":"'FC Projeto'!N46*$C23","v":-17210.371005740672},{"$f":"'FC Projeto'!O46*$C23","v":-20926.572958928384},{"$f":"'FC Projeto'!P46*$C23","v":-20682.017057367877},{"$f":"'FC Projeto'!Q46*$C23","v":-20243.301709849089},{"$f":"'FC Projeto'!R46*$C23","v":-19661.185246621848},{"$f":"'FC Projeto'!S46*$C23","v":-19083.103619725855},{"$f":"'FC Projeto'!T46*$C23","v":-18460.450791141258},{"$f":"'FC Projeto'!U46*$C23","v":-18509.05682916112},{"$f":"'FC Projeto'!V46*$C23","v":-19142.502434578717},{"$f":"'FC Projeto'!W46*$C23","v":-18896.125018364583},{"$f":"'FC Projeto'!X46*$C23","v":-18505.67760251887},{"$f":"'FC Projeto'!Y46*$C23","v":-18304.515795343708},{"$f":"'FC Projeto'!Z46*$C23","v":-19114.034565507991},{"$f":"'FC Projeto'!AA46*$C23","v":-19482.270053630535},{"$f":"'FC Projeto'!AB46*$C23","v":-19564.604294101227},{"$f":"'FC Projeto'!AC46*$C23","v":-19731.425357037981},{"$f":"'FC Projeto'!AD46*$C23","v":-19759.979505295509},{"$f":"'FC Projeto'!AE46*$C23","v":-19880.403538835246},{"$f":"'FC Projeto'!AF46*$C23","v":-19912.649218236395},{"$f":"'FC Projeto'!AG46*$C23","v":-19526.183746176161},{"$f":"'FC Projeto'!AH46*$C23","v":-19109.276830001621},{"$f":"'FC Projeto'!AI46*$C23","v":-18793.61280672071},{"$f":"'FC Projeto'!AJ46*$C23","v":-19223.374140560336},{"$f":"'FC Projeto'!AK46*$C23","v":-19482.3260877149},{"$f":"'FC Projeto'!AL46*$C23","v":-19578.466798923713}]
[null,"Taxa de Desconto Social Estimada*",0,{"$f":"SUM(E24:AM24)","v":{"$error":"#REF!"}},{"$f":"-(E18+E21)*$C24","v":{"$error":"#REF!"}},{"$f":"-(F18+F21)*$C24","v":{"$error":"#REF!"}},{"$error":"#REF!"},{"$error":"#REF!"},{"$error":"#REF!"},{"$error":"#REF!"},{"$error":"#REF!"},{"$error":"#REF!"},{"$error":"#REF!"},{"$error":"#REF!"},{"$error":"#REF!"},{"$error":"#REF!"},{"$error":"#REF!"},{"$error":"#REF!"},{"$error":"#REF!"},{"$error":"#REF!"},{"$error":"#REF!"},{"$error":"#REF!"},{"$error":"#REF!"},{"$error":"#REF!"},{"$error":"#REF!"},{"$error":"#REF!"},{"$error":"#REF!"},{"$error":"#REF!"},{"$error":"#REF!"},{"$error":"#REF!"},{"$error":"#REF!"},{"$error":"#REF!"},{"$error":"#REF!"},{"$error":"#REF!"},{"$error":"#REF!"},{"$error":"#REF!"},{"$error":"#REF!"},{"$error":"#REF!"},{"$error":"#REF!"}]
[null,"TOTAL",null,{"$f":"D17+D20","v":{"$error":"#REF!"}},{"$f":"E17+E20","v":{"$error":"#REF!"}},{"$f":"F17+F20","v":{"$error":"#REF!"}},{"$f":"G17+G20","v":{"$error":"#REF!"}},{"$error":"#REF!"},{"$error":"#REF!"},{"$error":"#REF!"},{"$error":"#REF!"},{"$error":"#REF!"},{"$error":"#REF!"},{"$error":"#REF!"},{"$error":"#REF!"},{"$error":"#REF!"},{"$error":"#REF!"},{"$error":"#REF!"},{"$error":"#REF!"},{"$error":"#REF!"},{"$error":"#REF!"},{"$error":"#REF!"},{"$error":"#REF!"},{"$error":"#REF!"},{"$error":"#REF!"},{"$error":"#REF!"},{"$error":"#REF!"},{"$error":"#REF!"},{"$error":"#REF!"},{"$error":"#REF!"},{"$error":"#REF!"},{"$error":"#REF!"},{"$error":"#REF!"},{"$error":"#REF!"},{"$error":"#REF!"},{"$error":"#REF!"},{"$error":"#REF!"},{"$error":"#REF!"},{"$error":"#REF!"}]
[]
[]
[null,"Resultado Capex",null,"TOTAL","Ano 0","Ano 1","Ano 2","Ano 3","Ano 4","Ano 5","Ano 6","Ano 7","Ano 8","Ano 9","Ano 10","Ano 11","Ano 12","Ano 13","Ano 14","Ano 15","Ano 16","Ano 17","Ano 18","Ano 19","Ano 20","Ano 21","Ano 22","Ano 23","Ano 24","Ano 25","Ano 26","Ano 27","Ano 28","Ano 29","Ano 30","Ano 31","Ano 32","Ano 33","Ano 34"]
[null,"Total",null,{"$f":"D3-D17","v":{"$error":"#REF!"}},{"$f":"E3-E17","v":{"$error":"#REF!"}},{"$f":"F3-F17","v":{"$error":"#REF!"}},{"$f":"G3-G17","v":{"$error":"#REF!"}},{"$error":"#REF!"},{"$error":"#REF!"},{"$error":"#REF!"},{"$error":"#REF!"},{"$error":"#REF!"},{"$error":"#REF!"},{"$error":"#REF!"},{"$error":"#REF!"},{"$error":"#REF!"},{"$error":"#REF!"},{"$error":"#REF!"},{"$error":"#REF!"},{"$error":"#REF!"},{"$error":"#REF!"},{"$error":"#REF!"},{"$error":"#REF!"},{"$error":"#REF!"},{"$error":"#REF!"},{"$error":"#REF!"},{"$error":"#REF!"},{"$error":"#REF!"},{"$error":"#REF!"},{"$error":"#REF!"},{"$error":"#REF!"},{"$error":"#REF!"},{"$error":"#REF!"},{"$error":"#REF!"},{"$error":"#REF!"},{"$error":"#REF!"},{"$error":"#REF!"},{"$error":"#REF!"},{"$error":"#REF!"}]
[null,"VPL",null,{"$f":"SUM(E30:AM30)","v":{"$error":"#REF!"}},{"$f":"E29/E49","v":{"$error":"#REF!"}},{"$error":"#REF!"},{"$error":"#REF!"},{"$error":"#REF!"},{"$error":"#REF!"},{"$error":"#REF!"},{"$error":"#REF!"},{"$error":"#REF!"},{"$error":"#REF!"},{"$error":"#REF!"},{"$error":"#REF!"},{"$error":"#REF!"},{"$error":"#REF!"},{"$error":"#REF!"},{"$error":"#REF!"},{"$error":"#REF!"},{"$error":"#REF!"},{"$error":"#REF!"},{"$error":"#REF!"},{"$error":"#REF!"},{"$error":"#REF!"},{"$error":"#REF!"},{"$error":"#REF!"},{"$error":"#REF!"},{"$error":"#REF!"},{"$error":"#REF!"},{"$error":"#REF!"},{"$error":"#REF!"},{"$error":"#REF!"},{"$error":"#REF!"},{"$error":"#REF!"},{"$error":"#REF!"},{"$error":"#REF!"},{"$error":"#REF!"},{"$error":"#REF!"}]
[null,"% de Economia Total",null,{"$f":"D29/D3","v":{"$error":"#REF!"}},{"$f":"IFERROR(E29/E3,0)","v":0},0,0,0,0,0,0,0,0,0,0,0,0,0,0,0,0,0,0,0,0,0,0,0,0,0,0,0,0,0,0,0,0,0,0]
[null,"% de Economia VPL",null,{"$f":"D30/D3","v":{"$error":"#REF!"}},{"$f":"IFERROR(E30/(E3/E49),0)","v":0},{"$f":"IFERROR(F30/(F3/F49),0)","v":0},0,0,0,0,0,0,0,0,0,0,0,0,0,0,0,0,0,0,0,0,0,0,0,0,0,0,0,0,0,0,0,0,0]
[]
[]
[null,"Resultado Opex",null,"TOTAL","Ano 0","Ano 1","Ano 2","Ano 3","Ano 4","Ano 5","Ano 6","Ano 7","Ano 8","Ano 9","Ano 10","Ano 11","Ano 12","Ano 13","Ano 14","Ano 15","Ano 16","Ano 17","Ano 18","Ano 19","Ano 20","Ano 21","Ano 22","Ano 23","Ano 24","Ano 25","Ano 26","Ano 27","Ano 28","Ano 29","Ano 30","Ano 31","Ano 32","Ano 33","Ano 34"]
[null,"Total",null,{"$f":"SUM(E36:AM36)","v":{"$error":"#REF!"}},{"$f":"E9-E20","v":{"$error":"#REF!"}},{"$f":"F9-F20","v":{"$error":"#REF!"}},{"$error":"#REF!"},{"$error":"#REF!"},{"$error":"#REF!"},{"$error":"#REF!"},{"$error":"#REF!"},{"$error":"#REF!"},{"$error":"#REF!"},{"$error":"#REF!"},{"$error":"#REF!"},{"$error":"#REF!"},{"$error":"#REF!"},{"$error":"#REF!"},{"$error":"#REF!"},{"$error":"#REF!"},{"$error":"#REF!"},{"$error":"#REF!"},{"$error":"#REF!"},{"$error":"#REF!"},{"$error":"#REF!"},{"$error":"#REF!"},{"$error":"#REF!"},{"$error":"#REF!"},{"$error":"#REF!"},{"$error":"#REF!"},{"$error":"#REF!"},{"$error":"#REF!"},{"$error":"#REF!"},{"$error":"#REF!"},{"$error":"#REF!"},{"$error":"#REF!"},{"$error":"#REF!"},{"$error":"#REF!"},{"$error":"#REF!"}]
[null,"VPL",null,{"$f":"SUM(E37:AM37)","v":{"$error":"#REF!"}},{"$f":"E36/E49","v":{"$error":"#REF!"}},{"$error":"#REF!"},{"$error":"#REF!"},{"$error":"#REF!"},{"$error":"#REF!"},{"$error":"#REF!"},{"$error":"#REF!"},{"$error":"#REF!"},{"$error":"#REF!"},{"$error":"#REF!"},{"$error":"#REF!"},{"$error":"#REF!"},{"$error":"#REF!"},{"$error":"#REF!"},{"$error":"#REF!"},{"$error":"#REF!"},{"$error":"#REF!"},{"$error":"#REF!"},{"$error":"#REF!"},{"$error":"#REF!"},{"$error":"#REF!"},{"$error":"#REF!"},{"$error":"#REF!"},{"$error":"#REF!"},{"$error":"#REF!"},{"$error":"#REF!"},{"$error":"#REF!"},{"$error":"#REF!"},{"$error":"#REF!"},{"$error":"#REF!"},{"$error":"#REF!"},{"$error":"#REF!"},{"$error":"#REF!"},{"$error":"#REF!"},{"$error":"#REF!"}]
[null,"% de Economia Total",null,{"$f":"D36/D9","v":{"$error":"#REF!"}},{"$f":"IFERROR(E36/E9,0)","v":0},{"$f":"IFERROR(F36/F9,0)","v":0},0,0,0,0,0,0,0,0,0,0,0,0,0,0,0,0,0,0,0,0,0,0,0,0,0,0,0,0,0,0,0,0,0]
[null,"% de Economia VPL",null,{"$f":"D37/D52","v":{"$error":"#REF!"}},{"$f":"IFERROR(E37/(E9/E49),0)","v":0},0,0,0,0,0,0,0,0,0,0,0,0,0,0,0,0,0,0,0,0,0,0,0,0,0,0,0,0,0,0,0,0,0,0]
[]
[null,"Total",null,"TOTAL","Ano 0","Ano 1","Ano 2","Ano 3","Ano 4","Ano 5","Ano 6","Ano 7","Ano 8","Ano 9","Ano 10","Ano 11","Ano 12","Ano 13","Ano 14","Ano 15","Ano 16","Ano 17","Ano 18","Ano 19","Ano 20","Ano 21","Ano 22","Ano 23","Ano 24","Ano 25","Ano 26","Ano 27","Ano 28","Ano 29","Ano 30","Ano 31","Ano 32","Ano 33","Ano 34"]
[null,"Total",null,{"$f":"D29+D36","v":{"$error":"#REF!"}},{"$f":"E29+E36","v":{"$error":"#REF!"}},{"$f":"F29+F36","v":{"$error":"#REF!"}},{"$error":"#REF!"},{"$error":"#REF!"},{"$error":"#REF!"},{"$error":"#REF!"},{"$error":"#REF!"},{"$error":"#REF!"},{"$error":"#REF!"},{"$error":"#REF!"},{"$error":"#REF!"},{"$error":"#REF!"},{"$error":"#REF!"},{"$error":"#REF!"},{"$error":"#REF!"},{"$error":"#REF!"},{"$error":"#REF!"},{"$error":"#REF!"},{"$error":"#REF!"},{"$error":"#REF!"},{"$error":"#REF!"},{"$error":"#REF!"},{"$error":"#REF!"},{"$error":"#REF!"},{"$error":"#REF!"},{"$error":"#REF!"},{"$error":"#REF!"},{"$error":"#REF!"},{"$error":"#REF!"},{"$error":"#REF!"},{"$error":"#REF!"},{"$error":"#REF!"},{"$error":"#REF!"},{"$error":"#REF!"},{"$error":"#REF!"}]
[null,"VPL",null,{"$f":"SUM(E43:AM43)","v":{"$error":"#REF!"}},{"$f":"E42/E49","v":{"$error":"#REF!"}},{"$f":"F42/F49","v":{"$error":"#REF!"}},{"$f":"G42/G49","v":{"$error":"#REF!"}},{"$error":"#REF!"},{"$error":"#REF!"},{"$error":"#REF!"},{"$error":"#REF!"},{"$error":"#REF!"},{"$error":"#REF!"},{"$error":"#REF!"},{"$error":"#REF!"},{"$error":"#REF!"},{"$error":"#REF!"},{"$error":"#REF!"},{"$error":"#REF!"},{"$error":"#REF!"},{"$error":"#REF!"},{"$error":"#REF!"},{"$error":"#REF!"},{"$error":"#REF!"},{"$error":"#REF!"},{"$error":"#REF!"},{"$error":"#REF!"},{"$error":"#REF!"},{"$error":"#REF!"},{"$error":"#REF!"},{"$error":"#REF!"},{"$error":"#REF!"},{"$error":"#REF!"},{"$error":"#REF!"},{"$error":"#REF!"},{"$error":"#REF!"},{"$error":"#REF!"},{"$error":"#REF!"},{"$error":"#REF!"}]
[null,"% de Economia Total",null,{"$f":"D42/D14","v":{"$error":"#REF!"}},{"$f":"E42/E14","v":{"$error":"#REF!"}},{"$f":"F42/F14","v":{"$error":"#REF!"}},{"$f":"G42/G14","v":{"$error":"#REF!"}},{"$error":"#REF!"},{"$error":"#REF!"},{"$error":"#REF!"},{"$error":"#REF!"},{"$error":"#REF!"},{"$error":"#REF!"},{"$error":"#REF!"},{"$error":"#REF!"},{"$error":"#REF!"},{"$error":"#REF!"},{"$error":"#REF!"},{"$error":"#REF!"},{"$error":"#REF!"},{"$error":"#REF!"},{"$error":"#REF!"},{"$error":"#REF!"},{"$error":"#REF!"},{"$error":"#REF!"},{"$error":"#REF!"},{"$error":"#REF!"},{"$error":"#REF!"},{"$error":"#REF!"},{"$error":"#REF!"},{"$error":"#REF!"},{"$error":"#REF!"},{"$error":"#REF!"},{"$error":"#REF!"},{"$error":"#REF!"},{"$error":"#REF!"},{"$error":"#REF!"},{"$error":"#REF!"},{"$error":"#REF!"}]
[null,"% de Economia VPL",null,{"$f":"D43/D53","v":{"$error":"#REF!"}},{"$f":"IFERROR(E43/(E25/E49),0)","v":0},{"$f":"IFERROR(F43/(F25/F49),0)","v":0},0,0,0,0,0,0,0,0,0,0,0,0,0,0,0,0,0,0,0,0,0,0,0,0,0,0,0,0,0,0,0,0,0]
[]
[]
[null,null,null,"Ano",0,1,2,3,4,5,6,7,8,9,10,11,12,13,14,15,16,17,18,19,20,21,22,23,24,25,26,27,28,29,30,31,32,33,34]
[null,null,null,"Fator VPL",{"$f":"('Painel de Controle'!#REF!+1)^(E48)","v":{"$error":"#REF!"}},{"$f":"('Painel de Controle'!#REF!+1)^(F48)","v":{"$error":"#REF!"}},{"$f":"('Painel de Controle'!#REF!+1)^(G48)","v":{"$error":"#REF!"}},{"$f":"('Painel de Controle'!#REF!+1)^(H48)","v":{"$error":"#REF!"}},{"$f":"('Painel de Controle'!#REF!+1)^(I48)","v":{"$error":"#REF!"}},{"$f":"('Painel de Controle'!#REF!+1)^(J48)","v":{"$error":"#REF!"}},{"$f":"('Painel de Controle'!#REF!+1)^(K48)","v":{"$error":"#REF!"}},{"$f":"('Painel de Controle'!#REF!+1)^(L48)","v":{"$error":"#REF!"}},{"$f":"('Painel de Controle'!#REF!+1)^(M48)","v":{"$error":"#REF!"}},{"$f":"('Painel de Controle'!#REF!+1)^(N48)","v":{"$error":"#REF!"}},{"$f":"('Painel de Controle'!#REF!+1)^(O48)","v":{"$error":"#REF!"}},{"$f":"('Painel de Controle'!#REF!+1)^(P48)","v":{"$error":"#REF!"}},{"$f":"('Painel de Controle'!#REF!+1)^(Q48)","v":{"$error":"#REF!"}},{"$f":"('Painel de Controle'!#REF!+1)^(R48)","v":{"$error":"#REF!"}},{"$f":"('Painel de Controle'!#REF!+1)^(S48)","v":{"$error":"#REF!"}},{"$f":"('Painel de Controle'!#REF!+1)^(T48)","v":{"$error":"#REF!"}},{"$f":"('Painel de Controle'!#REF!+1)^(U48)","v":{"$error":"#REF!"}},{"$f":"('Painel de Controle'!#REF!+1)^(V48)","v":{"$error":"#REF!"}},{"$f":"('Painel de Controle'!#REF!+1)^(W48)","v":{"$error":"#REF!"}},{"$f":"('Painel de Controle'!#REF!+1)^(X48)","v":{"$error":"#REF!"}},{"$f":"('Painel de Controle'!#REF!+1)^(Y48)","v":{"$error":"#REF!"}},{"$f":"('Painel de Controle'!#REF!+1)^(Z48)","v":{"$error":"#REF!"}},{"$f":"('Painel de Controle'!#REF!+1)^(AA48)","v":{"$error":"#REF!"}},{"$f":"('Painel de Controle'!#REF!+1)^(AB48)","v":{"$error":"#REF!"}},{"$f":"('Painel de Controle'!#REF!+1)^(AC48)","v":{"$error":"#REF!"}},{"$f":"('Painel de Controle'!#REF!+1)^(AD48)","v":{"$error":"#REF!"}},{"$f":"('Painel de Controle'!#REF!+1)^(AE48)","v":{"$error":"#REF!"}},{"$f":"('Painel de Controle'!#REF!+1)^(AF48)","v":{"$error":"#REF!"}},{"$f":"('Painel de Controle'!#REF!+1)^(AG48)","v":{"$error":"#REF!"}},{"$f":"('Painel de Controle'!#REF!+1)^(AH48)","v":{"$error":"#REF!"}},{"$f":"('Painel de Controle'!#REF!+1)^(AI48)","v":{"$error":"#REF!"}},{"$f":"('Painel de Controle'!#REF!+1)^(AJ48)","v":{"$error":"#REF!"}},{"$f":"('Painel de Controle'!#REF!+1)^(AK48)","v":{"$error":"#REF!"}},{"$f":"('Painel de Controle'!#REF!+1)^(AL48)","v":{"$error":"#REF!"}},{"$f":"('Painel de Controle'!#REF!+1)^(AM48)","v":{"$error":"#REF!"}}]
[]
[null,"Capex Público VPL",null,{"$f":"SUM(E51:AM51)","v":{"$error":"#REF!"}},{"$f":"E3*E49","v":{"$error":"#REF!"}},{"$f":"F3*F49","v":{"$error":"#REF!"}},{"$f":"G3*G49","v":{"$error":"#REF!"}},{"$error":"#REF!"},{"$error":"#REF!"},{"$error":"#REF!"},{"$error":"#REF!"},{"$error":"#REF!"},{"$error":"#REF!"},{"$error":"#REF!"},{"$error":"#REF!"},{"$error":"#REF!"},{"$error":"#REF!"},{"$error":"#REF!"},{"$error":"#REF!"},{"$error":"#REF!"},{"$error":"#REF!"},{"$error":"#REF!"},{"$error":"#REF!"},{"$error":"#REF!"},{"$error":"#REF!"},{"$error":"#REF!"},{"$error":"#REF!"},{"$error":"#REF!"},{"$error":"#REF!"},{"$error":"#REF!"},{"$error":"#REF!"},{"$error":"#REF!"},{"$error":"#REF!"},{"$error":"#REF!"},{"$error":"#REF!"},{"$error":"#REF!"},{"$error":"#REF!"},{"$error":"#REF!"},{"$error":"#REF!"}]
[null,"Opex Público VPL",null,{"$f":"SUM(E52:AM52)","v":{"$error":"#REF!"}},{"$f":"E9*E49","v":{"$error":"#REF!"}},{"$f":"F9*F49","v":{"$error":"#REF!"}},{"$f":"G9*G49","v":{"$error":"#REF!"}},{"$error":"#REF!"},{"$error":"#REF!"},{"$error":"#REF!"},{"$error":"#REF!"},{"$error":"#REF!"},{"$error":"#REF!"},{"$error":"#REF!"},{"$error":"#REF!"},{"$error":"#REF!"},{"$error":"#REF!"},{"$error":"#REF!"},{"$error":"#REF!"},{"$error":"#REF!"},{"$error":"#REF!"},{"$error":"#REF!"},{"$error":"#REF!"},{"$error":"#REF!"},{"$error":"#REF!"},{"$error":"#REF!"},{"$error":"#REF!"},{"$error":"#REF!"},{"$error":"#REF!"},{"$error":"#REF!"},{"$error":"#REF!"},{"$error":"#REF!"},{"$error":"#REF!"},{"$error":"#REF!"},{"$error":"#REF!"},{"$error":"#REF!"},{"$error":"#REF!"},{"$error":"#REF!"},{"$error":"#REF!"}]
[null,null,null,{"$f":"D52+D51","v":{"$error":"#REF!"}}]
[]
[null,"*Fonte:"]
[null,"https://documents1.worldbank.org/curated/en/452461468020657543/pdf/416070REPLACEM00Box321425B00PUBLIC0.pdf"]