BEGIN:VCALENDAR
VERSION:2.0
PRODID:-//Plone.org//NONSGML plone.app.event//EN
X-WR-TIMEZONE:America/Sao_Paulo
BEGIN:VEVENT
SUMMARY:20ª Reunião Ordinária do Conselho Consultivo do Setor Privado
DTSTART;TZID=America/Sao_Paulo;VALUE=DATE-TIME:20220712T130000
DTEND;TZID=America/Sao_Paulo;VALUE=DATE-TIME:20220712T153000
DTSTAMP;VALUE=DATE-TIME:20260419T110745Z
UID:deec3041431e4ffb9f250e00b2282b30
CONTACT:secamex@economia.gov.br
CREATED;VALUE=DATE-TIME:20220629T200358Z
LAST-MODIFIED;VALUE=DATE-TIME:20220629T200423Z
LOCATION:Microsoft Teams
URL:https://www.gov.br/mdic/pt-br/assuntos/camex/calendario-de-eventos/20a
 -reuniao-ordinaria-do-conselho-consultivo-do-setor-privado
END:VEVENT
BEGIN:VTIMEZONE
TZID:America/Sao_Paulo
X-LIC-LOCATION:America/Sao_Paulo
BEGIN:STANDARD
DTSTART;VALUE=DATE-TIME:20220219T230000
TZNAME:BRT
TZOFFSETFROM:-0200
TZOFFSETTO:-0300
END:STANDARD
END:VTIMEZONE
END:VCALENDAR
