Workbook

Sheet Dados Brutos
A1: Código IBGE 6 | B1: Código IBGE 7 | C1: Municipio | D1: UF | E1: Região | F1: Capital? | G1: População Estimada IBGE 2025 (Data de referência: 13/01/26) | H1: População 2025 sem outliers (teto máximo de 200.000 para pontuação) | I1: IDHM 2010 (vide notas e outliers) | J1: Receita Corrente Bruta 2024 | K1: Receita Corrente Bruta per capita 2024 (valores em branco foram substituídos pela média 8.413) | L1: Receita Corrente Bruta per capita 2024 sem outliers (outliers acima de 14.712,97 e menores que 384,69) | M1: Índice de Vulnerabilidade Institucional dos Conselhos de Direitos da Pessoa com Deficiência - IVIC PCD 2023 | N1: Índice de Capacidade Institucional de Pessoas com Deficiência - ICI PCD 2023
A2: 110001 | B2: 1100015 | C2: Alta Floresta D'Oeste | D2: RO | E2: Norte | F2: Não | G2: 22787 | H2: 22787 | I2: 0.641 | J2: 1.473021e+08 | K2: 6464.304 | L2: 6464.304 | N2: 0
A3: 110002 | B3: 1100023 | C3: Ariquemes | D3: RO | E3: Norte | F3: Não | G3: 109170 | H3: 109170 | I3: 0.702 | J3: 5.3301456e+08 | K3: 4882.427 | L3: 4882.427 | N3: 0.125
A4: 110003 | B4: 1100031 | C4: Cabixi | D4: RO | E4: Norte | F4: Não | G4: 5664 | H4: 5664 | I4: 0.65 | J4: 51344021 | K4: 9064.9754 | L4: 9064.9754 | N4: 0.25
A5: 110004 | B5: 1100049 | C5: Cacoal | D5: RO | E5: Norte | F5: Não | G5: 98280 | H5: 98280 | I5: 0.718 | J5: 4.31095e+08 | K5: 4386.3961 | L5: 4386.3961 | M5: 0.72222222 | N5: 0.375
A6: 110005 | B6: 1100056 | C6: Cerejeiras | D6: RO | E6: Norte | F6: Não | G6: 16966 | H6: 16966 | I6: 0.692 | J6: 1.216614e+08 | K6: 7170.8947 | L6: 7170.8947 | N6: 0.125
A7: 110006 | B7: 1100064 | C7: Colorado do Oeste | D7: RO | E7: Norte | F7: Não | G7: 16508 | H7: 16508 | I7: 0.685 | J7: 1.0270178e+08 | K7: 6221.3339 | L7: 6221.3339 | N7: 0.125
A8: 110007 | B8: 1100072 | C8: Corumbiara | D8: RO | E8: Norte | F8: Não | G8: 7968 | H8: 7968 | I8: 0.613 | J8: 80671276 | K8: 10124.407 | L8: 10124.407 | N8: 0.125
A9: 110008 | B9: 1100080 | C9: Costa Marques | D9: RO | E9: Norte | F9: Não | G9: 13510 | H9: 13510 | I9: 0.611 | J9: 85671425 | K9: 6341.3342 | L9: 6341.3342 | N9: 0.25
A10: 110009 | B10: 1100098 | C10: Espigão D'Oeste | D10: RO | E10: Norte | F10: Não | G10: 32842 | H10: 32842 | I10: 0.672 | J10: 1.5831805e+08 | K10: 4820.5972 | L10: 4820.5972 | N10: 0.125
A11: 110010 | B11: 1100106 | C11: Guajará-Mirim | D11: RO | E11: Norte | F11: Não | G11: 43594 | H11: 43594 | I11: 0.657 | J11: 2.134619e+08 | K11: 4896.5889 | L11: 4896.5889 | N11: 0.375
A12: 110011 | B12: 1100114 | C12: Jaru | D12: RO | E12: Norte | F12: Não | G12: 55682 | H12: 55682 | I12: 0.689 | J12: 3.1168273e+08 | K12: 5597.5491 | L12: 5597.5491 | N12: 0
A13: 110012 | B13: 1100122 | C13: Ji-Paraná | D13: RO | E13: Norte | F13: Não | G13: 140101 | H13: 140101 | I13: 0.714 | J13: 5.7485828e+08 | K13: 4103.1704 | L13: 4103.1704 | M13: 1.0833333 | N13: 0.5
A14: 110013 | B14: 1100130 | C14: Machadinho D'Oeste | D14: RO | E14: Norte | F14: Não | G14: 34149 | H14: 34149 | I14: 0.596 | J14: 1.8815229e+08 | K14: 5509.7453 | L14: 5509.7453 | N14: 0
A15: 110014 | B15: 1100148 | C15: Nova Brasilândia D'Oeste | D15: RO | E15: Norte | F15: Não | G15: 16374 | H15: 16374 | I15: 0.643 | J15: 1.20864e+08 | K15: 7381.4585 | L15: 7381.4585 | N15: 0.25
A16: 110015 | B16: 1100155 | C16: Ouro Preto do Oeste | D16: RO | E16: Norte | F16: Não | G16: 38684 | H16: 38684 | I16: 0.682 | J16: 2.0098713e+08 | K16: 5195.6138 | L16: 5195.6138 | N16: 0.25
A17: 110018 | B17: 1100189 | C17: Pimenta Bueno | D17: RO | E17: Norte | F17: Não | G17: 39220 | H17: 39220 | I17: 0.71 | J17: 2.2170034e+08 | K17: 5652.737 | L17: 5652.737 | N17: 0.125
A18: 110020 | B18: 1100205 | C18: Porto Velho | D18: RO | E18: Norte | F18: Sim | G18: 517709 | H18: 200000 | I18: 0.736 | J18: 2.7553816e+09 | K18: 13776.908 | L18: 13776.908 | N18: 0.125
A19: 110025 | B19: 1100254 | C19: Presidente Médici | D19: RO | E19: Norte | F19: Não | G19: 20443 | H19: 20443 | I19: 0.664 | J19: 1.0608942e+08 | K19: 5189.5233 | L19: 5189.5233 | N19: 0.25
A20: 110026 | B20: 1100262 | C20: Rio Crespo | D20: RO | E20: Norte | F20: Não | G20: 3767 | H20: 3767 | I20: 0.643 | J20: 47739012 | K20: 12672.953 | L20: 12672.953 | N20: 0.25
A21: 110028 | B21: 1100288 | C21: Rolim de Moura | D21: RO | E21: Norte | F21: Não | G21: 62959 | H21: 62959 | I21: 0.7 | J21: 2.991926e+08 | K21: 4752.1816 | L21: 4752.1816 | N21: 0.125
A22: 110029 | B22: 1100296 | C22: Santa Luzia D'Oeste | D22: RO | E22: Norte | F22: Não | G22: 7837 | H22: 7837 | I22: 0.67 | J22: 61881961 | K22: 7896.1288 | L22: 7896.1288 | N22: 0.25
A23: 110030 | B23: 1100304 | C23: Vilhena | D23: RO | E23: Norte | F23: Não | G23: 109651 | H23: 109651 | I23: 0.731 | J23: 6.4654172e+08 | K23: 5896.3596 | L23: 5896.3596 | M23: 1.3888889 | N23: 0.375
A24: 110032 | B24: 1100320 | C24: São Miguel do Guaporé | D24: RO | E24: Norte | F24: Não | G24: 22305 | H24: 22305 | I24: 0.646 | J24: 1.5902265e+08 | K24: 7129.4621 | L24: 7129.4621 | N24: 0.125
A25: 110033 | B25: 1100338 | C25: Nova Mamoré | D25: RO | E25: Norte | F25: Não | G25: 28701 | H25: 28701 | I25: 0.587 | J25: 49025475 | K25: 1708.1452 | L25: 1708.1452 | N25: 0
A26: 110034 | B26: 1100346 | C26: Alvorada D'Oeste | D26: RO | E26: Norte | F26: Não | G26: 13720 | H26: 13720 | I26: 0.643 | J26: 85723074 | K26: 6248.0375 | L26: 6248.0375 | N26: 0.375
A27: 110037 | B27: 1100379 | C27: Alto Alegre dos Parecis | D27: RO | E27: Norte | F27: Não | G27: 12237 | H27: 12237 | I27: 0.592 | J27: 86329698 | K27: 7054.809 | L27: 7054.809 | N27: 0
A28: 110040 | B28: 1100403 | C28: Alto Paraíso | D28: RO | E28: Norte | F28: Não | G28: 17467 | H28: 17467 | I28: 0.625 | J28: 1.0486659e+08 | K28: 6003.6978 | L28: 6003.6978 | N28: 0.125
A29: 110045 | B29: 1100452 | C29: Buritis | D29: RO | E29: Norte | F29: Não | G29: 30649 | H29: 30649 | I29: 0.616 | J29: 1.5827544e+08 | K29: 5164.1305 | L29: 5164.1305 | M29: 0.86111111 | N29: 0.625
A30: 110050 | B30: 1100502 | C30: Novo Horizonte do Oeste | D30: RO | E30: Norte | F30: Não | G30: 7972 | H30: 7972 | I30: 0.634 | J30: 58188821 | K30: 7299.1496 | L30: 7299.1496 | N30: 0
A31: 110060 | B31: 1100601 | C31: Cacaulândia | D31: RO | E31: Norte | F31: Não | G31: 4292 | H31: 4292 | I31: 0.646 | J31: 50910293 | K31: 11861.671 | L31: 11861.671 | N31: 0.375
A32: 110070 | B32: 1100700 | C32: Campo Novo de Rondônia | D32: RO | E32: Norte | F32: Não | G32: 9095 | H32: 9095 | I32: 0.593 | J32: 93107942 | K32: 10237.267 | L32: 10237.267 | N32: 0.125
A33: 110080 | B33: 1100809 | C33: Candeias do Jamari | D33: RO | E33: Norte | F33: Não | G33: 24313 | H33: 24313 | I33: 0.649 | J33: 1.1747618e+08 | K33: 4831.8258 | L33: 4831.8258 | N33: 0.375
A34: 110090 | B34: 1100908 | C34: Castanheiras | D34: RO | E34: Norte | F34: Não | G34: 3450 | H34: 3450 | I34: 0.658 | J34: 39816447 | K34: 11540.999 | L34: 11540.999 | N34: 0.125
A35: 110092 | B35: 1100924 | C35: Chupinguaia | D35: RO | E35: Norte | F35: Não | G35: 10191 | H35: 10191 | I35: 0.652 | J35: 1.0140945e+08 | K35: 9950.8829 | L35: 9950.8829 | N35: 0.125
A36: 110094 | B36: 1100940 | C36: Cujubim | D36: RO | E36: Norte | F36: Não | G36: 15877 | H36: 15877 | I36: 0.612 | J36: 1.4685963e+08 | K36: 9249.8348 | L36: 9249.8348 | N36: 0
A37: 110100 | B37: 1101005 | C37: Governador Jorge Teixeira | D37: RO | E37: Norte | F37: Não | G37: 8340 | H37: 8340 | I37: 0.596 | J37: 65801312 | K37: 7889.8455 | L37: 7889.8455 | N37: 0.125
A38: 110110 | B38: 1101104 | C38: Itapuã do Oeste | D38: RO | E38: Norte | F38: Não | G38: 9228 | H38: 9228 | I38: 0.614 | J38: 69050481 | K38: 7482.7136 | L38: 7482.7136 | N38: 0.25
A39: 110120 | B39: 1101203 | C39: Ministro Andreazza | D39: RO | E39: Norte | F39: Não | G39: 6519 | H39: 6519 | I39: 0.638 | J39: 55009505 | K39: 8438.3349 | L39: 8438.3349 | N39: 0.125
A40: 110130 | B40: 1101302 | C40: Mirante da Serra | D40: RO | E40: Norte | F40: Não | G40: 9657 | H40: 9657 | I40: 0.643 | J40: 61338293 | K40: 6351.6924 | L40: 6351.6924 | N40: 0.125
...

Sheet Dados Normalizados
A1: Código IBGE 6 | B1: Código IBGE 7 | C1: Municipio | D1: UF | E1: Região | F1: Capital? | G1: População 2025 (outliers acima de 200.000. Total de 158 outliers) | H1: População 2025 normalizada | I1: IDHM 2010 (sem outliers) | J1: IDHM 2010 normalizado | K1: Receita Corrente Bruta per capita 2024 sem outliers (outliers acima de 14.712,97 e menores que 384,69) | L1: Receita municipal per capita normalizada 2024 | M1: Índice de Vulnerabilidade Institucional dos Conselhos de Direitos da Pessoa com Deficiência - IVIC PCD 2023 | N1: Índice de Vulnerabilidade Institucional dos Conselhos de Direitos da Pessoa com Deficiência - IVIC PCD 2023 normalizado (valores em branco substituídos por 0) | O1: Índice de Capacidade Institucional de Pessoas com Deficiência - ICI PCD 2023 | P1: Índice de Capacidade Institucional de Pessoas com Deficiência - ICI PCD 2023 normalizado (valores em branco substituídos por 0) | Q1: Total de Pontos | R1: Posição no Ranking
A2: 330414 | B2: 3304144 | C2: Queimados | D2: RJ | E2: Sudeste | F2: Não | G2: 149135 | H2: =(G2 - MIN(G:G))/(MAX(G:G) - MIN(G:G)) -> 0.74458181 | I2: 0.68 | J2: =(I2 - MIN(I:I))/(MAX(I:I) - MIN(I:I)) -> 0.58823529 | K2: 3798.6878 | L2: =(K2 - MIN(K:K))/(MAX(K:K) - MIN(K:K)) -> 0.2382699 | M2: 2.1666667 | N2: =IF(ISBLANK(M2), 0,(M2 - MIN(M:M))/(MAX(M:M) - MIN(M:M))) -> 0.765625 | O2: 1 | P2: =IF(ISBLANK(O2), 0,(O2 - MIN(O:O))/(MAX(O:O) - MIN(O:O))) -> 1 | Q2: =H2-J2-L2+N2+P2 -> 1.6837016 | R2: 1º
A3: 150010 | B3: 1500107 | C3: Abaetetuba | D3: PA | E3: Norte | F3: Não | G3: 172344 | H3: =(G3 - MIN(G:G))/(MAX(G:G) - MIN(G:G)) -> 0.86112562 | I3: 0.628 | J3: =(I3 - MIN(I:I))/(MAX(I:I) - MIN(I:I)) -> 0.47058824 | K3: 3632.8629 | L3: =(K3 - MIN(K:K))/(MAX(K:K) - MIN(K:K)) -> 0.22669664 | M3: 1.3611111 | N3: =IF(ISBLANK(M3), 0,(M3 - MIN(M:M))/(MAX(M:M) - MIN(M:M))) -> 0.5390625 | O3: 0.875 | P3: =IF(ISBLANK(O3), 0,(O3 - MIN(O:O))/(MAX(O:O) - MIN(O:O))) -> 0.875 | Q3: =H3-J3-L3+N3+P3 -> 1.5779032 | R3: 2º
A4: 260345 | B4: 2603454 | C4: Camaragibe | D4: PE | E4: Nordeste | F4: Não | G4: 156112 | H4: =(G4 - MIN(G:G))/(MAX(G:G) - MIN(G:G)) -> 0.77961676 | I4: 0.692 | J4: =(I4 - MIN(I:I))/(MAX(I:I) - MIN(I:I)) -> 0.61538462 | K4: 3774.6218 | L4: =(K4 - MIN(K:K))/(MAX(K:K) - MIN(K:K)) -> 0.23659028 | M4: 1.6111111 | N4: =IF(ISBLANK(M4), 0,(M4 - MIN(M:M))/(MAX(M:M) - MIN(M:M))) -> 0.609375 | O4: 1 | P4: =IF(ISBLANK(O4), 0,(O4 - MIN(O:O))/(MAX(O:O) - MIN(O:O))) -> 1 | Q4: =H4-J4-L4+N4+P4 -> 1.5370169 | R4: 3º
A5: 211220 | B5: 2112209 | C5: Timon | D5: MA | E5: Nordeste | F5: Não | G5: 182711 | H5: =(G5 - MIN(G:G))/(MAX(G:G) - MIN(G:G)) -> 0.91318343 | I5: 0.649 | J5: =(I5 - MIN(I:I))/(MAX(I:I) - MIN(I:I)) -> 0.51809955 | K5: 4324.7912 | L5: =(K5 - MIN(K:K))/(MAX(K:K) - MIN(K:K)) -> 0.27498773 | M5: 1.3611111 | N5: =IF(ISBLANK(M5), 0,(M5 - MIN(M:M))/(MAX(M:M) - MIN(M:M))) -> 0.5390625 | O5: 0.875 | P5: =IF(ISBLANK(O5), 0,(O5 - MIN(O:O))/(MAX(O:O) - MIN(O:O))) -> 0.875 | Q5: =H5-J5-L5+N5+P5 -> 1.5341586 | R5: 4º
A6: 231290 | B6: 2312908 | C6: Sobral | D6: CE | E6: Nordeste | F6: Não | G6: 200000 | H6: =(G6 - MIN(G:G))/(MAX(G:G) - MIN(G:G)) -> 1 | I6: 0.714 | J6: =(I6 - MIN(I:I))/(MAX(I:I) - MIN(I:I)) -> 0.66515837 | K6: 6804.4424 | L6: =(K6 - MIN(K:K))/(MAX(K:K) - MIN(K:K)) -> 0.44804766 | M6: 1.7222222 | N6: =IF(ISBLANK(M6), 0,(M6 - MIN(M:M))/(MAX(M:M) - MIN(M:M))) -> 0.640625 | O6: 1 | P6: =IF(ISBLANK(O6), 0,(O6 - MIN(O:O))/(MAX(O:O) - MIN(O:O))) -> 1 | Q6: =H6-J6-L6+N6+P6 -> 1.527419 | R6: 5º
A7: 150680 | B7: 1506807 | C7: Santarém | D7: PA | E7: Norte | F7: Não | G7: 200000 | H7: =(G7 - MIN(G:G))/(MAX(G:G) - MIN(G:G)) -> 1 | I7: 0.691 | J7: =(I7 - MIN(I:I))/(MAX(I:I) - MIN(I:I)) -> 0.61312217 | K7: 7440.3249 | L7: =(K7 - MIN(K:K))/(MAX(K:K) - MIN(K:K)) -> 0.4924272 | M7: 1.7222222 | N7: =IF(ISBLANK(M7), 0,(M7 - MIN(M:M))/(MAX(M:M) - MIN(M:M))) -> 0.640625 | O7: 0.875 | P7: =IF(ISBLANK(O7), 0,(O7 - MIN(O:O))/(MAX(O:O) - MIN(O:O))) -> 0.875 | Q7: =H7-J7-L7+N7+P7 -> 1.4100756 | R7: 6º
A8: 351630 | B8: 3516309 | C8: Francisco Morato | D8: SP | E8: Sudeste | F8: Não | G8: 171476 | H8: =(G8 - MIN(G:G))/(MAX(G:G) - MIN(G:G)) -> 0.85676696 | I8: 0.703 | J8: =(I8 - MIN(I:I))/(MAX(I:I) - MIN(I:I)) -> 0.64027149 | K8: 3688.4208 | L8: =(K8 - MIN(K:K))/(MAX(K:K) - MIN(K:K)) -> 0.23057414 | M8: 1.8333333 | N8: =IF(ISBLANK(M8), 0,(M8 - MIN(M:M))/(MAX(M:M) - MIN(M:M))) -> 0.671875 | O8: 0.75 | P8: =IF(ISBLANK(O8), 0,(O8 - MIN(O:O))/(MAX(O:O) - MIN(O:O))) -> 0.75 | Q8: =H8-J8-L8+N8+P8 -> 1.4077963 | R8: 7º
A9: 150420 | B9: 1504208 | C9: Marabá | D9: PA | E9: Norte | F9: Não | G9: 200000 | H9: =(G9 - MIN(G:G))/(MAX(G:G) - MIN(G:G)) -> 1 | I9: 0.668 | J9: =(I9 - MIN(I:I))/(MAX(I:I) - MIN(I:I)) -> 0.56108597 | K9: 8599.4826 | L9: =(K9 - MIN(K:K))/(MAX(K:K) - MIN(K:K)) -> 0.5733272 | M9: 2.25 | N9: =IF(ISBLANK(M9), 0,(M9 - MIN(M:M))/(MAX(M:M) - MIN(M:M))) -> 0.7890625 | O9: 0.75 | P9: =IF(ISBLANK(O9), 0,(O9 - MIN(O:O))/(MAX(O:O) - MIN(O:O))) -> 0.75 | Q9: =H9-J9-L9+N9+P9 -> 1.4046493 | R9: 8º
A10: 410940 | B10: 4109401 | C10: Guarapuava | D10: PR | E10: Sul | F10: Não | G10: 189630 | H10: =(G10 - MIN(G:G))/(MAX(G:G) - MIN(G:G)) -> 0.94792713 | I10: 0.731 | J10: =(I10 - MIN(I:I))/(MAX(I:I) - MIN(I:I)) -> 0.70361991 | K10: 5274.4643 | L10: =(K10 - MIN(K:K))/(MAX(K:K) - MIN(K:K)) -> 0.34126736 | M10: 1.6666667 | N10: =IF(ISBLANK(M10), 0,(M10 - MIN(M:M))/(MAX(M:M) - MIN(M:M))) -> 0.625 | O10: 0.875 | P10: =IF(ISBLANK(O10), 0,(O10 - MIN(O:O))/(MAX(O:O) - MIN(O:O))) -> 0.875 | Q10: =H10-J10-L10+N10+P10 -> 1.4030399 | R10: 9º
A11: 330250 | B11: 3302502 | C11: Magé | D11: RJ | E11: Sudeste | F11: Não | G11: 200000 | H11: =(G11 - MIN(G:G))/(MAX(G:G) - MIN(G:G)) -> 1 | I11: 0.709 | J11: =(I11 - MIN(I:I))/(MAX(I:I) - MIN(I:I)) -> 0.65384615 | K11: 6181.1057 | L11: =(K11 - MIN(K:K))/(MAX(K:K) - MIN(K:K)) -> 0.40454372 | M11: 1.5277778 | N11: =IF(ISBLANK(M11), 0,(M11 - MIN(M:M))/(MAX(M:M) - MIN(M:M))) -> 0.5859375 | O11: 0.875 | P11: =IF(ISBLANK(O11), 0,(O11 - MIN(O:O))/(MAX(O:O) - MIN(O:O))) -> 0.875 | Q11: =H11-J11-L11+N11+P11 -> 1.4025476 | R11: 10º
A12: 260290 | B12: 2602902 | C12: Cabo de Santo Agostinho | D12: PE | E12: Nordeste | F12: Não | G12: 200000 | H12: =(G12 - MIN(G:G))/(MAX(G:G) - MIN(G:G)) -> 1 | I12: 0.686 | J12: =(I12 - MIN(I:I))/(MAX(I:I) - MIN(I:I)) -> 0.60180995 | K12: 6502.832 | L12: =(K12 - MIN(K:K))/(MAX(K:K) - MIN(K:K)) -> 0.42699766 | M12: 1.7222222 | N12: =IF(ISBLANK(M12), 0,(M12 - MIN(M:M))/(MAX(M:M) - MIN(M:M))) -> 0.640625 | O12: 0.75 | P12: =IF(ISBLANK(O12), 0,(O12 - MIN(O:O))/(MAX(O:O) - MIN(O:O))) -> 0.75 | Q12: =H12-J12-L12+N12+P12 -> 1.3618174 | R12: 11º
A13: 230765 | B13: 2307650 | C13: Maracanaú | D13: CE | E13: Nordeste | F13: Não | G13: 200000 | H13: =(G13 - MIN(G:G))/(MAX(G:G) - MIN(G:G)) -> 1 | I13: 0.686 | J13: =(I13 - MIN(I:I))/(MAX(I:I) - MIN(I:I)) -> 0.60180995 | K13: 7178.5983 | L13: =(K13 - MIN(K:K))/(MAX(K:K) - MIN(K:K)) -> 0.47416077 | M13: 1.8333333 | N13: =IF(ISBLANK(M13), 0,(M13 - MIN(M:M))/(MAX(M:M) - MIN(M:M))) -> 0.671875 | O13: 0.75 | P13: =IF(ISBLANK(O13), 0,(O13 - MIN(O:O))/(MAX(O:O) - MIN(O:O))) -> 0.75 | Q13: =H13-J13-L13+N13+P13 -> 1.3459043 | R13: 12º
... A224: 220550 | B224: 2205508 | C224: José de Freitas | D224: PI | E224: Nordeste | F224: Não | G224: 44689 | H224: =(G224 - MIN(G:G))/(MAX(G:G) - MIN(G:G)) -> 0.22010706 | I224: 0.618 | J224: =(I224 - MIN(I:I))/(MAX(I:I) - MIN(I:I)) -> 0.4479638 | K224: 4014.6938 | L224: =(K224 - MIN(K:K))/(MAX(K:K) - MIN(K:K)) -> 0.2533454 | M224: 1.3611111 | N224: =IF(ISBLANK(M224), 0,(M224 - MIN(M:M))/(MAX(M:M) - MIN(M:M))) -> 0.5390625 | O224: 0.5 | P224: =IF(ISBLANK(O224), 0,(O224 - MIN(O:O))/(MAX(O:O) - MIN(O:O))) -> 0.5 | Q224: =H224-J224-L224+N224+P224 -> 0.55786036 | R224: 223º
A225: 291360 | B225: 2913606 | C225: Ilhéus | D225: BA | E225: Nordeste | F225: Não | G225: 189149 | H225: =(G225 - MIN(G:G))/(MAX(G:G) - MIN(G:G)) -> 0.94551179 | I225: 0.69 | J225: =(I225 - MIN(I:I))/(MAX(I:I) - MIN(I:I)) -> 0.61085973 | K225: 4357.1107 | L225: =(K225 - MIN(K:K))/(MAX(K:K) - MIN(K:K)) -> 0.27724338 | N225: =IF(ISBLANK(M225), 0,(M225 - MIN(M:M))/(MAX(M:M) - MIN(M:M))) -> 0 | O225: 0.5 | P225: =IF(ISBLANK(O225), 0,(O225 - MIN(O:O))/(MAX(O:O) - MIN(O:O))) -> 0.5 | Q225: =H225-J225-L225+N225+P225 -> 0.55740869 | R225: 224º
A226: 330227 | B226: 3302270 | C226: Japeri | D226: RJ | E226: Sudeste | F226: Não | G226: 102171 | H226: =(G226 - MIN(G:G))/(MAX(G:G) - MIN(G:G)) -> 0.50875246 | I226: 0.659 | J226: =(I226 - MIN(I:I))/(MAX(I:I) - MIN(I:I)) -> 0.54072398 | K226: 4041.5196 | L226: =(K226 - MIN(K:K))/(MAX(K:K) - MIN(K:K)) -> 0.25521763 | M226: 1.5555556 | N226: =IF(ISBLANK(M226), 0,(M226 - MIN(M:M))/(MAX(M:M) - MIN(M:M))) -> 0.59375 | O226: 0.25 | P226: =IF(ISBLANK(O226), 0,(O226 - MIN(O:O))/(MAX(O:O) - MIN(O:O))) -> 0.25 | Q226: =H226-J226-L226+N226+P226 -> 0.55656085 | R226: 225º
A227: 431850 | B227: 4318507 | C227: São José do Norte | D227: RS | E227: Sul | F227: Não | G227: 26248 | H227: =(G227 - MIN(G:G))/(MAX(G:G) - MIN(G:G)) -> 0.12750572 | I227: 0.623 | J227: =(I227 - MIN(I:I))/(MAX(I:I) - MIN(I:I)) -> 0.45927602 | K227: 5818.5993 | L227: =(K227 - MIN(K:K))/(MAX(K:K) - MIN(K:K)) -> 0.37924366 | M227: 1.7222222 | N227: =IF(ISBLANK(M227), 0,(M227 - MIN(M:M))/(MAX(M:M) - MIN(M:M))) -> 0.640625 | O227: 0.625 | P227: =IF(ISBLANK(O227), 0,(O227 - MIN(O:O))/(MAX(O:O) - MIN(O:O))) -> 0.625 | Q227: =H227-J227-L227+N227+P227 -> 0.55461105 | R227: 226º
A228: 292870 | B228: 2928703 | C228: Santo Antônio de Jesus | D228: BA | E228: Nordeste | F228: Não | G228: 109791 | H228: =(G228 - MIN(G:G))/(MAX(G:G) - MIN(G:G)) -> 0.54701623 | I228: 0.7 | J228: =(I228 - MIN(I:I))/(MAX(I:I) - MIN(I:I)) -> 0.63348416 | K228: 3988.7414 | L228: =(K228 - MIN(K:K))/(MAX(K:K) - MIN(K:K)) -> 0.25153412 | M228: 1.7222222 | N228: =IF(ISBLANK(M228), 0,(M228 - MIN(M:M))/(MAX(M:M) - MIN(M:M))) -> 0.640625 | O228: 0.25 | P228: =IF(ISBLANK(O228), 0,(O228 - MIN(O:O))/(MAX(O:O) - MIN(O:O))) -> 0.25 | Q228: =H228-J228-L228+N228+P228 -> 0.55262294 | R228: 227º
A229: 354390 | B229: 3543907 | C229: Rio Claro | D229: SP | E229: Sudeste | F229: Não | G229: 200000 | H229: =(G229 - MIN(G:G))/(MAX(G:G) - MIN(G:G)) -> 1 | I229: 0.803 | J229: =(I229 - MIN(I:I))/(MAX(I:I) - MIN(I:I)) -> 0.86651584 | K229: 7050.0995 | L229: =(K229 - MIN(K:K))/(MAX(K:K) - MIN(K:K)) -> 0.46519258 | M229: 1.6944444 | N229: =IF(ISBLANK(M229), 0,(M229 - MIN(M:M))/(MAX(M:M) - MIN(M:M))) -> 0.6328125 | O229: 0.25 | P229: =IF(ISBLANK(O229), 0,(O229 - MIN(O:O))/(MAX(O:O) - MIN(O:O))) -> 0.25 | Q229: =H229-J229-L229+N229+P229 -> 0.55110409 | R229: 228º
A230: 432260 | B230: 4322608 | C230: Venâncio Aires | D230: RS | E230: Sul | F230: Não | G230: 70842 | H230: =(G230 - MIN(G:G))/(MAX(G:G) - MIN(G:G)) -> 0.35143414 | I230: 0.712 | J230: =(I230 - MIN(I:I))/(MAX(I:I) - MIN(I:I)) -> 0.66063348 | K230: 6454.9516 | L230: =(K230 - MIN(K:K))/(MAX(K:K) - MIN(K:K)) -> 0.42365599 | M230: 1.3333333 | N230: =IF(ISBLANK(M230), 0,(M230 - MIN(M:M))/(MAX(M:M) - MIN(M:M))) -> 0.53125 | O230: 0.75 | P230: =IF(ISBLANK(O230), 0,(O230 - MIN(O:O))/(MAX(O:O) - MIN(O:O))) -> 0.75 | Q230: =H230-J230-L230+N230+P230 -> 0.54839467 | R230: 229º
A231: 120040 | B231: 1200401 | C231: Rio Branco | D231: AC | E231: Norte | F231: Sim | G231: 200000 | H231: =(G231 - MIN(G:G))/(MAX(G:G) - MIN(G:G)) -> 1 | I231: 0.727 | J231: =(I231 - MIN(I:I))/(MAX(I:I) - MIN(I:I)) -> 0.69457014 | K231: 9782.481 | L231: =(K231 - MIN(K:K))/(MAX(K:K) - MIN(K:K)) -> 0.65589107 | M231: 0.86111111 | N231: =IF(ISBLANK(M231), 0,(M231 - MIN(M:M))/(MAX(M:M) - MIN(M:M))) -> 0.3984375 | O231: 0.5 | P231: =IF(ISBLANK(O231), 0,(O231 - MIN(O:O))/(MAX(O:O) - MIN(O:O))) -> 0.5 | Q231: =H231-J231-L231+N231+P231 -> 0.54797629 | R231: 230º
A232: 354980 | B232: 3549805 | C232: São José do Rio Preto | D232: SP | E232: Sudeste | F232: Não | G232: 200000 | H232: =(G232 - MIN(G:G))/(MAX(G:G) - MIN(G:G)) -> 1 | I232: 0.797 | J232: =(I232 - MIN(I:I))/(MAX(I:I) - MIN(I:I)) -> 0.85294118 | K232: 14712.97 | L232: =(K232 - MIN(K:K))/(MAX(K:K) - MIN(K:K)) -> 1 | M232: 2.1944444 | N232: =IF(ISBLANK(M232), 0,(M232 - MIN(M:M))/(MAX(M:M) - MIN(M:M))) -> 0.7734375 | O232: 0.625 | P232: =IF(ISBLANK(O232), 0,(O232 - MIN(O:O))/(MAX(O:O) - MIN(O:O))) -> 0.625 | Q232: =H232-J232-L232+N232+P232 -> 0.54549632 | R232: 231º
A233: 430300 | B233: 4303004 | C233: Cachoeira do Sul | D233: RS | E233: Sul | F233: Não | G233: 82222 | H233: =(G233 - MIN(G:G))/(MAX(G:G) - MIN(G:G)) -> 0.40857872 | I233: 0.742 | J233: =(I233 - MIN(I:I))/(MAX(I:I) - MIN(I:I)) -> 0.72850679 | K233: 5706.4793 | L233: =(K233 - MIN(K:K))/(MAX(K:K) - MIN(K:K)) -> 0.37141857 | M233: 2.5 | N233: =IF(ISBLANK(M233), 0,(M233 - MIN(M:M))/(MAX(M:M) - MIN(M:M))) -> 0.859375 | O233: 0.375 | P233: =IF(ISBLANK(O233), 0,(O233 - MIN(O:O))/(MAX(O:O) - MIN(O:O))) -> 0.375 | Q233: =H233-J233-L233+N233+P233 -> 0.54302836 | R233: 232º
A234: 421660 | B234: 4216602 | C234: São José | D234: SC | E234: Sul | F234: Não | G234: 200000 | H234: =(G234 - MIN(G:G))/(MAX(G:G) - MIN(G:G)) -> 1 | I234: 0.809 | J234: =(I234 - MIN(I:I))/(MAX(I:I) - MIN(I:I)) -> 0.8800905 | K234: 7124.2239 | L234: =(K234 - MIN(K:K))/(MAX(K:K) - MIN(K:K)) -> 0.47036587 | M234: 1.2777778 | N234: =IF(ISBLANK(M234), 0,(M234 - MIN(M:M))/(MAX(M:M) - MIN(M:M))) -> 0.515625 | O234: 0.375 | P234: =IF(ISBLANK(O234), 0,(O234 - MIN(O:O))/(MAX(O:O) - MIN(O:O))) -> 0.375 | Q234: =H234-J234-L234+N234+P234 -> 0.54016863 | R234: 233º
A235: 316870 | B235: 3168705 | C235: Timóteo | D235: MG | E235: Sudeste | F235: Não | G235: 84172 | H235: =(G235 - MIN(G:G))/(MAX(G:G) - MIN(G:G)) -> 0.41837063 | I235: 0.77 | J235: =(I235 - MIN(I:I))/(MAX(I:I) - MIN(I:I)) -> 0.7918552 | K235: 5476.4196 | L235: =(K235 - MIN(K:K))/(MAX(K:K) - MIN(K:K)) -> 0.35536223 | M235: 1.2777778 | N235: =IF(ISBLANK(M235), 0,(M235 - MIN(M:M))/(MAX(M:M) - MIN(M:M))) -> 0.515625 | O235: 0.75 | P235: =IF(ISBLANK(O235), 0,(O235 - MIN(O:O))/(MAX(O:O) - MIN(O:O))) -> 0.75 | Q235: =H235-J235-L235+N235+P235 -> 0.53677819 | R235: 234º
A236: 320490 | B236: 3204906 | C236: São Mateus | D236: ES | E236: Sudeste | F236: Não | G236: 134423 | H236: =(G236 - MIN(G:G))/(MAX(G:G) - MIN(G:G)) -> 0.67070562 | I236: 0.735 | J236: =(I236 - MIN(I:I))/(MAX(I:I) - MIN(I:I)) -> 0.71266968 | K236: 4586.8531 | L236: =(K236 - MIN(K:K))/(MAX(K:K) - MIN(K:K)) -> 0.29327757 | M236: 0.75 | N236: =IF(ISBLANK(M236), 0,(M236 - MIN(M:M))/(MAX(M:M) - MIN(M:M))) -> 0.3671875 | O236: 0.5 | P236: =IF(ISBLANK(O236), 0,(O236 - MIN(O:O))/(MAX(O:O) - MIN(O:O))) -> 0.5 | Q236: =H236-J236-L236+N236+P236 -> 0.53194587 | R236: 235º
A237: 260530 | B237: 2605301 | C237: Exu | D237: PE | E237: Nordeste | F237: Não | G237: 33486 | H237: =(G237 - MIN(G:G))/(MAX(G:G) - MIN(G:G)) -> 0.16385128 | I237: 0.576 | J237: =(I237 - MIN(I:I))/(MAX(I:I) - MIN(I:I)) -> 0.35294118 | K237: 5071.7029 | L237: =(K237 - MIN(K:K))/(MAX(K:K) - MIN(K:K)) -> 0.32711623 | M237: 1.8333333 | N237: =IF(ISBLANK(M237), 0,(M237 - MIN(M:M))/(MAX(M:M) - MIN(M:M))) -> 0.671875 | O237: 0.375 | P237: =IF(ISBLANK(O237), 0,(O237 - MIN(O:O))/(MAX(O:O) - MIN(O:O))) -> 0.375 | Q237: =H237-J237-L237+N237+P237 -> 0.53066888 | R237: 236º
... A252: 430210 | B252: 4302105 | C252: Bento Gonçalves | D252: RS | E252: Sul | F252: Não | G252: 127977 | H252: =(G252 - MIN(G:G))/(MAX(G:G) - MIN(G:G)) -> 0.63833708 | I252: 0.778 | J252: =(I252 - MIN(I:I))/(MAX(I:I) - MIN(I:I)) -> 0.80995475 | K252: 6358.6134 | L252: =(K252 - MIN(K:K))/(MAX(K:K) - MIN(K:K)) -> 0.41693235 | M252: 1.5833333 | N252: =IF(ISBLANK(M252), 0,(M252 - MIN(M:M))/(MAX(M:M) - MIN(M:M))) -> 0.6015625 | O252: 0.5 | P252: =IF(ISBLANK(O252), 0,(O252 - MIN(O:O))/(MAX(O:O) - MIN(O:O))) -> 0.5 | Q252: =H252-J252-L252+N252+P252 -> 0.51301248 | R252: 251º
A253: 293135 | B253: 2931350 | C253: Teixeira de Freitas | D253: BA | E253: Nordeste | F253: Não | G253: 153738 | H253: =(G253 - MIN(G:G))/(MAX(G:G) - MIN(G:G)) -> 0.76769574 | I253: 0.685 | J253: =(I253 - MIN(I:I))/(MAX(I:I) - MIN(I:I)) -> 0.59954751 | K253: 4426.9745 | L253: =(K253 - MIN(K:K))/(MAX(K:K) - MIN(K:K)) -> 0.28211932 | N253: =IF(ISBLANK(M253), 0,(M253 - MIN(M:M))/(MAX(M:M) - MIN(M:M))) -> 0 | O253: 0.625 | P253: =IF(ISBLANK(O253), 0,(O253 - MIN(O:O))/(MAX(O:O) - MIN(O:O))) -> 0.625 | Q253: =H253-J253-L253+N253+P253 -> 0.51102891 | R253: 252º
A254: 330350 | B254: 3303500 | C254: Nova Iguaçu | D254: RJ | E254: Sudeste | F254: Não | G254: 200000 | H254: =(G254 - MIN(G:G))/(MAX(G:G) - MIN(G:G)) -> 1 | I254: 0.713 | J254: =(I254 - MIN(I:I))/(MAX(I:I) - MIN(I:I)) -> 0.66289593 | K254: 12809.48 | L254: =(K254 - MIN(K:K))/(MAX(K:K) - MIN(K:K)) -> 0.86715155 | M254: 0.91666667 | N254: =IF(ISBLANK(M254), 0,(M254 - MIN(M:M))/(MAX(M:M) - MIN(M:M))) -> 0.4140625 | O254: 0.625 | P254: =IF(ISBLANK(O254), 0,(O254 - MIN(O:O))/(MAX(O:O) - MIN(O:O))) -> 0.625 | Q254: =H254-J254-L254+N254+P254 -> 0.50901502 | R254: 253º
A255: 313520 | B255: 3135209 | C255: Januária | D255: MG | E255: Sudeste | F255: Não | G255: 67123 | H255: =(G255 - MIN(G:G))/(MAX(G:G) - MIN(G:G)) -> 0.33275921 | I255: 0.658 | J255: =(I255 - MIN(I:I))/(MAX(I:I) - MIN(I:I)) -> 0.53846154 | K255: 3960.4019 | L255: =(K255 - MIN(K:K))/(MAX(K:K) - MIN(K:K)) -> 0.24955625 | M255: 1.5277778 | N255: =IF(ISBLANK(M255), 0,(M255 - MIN(M:M))/(MAX(M:M) - MIN(M:M))) -> 0.5859375 | O255: 0.375 | P255: =IF(ISBLANK(O255), 0,(O255 - MIN(O:O))/(MAX(O:O) - MIN(O:O))) -> 0.375 | Q255: =H255-J255-L255+N255+P255 -> 0.50567892 | R255: 254º
A256: 420300 | B256: 4203006 | C256: Caçador | D256: SC | E256: Sul | F256: Não | G256: 76298 | H256: =(G256 - MIN(G:G))/(MAX(G:G) - MIN(G:G)) -> 0.3788314 | I256: 0.735 | J256: =(I256 - MIN(I:I))/(MAX(I:I) - MIN(I:I)) -> 0.71266968 | K256: 5716.9142 | L256: =(K256 - MIN(K:K))/(MAX(K:K) - MIN(K:K)) -> 0.37214685 | M256: 1.5277778 | N256: =IF(ISBLANK(M256), 0,(M256 - MIN(M:M))/(MAX(M:M) - MIN(M:M))) -> 0.5859375 | O256: 0.625 | P256: =IF(ISBLANK(O256), 0,(O256 - MIN(O:O))/(MAX(O:O) - MIN(O:O))) -> 0.625 | Q256: =H256-J256-L256+N256+P256 -> 0.50495237 | R256: 255º
A257: 291920 | B257: 2919207 | C257: Lauro de Freitas | D257: BA | E257: Nordeste | F257: Não | G257: 200000 | H257: =(G257 - MIN(G:G))/(MAX(G:G) - MIN(G:G)) -> 1 | I257: 0.754 | J257: =(I257 - MIN(I:I))/(MAX(I:I) - MIN(I:I)) -> 0.75565611 | K257: 5609.2868 | L257: =(K257 - MIN(K:K))/(MAX(K:K) - MIN(K:K)) -> 0.36463531 | N257: =IF(ISBLANK(M257), 0,(M257 - MIN(M:M))/(MAX(M:M) - MIN(M:M))) -> 0 | O257: 0.625 | P257: =IF(ISBLANK(O257), 0,(O257 - MIN(O:O))/(MAX(O:O) - MIN(O:O))) -> 0.625 | Q257: =H257-J257-L257+N257+P257 -> 0.50470858 | R257: 256º
A258: 311940 | B258: 3119401 | C258: Coronel Fabriciano | D258: MG | E258: Sudeste | F258: Não | G258: 108708 | H258: =(G258 - MIN(G:G))/(MAX(G:G) - MIN(G:G)) -> 0.54157795 | I258: 0.755 | J258: =(I258 - MIN(I:I))/(MAX(I:I) - MIN(I:I)) -> 0.75791855 | K258: 4779.729 | L258: =(K258 - MIN(K:K))/(MAX(K:K) - MIN(K:K)) -> 0.30673877 | M258: 1.3055556 | N258: =IF(ISBLANK(M258), 0,(M258 - MIN(M:M))/(MAX(M:M) - MIN(M:M))) -> 0.5234375 | O258: 0.5 | P258: =IF(ISBLANK(O258), 0,(O258 - MIN(O:O))/(MAX(O:O) - MIN(O:O))) -> 0.5 | Q258: =H258-J258-L258+N258+P258 -> 0.50035813 | R258: 257º
A259: 320150 | B259: 3201506 | C259: Colatina | D259: ES | E259: Sudeste | F259: Não | G259: 129301 | H259: =(G259 - MIN(G:G))/(MAX(G:G) - MIN(G:G)) -> 0.64498554 | I259: 0.746 | J259: =(I259 - MIN(I:I))/(MAX(I:I) - MIN(I:I)) -> 0.73755656 | K259: 6336.7632 | L259: =(K259 - MIN(K:K))/(MAX(K:K) - MIN(K:K)) -> 0.41540738 | M259: 1.6944444 | N259: =IF(ISBLANK(M259), 0,(M259 - MIN(M:M))/(MAX(M:M) - MIN(M:M))) -> 0.6328125 | O259: 0.375 | P259: =IF(ISBLANK(O259), 0,(O259 - MIN(O:O))/(MAX(O:O) - MIN(O:O))) -> 0.375 | Q259: =H259-J259-L259+N259+P259 -> 0.4998341 | R259: 258º
A260: 500830 | B260: 5008305 | C260: Três Lagoas | D260: MS | E260: Centro-Oeste | F260: Não | G260: 143523 | H260: =(G260 - MIN(G:G))/(MAX(G:G) - MIN(G:G)) -> 0.7164012 | I260: 0.744 | J260: =(I260 - MIN(I:I))/(MAX(I:I) - MIN(I:I)) -> 0.73303167 | K260: 8362.1692 | L260: =(K260 - MIN(K:K))/(MAX(K:K) - MIN(K:K)) -> 0.55676461 | M260: 1.4722222 | N260: =IF(ISBLANK(M260), 0,(M260 - MIN(M:M))/(MAX(M:M) - MIN(M:M))) -> 0.5703125 | O260: 0.5 | P260: =IF(ISBLANK(O260), 0,(O260 - MIN(O:O))/(MAX(O:O) - MIN(O:O))) -> 0.5 | Q260: =H260-J260-L260+N260+P260 -> 0.49691742 | R260: 259º
A261: 250460 | B261: 2504603 | C261: Conde | D261: PB | E261: Nordeste | F261: Não | G261: 30007 | H261: =(G261 - MIN(G:G))/(MAX(G:G) - MIN(G:G)) -> 0.14638151 | I261: 0.618 | J261: =(I261 - MIN(I:I))/(MAX(I:I) - MIN(I:I)) -> 0.4479638 | K261: 7546.5844 | L261: =(K261 - MIN(K:K))/(MAX(K:K) - MIN(K:K)) -> 0.49984327 | M261: 1.8333333 | N261: =IF(ISBLANK(M261), 0,(M261 - MIN(M:M))/(MAX(M:M) - MIN(M:M))) -> 0.671875 | O261: 0.625 | P261: =IF(ISBLANK(O261), 0,(O261 - MIN(O:O))/(MAX(O:O) - MIN(O:O))) -> 0.625 | Q261: =H261-J261-L261+N261+P261 -> 0.49544944 | R261: 260º
A262: 350570 | B262: 3505708 | C262: Barueri | D262: SP | E262: Sudeste | F262: Não | G262: 200000 | H262: =(G262 - MIN(G:G))/(MAX(G:G) - MIN(G:G)) -> 1 | I262: 0.786 | J262: =(I262 - MIN(I:I))/(MAX(I:I) - MIN(I:I)) -> 0.8280543 | K262: 14712.97 | L262: =(K262 - MIN(K:K))/(MAX(K:K) - MIN(K:K)) -> 1 | M262: 1.9166667 | N262: =IF(ISBLANK(M262), 0,(M262 - MIN(M:M))/(MAX(M:M) - MIN(M:M))) -> 0.6953125 | O262: 0.625 | P262: =IF(ISBLANK(O262), 0,(O262 - MIN(O:O))/(MAX(O:O) - MIN(O:O))) -> 0.625 | Q262: =H262-J262-L262+N262+P262 -> 0.4922582 | R262: 261º
A263: 330600 | B263: 3306008 | C263: Três Rios | D263: RJ | E263: Sudeste | F263: Não | G263: 82319 | H263: =(G263 - MIN(G:G))/(MAX(G:G) - MIN(G:G)) -> 0.4090658 | I263: 0.725 | J263: =(I263 - MIN(I:I))/(MAX(I:I) - MIN(I:I)) -> 0.69004525 | K263: 7107.8124 | L263: =(K263 - MIN(K:K))/(MAX(K:K) - MIN(K:K)) -> 0.46922048 | M263: 1.1944444 | N263: =IF(ISBLANK(M263), 0,(M263 - MIN(M:M))/(MAX(M:M) - MIN(M:M))) -> 0.4921875 | O263: 0.75 | P263: =IF(ISBLANK(O263), 0,(O263 - MIN(O:O))/(MAX(O:O) - MIN(O:O))) -> 0.75 | Q263: =H263-J263-L263+N263+P263 -> 0.49198758 | R263: 262º
A264: 420130 | B264: 4201307 | C264: Araquari | D264: SC | E264: Sul | F264: Não | G264: 52079 | H264: =(G264 - MIN(G:G))/(MAX(G:G) - MIN(G:G)) -> 0.25721588 | I264: 0.703 | J264: =(I264 - MIN(I:I))/(MAX(I:I) - MIN(I:I)) -> 0.64027149 | K264: 8237.9481 | L264: =(K264 - MIN(K:K))/(MAX(K:K) - MIN(K:K)) -> 0.54809496 | M264: 1.8333333 | N264: =IF(ISBLANK(M264), 0,(M264 - MIN(M:M))/(MAX(M:M) - MIN(M:M))) -> 0.671875 | O264: 0.75 | P264: =IF(ISBLANK(O264), 0,(O264 - MIN(O:O))/(MAX(O:O) - MIN(O:O))) -> 0.75 | Q264: =H264-J264-L264+N264+P264 -> 0.49072443 | R264: 263º
...

Sheet Outliers - pontos de corte
B1: População Estimada 2025 - IBGE | D1: IDHM | F1: Receita Correnta Bruta
B2: Primeiro quartil | D2: Primeiro quartil | F2: Primeiro quartil
B3: =_xlfn.QUARTILE.INC('Dados Brutos'!G2:G5572,1) -> 5348.5 | D3: =_xlfn.QUARTILE.INC('Dados Brutos'!I2:I5572,1) -> 0.599 | F3: =_xlfn.QUARTILE.INC('Dados Brutos'!K2:K5572,1) -> 5757.7991
B4: Terceiro quartil | D4: Terceiro quartil | F4: Terceiro quartil
B5: =_xlfn.QUARTILE.INC('Dados Brutos'!G2:G5572,3) -> 25299 | D5: =_xlfn.QUARTILE.INC('Dados Brutos'!I2:I5572,3) -> 0.718 | F5: =_xlfn.QUARTILE.INC('Dados Brutos'!K2:K5572,3) -> 9339.8693
B6: Intervalo interquartil | D6: Intervalo interquartil | F6: Intervalo interquartil
B7: =B5-B3 -> 19950.5 | D7: =D5-D3 -> 0.119 | F7: =F5-F3 -> 3582.0702
B8: Outlier inferior | D8: Outlier inferior | F8: Outlier inferior
B9: =B3-(1.5*B7) -> -24577.25 | D9: =D3-(1.5*D7) -> 0.4205 | F9: =F3-(1.5*F7) -> 384.69378
B10: Outlier superior | D10: Outlier superior | F10: Outlier superior
B11: =B5+(1.5*B7) -> 55224.75 | D11: =D5+(1.5*D7) -> 0.8965 | F11: =F5+(1.5*F7) -> 14712.975
B13: Considerou-se muito baixo o critério de outlier ser acima de 55 mil. Por este motivo, foi utilizado o critério de 200 mil habitantes como teto máximo de pontuação | D13: Nenhum município se encaixou como outlier (superior) para esse critério. E apenas Melgaço (PA) se encaixou como outlier (inferior) e foi arredondado para 0,42. Portanto, não foi necessário colocar nenhum teto de pontuação. | F13: Outliers: valores menores que 384,69 e maiores que 14.712,97

Sheet Notas
A1: Notas:
A2: População: estimativas de população realizadas pelo IBGE para o ano de 2025. Última atualização: 13/01/2026
A4: IDHM: foram utilizados os dados disponíveis do Atlas Brasil (PNUD). Para os municípios que não existiam em 2010, utilizou-se a média do IDHM das cidades-mãe de cada município. Data de extração: 05/03/2026
A5: 1. Balneário Rincão (SC): emancipado de Içara (SC);
A6: 2.Pescaria Brava (SC): emancipado de Laguna (SC);
A7: 3.Mojuí dos Campos (PA): emancipado de Santarém (PA);
A8: 4.Paraíso das Águas (MS): emancipado de Costa Rica (MS), Água Clara (MS) e Chapadão do Sul (MS);
A9: 5.Pinto Bandeira (RS): emancipado de Bento Gonçalves (RS);
A10: 6.Boa Esperança do Norte (MT): emancipado de Sorriso (MT) e Nova Ubiratã (MT).
A12: Receita Correnta Bruta 2024: os dados foram extraídos do Siconfi do Tesouro Nacional no dia 05/03/2026. Optou-se por utilizar os dados de 2024, uma vez que os de 2025 ainda estavam com baixo preenchimento (somente 560 municípios).
A13: *O valor da Receita Corrente Bruta de Brasília/DF foi obtido a partir dos dados distritais, dada a sua natureza político-jurídica.
A15: Índice de Vulnerabilidade Institucional dos Conselhos: calculado a partir das informações da MUNIC/ESTADIC 2023, de acordo com a metodologia de cálculo estabelecida na Resolução nº 2 de 19 de junho de 2024.
... A19: *Após a normalização, atribuiu-se nota 0 aos municípios sem conselhos ativos para que não ficassem sem nota no ranking final (218 municípios nesta situação).
