Workbook

Sheet Dados Brutos
A1: Código da UF | B1: UF | C1: Estado | D1: Região | E1: População Estimada IBGE 2025 (Data de referência: 13/01/26) | F1: População 2025 sem outliers (teto máximo de 19.100.000 para pontuação) | G1: IDH 2021 | H1: Receita Corrente Bruta 2024 | I1: Receita Corrente Bruta per capita 2024 | J1: Índice de Vulnerabilidade Institucional dos Conselhos de Direitos de Lésbicas, Gays, Bissexuais, Travestis e Transexuais - IVIC LGBTQIA+ 2023
A2: 11 | B2: RO | C2: Rondônia | D2: Norte | E2: 1751950 | F2: 1751950 | G2: 0.7 | H2: 2.0080693e+10 | I2: 11461.91
A3: 12 | B3: AC | C3: Acre | D3: Norte | E3: 884372 | F3: 884372 | G3: 0.71 | H3: 1.2847377e+10 | I3: 14527.119 | J3: 0.41666667
A4: 13 | B4: AM | C4: Amazonas | D4: Norte | E4: 4321616 | F4: 4321616 | G4: 0.7 | H4: 3.6049458e+10 | I4: 8341.6615 | J4: 1
A5: 14 | B5: RR | C5: Roraima | D5: Norte | E5: 738772 | F5: 738772 | G5: 0.699 | H5: 1.0158127e+10 | I5: 13750.016 | J5: 1.4166667
A6: 15 | B6: PA | C6: Pará | D6: Norte | E6: 8711196 | F6: 8711196 | G6: 0.69 | H6: 5.6716549e+10 | I6: 6510.7648 | J6: 1.3333333
A7: 16 | B7: AP | C7: Amapá | D7: Norte | E7: 806517 | F7: 806517 | G7: 0.688 | H7: 1.2272683e+10 | I7: 15216.893 | J7: 1.0555556
A8: 17 | B8: TO | C8: Tocantins | D8: Norte | E8: 1586859 | F8: 1586859 | G8: 0.731 | H8: 21733836540 | I8: 13696.136 | J8: -0.63888889
A9: 21 | B9: MA | C9: Maranhão | D9: Nordeste | E9: 7018211 | F9: 7018211 | G9: 0.676 | H9: 3.9353051e+10 | I9: 5607.2767 | J9: 2.4444444
A10: 22 | B10: PI | C10: Piauí | D10: Nordeste | E10: 3384547 | F10: 3384547 | G10: 0.69 | H10: 2.3028969e+10 | I10: 6804.1511 | J10: 0.77777778
A11: 23 | B11: CE | C11: Ceará | D11: Nordeste | E11: 9268836 | F11: 9268836 | G11: 0.734 | H11: 5.0436587e+10 | I11: 5441.5233
A12: 24 | B12: RN | C12: Rio Grande do Norte | D12: Nordeste | E12: 3455236 | F12: 3455236 | G12: 0.728 | H12: 2.3663025e+10 | I12: 6848.4541 | J12: 2.75
A13: 25 | B13: PB | C13: Paraíba | D13: Nordeste | E13: 4164468 | F13: 4164468 | G13: 0.698 | H13: 2.5840292e+10 | I13: 6204.9443 | J13: 2.0833333
A14: 26 | B14: PE | C14: Pernambuco | D14: Nordeste | E14: 9562007 | F14: 9562007 | G14: 0.719 | H14: 5.9975438e+10 | I14: 6272.2646 | J14: 1.4444444
A15: 27 | B15: AL | C15: Alagoas | D15: Nordeste | E15: 3220848 | F15: 3220848 | G15: 0.684 | H15: 2.3036659e+10 | I15: 7152.3584 | J15: 1.7222222
A16: 28 | B16: SE | C16: Sergipe | D16: Nordeste | E16: 2299425 | F16: 2299425 | G16: 0.702 | H16: 1.9851084e+10 | I16: 8633.0646 | J16: 0.47222222
A17: 29 | B17: BA | C17: Bahia | D17: Nordeste | E17: 14870907 | F17: 14870907 | G17: 0.691 | H17: 8.9072098e+10 | I17: 5989.6883 | J17: 0.083333333
A18: 31 | B18: MG | C18: Minas Gerais | D18: Sudeste | E18: 21393441 | F18: 19100000 | G18: 0.774 | H18: 1.5070242e+11 | I18: 7044.3284
A19: 32 | B19: ES | C19: Espírito Santo | D19: Sudeste | E19: 4126854 | F19: 4126854 | G19: 0.771 | H19: 3.7836124e+10 | I19: 9168.273 | J19: 1.1111111
A20: 33 | B20: RJ | C20: Rio de Janeiro | D20: Sudeste | E20: 17223547 | F20: 17223547 | G20: 0.762 | H20: 1.2847458e+11 | I20: 7459.2407 | J20: 1.6111111
A21: 35 | B21: SP | C21: São Paulo | D21: Sudeste | E21: 46081801 | F21: 19100000 | G21: 0.806 | H21: 3.6942031e+11 | I21: 8016.6204 | J21: -0.027777778
A22: 41 | B22: PR | C22: Paraná | D22: Sul | E22: 11890517 | F22: 11890517 | G22: 0.769 | H22: 9.6094495e+10 | I22: 8081.6078
A23: 42 | B23: SC | C23: Santa Catarina | D23: Sul | E23: 8187029 | F23: 8187029 | G23: 0.792 | H23: 6.9166156e+10 | I23: 8448.2608
A24: 43 | B24: RS | C24: Rio Grande do Sul | D24: Sul | E24: 11233263 | F24: 11233263 | G24: 0.771 | H24: 8.9629833e+10 | I24: 7978.9668 | J24: 0.69444444
A25: 50 | B25: MS | C25: Mato Grosso do Sul | D25: Centro-Oeste | E25: 2924631 | F25: 2924631 | G25: 0.742 | H25: 3.6457146e+10 | I25: 12465.554 | J25: 1.9722222
A26: 51 | B26: MT | C26: Mato Grosso | D26: Centro-Oeste | E26: 3893659 | F26: 3893659 | G26: 0.736 | H26: 5.6903647e+10 | I26: 14614.44
A27: 52 | B27: GO | C27: Goiás | D27: Centro-Oeste | E27: 7423629 | F27: 7423629 | G27: 0.737 | H27: 6.3697746e+10 | I27: 8580.4053
A28: 53 | B28: DF | C28: Distrito Federal | D28: Centro-Oeste | E28: 2996899 | F28: 2996899 | G28: 0.814 | H28: 3.8973827e+10 | I28: 13004.718 | J28: 0.5

Sheet Dados Normalizados
A1: Código da UF | B1: UF | C1: Estado | D1: Região | E1: População 2025 (máximo de 19.100.000 para pontuação) | F1: População 2025 normalizada | G1: IDH 2021 | H1: IDH 2021 normalizado | I1: Receita Corrente Bruta per capita 2024 | J1: Receita per capita normalizada 2024 | K1: Total de Pontos | L1: Posição no Ranking
A2: 29 | B2: BA | C2: Bahia | D2: Nordeste | E2: 14870907 | F2: =(E2 - MIN($E$2:$E$28))/(MAX($E$2:$E$28) - MIN($E$2:$E$28)) -> 0.76967265 | G2: 0.691 | H2: =(G2 - MIN($G$2:$G$28))/(MAX($G$2:$G$28) - MIN($G$2:$G$28)) -> 0.10869565 | I2: 5989.6883 | J2: =(I2 - MIN($I$2:$I$28))/(MAX($I$2:$I$28) - MIN($I$2:$I$28)) -> 0.056076136 | K2: =F2-H2-J2 -> 0.60490086 | L2: 1º
A3: 21 | B3: MA | C3: Maranhão | D3: Nordeste | E3: 7018211 | F3: =(E3 - MIN($E$2:$E$28))/(MAX($E$2:$E$28) - MIN($E$2:$E$28)) -> 0.3419945 | G3: 0.676 | H3: =(G3 - MIN($G$2:$G$28))/(MAX($G$2:$G$28) - MIN($G$2:$G$28)) -> 0 | I3: 5607.2767 | J3: =(I3 - MIN($I$2:$I$28))/(MAX($I$2:$I$28) - MIN($I$2:$I$28)) -> 0.016956228 | K3: =F3-H3-J3 -> 0.32503827 | L3: 2º
A4: 15 | B4: PA | C4: Pará | D4: Norte | E4: 8711196 | F4: =(E4 - MIN($E$2:$E$28))/(MAX($E$2:$E$28) - MIN($E$2:$E$28)) -> 0.43419885 | G4: 0.69 | H4: =(G4 - MIN($G$2:$G$28))/(MAX($G$2:$G$28) - MIN($G$2:$G$28)) -> 0.10144928 | I4: 6510.7648 | J4: =(I4 - MIN($I$2:$I$28))/(MAX($I$2:$I$28) - MIN($I$2:$I$28)) -> 0.10938118 | K4: =F4-H4-J4 -> 0.22336839 | L4: 3º
A5: 31 | B5: MG | C5: Minas Gerais | D5: Sudeste | E5: 19100000 | F5: =(E5 - MIN($E$2:$E$28))/(MAX($E$2:$E$28) - MIN($E$2:$E$28)) -> 1 | G5: 0.774 | H5: =(G5 - MIN($G$2:$G$28))/(MAX($G$2:$G$28) - MIN($G$2:$G$28)) -> 0.71014493 | I5: 7044.3284 | J5: =(I5 - MIN($I$2:$I$28))/(MAX($I$2:$I$28) - MIN($I$2:$I$28)) -> 0.16396363 | K5: =F5-H5-J5 -> 0.12589145 | L5: 4º
A6: 26 | B6: PE | C6: Pernambuco | D6: Nordeste | E6: 9562007 | F6: =(E6 - MIN($E$2:$E$28))/(MAX($E$2:$E$28) - MIN($E$2:$E$28)) -> 0.48053621 | G6: 0.719 | H6: =(G6 - MIN($G$2:$G$28))/(MAX($G$2:$G$28) - MIN($G$2:$G$28)) -> 0.3115942 | I6: 6272.2646 | J6: =(I6 - MIN($I$2:$I$28))/(MAX($I$2:$I$28) - MIN($I$2:$I$28)) -> 0.084983104 | K6: =F6-H6-J6 -> 0.083958908 | L6: 5º
A7: 33 | B7: RJ | C7: Rio de Janeiro | D7: Sudeste | E7: 17223547 | F7: =(E7 - MIN($E$2:$E$28))/(MAX($E$2:$E$28) - MIN($E$2:$E$28)) -> 0.89780351 | G7: 0.762 | H7: =(G7 - MIN($G$2:$G$28))/(MAX($G$2:$G$28) - MIN($G$2:$G$28)) -> 0.62318841 | I7: 7459.2407 | J7: =(I7 - MIN($I$2:$I$28))/(MAX($I$2:$I$28) - MIN($I$2:$I$28)) -> 0.2064083 | K7: =F7-H7-J7 -> 0.068206807 | L7: 6º
A8: 23 | B8: CE | C8: Ceará | D8: Nordeste | E8: 9268836 | F8: =(E8 - MIN($E$2:$E$28))/(MAX($E$2:$E$28) - MIN($E$2:$E$28)) -> 0.46456936 | G8: 0.734 | H8: =(G8 - MIN($G$2:$G$28))/(MAX($G$2:$G$28) - MIN($G$2:$G$28)) -> 0.42028986 | I8: 5441.5233 | J8: =(I8 - MIN($I$2:$I$28))/(MAX($I$2:$I$28) - MIN($I$2:$I$28)) -> 0 | K8: =F8-H8-J8 -> 0.044279508 | L8: 7º
A9: 25 | B9: PB | C9: Paraíba | D9: Nordeste | E9: 4164468 | F9: =(E9 - MIN($E$2:$E$28))/(MAX($E$2:$E$28) - MIN($E$2:$E$28)) -> 0.18657227 | G9: 0.698 | H9: =(G9 - MIN($G$2:$G$28))/(MAX($G$2:$G$28) - MIN($G$2:$G$28)) -> 0.15942029 | I9: 6204.9443 | J9: =(I9 - MIN($I$2:$I$28))/(MAX($I$2:$I$28) - MIN($I$2:$I$28)) -> 0.078096374 | K9: =F9-H9-J9 -> -0.050944394 | L9: 8º
A10: 22 | B10: PI | C10: Piauí | D10: Nordeste | E10: 3384547 | F10: =(E10 - MIN($E$2:$E$28))/(MAX($E$2:$E$28) - MIN($E$2:$E$28)) -> 0.14409575 | G10: 0.69 | H10: =(G10 - MIN($G$2:$G$28))/(MAX($G$2:$G$28) - MIN($G$2:$G$28)) -> 0.10144928 | I10: 6804.1511 | J10: =(I10 - MIN($I$2:$I$28))/(MAX($I$2:$I$28) - MIN($I$2:$I$28)) -> 0.13939399 | K10: =F10-H10-J10 -> -0.096747509 | L10: 9º
A11: 27 | B11: AL | C11: Alagoas | D11: Nordeste | E11: 3220848 | F11: =(E11 - MIN($E$2:$E$28))/(MAX($E$2:$E$28) - MIN($E$2:$E$28)) -> 0.13518028 | G11: 0.684 | H11: =(G11 - MIN($G$2:$G$28))/(MAX($G$2:$G$28) - MIN($G$2:$G$28)) -> 0.057971014 | I11: 7152.3584 | J11: =(I11 - MIN($I$2:$I$28))/(MAX($I$2:$I$28) - MIN($I$2:$I$28)) -> 0.17501487 | K11: =F11-H11-J11 -> -0.097805603 | L11: 10º
A12: 35 | B12: SP | C12: São Paulo | D12: Sudeste | E12: 19100000 | F12: =(E12 - MIN($E$2:$E$28))/(MAX($E$2:$E$28) - MIN($E$2:$E$28)) -> 1 | G12: 0.806 | H12: =(G12 - MIN($G$2:$G$28))/(MAX($G$2:$G$28) - MIN($G$2:$G$28)) -> 0.94202899 | I12: 8016.6204 | J12: =(I12 - MIN($I$2:$I$28))/(MAX($I$2:$I$28) - MIN($I$2:$I$28)) -> 0.26342708 | K12: =F12-H12-J12 -> -0.20545607 | L12: 11º
A13: 13 | B13: AM | C13: Amazonas | D13: Norte | E13: 4321616 | F13: =(E13 - MIN($E$2:$E$28))/(MAX($E$2:$E$28) - MIN($E$2:$E$28)) -> 0.19513096 | G13: 0.7 | H13: =(G13 - MIN($G$2:$G$28))/(MAX($G$2:$G$28) - MIN($G$2:$G$28)) -> 0.17391304 | I13: 8341.6615 | J13: =(I13 - MIN($I$2:$I$28))/(MAX($I$2:$I$28) - MIN($I$2:$I$28)) -> 0.29667811 | K13: =F13-H13-J13 -> -0.2754602 | L13: 12º
... A28: 53 | B28: DF | C28: Distrito Federal | D28: Centro-Oeste | E28: 2996899 | F28: =(E28 - MIN($E$2:$E$28))/(MAX($E$2:$E$28) - MIN($E$2:$E$28)) -> 0.12298344 | G28: 0.814 | H28: =(G28 - MIN($G$2:$G$28))/(MAX($G$2:$G$28) - MIN($G$2:$G$28)) -> 1 | I28: 13004.718 | J28: =(I28 - MIN($I$2:$I$28))/(MAX($I$2:$I$28) - MIN($I$2:$I$28)) -> 0.77369913 | K28: =F28-H28-J28 -> -1.6507157 | L28: 27º

Sheet Outliers - pontos de corte
B1: População Estimada 2025 - IBGE | D1: IDHM | F1: Receita Correnta Bruta per capita
B2: Primeiro quartil | D2: Primeiro quartil | F2: Primeiro quartil
B3: =_xlfn.QUARTILE.INC('Dados Brutos'!E2:E28,1) -> 2960765 | D3: =_xlfn.QUARTILE.INC('Dados Brutos'!G2:G28,1) -> 0.6985 | F3: =_xlfn.QUARTILE.INC('Dados Brutos'!I2:I28,1) -> 6826.3026
B4: Terceiro quartil | D4: Terceiro quartil | F4: Terceiro quartil
B5: =_xlfn.QUARTILE.INC('Dados Brutos'!E2:E28,3) -> 9415421.5 | D5: =_xlfn.QUARTILE.INC('Dados Brutos'!G2:G28,3) -> 0.7655 | F5: =_xlfn.QUARTILE.INC('Dados Brutos'!I2:I28,3) -> 11963.732
B6: Intervalo interquartil | D6: Intervalo interquartil | F6: Intervalo interquartil
B7: =B5-B3 -> 6454656.5 | D7: =D5-D3 -> 0.067 | F7: =F5-F3 -> 5137.4296
B8: Outlier inferior | D8: Outlier inferior | F8: Outlier inferior
B9: =B3-(1.5*B7) -> -6721219.8 | D9: =D3-(1.5*D7) -> 0.598 | F9: =F3-(1.5*F7) -> -879.84182
B10: Outlier superior | D10: Outlier superior | F10: Outlier superior
B11: =B5+(1.5*B7) -> 19097406 | D11: =D5+(1.5*D7) -> 0.866 | F11: =F5+(1.5*F7) -> 19669.877
B13: O critério de outlier superior foi arredondado para 19.100.000 para fins de simplicidade, sem alterações significativas. Apenas dois estados se enquaram nessa situação (MG e SP). | D13: Nenhum estado se encaixou como outlier (superior ou inferior) para esse critério. | F13: Nenhum estado se encaixou como outlier (superior ou inferior) para esse critério

Sheet Notas
A1: Notas:
A2: População: estimativas de população realizadas pelo IBGE para o ano de 2025. Última atualização: 13/01/2026
A4: IDHM: foram utilizados os dados disponíveis do Atlas Brasil (PNUD). Data de extração: 05/03/2026
A6: Receita Correnta Bruta 2024: os dados foram extraídos do Siconfi do Tesouro Nacional no dia 05/03/2026.
A7: *O valor da Receita Corrente Bruta de Brasília/DF foi obtido a partir dos dados distritais, dada a sua natureza político-jurídica.
A9: Índice de Vulnerabilidade Institucional dos Conselhos: calculado a partir das informações da MUNIC/ESTADIC 2023, de acordo com a metodologia de cálculo estabelecida na Resolução nº 2 de 19 de junho de 2024.
A10: *Os estados que declararam não possuir conselho ou se recusaram a responder foram tratados como dados faltantes, não apresentando IVIC.
A11: *Após a padronização, os estados sem resposta para conselho ficaram com nota zero para esse quesito, evitando que fiquem sem valor para o ranking e também não os equiparando aos demais que responderam esse quesito.
A12: *Os valores do IVIC se encontram normalizados entre 0 e 1 (mínimo e máximo).
