Workbook

Sheet Dados Brutos
A1: Código da UF | B1: UF | C1: Estado | D1: Região | E1: População Estimada IBGE 2025 (Data de referência: 13/01/26) | F1: População 2025 sem outliers (teto máximo de 19.100.000 para pontuação) | G1: IDH 2021 | H1: Receita Corrente Bruta 2024 | I1: Receita Corrente Bruta per capita 2024 | J1: Índice de Vulnerabilidade Institucional dos Conselhos de Direitos da Criança e do Adolescente - IVIC CA 2023 | K1: Índice de Capacidade Institucional de Crianças e Adolescentes - ICI CA 2023 | L1: Total de Registros SIPIA (SNDCA) | M1: Registro SIPIA per capita | N1: Registro SIPIA per capita sem outliers (outliers acima de 0,0086308) | O1: Proporção da população abaixo de 18 anos (SNDCA)
A2: 11 | B2: RO | C2: Rondônia | D2: Norte | E2: 1751950 | F2: 1751950 | G2: 0.7 | H2: 2.0080693e+10 | I2: 11461.91 | J2: 0 | K2: 0 | L2: 7399 | M2: =L2/E2 -> 0.004223294 | N2: =IF(M2>0.0086308318866326, 0.0086308318866326, M2) -> 0.004223294 | O2: 0.26700611
A3: 12 | B3: AC | C3: Acre | D3: Norte | E3: 884372 | F3: 884372 | G3: 0.71 | H3: 1.2847377e+10 | I3: 14527.119 | J3: 0.47222222 | K3: 0.875 | L3: 2564 | M3: =L3/E3 -> 0.0028992324 | N3: =IF(M3>0.0086308318866326, 0.0086308318866326, M3) -> 0.0028992324 | O3: 0.32375924
A4: 13 | B4: AM | C4: Amazonas | D4: Norte | E4: 4321616 | F4: 4321616 | G4: 0.7 | H4: 3.6049458e+10 | I4: 8341.6615 | J4: 2.1666667 | K4: 0.9375 | L4: 6185 | M4: =L4/E4 -> 0.0014311776 | N4: =IF(M4>0.0086308318866326, 0.0086308318866326, M4) -> 0.0014311776 | O4: 0.32926469
A5: 14 | B5: RR | C5: Roraima | D5: Norte | E5: 738772 | F5: 738772 | G5: 0.699 | H5: 1.0158127e+10 | I5: 13750.016 | J5: 1.6111111 | K5: 0.75 | L5: 4657 | M5: =L5/E5 -> 0.006303704 | N5: =IF(M5>0.0086308318866326, 0.0086308318866326, M5) -> 0.006303704 | O5: 0.34563779
A6: 15 | B6: PA | C6: Pará | D6: Norte | E6: 8711196 | F6: 8711196 | G6: 0.69 | H6: 5.6716549e+10 | I6: 6510.7648 | J6: 2.7777778 | K6: 0.75 | L6: 13750 | M6: =L6/E6 -> 0.0015784285 | N6: =IF(M6>0.0086308318866326, 0.0086308318866326, M6) -> 0.0015784285 | O6: 0.29935778
A7: 16 | B7: AP | C7: Amapá | D7: Norte | E7: 806517 | F7: 806517 | G7: 0.688 | H7: 1.2272683e+10 | I7: 15216.893 | J7: 2 | K7: 0.8125 | L7: 347 | M7: =L7/E7 -> 0.00043024512 | N7: =IF(M7>0.0086308318866326, 0.0086308318866326, M7) -> 0.00043024512 | O7: 0.32513809
A8: 17 | B8: TO | C8: Tocantins | D8: Norte | E8: 1586859 | F8: 1586859 | G8: 0.731 | H8: 21733836540 | I8: 13696.136 | J8: 1.8611111 | K8: 0.8125 | L8: 12513 | M8: =L8/E8 -> 0.0078853887 | N8: =IF(M8>0.0086308318866326, 0.0086308318866326, M8) -> 0.0078853887 | O8: 0.28246067
A9: 21 | B9: MA | C9: Maranhão | D9: Nordeste | E9: 7018211 | F9: 7018211 | G9: 0.676 | H9: 3.9353051e+10 | I9: 5607.2767 | J9: 2 | K9: 1 | L9: 17474 | M9: =L9/E9 -> 0.0024898083 | N9: =IF(M9>0.0086308318866326, 0.0086308318866326, M9) -> 0.0024898083 | O9: 0.29814952
A10: 22 | B10: PI | C10: Piauí | D10: Nordeste | E10: 3384547 | F10: 3384547 | G10: 0.69 | H10: 2.3028969e+10 | I10: 6804.1511 | J10: 0.97222222 | K10: 0.8125 | L10: 7723 | M10: =L10/E10 -> 0.0022818416 | N10: =IF(M10>0.0086308318866326, 0.0086308318866326, M10) -> 0.0022818416 | O10: 0.25614553
A11: 23 | B11: CE | C11: Ceará | D11: Nordeste | E11: 9268836 | F11: 9268836 | G11: 0.734 | H11: 5.0436587e+10 | I11: 5441.5233 | J11: 2.3333333 | K11: 0.75 | L11: 42029 | M11: =L11/E11 -> 0.0045344421 | N11: =IF(M11>0.0086308318866326, 0.0086308318866326, M11) -> 0.0045344421 | O11: 0.2495214
A12: 24 | B12: RN | C12: Rio Grande do Norte | D12: Nordeste | E12: 3455236 | F12: 3455236 | G12: 0.728 | H12: 2.3663025e+10 | I12: 6848.4541 | J12: 0.75 | K12: 0.8125 | L12: 7191 | M12: =L12/E12 -> 0.0020811892 | N12: =IF(M12>0.0086308318866326, 0.0086308318866326, M12) -> 0.0020811892 | O12: 0.24251399
A13: 25 | B13: PB | C13: Paraíba | D13: Nordeste | E13: 4164468 | F13: 4164468 | G13: 0.698 | H13: 2.5840292e+10 | I13: 6204.9443 | J13: 2 | K13: 0.625 | L13: 3604 | M13: =L13/E13 -> 0.00086541666 | N13: =IF(M13>0.0086308318866326, 0.0086308318866326, M13) -> 0.00086541666 | O13: 0.25276632
... A28: 53 | B28: DF | C28: Distrito Federal | D28: Centro-Oeste | E28: 2996899 | F28: 2996899 | G28: 0.814 | H28: 3.8973827e+10 | I28: 13004.718 | J28: 0.97222222 | K28: 0.9375 | L28: 5791 | M28: =L28/E28 -> 0.0019323307 | N28: =IF(M28>0.0086308318866326, 0.0086308318866326, M28) -> 0.0019323307 | O28: 0.23304445

Sheet Dados Normalizados
A1: Código da UF | B1: UF | C1: Estado | D1: Região | E1: População 2025 (máximo de 19.100.000 para pontuação) | F1: População 2025 normalizada | G1: IDH 2021 | H1: IDH 2021 normalizado | I1: Receita Corrente Bruta per capita 2024 | J1: Receita per capita normalizada 2024 | K1: Índice de Vulnerabilidade Institucional dos Conselhos de Direitos da Criança e do Adolescente - IVIC CA 2023 | L1: Índice de Vulnerabilidade Institucional dos Conselhos de Direitos da Criança e do Adolescente - IVIC CA 2023 normalizado | M1: Registro SIPIA per capita sem outliers (outliers acima de 0,0086308) | N1: Registros SIPIA per capita sem outliers normalizados | O1: Proporções da população abaixo de 18 anos | P1: Proporções da população abaixo de 18 anos normalizadas | Q1: Índice de Capacidade Institucional de Crianças e Adolescentes - ICI CA 2023 | R1: Total de Pontos | S1: Posição no Ranking
A2: 21 | B2: MA | C2: Maranhão | D2: Nordeste | E2: 7018211 | F2: =(E2 - MIN(E:E))/(MAX(E:E) - MIN(E:E)) -> 0.3419945 | G2: 0.676 | H2: =(G2 - MIN(G:G))/(MAX(G:G) - MIN(G:G)) -> 0 | I2: 5607.2767 | J2: =(I2 - MIN(I:I))/(MAX(I:I) - MIN(I:I)) -> 0.016956228 | K2: 2 | L2: =(K2 - MIN(K:K))/(MAX(K:K) - MIN(K:K)) -> 0.72 | M2: 0.0024898083 | N2: =(M2 - MIN(M:M))/(MAX(M:M) - MIN(M:M)) -> 0.27425616 | O2: 0.29814952 | P2: =(O2 - MIN(O:O))/(MAX(O:O) - MIN(O:O)) -> 0.64512387 | Q2: 1 | R2: =F2-H2-J2+L2+N2+P2+Q2 -> 2.9644183 | S2: 1º
A3: 15 | B3: PA | C3: Pará | D3: Norte | E3: 8711196 | F3: =(E3 - MIN(E:E))/(MAX(E:E) - MIN(E:E)) -> 0.43419885 | G3: 0.69 | H3: =(G3 - MIN(G:G))/(MAX(G:G) - MIN(G:G)) -> 0.10144928 | I3: 6510.7648 | J3: =(I3 - MIN(I:I))/(MAX(I:I) - MIN(I:I)) -> 0.10938118 | K3: 2.7777778 | L3: =(K3 - MIN(K:K))/(MAX(K:K) - MIN(K:K)) -> 1 | M3: 0.0015784285 | N3: =(M3 - MIN(M:M))/(MAX(M:M) - MIN(M:M)) -> 0.16654964 | O3: 0.29935778 | P3: =(O3 - MIN(O:O))/(MAX(O:O) - MIN(O:O)) -> 0.6541531 | Q3: 0.75 | R3: =F3-H3-J3+L3+N3+P3+Q3 -> 2.7940711 | S3: 2º
A4: 13 | B4: AM | C4: Amazonas | D4: Norte | E4: 4321616 | F4: =(E4 - MIN(E:E))/(MAX(E:E) - MIN(E:E)) -> 0.19513096 | G4: 0.7 | H4: =(G4 - MIN(G:G))/(MAX(G:G) - MIN(G:G)) -> 0.17391304 | I4: 8341.6615 | J4: =(I4 - MIN(I:I))/(MAX(I:I) - MIN(I:I)) -> 0.29667811 | K4: 2.1666667 | L4: =(K4 - MIN(K:K))/(MAX(K:K) - MIN(K:K)) -> 0.78 | M4: 0.0014311776 | N4: =(M4 - MIN(M:M))/(MAX(M:M) - MIN(M:M)) -> 0.14914759 | O4: 0.32926469 | P4: =(O4 - MIN(O:O))/(MAX(O:O) - MIN(O:O)) -> 0.87764514 | Q4: 0.9375 | R4: =F4-H4-J4+L4+N4+P4+Q4 -> 2.4688325 | S4: 3º
A5: 23 | B5: CE | C5: Ceará | D5: Nordeste | E5: 9268836 | F5: =(E5 - MIN(E:E))/(MAX(E:E) - MIN(E:E)) -> 0.46456936 | G5: 0.734 | H5: =(G5 - MIN(G:G))/(MAX(G:G) - MIN(G:G)) -> 0.42028986 | I5: 5441.5233 | J5: =(I5 - MIN(I:I))/(MAX(I:I) - MIN(I:I)) -> 0 | K5: 2.3333333 | L5: =(K5 - MIN(K:K))/(MAX(K:K) - MIN(K:K)) -> 0.84 | M5: 0.0045344421 | N5: =(M5 - MIN(M:M))/(MAX(M:M) - MIN(M:M)) -> 0.51589021 | O5: 0.2495214 | P5: =(O5 - MIN(O:O))/(MAX(O:O) - MIN(O:O)) -> 0.28172977 | Q5: 0.75 | R5: =F5-H5-J5+L5+N5+P5+Q5 -> 2.4318995 | S5: 4º
A6: 26 | B6: PE | C6: Pernambuco | D6: Nordeste | E6: 9562007 | F6: =(E6 - MIN(E:E))/(MAX(E:E) - MIN(E:E)) -> 0.48053621 | G6: 0.719 | H6: =(G6 - MIN(G:G))/(MAX(G:G) - MIN(G:G)) -> 0.3115942 | I6: 6272.2646 | J6: =(I6 - MIN(I:I))/(MAX(I:I) - MIN(I:I)) -> 0.084983104 | K6: 1.5 | L6: =(K6 - MIN(K:K))/(MAX(K:K) - MIN(K:K)) -> 0.54 | M6: 0.004427627 | N6: =(M6 - MIN(M:M))/(MAX(M:M) - MIN(M:M)) -> 0.50326684 | O6: 0.25439525 | P6: =(O6 - MIN(O:O))/(MAX(O:O) - MIN(O:O)) -> 0.31815164 | Q6: 0.9375 | R6: =F6-H6-J6+L6+N6+P6+Q6 -> 2.3828774 | S6: 5º
A7: 41 | B7: PR | C7: Paraná | D7: Sul | E7: 11890517 | F7: =(E7 - MIN(E:E))/(MAX(E:E) - MIN(E:E)) -> 0.6073529 | G7: 0.769 | H7: =(G7 - MIN(G:G))/(MAX(G:G) - MIN(G:G)) -> 0.67391304 | I7: 8081.6078 | J7: =(I7 - MIN(I:I))/(MAX(I:I) - MIN(I:I)) -> 0.27007516 | K7: 1.25 | L7: =(K7 - MIN(K:K))/(MAX(K:K) - MIN(K:K)) -> 0.45 | M7: 0.0086308319 | N7: =(M7 - MIN(M:M))/(MAX(M:M) - MIN(M:M)) -> 1 | O7: 0.23169547 | P7: =(O7 - MIN(O:O))/(MAX(O:O) - MIN(O:O)) -> 0.14851797 | Q7: 0.875 | R7: =F7-H7-J7+L7+N7+P7+Q7 -> 2.1368827 | S7: 6º
A8: 29 | B8: BA | C8: Bahia | D8: Nordeste | E8: 14870907 | F8: =(E8 - MIN(E:E))/(MAX(E:E) - MIN(E:E)) -> 0.76967265 | G8: 0.691 | H8: =(G8 - MIN(G:G))/(MAX(G:G) - MIN(G:G)) -> 0.10869565 | I8: 5989.6883 | J8: =(I8 - MIN(I:I))/(MAX(I:I) - MIN(I:I)) -> 0.056076136 | K8: 0.97222222 | L8: =(K8 - MIN(K:K))/(MAX(K:K) - MIN(K:K)) -> 0.35 | M8: 0.0014250644 | N8: =(M8 - MIN(M:M))/(MAX(M:M) - MIN(M:M)) -> 0.14842513 | O8: 0.24754388 | P8: =(O8 - MIN(O:O))/(MAX(O:O) - MIN(O:O)) -> 0.26695192 | Q8: 0.75 | R8: =F8-H8-J8+L8+N8+P8+Q8 -> 2.1202779 | S8: 7º
A9: 14 | B9: RR | C9: Roraima | D9: Norte | E9: 738772 | F9: =(E9 - MIN(E:E))/(MAX(E:E) - MIN(E:E)) -> 0 | G9: 0.699 | H9: =(G9 - MIN(G:G))/(MAX(G:G) - MIN(G:G)) -> 0.16666667 | I9: 13750.016 | J9: =(I9 - MIN(I:I))/(MAX(I:I) - MIN(I:I)) -> 0.84994152 | K9: 1.6111111 | L9: =(K9 - MIN(K:K))/(MAX(K:K) - MIN(K:K)) -> 0.58 | M9: 0.006303704 | N9: =(M9 - MIN(M:M))/(MAX(M:M) - MIN(M:M)) -> 0.72498091 | O9: 0.34563779 | P9: =(O9 - MIN(O:O))/(MAX(O:O) - MIN(O:O)) -> 1 | Q9: 0.75 | R9: =F9-H9-J9+L9+N9+P9+Q9 -> 2.0383727 | S9: 8º
A10: 33 | B10: RJ | C10: Rio de Janeiro | D10: Sudeste | E10: 17223547 | F10: =(E10 - MIN(E:E))/(MAX(E:E) - MIN(E:E)) -> 0.89780351 | G10: 0.762 | H10: =(G10 - MIN(G:G))/(MAX(G:G) - MIN(G:G)) -> 0.62318841 | I10: 7459.2407 | J10: =(I10 - MIN(I:I))/(MAX(I:I) - MIN(I:I)) -> 0.2064083 | K10: 1.6111111 | L10: =(K10 - MIN(K:K))/(MAX(K:K) - MIN(K:K)) -> 0.58 | M10: 0.0011270036 | N10: =(M10 - MIN(M:M))/(MAX(M:M) - MIN(M:M)) -> 0.11320042 | O10: 0.21529608 | P10: =(O10 - MIN(O:O))/(MAX(O:O) - MIN(O:O)) -> 0.025966605 | Q10: 1 | R10: =F10-H10-J10+L10+N10+P10+Q10 -> 1.7873738 | S10: 9º
A11: 27 | B11: AL | C11: Alagoas | D11: Nordeste | E11: 3220848 | F11: =(E11 - MIN(E:E))/(MAX(E:E) - MIN(E:E)) -> 0.13518028 | G11: 0.684 | H11: =(G11 - MIN(G:G))/(MAX(G:G) - MIN(G:G)) -> 0.057971014 | I11: 7152.3584 | J11: =(I11 - MIN(I:I))/(MAX(I:I) - MIN(I:I)) -> 0.17501487 | K11: 1.6111111 | L11: =(K11 - MIN(K:K))/(MAX(K:K) - MIN(K:K)) -> 0.58 | M11: 0.0038744455 | N11: =(M11 - MIN(M:M))/(MAX(M:M) - MIN(M:M)) -> 0.43789206 | O11: 0.27723046 | P11: =(O11 - MIN(O:O))/(MAX(O:O) - MIN(O:O)) -> 0.48879739 | Q11: 0.375 | R11: =F11-H11-J11+L11+N11+P11+Q11 -> 1.7838838 | S11: 10º
A12: 28 | B12: SE | C12: Sergipe | D12: Nordeste | E12: 2299425 | F12: =(E12 - MIN(E:E))/(MAX(E:E) - MIN(E:E)) -> 0.084997202 | G12: 0.702 | H12: =(G12 - MIN(G:G))/(MAX(G:G) - MIN(G:G)) -> 0.1884058 | I12: 8633.0646 | J12: =(I12 - MIN(I:I))/(MAX(I:I) - MIN(I:I)) -> 0.32648804 | K12: 2.1111111 | L12: =(K12 - MIN(K:K))/(MAX(K:K) - MIN(K:K)) -> 0.76 | M12: 0.001876991 | N12: =(M12 - MIN(M:M))/(MAX(M:M) - MIN(M:M)) -> 0.20183364 | O12: 0.25993301 | P12: =(O12 - MIN(O:O))/(MAX(O:O) - MIN(O:O)) -> 0.35953493 | Q12: 0.875 | R12: =F12-H12-J12+L12+N12+P12+Q12 -> 1.7664719 | S12: 11º
A13: 17 | B13: TO | C13: Tocantins | D13: Norte | E13: 1586859 | F13: =(E13 - MIN(E:E))/(MAX(E:E) - MIN(E:E)) -> 0.046189013 | G13: 0.731 | H13: =(G13 - MIN(G:G))/(MAX(G:G) - MIN(G:G)) -> 0.39855072 | I13: 13696.136 | J13: =(I13 - MIN(I:I))/(MAX(I:I) - MIN(I:I)) -> 0.84442973 | K13: 1.8611111 | L13: =(K13 - MIN(K:K))/(MAX(K:K) - MIN(K:K)) -> 0.67 | M13: 0.0078853887 | N13: =(M13 - MIN(M:M))/(MAX(M:M) - MIN(M:M)) -> 0.9119038 | O13: 0.28246067 | P13: =(O13 - MIN(O:O))/(MAX(O:O) - MIN(O:O)) -> 0.52788232 | Q13: 0.8125 | R13: =F13-H13-J13+L13+N13+P13+Q13 -> 1.7254947 | S13: 12º
... A28: 53 | B28: DF | C28: Distrito Federal | D28: Centro-Oeste | E28: 2996899 | F28: =(E28 - MIN(E:E))/(MAX(E:E) - MIN(E:E)) -> 0.12298344 | G28: 0.814 | H28: =(G28 - MIN(G:G))/(MAX(G:G) - MIN(G:G)) -> 1 | I28: 13004.718 | J28: =(I28 - MIN(I:I))/(MAX(I:I) - MIN(I:I)) -> 0.77369913 | K28: 0.97222222 | L28: =(K28 - MIN(K:K))/(MAX(K:K) - MIN(K:K)) -> 0.35 | M28: 0.0019323307 | N28: =(M28 - MIN(M:M))/(MAX(M:M) - MIN(M:M)) -> 0.20837367 | O28: 0.23304445 | P28: =(O28 - MIN(O:O))/(MAX(O:O) - MIN(O:O)) -> 0.15859878 | Q28: 0.9375 | R28: =F28-H28-J28+L28+N28+P28+Q28 -> 0.0037567592 | S28: 27º

Sheet Outliers - pontos de corte
B1: População Estimada 2025 - IBGE | D1: IDHM | F1: Receita Correnta Bruta per capita | H1: Registros SIPIA
B2: Primeiro quartil | D2: Primeiro quartil | F2: Primeiro quartil | H2: Primeiro quartil
B3: =_xlfn.QUARTILE.INC('Dados Brutos'!E2:E28,1) -> 2960765 | D3: =_xlfn.QUARTILE.INC('Dados Brutos'!G2:G28,1) -> 0.6985 | F3: =_xlfn.QUARTILE.INC('Dados Brutos'!I2:I28,1) -> 6826.3026 | H3: =_xlfn.QUARTILE.INC('Dados Brutos'!M:M,1) -> 0.0017145029
B4: Terceiro quartil | D4: Terceiro quartil | F4: Terceiro quartil | H4: Terceiro quartil
B5: =_xlfn.QUARTILE.INC('Dados Brutos'!E2:E28,3) -> 9415421.5 | D5: =_xlfn.QUARTILE.INC('Dados Brutos'!G2:G28,3) -> 0.7655 | F5: =_xlfn.QUARTILE.INC('Dados Brutos'!I2:I28,3) -> 11963.732 | H5: =_xlfn.QUARTILE.INC('Dados Brutos'!M:M,3) -> 0.0044810345
B6: Intervalo interquartil | D6: Intervalo interquartil | F6: Intervalo interquartil | H6: Intervalo interquartil
B7: =B5-B3 -> 6454656.5 | D7: =D5-D3 -> 0.067 | F7: =F5-F3 -> 5137.4296 | H7: =H5-H3 -> 0.0027665316
B8: Outlier inferior | D8: Outlier inferior | F8: Outlier inferior | H8: Outlier inferior
B9: =B3-(1.5*B7) -> -6721219.8 | D9: =D3-(1.5*D7) -> 0.598 | F9: =F3-(1.5*F7) -> -879.84182 | H9: =H3-(1.5*H7) -> -0.0024352944
B10: Outlier superior | D10: Outlier superior | F10: Outlier superior | H10: Outlier superior
B11: =B5+(1.5*B7) -> 19097406 | D11: =D5+(1.5*D7) -> 0.866 | F11: =F5+(1.5*F7) -> 19669.877 | H11: =H5+(1.5*H7) -> 0.0086308319
B13: O critério de outlier superior foi arredondado para 19.100.000 para fins de simplicidade, sem alterações significativas. Apenas dois estados se enquaram nessa situação (MG e SP). | D13: Nenhum estado se encaixou como outlier (superior ou inferior) para esse critério. | F13: Nenhum estado se encaixou como outlier (superior ou inferior) para esse critério | H13: Outliers: valores maiores que 0,0086308

Sheet Notas
A1: Notas:
A2: População: estimativas de população realizadas pelo IBGE para o ano de 2025. Última atualização: 13/01/2026
A4: IDHM: foram utilizados os dados disponíveis do Atlas Brasil (PNUD). Data de extração: 05/03/2026
A6: Receita Correnta Bruta 2024: os dados foram extraídos do Siconfi do Tesouro Nacional no dia 05/03/2026.
A7: *O valor da Receita Corrente Bruta de Brasília/DF foi obtido a partir dos dados distritais, dada a sua natureza político-jurídica.
A9: Índice de Vulnerabilidade Institucional dos Conselhos: calculado a partir das informações da MUNIC/ESTADIC 2023, de acordo com a metodologia de cálculo estabelecida na Resolução nº 2 de 19 de junho de 2024.
A10: *Os estados que declararam não possuir conselho ou se recusaram a responder foram tratados como dados faltantes, não apresentando IVIC.
A11: *Após a padronização, os estados sem resposta para conselho ficaram com nota zero para esse quesito, evitando que fiquem sem valor para o ranking e também não os equiparando aos demais que responderam esse quesito.
A12: *Os valores do IVIC se encontram normalizados entre 0 e 1 (mínimo e máximo).
