BEGIN:VCALENDAR
PRODID:brasil.gov.agenda
VERSION:1.0
BEGIN:VEVENT
DTSTART:20200506T120000Z
DTEND:20200506T210000Z
DCREATED:20200529T175130Z
UID:Compromisso-1d8ee10c7f6e483394c190e9b83bb641
SEQUENCE:0
LAST-MODIFIED:20200529T175130Z
SUMMARY:Despachos com equipe SNPM
LOCATION:Videoconferência
PRIORITY:3
TRANSP:0
END:VEVENT
END:VCALENDAR
