BEGIN:VCALENDAR
PRODID:brasil.gov.agenda
VERSION:1.0
BEGIN:VEVENT
DTSTART:20210112T173000Z
DTEND:20210112T183000Z
DCREATED:20210219T201726Z
UID:Compromisso-191505978e934ab6be11b453c8a8f152
SEQUENCE:0
LAST-MODIFIED:20210219T201726Z
SUMMARY:Reunião Interna
DESCRIPTION:Gestão de Força de Trabalho
LOCATION:Secretaria Nacional de Politica para Mulheres/SNPM
PRIORITY:3
TRANSP:0
END:VEVENT
END:VCALENDAR
