BEGIN:VCALENDAR
PRODID:brasil.gov.agenda
VERSION:1.0
BEGIN:VEVENT
DTSTART:20191219T130000Z
DTEND:20191220T150000Z
DCREATED:20200102T162310Z
UID:Compromisso-02cca2eafcbe422992d12790e601aadf
SEQUENCE:0
LAST-MODIFIED:20200113T175148Z
SUMMARY:Despacho interno
LOCATION:SNPM - DPMRS - 8º andar
PRIORITY:3
TRANSP:0
END:VEVENT
END:VCALENDAR
