BEGIN:VCALENDAR
PRODID:brasil.gov.agenda
VERSION:1.0
BEGIN:VEVENT
DTSTART:20191218T170000Z
DTEND:20191218T200000Z
DCREATED:20200113T175744Z
UID:Compromisso-a6b13b2c7ec946389175b5c10988a151
SEQUENCE:0
LAST-MODIFIED:20200113T175744Z
SUMMARY:Despacho Interno - Salve uma Mulher
LOCATION:SNPM - DPMRS - 8º andar
PRIORITY:3
TRANSP:0
END:VEVENT
END:VCALENDAR
