BEGIN:VCALENDAR
PRODID:brasil.gov.agenda
VERSION:1.0
BEGIN:VEVENT
DTSTART:20191213T130000Z
DTEND:20191212T030000Z
DCREATED:20200102T183328Z
UID:Compromisso-89ec0514341f4da2acc8bd08b9ae4cbf
SEQUENCE:0
LAST-MODIFIED:20200102T183328Z
SUMMARY:Reunião com associação comercial do Estado do Rio de Janeiro/RJ
LOCATION:Rio de Janeiro  / RJ
PRIORITY:3
TRANSP:0
END:VEVENT
END:VCALENDAR
