BEGIN:VCALENDAR
PRODID:brasil.gov.agenda
VERSION:1.0
BEGIN:VEVENT
DTSTART:20191111T120000Z
DTEND:20191111T200000Z
DCREATED:20200110T220907Z
UID:Compromisso-d01126aa8af747248e7da2175019fa5c
SEQUENCE:0
LAST-MODIFIED:20200110T220907Z
SUMMARY:Despacho Interno
LOCATION:SNPM - DPMRS - 8º andar
PRIORITY:3
TRANSP:0
END:VEVENT
END:VCALENDAR
