BEGIN:VCALENDAR
PRODID:brasil.gov.agenda
VERSION:1.0
BEGIN:VEVENT
DTSTART:20220321T120000Z
DTEND:20220321T200000Z
DCREATED:20220321T215314Z
UID:Compromisso-7ec789f130384055882cf3000c8f3f1a
SEQUENCE:0
LAST-MODIFIED:20220321T215314Z
SUMMARY:Despacho Interno.
LOCATION:Ministério da Mulher\, da Família e dos Direitos Humanos
PRIORITY:3
TRANSP:0
END:VEVENT
END:VCALENDAR
