BEGIN:VCALENDAR
PRODID:brasil.gov.agenda
VERSION:1.0
BEGIN:VEVENT
DTSTART:20220211T213000Z
DTEND:20220211T230000Z
DCREATED:20220214T140053Z
UID:Compromisso-e4458e0fb2a24d85b469348a18507e9b
SEQUENCE:0
LAST-MODIFIED:20220214T140053Z
SUMMARY:Despacho Interno.
LOCATION:Ministério da Mulher\, da Família e dos Direitos Humanos
PRIORITY:3
TRANSP:0
END:VEVENT
END:VCALENDAR
