BEGIN:VCALENDAR
PRODID:brasil.gov.agenda
VERSION:1.0
BEGIN:VEVENT
DTSTART:20210810T200000Z
DTEND:20210810T223000Z
DCREATED:20210811T220744Z
UID:Compromisso-717a134493b444f191df886edc1acb18
SEQUENCE:0
LAST-MODIFIED:20210811T220744Z
SUMMARY:Despachos Internos.
LOCATION:Ministério da Mulher\, da Família e dos Direitos Humanos
PRIORITY:3
TRANSP:0
END:VEVENT
END:VCALENDAR
