BEGIN:VCALENDAR
PRODID:brasil.gov.agenda
VERSION:1.0
BEGIN:VEVENT
DTSTART:20200724T193000Z
DTEND:20200724T210000Z
DCREATED:20200724T131819Z
UID:Compromisso-d830390e1caf46f49f33b9f733908fe7
SEQUENCE:0
LAST-MODIFIED:20200724T230616Z
SUMMARY:Videoconferência: 14ª Reunião do Comitê MMFDH - COVID-19
LOCATION:Ministério da Mulher\, da Família e dos Direitos Humanos
PRIORITY:3
TRANSP:0
END:VEVENT
END:VCALENDAR
