BEGIN:VCALENDAR
PRODID:brasil.gov.agenda
VERSION:1.0
BEGIN:VEVENT
DTSTART:20200717T160000Z
DTEND:20200717T170000Z
DCREATED:20200721T155837Z
UID:Compromisso-8820ef2375974d2792ef8edb93ac74d7
SEQUENCE:0
LAST-MODIFIED:20200721T160937Z
SUMMARY:Almoço com os Conselhos Tutelares no Município de Imperatriz/MA.
LOCATION:Imperatriz – MA
PRIORITY:3
TRANSP:0
END:VEVENT
END:VCALENDAR
