BEGIN:VCALENDAR
PRODID:brasil.gov.agenda
VERSION:1.0
BEGIN:VEVENT
DTSTART:20190311T130000Z
DTEND:20190311T160000Z
DCREATED:20190313T131707Z
UID:Compromisso-6e9fd1de2722487eb1d97e7537cecf32
SEQUENCE:0
LAST-MODIFIED:20190313T131707Z
SUMMARY:Sessão de abertura da CSW63.
LOCATION:Nova York\, EUA.
PRIORITY:3
TRANSP:0
END:VEVENT
END:VCALENDAR
